Workbook

Sheet Vehicle Specification
A1: MCR Race Cars - S2 | H1: Technical Information
H5: Parameter | J5: Value | K5: Units
H7: Vehicle Mass | J7: 610 | K7: Kg
H8: Static Vertical Load | J8: =J7*J14 -> 5984.1 | K8: N
H9: Frontal Area | J9: 1.27 | K9: m^2
H10: Coefficient of Lift (Cl) | J10: -0.658 | K10: -
H11: Coefficient of Drag (Cd) | J11: 0.442 | K11: -
H12: Coefficient of Rolling Resistance (Crr) | J12: 0.02 | K12: -
H13: Air Density (Rho) | J13: 1.223 | K13: Kg/m^3
H14: Gravity | J14: 9.81 | K14: m/s/s

Sheet Formula Sheet
A1: Task | D1: Units | E1: Formula Required | H1: Notes
A2: Calculate force required to accelerate the vehicle | D2: N | E2: F = m * a | H2: Newton's 2nd Law. Force required to move an object will be equal to its mass multiplied by its acceleration
A4: Calculate the Aerodynamic Lift Force | D4: N | E4: Lift Force = 0.5*Frontal Area*Air Density*Coefficient of Lift*Velocity^2 | H4: Lift force (negative values mean downforce) is found by multiplying the vehicle frontal area, air desnity, coefficient of lift and 0.5 by the velocity squared. Since the all values apart from velocity are constants, it may be easier to caculate the first part in a seperate cell, then multiply that value by Velocity^2. Downforce increases the vertical load on tyres.
A6: Calculate the Aerdynamic Drag Force | D6: N | E6: Drag Force = 0.5*Frontal Area*Air Density*Coefficient of Drag*Velocity^2 | H6: Same principles as the lift force equation, except that drag force acts to slow the vehicle down, it is a resistive force.
A8: Calcualte the total vertical load | D8: N | E8: Vertical Load = Static Vertical Load - Lift Force | H8: This is the load pushing the tyres down onto the road surface. Much of this comes from the vehicles own mass, which is the static vertical load. If the vehicle generates LIFT, this reduces the tyres loads, if it generates DOWNFORCE, this increases the vertical loads.
A10: Calculate the rolling resistance | D10: N | E10: Rolling Resistance = Vertical Load * Coefficient of Rolling Resistance | H10: This is the resistive force generated by the tyres in contact with the road surface. It is a function of the vertical load on the tyres and the coefficient of rolling resistance of those tyres.
A12: Calculate the total force required to overcome resistances and accelerate the vehicle | D12: N | E12: Tractive Force = Acceleration Force + Drag Force + Rolling Resistance | H12: For the vehicle to achieve the speeds shown in the data, it must overcome the resistive forces and also accelerate, therefore the total tractive force required to move the vehicle is the sum of these forces.
A14: Calculate the power required for vehicle motion Conditionally format these cells so that POITIVE values are GREEN, NEGATIVE values are RED | D14: Watts W | E14: Power = Tractive Force * Velocity | H14: Power can be expressed as force times velocity, therrefore the power required to move the vehicle at any given stage will be the force required at that point multiplied by the velocity at that point.

Sheet Circuit Information
A1: Brands Hatch GP Circuit Information
A3: Time Seconds | B3: Distance Meters | C3: Elevation Meters | E3: Plot a graph of circuit elevation against distance. Use a suitable graph type. Ensure that the distance values form your X-axis values and the elevation values form you Y-axis values. Ensure the graph has a title and the axis are labelled. Place the graph in the space below. | P3: Using a Statement, determine the lap distance of this circuit is (max distance) (m)
A6: 0 | B6: 0 | C6: 131
A7: 0.02 | B7: 1 | C7: 131
A8: 0.039 | B8: 2 | C8: 130.99998 | P8: =MAX(B6:B4723) -> 3887
A9: 0.059 | B9: 3 | C9: 130.99996
A10: 0.078 | B10: 4 | C10: 130.99992
A11: 0.098 | B11: 5 | C11: 130.99987
A12: 0.117 | B12: 6 | C12: 130.99982
A13: 0.137 | B13: 8 | C13: 130.99975
A14: 0.156 | B14: 9 | C14: 130.99967
A15: 0.176 | B15: 10 | C15: 130.99958
A16: 0.195 | B16: 11 | C16: 130.99948
A17: 0.215 | B17: 12 | C17: 130.99937
A18: 0.234 | B18: 13 | C18: 130.99924
A19: 0.254 | B19: 14 | C19: 130.9991
A20: 0.273 | B20: 15 | C20: 130.99896
... A4723: 92.129 | B4723: 3887 | C4723: 131

Sheet Forces Acting on Vehicle
A1: Information From Data Logger | E1: Calculate force required to accelerate the vehicle | F1: Calculate the Aerodynamic Lift Force | G1: Calculate the Aerdynamic Drag Force | H1: Calcualte the total vertical load | I1: Calculate the rolling resistance | J1: Calculate the total force required to overcome resistances and accelerate the vehicle | K1: Calculate the power required for vehicle motion Conditionally format these cells so that POITIVE values are GREEN, NEGATIVE values are RED | L1: Using an IF Statement, change all negative Power values to 0 The resulting values in this column should only be positive values | M1: Using an IF Statement, change all poitive Power values to 0 The resulting values in this column should be only negative values | N1: Using a Statement, find the maximum power required during the lap | Q1: Using a Statement, calculate the average power required during a lap | T1: Using a Statement, calculate the average power required during a lap, when the negative power values are excluded
A3: Time Seconds | B3: Distance Meters | C3: Velocity Meters/Second | D3: Longitudinal Accel m/s/s | E3: Accelleration Force Newtons | F3: Lift Force Newtons | G3: Drag Force Newtons | H3: Total Vertical Load Newtons | I3: Rolling Resistance Newtons | J3: Tractive Force Newtons | K3: Power Required Watts | L3: Power Required Watts | M3: Power Required Watts | N3: =MAX(K6:K4723) -> 123435.03 | Q3: =AVERAGE(K6:K4723) -> 41462.554 | T3: =AVERAGE(L6:L4723) -> 80013.269
A6: 0 | B6: 0 | C6: 55.1 | D6: 0.92145729 | E6: ='Vehicle Specification'!$J$7*'Forces Acting on Vehicle'!D6 -> 562.08895 | F6: =0.5*'Vehicle Specification'!$J$9*'Vehicle Specification'!$J$13*'Vehicle Specification'!$J$10*('Forces Acting on Vehicle'!C6*'Forces Acting on Vehicle'!C6) -> -1551.4196 | G6: =0.5*'Vehicle Specification'!$J$9*'Vehicle Specification'!$J$13*'Vehicle Specification'!$J$11*('Forces Acting on Vehicle'!C6*'Forces Acting on Vehicle'!C6) -> 1042.139 | H6: ='Vehicle Specification'!$J$8-'Forces Acting on Vehicle'!F6 -> 7535.5196 | I6: =H6*'Vehicle Specification'!$J$12 -> 150.71039 | J6: =E6+'Forces Acting on Vehicle'!G6+'Forces Acting on Vehicle'!I6 -> 1754.9383 | K6: =J6*C6 -> 96697.103 | L6: =IF(K6<0,"0",K6) -> 96697.103 | M6: =IF(K6>0, "0",K6) -> 0
A7: 0.02 | B7: 1 | C7: 55.2 | D7: 0.79337499 | E7: ='Vehicle Specification'!$J$7*'Forces Acting on Vehicle'!D7 -> 483.95874 | F7: =0.5*'Vehicle Specification'!$J$9*'Vehicle Specification'!$J$13*'Vehicle Specification'!$J$10*('Forces Acting on Vehicle'!C7*'Forces Acting on Vehicle'!C7) -> -1557.056 | G7: =0.5*'Vehicle Specification'!$J$9*'Vehicle Specification'!$J$13*'Vehicle Specification'!$J$11*('Forces Acting on Vehicle'!C7*'Forces Acting on Vehicle'!C7) -> 1045.9252 | H7: ='Vehicle Specification'!$J$8-'Forces Acting on Vehicle'!F7 -> 7541.156 | I7: =H7*'Vehicle Specification'!$J$12 -> 150.82312 | J7: =E7+'Forces Acting on Vehicle'!G7+'Forces Acting on Vehicle'!I7 -> 1680.707 | K7: =J7*C7 -> 92775.027 | L7: =IF(K7<0,"0",K7) -> 92775.027 | M7: =IF(K7>0, "0",K7) -> 0
A8: 0.039 | B8: 2 | C8: 55.2 | D8: 0.6668416 | E8: ='Vehicle Specification'!$J$7*'Forces Acting on Vehicle'!D8 -> 406.77338 | F8: =0.5*'Vehicle Specification'!$J$9*'Vehicle Specification'!$J$13*'Vehicle Specification'!$J$10*('Forces Acting on Vehicle'!C8*'Forces Acting on Vehicle'!C8) -> -1557.056 | G8: =0.5*'Vehicle Specification'!$J$9*'Vehicle Specification'!$J$13*'Vehicle Specification'!$J$11*('Forces Acting on Vehicle'!C8*'Forces Acting on Vehicle'!C8) -> 1045.9252 | H8: ='Vehicle Specification'!$J$8-'Forces Acting on Vehicle'!F8 -> 7541.156 | I8: =H8*'Vehicle Specification'!$J$12 -> 150.82312 | J8: =E8+'Forces Acting on Vehicle'!G8+'Forces Acting on Vehicle'!I8 -> 1603.5217 | K8: =J8*C8 -> 88514.395 | L8: =IF(K8<0,"0",K8) -> 88514.395 | M8: =IF(K8>0, "0",K8) -> 0
A9: 0.059 | B9: 3 | C9: 55.2 | D9: 0.57507277 | E9: ='Vehicle Specification'!$J$7*'Forces Acting on Vehicle'!D9 -> 350.79439 | F9: =0.5*'Vehicle Specification'!$J$9*'Vehicle Specification'!$J$13*'Vehicle Specification'!$J$10*('Forces Acting on Vehicle'!C9*'Forces Acting on Vehicle'!C9) -> -1557.056 | G9: =0.5*'Vehicle Specification'!$J$9*'Vehicle Specification'!$J$13*'Vehicle Specification'!$J$11*('Forces Acting on Vehicle'!C9*'Forces Acting on Vehicle'!C9) -> 1045.9252 | H9: ='Vehicle Specification'!$J$8-'Forces Acting on Vehicle'!F9 -> 7541.156 | I9: =H9*'Vehicle Specification'!$J$12 -> 150.82312 | J9: =E9+'Forces Acting on Vehicle'!G9+'Forces Acting on Vehicle'!I9 -> 1547.5427 | K9: =J9*C9 -> 85424.355 | L9: =IF(K9<0,"0",K9) -> 85424.355 | M9: =IF(K9>0, "0",K9) -> 0
A10: 0.078 | B10: 4 | C10: 55.2 | D10: 0.53590974 | E10: ='Vehicle Specification'!$J$7*'Forces Acting on Vehicle'!D10 -> 326.90494 | F10: =0.5*'Vehicle Specification'!$J$9*'Vehicle Specification'!$J$13*'Vehicle Specification'!$J$10*('Forces Acting on Vehicle'!C10*'Forces Acting on Vehicle'!C10) -> -1557.056 | G10: =0.5*'Vehicle Specification'!$J$9*'Vehicle Specification'!$J$13*'Vehicle Specification'!$J$11*('Forces Acting on Vehicle'!C10*'Forces Acting on Vehicle'!C10) -> 1045.9252 | H10: ='Vehicle Specification'!$J$8-'Forces Acting on Vehicle'!F10 -> 7541.156 | I10: =H10*'Vehicle Specification'!$J$12 -> 150.82312 | J10: =E10+'Forces Acting on Vehicle'!G10+'Forces Acting on Vehicle'!I10 -> 1523.6532 | K10: =J10*C10 -> 84105.658 | L10: =IF(K10<0,"0",K10) -> 84105.658 | M10: =IF(K10>0, "0",K10) -> 0
A11: 0.098 | B11: 5 | C11: 55.2 | D11: 0.52946529 | E11: ='Vehicle Specification'!$J$7*'Forces Acting on Vehicle'!D11 -> 322.97383 | F11: =0.5*'Vehicle Specification'!$J$9*'Vehicle Specification'!$J$13*'Vehicle Specification'!$J$10*('Forces Acting on Vehicle'!C11*'Forces Acting on Vehicle'!C11) -> -1557.056 | G11: =0.5*'Vehicle Specification'!$J$9*'Vehicle Specification'!$J$13*'Vehicle Specification'!$J$11*('Forces Acting on Vehicle'!C11*'Forces Acting on Vehicle'!C11) -> 1045.9252 | H11: ='Vehicle Specification'!$J$8-'Forces Acting on Vehicle'!F11 -> 7541.156 | I11: =H11*'Vehicle Specification'!$J$12 -> 150.82312 | J11: =E11+'Forces Acting on Vehicle'!G11+'Forces Acting on Vehicle'!I11 -> 1519.7221 | K11: =J11*C11 -> 83888.66 | L11: =IF(K11<0,"0",K11) -> 83888.66 | M11: =IF(K11>0, "0",K11) -> 0
A12: 0.117 | B12: 6 | C12: 55.2 | D12: 0.5054679 | E12: ='Vehicle Specification'!$J$7*'Forces Acting on Vehicle'!D12 -> 308.33542 | F12: =0.5*'Vehicle Specification'!$J$9*'Vehicle Specification'!$J$13*'Vehicle Specification'!$J$10*('Forces Acting on Vehicle'!C12*'Forces Acting on Vehicle'!C12) -> -1557.056 | G12: =0.5*'Vehicle Specification'!$J$9*'Vehicle Specification'!$J$13*'Vehicle Specification'!$J$11*('Forces Acting on Vehicle'!C12*'Forces Acting on Vehicle'!C12) -> 1045.9252 | H12: ='Vehicle Specification'!$J$8-'Forces Acting on Vehicle'!F12 -> 7541.156 | I12: =H12*'Vehicle Specification'!$J$12 -> 150.82312 | J12: =E12+'Forces Acting on Vehicle'!G12+'Forces Acting on Vehicle'!I12 -> 1505.0837 | K12: =J12*C12 -> 83080.62 | L12: =IF(K12<0,"0",K12) -> 83080.62 | M12: =IF(K12>0, "0",K12) -> 0
A13: 0.137 | B13: 8 | C13: 55.2 | D13: 0.56954303 | E13: ='Vehicle Specification'!$J$7*'Forces Acting on Vehicle'!D13 -> 347.42125 | F13: =0.5*'Vehicle Specification'!$J$9*'Vehicle Specification'!$J$13*'Vehicle Specification'!$J$10*('Forces Acting on Vehicle'!C13*'Forces Acting on Vehicle'!C13) -> -1557.056 | G13: =0.5*'Vehicle Specification'!$J$9*'Vehicle Specification'!$J$13*'Vehicle Specification'!$J$11*('Forces Acting on Vehicle'!C13*'Forces Acting on Vehicle'!C13) -> 1045.9252 | H13: ='Vehicle Specification'!$J$8-'Forces Acting on Vehicle'!F13 -> 7541.156 | I13: =H13*'Vehicle Specification'!$J$12 -> 150.82312 | J13: =E13+'Forces Acting on Vehicle'!G13+'Forces Acting on Vehicle'!I13 -> 1544.1695 | K13: =J13*C13 -> 85238.158 | L13: =IF(K13<0,"0",K13) -> 85238.158 | M13: =IF(K13>0, "0",K13) -> 0
A14: 0.156 | B14: 9 | C14: 55.3 | D14: 0.70119088 | E14: ='Vehicle Specification'!$J$7*'Forces Acting on Vehicle'!D14 -> 427.72644 | F14: =0.5*'Vehicle Specification'!$J$9*'Vehicle Specification'!$J$13*'Vehicle Specification'!$J$10*('Forces Acting on Vehicle'!C14*'Forces Acting on Vehicle'!C14) -> -1562.7026 | G14: =0.5*'Vehicle Specification'!$J$9*'Vehicle Specification'!$J$13*'Vehicle Specification'!$J$11*('Forces Acting on Vehicle'!C14*'Forces Acting on Vehicle'!C14) -> 1049.7182 | H14: ='Vehicle Specification'!$J$8-'Forces Acting on Vehicle'!F14 -> 7546.8026 | I14: =H14*'Vehicle Specification'!$J$12 -> 150.93605 | J14: =E14+'Forces Acting on Vehicle'!G14+'Forces Acting on Vehicle'!I14 -> 1628.3807 | K14: =J14*C14 -> 90049.45 | L14: =IF(K14<0,"0",K14) -> 90049.45 | M14: =IF(K14>0, "0",K14) -> 0
A15: 0.176 | B15: 10 | C15: 55.3 | D15: 0.77364441 | E15: ='Vehicle Specification'!$J$7*'Forces Acting on Vehicle'!D15 -> 471.92309 | F15: =0.5*'Vehicle Specification'!$J$9*'Vehicle Specification'!$J$13*'Vehicle Specification'!$J$10*('Forces Acting on Vehicle'!C15*'Forces Acting on Vehicle'!C15) -> -1562.7026 | G15: =0.5*'Vehicle Specification'!$J$9*'Vehicle Specification'!$J$13*'Vehicle Specification'!$J$11*('Forces Acting on Vehicle'!C15*'Forces Acting on Vehicle'!C15) -> 1049.7182 | H15: ='Vehicle Specification'!$J$8-'Forces Acting on Vehicle'!F15 -> 7546.8026 | I15: =H15*'Vehicle Specification'!$J$12 -> 150.93605 | J15: =E15+'Forces Acting on Vehicle'!G15+'Forces Acting on Vehicle'!I15 -> 1672.5773 | K15: =J15*C15 -> 92493.525 | L15: =IF(K15<0,"0",K15) -> 92493.525 | M15: =IF(K15>0, "0",K15) -> 0
A16: 0.195 | B16: 11 | C16: 55.3 | D16: 0.74738254 | E16: ='Vehicle Specification'!$J$7*'Forces Acting on Vehicle'!D16 -> 455.90335 | F16: =0.5*'Vehicle Specification'!$J$9*'Vehicle Specification'!$J$13*'Vehicle Specification'!$J$10*('Forces Acting on Vehicle'!C16*'Forces Acting on Vehicle'!C16) -> -1562.7026 | G16: =0.5*'Vehicle Specification'!$J$9*'Vehicle Specification'!$J$13*'Vehicle Specification'!$J$11*('Forces Acting on Vehicle'!C16*'Forces Acting on Vehicle'!C16) -> 1049.7182 | H16: ='Vehicle Specification'!$J$8-'Forces Acting on Vehicle'!F16 -> 7546.8026 | I16: =H16*'Vehicle Specification'!$J$12 -> 150.93605 | J16: =E16+'Forces Acting on Vehicle'!G16+'Forces Acting on Vehicle'!I16 -> 1656.5576 | K16: =J16*C16 -> 91607.634 | L16: =IF(K16<0,"0",K16) -> 91607.634 | M16: =IF(K16>0, "0",K16) -> 0
A17: 0.215 | B17: 12 | C17: 55.3 | D17: 0.66121646 | E17: ='Vehicle Specification'!$J$7*'Forces Acting on Vehicle'!D17 -> 403.34204 | F17: =0.5*'Vehicle Specification'!$J$9*'Vehicle Specification'!$J$13*'Vehicle Specification'!$J$10*('Forces Acting on Vehicle'!C17*'Forces Acting on Vehicle'!C17) -> -1562.7026 | G17: =0.5*'Vehicle Specification'!$J$9*'Vehicle Specification'!$J$13*'Vehicle Specification'!$J$11*('Forces Acting on Vehicle'!C17*'Forces Acting on Vehicle'!C17) -> 1049.7182 | H17: ='Vehicle Specification'!$J$8-'Forces Acting on Vehicle'!F17 -> 7546.8026 | I17: =H17*'Vehicle Specification'!$J$12 -> 150.93605 | J17: =E17+'Forces Acting on Vehicle'!G17+'Forces Acting on Vehicle'!I17 -> 1603.9963 | K17: =J17*C17 -> 88700.993 | L17: =IF(K17<0,"0",K17) -> 88700.993 | M17: =IF(K17>0, "0",K17) -> 0
... A4723: 92.129 | B4723: 3887 | C4723: 55.4 | D4723: 0.96152955 | E4723: ='Vehicle Specification'!$J$7*'Forces Acting on Vehicle'!D4723 -> 586.53303 | F4723: =0.5*'Vehicle Specification'!$J$9*'Vehicle Specification'!$J$13*'Vehicle Specification'!$J$10*('Forces Acting on Vehicle'!C4723*'Forces Acting on Vehicle'!C4723) -> -1568.3595 | G4723: =0.5*'Vehicle Specification'!$J$9*'Vehicle Specification'!$J$13*'Vehicle Specification'!$J$11*('Forces Acting on Vehicle'!C4723*'Forces Acting on Vehicle'!C4723) -> 1053.5181 | H4723: ='Vehicle Specification'!$J$8-'Forces Acting on Vehicle'!F4723 -> 7552.4595 | I4723: =H4723*'Vehicle Specification'!$J$12 -> 151.04919 | J4723: =E4723+'Forces Acting on Vehicle'!G4723+'Forces Acting on Vehicle'!I4723 -> 1791.1003 | K4723: =J4723*C4723 -> 99226.955 | L4723: =IF(K4723<0,"0",K4723) -> 99226.955 | M4723: =IF(K4723>0, "0",K4723) -> 0

Sheet Graphs
A1: Plot a graph showing the velocity of the vehicle against distance. Select a suitable graph type and ensure it has a suitable title and axes labels. Place the graph in the space below. | L1: Plot a graph of the aerodynamic forces against distance (lift & drag). Select a suitable graph type, ensuring that it has a title, axis labels and legend. Place the graph in the space below. | W1: Plot a graph showing the power required against distance for a lap. You should also add 2 horizontal lines to the graph, one that shows the Maximum Power and one that shows the Average Power. Place the graph in the space below.
A26: Plot a graph that shows both the velocity and acceleration force against distance. You will need to use a secondary Y-axis for the acceleration force. Select a suitable graph type and ensure it has a suitable title and axes labels and legend. Place the graph in the space below. | L26: Plot a graph of the aerodynamic forces against distance (lift & drag) and total resistive forces. Select a suitable graph type, ensuring that it has a title, axis labels and legend. Place the graph in the space below.
