Workbook

Sheet Load Distribution  A
D1: Load Splits
D3: Case A | E3: Symmetrical Load (50% Wedge)
E5: Corner Loads
E6: H9 | F6: L9 | H6: Front WT | I6: 300 | J6: Wheelbase | K6: 2000
E7: H13 | F7: L13 | H7: Rear WT | I7: 500 | J7: Track | K7: 1500
E9: Static | J9: =J11/J15 -> 0.48318772 | P9: Effect on balance
J10: LF+RF | P10: Left turn
J11: =H13+L13 -> 3650 | P11: Less Wedge | Q11: Less U/S
H12: =H13/J15 -> 0.24159386 | I12: LF | K12: RF | L12: =L13/J15 -> 0.24159386 | P12: More Wedge | Q12: More U/S
E13: Front Split | F13: LF-RF | G13: =ABS(H13-L13) -> 0 | H13: 1825 | L13: 1825
F15: LF+LR | G15: =H15/J15 -> 0.5 | H15: =H13+H17 -> 3777 | J15: =J11+J18 -> 7554 | L15: =L13+L17 -> 3777 | M15: =L15/J15 -> 0.5 | N15: RF+RR | P15: Right Turn
E16: (LR-RR) - | F16: (LF-RF) | G16: =G17-G13 -> 0 | H16: =H17/J15 -> 0.25840614 | L16: =L17/J15 -> 0.25840614 | P16: Less Wedge | Q16: More U/S
E17: Rear Split | F17: LR-RR | G17: =ABS(H17-L17) -> 0 | H17: 1952 | I17: LR | K17: RR | L17: 1952 | P17: More Wedge | Q17: Less U/S
G18: LR-LF Split | H18: =H17-H13 -> 127 | J18: =H17+L17 -> 3904 | L18: =L17-L13 -> 127 | M18: RR-RF Split
G19: Wedge | H19: =(H17+L13)/J15 -> 0.5 | J19: LR+RR
G20: LR-RF Split | H20: =H17-L13 -> 127 | J20: =J18/J15 -> 0.51681228
P21: CG Position mm
E22: Left Turn | J22: =J24/J28 -> 0.48318772 | P22: Lateral
J23: LF+RF | P23: =0.5*K7*(L15-H15)/J15 -> 0
J24: =H26+L26 -> 3650
H25: =H26/J28 -> 0.2018798 | I25: LF | K25: RF | L25: =L26/J28 -> 0.28130792 | P25: Longitudinal
E26: Front Split | F26: LF-RF | G26: =ABS(H26-L26) -> 600 | H26: =H13-I6 -> 1525 | L26: =L13+I6 -> 2125 | P26: =0.5*K6*(J11-J18)/J15 -> -33.62457
F28: LF+LR | G28: =H28/J28 -> 0.39409584 | H28: =H26+H30 -> 2977 | J28: =J24+J31 -> 7554 | L28: =L26+L30 -> 4577 | M28: =L28/J28 -> 0.60590416 | N28: RF+RR
E29: (LR-RR) - | F29: (LF-RF) | G29: =G30-G26 -> 400 | H29: =H30/J28 -> 0.19221604 | L29: =L30/J28 -> 0.32459624 | P29: Car Centre = 0,0
E30: Rear Split | F30: LR-RR | G30: =ABS(H30-L30) -> 1000 | H30: =H17-I7 -> 1452 | I30: LR | K30: RR | L30: =L17+I7 -> 2452 | P30: Rear -ve | Q30: Left -ve
G31: LR-LF Split | H31: =H30-H26 -> -73 | J31: =H30+L30 -> 3904 | L31: =L30-L26 -> 327 | M31: RR-RF Split | P31: Front +ve | Q31: Right +ve
G32: Wedge | H32: =(H30+L26)/J28 -> 0.47352396 | J32: LR+RR
G33: LR-RF Split | H33: =H30-L26 -> -673 | J33: =J31/J28 -> 0.51681228
E35: Right Turn | J35: =J37/J41 -> 0.48318772
J36: LF+RF
J37: =H39+L39 -> 3650
H38: =H39/J41 -> 0.28130792 | I38: LF | K38: RF | L38: =L39/J41 -> 0.2018798
E39: Front Split | F39: LF-RF | G39: =ABS(H39-L39) -> 600 | H39: =H13+I6 -> 2125 | L39: =L13-I6 -> 1525
F41: LF+LR | G41: =H41/J41 -> 0.60590416 | H41: =H39+H43 -> 4577 | J41: =J37+J44 -> 7554 | L41: =L39+L43 -> 2977 | M41: =L41/J41 -> 0.39409584 | N41: RF+RR
E42: (LR-RR) - | F42: (LF-RF) | G42: =G43-G39 -> 400 | H42: =H43/J41 -> 0.32459624 | L42: =L43/J41 -> 0.19221604
E43: Rear Split | F43: LR-RR | G43: =ABS(H43-L43) -> 1000 | H43: =H17+I7 -> 2452 | I43: LR | K43: RR | L43: =L17-I7 -> 1452
G44: LR-LF Split | H44: =H43-H39 -> 327 | J44: =H43+L43 -> 3904 | L44: =L43-L39 -> -73 | M44: RR-RF Split
G45: Wedge | H45: =(H43+L39)/J41 -> 0.52647604 | J45: LR+RR
G46: LR-RF Split | H46: =H43-L39 -> 927 | J46: =J44/J41 -> 0.51681228

Sheet Load Distribution  B
D1: Load Splits
D3: Case B | E3: Assymetric Load (50% Wedge)
E5: Corner Loads
E6: H9-100 | F6: L9+100 | H6: Front WT | I6: 300 | J6: Wheelbase | K6: 2000
E7: H13-100 | F7: L13+100 | H7: Rear WT | I7: 500 | J7: Track | K7: 1500
E9: Static | J9: =J11/J15 -> 0.48318772 | P9: Effect on balance
J10: LF+RF | P10: Left turn
J11: =H13+L13 -> 3650 | P11: Less Wedge | Q11: Less U/S
H12: =H13/J15 -> 0.22835584 | I12: LF | K12: RF | L12: =L13/J15 -> 0.25483188 | P12: More Wedge | Q12: More U/S
E13: Front Split | F13: LF-RF | G13: =ABS(H13-L13) -> 200 | H13: ='Load Distribution A'!H13-100 -> 1725 | L13: ='Load Distribution A'!L13+100 -> 1925
F15: LF+LR | G15: =H15/J15 -> 0.47352396 | H15: =H13+H17 -> 3577 | J15: =J11+J18 -> 7554 | L15: =L13+L17 -> 3977 | M15: =L15/J15 -> 0.52647604 | N15: RF+RR | P15: Right Turn
E16: (LR-RR) - | F16: (LF-RF) | G16: =G17-G13 -> 0 | H16: =H17/J15 -> 0.24516812 | L16: =L17/J15 -> 0.27164416 | P16: Less Wedge | Q16: More U/S
E17: Rear Split | F17: LR-RR | G17: =ABS(H17-L17) -> 200 | H17: ='Load Distribution A'!H17-100 -> 1852 | I17: LR | K17: RR | L17: ='Load Distribution A'!L17+100 -> 2052 | P17: More Wedge | Q17: Less U/S
G18: LR-LF Split | H18: =H17-H13 -> 127 | J18: =H17+L17 -> 3904 | L18: =L17-L13 -> 127 | M18: RR-RF Split
G19: Wedge | H19: =(H17+L13)/J15 -> 0.5 | J19: LR+RR
G20: LR-RF Split | H20: =H17-L13 -> -73 | J20: =J18/J15 -> 0.51681228
P21: CG Position mm
E22: Left Turn | J22: =J24/J28 -> 0.48318772 | P22: Lateral
J23: LF+RF | P23: =0.5*K7*(L15-H15)/J15 -> 39.714059
J24: =H26+L26 -> 3650
H25: =H26/J28 -> 0.18864178 | I25: LF | K25: RF | L25: =L26/J28 -> 0.29454594 | P25: Longitudinal
E26: Front Split | F26: LF-RF | G26: =ABS(H26-L26) -> 800 | H26: =H13-I6 -> 1425 | L26: =L13+I6 -> 2225 | P26: =0.5*K6*(J11-J18)/J15 -> -33.62457
F28: LF+LR | G28: =H28/J28 -> 0.3676198 | H28: =H26+H30 -> 2777 | J28: =J24+J31 -> 7554 | L28: =L26+L30 -> 4777 | M28: =L28/J28 -> 0.6323802 | N28: RF+RR
E29: (LR-RR) - | F29: (LF-RF) | G29: =(G30-G26) -> 400 | H29: =H30/J28 -> 0.17897802 | L29: =L30/J28 -> 0.33783426 | P29: Car Centre = 0,0
E30: Rear Split | F30: LR-RR | G30: =ABS(H30-L30) -> 1200 | H30: =H17-I7 -> 1352 | I30: LR | K30: RR | L30: =L17+I7 -> 2552 | P30: Rear -ve | Q30: Left -ve
G31: LR-LF Split | H31: =H30-H26 -> -73 | J31: =H30+L30 -> 3904 | L31: =L30-L26 -> 327 | M31: RR-RF Split | P31: Front +ve | Q31: Right +ve
G32: Wedge | H32: =(H30+L26)/J28 -> 0.47352396 | J32: LR+RR
G33: LR-RF Split | H33: =H30-L26 -> -873 | J33: =J31/J28 -> 0.51681228
E35: Right Turn | J35: =J37/J41 -> 0.48318772
J36: LF+RF
J37: =H39+L39 -> 3650
H38: =H39/J41 -> 0.2680699 | I38: LF | K38: RF | L38: =L39/J41 -> 0.21511782
E39: Front Split | F39: LF-RF | G39: =ABS(H39-L39) -> 400 | H39: =H13+I6 -> 2025 | L39: =L13-I6 -> 1625
F41: LF+LR | G41: =H41/J41 -> 0.57942812 | H41: =H39+H43 -> 4377 | J41: =J37+J44 -> 7554 | L41: =L39+L43 -> 3177 | M41: =L41/J41 -> 0.42057188 | N41: RF+RR
E42: (LR-RR) - | F42: (LF-RF) | G42: =G43-G39 -> 400 | H42: =H43/J41 -> 0.31135822 | L42: =L43/J41 -> 0.20545406
E43: Rear Split | F43: LR-RR | G43: =ABS(H43-L43) -> 800 | H43: =H17+I7 -> 2352 | I43: LR | K43: RR | L43: =L17-I7 -> 1552
G44: LR-LF Split | H44: =H43-H39 -> 327 | J44: =H43+L43 -> 3904 | L44: =L43-L39 -> -73 | M44: RR-RF Split
G45: Wedge | H45: =(H43+L39)/J41 -> 0.52647604 | J45: LR+RR
G46: LR-RF Split | H46: =H43-L39 -> 727 | J46: =J44/J41 -> 0.51681228

Sheet Load Distribution  C
C1: Load Splits
C3: Case C | D3: Assymetric Load (48.7% Wedge)
D5: Corner Loads
D6: H9-175 | E6: L9-25 | G6: Front WT | H6: 300 | I6: Wheelbase | J6: 2000
D7: H13-75 | E7: L13+275 | G7: Rear WT | H7: 500 | I7: Track | J7: 1500
D9: Static | I9: =I11/I15 -> 0.45671168 | O9: Effect on balance
I10: LF+RF | O10: Left turn
I11: =G13+K13 -> 3450 | O11: Less Wedge | P11: Less U/S
G12: =G13/I15 -> 0.21842732 | H12: LF | J12: RF | K12: =K13/I15 -> 0.23828435 | O12: More Wedge | P12: More U/S
D13: Front Split | E13: LF-RF | F13: =ABS(G13-K13) -> 150 | G13: ='Load Distribution A'!H13-175 -> 1650 | K13: ='Load Distribution A'!L13-25 -> 1800
E15: LF+LR | F15: =G15/I15 -> 0.46690495 | G15: =G13+G17 -> 3527 | I15: =I11+I18 -> 7554 | K15: =K13+K17 -> 4027 | L15: =K15/I15 -> 0.53309505 | M15: RF+RR | O15: Right Turn
D16: (LR-RR) - | E16: (LF-RF) | F16: =F17-F13 -> 200 | G16: =G17/I15 -> 0.24847763 | K16: =K17/I15 -> 0.2948107 | O16: Less Wedge | P16: More U/S
D17: Rear Split | E17: LR-RR | F17: =ABS(G17-K17) -> 350 | G17: ='Load Distribution A'!H17-75 -> 1877 | H17: LR | J17: RR | K17: ='Load Distribution A'!L17+275 -> 2227 | O17: More Wedge | P17: Less U/S
F18: LR-LF Split | G18: =G17-G13 -> 227 | I18: =G17+K17 -> 4104 | K18: =K17-K13 -> 427 | L18: RR-RF Split
F19: Wedge | G19: =(G17+K13)/I15 -> 0.48676198 | I19: LR+RR
F20: LR-RF Split | G20: =G17-K13 -> 77 | I20: =I18/I15 -> 0.54328832
O21: CG Position mm
D22: Left Turn | I22: =I24/I28 -> 0.45671168 | O22: Lateral
I23: LF+RF | O23: =0.5*J7*(K15-G15)/I15 -> 49.642573
I24: =G26+K26 -> 3450
G25: =G26/I28 -> 0.17871326 | H25: LF | J25: RF | K25: =K26/I28 -> 0.27799841 | O25: Longitudinal
D26: Front Split | E26: LF-RF | F26: =ABS(G26-K26) -> 750 | G26: =G13-H6 -> 1350 | K26: =K13+H6 -> 2100 | O26: =0.5*J6*(I11-I18)/I15 -> -86.576648
E28: LF+LR | F28: =G28/I28 -> 0.36100079 | G28: =G26+G30 -> 2727 | I28: =I24+I31 -> 7554 | K28: =K26+K30 -> 4827 | L28: =K28/I28 -> 0.63899921 | M28: RF+RR
D29: (LR-RR) - | E29: (LF-RF) | F29: =F30-F26 -> 600 | G29: =G30/I28 -> 0.18228753 | K29: =K30/I28 -> 0.36100079 | O29: Car Centre = 0,0
D30: Rear Split | E30: LR-RR | F30: =ABS(G30-K30) -> 1350 | G30: =G17-H7 -> 1377 | H30: LR | J30: RR | K30: =K17+H7 -> 2727 | O30: Rear -ve | P30: Left -ve
F31: LR-LF Split | G31: =G30-G26 -> 27 | I31: =G30+K30 -> 4104 | K31: =K30-K26 -> 627 | L31: RR-RF Split | O31: Front +ve | P31: Right +ve
F32: Wedge | G32: =(G30+K26)/I28 -> 0.46028594 | I32: LR+RR
F33: LR-RF Split | G33: =G30-K26 -> -723 | I33: =I31/I28 -> 0.54328832
D35: Right Turn | I35: =I37/I41 -> 0.45671168
I36: LF+RF
I37: =G39+K39 -> 3450
G38: =G39/I41 -> 0.25814138 | H38: LF | J38: RF | K38: =K39/I41 -> 0.19857029
D39: Front Split | E39: LF-RF | F39: =ABS(G39-K39) -> 450 | G39: =G13+H6 -> 1950 | K39: =K13-H6 -> 1500
E41: LF+LR | F41: =G41/I41 -> 0.57280911 | G41: =G39+G43 -> 4327 | I41: =I37+I44 -> 7554 | K41: =K39+K43 -> 3227 | L41: =K41/I41 -> 0.42719089 | M41: RF+RR
D42: (LR-RR) - | E42: (LF-RF) | F42: =F43-F39 -> 200 | G42: =G43/I41 -> 0.31466773 | K42: =K43/I41 -> 0.2286206
D43: Rear Split | E43: LR-RR | F43: =ABS(G43-K43) -> 650 | G43: =G17+H7 -> 2377 | H43: LR | J43: RR | K43: =K17-H7 -> 1727
F44: LR-LF Split | G44: =G43-G39 -> 427 | I44: =G43+K43 -> 4104 | K44: =K43-K39 -> 227 | L44: RR-RF Split
F45: Wedge | G45: =(G43+K39)/I41 -> 0.51323802 | I45: LR+RR
F46: LR-RF Split | G46: =G43-K39 -> 877 | I46: =I44/I41 -> 0.54328832

Sheet Sheet1
