Workbook

Sheet RS250
A1: Drag Force
A2: Key
B3: Variable | C3: Value | D3: Unit | O3: km/h | P3: m/s | Q3: Fd | R3: Fw | S3: Fp | T3: F_Total | U3: Power W
A4: Mass | B4: m | C4: 133.15 | D4: kg | O4: 0 | P4: =O4*(1000/3600) -> 0 | Q4: =0.5*'RS250'!C$12*'RS250'!C$5*P4^2 -> 0 | R4: ='RS250'!C$13*'RS250'!C$4*'RS250'!C$8*P4 -> 0 | S4: ='RS250'!C$4*'RS250'!C$8*'RS250'!C$11*P4 -> 0 | T4: =SUM(Q4:S4) -> 0 | U4: 0
A5: Coefficent Drag | B5: CdA | C5: 0.305 | D5: m² | O5: =O4+1 -> 1 | P5: =O5*(1000/3600) -> 0.27777778 | Q5: =0.5*'RS250'!C$12*'RS250'!C$5*$C$17*P5^2 -> 0.0053143073 | R5: ='RS250'!C$13*'RS250'!C$4*'RS250'!C$8 -> 26.12403 | S5: ='RS250'!C$4*'RS250'!C$8*RADIANS('RS250'!C$11) -> 439.76515 | T5: =SUM(Q5:S5) -> 465.8945 | U5: =T5*P5 -> 129.41514
A6: Velocity | B6: v | C6: 209.45 | D6: km/h | O6: =O5+1 -> 2 | P6: =O6*(1000/3600) -> 0.55555556 | Q6: =0.5*'RS250'!C$12*'RS250'!C$5*$C$17*P6^2 -> 0.021257229 | R6: ='RS250'!C$13*'RS250'!C$4*'RS250'!C$8 -> 26.12403 | S6: ='RS250'!C$4*'RS250'!C$8*RADIANS('RS250'!C$11) -> 439.76515 | T6: =SUM(Q6:S6) -> 465.91044 | U6: =T6*P6 -> 258.83913
A7: Velocity | B7: v | C7: =C6*(1000/3600) -> 58.180556 | D7: m/s | O7: =O6+1 -> 3 | P7: =O7*(1000/3600) -> 0.83333333 | Q7: =0.5*'RS250'!C$12*'RS250'!C$5*$C$17*P7^2 -> 0.047828766 | R7: ='RS250'!C$13*'RS250'!C$4*'RS250'!C$8 -> 26.12403 | S7: ='RS250'!C$4*'RS250'!C$8*RADIANS('RS250'!C$11) -> 439.76515 | T7: =SUM(Q7:S7) -> 465.93701 | U7: =T7*P7 -> 388.28084
A8: Gravity | B8: g | C8: 9.81 | D8: m/s² | O8: =O7+1 -> 4 | P8: =O8*(1000/3600) -> 1.1111111 | Q8: =0.5*'RS250'!C$12*'RS250'!C$5*$C$17*P8^2 -> 0.085028917 | R8: ='RS250'!C$13*'RS250'!C$4*'RS250'!C$8 -> 26.12403 | S8: ='RS250'!C$4*'RS250'!C$8*RADIANS('RS250'!C$11) -> 439.76515 | T8: =SUM(Q8:S8) -> 465.97421 | U8: =T8*P8 -> 517.74913
A9: Gradient (opposite) | B9: opp | C9: 35 | D9: - | O9: =O8+1 -> 5 | P9: =O9*(1000/3600) -> 1.3888889 | Q9: =0.5*'RS250'!C$12*'RS250'!C$5*$C$17*P9^2 -> 0.13285768 | R9: ='RS250'!C$13*'RS250'!C$4*'RS250'!C$8 -> 26.12403 | S9: ='RS250'!C$4*'RS250'!C$8*RADIANS('RS250'!C$11) -> 439.76515 | T9: =SUM(Q9:S9) -> 466.02204 | U9: =T9*P9 -> 647.25284
A10: Gradient (adjacent) | B10: adj | C10: 100 | D10: - | O10: =O9+1 -> 6 | P10: =O10*(1000/3600) -> 1.6666667 | Q10: =0.5*'RS250'!C$12*'RS250'!C$5*$C$17*P10^2 -> 0.19131506 | R10: ='RS250'!C$13*'RS250'!C$4*'RS250'!C$8 -> 26.12403 | S10: ='RS250'!C$4*'RS250'!C$8*RADIANS('RS250'!C$11) -> 439.76515 | T10: =SUM(Q10:S10) -> 466.0805 | U10: =T10*P10 -> 776.80083
A11: Angle | B11: Θ | C11: =DEGREES(ATAN(C9/C10)) -> 19.290046 | D11: Degrees | O11: =O10+1 -> 7 | P11: =O11*(1000/3600) -> 1.9444444 | Q11: =0.5*'RS250'!C$12*'RS250'!C$5*$C$17*P11^2 -> 0.26040106 | R11: ='RS250'!C$13*'RS250'!C$4*'RS250'!C$8 -> 26.12403 | S11: ='RS250'!C$4*'RS250'!C$8*RADIANS('RS250'!C$11) -> 439.76515 | T11: =SUM(Q11:S11) -> 466.14959 | U11: =T11*P11 -> 906.40197
A12: Rho | B12: ρ | C12: 1.167 | D12: - | O12: =O11+1 -> 8 | P12: =O12*(1000/3600) -> 2.2222222 | Q12: =0.5*'RS250'!C$12*'RS250'!C$5*$C$17*P12^2 -> 0.34011567 | R12: ='RS250'!C$13*'RS250'!C$4*'RS250'!C$8 -> 26.12403 | S12: ='RS250'!C$4*'RS250'!C$8*RADIANS('RS250'!C$11) -> 439.76515 | T12: =SUM(Q12:S12) -> 466.2293 | U12: =T12*P12 -> 1036.0651
A13: Coefficent Friction | B13: μ | C13: 0.02 | D13: - | O13: =O12+1 -> 9 | P13: =O13*(1000/3600) -> 2.5 | Q13: =0.5*'RS250'!C$12*'RS250'!C$5*$C$17*P13^2 -> 0.43045889 | R13: ='RS250'!C$13*'RS250'!C$4*'RS250'!C$8 -> 26.12403 | S13: ='RS250'!C$4*'RS250'!C$8*RADIANS('RS250'!C$11) -> 439.76515 | T13: =SUM(Q13:S13) -> 466.31964 | U13: =T13*P13 -> 1165.7991
A14: Aero Drag Force | B14: Fd | D14: N | O14: =O13+1 -> 10 | P14: =O14*(1000/3600) -> 2.7777778 | Q14: =0.5*'RS250'!C$12*'RS250'!C$5*$C$17*P14^2 -> 0.53143073 | R14: ='RS250'!C$13*'RS250'!C$4*'RS250'!C$8 -> 26.12403 | S14: ='RS250'!C$4*'RS250'!C$8*RADIANS('RS250'!C$11) -> 439.76515 | T14: =SUM(Q14:S14) -> 466.42061 | U14: =T14*P14 -> 1295.6128
A15: Rolling Resistance | B15: Fw | D15: N | O15: =O14+1 -> 11 | P15: =O15*(1000/3600) -> 3.0555556 | Q15: =0.5*'RS250'!C$12*'RS250'!C$5*$C$17*P15^2 -> 0.64303118 | R15: ='RS250'!C$13*'RS250'!C$4*'RS250'!C$8 -> 26.12403 | S15: ='RS250'!C$4*'RS250'!C$8*RADIANS('RS250'!C$11) -> 439.76515 | T15: =SUM(Q15:S15) -> 466.53222 | U15: =T15*P15 -> 1425.5151
A16: Gradient Resistance | B16: Fp | D16: N | O16: =O15+1 -> 12 | P16: =O16*(1000/3600) -> 3.3333333 | Q16: =0.5*'RS250'!C$12*'RS250'!C$5*$C$17*P16^2 -> 0.76526025 | R16: ='RS250'!C$13*'RS250'!C$4*'RS250'!C$8 -> 26.12403 | S16: ='RS250'!C$4*'RS250'!C$8*RADIANS('RS250'!C$11) -> 439.76515 | T16: =SUM(Q16:S16) -> 466.65444 | U16: =T16*P16 -> 1555.5148
A17: Frontal Area | B17: A | C17: 0.387 | D17: m² | O17: =O16+1 -> 13 | P17: =O17*(1000/3600) -> 3.6111111 | Q17: =0.5*'RS250'!C$12*'RS250'!C$5*$C$17*P17^2 -> 0.89811793 | R17: ='RS250'!C$13*'RS250'!C$4*'RS250'!C$8 -> 26.12403 | S17: ='RS250'!C$4*'RS250'!C$8*RADIANS('RS250'!C$11) -> 439.76515 | T17: =SUM(Q17:S17) -> 466.7873 | U17: =T17*P17 -> 1685.6208
O18: =O17+1 -> 14 | P18: =O18*(1000/3600) -> 3.8888889 | Q18: =0.5*'RS250'!C$12*'RS250'!C$5*$C$17*P18^2 -> 1.0416042 | R18: ='RS250'!C$13*'RS250'!C$4*'RS250'!C$8 -> 26.12403 | S18: ='RS250'!C$4*'RS250'!C$8*RADIANS('RS250'!C$11) -> 439.76515 | T18: =SUM(Q18:S18) -> 466.93079 | U18: =T18*P18 -> 1815.842
A19: Power needed to reach top speed | O19: =O18+1 -> 15 | P19: =O19*(1000/3600) -> 4.1666667 | Q19: =0.5*'RS250'!C$12*'RS250'!C$5*$C$17*P19^2 -> 1.1957191 | R19: ='RS250'!C$13*'RS250'!C$4*'RS250'!C$8 -> 26.12403 | S19: ='RS250'!C$4*'RS250'!C$8*RADIANS('RS250'!C$11) -> 439.76515 | T19: =SUM(Q19:S19) -> 467.0849 | U19: =T19*P19 -> 1946.1871
B20: Variable | C20: Value | D20: Unit | O20: =O19+1 -> 16 | P20: =O20*(1000/3600) -> 4.4444444 | Q20: =0.5*'RS250'!C$12*'RS250'!C$5*$C$17*P20^2 -> 1.3604627 | R20: ='RS250'!C$13*'RS250'!C$4*'RS250'!C$8 -> 26.12403 | S20: ='RS250'!C$4*'RS250'!C$8*RADIANS('RS250'!C$11) -> 439.76515 | T20: =SUM(Q20:S20) -> 467.24965 | U20: =T20*P20 -> 2076.6651
A21: Aero Drag Force | B21: Fd | C21: =0.5*C12*C5*C17*C7^2 -> 233.13495 | D21: N | O21: =O20+1 -> 17 | P21: =O21*(1000/3600) -> 4.7222222 | Q21: =0.5*'RS250'!C$12*'RS250'!C$5*$C$17*P21^2 -> 1.5358348 | R21: ='RS250'!C$13*'RS250'!C$4*'RS250'!C$8 -> 26.12403 | S21: ='RS250'!C$4*'RS250'!C$8*RADIANS('RS250'!C$11) -> 439.76515 | T21: =SUM(Q21:S21) -> 467.42502 | U21: =T21*P21 -> 2207.2848
A22: Rolling Resistance | B22: Fw | C22: =C13*C4*C8 -> 26.12403 | D22: N | O22: =O21+1 -> 18 | P22: =O22*(1000/3600) -> 5 | Q22: =0.5*'RS250'!C$12*'RS250'!C$5*$C$17*P22^2 -> 1.7218356 | R22: ='RS250'!C$13*'RS250'!C$4*'RS250'!C$8 -> 26.12403 | S22: ='RS250'!C$4*'RS250'!C$8*RADIANS('RS250'!C$11) -> 439.76515 | T22: =SUM(Q22:S22) -> 467.61102 | U22: =T22*P22 -> 2338.0551
A23: Forces Total | B23: FT | C23: =C21+C22 -> 259.25898 | D23: N | O23: =O22+1 -> 19 | P23: =O23*(1000/3600) -> 5.2777778 | Q23: =0.5*'RS250'!C$12*'RS250'!C$5*$C$17*P23^2 -> 1.9184649 | R23: ='RS250'!C$13*'RS250'!C$4*'RS250'!C$8 -> 26.12403 | S23: ='RS250'!C$4*'RS250'!C$8*RADIANS('RS250'!C$11) -> 439.76515 | T23: =SUM(Q23:S23) -> 467.80765 | U23: =T23*P23 -> 2468.9848
A24: Power | B24: P | C24: =C23*C7 -> 15083.832 | D24: W | O24: =O23+1 -> 20 | P24: =O24*(1000/3600) -> 5.5555556 | Q24: =0.5*'RS250'!C$12*'RS250'!C$5*$C$17*P24^2 -> 2.1257229 | R24: ='RS250'!C$13*'RS250'!C$4*'RS250'!C$8 -> 26.12403 | S24: ='RS250'!C$4*'RS250'!C$8*RADIANS('RS250'!C$11) -> 439.76515 | T24: =SUM(Q24:S24) -> 468.01491 | U24: =T24*P24 -> 2600.0828
O25: =O24+1 -> 21 | P25: =O25*(1000/3600) -> 5.8333333 | Q25: =0.5*'RS250'!C$12*'RS250'!C$5*$C$17*P25^2 -> 2.3436095 | R25: ='RS250'!C$13*'RS250'!C$4*'RS250'!C$8 -> 26.12403 | S25: ='RS250'!C$4*'RS250'!C$8*RADIANS('RS250'!C$11) -> 439.76515 | T25: =SUM(Q25:S25) -> 468.23279 | U25: =T25*P25 -> 2731.358
A26: Power needed to reach top speed up a 35% slope | O26: =O25+1 -> 22 | P26: =O26*(1000/3600) -> 6.1111111 | Q26: =0.5*'RS250'!C$12*'RS250'!C$5*$C$17*P26^2 -> 2.5721247 | R26: ='RS250'!C$13*'RS250'!C$4*'RS250'!C$8 -> 26.12403 | S26: ='RS250'!C$4*'RS250'!C$8*RADIANS('RS250'!C$11) -> 439.76515 | T26: =SUM(Q26:S26) -> 468.46131 | U26: =T26*P26 -> 2862.8191
B27: Variable | C27: Value | D27: Unit | O27: =O26+1 -> 23 | P27: =O27*(1000/3600) -> 6.3888889 | Q27: =0.5*'RS250'!C$12*'RS250'!C$5*$C$17*P27^2 -> 2.8112686 | R27: ='RS250'!C$13*'RS250'!C$4*'RS250'!C$8 -> 26.12403 | S27: ='RS250'!C$4*'RS250'!C$8*RADIANS('RS250'!C$11) -> 439.76515 | T27: =SUM(Q27:S27) -> 468.70045 | U27: =T27*P27 -> 2994.4751
A28: Aero Drag Force | B28: Fd | C28: =0.5*C12*C5*C17*C7^2 -> 233.13495 | D28: N | O28: =O27+1 -> 24 | P28: =O28*(1000/3600) -> 6.6666667 | Q28: =0.5*'RS250'!C$12*'RS250'!C$5*$C$17*P28^2 -> 3.061041 | R28: ='RS250'!C$13*'RS250'!C$4*'RS250'!C$8 -> 26.12403 | S28: ='RS250'!C$4*'RS250'!C$8*RADIANS('RS250'!C$11) -> 439.76515 | T28: =SUM(Q28:S28) -> 468.95023 | U28: =T28*P28 -> 3126.3348
A29: Rolling Resistance | B29: Fw | C29: =C13*C4*C8 -> 26.12403 | D29: N | O29: =O28+1 -> 25 | P29: =O29*(1000/3600) -> 6.9444444 | Q29: =0.5*'RS250'!C$12*'RS250'!C$5*$C$17*P29^2 -> 3.3214421 | R29: ='RS250'!C$13*'RS250'!C$4*'RS250'!C$8 -> 26.12403 | S29: ='RS250'!C$4*'RS250'!C$8*RADIANS('RS250'!C$11) -> 439.76515 | T29: =SUM(Q29:S29) -> 469.21063 | U29: =T29*P29 -> 3258.4071
A30: Gradient Resistance | B30: Fp | C30: =(C4*C8*(RADIANS(C11))) -> 439.76515 | D30: N | O30: =O29+1 -> 26 | P30: =O30*(1000/3600) -> 7.2222222 | Q30: =0.5*'RS250'!C$12*'RS250'!C$5*$C$17*P30^2 -> 3.5924717 | R30: ='RS250'!C$13*'RS250'!C$4*'RS250'!C$8 -> 26.12403 | S30: ='RS250'!C$4*'RS250'!C$8*RADIANS('RS250'!C$11) -> 439.76515 | T30: =SUM(Q30:S30) -> 469.48166 | U30: =T30*P30 -> 3390.7008
A31: Forces Total | B31: FT | C31: =C28+C29+C30 -> 699.02414 | D31: N | O31: =O30+1 -> 27 | P31: =O31*(1000/3600) -> 7.5 | Q31: =0.5*'RS250'!C$12*'RS250'!C$5*$C$17*P31^2 -> 3.87413 | R31: ='RS250'!C$13*'RS250'!C$4*'RS250'!C$8 -> 26.12403 | S31: ='RS250'!C$4*'RS250'!C$8*RADIANS('RS250'!C$11) -> 439.76515 | T31: =SUM(Q31:S31) -> 469.76331 | U31: =T31*P31 -> 3523.2249
A32: Power | B32: P | C32: =C31*C7 -> 40669.613 | D32: W | O32: =O31+1 -> 28 | P32: =O32*(1000/3600) -> 7.7777778 | Q32: =0.5*'RS250'!C$12*'RS250'!C$5*$C$17*P32^2 -> 4.1664169 | R32: ='RS250'!C$13*'RS250'!C$4*'RS250'!C$8 -> 26.12403 | S32: ='RS250'!C$4*'RS250'!C$8*RADIANS('RS250'!C$11) -> 439.76515 | T32: =SUM(Q32:S32) -> 470.0556 | U32: =T32*P32 -> 3655.988
O33: =O32+1 -> 29 | P33: =O33*(1000/3600) -> 8.0555556 | Q33: =0.5*'RS250'!C$12*'RS250'!C$5*$C$17*P33^2 -> 4.4693324 | R33: ='RS250'!C$13*'RS250'!C$4*'RS250'!C$8 -> 26.12403 | S33: ='RS250'!C$4*'RS250'!C$8*RADIANS('RS250'!C$11) -> 439.76515 | T33: =SUM(Q33:S33) -> 470.35852 | U33: =T33*P33 -> 3788.9992
O34: =O33+1 -> 30 | P34: =O34*(1000/3600) -> 8.3333333 | Q34: =0.5*'RS250'!C$12*'RS250'!C$5*$C$17*P34^2 -> 4.7828766 | R34: ='RS250'!C$13*'RS250'!C$4*'RS250'!C$8 -> 26.12403 | S34: ='RS250'!C$4*'RS250'!C$8*RADIANS('RS250'!C$11) -> 439.76515 | T34: =SUM(Q34:S34) -> 470.67206 | U34: =T34*P34 -> 3922.2672
O35: =O34+1 -> 31 | P35: =O35*(1000/3600) -> 8.6111111 | Q35: =0.5*'RS250'!C$12*'RS250'!C$5*$C$17*P35^2 -> 5.1070493 | R35: ='RS250'!C$13*'RS250'!C$4*'RS250'!C$8 -> 26.12403 | S35: ='RS250'!C$4*'RS250'!C$8*RADIANS('RS250'!C$11) -> 439.76515 | T35: =SUM(Q35:S35) -> 470.99623 | U35: =T35*P35 -> 4055.8009
O36: =O35+1 -> 32 | P36: =O36*(1000/3600) -> 8.8888889 | Q36: =0.5*'RS250'!C$12*'RS250'!C$5*$C$17*P36^2 -> 5.4418507 | R36: ='RS250'!C$13*'RS250'!C$4*'RS250'!C$8 -> 26.12403 | S36: ='RS250'!C$4*'RS250'!C$8*RADIANS('RS250'!C$11) -> 439.76515 | T36: =SUM(Q36:S36) -> 471.33103 | U36: =T36*P36 -> 4189.6092
O37: =O36+1 -> 33 | P37: =O37*(1000/3600) -> 9.1666667 | Q37: =0.5*'RS250'!C$12*'RS250'!C$5*$C$17*P37^2 -> 5.7872806 | R37: ='RS250'!C$13*'RS250'!C$4*'RS250'!C$8 -> 26.12403 | S37: ='RS250'!C$4*'RS250'!C$8*RADIANS('RS250'!C$11) -> 439.76515 | T37: =SUM(Q37:S37) -> 471.67646 | U37: =T37*P37 -> 4323.7009
O38: =O37+1 -> 34 | P38: =O38*(1000/3600) -> 9.4444444 | Q38: =0.5*'RS250'!C$12*'RS250'!C$5*$C$17*P38^2 -> 6.1433392 | R38: ='RS250'!C$13*'RS250'!C$4*'RS250'!C$8 -> 26.12403 | S38: ='RS250'!C$4*'RS250'!C$8*RADIANS('RS250'!C$11) -> 439.76515 | T38: =SUM(Q38:S38) -> 472.03252 | U38: =T38*P38 -> 4458.0849
O39: =O38+1 -> 35 | P39: =O39*(1000/3600) -> 9.7222222 | Q39: =0.5*'RS250'!C$12*'RS250'!C$5*$C$17*P39^2 -> 6.5100264 | R39: ='RS250'!C$13*'RS250'!C$4*'RS250'!C$8 -> 26.12403 | S39: ='RS250'!C$4*'RS250'!C$8*RADIANS('RS250'!C$11) -> 439.76515 | T39: =SUM(Q39:S39) -> 472.39921 | U39: =T39*P39 -> 4592.7701
O40: =O39+1 -> 36 | P40: =O40*(1000/3600) -> 10 | Q40: =0.5*'RS250'!C$12*'RS250'!C$5*$C$17*P40^2 -> 6.8873423 | R40: ='RS250'!C$13*'RS250'!C$4*'RS250'!C$8 -> 26.12403 | S40: ='RS250'!C$4*'RS250'!C$8*RADIANS('RS250'!C$11) -> 439.76515 | T40: =SUM(Q40:S40) -> 472.77653 | U40: =T40*P40 -> 4727.7653
...

Sheet ZXR750
A1: Drag Force
A2: Key
B3: Variable | C3: Value | D3: Unit | O3: km/h | P3: m/s | Q3: Fd | R3: Fw | S3: Fp | T3: F_Total
A4: Mass | B4: m | C4: 191.9 | D4: kg | O4: 0 | P4: =O4*(1000/3600) -> 0 | Q4: =0.5*[1]Calc!C$12*[1]Calc!C$5*P4^2 -> 0 | R4: =[1]Calc!C$13*[1]Calc!C$4*[1]Calc!C$8*P4 -> 0 | S4: =[1]Calc!C$4*[1]Calc!C$8*[1]Calc!C$11*P4 -> 0 | T4: =SUM(Q4:S4) -> 0
A5: Coefficent Drag | B5: CdA | C5: 0.305 | D5: m² | O5: =O4+1 -> 1 | P5: =O5*(1000/3600) -> 0.27777778 | Q5: =0.5*[1]Calc!C$12*[1]Calc!C$5*$C$17*P5^2 -> 0.004559044 | R5: =[1]Calc!C$13*[1]Calc!C$4*[1]Calc!C$8 -> 37.65078 | S5: =[1]Calc!C$4*[1]Calc!C$8*RADIANS([1]Calc!C$11) -> 842.47381 | T5: =SUM(Q5:S5) -> 880.12915
A6: Velocity | B6: v | C6: 254.88 | D6: km/h | O6: =O5+1 -> 2 | P6: =O6*(1000/3600) -> 0.55555556 | Q6: =0.5*[1]Calc!C$12*[1]Calc!C$5*$C$17*P6^2 -> 0.018236176 | R6: =[1]Calc!C$13*[1]Calc!C$4*[1]Calc!C$8 -> 37.65078 | S6: =[1]Calc!C$4*[1]Calc!C$8*RADIANS([1]Calc!C$11) -> 842.47381 | T6: =SUM(Q6:S6) -> 880.14282
A7: Velocity | B7: v | C7: =C6*(1000/3600) -> 70.8 | D7: m/s | O7: =O6+1 -> 3 | P7: =O7*(1000/3600) -> 0.83333333 | Q7: =0.5*[1]Calc!C$12*[1]Calc!C$5*$C$17*P7^2 -> 0.041031396 | R7: =[1]Calc!C$13*[1]Calc!C$4*[1]Calc!C$8 -> 37.65078 | S7: =[1]Calc!C$4*[1]Calc!C$8*RADIANS([1]Calc!C$11) -> 842.47381 | T7: =SUM(Q7:S7) -> 880.16562
A8: Gravity | B8: g | C8: 9.81 | D8: m/s² | O8: =O7+1 -> 4 | P8: =O8*(1000/3600) -> 1.1111111 | Q8: =0.5*[1]Calc!C$12*[1]Calc!C$5*$C$17*P8^2 -> 0.072944704 | R8: =[1]Calc!C$13*[1]Calc!C$4*[1]Calc!C$8 -> 37.65078 | S8: =[1]Calc!C$4*[1]Calc!C$8*RADIANS([1]Calc!C$11) -> 842.47381 | T8: =SUM(Q8:S8) -> 880.19753
A9: Gradient (opposite) | B9: opp | C9: 48 | D9: - | O9: =O8+1 -> 5 | P9: =O9*(1000/3600) -> 1.3888889 | Q9: =0.5*[1]Calc!C$12*[1]Calc!C$5*$C$17*P9^2 -> 0.1139761 | R9: =[1]Calc!C$13*[1]Calc!C$4*[1]Calc!C$8 -> 37.65078 | S9: =[1]Calc!C$4*[1]Calc!C$8*RADIANS([1]Calc!C$11) -> 842.47381 | T9: =SUM(Q9:S9) -> 880.23856
A10: Gradient (adjacent) | B10: adj | C10: 100 | D10: - | O10: =O9+1 -> 6 | P10: =O10*(1000/3600) -> 1.6666667 | Q10: =0.5*[1]Calc!C$12*[1]Calc!C$5*$C$17*P10^2 -> 0.16412558 | R10: =[1]Calc!C$13*[1]Calc!C$4*[1]Calc!C$8 -> 37.65078 | S10: =[1]Calc!C$4*[1]Calc!C$8*RADIANS([1]Calc!C$11) -> 842.47381 | T10: =SUM(Q10:S10) -> 880.28871
A11: Angle | B11: Θ | C11: =DEGREES(ATAN(C9/C10)) -> 25.641006 | D11: Degrees | O11: =O10+1 -> 7 | P11: =O11*(1000/3600) -> 1.9444444 | Q11: =0.5*[1]Calc!C$12*[1]Calc!C$5*$C$17*P11^2 -> 0.22339316 | R11: =[1]Calc!C$13*[1]Calc!C$4*[1]Calc!C$8 -> 37.65078 | S11: =[1]Calc!C$4*[1]Calc!C$8*RADIANS([1]Calc!C$11) -> 842.47381 | T11: =SUM(Q11:S11) -> 880.34798
A12: Rho | B12: ρ | C12: 1.167 | D12: - | O12: =O11+1 -> 8 | P12: =O12*(1000/3600) -> 2.2222222 | Q12: =0.5*[1]Calc!C$12*[1]Calc!C$5*$C$17*P12^2 -> 0.29177881 | R12: =[1]Calc!C$13*[1]Calc!C$4*[1]Calc!C$8 -> 37.65078 | S12: =[1]Calc!C$4*[1]Calc!C$8*RADIANS([1]Calc!C$11) -> 842.47381 | T12: =SUM(Q12:S12) -> 880.41637
A13: Coefficent Friction | B13: μ | C13: 0.02 | D13: - | O13: =O12+1 -> 9 | P13: =O13*(1000/3600) -> 2.5 | Q13: =0.5*[1]Calc!C$12*[1]Calc!C$5*$C$17*P13^2 -> 0.36928256 | R13: =[1]Calc!C$13*[1]Calc!C$4*[1]Calc!C$8 -> 37.65078 | S13: =[1]Calc!C$4*[1]Calc!C$8*RADIANS([1]Calc!C$11) -> 842.47381 | T13: =SUM(Q13:S13) -> 880.49387
A14: Aero Drag Force | B14: Fd | D14: N | O14: =O13+1 -> 10 | P14: =O14*(1000/3600) -> 2.7777778 | Q14: =0.5*[1]Calc!C$12*[1]Calc!C$5*$C$17*P14^2 -> 0.4559044 | R14: =[1]Calc!C$13*[1]Calc!C$4*[1]Calc!C$8 -> 37.65078 | S14: =[1]Calc!C$4*[1]Calc!C$8*RADIANS([1]Calc!C$11) -> 842.47381 | T14: =SUM(Q14:S14) -> 880.58049
A15: Rolling Resistance | B15: Fw | D15: N | O15: =O14+1 -> 11 | P15: =O15*(1000/3600) -> 3.0555556 | Q15: =0.5*[1]Calc!C$12*[1]Calc!C$5*$C$17*P15^2 -> 0.55164432 | R15: =[1]Calc!C$13*[1]Calc!C$4*[1]Calc!C$8 -> 37.65078 | S15: =[1]Calc!C$4*[1]Calc!C$8*RADIANS([1]Calc!C$11) -> 842.47381 | T15: =SUM(Q15:S15) -> 880.67623
A16: Gradient Resistance | B16: Fp | D16: N | O16: =O15+1 -> 12 | P16: =O16*(1000/3600) -> 3.3333333 | Q16: =0.5*[1]Calc!C$12*[1]Calc!C$5*$C$17*P16^2 -> 0.65650233 | R16: =[1]Calc!C$13*[1]Calc!C$4*[1]Calc!C$8 -> 37.65078 | S16: =[1]Calc!C$4*[1]Calc!C$8*RADIANS([1]Calc!C$11) -> 842.47381 | T16: =SUM(Q16:S16) -> 880.78109
A17: Frontal Area | B17: A | C17: 0.332 | D17: m² | O17: =O16+1 -> 13 | P17: =O17*(1000/3600) -> 3.6111111 | Q17: =0.5*[1]Calc!C$12*[1]Calc!C$5*$C$17*P17^2 -> 0.77047843 | R17: =[1]Calc!C$13*[1]Calc!C$4*[1]Calc!C$8 -> 37.65078 | S17: =[1]Calc!C$4*[1]Calc!C$8*RADIANS([1]Calc!C$11) -> 842.47381 | T17: =SUM(Q17:S17) -> 880.89506
O18: =O17+1 -> 14 | P18: =O18*(1000/3600) -> 3.8888889 | Q18: =0.5*[1]Calc!C$12*[1]Calc!C$5*$C$17*P18^2 -> 0.89357262 | R18: =[1]Calc!C$13*[1]Calc!C$4*[1]Calc!C$8 -> 37.65078 | S18: =[1]Calc!C$4*[1]Calc!C$8*RADIANS([1]Calc!C$11) -> 842.47381 | T18: =SUM(Q18:S18) -> 881.01816
A19: Power needed to reach top speed | O19: =O18+1 -> 15 | P19: =O19*(1000/3600) -> 4.1666667 | Q19: =0.5*[1]Calc!C$12*[1]Calc!C$5*$C$17*P19^2 -> 1.0257849 | R19: =[1]Calc!C$13*[1]Calc!C$4*[1]Calc!C$8 -> 37.65078 | S19: =[1]Calc!C$4*[1]Calc!C$8*RADIANS([1]Calc!C$11) -> 842.47381 | T19: =SUM(Q19:S19) -> 881.15037
B20: Variable | C20: Value | D20: Unit | O20: =O19+1 -> 16 | P20: =O20*(1000/3600) -> 4.4444444 | Q20: =0.5*[1]Calc!C$12*[1]Calc!C$5*$C$17*P20^2 -> 1.1671153 | R20: =[1]Calc!C$13*[1]Calc!C$4*[1]Calc!C$8 -> 37.65078 | S20: =[1]Calc!C$4*[1]Calc!C$8*RADIANS([1]Calc!C$11) -> 842.47381 | T20: =SUM(Q20:S20) -> 881.2917
A21: Aero Drag Force | B21: Fd | C21: =0.5*C12*C5*C17*C7^2 -> 296.17289 | D21: N | O21: =O20+1 -> 17 | P21: =O21*(1000/3600) -> 4.7222222 | Q21: =0.5*[1]Calc!C$12*[1]Calc!C$5*$C$17*P21^2 -> 1.3175637 | R21: =[1]Calc!C$13*[1]Calc!C$4*[1]Calc!C$8 -> 37.65078 | S21: =[1]Calc!C$4*[1]Calc!C$8*RADIANS([1]Calc!C$11) -> 842.47381 | T21: =SUM(Q21:S21) -> 881.44215
A22: Rolling Resistance | B22: Fw | C22: =C13*C4*C8 -> 37.65078 | D22: N | O22: =O21+1 -> 18 | P22: =O22*(1000/3600) -> 5 | Q22: =0.5*[1]Calc!C$12*[1]Calc!C$5*$C$17*P22^2 -> 1.4771303 | R22: =[1]Calc!C$13*[1]Calc!C$4*[1]Calc!C$8 -> 37.65078 | S22: =[1]Calc!C$4*[1]Calc!C$8*RADIANS([1]Calc!C$11) -> 842.47381 | T22: =SUM(Q22:S22) -> 881.60172
A23: Forces Total | B23: FT | C23: =C21+C22 -> 333.82367 | D23: N | O23: =O22+1 -> 19 | P23: =O23*(1000/3600) -> 5.2777778 | Q23: =0.5*[1]Calc!C$12*[1]Calc!C$5*$C$17*P23^2 -> 1.6458149 | R23: =[1]Calc!C$13*[1]Calc!C$4*[1]Calc!C$8 -> 37.65078 | S23: =[1]Calc!C$4*[1]Calc!C$8*RADIANS([1]Calc!C$11) -> 842.47381 | T23: =SUM(Q23:S23) -> 881.7704
A24: Power | B24: P | C24: =C23*C7 -> 23634.716 | D24: W | O24: =O23+1 -> 20 | P24: =O24*(1000/3600) -> 5.5555556 | Q24: =0.5*[1]Calc!C$12*[1]Calc!C$5*$C$17*P24^2 -> 1.8236176 | R24: =[1]Calc!C$13*[1]Calc!C$4*[1]Calc!C$8 -> 37.65078 | S24: =[1]Calc!C$4*[1]Calc!C$8*RADIANS([1]Calc!C$11) -> 842.47381 | T24: =SUM(Q24:S24) -> 881.9482
O25: =O24+1 -> 21 | P25: =O25*(1000/3600) -> 5.8333333 | Q25: =0.5*[1]Calc!C$12*[1]Calc!C$5*$C$17*P25^2 -> 2.0105384 | R25: =[1]Calc!C$13*[1]Calc!C$4*[1]Calc!C$8 -> 37.65078 | S25: =[1]Calc!C$4*[1]Calc!C$8*RADIANS([1]Calc!C$11) -> 842.47381 | T25: =SUM(Q25:S25) -> 882.13512
A26: Power needed to reach top speed up a 48% slope | O26: =O25+1 -> 22 | P26: =O26*(1000/3600) -> 6.1111111 | Q26: =0.5*[1]Calc!C$12*[1]Calc!C$5*$C$17*P26^2 -> 2.2065773 | R26: =[1]Calc!C$13*[1]Calc!C$4*[1]Calc!C$8 -> 37.65078 | S26: =[1]Calc!C$4*[1]Calc!C$8*RADIANS([1]Calc!C$11) -> 842.47381 | T26: =SUM(Q26:S26) -> 882.33116
B27: Variable | C27: Value | D27: Unit | O27: =O26+1 -> 23 | P27: =O27*(1000/3600) -> 6.3888889 | Q27: =0.5*[1]Calc!C$12*[1]Calc!C$5*$C$17*P27^2 -> 2.4117343 | R27: =[1]Calc!C$13*[1]Calc!C$4*[1]Calc!C$8 -> 37.65078 | S27: =[1]Calc!C$4*[1]Calc!C$8*RADIANS([1]Calc!C$11) -> 842.47381 | T27: =SUM(Q27:S27) -> 882.53632
A28: Aero Drag Force | B28: Fd | C28: =0.5*C12*C5*C17*C7^2 -> 296.17289 | D28: N | O28: =O27+1 -> 24 | P28: =O28*(1000/3600) -> 6.6666667 | Q28: =0.5*[1]Calc!C$12*[1]Calc!C$5*$C$17*P28^2 -> 2.6260093 | R28: =[1]Calc!C$13*[1]Calc!C$4*[1]Calc!C$8 -> 37.65078 | S28: =[1]Calc!C$4*[1]Calc!C$8*RADIANS([1]Calc!C$11) -> 842.47381 | T28: =SUM(Q28:S28) -> 882.7506
A29: Rolling Resistance | B29: Fw | C29: =C13*C4*C8 -> 37.65078 | D29: N | O29: =O28+1 -> 25 | P29: =O29*(1000/3600) -> 6.9444444 | Q29: =0.5*[1]Calc!C$12*[1]Calc!C$5*$C$17*P29^2 -> 2.8494025 | R29: =[1]Calc!C$13*[1]Calc!C$4*[1]Calc!C$8 -> 37.65078 | S29: =[1]Calc!C$4*[1]Calc!C$8*RADIANS([1]Calc!C$11) -> 842.47381 | T29: =SUM(Q29:S29) -> 882.97399
A30: Gradient Resistance | B30: Fp | C30: =(C4*C8*(RADIANS(C11))) -> 842.47381 | D30: N | O30: =O29+1 -> 26 | P30: =O30*(1000/3600) -> 7.2222222 | Q30: =0.5*[1]Calc!C$12*[1]Calc!C$5*$C$17*P30^2 -> 3.0819137 | R30: =[1]Calc!C$13*[1]Calc!C$4*[1]Calc!C$8 -> 37.65078 | S30: =[1]Calc!C$4*[1]Calc!C$8*RADIANS([1]Calc!C$11) -> 842.47381 | T30: =SUM(Q30:S30) -> 883.2065
A31: Forces Total | B31: FT | C31: =C28+C29+C30 -> 1176.2975 | D31: N | O31: =O30+1 -> 27 | P31: =O31*(1000/3600) -> 7.5 | Q31: =0.5*[1]Calc!C$12*[1]Calc!C$5*$C$17*P31^2 -> 3.3235431 | R31: =[1]Calc!C$13*[1]Calc!C$4*[1]Calc!C$8 -> 37.65078 | S31: =[1]Calc!C$4*[1]Calc!C$8*RADIANS([1]Calc!C$11) -> 842.47381 | T31: =SUM(Q31:S31) -> 883.44813
A32: Power | B32: P | C32: =C31*C7 -> 83281.861 | D32: W | O32: =O31+1 -> 28 | P32: =O32*(1000/3600) -> 7.7777778 | Q32: =0.5*[1]Calc!C$12*[1]Calc!C$5*$C$17*P32^2 -> 3.5742905 | R32: =[1]Calc!C$13*[1]Calc!C$4*[1]Calc!C$8 -> 37.65078 | S32: =[1]Calc!C$4*[1]Calc!C$8*RADIANS([1]Calc!C$11) -> 842.47381 | T32: =SUM(Q32:S32) -> 883.69888
O33: =O32+1 -> 29 | P33: =O33*(1000/3600) -> 8.0555556 | Q33: =0.5*[1]Calc!C$12*[1]Calc!C$5*$C$17*P33^2 -> 3.834156 | R33: =[1]Calc!C$13*[1]Calc!C$4*[1]Calc!C$8 -> 37.65078 | S33: =[1]Calc!C$4*[1]Calc!C$8*RADIANS([1]Calc!C$11) -> 842.47381 | T33: =SUM(Q33:S33) -> 883.95874
O34: =O33+1 -> 30 | P34: =O34*(1000/3600) -> 8.3333333 | Q34: =0.5*[1]Calc!C$12*[1]Calc!C$5*$C$17*P34^2 -> 4.1031396 | R34: =[1]Calc!C$13*[1]Calc!C$4*[1]Calc!C$8 -> 37.65078 | S34: =[1]Calc!C$4*[1]Calc!C$8*RADIANS([1]Calc!C$11) -> 842.47381 | T34: =SUM(Q34:S34) -> 884.22773
O35: =O34+1 -> 31 | P35: =O35*(1000/3600) -> 8.6111111 | Q35: =0.5*[1]Calc!C$12*[1]Calc!C$5*$C$17*P35^2 -> 4.3812413 | R35: =[1]Calc!C$13*[1]Calc!C$4*[1]Calc!C$8 -> 37.65078 | S35: =[1]Calc!C$4*[1]Calc!C$8*RADIANS([1]Calc!C$11) -> 842.47381 | T35: =SUM(Q35:S35) -> 884.50583
O36: =O35+1 -> 32 | P36: =O36*(1000/3600) -> 8.8888889 | Q36: =0.5*[1]Calc!C$12*[1]Calc!C$5*$C$17*P36^2 -> 4.668461 | R36: =[1]Calc!C$13*[1]Calc!C$4*[1]Calc!C$8 -> 37.65078 | S36: =[1]Calc!C$4*[1]Calc!C$8*RADIANS([1]Calc!C$11) -> 842.47381 | T36: =SUM(Q36:S36) -> 884.79305
O37: =O36+1 -> 33 | P37: =O37*(1000/3600) -> 9.1666667 | Q37: =0.5*[1]Calc!C$12*[1]Calc!C$5*$C$17*P37^2 -> 4.9647989 | R37: =[1]Calc!C$13*[1]Calc!C$4*[1]Calc!C$8 -> 37.65078 | S37: =[1]Calc!C$4*[1]Calc!C$8*RADIANS([1]Calc!C$11) -> 842.47381 | T37: =SUM(Q37:S37) -> 885.08939
O38: =O37+1 -> 34 | P38: =O38*(1000/3600) -> 9.4444444 | Q38: =0.5*[1]Calc!C$12*[1]Calc!C$5*$C$17*P38^2 -> 5.2702548 | R38: =[1]Calc!C$13*[1]Calc!C$4*[1]Calc!C$8 -> 37.65078 | S38: =[1]Calc!C$4*[1]Calc!C$8*RADIANS([1]Calc!C$11) -> 842.47381 | T38: =SUM(Q38:S38) -> 885.39484
O39: =O38+1 -> 35 | P39: =O39*(1000/3600) -> 9.7222222 | Q39: =0.5*[1]Calc!C$12*[1]Calc!C$5*$C$17*P39^2 -> 5.5848289 | R39: =[1]Calc!C$13*[1]Calc!C$4*[1]Calc!C$8 -> 37.65078 | S39: =[1]Calc!C$4*[1]Calc!C$8*RADIANS([1]Calc!C$11) -> 842.47381 | T39: =SUM(Q39:S39) -> 885.70942
O40: =O39+1 -> 36 | P40: =O40*(1000/3600) -> 10 | Q40: =0.5*[1]Calc!C$12*[1]Calc!C$5*$C$17*P40^2 -> 5.908521 | R40: =[1]Calc!C$13*[1]Calc!C$4*[1]Calc!C$8 -> 37.65078 | S40: =[1]Calc!C$4*[1]Calc!C$8*RADIANS([1]Calc!C$11) -> 842.47381 | T40: =SUM(Q40:S40) -> 886.03311
...
