Workbook
Name model_data: model!#REF!
Name model_list: model!$B$4:$M$32
Name models: model!$B$4:$M$15

Sheet Cumulative CTE (Own Work)
B2: Time(s) | C2: Velocity(Km/h) | D2: Vehicle Mass (Kg) | E2: Acceleration (Km/h2) | F2: Tractive effort (N) | G2: Distance (m) | H2: Incremental CTE (Nm) | I2: Cumulative CTE (Nm) | J2: Braking Energy (Nm) | K2: Cumulative Braking Energy (Nm)
B3: 1 | C3: =IF('Input&Output'!$C$3=10,'v-t_chart'!G3,IF('Input&Output'!$C$3=21,'v-t_chart'!H3,IF('Input&Output'!$C$3=32,'v-t_chart'!I3,IF('Input&Output'!$C$3=22,'v-t_chart'!J3,IF('Input&Output'!$C$3=31,'v-t_chart'!K3,'v-t_chart'!L3))))) -> 0 | D3: 243 | E3: 0 | F3: =D3*E3 -> 0 | G3: 0 | H3: =F3*G3 -> 0 | I3: 0 | J3: 0 | K3: 0
B4: 2 | C4: =IF('Input&Output'!$C$3=10,'v-t_chart'!G4,IF('Input&Output'!$C$3=21,'v-t_chart'!H4,IF('Input&Output'!$C$3=32,'v-t_chart'!I4,IF('Input&Output'!$C$3=22,'v-t_chart'!J4,IF('Input&Output'!$C$3=31,'v-t_chart'!K4,'v-t_chart'!L4))))) -> 0 | D4: 243 | E4: =(C4-C3)/(B4/B4) -> 0 | F4: =D4*E4 -> 0 | G4: =(C4+C3/2)*(B4-B3) -> 0 | H4: =F4*G4 -> 0 | I4: =I3+H4 -> 0 | J4: =0.5*D4*((C3^2)-(C4^2)) -> 0 | K4: =K3+J4 -> 0
B5: 3 | C5: =IF('Input&Output'!$C$3=10,'v-t_chart'!G5,IF('Input&Output'!$C$3=21,'v-t_chart'!H5,IF('Input&Output'!$C$3=32,'v-t_chart'!I5,IF('Input&Output'!$C$3=22,'v-t_chart'!J5,IF('Input&Output'!$C$3=31,'v-t_chart'!K5,'v-t_chart'!L5))))) -> 0 | D5: 243 | E5: =(C5-C4)/(B5/B5) -> 0 | F5: =D5*E5 -> 0 | G5: =(C5+C4/2)*(B5-B4) -> 0 | H5: =F5*G5 -> 0 | I5: =I4+H5 -> 0 | J5: =0.5*D5*((C4^2)-(C5^2)) -> 0 | K5: =K4+J5 -> 0
B6: 4 | C6: =IF('Input&Output'!$C$3=10,'v-t_chart'!G6,IF('Input&Output'!$C$3=21,'v-t_chart'!H6,IF('Input&Output'!$C$3=32,'v-t_chart'!I6,IF('Input&Output'!$C$3=22,'v-t_chart'!J6,IF('Input&Output'!$C$3=31,'v-t_chart'!K6,'v-t_chart'!L6))))) -> 0 | D6: 243 | E6: =(C6-C5)/(B6/B6) -> 0 | F6: =D6*E6 -> 0 | G6: =(C6+C5/2)*(B6-B5) -> 0 | H6: =F6*G6 -> 0 | I6: =I5+H6 -> 0 | J6: =0.5*D6*((C5^2)-(C6^2)) -> 0 | K6: =K5+J6 -> 0
B7: 5 | C7: =IF('Input&Output'!$C$3=10,'v-t_chart'!G7,IF('Input&Output'!$C$3=21,'v-t_chart'!H7,IF('Input&Output'!$C$3=32,'v-t_chart'!I7,IF('Input&Output'!$C$3=22,'v-t_chart'!J7,IF('Input&Output'!$C$3=31,'v-t_chart'!K7,'v-t_chart'!L7))))) -> 0 | D7: 243 | E7: =(C7-C6)/(B7/B7) -> 0 | F7: =D7*E7 -> 0 | G7: =(C7+C6/2)*(B7-B6) -> 0 | H7: =F7*G7 -> 0 | I7: =I6+H7 -> 0 | J7: =0.5*D7*((C6^2)-(C7^2)) -> 0 | K7: =K6+J7 -> 0
B8: 6 | C8: =IF('Input&Output'!$C$3=10,'v-t_chart'!G8,IF('Input&Output'!$C$3=21,'v-t_chart'!H8,IF('Input&Output'!$C$3=32,'v-t_chart'!I8,IF('Input&Output'!$C$3=22,'v-t_chart'!J8,IF('Input&Output'!$C$3=31,'v-t_chart'!K8,'v-t_chart'!L8))))) -> 0 | D8: 243 | E8: =(C8-C7)/(B8/B8) -> 0 | F8: =D8*E8 -> 0 | G8: =(C8+C7/2)*(B8-B7) -> 0 | H8: =F8*G8 -> 0 | I8: =I7+H8 -> 0 | J8: =0.5*D8*((C7^2)-(C8^2)) -> 0 | K8: =K7+J8 -> 0
B9: 7 | C9: =IF('Input&Output'!$C$3=10,'v-t_chart'!G9,IF('Input&Output'!$C$3=21,'v-t_chart'!H9,IF('Input&Output'!$C$3=32,'v-t_chart'!I9,IF('Input&Output'!$C$3=22,'v-t_chart'!J9,IF('Input&Output'!$C$3=31,'v-t_chart'!K9,'v-t_chart'!L9))))) -> 0 | D9: 243 | E9: =(C9-C8)/(B9/B9) -> 0 | F9: =D9*E9 -> 0 | G9: =(C9+C8/2)*(B9-B8) -> 0 | H9: =F9*G9 -> 0 | I9: =I8+H9 -> 0 | J9: =0.5*D9*((C8^2)-(C9^2)) -> 0 | K9: =K8+J9 -> 0
B10: 8 | C10: =IF('Input&Output'!$C$3=10,'v-t_chart'!G10,IF('Input&Output'!$C$3=21,'v-t_chart'!H10,IF('Input&Output'!$C$3=32,'v-t_chart'!I10,IF('Input&Output'!$C$3=22,'v-t_chart'!J10,IF('Input&Output'!$C$3=31,'v-t_chart'!K10,'v-t_chart'!L10))))) -> 0 | D10: 243 | E10: =(C10-C9)/(B10/B10) -> 0 | F10: =D10*E10 -> 0 | G10: =(C10+C9/2)*(B10-B9) -> 0 | H10: =F10*G10 -> 0 | I10: =I9+H10 -> 0 | J10: =0.5*D10*((C9^2)-(C10^2)) -> 0 | K10: =K9+J10 -> 0
B11: 9 | C11: =IF('Input&Output'!$C$3=10,'v-t_chart'!G11,IF('Input&Output'!$C$3=21,'v-t_chart'!H11,IF('Input&Output'!$C$3=32,'v-t_chart'!I11,IF('Input&Output'!$C$3=22,'v-t_chart'!J11,IF('Input&Output'!$C$3=31,'v-t_chart'!K11,'v-t_chart'!L11))))) -> 0 | D11: 243 | E11: =(C11-C10)/(B11/B11) -> 0 | F11: =D11*E11 -> 0 | G11: =(C11+C10/2)*(B11-B10) -> 0 | H11: =F11*G11 -> 0 | I11: =I10+H11 -> 0 | J11: =0.5*D11*((C10^2)-(C11^2)) -> 0 | K11: =K10+J11 -> 0
B12: 10 | C12: =IF('Input&Output'!$C$3=10,'v-t_chart'!G12,IF('Input&Output'!$C$3=21,'v-t_chart'!H12,IF('Input&Output'!$C$3=32,'v-t_chart'!I12,IF('Input&Output'!$C$3=22,'v-t_chart'!J12,IF('Input&Output'!$C$3=31,'v-t_chart'!K12,'v-t_chart'!L12))))) -> 0 | D12: 243 | E12: =(C12-C11)/(B12/B12) -> 0 | F12: =D12*E12 -> 0 | G12: =(C12+C11/2)*(B12-B11) -> 0 | H12: =F12*G12 -> 0 | I12: =I11+H12 -> 0 | J12: =0.5*D12*((C11^2)-(C12^2)) -> 0 | K12: =K11+J12 -> 0
B13: 11 | C13: =IF('Input&Output'!$C$3=10,'v-t_chart'!G13,IF('Input&Output'!$C$3=21,'v-t_chart'!H13,IF('Input&Output'!$C$3=32,'v-t_chart'!I13,IF('Input&Output'!$C$3=22,'v-t_chart'!J13,IF('Input&Output'!$C$3=31,'v-t_chart'!K13,'v-t_chart'!L13))))) -> 0 | D13: 243 | E13: =(C13-C12)/(B13/B13) -> 0 | F13: =D13*E13 -> 0 | G13: =(C13+C12/2)*(B13-B12) -> 0 | H13: =F13*G13 -> 0 | I13: =I12+H13 -> 0 | J13: =0.5*D13*((C12^2)-(C13^2)) -> 0 | K13: =K12+J13 -> 0
B14: 12 | C14: =IF('Input&Output'!$C$3=10,'v-t_chart'!G14,IF('Input&Output'!$C$3=21,'v-t_chart'!H14,IF('Input&Output'!$C$3=32,'v-t_chart'!I14,IF('Input&Output'!$C$3=22,'v-t_chart'!J14,IF('Input&Output'!$C$3=31,'v-t_chart'!K14,'v-t_chart'!L14))))) -> 0 | D14: 243 | E14: =(C14-C13)/(B14/B14) -> 0 | F14: =D14*E14 -> 0 | G14: =(C14+C13/2)*(B14-B13) -> 0 | H14: =F14*G14 -> 0 | I14: =I13+H14 -> 0 | J14: =0.5*D14*((C13^2)-(C14^2)) -> 0 | K14: =K13+J14 -> 0
B15: 13 | C15: =IF('Input&Output'!$C$3=10,'v-t_chart'!G15,IF('Input&Output'!$C$3=21,'v-t_chart'!H15,IF('Input&Output'!$C$3=32,'v-t_chart'!I15,IF('Input&Output'!$C$3=22,'v-t_chart'!J15,IF('Input&Output'!$C$3=31,'v-t_chart'!K15,'v-t_chart'!L15))))) -> 0 | D15: 243 | E15: =(C15-C14)/(B15/B15) -> 0 | F15: =D15*E15 -> 0 | G15: =(C15+C14/2)*(B15-B14) -> 0 | H15: =F15*G15 -> 0 | I15: =I14+H15 -> 0 | J15: =0.5*D15*((C14^2)-(C15^2)) -> 0 | K15: =K14+J15 -> 0
... B22: 20 | C22: =IF('Input&Output'!$C$3=10,'v-t_chart'!G22,IF('Input&Output'!$C$3=21,'v-t_chart'!H22,IF('Input&Output'!$C$3=32,'v-t_chart'!I22,IF('Input&Output'!$C$3=22,'v-t_chart'!J22,IF('Input&Output'!$C$3=31,'v-t_chart'!K22,'v-t_chart'!L22))))) -> 0 | D22: 243 | E22: =(C22-C21)/(B22/B22) -> 0 | F22: =D22*E22 -> 0 | G22: =(C22+C21/2)*(B22-B21) -> 0 | H22: =F22*G22 -> 0 | I22: =I21+H22 -> 0 | J22: =0.5*D22*((C21^2)-(C22^2)) -> 0 | K22: =K21+J22 -> 0
B23: 21 | C23: =IF('Input&Output'!$C$3=10,'v-t_chart'!G23,IF('Input&Output'!$C$3=21,'v-t_chart'!H23,IF('Input&Output'!$C$3=32,'v-t_chart'!I23,IF('Input&Output'!$C$3=22,'v-t_chart'!J23,IF('Input&Output'!$C$3=31,'v-t_chart'!K23,'v-t_chart'!L23))))) -> 1 | D23: 243 | E23: =(C23-C22)/(B23/B23) -> 1 | F23: =D23*E23 -> 243 | G23: =(C23+C22/2)*(B23-B22) -> 1 | H23: =F23*G23 -> 243 | I23: =I22+H23 -> 243 | J23: =(0.5*D23*((C22^2)-(C23^2)))*-1 -> 121.5 | K23: =K22+J23 -> 121.5
B24: 22 | C24: =IF('Input&Output'!$C$3=10,'v-t_chart'!G24,IF('Input&Output'!$C$3=21,'v-t_chart'!H24,IF('Input&Output'!$C$3=32,'v-t_chart'!I24,IF('Input&Output'!$C$3=22,'v-t_chart'!J24,IF('Input&Output'!$C$3=31,'v-t_chart'!K24,'v-t_chart'!L24))))) -> 2.6 | D24: 243 | E24: =(C24-C23)/(B24/B24) -> 1.6 | F24: =D24*E24 -> 388.8 | G24: =(C24+C23/2)*(B24-B23) -> 3.1 | H24: =F24*G24 -> 1205.28 | I24: =I23+H24 -> 1448.28 | J24: =(0.5*D24*((C23^2)-(C24^2)))*-1 -> 699.84 | K24: =K23+J24 -> 821.34
B25: 23 | C25: =IF('Input&Output'!$C$3=10,'v-t_chart'!G25,IF('Input&Output'!$C$3=21,'v-t_chart'!H25,IF('Input&Output'!$C$3=32,'v-t_chart'!I25,IF('Input&Output'!$C$3=22,'v-t_chart'!J25,IF('Input&Output'!$C$3=31,'v-t_chart'!K25,'v-t_chart'!L25))))) -> 4.8 | D25: 243 | E25: =(C25-C24)/(B25/B25) -> 2.2 | F25: =D25*E25 -> 534.6 | G25: =(C25+C24/2)*(B25-B24) -> 6.1 | H25: =F25*G25 -> 3261.06 | I25: =I24+H25 -> 4709.34 | J25: =(0.5*D25*((C24^2)-(C25^2)))*-1 -> 1978.02 | K25: =K24+J25 -> 2799.36
B26: 24 | C26: =IF('Input&Output'!$C$3=10,'v-t_chart'!G26,IF('Input&Output'!$C$3=21,'v-t_chart'!H26,IF('Input&Output'!$C$3=32,'v-t_chart'!I26,IF('Input&Output'!$C$3=22,'v-t_chart'!J26,IF('Input&Output'!$C$3=31,'v-t_chart'!K26,'v-t_chart'!L26))))) -> 7.2 | D26: 243 | E26: =(C26-C25)/(B26/B26) -> 2.4 | F26: =D26*E26 -> 583.2 | G26: =(C26+C25/2)*(B26-B25) -> 9.6 | H26: =F26*G26 -> 5598.72 | I26: =I25+H26 -> 10308.06 | J26: =(0.5*D26*((C25^2)-(C26^2)))*-1 -> 3499.2 | K26: =K25+J26 -> 6298.56
B27: 25 | C27: =IF('Input&Output'!$C$3=10,'v-t_chart'!G27,IF('Input&Output'!$C$3=21,'v-t_chart'!H27,IF('Input&Output'!$C$3=32,'v-t_chart'!I27,IF('Input&Output'!$C$3=22,'v-t_chart'!J27,IF('Input&Output'!$C$3=31,'v-t_chart'!K27,'v-t_chart'!L27))))) -> 9.6 | D27: 243 | E27: =(C27-C26)/(B27/B27) -> 2.4 | F27: =D27*E27 -> 583.2 | G27: =(C27+C26/2)*(B27-B26) -> 13.2 | H27: =F27*G27 -> 7698.24 | I27: =I26+H27 -> 18006.3 | J27: =(0.5*D27*((C26^2)-(C27^2)))*-1 -> 4898.88 | K27: =K26+J27 -> 11197.44
B28: 26 | C28: =IF('Input&Output'!$C$3=10,'v-t_chart'!G28,IF('Input&Output'!$C$3=21,'v-t_chart'!H28,IF('Input&Output'!$C$3=32,'v-t_chart'!I28,IF('Input&Output'!$C$3=22,'v-t_chart'!J28,IF('Input&Output'!$C$3=31,'v-t_chart'!K28,'v-t_chart'!L28))))) -> 12 | D28: 243 | E28: =(C28-C27)/(B28/B28) -> 2.4 | F28: =D28*E28 -> 583.2 | G28: =(C28+C27/2)*(B28-B27) -> 16.8 | H28: =F28*G28 -> 9797.76 | I28: =I27+H28 -> 27804.06 | J28: =(0.5*D28*((C27^2)-(C28^2)))*-1 -> 6298.56 | K28: =K27+J28 -> 17496
B29: 27 | C29: =IF('Input&Output'!$C$3=10,'v-t_chart'!G29,IF('Input&Output'!$C$3=21,'v-t_chart'!H29,IF('Input&Output'!$C$3=32,'v-t_chart'!I29,IF('Input&Output'!$C$3=22,'v-t_chart'!J29,IF('Input&Output'!$C$3=31,'v-t_chart'!K29,'v-t_chart'!L29))))) -> 14.3 | D29: 243 | E29: =(C29-C28)/(B29/B29) -> 2.3 | F29: =D29*E29 -> 558.9 | G29: =(C29+C28/2)*(B29-B28) -> 20.3 | H29: =F29*G29 -> 11345.67 | I29: =I28+H29 -> 39149.73 | J29: =(0.5*D29*((C28^2)-(C29^2)))*-1 -> 7349.535 | K29: =K28+J29 -> 24845.535
B30: 28 | C30: =IF('Input&Output'!$C$3=10,'v-t_chart'!G30,IF('Input&Output'!$C$3=21,'v-t_chart'!H30,IF('Input&Output'!$C$3=32,'v-t_chart'!I30,IF('Input&Output'!$C$3=22,'v-t_chart'!J30,IF('Input&Output'!$C$3=31,'v-t_chart'!K30,'v-t_chart'!L30))))) -> 16.6 | D30: 243 | E30: =(C30-C29)/(B30/B30) -> 2.3 | F30: =D30*E30 -> 558.9 | G30: =(C30+C29/2)*(B30-B29) -> 23.75 | H30: =F30*G30 -> 13273.875 | I30: =I29+H30 -> 52423.605 | J30: =(0.5*D30*((C29^2)-(C30^2)))*-1 -> 8635.005 | K30: =K29+J30 -> 33480.54
B31: 29 | C31: =IF('Input&Output'!$C$3=10,'v-t_chart'!G31,IF('Input&Output'!$C$3=21,'v-t_chart'!H31,IF('Input&Output'!$C$3=32,'v-t_chart'!I31,IF('Input&Output'!$C$3=22,'v-t_chart'!J31,IF('Input&Output'!$C$3=31,'v-t_chart'!K31,'v-t_chart'!L31))))) -> 18.9 | D31: 243 | E31: =(C31-C30)/(B31/B31) -> 2.3 | F31: =D31*E31 -> 558.9 | G31: =(C31+C30/2)*(B31-B30) -> 27.2 | H31: =F31*G31 -> 15202.08 | I31: =I30+H31 -> 67625.685 | J31: =(0.5*D31*((C30^2)-(C31^2)))*-1 -> 9920.475 | K31: =K30+J31 -> 43401.015
B32: 30 | C32: =IF('Input&Output'!$C$3=10,'v-t_chart'!G32,IF('Input&Output'!$C$3=21,'v-t_chart'!H32,IF('Input&Output'!$C$3=32,'v-t_chart'!I32,IF('Input&Output'!$C$3=22,'v-t_chart'!J32,IF('Input&Output'!$C$3=31,'v-t_chart'!K32,'v-t_chart'!L32))))) -> 21.2 | D32: 243 | E32: =(C32-C31)/(B32/B32) -> 2.3 | F32: =D32*E32 -> 558.9 | G32: =(C32+C31/2)*(B32-B31) -> 30.65 | H32: =F32*G32 -> 17130.285 | I32: =I31+H32 -> 84755.97 | J32: =(0.5*D32*((C31^2)-(C32^2)))*-1 -> 11205.945 | K32: =K31+J32 -> 54606.96
B33: 31 | C33: =IF('Input&Output'!$C$3=10,'v-t_chart'!G33,IF('Input&Output'!$C$3=21,'v-t_chart'!H33,IF('Input&Output'!$C$3=32,'v-t_chart'!I33,IF('Input&Output'!$C$3=22,'v-t_chart'!J33,IF('Input&Output'!$C$3=31,'v-t_chart'!K33,'v-t_chart'!L33))))) -> 23.5 | D33: 243 | E33: =(C33-C32)/(B33/B33) -> 2.3 | F33: =D33*E33 -> 558.9 | G33: =(C33+C32/2)*(B33-B32) -> 34.1 | H33: =F33*G33 -> 19058.49 | I33: =I32+H33 -> 103814.46 | J33: =(0.5*D33*((C32^2)-(C33^2)))*-1 -> 12491.415 | K33: =K32+J33 -> 67098.375
B34: 32 | C34: =IF('Input&Output'!$C$3=10,'v-t_chart'!G34,IF('Input&Output'!$C$3=21,'v-t_chart'!H34,IF('Input&Output'!$C$3=32,'v-t_chart'!I34,IF('Input&Output'!$C$3=22,'v-t_chart'!J34,IF('Input&Output'!$C$3=31,'v-t_chart'!K34,'v-t_chart'!L34))))) -> 25.6 | D34: 243 | E34: =(C34-C33)/(B34/B34) -> 2.1 | F34: =D34*E34 -> 510.3 | G34: =(C34+C33/2)*(B34-B33) -> 37.35 | H34: =F34*G34 -> 19059.705 | I34: =I33+H34 -> 122874.17 | J34: =(0.5*D34*((C33^2)-(C34^2)))*-1 -> 12527.865 | K34: =K33+J34 -> 79626.24
... B1572: 1570 | C1572: =IF('Input&Output'!$C$3=10,'v-t_chart'!G1572,IF('Input&Output'!$C$3=21,'v-t_chart'!H1572,IF('Input&Output'!$C$3=32,'v-t_chart'!I1572,IF('Input&Output'!$C$3=22,'v-t_chart'!J1572,IF('Input&Output'!$C$3=31,'v-t_chart'!K1572,'v-t_chart'!L1572))))) -> 88.3 | D1572: 243 | E1572: =(C1572-C1571)/(B1572/B1572) -> 1.8 | F1572: =D1572*E1572 -> 437.4 | G1572: =(C1572+C1571/2)*(B1572-B1571) -> 131.55 | H1572: =F1572*G1572 -> 57539.97 | I1572: =I1571+H1572 -> 1882855.1 | J1572: =(0.5*D1572*((C1571^2)-(C1572^2)))*-1 -> 38228.76 | K1572: =K1571+J1572 -> 947322.14
B1573: =B1572+1 -> 1571 | C1573: =IF('Input&Output'!$C$3=10,'v-t_chart'!G1573,IF('Input&Output'!$C$3=21,'v-t_chart'!H1573,IF('Input&Output'!$C$3=32,'v-t_chart'!I1573,IF('Input&Output'!$C$3=22,'v-t_chart'!J1573,IF('Input&Output'!$C$3=31,'v-t_chart'!K1573,'v-t_chart'!L1573))))) -> 89.9 | D1573: 243 | E1573: =(C1573-C1572)/(B1573/B1573) -> 1.6 | F1573: =D1573*E1573 -> 388.8 | G1573: =(C1573+C1572/2)*(B1573-B1572) -> 134.05 | H1573: =F1573*G1573 -> 52118.64 | I1573: =I1572+H1573 -> 1934973.8 | J1573: =(0.5*D1573*((C1572^2)-(C1573^2)))*-1 -> 34642.08 | K1573: =K1572+J1573 -> 981964.22
B1574: =B1573+1 -> 1572 | C1574: =IF('Input&Output'!$C$3=10,'v-t_chart'!G1574,IF('Input&Output'!$C$3=21,'v-t_chart'!H1574,IF('Input&Output'!$C$3=32,'v-t_chart'!I1574,IF('Input&Output'!$C$3=22,'v-t_chart'!J1574,IF('Input&Output'!$C$3=31,'v-t_chart'!K1574,'v-t_chart'!L1574))))) -> 91 | D1574: 243 | E1574: =(C1574-C1573)/(B1574/B1574) -> 1.1 | F1574: =D1574*E1574 -> 267.3 | G1574: =(C1574+C1573/2)*(B1574-B1573) -> 135.95 | H1574: =F1574*G1574 -> 36339.435 | I1574: =I1573+H1574 -> 1971313.2 | J1574: =(0.5*D1574*((C1573^2)-(C1574^2)))*-1 -> 24177.285 | K1574: =K1573+J1574 -> 1006141.5
B1575: =B1574+1 -> 1573 | C1575: =IF('Input&Output'!$C$3=10,'v-t_chart'!G1575,IF('Input&Output'!$C$3=21,'v-t_chart'!H1575,IF('Input&Output'!$C$3=32,'v-t_chart'!I1575,IF('Input&Output'!$C$3=22,'v-t_chart'!J1575,IF('Input&Output'!$C$3=31,'v-t_chart'!K1575,'v-t_chart'!L1575))))) -> 91.8 | D1575: 243 | E1575: =(C1575-C1574)/(B1575/B1575) -> 0.8 | F1575: =D1575*E1575 -> 194.4 | G1575: =(C1575+C1574/2)*(B1575-B1574) -> 137.3 | H1575: =F1575*G1575 -> 26691.12 | I1575: =I1574+H1575 -> 1998004.3 | J1575: =(0.5*D1575*((C1574^2)-(C1575^2)))*-1 -> 17768.16 | K1575: =K1574+J1575 -> 1023909.7
B1576: =B1575+1 -> 1574 | C1576: =IF('Input&Output'!$C$3=10,'v-t_chart'!G1576,IF('Input&Output'!$C$3=21,'v-t_chart'!H1576,IF('Input&Output'!$C$3=32,'v-t_chart'!I1576,IF('Input&Output'!$C$3=22,'v-t_chart'!J1576,IF('Input&Output'!$C$3=31,'v-t_chart'!K1576,'v-t_chart'!L1576))))) -> 92.5 | D1576: 243 | E1576: =(C1576-C1575)/(B1576/B1576) -> 0.7 | F1576: =D1576*E1576 -> 170.1 | G1576: =(C1576+C1575/2)*(B1576-B1575) -> 138.4 | H1576: =F1576*G1576 -> 23541.84 | I1576: =I1575+H1576 -> 2021546.2 | J1576: =(0.5*D1576*((C1575^2)-(C1576^2)))*-1 -> 15674.715 | K1576: =K1575+J1576 -> 1039584.4
B1577: =B1576+1 -> 1575 | C1577: =IF('Input&Output'!$C$3=10,'v-t_chart'!G1577,IF('Input&Output'!$C$3=21,'v-t_chart'!H1577,IF('Input&Output'!$C$3=32,'v-t_chart'!I1577,IF('Input&Output'!$C$3=22,'v-t_chart'!J1577,IF('Input&Output'!$C$3=31,'v-t_chart'!K1577,'v-t_chart'!L1577))))) -> 93.1 | D1577: 243 | E1577: =(C1577-C1576)/(B1577/B1577) -> 0.6 | F1577: =D1577*E1577 -> 145.8 | G1577: =(C1577+C1576/2)*(B1577-B1576) -> 139.35 | H1577: =F1577*G1577 -> 20317.23 | I1577: =I1576+H1577 -> 2041863.4 | J1577: =(0.5*D1577*((C1576^2)-(C1577^2)))*-1 -> 13530.24 | K1577: =K1576+J1577 -> 1053114.6
B1578: =B1577+1 -> 1576 | C1578: =IF('Input&Output'!$C$3=10,'v-t_chart'!G1578,IF('Input&Output'!$C$3=21,'v-t_chart'!H1578,IF('Input&Output'!$C$3=32,'v-t_chart'!I1578,IF('Input&Output'!$C$3=22,'v-t_chart'!J1578,IF('Input&Output'!$C$3=31,'v-t_chart'!K1578,'v-t_chart'!L1578))))) -> 93.7 | D1578: 243 | E1578: =(C1578-C1577)/(B1578/B1578) -> 0.6 | F1578: =D1578*E1578 -> 145.8 | G1578: =(C1578+C1577/2)*(B1578-B1577) -> 140.25 | H1578: =F1578*G1578 -> 20448.45 | I1578: =I1577+H1578 -> 2062311.8 | J1578: =(0.5*D1578*((C1577^2)-(C1578^2)))*-1 -> 13617.72 | K1578: =K1577+J1578 -> 1066732.3
B1579: =B1578+1 -> 1577 | C1579: =IF('Input&Output'!$C$3=10,'v-t_chart'!G1579,IF('Input&Output'!$C$3=21,'v-t_chart'!H1579,IF('Input&Output'!$C$3=32,'v-t_chart'!I1579,IF('Input&Output'!$C$3=22,'v-t_chart'!J1579,IF('Input&Output'!$C$3=31,'v-t_chart'!K1579,'v-t_chart'!L1579))))) -> 94.4 | D1579: 243 | E1579: =(C1579-C1578)/(B1579/B1579) -> 0.7 | F1579: =D1579*E1579 -> 170.1 | G1579: =(C1579+C1578/2)*(B1579-B1578) -> 141.25 | H1579: =F1579*G1579 -> 24026.625 | I1579: =I1578+H1579 -> 2086338.5 | J1579: =(0.5*D1579*((C1578^2)-(C1579^2)))*-1 -> 15997.905 | K1579: =K1578+J1579 -> 1082730.2
B1580: =B1579+1 -> 1578 | C1580: =IF('Input&Output'!$C$3=10,'v-t_chart'!G1580,IF('Input&Output'!$C$3=21,'v-t_chart'!H1580,IF('Input&Output'!$C$3=32,'v-t_chart'!I1580,IF('Input&Output'!$C$3=22,'v-t_chart'!J1580,IF('Input&Output'!$C$3=31,'v-t_chart'!K1580,'v-t_chart'!L1580))))) -> 95 | D1580: 243 | E1580: =(C1580-C1579)/(B1580/B1580) -> 0.6 | F1580: =D1580*E1580 -> 145.8 | G1580: =(C1580+C1579/2)*(B1580-B1579) -> 142.2 | H1580: =F1580*G1580 -> 20732.76 | I1580: =I1579+H1580 -> 2107071.2 | J1580: =(0.5*D1580*((C1579^2)-(C1580^2)))*-1 -> 13807.26 | K1580: =K1579+J1580 -> 1096537.5
B1581: =B1580+1 -> 1579 | C1581: =IF('Input&Output'!$C$3=10,'v-t_chart'!G1581,IF('Input&Output'!$C$3=21,'v-t_chart'!H1581,IF('Input&Output'!$C$3=32,'v-t_chart'!I1581,IF('Input&Output'!$C$3=22,'v-t_chart'!J1581,IF('Input&Output'!$C$3=31,'v-t_chart'!K1581,'v-t_chart'!L1581))))) -> 95.6 | D1581: 243 | E1581: =(C1581-C1580)/(B1581/B1581) -> 0.6 | F1581: =D1581*E1581 -> 145.8 | G1581: =(C1581+C1580/2)*(B1581-B1580) -> 143.1 | H1581: =F1581*G1581 -> 20863.98 | I1581: =I1580+H1581 -> 2127935.2 | J1581: =(0.5*D1581*((C1580^2)-(C1581^2)))*-1 -> 13894.74 | K1581: =K1580+J1581 -> 1110432.2
B1582: =B1581+1 -> 1580 | C1582: =IF('Input&Output'!$C$3=10,'v-t_chart'!G1582,IF('Input&Output'!$C$3=21,'v-t_chart'!H1582,IF('Input&Output'!$C$3=32,'v-t_chart'!I1582,IF('Input&Output'!$C$3=22,'v-t_chart'!J1582,IF('Input&Output'!$C$3=31,'v-t_chart'!K1582,'v-t_chart'!L1582))))) -> 96.3 | D1582: 243 | E1582: =(C1582-C1581)/(B1582/B1582) -> 0.7 | F1582: =D1582*E1582 -> 170.1 | G1582: =(C1582+C1581/2)*(B1582-B1581) -> 144.1 | H1582: =F1582*G1582 -> 24511.41 | I1582: =I1581+H1582 -> 2152446.6 | J1582: =(0.5*D1582*((C1581^2)-(C1582^2)))*-1 -> 16321.095 | K1582: =K1581+J1582 -> 1126753.3
B1583: =B1582+1 -> 1581 | C1583: =IF('Input&Output'!$C$3=10,'v-t_chart'!G1583,IF('Input&Output'!$C$3=21,'v-t_chart'!H1583,IF('Input&Output'!$C$3=32,'v-t_chart'!I1583,IF('Input&Output'!$C$3=22,'v-t_chart'!J1583,IF('Input&Output'!$C$3=31,'v-t_chart'!K1583,'v-t_chart'!L1583))))) -> 96.9 | D1583: 243 | E1583: =(C1583-C1582)/(B1583/B1583) -> 0.6 | F1583: =D1583*E1583 -> 145.8 | G1583: =(C1583+C1582/2)*(B1583-B1582) -> 145.05 | H1583: =F1583*G1583 -> 21148.29 | I1583: =I1582+H1583 -> 2173594.9 | J1583: =(0.5*D1583*((C1582^2)-(C1583^2)))*-1 -> 14084.28 | K1583: =K1582+J1583 -> 1140837.6
B1584: =B1583+1 -> 1582 | C1584: =IF('Input&Output'!$C$3=10,'v-t_chart'!G1584,IF('Input&Output'!$C$3=21,'v-t_chart'!H1584,IF('Input&Output'!$C$3=32,'v-t_chart'!I1584,IF('Input&Output'!$C$3=22,'v-t_chart'!J1584,IF('Input&Output'!$C$3=31,'v-t_chart'!K1584,'v-t_chart'!L1584))))) -> 97.5 | D1584: 243 | E1584: =(C1584-C1583)/(B1584/B1584) -> 0.6 | F1584: =D1584*E1584 -> 145.8 | G1584: =(C1584+C1583/2)*(B1584-B1583) -> 145.95 | H1584: =F1584*G1584 -> 21279.51 | I1584: =I1583+H1584 -> 2194874.4 | J1584: =(0.5*D1584*((C1583^2)-(C1584^2)))*-1 -> 14171.76 | K1584: =K1583+J1584 -> 1155009.4
... B1802: =B1801+1 -> 1800 | C1802: =IF('Input&Output'!$C$3=10,'v-t_chart'!G1802,IF('Input&Output'!$C$3=21,'v-t_chart'!H1802,IF('Input&Output'!$C$3=32,'v-t_chart'!I1802,IF('Input&Output'!$C$3=22,'v-t_chart'!J1802,IF('Input&Output'!$C$3=31,'v-t_chart'!K1802,'v-t_chart'!L1802))))) -> 0 | D1802: 243 | E1802: =(C1802-C1801)/(B1802/B1802) -> 0 | F1802: =D1802*E1802 -> 0 | G1802: =(C1802+C1801/2)*(B1802-B1801) -> 0 | H1802: =F1802*G1802 -> 0 | I1802: =I1801+H1802 -> 493090.74 | J1802: =(0.5*D1802*((C1801^2)-(C1802^2)))*-1 -> 0 | K1802: =K1801+J1802 -> 6.8394002e-10

Sheet (imported from UN) --->

Sheet Input&Output
B1: WMTC Class code
B2: Class1=10 | C2: Class2-1=21 Class2-2=22 | D2: Class3-1=31 Class3-2=32
C3: 31
G4: Part1 | M4: Part2 | S4: Part3
B5: MODEL | D5: Ninja 400 | G5: time | H5: v | I5: Gear-NO. | J5: Clutch | K5: Ne | M5: time | N5: v | O5: Gear-NO. | P5: Clutch | Q5: Ne | S5: time | T5: v | U5: Gear-NO. | V5: Clutch | W5: Ne
G6: 0 | H6: 0 | I6: 0 | K6: =K7 -> 1400 | M6: 0 | N6: =IF(C3=10,"",H606) -> 0 | O6: =IF(C3=10,"",I606) -> 0 | P6: =J606 | Q6: =IF(C3=10,"",K606) -> 1400 | S6: 0 | T6: =IF(OR(C3=10,INT(C3/10)=2),"",N606) -> 0 | U6: =IF(INT(C3/10)<=2,"",O606) -> 0 | V6: =P606 | W6: =IF(INT(C3/10)<=2,"",Q606) -> 1400
G7: =calc_gear1!$I5 -> 1 | H7: =calc_gear1!$J5 -> 0 | I7: =calc_gear1!AS5 -> 0 | J7: =calc_gear1!AT5 | K7: =calc_gear1!AU5*100 -> 1400 | M7: =calc_gear1!$I605 -> 1 | N7: =IF($C$3=10,"",calc_gear1!$J605) -> 0 | O7: =IF($C$3=10,"",calc_gear1!AS605) -> 0 | P7: =calc_gear1!AT605 | Q7: =IF($C$3=10,"",calc_gear1!AU605*100) -> 1400 | S7: =calc_gear1!$I1205 -> 1 | T7: =IF(INT($C$3/10)<=2,"",calc_gear1!$J1205) -> 0 | U7: =IF(INT($C$3/10)<=2,"",calc_gear1!AS1205) -> 0 | V7: =calc_gear1!AT1205 | W7: =IF(INT($C$3/10)<=2,"",calc_gear1!AU1205*100) -> 1400
B8: Max power | C8: kW | D8: 33.4 | G8: =calc_gear1!$I6 -> 2 | H8: =calc_gear1!$J6 -> 0 | I8: =calc_gear1!AS6 -> 0 | J8: =calc_gear1!AT6 | K8: =calc_gear1!AU6*100 -> 1400 | M8: =calc_gear1!$I606 -> 2 | N8: =IF($C$3=10,"",calc_gear1!$J606) -> 0 | O8: =IF($C$3=10,"",calc_gear1!AS606) -> 0 | P8: =calc_gear1!AT606 | Q8: =IF($C$3=10,"",calc_gear1!AU606*100) -> 1400 | S8: =calc_gear1!$I1206 -> 2 | T8: =IF(INT($C$3/10)<=2,"",calc_gear1!$J1206) -> 0 | U8: =IF(INT($C$3/10)<=2,"",calc_gear1!AS1206) -> 0 | V8: =calc_gear1!AT1206 | W8: =IF(INT($C$3/10)<=2,"",calc_gear1!AU1206*100) -> 1400
B9: Kerb Weight | C9: kg | D9: 168 | G9: =calc_gear1!$I7 -> 3 | H9: =calc_gear1!$J7 -> 0 | I9: =calc_gear1!AS7 -> 0 | J9: =calc_gear1!AT7 | K9: =calc_gear1!AU7*100 -> 1400 | M9: =calc_gear1!$I607 -> 3 | N9: =IF($C$3=10,"",calc_gear1!$J607) -> 0 | O9: =IF($C$3=10,"",calc_gear1!AS607) -> 0 | P9: =calc_gear1!AT607 | Q9: =IF($C$3=10,"",calc_gear1!AU607*100) -> 1400 | S9: =calc_gear1!$I1207 -> 3 | T9: =IF(INT($C$3/10)<=2,"",calc_gear1!$J1207) -> 0 | U9: =IF(INT($C$3/10)<=2,"",calc_gear1!AS1207) -> 1 | V9: =calc_gear1!AT1207 -> -1 | W9: =IF(INT($C$3/10)<=2,"",calc_gear1!AU1207*100) -> 1400
G10: =calc_gear1!$I8 -> 4 | H10: =calc_gear1!$J8 -> 0 | I10: =calc_gear1!AS8 -> 0 | J10: =calc_gear1!AT8 | K10: =calc_gear1!AU8*100 -> 1400 | M10: =calc_gear1!$I608 -> 4 | N10: =IF($C$3=10,"",calc_gear1!$J608) -> 0 | O10: =IF($C$3=10,"",calc_gear1!AS608) -> 1 | P10: =calc_gear1!AT608 -> -1 | Q10: =IF($C$3=10,"",calc_gear1!AU608*100) -> 1400 | S10: =calc_gear1!$I1208 -> 4 | T10: =IF(INT($C$3/10)<=2,"",calc_gear1!$J1208) -> 0 | U10: =IF(INT($C$3/10)<=2,"",calc_gear1!AS1208) -> 1 | V10: =calc_gear1!AT1208 -> -1 | W10: =IF(INT($C$3/10)<=2,"",calc_gear1!AU1208*100) -> 1400
B11: Max Ne | C11: ｒｐｍ | D11: 10000 | G11: =calc_gear1!$I9 -> 5 | H11: =calc_gear1!$J9 -> 0 | I11: =calc_gear1!AS9 -> 0 | J11: =calc_gear1!AT9 | K11: =calc_gear1!AU9*100 -> 1400 | M11: =calc_gear1!$I609 -> 5 | N11: =IF($C$3=10,"",calc_gear1!$J609) -> 0 | O11: =IF($C$3=10,"",calc_gear1!AS609) -> 1 | P11: =calc_gear1!AT609 -> -1 | Q11: =IF($C$3=10,"",calc_gear1!AU609*100) -> 1400 | S11: =calc_gear1!$I1209 -> 5 | T11: =IF(INT($C$3/10)<=2,"",calc_gear1!$J1209) -> 0 | U11: =IF(INT($C$3/10)<=2,"",calc_gear1!AS1209) -> 1 | V11: =calc_gear1!AT1209 -> -1 | W11: =IF(INT($C$3/10)<=2,"",calc_gear1!AU1209*100) -> 1400
B12: Idling speed | C12: ｒｐｍ | D12: 1400 | G12: =calc_gear1!$I10 -> 6 | H12: =calc_gear1!$J10 -> 0 | I12: =calc_gear1!AS10 -> 0 | J12: =calc_gear1!AT10 | K12: =calc_gear1!AU10*100 -> 1400 | M12: =calc_gear1!$I610 -> 6 | N12: =IF($C$3=10,"",calc_gear1!$J610) -> 0 | O12: =IF($C$3=10,"",calc_gear1!AS610) -> 1 | P12: =calc_gear1!AT610 -> -1 | Q12: =IF($C$3=10,"",calc_gear1!AU610*100) -> 1400 | S12: =calc_gear1!$I1210 -> 6 | T12: =IF(INT($C$3/10)<=2,"",calc_gear1!$J1210) -> 0 | U12: =IF(INT($C$3/10)<=2,"",calc_gear1!AS1210) -> 1 | V12: =calc_gear1!AT1210 -> -1 | W12: =IF(INT($C$3/10)<=2,"",calc_gear1!AU1210*100) -> 1400
G13: =calc_gear1!$I11 -> 7 | H13: =calc_gear1!$J11 -> 0 | I13: =calc_gear1!AS11 -> 0 | J13: =calc_gear1!AT11 | K13: =calc_gear1!AU11*100 -> 1400 | M13: =calc_gear1!$I611 -> 7 | N13: =IF($C$3=10,"",calc_gear1!$J611) -> 0 | O13: =IF($C$3=10,"",calc_gear1!AS611) -> 1 | P13: =calc_gear1!AT611 -> -1 | Q13: =IF($C$3=10,"",calc_gear1!AU611*100) -> 1400 | S13: =calc_gear1!$I1211 -> 7 | T13: =IF(INT($C$3/10)<=2,"",calc_gear1!$J1211) -> 0 | U13: =IF(INT($C$3/10)<=2,"",calc_gear1!AS1211) -> 1 | V13: =calc_gear1!AT1211 -> -1 | W13: =IF(INT($C$3/10)<=2,"",calc_gear1!AU1211*100) -> 1400
B14: NV ratio | C14: 1st | D14: 2.929 | G14: =calc_gear1!$I12 -> 8 | H14: =calc_gear1!$J12 -> 0 | I14: =calc_gear1!AS12 -> 0 | J14: =calc_gear1!AT12 | K14: =calc_gear1!AU12*100 -> 1400 | M14: =calc_gear1!$I612 -> 8 | N14: =IF($C$3=10,"",calc_gear1!$J612) -> 0 | O14: =IF($C$3=10,"",calc_gear1!AS612) -> 1 | P14: =calc_gear1!AT612 -> -1 | Q14: =IF($C$3=10,"",calc_gear1!AU612*100) -> 1400 | S14: =calc_gear1!$I1212 -> 8 | T14: =IF(INT($C$3/10)<=2,"",calc_gear1!$J1212) -> 0.9 | U14: =IF(INT($C$3/10)<=2,"",calc_gear1!AS1212) -> 1 | V14: =calc_gear1!AT1212 | W14: =IF(INT($C$3/10)<=2,"",calc_gear1!AU1212*100) -> 1400
C15: 2nd | D15: 2.056 | G15: =calc_gear1!$I13 -> 9 | H15: =calc_gear1!$J13 -> 0 | I15: =calc_gear1!AS13 -> 0 | J15: =calc_gear1!AT13 | K15: =calc_gear1!AU13*100 -> 1400 | M15: =calc_gear1!$I613 -> 9 | N15: =IF($C$3=10,"",calc_gear1!$J613) -> 2.3 | O15: =IF($C$3=10,"",calc_gear1!AS613) -> 1 | P15: =calc_gear1!AT613 | Q15: =IF($C$3=10,"",calc_gear1!AU613*100) -> 1400 | S15: =calc_gear1!$I1213 -> 9 | T15: =IF(INT($C$3/10)<=2,"",calc_gear1!$J1213) -> 3.2 | U15: =IF(INT($C$3/10)<=2,"",calc_gear1!AS1213) -> 1 | V15: =calc_gear1!AT1213 | W15: =IF(INT($C$3/10)<=2,"",calc_gear1!AU1213*100) -> 1400
C16: 3rd | D16: 1.619 | G16: =calc_gear1!$I14 -> 10 | H16: =calc_gear1!$J14 -> 0 | I16: =calc_gear1!AS14 -> 0 | J16: =calc_gear1!AT14 | K16: =calc_gear1!AU14*100 -> 1400 | M16: =calc_gear1!$I614 -> 10 | N16: =IF($C$3=10,"",calc_gear1!$J614) -> 7.3 | O16: =IF($C$3=10,"",calc_gear1!AS614) -> 1 | P16: =calc_gear1!AT614 | Q16: =IF($C$3=10,"",calc_gear1!AU614*100) -> 1400 | S16: =calc_gear1!$I1214 -> 10 | T16: =IF(INT($C$3/10)<=2,"",calc_gear1!$J1214) -> 7.3 | U16: =IF(INT($C$3/10)<=2,"",calc_gear1!AS1214) -> 1 | V16: =calc_gear1!AT1214 | W16: =IF(INT($C$3/10)<=2,"",calc_gear1!AU1214*100) -> 1400
C17: 4th | D17: 1.333 | G17: =calc_gear1!$I15 -> 11 | H17: =calc_gear1!$J15 -> 0 | I17: =calc_gear1!AS15 -> 0 | J17: =calc_gear1!AT15 | K17: =calc_gear1!AU15*100 -> 1400 | M17: =calc_gear1!$I615 -> 11 | N17: =IF($C$3=10,"",calc_gear1!$J615) -> 15.2 | O17: =IF($C$3=10,"",calc_gear1!AS615) -> 1 | P17: =calc_gear1!AT615 | Q17: =IF($C$3=10,"",calc_gear1!AU615*100) -> 1400 | S17: =calc_gear1!$I1215 -> 11 | T17: =IF(INT($C$3/10)<=2,"",calc_gear1!$J1215) -> 12.4 | U17: =IF(INT($C$3/10)<=2,"",calc_gear1!AS1215) -> 1 | V17: =calc_gear1!AT1215 | W17: =IF(INT($C$3/10)<=2,"",calc_gear1!AU1215*100) -> 1400
C18: 5th | D18: 1.154 | G18: =calc_gear1!$I16 -> 12 | H18: =calc_gear1!$J16 -> 0 | I18: =calc_gear1!AS16 -> 0 | J18: =calc_gear1!AT16 | K18: =calc_gear1!AU16*100 -> 1400 | M18: =calc_gear1!$I616 -> 12 | N18: =IF($C$3=10,"",calc_gear1!$J616) -> 23.9 | O18: =IF($C$3=10,"",calc_gear1!AS616) -> 1 | P18: =calc_gear1!AT616 | Q18: =IF($C$3=10,"",calc_gear1!AU616*100) -> 1400 | S18: =calc_gear1!$I1216 -> 12 | T18: =IF(INT($C$3/10)<=2,"",calc_gear1!$J1216) -> 17.9 | U18: =IF(INT($C$3/10)<=2,"",calc_gear1!AS1216) -> 1 | V18: =calc_gear1!AT1216 | W18: =IF(INT($C$3/10)<=2,"",calc_gear1!AU1216*100) -> 1400
C19: 6th | D19: 1.037 | G19: =calc_gear1!$I17 -> 13 | H19: =calc_gear1!$J17 -> 0 | I19: =calc_gear1!AS17 -> 0 | J19: =calc_gear1!AT17 | K19: =calc_gear1!AU17*100 -> 1400 | M19: =calc_gear1!$I617 -> 13 | N19: =IF($C$3=10,"",calc_gear1!$J617) -> 32.5 | O19: =IF($C$3=10,"",calc_gear1!AS617) -> 1 | P19: =calc_gear1!AT617 | Q19: =IF($C$3=10,"",calc_gear1!AU617*100) -> 1400 | S19: =calc_gear1!$I1217 -> 13 | T19: =IF(INT($C$3/10)<=2,"",calc_gear1!$J1217) -> 23.5 | U19: =IF(INT($C$3/10)<=2,"",calc_gear1!AS1217) -> 1 | V19: =calc_gear1!AT1217 | W19: =IF(INT($C$3/10)<=2,"",calc_gear1!AU1217*100) -> 1400
A20: v.63 July2011 | G20: =calc_gear1!$I18 -> 14 | H20: =calc_gear1!$J18 -> 0 | I20: =calc_gear1!AS18 -> 0 | J20: =calc_gear1!AT18 | K20: =calc_gear1!AU18*100 -> 1400 | M20: =calc_gear1!$I618 -> 14 | N20: =IF($C$3=10,"",calc_gear1!$J618) -> 39.2 | O20: =IF($C$3=10,"",calc_gear1!AS618) -> 1 | P20: =calc_gear1!AT618 | Q20: =IF($C$3=10,"",calc_gear1!AU618*100) -> 1400 | S20: =calc_gear1!$I1218 -> 14 | T20: =IF(INT($C$3/10)<=2,"",calc_gear1!$J1218) -> 29.1 | U20: =IF(INT($C$3/10)<=2,"",calc_gear1!AS1218) -> 1 | V20: =calc_gear1!AT1218 | W20: =IF(INT($C$3/10)<=2,"",calc_gear1!AU1218*100) -> 1400
G21: =calc_gear1!$I19 -> 15 | H21: =calc_gear1!$J19 -> 0 | I21: =calc_gear1!AS19 -> 0 | J21: =calc_gear1!AT19 | K21: =calc_gear1!AU19*100 -> 1400 | M21: =calc_gear1!$I619 -> 15 | N21: =IF($C$3=10,"",calc_gear1!$J619) -> 44.1 | O21: =IF($C$3=10,"",calc_gear1!AS619) -> 1 | P21: =calc_gear1!AT619 | Q21: =IF($C$3=10,"",calc_gear1!AU619*100) -> 1400 | S21: =calc_gear1!$I1219 -> 15 | T21: =IF(INT($C$3/10)<=2,"",calc_gear1!$J1219) -> 34.3 | U21: =IF(INT($C$3/10)<=2,"",calc_gear1!AS1219) -> 1 | V21: =calc_gear1!AT1219 | W21: =IF(INT($C$3/10)<=2,"",calc_gear1!AU1219*100) -> 1400
G22: =calc_gear1!$I20 -> 16 | H22: =calc_gear1!$J20 -> 0 | I22: =calc_gear1!AS20 -> 0 | J22: =calc_gear1!AT20 | K22: =calc_gear1!AU20*100 -> 1400 | M22: =calc_gear1!$I620 -> 16 | N22: =IF($C$3=10,"",calc_gear1!$J620) -> 48.1 | O22: =IF($C$3=10,"",calc_gear1!AS620) -> 1 | P22: =calc_gear1!AT620 | Q22: =IF($C$3=10,"",calc_gear1!AU620*100) -> 1400 | S22: =calc_gear1!$I1220 -> 16 | T22: =IF(INT($C$3/10)<=2,"",calc_gear1!$J1220) -> 38.6 | U22: =IF(INT($C$3/10)<=2,"",calc_gear1!AS1220) -> 1 | V22: =calc_gear1!AT1220 | W22: =IF(INT($C$3/10)<=2,"",calc_gear1!AU1220*100) -> 1400
C23: v | D23: Ne | G23: =calc_gear1!$I21 -> 17 | H23: =calc_gear1!$J21 -> 0 | I23: =calc_gear1!AS21 -> 1 | J23: =calc_gear1!AT21 -> -1 | K23: =calc_gear1!AU21*100 -> 1400 | M23: =calc_gear1!$I621 -> 17 | N23: =IF($C$3=10,"",calc_gear1!$J621) -> 51.2 | O23: =IF($C$3=10,"",calc_gear1!AS621) -> 1 | P23: =calc_gear1!AT621 | Q23: =IF($C$3=10,"",calc_gear1!AU621*100) -> 1400 | S23: =calc_gear1!$I1221 -> 17 | T23: =IF(INT($C$3/10)<=2,"",calc_gear1!$J1221) -> 41.6 | U23: =IF(INT($C$3/10)<=2,"",calc_gear1!AS1221) -> 1 | V23: =calc_gear1!AT1221 | W23: =IF(INT($C$3/10)<=2,"",calc_gear1!AU1221*100) -> 1400
C24: =tbL!B39 -> in km/h | D24: =tbL!C39 -> in min-1 | G24: =calc_gear1!$I22 -> 18 | H24: =calc_gear1!$J22 -> 0 | I24: =calc_gear1!AS22 -> 1 | J24: =calc_gear1!AT22 -> -1 | K24: =calc_gear1!AU22*100 -> 1400 | M24: =calc_gear1!$I622 -> 18 | N24: =IF($C$3=10,"",calc_gear1!$J622) -> 53.3 | O24: =IF($C$3=10,"",calc_gear1!AS622) -> 1 | P24: =calc_gear1!AT622 | Q24: =IF($C$3=10,"",calc_gear1!AU622*100) -> 1400 | S24: =calc_gear1!$I1222 -> 18 | T24: =IF(INT($C$3/10)<=2,"",calc_gear1!$J1222) -> 43.9 | U24: =IF(INT($C$3/10)<=2,"",calc_gear1!AS1222) -> 1 | V24: =calc_gear1!AT1222 | W24: =IF(INT($C$3/10)<=2,"",calc_gear1!AU1222*100) -> 1400
A25: UPSHIFT Acc-phase | B25: =tbL!A40 -> 1st to 2nd | C25: =tbL!B40 -> 1485.3 | D25: =tbL!C40 -> 4350.4462 | G25: =calc_gear1!$I23 -> 19 | H25: =calc_gear1!$J23 -> 0 | I25: =calc_gear1!AS23 -> 1 | J25: =calc_gear1!AT23 -> -1 | K25: =calc_gear1!AU23*100 -> 1400 | M25: =calc_gear1!$I623 -> 19 | N25: =IF($C$3=10,"",calc_gear1!$J623) -> 54.5 | O25: =IF($C$3=10,"",calc_gear1!AS623) -> 1 | P25: =calc_gear1!AT623 | Q25: =IF($C$3=10,"",calc_gear1!AU623*100) -> 1400 | S25: =calc_gear1!$I1223 -> 19 | T25: =IF(INT($C$3/10)<=2,"",calc_gear1!$J1223) -> 45.9 | U25: =IF(INT($C$3/10)<=2,"",calc_gear1!AS1223) -> 1 | V25: =calc_gear1!AT1223 | W25: =IF(INT($C$3/10)<=2,"",calc_gear1!AU1223*100) -> 1400
B26: =tbL!A41 -> 2nd to 3rd | C26: =tbL!B41 -> 2534.3 | D26: =tbL!C41 -> 5210.4462 | G26: =calc_gear1!$I24 -> 20 | H26: =calc_gear1!$J24 -> 0 | I26: =calc_gear1!AS24 -> 1 | J26: =calc_gear1!AT24 -> -1 | K26: =calc_gear1!AU24*100 -> 1400 | M26: =calc_gear1!$I624 -> 20 | N26: =IF($C$3=10,"",calc_gear1!$J624) -> 55.7 | O26: =IF($C$3=10,"",calc_gear1!AS624) -> 1 | P26: =calc_gear1!AT624 | Q26: =IF($C$3=10,"",calc_gear1!AU624*100) -> 1400 | S26: =calc_gear1!$I1224 -> 20 | T26: =IF(INT($C$3/10)<=2,"",calc_gear1!$J1224) -> 48.1 | U26: =IF(INT($C$3/10)<=2,"",calc_gear1!AS1224) -> 1 | V26: =calc_gear1!AT1224 | W26: =IF(INT($C$3/10)<=2,"",calc_gear1!AU1224*100) -> 1400
B27: =tbL!A42 -> 3rd to 4th | C27: =tbL!B42 -> 3218.3 | D27: =tbL!C42 -> 5210.4462 | G27: =calc_gear1!$I25 -> 21 | H27: =calc_gear1!$J25 -> 0 | I27: =calc_gear1!AS25 -> 1 | J27: =calc_gear1!AT25 -> -1 | K27: =calc_gear1!AU25*100 -> 1400 | M27: =calc_gear1!$I625 -> 21 | N27: =IF($C$3=10,"",calc_gear1!$J625) -> 56.9 | O27: =IF($C$3=10,"",calc_gear1!AS625) -> 1 | P27: =calc_gear1!AT625 | Q27: =IF($C$3=10,"",calc_gear1!AU625*100) -> 1400 | S27: =calc_gear1!$I1225 -> 21 | T27: =IF(INT($C$3/10)<=2,"",calc_gear1!$J1225) -> 50.3 | U27: =IF(INT($C$3/10)<=2,"",calc_gear1!AS1225) -> 1 | V27: =calc_gear1!AT1225 | W27: =IF(INT($C$3/10)<=2,"",calc_gear1!AU1225*100) -> 1400
B28: =tbL!A43 -> 4th to 5th | C28: =tbL!B43 -> 3908.8 | D28: =tbL!C43 -> 5210.4462 | G28: =calc_gear1!$I26 -> 22 | H28: =calc_gear1!$J26 -> 1 | I28: =calc_gear1!AS26 -> 1 | J28: =calc_gear1!AT26 | K28: =calc_gear1!AU26*100 -> 1400 | M28: =calc_gear1!$I626 -> 22 | N28: =IF($C$3=10,"",calc_gear1!$J626) -> 57.5 | O28: =IF($C$3=10,"",calc_gear1!AS626) -> 1 | P28: =calc_gear1!AT626 | Q28: =IF($C$3=10,"",calc_gear1!AU626*100) -> 1400 | S28: =calc_gear1!$I1226 -> 22 | T28: =IF(INT($C$3/10)<=2,"",calc_gear1!$J1226) -> 52.6 | U28: =IF(INT($C$3/10)<=2,"",calc_gear1!AS1226) -> 1 | V28: =calc_gear1!AT1226 | W28: =IF(INT($C$3/10)<=2,"",calc_gear1!AU1226*100) -> 1400
B29: =tbL!A44 -> 5th to 6th | C29: =tbL!B44 -> 4515.1 | D29: =tbL!C44 -> 5210.4462 | G29: =calc_gear1!$I27 -> 23 | H29: =calc_gear1!$J27 -> 2.6 | I29: =calc_gear1!AS27 -> 1 | J29: =calc_gear1!AT27 | K29: =calc_gear1!AU27*100 -> 1400 | M29: =calc_gear1!$I627 -> 23 | N29: =IF($C$3=10,"",calc_gear1!$J627) -> 58 | O29: =IF($C$3=10,"",calc_gear1!AS627) -> 1 | P29: =calc_gear1!AT627 | Q29: =IF($C$3=10,"",calc_gear1!AU627*100) -> 1400 | S29: =calc_gear1!$I1227 -> 23 | T29: =IF(INT($C$3/10)<=2,"",calc_gear1!$J1227) -> 54.8 | U29: =IF(INT($C$3/10)<=2,"",calc_gear1!AS1227) -> 1 | V29: =calc_gear1!AT1227 | W29: =IF(INT($C$3/10)<=2,"",calc_gear1!AU1227*100) -> 1400
A30: Clutch disengaged | B30: =tbL!A45 -> 1st to clutch | C30: =tbL!B45 -> 566.1 | D30: =calc_gear1!G5 -> 1658 | G30: =calc_gear1!$I28 -> 24 | H30: =calc_gear1!$J28 -> 4.8 | I30: =calc_gear1!AS28 -> 1 | J30: =calc_gear1!AT28 | K30: =calc_gear1!AU28*100 -> 1400 | M30: =calc_gear1!$I628 -> 24 | N30: =IF($C$3=10,"",calc_gear1!$J628) -> 58.4 | O30: =IF($C$3=10,"",calc_gear1!AS628) -> 1 | P30: =calc_gear1!AT628 | Q30: =IF($C$3=10,"",calc_gear1!AU628*100) -> 1400 | S30: =calc_gear1!$I1228 -> 24 | T30: =IF(INT($C$3/10)<=2,"",calc_gear1!$J1228) -> 55.8 | U30: =IF(INT($C$3/10)<=2,"",calc_gear1!AS1228) -> 1 | V30: =calc_gear1!AT1228 | W30: =IF(INT($C$3/10)<=2,"",calc_gear1!AU1228*100) -> 1400
B31: =tbL!A46 -> 2nd to clutch | C31: =tbL!B46 -> 806.4 | D31: =calc_gear1!G5 -> 1658 | G31: =calc_gear1!$I29 -> 25 | H31: =calc_gear1!$J29 -> 7.2 | I31: =calc_gear1!AS29 -> 1 | J31: =calc_gear1!AT29 | K31: =calc_gear1!AU29*100 -> 1400 | M31: =calc_gear1!$I629 -> 25 | N31: =IF($C$3=10,"",calc_gear1!$J629) -> 58.5 | O31: =IF($C$3=10,"",calc_gear1!AS629) -> 1 | P31: =calc_gear1!AT629 | Q31: =IF($C$3=10,"",calc_gear1!AU629*100) -> 1400 | S31: =calc_gear1!$I1229 -> 25 | T31: =IF(INT($C$3/10)<=2,"",calc_gear1!$J1229) -> 55.2 | U31: =IF(INT($C$3/10)<=2,"",calc_gear1!AS1229) -> 1 | V31: =calc_gear1!AT1229 | W31: =IF(INT($C$3/10)<=2,"",calc_gear1!AU1229*100) -> 1400
B32: 3rd to clutch | C32: =calc_gear1!D18 -> 1024.1 | D32: =calc_gear1!G5 -> 1658 | G32: =calc_gear1!$I30 -> 26 | H32: =calc_gear1!$J30 -> 9.6 | I32: =calc_gear1!AS30 -> 1 | J32: =calc_gear1!AT30 | K32: =calc_gear1!AU30*100 -> 1400 | M32: =calc_gear1!$I630 -> 26 | N32: =IF($C$3=10,"",calc_gear1!$J630) -> 58.5 | O32: =IF($C$3=10,"",calc_gear1!AS630) -> 1 | P32: =calc_gear1!AT630 | Q32: =IF($C$3=10,"",calc_gear1!AU630*100) -> 1400 | S32: =calc_gear1!$I1230 -> 26 | T32: =IF(INT($C$3/10)<=2,"",calc_gear1!$J1230) -> 53.9 | U32: =IF(INT($C$3/10)<=2,"",calc_gear1!AS1230) -> 1 | V32: =calc_gear1!AT1230 | W32: =IF(INT($C$3/10)<=2,"",calc_gear1!AU1230*100) -> 1400
A33: DOWNSHIFT | B33: =tbL!A47 -> 2nd to 1st | C33: =tbL!B47 -> 806.4 | D33: =tbL!C47 -> 1658 | G33: =calc_gear1!$I31 -> 27 | H33: =calc_gear1!$J31 -> 12 | I33: =calc_gear1!AS31 -> 1 | J33: =calc_gear1!AT31 | K33: =calc_gear1!AU31*100 -> 1400 | M33: =calc_gear1!$I631 -> 27 | N33: =IF($C$3=10,"",calc_gear1!$J631) -> 58.6 | O33: =IF($C$3=10,"",calc_gear1!AS631) -> 1 | P33: =calc_gear1!AT631 | Q33: =IF($C$3=10,"",calc_gear1!AU631*100) -> 1400 | S33: =calc_gear1!$I1231 -> 27 | T33: =IF(INT($C$3/10)<=2,"",calc_gear1!$J1231) -> 52.7 | U33: =IF(INT($C$3/10)<=2,"",calc_gear1!AS1231) -> 1 | V33: =calc_gear1!AT1231 | W33: =IF(INT($C$3/10)<=2,"",calc_gear1!AU1231*100) -> 1400
B34: =tbL!A48 -> 3rd to 2nd | C34: =tbL!B48 -> 1485.3 | D34: =tbL!C48 -> 2404.7007 | G34: =calc_gear1!$I32 -> 28 | H34: =calc_gear1!$J32 -> 14.3 | I34: =calc_gear1!AS32 -> 1 | J34: =calc_gear1!AT32 | K34: =calc_gear1!AU32*100 -> 1400 | M34: =calc_gear1!$I632 -> 28 | N34: =IF($C$3=10,"",calc_gear1!$J632) -> 58.9 | O34: =IF($C$3=10,"",calc_gear1!AS632) -> 1 | P34: =calc_gear1!AT632 | Q34: =IF($C$3=10,"",calc_gear1!AU632*100) -> 1400 | S34: =calc_gear1!$I1232 -> 28 | T34: =IF(INT($C$3/10)<=2,"",calc_gear1!$J1232) -> 52.8 | U34: =IF(INT($C$3/10)<=2,"",calc_gear1!AS1232) -> 1 | V34: =calc_gear1!AT1232 | W34: =IF(INT($C$3/10)<=2,"",calc_gear1!AU1232*100) -> 1400
B35: =tbL!A49 -> 4th to 3rd | C35: =tbL!B49 -> 2534.3 | D35: =tbL!C49 -> 3378.2219 | G35: =calc_gear1!$I33 -> 29 | H35: =calc_gear1!$J33 -> 16.6 | I35: =calc_gear1!AS33 -> 1 | J35: =calc_gear1!AT33 | K35: =calc_gear1!AU33*100 -> 1400 | M35: =calc_gear1!$I633 -> 29 | N35: =IF($C$3=10,"",calc_gear1!$J633) -> 59.3 | O35: =IF($C$3=10,"",calc_gear1!AS633) -> 1 | P35: =calc_gear1!AT633 | Q35: =IF($C$3=10,"",calc_gear1!AU633*100) -> 1400 | S35: =calc_gear1!$I1233 -> 29 | T35: =IF(INT($C$3/10)<=2,"",calc_gear1!$J1233) -> 55 | U35: =IF(INT($C$3/10)<=2,"",calc_gear1!AS1233) -> 1 | V35: =calc_gear1!AT1233 | W35: =IF(INT($C$3/10)<=2,"",calc_gear1!AU1233*100) -> 1400
B36: =tbL!A50 -> 5th to 4th | C36: =tbL!B50 -> 3218.3 | D36: =tbL!C50 -> 3713.9182 | G36: =calc_gear1!$I34 -> 30 | H36: =calc_gear1!$J34 -> 18.9 | I36: =calc_gear1!AS34 -> 1 | J36: =calc_gear1!AT34 | K36: =calc_gear1!AU34*100 -> 1400 | M36: =calc_gear1!$I634 -> 30 | N36: =IF($C$3=10,"",calc_gear1!$J634) -> 59.8 | O36: =IF($C$3=10,"",calc_gear1!AS634) -> 1 | P36: =calc_gear1!AT634 | Q36: =IF($C$3=10,"",calc_gear1!AU634*100) -> 1400 | S36: =calc_gear1!$I1234 -> 30 | T36: =IF(INT($C$3/10)<=2,"",calc_gear1!$J1234) -> 58.5 | U36: =IF(INT($C$3/10)<=2,"",calc_gear1!AS1234) -> 1 | V36: =calc_gear1!AT1234 | W36: =IF(INT($C$3/10)<=2,"",calc_gear1!AU1234*100) -> 1400
B37: =tbL!A51 -> 6th to 5th | C37: =tbL!B51 -> 3908.8 | D37: =tbL!C51 -> 4053.4256 | G37: =calc_gear1!$I35 -> 31 | H37: =calc_gear1!$J35 -> 21.2 | I37: =calc_gear1!AS35 -> 1 | J37: =calc_gear1!AT35 | K37: =calc_gear1!AU35*100 -> 1400 | M37: =calc_gear1!$I635 -> 31 | N37: =IF($C$3=10,"",calc_gear1!$J635) -> 60.2 | O37: =IF($C$3=10,"",calc_gear1!AS635) -> 1 | P37: =calc_gear1!AT635 | Q37: =IF($C$3=10,"",calc_gear1!AU635*100) -> 1400 | S37: =calc_gear1!$I1235 -> 31 | T37: =IF(INT($C$3/10)<=2,"",calc_gear1!$J1235) -> 62.3 | U37: =IF(INT($C$3/10)<=2,"",calc_gear1!AS1235) -> 1 | V37: =calc_gear1!AT1235 | W37: =IF(INT($C$3/10)<=2,"",calc_gear1!AU1235*100) -> 1400
G38: =calc_gear1!$I36 -> 32 | H38: =calc_gear1!$J36 -> 23.5 | I38: =calc_gear1!AS36 -> 1 | J38: =calc_gear1!AT36 | K38: =calc_gear1!AU36*100 -> 1400 | M38: =calc_gear1!$I636 -> 32 | N38: =IF($C$3=10,"",calc_gear1!$J636) -> 60.5 | O38: =IF($C$3=10,"",calc_gear1!AS636) -> 1 | P38: =calc_gear1!AT636 | Q38: =IF($C$3=10,"",calc_gear1!AU636*100) -> 1400 | S38: =calc_gear1!$I1236 -> 32 | T38: =IF(INT($C$3/10)<=2,"",calc_gear1!$J1236) -> 65.7 | U38: =IF(INT($C$3/10)<=2,"",calc_gear1!AS1236) -> 1 | V38: =calc_gear1!AT1236 | W38: =IF(INT($C$3/10)<=2,"",calc_gear1!AU1236*100) -> 1400
G39: =calc_gear1!$I37 -> 33 | H39: =calc_gear1!$J37 -> 25.6 | I39: =calc_gear1!AS37 -> 1 | J39: =calc_gear1!AT37 | K39: =calc_gear1!AU37*100 -> 1400 | M39: =calc_gear1!$I637 -> 33 | N39: =IF($C$3=10,"",calc_gear1!$J637) -> 60.8 | O39: =IF($C$3=10,"",calc_gear1!AS637) -> 1 | P39: =calc_gear1!AT637 | Q39: =IF($C$3=10,"",calc_gear1!AU637*100) -> 1400 | S39: =calc_gear1!$I1237 -> 33 | T39: =IF(INT($C$3/10)<=2,"",calc_gear1!$J1237) -> 68.1 | U39: =IF(INT($C$3/10)<=2,"",calc_gear1!AS1237) -> 1 | V39: =calc_gear1!AT1237 | W39: =IF(INT($C$3/10)<=2,"",calc_gear1!AU1237*100) -> 1400
G40: =calc_gear1!$I38 -> 34 | H40: =calc_gear1!$J38 -> 27.1 | I40: =calc_gear1!AS38 -> 1 | J40: =calc_gear1!AT38 | K40: =calc_gear1!AU38*100 -> 1400 | M40: =calc_gear1!$I638 -> 34 | N40: =IF($C$3=10,"",calc_gear1!$J638) -> 61.1 | O40: =IF($C$3=10,"",calc_gear1!AS638) -> 1 | P40: =calc_gear1!AT638 | Q40: =IF($C$3=10,"",calc_gear1!AU638*100) -> 1400 | S40: =calc_gear1!$I1238 -> 34 | T40: =IF(INT($C$3/10)<=2,"",calc_gear1!$J1238) -> 69.1 | U40: =IF(INT($C$3/10)<=2,"",calc_gear1!AS1238) -> 1 | V40: =calc_gear1!AT1238 | W40: =IF(INT($C$3/10)<=2,"",calc_gear1!AU1238*100) -> 1400
G41: =calc_gear1!$I39 -> 35 | H41: =calc_gear1!$J39 -> 28 | I41: =calc_gear1!AS39 -> 1 | J41: =calc_gear1!AT39 | K41: =calc_gear1!AU39*100 -> 1400 | M41: =calc_gear1!$I639 -> 35 | N41: =IF($C$3=10,"",calc_gear1!$J639) -> 61.5 | O41: =IF($C$3=10,"",calc_gear1!AS639) -> 1 | P41: =calc_gear1!AT639 | Q41: =IF($C$3=10,"",calc_gear1!AU639*100) -> 1400 | S41: =calc_gear1!$I1239 -> 35 | T41: =IF(INT($C$3/10)<=2,"",calc_gear1!$J1239) -> 69.5 | U41: =IF(INT($C$3/10)<=2,"",calc_gear1!AS1239) -> 1 | V41: =calc_gear1!AT1239 | W41: =IF(INT($C$3/10)<=2,"",calc_gear1!AU1239*100) -> 1400
G42: =calc_gear1!$I40 -> 36 | H42: =calc_gear1!$J40 -> 28.7 | I42: =calc_gear1!AS40 -> 1 | J42: =calc_gear1!AT40 | K42: =calc_gear1!AU40*100 -> 1400 | M42: =calc_gear1!$I640 -> 36 | N42: =IF($C$3=10,"",calc_gear1!$J640) -> 62 | O42: =IF($C$3=10,"",calc_gear1!AS640) -> 1 | P42: =calc_gear1!AT640 | Q42: =IF($C$3=10,"",calc_gear1!AU640*100) -> 1400 | S42: =calc_gear1!$I1240 -> 36 | T42: =IF(INT($C$3/10)<=2,"",calc_gear1!$J1240) -> 69.9 | U42: =IF(INT($C$3/10)<=2,"",calc_gear1!AS1240) -> 1 | V42: =calc_gear1!AT1240 | W42: =IF(INT($C$3/10)<=2,"",calc_gear1!AU1240*100) -> 1400
G43: =calc_gear1!$I41 -> 37 | H43: =calc_gear1!$J41 -> 29.2 | I43: =calc_gear1!AS41 -> 1 | J43: =calc_gear1!AT41 | K43: =calc_gear1!AU41*100 -> 1400 | M43: =calc_gear1!$I641 -> 37 | N43: =IF($C$3=10,"",calc_gear1!$J641) -> 62.5 | O43: =IF($C$3=10,"",calc_gear1!AS641) -> 1 | P43: =calc_gear1!AT641 | Q43: =IF($C$3=10,"",calc_gear1!AU641*100) -> 1400 | S43: =calc_gear1!$I1241 -> 37 | T43: =IF(INT($C$3/10)<=2,"",calc_gear1!$J1241) -> 70.6 | U43: =IF(INT($C$3/10)<=2,"",calc_gear1!AS1241) -> 1 | V43: =calc_gear1!AT1241 | W43: =IF(INT($C$3/10)<=2,"",calc_gear1!AU1241*100) -> 1400
G44: =calc_gear1!$I42 -> 38 | H44: =calc_gear1!$J42 -> 29.8 | I44: =calc_gear1!AS42 -> 1 | J44: =calc_gear1!AT42 | K44: =calc_gear1!AU42*100 -> 1400 | M44: =calc_gear1!$I642 -> 38 | N44: =IF($C$3=10,"",calc_gear1!$J642) -> 63 | O44: =IF($C$3=10,"",calc_gear1!AS642) -> 1 | P44: =calc_gear1!AT642 | Q44: =IF($C$3=10,"",calc_gear1!AU642*100) -> 1400 | S44: =calc_gear1!$I1242 -> 38 | T44: =IF(INT($C$3/10)<=2,"",calc_gear1!$J1242) -> 71.3 | U44: =IF(INT($C$3/10)<=2,"",calc_gear1!AS1242) -> 1 | V44: =calc_gear1!AT1242 | W44: =IF(INT($C$3/10)<=2,"",calc_gear1!AU1242*100) -> 1400
G45: =calc_gear1!$I43 -> 39 | H45: =calc_gear1!$J43 -> 30.4 | I45: =calc_gear1!AS43 -> 1 | J45: =calc_gear1!AT43 | K45: =calc_gear1!AU43*100 -> 1400 | M45: =calc_gear1!$I643 -> 39 | N45: =IF($C$3=10,"",calc_gear1!$J643) -> 63.4 | O45: =IF($C$3=10,"",calc_gear1!AS643) -> 1 | P45: =calc_gear1!AT643 | Q45: =IF($C$3=10,"",calc_gear1!AU643*100) -> 1400 | S45: =calc_gear1!$I1243 -> 39 | T45: =IF(INT($C$3/10)<=2,"",calc_gear1!$J1243) -> 72.2 | U45: =IF(INT($C$3/10)<=2,"",calc_gear1!AS1243) -> 1 | V45: =calc_gear1!AT1243 | W45: =IF(INT($C$3/10)<=2,"",calc_gear1!AU1243*100) -> 1400
G46: =calc_gear1!$I44 -> 40 | H46: =calc_gear1!$J44 -> 29.6 | I46: =calc_gear1!AS44 -> 1 | J46: =calc_gear1!AT44 | K46: =calc_gear1!AU44*100 -> 1400 | M46: =calc_gear1!$I644 -> 40 | N46: =IF($C$3=10,"",calc_gear1!$J644) -> 63.7 | O46: =IF($C$3=10,"",calc_gear1!AS644) -> 1 | P46: =calc_gear1!AT644 | Q46: =IF($C$3=10,"",calc_gear1!AU644*100) -> 1400 | S46: =calc_gear1!$I1244 -> 40 | T46: =IF(INT($C$3/10)<=2,"",calc_gear1!$J1244) -> 72.8 | U46: =IF(INT($C$3/10)<=2,"",calc_gear1!AS1244) -> 1 | V46: =calc_gear1!AT1244 | W46: =IF(INT($C$3/10)<=2,"",calc_gear1!AU1244*100) -> 1400
G47: =calc_gear1!$I45 -> 41 | H47: =calc_gear1!$J45 -> 28.7 | I47: =calc_gear1!AS45 -> 1 | J47: =calc_gear1!AT45 | K47: =calc_gear1!AU45*100 -> 1400 | M47: =calc_gear1!$I645 -> 41 | N47: =IF($C$3=10,"",calc_gear1!$J645) -> 63.8 | O47: =IF($C$3=10,"",calc_gear1!AS645) -> 1 | P47: =calc_gear1!AT645 | Q47: =IF($C$3=10,"",calc_gear1!AU645*100) -> 1400 | S47: =calc_gear1!$I1245 -> 41 | T47: =IF(INT($C$3/10)<=2,"",calc_gear1!$J1245) -> 73.2 | U47: =IF(INT($C$3/10)<=2,"",calc_gear1!AS1245) -> 1 | V47: =calc_gear1!AT1245 | W47: =IF(INT($C$3/10)<=2,"",calc_gear1!AU1245*100) -> 1400
G48: =calc_gear1!$I46 -> 42 | H48: =calc_gear1!$J46 -> 27.9 | I48: =calc_gear1!AS46 -> 1 | J48: =calc_gear1!AT46 | K48: =calc_gear1!AU46*100 -> 1400 | M48: =calc_gear1!$I646 -> 42 | N48: =IF($C$3=10,"",calc_gear1!$J646) -> 63.9 | O48: =IF($C$3=10,"",calc_gear1!AS646) -> 1 | P48: =calc_gear1!AT646 | Q48: =IF($C$3=10,"",calc_gear1!AU646*100) -> 1400 | S48: =calc_gear1!$I1246 -> 42 | T48: =IF(INT($C$3/10)<=2,"",calc_gear1!$J1246) -> 73.4 | U48: =IF(INT($C$3/10)<=2,"",calc_gear1!AS1246) -> 1 | V48: =calc_gear1!AT1246 | W48: =IF(INT($C$3/10)<=2,"",calc_gear1!AU1246*100) -> 1400
G49: =calc_gear1!$I47 -> 43 | H49: =calc_gear1!$J47 -> 27.5 | I49: =calc_gear1!AS47 -> 1 | J49: =calc_gear1!AT47 | K49: =calc_gear1!AU47*100 -> 1400 | M49: =calc_gear1!$I647 -> 43 | N49: =IF($C$3=10,"",calc_gear1!$J647) -> 63.8 | O49: =IF($C$3=10,"",calc_gear1!AS647) -> 1 | P49: =calc_gear1!AT647 | Q49: =IF($C$3=10,"",calc_gear1!AU647*100) -> 1400 | S49: =calc_gear1!$I1247 -> 43 | T49: =IF(INT($C$3/10)<=2,"",calc_gear1!$J1247) -> 73.8 | U49: =IF(INT($C$3/10)<=2,"",calc_gear1!AS1247) -> 1 | V49: =calc_gear1!AT1247 | W49: =IF(INT($C$3/10)<=2,"",calc_gear1!AU1247*100) -> 1400
... G605: =calc_gear1!$I603 -> 599 | H605: =calc_gear1!$J603 -> 0 | I605: =calc_gear1!AS603 -> 0 | J605: =calc_gear1!AT603 | K605: =calc_gear1!AU603*100 -> 1400 | M605: =calc_gear1!$I1203 -> 599 | N605: =IF($C$3=10,"",calc_gear1!$J1203) -> 0 | O605: =IF($C$3=10,"",calc_gear1!AS1203) -> 0 | P605: =calc_gear1!AT1203 | Q605: =IF($C$3=10,"",calc_gear1!AU1203*100) -> 1400 | S605: =calc_gear1!$I1803 -> 599 | T605: =IF(INT($C$3/10)<=2,"",calc_gear1!$J1803) -> 0 | U605: =IF(INT($C$3/10)<=2,"",calc_gear1!AS1803) -> 0 | V605: =calc_gear1!AT1803 | W605: =IF(INT($C$3/10)<=2,"",calc_gear1!AU1803*100) -> 1400
G606: Part2_0 | H606: =calc_gear1!$J604 -> 0 | I606: =calc_gear1!AS604 -> 0 | J606: =calc_gear1!AT604 | K606: =calc_gear1!AU604*100 -> 1400 | M606: Part3_0 | N606: =IF($C$3=10,"",calc_gear1!$J1204) -> 0 | O606: =IF($C$3=10,"",calc_gear1!AS1204) -> 0 | P606: =calc_gear1!AT1204 | Q606: =IF($C$3=10,"",calc_gear1!AU1204*100) -> 1400 | S606: =calc_gear1!$I1804 -> 600 | T606: =IF(INT($C$3/10)<=2,"",calc_gear1!$J1804) -> 0 | U606: =IF(INT($C$3/10)<=2,"",calc_gear1!AS1804) -> 0 | V606: =calc_gear1!AT1804 | W606: =IF(INT($C$3/10)<=2,"",calc_gear1!AU1804*100) -> 1400

Sheet phase_chart
A1: time(0-1800) | B1: time | C1: acc_class1 | D1: cru_class1 | E1: dec_class1 | G1: acc_class21 | H1: cru_class21 | I1: dec_class21 | K1: acc_class22 | L1: cru_class22 | M1: dec_class22 | O1: acc_class31 | P1: cru_class31 | Q1: dec_class31 | S1: acc_class32 | T1: cru_class32 | U1: dec_class32
A2: 1 | B2: 1 | C2: FALSE | D2: FALSE | E2: FALSE | G2: =C2 -> FALSE | H2: =D2 -> FALSE | I2: =E2 -> FALSE | K2: FALSE | L2: FALSE | M2: FALSE | N2: 1 | O2: =K2 -> FALSE | P2: =L2 -> FALSE | Q2: =M2 -> FALSE | S2: =K2 -> FALSE | T2: =L2 -> FALSE | U2: =M2 -> FALSE | W2: =A2 -> 1 | X2: ='v-t_chart'!C2 -> 0 | Y2: =IF(S2=TRUE,105,100) -> 100 | Z2: =IF(T2=TRUE,115,110) -> 110 | AA2: =IF(U2=TRUE,95,90) -> 90 | AB2: =calc_gear1!AS5*5+50 -> 50 | AC2: =IF(AND(calc_gear1!AT5=-1,calc_gear1!Z5=1),calc_gear1!AS5*5+50.5,IF(AND(calc_gear1!Y5=0,AB1-AC1=-0.5),calc_gear1!AS5*5+50.5,calc_gear1!O5*5+50.5)) -> 50.5
A3: 2 | B3: 2 | C3: FALSE | D3: FALSE | E3: FALSE | G3: =C3 -> FALSE | H3: =D3 -> FALSE | I3: =E3 -> FALSE | K3: FALSE | L3: FALSE | M3: FALSE | N3: 2 | O3: =K3 -> FALSE | P3: =L3 -> FALSE | Q3: =M3 -> FALSE | S3: =K3 -> FALSE | T3: =L3 -> FALSE | U3: =M3 -> FALSE | W3: =A3 -> 2 | X3: ='v-t_chart'!C3 -> 0 | Y3: =IF(S3=TRUE,105,100) -> 100 | Z3: =IF(T3=TRUE,115,110) -> 110 | AA3: =IF(U3=TRUE,95,90) -> 90 | AB3: =calc_gear1!AS6*5+50 -> 50 | AC3: =IF(AND(calc_gear1!AT6=-1,calc_gear1!Z6=1),calc_gear1!AS6*5+50.5,IF(AND(calc_gear1!Y6=0,AB2-AC2=-0.5),calc_gear1!AS6*5+50.5,calc_gear1!O6*5+50.5)) -> 50.5
A4: 3 | B4: 3 | C4: FALSE | D4: FALSE | E4: FALSE | G4: =C4 -> FALSE | H4: =D4 -> FALSE | I4: =E4 -> FALSE | K4: FALSE | L4: FALSE | M4: FALSE | N4: 3 | O4: =K4 -> FALSE | P4: =L4 -> FALSE | Q4: =M4 -> FALSE | S4: =K4 -> FALSE | T4: =L4 -> FALSE | U4: =M4 -> FALSE | W4: =A4 -> 3 | X4: ='v-t_chart'!C4 -> 0 | Y4: =IF(S4=TRUE,105,100) -> 100 | Z4: =IF(T4=TRUE,115,110) -> 110 | AA4: =IF(U4=TRUE,95,90) -> 90 | AB4: =calc_gear1!AS7*5+50 -> 50 | AC4: =IF(AND(calc_gear1!AT7=-1,calc_gear1!Z7=1),calc_gear1!AS7*5+50.5,IF(AND(calc_gear1!Y7=0,AB3-AC3=-0.5),calc_gear1!AS7*5+50.5,calc_gear1!O7*5+50.5)) -> 50.5
A5: 4 | B5: 4 | C5: FALSE | D5: FALSE | E5: FALSE | G5: =C5 -> FALSE | H5: =D5 -> FALSE | I5: =E5 -> FALSE | K5: FALSE | L5: FALSE | M5: FALSE | N5: 4 | O5: =K5 -> FALSE | P5: =L5 -> FALSE | Q5: =M5 -> FALSE | S5: =K5 -> FALSE | T5: =L5 -> FALSE | U5: =M5 -> FALSE | W5: =A5 -> 4 | X5: ='v-t_chart'!C5 -> 0 | Y5: =IF(S5=TRUE,105,100) -> 100 | Z5: =IF(T5=TRUE,115,110) -> 110 | AA5: =IF(U5=TRUE,95,90) -> 90 | AB5: =calc_gear1!AS8*5+50 -> 50 | AC5: =IF(AND(calc_gear1!AT8=-1,calc_gear1!Z8=1),calc_gear1!AS8*5+50.5,IF(AND(calc_gear1!Y8=0,AB4-AC4=-0.5),calc_gear1!AS8*5+50.5,calc_gear1!O8*5+50.5)) -> 50.5
A6: 5 | B6: 5 | C6: FALSE | D6: FALSE | E6: FALSE | G6: =C6 -> FALSE | H6: =D6 -> FALSE | I6: =E6 -> FALSE | K6: FALSE | L6: FALSE | M6: FALSE | N6: 5 | O6: =K6 -> FALSE | P6: =L6 -> FALSE | Q6: =M6 -> FALSE | S6: =K6 -> FALSE | T6: =L6 -> FALSE | U6: =M6 -> FALSE | W6: =A6 -> 5 | X6: ='v-t_chart'!C6 -> 0 | Y6: =IF(S6=TRUE,105,100) -> 100 | Z6: =IF(T6=TRUE,115,110) -> 110 | AA6: =IF(U6=TRUE,95,90) -> 90 | AB6: =calc_gear1!AS9*5+50 -> 50 | AC6: =IF(AND(calc_gear1!AT9=-1,calc_gear1!Z9=1),calc_gear1!AS9*5+50.5,IF(AND(calc_gear1!Y9=0,AB5-AC5=-0.5),calc_gear1!AS9*5+50.5,calc_gear1!O9*5+50.5)) -> 50.5
A7: 6 | B7: 6 | C7: FALSE | D7: FALSE | E7: FALSE | G7: =C7 -> FALSE | H7: =D7 -> FALSE | I7: =E7 -> FALSE | K7: FALSE | L7: FALSE | M7: FALSE | N7: 6 | O7: =K7 -> FALSE | P7: =L7 -> FALSE | Q7: =M7 -> FALSE | S7: =K7 -> FALSE | T7: =L7 -> FALSE | U7: =M7 -> FALSE | W7: =A7 -> 6 | X7: ='v-t_chart'!C7 -> 0 | Y7: =IF(S7=TRUE,105,100) -> 100 | Z7: =IF(T7=TRUE,115,110) -> 110 | AA7: =IF(U7=TRUE,95,90) -> 90 | AB7: =calc_gear1!AS10*5+50 -> 50 | AC7: =IF(AND(calc_gear1!AT10=-1,calc_gear1!Z10=1),calc_gear1!AS10*5+50.5,IF(AND(calc_gear1!Y10=0,AB6-AC6=-0.5),calc_gear1!AS10*5+50.5,calc_gear1!O10*5+50.5)) -> 50.5
A8: 7 | B8: 7 | C8: FALSE | D8: FALSE | E8: FALSE | G8: =C8 -> FALSE | H8: =D8 -> FALSE | I8: =E8 -> FALSE | K8: FALSE | L8: FALSE | M8: FALSE | N8: 7 | O8: =K8 -> FALSE | P8: =L8 -> FALSE | Q8: =M8 -> FALSE | S8: =K8 -> FALSE | T8: =L8 -> FALSE | U8: =M8 -> FALSE | W8: =A8 -> 7 | X8: ='v-t_chart'!C8 -> 0 | Y8: =IF(S8=TRUE,105,100) -> 100 | Z8: =IF(T8=TRUE,115,110) -> 110 | AA8: =IF(U8=TRUE,95,90) -> 90 | AB8: =calc_gear1!AS11*5+50 -> 50 | AC8: =IF(AND(calc_gear1!AT11=-1,calc_gear1!Z11=1),calc_gear1!AS11*5+50.5,IF(AND(calc_gear1!Y11=0,AB7-AC7=-0.5),calc_gear1!AS11*5+50.5,calc_gear1!O11*5+50.5)) -> 50.5
A9: 8 | B9: 8 | C9: FALSE | D9: FALSE | E9: FALSE | G9: =C9 -> FALSE | H9: =D9 -> FALSE | I9: =E9 -> FALSE | K9: FALSE | L9: FALSE | M9: FALSE | N9: 8 | O9: =K9 -> FALSE | P9: =L9 -> FALSE | Q9: =M9 -> FALSE | S9: =K9 -> FALSE | T9: =L9 -> FALSE | U9: =M9 -> FALSE | W9: =A9 -> 8 | X9: ='v-t_chart'!C9 -> 0 | Y9: =IF(S9=TRUE,105,100) -> 100 | Z9: =IF(T9=TRUE,115,110) -> 110 | AA9: =IF(U9=TRUE,95,90) -> 90 | AB9: =calc_gear1!AS12*5+50 -> 50 | AC9: =IF(AND(calc_gear1!AT12=-1,calc_gear1!Z12=1),calc_gear1!AS12*5+50.5,IF(AND(calc_gear1!Y12=0,AB8-AC8=-0.5),calc_gear1!AS12*5+50.5,calc_gear1!O12*5+50.5)) -> 50.5
A10: 9 | B10: 9 | C10: FALSE | D10: FALSE | E10: FALSE | G10: =C10 -> FALSE | H10: =D10 -> FALSE | I10: =E10 -> FALSE | K10: FALSE | L10: FALSE | M10: FALSE | N10: 9 | O10: =K10 -> FALSE | P10: =L10 -> FALSE | Q10: =M10 -> FALSE | S10: =K10 -> FALSE | T10: =L10 -> FALSE | U10: =M10 -> FALSE | W10: =A10 -> 9 | X10: ='v-t_chart'!C10 -> 0 | Y10: =IF(S10=TRUE,105,100) -> 100 | Z10: =IF(T10=TRUE,115,110) -> 110 | AA10: =IF(U10=TRUE,95,90) -> 90 | AB10: =calc_gear1!AS13*5+50 -> 50 | AC10: =IF(AND(calc_gear1!AT13=-1,calc_gear1!Z13=1),calc_gear1!AS13*5+50.5,IF(AND(calc_gear1!Y13=0,AB9-AC9=-0.5),calc_gear1!AS13*5+50.5,calc_gear1!O13*5+50.5)) -> 50.5
A11: 10 | B11: 10 | C11: FALSE | D11: FALSE | E11: FALSE | G11: =C11 -> FALSE | H11: =D11 -> FALSE | I11: =E11 -> FALSE | K11: FALSE | L11: FALSE | M11: FALSE | N11: 10 | O11: =K11 -> FALSE | P11: =L11 -> FALSE | Q11: =M11 -> FALSE | S11: =K11 -> FALSE | T11: =L11 -> FALSE | U11: =M11 -> FALSE | W11: =A11 -> 10 | X11: ='v-t_chart'!C11 -> 0 | Y11: =IF(S11=TRUE,105,100) -> 100 | Z11: =IF(T11=TRUE,115,110) -> 110 | AA11: =IF(U11=TRUE,95,90) -> 90 | AB11: =calc_gear1!AS14*5+50 -> 50 | AC11: =IF(AND(calc_gear1!AT14=-1,calc_gear1!Z14=1),calc_gear1!AS14*5+50.5,IF(AND(calc_gear1!Y14=0,AB10-AC10=-0.5),calc_gear1!AS14*5+50.5,calc_gear1!O14*5+50.5)) -> 50.5
A12: 11 | B12: 11 | C12: FALSE | D12: FALSE | E12: FALSE | G12: =C12 -> FALSE | H12: =D12 -> FALSE | I12: =E12 -> FALSE | K12: FALSE | L12: FALSE | M12: FALSE | N12: 11 | O12: =K12 -> FALSE | P12: =L12 -> FALSE | Q12: =M12 -> FALSE | S12: =K12 -> FALSE | T12: =L12 -> FALSE | U12: =M12 -> FALSE | W12: =A12 -> 11 | X12: ='v-t_chart'!C12 -> 0 | Y12: =IF(S12=TRUE,105,100) -> 100 | Z12: =IF(T12=TRUE,115,110) -> 110 | AA12: =IF(U12=TRUE,95,90) -> 90 | AB12: =calc_gear1!AS15*5+50 -> 50 | AC12: =IF(AND(calc_gear1!AT15=-1,calc_gear1!Z15=1),calc_gear1!AS15*5+50.5,IF(AND(calc_gear1!Y15=0,AB11-AC11=-0.5),calc_gear1!AS15*5+50.5,calc_gear1!O15*5+50.5)) -> 50.5
A13: 12 | B13: 12 | C13: FALSE | D13: FALSE | E13: FALSE | G13: =C13 -> FALSE | H13: =D13 -> FALSE | I13: =E13 -> FALSE | K13: FALSE | L13: FALSE | M13: FALSE | N13: 12 | O13: =K13 -> FALSE | P13: =L13 -> FALSE | Q13: =M13 -> FALSE | S13: =K13 -> FALSE | T13: =L13 -> FALSE | U13: =M13 -> FALSE | W13: =A13 -> 12 | X13: ='v-t_chart'!C13 -> 0 | Y13: =IF(S13=TRUE,105,100) -> 100 | Z13: =IF(T13=TRUE,115,110) -> 110 | AA13: =IF(U13=TRUE,95,90) -> 90 | AB13: =calc_gear1!AS16*5+50 -> 50 | AC13: =IF(AND(calc_gear1!AT16=-1,calc_gear1!Z16=1),calc_gear1!AS16*5+50.5,IF(AND(calc_gear1!Y16=0,AB12-AC12=-0.5),calc_gear1!AS16*5+50.5,calc_gear1!O16*5+50.5)) -> 50.5
... A601: 600 | B601: 600 | C601: FALSE | D601: FALSE | E601: FALSE | G601: =C601 -> FALSE | H601: =D601 -> FALSE | I601: =E601 -> FALSE | K601: FALSE | L601: FALSE | M601: FALSE | N601: 600 | O601: =K601 -> FALSE | P601: =L601 -> FALSE | Q601: =M601 -> FALSE | S601: =K601 -> FALSE | T601: =L601 -> FALSE | U601: =M601 -> FALSE | W601: =A601 -> 600 | X601: ='v-t_chart'!C601 -> 0 | Y601: =IF(S601=TRUE,105,100) -> 100 | Z601: =IF(T601=TRUE,115,110) -> 110 | AA601: =IF(U601=TRUE,95,90) -> 90 | AB601: =calc_gear1!AS604*5+50 -> 50 | AC601: =IF(AND(calc_gear1!AT604=-1,calc_gear1!Z604=1),calc_gear1!AS604*5+50.5,IF(AND(calc_gear1!Y604=0,AB600-AC600=-0.5),calc_gear1!AS604*5+50.5,calc_gear1!O604*5+50.5)) -> 50.5
A602: 601 | B602: 1 | F602: 1 | G602: FALSE | H602: FALSE | I602: FALSE | K602: FALSE | L602: FALSE | M602: FALSE | N602: 1 | O602: =K602 -> FALSE | P602: =L602 -> FALSE | Q602: =M602 -> FALSE | S602: =K602 -> FALSE | T602: =L602 -> FALSE | U602: =M602 -> FALSE | W602: =A602 -> 601 | X602: ='v-t_chart'!C602 -> 0 | Y602: =IF(S602=TRUE,105,100) -> 100 | Z602: =IF(T602=TRUE,115,110) -> 110 | AA602: =IF(U602=TRUE,95,90) -> 90 | AB602: =calc_gear1!AS605*5+50 -> 50 | AC602: =IF(AND(calc_gear1!AT605=-1,calc_gear1!Z605=1),calc_gear1!AS605*5+50.5,IF(AND(calc_gear1!Y605=0,AB601-AC601=-0.5),calc_gear1!AS605*5+50.5,calc_gear1!O605*5+50.5)) -> 50.5
A603: 602 | B603: 2 | F603: 2 | G603: FALSE | H603: FALSE | I603: FALSE | K603: FALSE | L603: FALSE | M603: FALSE | N603: 2 | O603: =K603 -> FALSE | P603: =L603 -> FALSE | Q603: =M603 -> FALSE | S603: =K603 -> FALSE | T603: =L603 -> FALSE | U603: =M603 -> FALSE | W603: =A603 -> 602 | X603: ='v-t_chart'!C603 -> 0 | Y603: =IF(S603=TRUE,105,100) -> 100 | Z603: =IF(T603=TRUE,115,110) -> 110 | AA603: =IF(U603=TRUE,95,90) -> 90 | AB603: =calc_gear1!AS606*5+50 -> 50 | AC603: =IF(AND(calc_gear1!AT606=-1,calc_gear1!Z606=1),calc_gear1!AS606*5+50.5,IF(AND(calc_gear1!Y606=0,AB602-AC602=-0.5),calc_gear1!AS606*5+50.5,calc_gear1!O606*5+50.5)) -> 50.5
A604: 603 | B604: 3 | F604: 3 | G604: FALSE | H604: FALSE | I604: FALSE | K604: FALSE | L604: FALSE | M604: FALSE | N604: 3 | O604: =K604 -> FALSE | P604: =L604 -> FALSE | Q604: =M604 -> FALSE | S604: =K604 -> FALSE | T604: =L604 -> FALSE | U604: =M604 -> FALSE | W604: =A604 -> 603 | X604: ='v-t_chart'!C604 -> 0 | Y604: =IF(S604=TRUE,105,100) -> 100 | Z604: =IF(T604=TRUE,115,110) -> 110 | AA604: =IF(U604=TRUE,95,90) -> 90 | AB604: =calc_gear1!AS607*5+50 -> 50 | AC604: =IF(AND(calc_gear1!AT607=-1,calc_gear1!Z607=1),calc_gear1!AS607*5+50.5,IF(AND(calc_gear1!Y607=0,AB603-AC603=-0.5),calc_gear1!AS607*5+50.5,calc_gear1!O607*5+50.5)) -> 50.5
A605: 604 | B605: 4 | F605: 4 | G605: FALSE | H605: FALSE | I605: FALSE | K605: FALSE | L605: FALSE | M605: FALSE | N605: 4 | O605: =K605 -> FALSE | P605: =L605 -> FALSE | Q605: =M605 -> FALSE | S605: =K605 -> FALSE | T605: =L605 -> FALSE | U605: =M605 -> FALSE | W605: =A605 -> 604 | X605: ='v-t_chart'!C605 -> 0 | Y605: =IF(S605=TRUE,105,100) -> 100 | Z605: =IF(T605=TRUE,115,110) -> 110 | AA605: =IF(U605=TRUE,95,90) -> 90 | AB605: =calc_gear1!AS608*5+50 -> 55 | AC605: =IF(AND(calc_gear1!AT608=-1,calc_gear1!Z608=1),calc_gear1!AS608*5+50.5,IF(AND(calc_gear1!Y608=0,AB604-AC604=-0.5),calc_gear1!AS608*5+50.5,calc_gear1!O608*5+50.5)) -> 55.5
A606: 605 | B606: 5 | F606: 5 | G606: FALSE | H606: FALSE | I606: FALSE | K606: FALSE | L606: FALSE | M606: FALSE | N606: 5 | O606: =K606 -> FALSE | P606: =L606 -> FALSE | Q606: =M606 -> FALSE | S606: =K606 -> FALSE | T606: =L606 -> FALSE | U606: =M606 -> FALSE | W606: =A606 -> 605 | X606: ='v-t_chart'!C606 -> 0 | Y606: =IF(S606=TRUE,105,100) -> 100 | Z606: =IF(T606=TRUE,115,110) -> 110 | AA606: =IF(U606=TRUE,95,90) -> 90 | AB606: =calc_gear1!AS609*5+50 -> 55 | AC606: =IF(AND(calc_gear1!AT609=-1,calc_gear1!Z609=1),calc_gear1!AS609*5+50.5,IF(AND(calc_gear1!Y609=0,AB605-AC605=-0.5),calc_gear1!AS609*5+50.5,calc_gear1!O609*5+50.5)) -> 55.5
A607: 606 | B607: 6 | F607: 6 | G607: FALSE | H607: FALSE | I607: FALSE | K607: FALSE | L607: FALSE | M607: FALSE | N607: 6 | O607: =K607 -> FALSE | P607: =L607 -> FALSE | Q607: =M607 -> FALSE | S607: =K607 -> FALSE | T607: =L607 -> FALSE | U607: =M607 -> FALSE | W607: =A607 -> 606 | X607: ='v-t_chart'!C607 -> 0 | Y607: =IF(S607=TRUE,105,100) -> 100 | Z607: =IF(T607=TRUE,115,110) -> 110 | AA607: =IF(U607=TRUE,95,90) -> 90 | AB607: =calc_gear1!AS610*5+50 -> 55 | AC607: =IF(AND(calc_gear1!AT610=-1,calc_gear1!Z610=1),calc_gear1!AS610*5+50.5,IF(AND(calc_gear1!Y610=0,AB606-AC606=-0.5),calc_gear1!AS610*5+50.5,calc_gear1!O610*5+50.5)) -> 55.5
A608: 607 | B608: 7 | F608: 7 | G608: FALSE | H608: FALSE | I608: FALSE | K608: FALSE | L608: FALSE | M608: FALSE | N608: 7 | O608: =K608 -> FALSE | P608: =L608 -> FALSE | Q608: =M608 -> FALSE | S608: =K608 -> FALSE | T608: =L608 -> FALSE | U608: =M608 -> FALSE | W608: =A608 -> 607 | X608: ='v-t_chart'!C608 -> 0 | Y608: =IF(S608=TRUE,105,100) -> 100 | Z608: =IF(T608=TRUE,115,110) -> 110 | AA608: =IF(U608=TRUE,95,90) -> 90 | AB608: =calc_gear1!AS611*5+50 -> 55 | AC608: =IF(AND(calc_gear1!AT611=-1,calc_gear1!Z611=1),calc_gear1!AS611*5+50.5,IF(AND(calc_gear1!Y611=0,AB607-AC607=-0.5),calc_gear1!AS611*5+50.5,calc_gear1!O611*5+50.5)) -> 55.5
A609: 608 | B609: 8 | F609: 8 | G609: FALSE | H609: FALSE | I609: FALSE | K609: FALSE | L609: FALSE | M609: FALSE | N609: 8 | O609: =K609 -> FALSE | P609: =L609 -> FALSE | Q609: =M609 -> FALSE | S609: =K609 -> FALSE | T609: =L609 -> FALSE | U609: =M609 -> FALSE | W609: =A609 -> 608 | X609: ='v-t_chart'!C609 -> 0 | Y609: =IF(S609=TRUE,105,100) -> 100 | Z609: =IF(T609=TRUE,115,110) -> 110 | AA609: =IF(U609=TRUE,95,90) -> 90 | AB609: =calc_gear1!AS612*5+50 -> 55 | AC609: =IF(AND(calc_gear1!AT612=-1,calc_gear1!Z612=1),calc_gear1!AS612*5+50.5,IF(AND(calc_gear1!Y612=0,AB608-AC608=-0.5),calc_gear1!AS612*5+50.5,calc_gear1!O612*5+50.5)) -> 55.5
A610: 609 | B610: 9 | F610: 9 | G610: TRUE | H610: FALSE | I610: FALSE | K610: TRUE | L610: FALSE | M610: FALSE | N610: 9 | O610: =K610 -> TRUE | P610: =L610 -> FALSE | Q610: =M610 -> FALSE | S610: =K610 -> TRUE | T610: =L610 -> FALSE | U610: =M610 -> FALSE | W610: =A610 -> 609 | X610: ='v-t_chart'!C610 -> 2.3 | Y610: =IF(S610=TRUE,105,100) -> 105 | Z610: =IF(T610=TRUE,115,110) -> 110 | AA610: =IF(U610=TRUE,95,90) -> 90 | AB610: =calc_gear1!AS613*5+50 -> 55 | AC610: =IF(AND(calc_gear1!AT613=-1,calc_gear1!Z613=1),calc_gear1!AS613*5+50.5,IF(AND(calc_gear1!Y613=0,AB609-AC609=-0.5),calc_gear1!AS613*5+50.5,calc_gear1!O613*5+50.5)) -> 50.5
A611: 610 | B611: 10 | F611: 10 | G611: TRUE | H611: FALSE | I611: FALSE | K611: TRUE | L611: FALSE | M611: FALSE | N611: 10 | O611: =K611 -> TRUE | P611: =L611 -> FALSE | Q611: =M611 -> FALSE | S611: =K611 -> TRUE | T611: =L611 -> FALSE | U611: =M611 -> FALSE | W611: =A611 -> 610 | X611: ='v-t_chart'!C611 -> 7.3 | Y611: =IF(S611=TRUE,105,100) -> 105 | Z611: =IF(T611=TRUE,115,110) -> 110 | AA611: =IF(U611=TRUE,95,90) -> 90 | AB611: =calc_gear1!AS614*5+50 -> 55 | AC611: =IF(AND(calc_gear1!AT614=-1,calc_gear1!Z614=1),calc_gear1!AS614*5+50.5,IF(AND(calc_gear1!Y614=0,AB610-AC610=-0.5),calc_gear1!AS614*5+50.5,calc_gear1!O614*5+50.5)) -> 50.5
A612: 611 | B612: 11 | F612: 11 | G612: TRUE | H612: FALSE | I612: FALSE | K612: TRUE | L612: FALSE | M612: FALSE | N612: 11 | O612: =K612 -> TRUE | P612: =L612 -> FALSE | Q612: =M612 -> FALSE | S612: =K612 -> TRUE | T612: =L612 -> FALSE | U612: =M612 -> FALSE | W612: =A612 -> 611 | X612: ='v-t_chart'!C612 -> 15.2 | Y612: =IF(S612=TRUE,105,100) -> 105 | Z612: =IF(T612=TRUE,115,110) -> 110 | AA612: =IF(U612=TRUE,95,90) -> 90 | AB612: =calc_gear1!AS615*5+50 -> 55 | AC612: =IF(AND(calc_gear1!AT615=-1,calc_gear1!Z615=1),calc_gear1!AS615*5+50.5,IF(AND(calc_gear1!Y615=0,AB611-AC611=-0.5),calc_gear1!AS615*5+50.5,calc_gear1!O615*5+50.5)) -> 50.5
A613: 612 | B613: 12 | F613: 12 | G613: TRUE | H613: FALSE | I613: FALSE | K613: TRUE | L613: FALSE | M613: FALSE | N613: 12 | O613: =K613 -> TRUE | P613: =L613 -> FALSE | Q613: =M613 -> FALSE | S613: =K613 -> TRUE | T613: =L613 -> FALSE | U613: =M613 -> FALSE | W613: =A613 -> 612 | X613: ='v-t_chart'!C613 -> 23.9 | Y613: =IF(S613=TRUE,105,100) -> 105 | Z613: =IF(T613=TRUE,115,110) -> 110 | AA613: =IF(U613=TRUE,95,90) -> 90 | AB613: =calc_gear1!AS616*5+50 -> 55 | AC613: =IF(AND(calc_gear1!AT616=-1,calc_gear1!Z616=1),calc_gear1!AS616*5+50.5,IF(AND(calc_gear1!Y616=0,AB612-AC612=-0.5),calc_gear1!AS616*5+50.5,calc_gear1!O616*5+50.5)) -> 50.5
... A1201: 1200 | B1201: 600 | F1201: 600 | G1201: FALSE | H1201: FALSE | I1201: FALSE | K1201: FALSE | L1201: FALSE | M1201: FALSE | N1201: 600 | O1201: =K1201 -> FALSE | P1201: =L1201 -> FALSE | Q1201: =M1201 -> FALSE | S1201: =K1201 -> FALSE | T1201: =L1201 -> FALSE | U1201: =M1201 -> FALSE | W1201: =A1201 -> 1200 | X1201: ='v-t_chart'!C1201 -> 0 | Y1201: =IF(S1201=TRUE,105,100) -> 100 | Z1201: =IF(T1201=TRUE,115,110) -> 110 | AA1201: =IF(U1201=TRUE,95,90) -> 90 | AB1201: =calc_gear1!AS1204*5+50 -> 50 | AC1201: =IF(AND(calc_gear1!AT1204=-1,calc_gear1!Z1204=1),calc_gear1!AS1204*5+50.5,IF(AND(calc_gear1!Y1204=0,AB1200-AC1200=-0.5),calc_gear1!AS1204*5+50.5,calc_gear1!O1204*5+50.5)) -> 50.5
A1202: 1201 | B1202: 1 | N1202: 1 | O1202: FALSE | P1202: FALSE | Q1202: FALSE | S1202: FALSE | T1202: FALSE | U1202: FALSE | W1202: =A1202 -> 1201 | X1202: ='v-t_chart'!C1202 -> 0 | Y1202: =IF(S1202=TRUE,105,100) -> 100 | Z1202: =IF(T1202=TRUE,115,110) -> 110 | AA1202: =IF(U1202=TRUE,95,90) -> 90 | AB1202: =calc_gear1!AS1205*5+50 -> 50 | AC1202: =IF(AND(calc_gear1!AT1205=-1,calc_gear1!Z1205=1),calc_gear1!AS1205*5+50.5,IF(AND(calc_gear1!Y1205=0,AB1201-AC1201=-0.5),calc_gear1!AS1205*5+50.5,calc_gear1!O1205*5+50.5)) -> 50.5
A1203: 1202 | B1203: 2 | N1203: 2 | O1203: FALSE | P1203: FALSE | Q1203: FALSE | S1203: FALSE | T1203: FALSE | U1203: FALSE | W1203: =A1203 -> 1202 | X1203: ='v-t_chart'!C1203 -> 0 | Y1203: =IF(S1203=TRUE,105,100) -> 100 | Z1203: =IF(T1203=TRUE,115,110) -> 110 | AA1203: =IF(U1203=TRUE,95,90) -> 90 | AB1203: =calc_gear1!AS1206*5+50 -> 50 | AC1203: =IF(AND(calc_gear1!AT1206=-1,calc_gear1!Z1206=1),calc_gear1!AS1206*5+50.5,IF(AND(calc_gear1!Y1206=0,AB1202-AC1202=-0.5),calc_gear1!AS1206*5+50.5,calc_gear1!O1206*5+50.5)) -> 50.5
A1204: 1203 | B1204: 3 | N1204: 3 | O1204: FALSE | P1204: FALSE | Q1204: FALSE | S1204: FALSE | T1204: FALSE | U1204: FALSE | W1204: =A1204 -> 1203 | X1204: ='v-t_chart'!C1204 -> 0 | Y1204: =IF(S1204=TRUE,105,100) -> 100 | Z1204: =IF(T1204=TRUE,115,110) -> 110 | AA1204: =IF(U1204=TRUE,95,90) -> 90 | AB1204: =calc_gear1!AS1207*5+50 -> 55 | AC1204: =IF(AND(calc_gear1!AT1207=-1,calc_gear1!Z1207=1),calc_gear1!AS1207*5+50.5,IF(AND(calc_gear1!Y1207=0,AB1203-AC1203=-0.5),calc_gear1!AS1207*5+50.5,calc_gear1!O1207*5+50.5)) -> 55.5
A1205: 1204 | B1205: 4 | N1205: 4 | O1205: FALSE | P1205: FALSE | Q1205: FALSE | S1205: FALSE | T1205: FALSE | U1205: FALSE | W1205: =A1205 -> 1204 | X1205: ='v-t_chart'!C1205 -> 0 | Y1205: =IF(S1205=TRUE,105,100) -> 100 | Z1205: =IF(T1205=TRUE,115,110) -> 110 | AA1205: =IF(U1205=TRUE,95,90) -> 90 | AB1205: =calc_gear1!AS1208*5+50 -> 55 | AC1205: =IF(AND(calc_gear1!AT1208=-1,calc_gear1!Z1208=1),calc_gear1!AS1208*5+50.5,IF(AND(calc_gear1!Y1208=0,AB1204-AC1204=-0.5),calc_gear1!AS1208*5+50.5,calc_gear1!O1208*5+50.5)) -> 55.5
A1206: 1205 | B1206: 5 | N1206: 5 | O1206: FALSE | P1206: FALSE | Q1206: FALSE | S1206: FALSE | T1206: FALSE | U1206: FALSE | W1206: =A1206 -> 1205 | X1206: ='v-t_chart'!C1206 -> 0 | Y1206: =IF(S1206=TRUE,105,100) -> 100 | Z1206: =IF(T1206=TRUE,115,110) -> 110 | AA1206: =IF(U1206=TRUE,95,90) -> 90 | AB1206: =calc_gear1!AS1209*5+50 -> 55 | AC1206: =IF(AND(calc_gear1!AT1209=-1,calc_gear1!Z1209=1),calc_gear1!AS1209*5+50.5,IF(AND(calc_gear1!Y1209=0,AB1205-AC1205=-0.5),calc_gear1!AS1209*5+50.5,calc_gear1!O1209*5+50.5)) -> 55.5
A1207: 1206 | B1207: 6 | N1207: 6 | O1207: FALSE | P1207: FALSE | Q1207: FALSE | S1207: FALSE | T1207: FALSE | U1207: FALSE | W1207: =A1207 -> 1206 | X1207: ='v-t_chart'!C1207 -> 0 | Y1207: =IF(S1207=TRUE,105,100) -> 100 | Z1207: =IF(T1207=TRUE,115,110) -> 110 | AA1207: =IF(U1207=TRUE,95,90) -> 90 | AB1207: =calc_gear1!AS1210*5+50 -> 55 | AC1207: =IF(AND(calc_gear1!AT1210=-1,calc_gear1!Z1210=1),calc_gear1!AS1210*5+50.5,IF(AND(calc_gear1!Y1210=0,AB1206-AC1206=-0.5),calc_gear1!AS1210*5+50.5,calc_gear1!O1210*5+50.5)) -> 55.5
A1208: 1207 | B1208: 7 | N1208: 7 | O1208: FALSE | P1208: FALSE | Q1208: FALSE | S1208: FALSE | T1208: FALSE | U1208: FALSE | W1208: =A1208 -> 1207 | X1208: ='v-t_chart'!C1208 -> 0 | Y1208: =IF(S1208=TRUE,105,100) -> 100 | Z1208: =IF(T1208=TRUE,115,110) -> 110 | AA1208: =IF(U1208=TRUE,95,90) -> 90 | AB1208: =calc_gear1!AS1211*5+50 -> 55 | AC1208: =IF(AND(calc_gear1!AT1211=-1,calc_gear1!Z1211=1),calc_gear1!AS1211*5+50.5,IF(AND(calc_gear1!Y1211=0,AB1207-AC1207=-0.5),calc_gear1!AS1211*5+50.5,calc_gear1!O1211*5+50.5)) -> 55.5
A1209: 1208 | B1209: 8 | N1209: 8 | O1209: TRUE | P1209: FALSE | Q1209: FALSE | S1209: TRUE | T1209: FALSE | U1209: FALSE | W1209: =A1209 -> 1208 | X1209: ='v-t_chart'!C1209 -> 0.9 | Y1209: =IF(S1209=TRUE,105,100) -> 105 | Z1209: =IF(T1209=TRUE,115,110) -> 110 | AA1209: =IF(U1209=TRUE,95,90) -> 90 | AB1209: =calc_gear1!AS1212*5+50 -> 55 | AC1209: =IF(AND(calc_gear1!AT1212=-1,calc_gear1!Z1212=1),calc_gear1!AS1212*5+50.5,IF(AND(calc_gear1!Y1212=0,AB1208-AC1208=-0.5),calc_gear1!AS1212*5+50.5,calc_gear1!O1212*5+50.5)) -> 50.5
A1210: 1209 | B1210: 9 | N1210: 9 | O1210: TRUE | P1210: FALSE | Q1210: FALSE | S1210: TRUE | T1210: FALSE | U1210: FALSE | W1210: =A1210 -> 1209 | X1210: ='v-t_chart'!C1210 -> 3.2 | Y1210: =IF(S1210=TRUE,105,100) -> 105 | Z1210: =IF(T1210=TRUE,115,110) -> 110 | AA1210: =IF(U1210=TRUE,95,90) -> 90 | AB1210: =calc_gear1!AS1213*5+50 -> 55 | AC1210: =IF(AND(calc_gear1!AT1213=-1,calc_gear1!Z1213=1),calc_gear1!AS1213*5+50.5,IF(AND(calc_gear1!Y1213=0,AB1209-AC1209=-0.5),calc_gear1!AS1213*5+50.5,calc_gear1!O1213*5+50.5)) -> 50.5
A1211: 1210 | B1211: 10 | N1211: 10 | O1211: TRUE | P1211: FALSE | Q1211: FALSE | S1211: TRUE | T1211: FALSE | U1211: FALSE | W1211: =A1211 -> 1210 | X1211: ='v-t_chart'!C1211 -> 7.3 | Y1211: =IF(S1211=TRUE,105,100) -> 105 | Z1211: =IF(T1211=TRUE,115,110) -> 110 | AA1211: =IF(U1211=TRUE,95,90) -> 90 | AB1211: =calc_gear1!AS1214*5+50 -> 55 | AC1211: =IF(AND(calc_gear1!AT1214=-1,calc_gear1!Z1214=1),calc_gear1!AS1214*5+50.5,IF(AND(calc_gear1!Y1214=0,AB1210-AC1210=-0.5),calc_gear1!AS1214*5+50.5,calc_gear1!O1214*5+50.5)) -> 50.5
A1212: 1211 | B1212: 11 | N1212: 11 | O1212: TRUE | P1212: FALSE | Q1212: FALSE | S1212: TRUE | T1212: FALSE | U1212: FALSE | W1212: =A1212 -> 1211 | X1212: ='v-t_chart'!C1212 -> 12.4 | Y1212: =IF(S1212=TRUE,105,100) -> 105 | Z1212: =IF(T1212=TRUE,115,110) -> 110 | AA1212: =IF(U1212=TRUE,95,90) -> 90 | AB1212: =calc_gear1!AS1215*5+50 -> 55 | AC1212: =IF(AND(calc_gear1!AT1215=-1,calc_gear1!Z1215=1),calc_gear1!AS1215*5+50.5,IF(AND(calc_gear1!Y1215=0,AB1211-AC1211=-0.5),calc_gear1!AS1215*5+50.5,calc_gear1!O1215*5+50.5)) -> 50.5
A1213: 1212 | B1213: 12 | N1213: 12 | O1213: TRUE | P1213: FALSE | Q1213: FALSE | S1213: TRUE | T1213: FALSE | U1213: FALSE | W1213: =A1213 -> 1212 | X1213: ='v-t_chart'!C1213 -> 17.9 | Y1213: =IF(S1213=TRUE,105,100) -> 105 | Z1213: =IF(T1213=TRUE,115,110) -> 110 | AA1213: =IF(U1213=TRUE,95,90) -> 90 | AB1213: =calc_gear1!AS1216*5+50 -> 55 | AC1213: =IF(AND(calc_gear1!AT1216=-1,calc_gear1!Z1216=1),calc_gear1!AS1216*5+50.5,IF(AND(calc_gear1!Y1216=0,AB1212-AC1212=-0.5),calc_gear1!AS1216*5+50.5,calc_gear1!O1216*5+50.5)) -> 50.5
... A1801: 1800 | B1801: 600 | N1801: 600 | O1801: FALSE | P1801: FALSE | Q1801: FALSE | S1801: FALSE | T1801: FALSE | U1801: FALSE | W1801: =A1801 -> 1800 | X1801: ='v-t_chart'!C1801 -> 0 | Y1801: =IF(S1801=TRUE,105,100) -> 100 | Z1801: =IF(T1801=TRUE,115,110) -> 110 | AA1801: =IF(U1801=TRUE,95,90) -> 90 | AB1801: =calc_gear1!AS1804*5+50 -> 50 | AC1801: =IF(AND(calc_gear1!AT1804=-1,calc_gear1!Z1804=1),calc_gear1!AS1804*5+50.5,IF(AND(calc_gear1!Y1804=0,AB1800-AC1800=-0.5),calc_gear1!AS1804*5+50.5,calc_gear1!O1804*5+50.5)) -> 50.5

Sheet v-t_chart
A1: time(0-1800) | B1: time | C1: =IF('Input&Output'!$C$3=10,'v-t_chart'!G1,IF('Input&Output'!$C$3=21,'v-t_chart'!H1,IF('Input&Output'!$C$3=32,'v-t_chart'!I1,IF('Input&Output'!$C$3=22,'v-t_chart'!J1,IF('Input&Output'!$C$3=31,'v-t_chart'!K1,'v-t_chart'!L1))))) -> Class3-1 | F1: time | G1: Class1 | H1: Class2-1 | I1: class3-2 | J1: Class2-2 | K1: Class3-1 | N1: time | O1: Class1 | P1: Class2-1 | Q1: class3-2 | R1: Class2-2 | S1: Class3-1
A2: 1 | B2: 1 | C2: =IF('Input&Output'!$C$3=10,'v-t_chart'!G2,IF('Input&Output'!$C$3=21,'v-t_chart'!H2,IF('Input&Output'!$C$3=32,'v-t_chart'!I2,IF('Input&Output'!$C$3=22,'v-t_chart'!J2,IF('Input&Output'!$C$3=31,'v-t_chart'!K2,'v-t_chart'!L2))))) -> 0 | F2: 1 | G2: 0 | H2: 0 | I2: 0 | J2: 0 | K2: 0 | N2: 1 | O2: 0 | P2: 0 | Q2: 0 | R2: 0 | S2: 0
A3: =A2+1 -> 2 | B3: 2 | C3: =IF('Input&Output'!$C$3=10,'v-t_chart'!G3,IF('Input&Output'!$C$3=21,'v-t_chart'!H3,IF('Input&Output'!$C$3=32,'v-t_chart'!I3,IF('Input&Output'!$C$3=22,'v-t_chart'!J3,IF('Input&Output'!$C$3=31,'v-t_chart'!K3,'v-t_chart'!L3))))) -> 0 | F3: 2 | G3: 0 | H3: 0 | I3: 0 | J3: 0 | K3: 0 | N3: 2 | O3: 0 | P3: 0 | Q3: 0 | R3: 0 | S3: 0
A4: =A3+1 -> 3 | B4: 3 | C4: =IF('Input&Output'!$C$3=10,'v-t_chart'!G4,IF('Input&Output'!$C$3=21,'v-t_chart'!H4,IF('Input&Output'!$C$3=32,'v-t_chart'!I4,IF('Input&Output'!$C$3=22,'v-t_chart'!J4,IF('Input&Output'!$C$3=31,'v-t_chart'!K4,'v-t_chart'!L4))))) -> 0 | F4: 3 | G4: 0 | H4: 0 | I4: 0 | J4: 0 | K4: 0 | N4: 3 | O4: 0 | P4: 0 | Q4: 0 | R4: 0 | S4: 0
A5: =A4+1 -> 4 | B5: 4 | C5: =IF('Input&Output'!$C$3=10,'v-t_chart'!G5,IF('Input&Output'!$C$3=21,'v-t_chart'!H5,IF('Input&Output'!$C$3=32,'v-t_chart'!I5,IF('Input&Output'!$C$3=22,'v-t_chart'!J5,IF('Input&Output'!$C$3=31,'v-t_chart'!K5,'v-t_chart'!L5))))) -> 0 | F5: 4 | G5: 0 | H5: 0 | I5: 0 | J5: 0 | K5: 0 | N5: 4 | O5: 0 | P5: 0 | Q5: 0 | R5: 0 | S5: 0
A6: =A5+1 -> 5 | B6: 5 | C6: =IF('Input&Output'!$C$3=10,'v-t_chart'!G6,IF('Input&Output'!$C$3=21,'v-t_chart'!H6,IF('Input&Output'!$C$3=32,'v-t_chart'!I6,IF('Input&Output'!$C$3=22,'v-t_chart'!J6,IF('Input&Output'!$C$3=31,'v-t_chart'!K6,'v-t_chart'!L6))))) -> 0 | F6: 5 | G6: 0 | H6: 0 | I6: 0 | J6: 0 | K6: 0 | N6: 5 | O6: 0 | P6: 0 | Q6: 0 | R6: 0 | S6: 0
A7: =A6+1 -> 6 | B7: 6 | C7: =IF('Input&Output'!$C$3=10,'v-t_chart'!G7,IF('Input&Output'!$C$3=21,'v-t_chart'!H7,IF('Input&Output'!$C$3=32,'v-t_chart'!I7,IF('Input&Output'!$C$3=22,'v-t_chart'!J7,IF('Input&Output'!$C$3=31,'v-t_chart'!K7,'v-t_chart'!L7))))) -> 0 | F7: 6 | G7: 0 | H7: 0 | I7: 0 | J7: 0 | K7: 0 | N7: 6 | O7: 0 | P7: 0 | Q7: 0 | R7: 0 | S7: 0
A8: =A7+1 -> 7 | B8: 7 | C8: =IF('Input&Output'!$C$3=10,'v-t_chart'!G8,IF('Input&Output'!$C$3=21,'v-t_chart'!H8,IF('Input&Output'!$C$3=32,'v-t_chart'!I8,IF('Input&Output'!$C$3=22,'v-t_chart'!J8,IF('Input&Output'!$C$3=31,'v-t_chart'!K8,'v-t_chart'!L8))))) -> 0 | F8: 7 | G8: 0 | H8: 0 | I8: 0 | J8: 0 | K8: 0 | N8: 7 | O8: 0 | P8: 0 | Q8: 0 | R8: 0 | S8: 0
A9: =A8+1 -> 8 | B9: 8 | C9: =IF('Input&Output'!$C$3=10,'v-t_chart'!G9,IF('Input&Output'!$C$3=21,'v-t_chart'!H9,IF('Input&Output'!$C$3=32,'v-t_chart'!I9,IF('Input&Output'!$C$3=22,'v-t_chart'!J9,IF('Input&Output'!$C$3=31,'v-t_chart'!K9,'v-t_chart'!L9))))) -> 0 | F9: 8 | G9: 0 | H9: 0 | I9: 0 | J9: 0 | K9: 0 | N9: 8 | O9: 0 | P9: 0 | Q9: 0 | R9: 0 | S9: 0
A10: =A9+1 -> 9 | B10: 9 | C10: =IF('Input&Output'!$C$3=10,'v-t_chart'!G10,IF('Input&Output'!$C$3=21,'v-t_chart'!H10,IF('Input&Output'!$C$3=32,'v-t_chart'!I10,IF('Input&Output'!$C$3=22,'v-t_chart'!J10,IF('Input&Output'!$C$3=31,'v-t_chart'!K10,'v-t_chart'!L10))))) -> 0 | F10: 9 | G10: 0 | H10: 0 | I10: 0 | J10: 0 | K10: 0 | N10: 9 | O10: 0 | P10: 0 | Q10: 0 | R10: 0 | S10: 0
A11: =A10+1 -> 10 | B11: 10 | C11: =IF('Input&Output'!$C$3=10,'v-t_chart'!G11,IF('Input&Output'!$C$3=21,'v-t_chart'!H11,IF('Input&Output'!$C$3=32,'v-t_chart'!I11,IF('Input&Output'!$C$3=22,'v-t_chart'!J11,IF('Input&Output'!$C$3=31,'v-t_chart'!K11,'v-t_chart'!L11))))) -> 0 | F11: 10 | G11: 0 | H11: 0 | I11: 0 | J11: 0 | K11: 0 | N11: 10 | O11: 0 | P11: 0 | Q11: 0 | R11: 0 | S11: 0
A12: =A11+1 -> 11 | B12: 11 | C12: =IF('Input&Output'!$C$3=10,'v-t_chart'!G12,IF('Input&Output'!$C$3=21,'v-t_chart'!H12,IF('Input&Output'!$C$3=32,'v-t_chart'!I12,IF('Input&Output'!$C$3=22,'v-t_chart'!J12,IF('Input&Output'!$C$3=31,'v-t_chart'!K12,'v-t_chart'!L12))))) -> 0 | F12: 11 | G12: 0 | H12: 0 | I12: 0 | J12: 0 | K12: 0 | N12: 11 | O12: 0 | P12: 0 | Q12: 0 | R12: 0 | S12: 0
A13: =A12+1 -> 12 | B13: 12 | C13: =IF('Input&Output'!$C$3=10,'v-t_chart'!G13,IF('Input&Output'!$C$3=21,'v-t_chart'!H13,IF('Input&Output'!$C$3=32,'v-t_chart'!I13,IF('Input&Output'!$C$3=22,'v-t_chart'!J13,IF('Input&Output'!$C$3=31,'v-t_chart'!K13,'v-t_chart'!L13))))) -> 0 | F13: 12 | G13: 0 | H13: 0 | I13: 0 | J13: 0 | K13: 0 | N13: 12 | O13: 0 | P13: 0 | Q13: 0 | R13: 0 | S13: 0
A14: =A13+1 -> 13 | B14: 13 | C14: =IF('Input&Output'!$C$3=10,'v-t_chart'!G14,IF('Input&Output'!$C$3=21,'v-t_chart'!H14,IF('Input&Output'!$C$3=32,'v-t_chart'!I14,IF('Input&Output'!$C$3=22,'v-t_chart'!J14,IF('Input&Output'!$C$3=31,'v-t_chart'!K14,'v-t_chart'!L14))))) -> 0 | F14: 13 | G14: 0 | H14: 0 | I14: 0 | J14: 0 | K14: 0 | N14: 13 | O14: 0 | P14: 0 | Q14: 0 | R14: 0 | S14: 0
... A601: =A600+1 -> 600 | B601: 600 | C601: =IF('Input&Output'!$C$3=10,'v-t_chart'!G601,IF('Input&Output'!$C$3=21,'v-t_chart'!H601,IF('Input&Output'!$C$3=32,'v-t_chart'!I601,IF('Input&Output'!$C$3=22,'v-t_chart'!J601,IF('Input&Output'!$C$3=31,'v-t_chart'!K601,'v-t_chart'!L601))))) -> 0 | F601: 600 | G601: 0 | H601: 0 | I601: 0 | J601: 0 | K601: 0 | N601: 600 | O601: 0 | P601: 0 | Q601: 0 | R601: 0 | S601: 0
A602: =A601+1 -> 601 | B602: 1 | C602: =IF('Input&Output'!$C$3=10,'v-t_chart'!G602,IF('Input&Output'!$C$3=21,'v-t_chart'!H602,IF('Input&Output'!$C$3=32,'v-t_chart'!I602,IF('Input&Output'!$C$3=22,'v-t_chart'!J602,IF('Input&Output'!$C$3=31,'v-t_chart'!K602,'v-t_chart'!L602))))) -> 0 | F602: 601 | H602: 0 | I602: 0 | J602: 0 | K602: 0 | N602: 601 | P602: 0 | Q602: 0 | R602: 0 | S602: 0
A603: =A602+1 -> 602 | B603: 2 | C603: =IF('Input&Output'!$C$3=10,'v-t_chart'!G603,IF('Input&Output'!$C$3=21,'v-t_chart'!H603,IF('Input&Output'!$C$3=32,'v-t_chart'!I603,IF('Input&Output'!$C$3=22,'v-t_chart'!J603,IF('Input&Output'!$C$3=31,'v-t_chart'!K603,'v-t_chart'!L603))))) -> 0 | F603: 602 | H603: 0 | I603: 0 | J603: 0 | K603: 0 | N603: 602 | P603: 0 | Q603: 0 | R603: 0 | S603: 0
A604: =A603+1 -> 603 | B604: 3 | C604: =IF('Input&Output'!$C$3=10,'v-t_chart'!G604,IF('Input&Output'!$C$3=21,'v-t_chart'!H604,IF('Input&Output'!$C$3=32,'v-t_chart'!I604,IF('Input&Output'!$C$3=22,'v-t_chart'!J604,IF('Input&Output'!$C$3=31,'v-t_chart'!K604,'v-t_chart'!L604))))) -> 0 | F604: 603 | H604: 0 | I604: 0 | J604: 0 | K604: 0 | N604: 603 | P604: 0 | Q604: 0 | R604: 0 | S604: 0
A605: =A604+1 -> 604 | B605: 4 | C605: =IF('Input&Output'!$C$3=10,'v-t_chart'!G605,IF('Input&Output'!$C$3=21,'v-t_chart'!H605,IF('Input&Output'!$C$3=32,'v-t_chart'!I605,IF('Input&Output'!$C$3=22,'v-t_chart'!J605,IF('Input&Output'!$C$3=31,'v-t_chart'!K605,'v-t_chart'!L605))))) -> 0 | F605: 604 | H605: 0 | I605: 0 | J605: 0 | K605: 0 | N605: 604 | P605: 0 | Q605: 0 | R605: 0 | S605: 0
A606: =A605+1 -> 605 | B606: 5 | C606: =IF('Input&Output'!$C$3=10,'v-t_chart'!G606,IF('Input&Output'!$C$3=21,'v-t_chart'!H606,IF('Input&Output'!$C$3=32,'v-t_chart'!I606,IF('Input&Output'!$C$3=22,'v-t_chart'!J606,IF('Input&Output'!$C$3=31,'v-t_chart'!K606,'v-t_chart'!L606))))) -> 0 | F606: 605 | H606: 0 | I606: 0 | J606: 0 | K606: 0 | N606: 605 | P606: 0 | Q606: 0 | R606: 0 | S606: 0
A607: =A606+1 -> 606 | B607: 6 | C607: =IF('Input&Output'!$C$3=10,'v-t_chart'!G607,IF('Input&Output'!$C$3=21,'v-t_chart'!H607,IF('Input&Output'!$C$3=32,'v-t_chart'!I607,IF('Input&Output'!$C$3=22,'v-t_chart'!J607,IF('Input&Output'!$C$3=31,'v-t_chart'!K607,'v-t_chart'!L607))))) -> 0 | F607: 606 | H607: 0 | I607: 0 | J607: 0 | K607: 0 | N607: 606 | P607: 0 | Q607: 0 | R607: 0 | S607: 0
A608: =A607+1 -> 607 | B608: 7 | C608: =IF('Input&Output'!$C$3=10,'v-t_chart'!G608,IF('Input&Output'!$C$3=21,'v-t_chart'!H608,IF('Input&Output'!$C$3=32,'v-t_chart'!I608,IF('Input&Output'!$C$3=22,'v-t_chart'!J608,IF('Input&Output'!$C$3=31,'v-t_chart'!K608,'v-t_chart'!L608))))) -> 0 | F608: 607 | H608: 0 | I608: 0 | J608: 0 | K608: 0 | N608: 607 | P608: 0 | Q608: 0 | R608: 0 | S608: 0
A609: =A608+1 -> 608 | B609: 8 | C609: =IF('Input&Output'!$C$3=10,'v-t_chart'!G609,IF('Input&Output'!$C$3=21,'v-t_chart'!H609,IF('Input&Output'!$C$3=32,'v-t_chart'!I609,IF('Input&Output'!$C$3=22,'v-t_chart'!J609,IF('Input&Output'!$C$3=31,'v-t_chart'!K609,'v-t_chart'!L609))))) -> 0 | F609: 608 | H609: 0 | I609: 0 | J609: 0 | K609: 0 | N609: 608 | P609: 0 | Q609: 0 | R609: 0 | S609: 0
A610: =A609+1 -> 609 | B610: 9 | C610: =IF('Input&Output'!$C$3=10,'v-t_chart'!G610,IF('Input&Output'!$C$3=21,'v-t_chart'!H610,IF('Input&Output'!$C$3=32,'v-t_chart'!I610,IF('Input&Output'!$C$3=22,'v-t_chart'!J610,IF('Input&Output'!$C$3=31,'v-t_chart'!K610,'v-t_chart'!L610))))) -> 2.3 | F610: 609 | H610: 2.3 | I610: 2.3 | J610: 2.3 | K610: 2.3 | N610: 609 | P610: 2.28 | Q610: 2.28 | R610: 2.28 | S610: 2.28
A611: =A610+1 -> 610 | B611: 10 | C611: =IF('Input&Output'!$C$3=10,'v-t_chart'!G611,IF('Input&Output'!$C$3=21,'v-t_chart'!H611,IF('Input&Output'!$C$3=32,'v-t_chart'!I611,IF('Input&Output'!$C$3=22,'v-t_chart'!J611,IF('Input&Output'!$C$3=31,'v-t_chart'!K611,'v-t_chart'!L611))))) -> 7.3 | F611: 610 | H611: 7.3 | I611: 7.3 | J611: 7.3 | K611: 7.3 | N611: 610 | P611: 7.3 | Q611: 7.3 | R611: 7.3 | S611: 7.3
A612: =A611+1 -> 611 | B612: 11 | C612: =IF('Input&Output'!$C$3=10,'v-t_chart'!G612,IF('Input&Output'!$C$3=21,'v-t_chart'!H612,IF('Input&Output'!$C$3=32,'v-t_chart'!I612,IF('Input&Output'!$C$3=22,'v-t_chart'!J612,IF('Input&Output'!$C$3=31,'v-t_chart'!K612,'v-t_chart'!L612))))) -> 15.2 | F612: 611 | H612: 13.6 | I612: 15.2 | J612: 15.2 | K612: 15.2 | N612: 611 | P612: 13.64 | Q612: 15.2 | R612: 15.2 | S612: 15.2
A613: =A612+1 -> 612 | B613: 12 | C613: =IF('Input&Output'!$C$3=10,'v-t_chart'!G613,IF('Input&Output'!$C$3=21,'v-t_chart'!H613,IF('Input&Output'!$C$3=32,'v-t_chart'!I613,IF('Input&Output'!$C$3=22,'v-t_chart'!J613,IF('Input&Output'!$C$3=31,'v-t_chart'!K613,'v-t_chart'!L613))))) -> 23.9 | F613: 612 | H613: 18.9 | I613: 23.9 | J613: 23.9 | K613: 23.9 | N613: 612 | P613: 18.89 | Q613: 23.9 | R613: 23.9 | S613: 23.9
... A1201: =A1200+1 -> 1200 | B1201: 600 | C1201: =IF('Input&Output'!$C$3=10,'v-t_chart'!G1201,IF('Input&Output'!$C$3=21,'v-t_chart'!H1201,IF('Input&Output'!$C$3=32,'v-t_chart'!I1201,IF('Input&Output'!$C$3=22,'v-t_chart'!J1201,IF('Input&Output'!$C$3=31,'v-t_chart'!K1201,'v-t_chart'!L1201))))) -> 0 | F1201: 1200 | H1201: 0 | I1201: 0 | J1201: 0 | K1201: 0 | N1201: 1200 | P1201: 0 | Q1201: 0 | R1201: 0 | S1201: 0
A1202: =A1201+1 -> 1201 | B1202: 1 | C1202: =IF('Input&Output'!$C$3=10,'v-t_chart'!G1202,IF('Input&Output'!$C$3=21,'v-t_chart'!H1202,IF('Input&Output'!$C$3=32,'v-t_chart'!I1202,IF('Input&Output'!$C$3=22,'v-t_chart'!J1202,IF('Input&Output'!$C$3=31,'v-t_chart'!K1202,'v-t_chart'!L1202))))) -> 0 | F1202: 1201 | I1202: 0 | K1202: 0 | N1202: 1201 | Q1202: 0 | S1202: 0
A1203: =A1202+1 -> 1202 | B1203: 2 | C1203: =IF('Input&Output'!$C$3=10,'v-t_chart'!G1203,IF('Input&Output'!$C$3=21,'v-t_chart'!H1203,IF('Input&Output'!$C$3=32,'v-t_chart'!I1203,IF('Input&Output'!$C$3=22,'v-t_chart'!J1203,IF('Input&Output'!$C$3=31,'v-t_chart'!K1203,'v-t_chart'!L1203))))) -> 0 | F1203: 1202 | I1203: 0 | K1203: 0 | N1203: 1202 | Q1203: 0 | S1203: 0
A1204: =A1203+1 -> 1203 | B1204: 3 | C1204: =IF('Input&Output'!$C$3=10,'v-t_chart'!G1204,IF('Input&Output'!$C$3=21,'v-t_chart'!H1204,IF('Input&Output'!$C$3=32,'v-t_chart'!I1204,IF('Input&Output'!$C$3=22,'v-t_chart'!J1204,IF('Input&Output'!$C$3=31,'v-t_chart'!K1204,'v-t_chart'!L1204))))) -> 0 | F1204: 1203 | I1204: 0 | K1204: 0 | N1204: 1203 | Q1204: 0 | S1204: 0
A1205: =A1204+1 -> 1204 | B1205: 4 | C1205: =IF('Input&Output'!$C$3=10,'v-t_chart'!G1205,IF('Input&Output'!$C$3=21,'v-t_chart'!H1205,IF('Input&Output'!$C$3=32,'v-t_chart'!I1205,IF('Input&Output'!$C$3=22,'v-t_chart'!J1205,IF('Input&Output'!$C$3=31,'v-t_chart'!K1205,'v-t_chart'!L1205))))) -> 0 | F1205: 1204 | I1205: 0 | K1205: 0 | N1205: 1204 | Q1205: 0 | S1205: 0
A1206: =A1205+1 -> 1205 | B1206: 5 | C1206: =IF('Input&Output'!$C$3=10,'v-t_chart'!G1206,IF('Input&Output'!$C$3=21,'v-t_chart'!H1206,IF('Input&Output'!$C$3=32,'v-t_chart'!I1206,IF('Input&Output'!$C$3=22,'v-t_chart'!J1206,IF('Input&Output'!$C$3=31,'v-t_chart'!K1206,'v-t_chart'!L1206))))) -> 0 | F1206: 1205 | I1206: 0 | K1206: 0 | N1206: 1205 | Q1206: 0 | S1206: 0
A1207: =A1206+1 -> 1206 | B1207: 6 | C1207: =IF('Input&Output'!$C$3=10,'v-t_chart'!G1207,IF('Input&Output'!$C$3=21,'v-t_chart'!H1207,IF('Input&Output'!$C$3=32,'v-t_chart'!I1207,IF('Input&Output'!$C$3=22,'v-t_chart'!J1207,IF('Input&Output'!$C$3=31,'v-t_chart'!K1207,'v-t_chart'!L1207))))) -> 0 | F1207: 1206 | I1207: 0 | K1207: 0 | N1207: 1206 | Q1207: 0 | S1207: 0
A1208: =A1207+1 -> 1207 | B1208: 7 | C1208: =IF('Input&Output'!$C$3=10,'v-t_chart'!G1208,IF('Input&Output'!$C$3=21,'v-t_chart'!H1208,IF('Input&Output'!$C$3=32,'v-t_chart'!I1208,IF('Input&Output'!$C$3=22,'v-t_chart'!J1208,IF('Input&Output'!$C$3=31,'v-t_chart'!K1208,'v-t_chart'!L1208))))) -> 0 | F1208: 1207 | I1208: 0 | K1208: 0 | N1208: 1207 | Q1208: 0 | S1208: 0
A1209: =A1208+1 -> 1208 | B1209: 8 | C1209: =IF('Input&Output'!$C$3=10,'v-t_chart'!G1209,IF('Input&Output'!$C$3=21,'v-t_chart'!H1209,IF('Input&Output'!$C$3=32,'v-t_chart'!I1209,IF('Input&Output'!$C$3=22,'v-t_chart'!J1209,IF('Input&Output'!$C$3=31,'v-t_chart'!K1209,'v-t_chart'!L1209))))) -> 0.9 | F1209: 1208 | I1209: 0.9 | K1209: 0.9 | N1209: 1208 | Q1209: 0.87 | S1209: 0.87
A1210: =A1209+1 -> 1209 | B1210: 9 | C1210: =IF('Input&Output'!$C$3=10,'v-t_chart'!G1210,IF('Input&Output'!$C$3=21,'v-t_chart'!H1210,IF('Input&Output'!$C$3=32,'v-t_chart'!I1210,IF('Input&Output'!$C$3=22,'v-t_chart'!J1210,IF('Input&Output'!$C$3=31,'v-t_chart'!K1210,'v-t_chart'!L1210))))) -> 3.2 | F1210: 1209 | I1210: 3.2 | K1210: 3.2 | N1210: 1209 | Q1210: 3.21 | S1210: 3.21
A1211: =A1210+1 -> 1210 | B1211: 10 | C1211: =IF('Input&Output'!$C$3=10,'v-t_chart'!G1211,IF('Input&Output'!$C$3=21,'v-t_chart'!H1211,IF('Input&Output'!$C$3=32,'v-t_chart'!I1211,IF('Input&Output'!$C$3=22,'v-t_chart'!J1211,IF('Input&Output'!$C$3=31,'v-t_chart'!K1211,'v-t_chart'!L1211))))) -> 7.3 | F1211: 1210 | I1211: 7.3 | K1211: 7.3 | N1211: 1210 | Q1211: 7.27 | S1211: 7.27
A1212: =A1211+1 -> 1211 | B1212: 11 | C1212: =IF('Input&Output'!$C$3=10,'v-t_chart'!G1212,IF('Input&Output'!$C$3=21,'v-t_chart'!H1212,IF('Input&Output'!$C$3=32,'v-t_chart'!I1212,IF('Input&Output'!$C$3=22,'v-t_chart'!J1212,IF('Input&Output'!$C$3=31,'v-t_chart'!K1212,'v-t_chart'!L1212))))) -> 12.4 | F1212: 1211 | I1212: 12.4 | K1212: 12.4 | N1212: 1211 | Q1212: 12.41 | S1212: 12.41
A1213: =A1212+1 -> 1212 | B1213: 12 | C1213: =IF('Input&Output'!$C$3=10,'v-t_chart'!G1213,IF('Input&Output'!$C$3=21,'v-t_chart'!H1213,IF('Input&Output'!$C$3=32,'v-t_chart'!I1213,IF('Input&Output'!$C$3=22,'v-t_chart'!J1213,IF('Input&Output'!$C$3=31,'v-t_chart'!K1213,'v-t_chart'!L1213))))) -> 17.9 | F1213: 1212 | I1213: 17.9 | K1213: 17.9 | N1213: 1212 | Q1213: 17.93 | S1213: 17.93
... A1571: =A1570+1 -> 1570 | B1571: 370 | C1571: =IF('Input&Output'!$C$3=10,'v-t_chart'!G1571,IF('Input&Output'!$C$3=21,'v-t_chart'!H1571,IF('Input&Output'!$C$3=32,'v-t_chart'!I1571,IF('Input&Output'!$C$3=22,'v-t_chart'!J1571,IF('Input&Output'!$C$3=31,'v-t_chart'!K1571,'v-t_chart'!L1571))))) -> 86.5 | F1571: 1570 | I1571: 100.5 | K1571: 86.5 | N1571: 1570 | Q1571: 100.51 | S1571: 86.51
A1572: =A1571+1 -> 1571 | B1572: 371 | C1572: =IF('Input&Output'!$C$3=10,'v-t_chart'!G1572,IF('Input&Output'!$C$3=21,'v-t_chart'!H1572,IF('Input&Output'!$C$3=32,'v-t_chart'!I1572,IF('Input&Output'!$C$3=22,'v-t_chart'!J1572,IF('Input&Output'!$C$3=31,'v-t_chart'!K1572,'v-t_chart'!L1572))))) -> 88.3 | F1572: =F1571+1 -> 1571 | I1572: 102.3 | K1572: 88.3 | N1572: =N1571+1 -> 1571 | Q1572: 102.3 | S1572: 88.3
A1573: =A1572+1 -> 1572 | B1573: 372 | C1573: =IF('Input&Output'!$C$3=10,'v-t_chart'!G1573,IF('Input&Output'!$C$3=21,'v-t_chart'!H1573,IF('Input&Output'!$C$3=32,'v-t_chart'!I1573,IF('Input&Output'!$C$3=22,'v-t_chart'!J1573,IF('Input&Output'!$C$3=31,'v-t_chart'!K1573,'v-t_chart'!L1573))))) -> 89.9 | F1573: =F1572+1 -> 1572 | I1573: 103.9 | K1573: 89.9 | N1573: =N1572+1 -> 1572 | Q1573: 103.9 | S1573: 89.9
A1574: =A1573+1 -> 1573 | B1574: 373 | C1574: =IF('Input&Output'!$C$3=10,'v-t_chart'!G1574,IF('Input&Output'!$C$3=21,'v-t_chart'!H1574,IF('Input&Output'!$C$3=32,'v-t_chart'!I1574,IF('Input&Output'!$C$3=22,'v-t_chart'!J1574,IF('Input&Output'!$C$3=31,'v-t_chart'!K1574,'v-t_chart'!L1574))))) -> 91 | F1574: =F1573+1 -> 1573 | I1574: 105 | K1574: 91 | N1574: =N1573+1 -> 1573 | Q1574: 105.03 | S1574: 91.03
A1575: =A1574+1 -> 1574 | B1575: 374 | C1575: =IF('Input&Output'!$C$3=10,'v-t_chart'!G1575,IF('Input&Output'!$C$3=21,'v-t_chart'!H1575,IF('Input&Output'!$C$3=32,'v-t_chart'!I1575,IF('Input&Output'!$C$3=22,'v-t_chart'!J1575,IF('Input&Output'!$C$3=31,'v-t_chart'!K1575,'v-t_chart'!L1575))))) -> 91.8 | F1575: =F1574+1 -> 1574 | I1575: 105.8 | K1575: 91.8 | N1575: =N1574+1 -> 1574 | Q1575: 105.79 | S1575: 91.79
A1576: =A1575+1 -> 1575 | B1576: 375 | C1576: =IF('Input&Output'!$C$3=10,'v-t_chart'!G1576,IF('Input&Output'!$C$3=21,'v-t_chart'!H1576,IF('Input&Output'!$C$3=32,'v-t_chart'!I1576,IF('Input&Output'!$C$3=22,'v-t_chart'!J1576,IF('Input&Output'!$C$3=31,'v-t_chart'!K1576,'v-t_chart'!L1576))))) -> 92.5 | F1576: =F1575+1 -> 1575 | I1576: 106.5 | K1576: 92.5 | N1576: =N1575+1 -> 1575 | Q1576: 106.45 | S1576: 92.45
A1577: =A1576+1 -> 1576 | B1577: 376 | C1577: =IF('Input&Output'!$C$3=10,'v-t_chart'!G1577,IF('Input&Output'!$C$3=21,'v-t_chart'!H1577,IF('Input&Output'!$C$3=32,'v-t_chart'!I1577,IF('Input&Output'!$C$3=22,'v-t_chart'!J1577,IF('Input&Output'!$C$3=31,'v-t_chart'!K1577,'v-t_chart'!L1577))))) -> 93.1 | F1577: =F1576+1 -> 1576 | I1577: 107.1 | K1577: 93.1 | N1577: =N1576+1 -> 1576 | Q1577: 107.08 | S1577: 93.08
A1578: =A1577+1 -> 1577 | B1578: 377 | C1578: =IF('Input&Output'!$C$3=10,'v-t_chart'!G1578,IF('Input&Output'!$C$3=21,'v-t_chart'!H1578,IF('Input&Output'!$C$3=32,'v-t_chart'!I1578,IF('Input&Output'!$C$3=22,'v-t_chart'!J1578,IF('Input&Output'!$C$3=31,'v-t_chart'!K1578,'v-t_chart'!L1578))))) -> 93.7 | F1578: =F1577+1 -> 1577 | I1578: 107.7 | K1578: 93.7 | N1578: =N1577+1 -> 1577 | Q1578: 107.72 | S1578: 93.72
A1579: =A1578+1 -> 1578 | B1579: 378 | C1579: =IF('Input&Output'!$C$3=10,'v-t_chart'!G1579,IF('Input&Output'!$C$3=21,'v-t_chart'!H1579,IF('Input&Output'!$C$3=32,'v-t_chart'!I1579,IF('Input&Output'!$C$3=22,'v-t_chart'!J1579,IF('Input&Output'!$C$3=31,'v-t_chart'!K1579,'v-t_chart'!L1579))))) -> 94.4 | F1579: =F1578+1 -> 1578 | I1579: 108.4 | K1579: 94.4 | N1579: =N1578+1 -> 1578 | Q1579: 108.35 | S1579: 94.35
A1580: =A1579+1 -> 1579 | B1580: 379 | C1580: =IF('Input&Output'!$C$3=10,'v-t_chart'!G1580,IF('Input&Output'!$C$3=21,'v-t_chart'!H1580,IF('Input&Output'!$C$3=32,'v-t_chart'!I1580,IF('Input&Output'!$C$3=22,'v-t_chart'!J1580,IF('Input&Output'!$C$3=31,'v-t_chart'!K1580,'v-t_chart'!L1580))))) -> 95 | F1580: =F1579+1 -> 1579 | I1580: 109 | K1580: 95 | N1580: =N1579+1 -> 1579 | Q1580: 108.98 | S1580: 94.98
A1581: =A1580+1 -> 1580 | B1581: 380 | C1581: =IF('Input&Output'!$C$3=10,'v-t_chart'!G1581,IF('Input&Output'!$C$3=21,'v-t_chart'!H1581,IF('Input&Output'!$C$3=32,'v-t_chart'!I1581,IF('Input&Output'!$C$3=22,'v-t_chart'!J1581,IF('Input&Output'!$C$3=31,'v-t_chart'!K1581,'v-t_chart'!L1581))))) -> 95.6 | F1581: =F1580+1 -> 1580 | I1581: 109.6 | K1581: 95.6 | N1581: =N1580+1 -> 1580 | Q1581: 109.62 | S1581: 95.62
A1582: =A1581+1 -> 1581 | B1582: 381 | C1582: =IF('Input&Output'!$C$3=10,'v-t_chart'!G1582,IF('Input&Output'!$C$3=21,'v-t_chart'!H1582,IF('Input&Output'!$C$3=32,'v-t_chart'!I1582,IF('Input&Output'!$C$3=22,'v-t_chart'!J1582,IF('Input&Output'!$C$3=31,'v-t_chart'!K1582,'v-t_chart'!L1582))))) -> 96.3 | F1582: =F1581+1 -> 1581 | I1582: 110.3 | K1582: 96.3 | N1582: =N1581+1 -> 1581 | Q1582: 110.28 | S1582: 96.28
A1583: =A1582+1 -> 1582 | B1583: 382 | C1583: =IF('Input&Output'!$C$3=10,'v-t_chart'!G1583,IF('Input&Output'!$C$3=21,'v-t_chart'!H1583,IF('Input&Output'!$C$3=32,'v-t_chart'!I1583,IF('Input&Output'!$C$3=22,'v-t_chart'!J1583,IF('Input&Output'!$C$3=31,'v-t_chart'!K1583,'v-t_chart'!L1583))))) -> 96.9 | F1583: =F1582+1 -> 1582 | I1583: 110.9 | K1583: 96.9 | N1583: =N1582+1 -> 1582 | Q1583: 110.93 | S1583: 96.93
... A1801: =A1800+1 -> 1800 | B1801: 600 | C1801: =IF('Input&Output'!$C$3=10,'v-t_chart'!G1801,IF('Input&Output'!$C$3=21,'v-t_chart'!H1801,IF('Input&Output'!$C$3=32,'v-t_chart'!I1801,IF('Input&Output'!$C$3=22,'v-t_chart'!J1801,IF('Input&Output'!$C$3=31,'v-t_chart'!K1801,'v-t_chart'!L1801))))) -> 0 | F1801: =F1800+1 -> 1800 | I1801: 0 | K1801: 0 | N1801: =N1800+1 -> 1800 | Q1801: 0 | S1801: 0

Sheet model
A1: 13
B2: MODEL | C2: Max power | D2: Kerb mass | E2: Max Ne | F2: Idling speed | G2: NV ratio | M2: WMTC
B3: （Model...） | C3: Max_PS(kW) | D3: Mass(kg) | E3: Max_Ne(rpm) | F3: ID(rpm) | G3: 1st | H3: 2nd | I3: 3rd | J3: 4th | K3: 5th | L3: 6th | M3: class
B4: tuv249cc | C4: 20.6 | D4: 126 | E4: 8500 | F4: 1400 | G4: 220.8 | H4: 162.54 | I4: 116.31 | J4: 90.54 | K4: 75.53 | L4: 63.29 | M4: 31
B5: tuv1298 | C5: 105.5 | D5: 256 | E5: 8000 | F5: 1000 | G5: 98.7 | H5: 69.2 | I5: 52.6 | J5: 42.1 | K5: 36.3 | M5: 32
B6: tuv125a | C6: 11 | D6: 158 | E6: 7750 | F6: 1850 | G6: 221 | H6: 156.1 | I6: 120.8 | J6: 100.2 | K6: 82.9 | L6: 71.8 | M6: 21
B7: tuv85 | C7: 5.1 | D7: 88 | E7: 7000 | F7: 1700 | G7: 294.7 | H7: 171.4 | I7: 108.7 | M7: 10
B8: tuv125c1 | C8: 6.8 | D8: 115 | E8: 7000 | F8: 2000 | G8: 221.73 | H8: 179.3 | I8: 146.5 | J8: 123.41 | K8: 109 | L8: 96.37 | M8: 10
B9: tuv49c1 | C9: 2.9 | D9: 83 | E9: 7000 | F9: 1700 | G9: 418.9 | H9: 224.5 | I9: 163 | J9: 126.2 | M9: 10
B10: TUV998 | C10: 128.4 | D10: 196 | E10: 11700 | F10: 1100 | G10: 80.9 | H10: 65.6 | I10: 55.5 | J10: 48.7 | K10: 44.1 | L10: 41.6 | M10: 32
B11: tuv1199 | C11: 50 | D11: 240 | E11: 5500 | F11: 1025 | G11: 78.1 | H11: 53.5 | I11: 41.5 | J11: 34.2 | K11: 29 | M11: 32
B12: jama650 | C12: 47 | D12: 206 | E12: 8000 | F12: 1300 | G12: 135.4 | H12: 95.2 | I12: 74 | J12: 64 | K12: 51.3 | L12: 47.3 | M12: 32
B13: tuv250x | C13: 15 | D13: 150 | E13: 8000 | F13: 1200 | G13: 202.8 | H13: 132.2 | I13: 99.2 | J13: 78.9 | K13: 69.6 | M13: 22
B14: Ninja 400 | C14: 33.4 | D14: 168 | E14: 10000 | F14: 1400 | G14: 2.929 | H14: 2.056 | I14: 1.619 | J14: 1.333 | K14: 1.154 | L14: 1.037 | M14: 31

Sheet tbL
A2: round number | B2: 1
B4: gear | C4: NV_ratio | E4: Clutch disengage | G4: Min Ne
B5: 0 | C5: 0 | E5: nidle + 0.03*(s – nidle) | G5: =C17+0.03*(C16-C17) -> 1658 | I5: normal | J5: acc only | K5: cruise、dec
B6: 1 | C6: ='Input&Output'!$D14 -> 2.929 | I6: 1 | J6: 2 | K6: 3
B7: 2 | C7: ='Input&Output'!$D15 -> 2.056
B8: 3 | C8: ='Input&Output'!$D16 -> 1.619 | F8: =ROUND(G5/C6,B2) -> 566.1 | I8: 'tbL'!F8 | J8: 'tbL'!F8 | K8: 'tbL'!F8
B9: 4 | C9: ='Input&Output'!$D17 -> 1.333 | F9: 1st>>Clutch disengage
B10: 5 | C10: ='Input&Output'!$D18 -> 1.154
B11: 6 | C11: ='Input&Output'!$D19 -> 1.037 | E11: 1st | F11: 1st>>2nd | G11: 2nd
B12: no. of gears | C12: =IF(C9=0,3,IF(C10=0,4,IF(C11=0,5,IF(C11<>0,6,IF(C9="",3,IF(C10="",4,IF(C11="",5,""))))))) -> 6 | E12: =((0.5753*EXP((-1.9)*($C$15)/($C$14-0))-0.1)*($C$16-$C$17)+$C$17) -> 4350.4462 | F12: =ROUND(((0.5753* EXP((-1.9)*($C$15)/($C$14-0)) -0.1)*($C$16-$C$17)+$C$17)*(1/C6),B2) -> 1485.3 | G12: =F12*C7 -> 3053.7768 | I12: 'tbL'!F12 | J12: 'tbL'!F12 | K12: 'tbL'!F13
E13: =F13*C6 -> 2361.9456 | F13: =ROUND(IF(G5*C7<10*C7,10,G5/C7),B2) -> 806.4 | G13: =F13*C7 -> 1657.9584 | I13: 'tbL'!F13 | J13: 'tbL'!F12 | K13: 'tbL'!F13
A14: Kerb mass+75kg | B14: kg | C14: ='Input&Output'!D9+75 -> 243 | F14: 2nd>>1st
A15: max-power | B15: kW | C15: ='Input&Output'!D8 -> 33.4
A16: Ne at max-power | B16: rpm | C16: ='Input&Output'!D11 -> 10000 | E16: 2nd | F16: 2nd>>3rd | G16: 3rd
A17: Idling Ne | B17: rpm | C17: ='Input&Output'!D12 -> 1400 | E17: =((0.5753*EXP((-1.9)*($C$15)/($C$14-0)))*($C$16-$C$17)+$C$17) -> 5210.4462 | F17: =ROUND(((0.5753*EXP((-1.9)*($C$15)/($C$14-0)))*($C$16-$C$17)+$C$17)*(1/C7),B2) -> 2534.3 | G17: =F17*C8 -> 4103.0317 | I17: 'tbL'!F17 | J17: 'tbL'!F17 | K17: 'tbL'!F18
E18: =F18*C7 -> 3053.7768 | F18: =ROUND(((0.5753*EXP((-1.9)*($C$15)/($C$14-0))-0.1)*($C$16-$C$17)+$C$17)*(1/C6),B2) -> 1485.3 | G18: =F12*C8 -> 2404.7007 | I18: 'tbL'!F18 | J18: 'tbL'!F17 | K18: 'tbL'!F18
F19: 3rd>>2nd
E21: 3rd | F21: 3rd>>4th | G21: 4th
E22: =IF(OR(C9=0,C9=""),20000,((0.5753*EXP((-1.9)*($C$15)/($C$14-0)))*($C$16-$C$17)+$C$17)) -> 5210.4462 | F22: =ROUND(IF(OR(C9=0,C9=""),150,((0.5753*EXP((-1.9)*($C$15)/($C$14-0)))*($C$16-$C$17)+$C$17)*(1/C8)),B2) -> 3218.3 | G22: =F22*C9 -> 4289.9939 | I22: 'tbL'!F22 | J22: 'tbL'!F22 | K22: 'tbL'!F23
E23: =F23*C8 -> 4103.0317 | F23: =ROUND(((0.5753*EXP((-1.9)*($C$15)/($C$14-0)))*($C$16-$C$17)+$C$17)*(1/C7),B2) -> 2534.3 | G23: =F23*C9 -> 3378.2219 | I23: 'tbL'!F23 | J23: 'tbL'!F22 | K23: 'tbL'!F23
F24: 4th>>3rd
E26: 4th | F26: 4th>>5th | G26: 5th
E27: =IF(OR(C10=0,C10=""),20000,((0.5753*EXP((-1.9)*($C$15)/($C$14-0)))*($C$16-$C$17)+$C$17)) -> 5210.4462 | F27: =ROUND(IF(OR(C10=0,C10=""),150,((0.5753*EXP((-1.9)*($C$15)/($C$14-0)))*($C$16-$C$17)+$C$17)*(1/C9)),B2) -> 3908.8 | G27: =F27*C10 -> 4510.7552 | I27: 'tbL'!F27 | J27: 'tbL'!F27 | K27: 'tbL'!F28
E28: =F28*C9 -> 4289.9939 | F28: =ROUND(((0.5753*EXP((-1.9)*($C$15)/($C$14-0)))*($C$16-$C$17)+$C$17)*(1/C8),B2) -> 3218.3 | G28: =F28*C10 -> 3713.9182 | I28: 'tbL'!F28 | J28: 'tbL'!F27 | K28: 'tbL'!F28
F29: 5th>>4th
E31: 5th | F31: 5th>>6th | G31: 6th
E32: =IF(OR(C11=0,C11=""),20000,((0.5753*EXP((-1.9)*($C$15)/($C$14-0)))*($C$16-$C$17)+$C$17)) -> 5210.4462 | F32: =ROUND(IF(OR(C11=0,C11=""),150,((0.5753*EXP((-1.9)*($C$15)/($C$14-0)))*($C$16-$C$17)+$C$17)*(1/C10)),B2) -> 4515.1 | G32: =F32*C11 -> 4682.1587 | I32: 'tbL'!F32 | J32: 'tbL'!F32 | K32: 'tbL'!F33
E33: =F33*C10 -> 4510.7552 | F33: =ROUND(IF(C9<>0,((0.5753*EXP((-1.9)*($C$15)/($C$14-0)))*($C$16-$C$17)+$C$17)*(1/C9),F28),B2) -> 3908.8 | G33: =F33*C11 -> 4053.4256 | I33: 'tbL'!F33 | J33: 'tbL'!F32 | K33: 'tbL'!F33
F34: 6th>>5th
M36: Equation | N36: 6-1&6-2 | O36: 6-6,6-7&6-8 | Q36: 6-3,6-4,&6-5
M37: 0 | N37: 0 | O37: 0 | P37: 0 | Q37: 0
B38: V | C38: Ne | D38: Ne at next gear | M38: 1 | N38: =calc_gear1!F12 -> 1485.3 | O38: =N37 -> 0 | P38: =calc_gear1!F13 -> 806.4 | Q38: 0
B39: in km/h | C39: in min-1 | D39: in min-1 | M39: 2 | N39: =calc_gear1!F17 -> 2534.3 | O39: =N38 -> 1485.3 | P39: =O39 -> 1485.3 | Q39: =P38 -> 806.4
A40: 1st to 2nd | B40: =IF(calc_gear1!F12="","",calc_gear1!F12) -> 1485.3 | C40: =IF(calc_gear1!E12="","",calc_gear1!E12) -> 4350.4462 | D40: =calc_gear1!G12 -> 3053.7768 | M40: 3 | N40: =calc_gear1!F22 -> 3218.3 | O40: =N39 -> 2534.3 | P40: =O40 -> 2534.3 | Q40: =P39 -> 1485.3
A41: 2nd to 3rd | B41: =IF(calc_gear1!F17="","",calc_gear1!F17) -> 2534.3 | C41: =IF(calc_gear1!E17="","",calc_gear1!E17) -> 5210.4462 | D41: =calc_gear1!G17 -> 4103.0317 | M41: 4 | N41: =calc_gear1!F27 -> 3908.8 | O41: =N40 -> 3218.3 | P41: =O41 -> 3218.3 | Q41: =P40 -> 2534.3
A42: 3rd to 4th | B42: =IF(OR('Input&Output'!D17=0,'Input&Output'!D17=""),"",IF(calc_gear1!F22="","",calc_gear1!F22)) -> 3218.3 | C42: =IF(OR('Input&Output'!D17=0,'Input&Output'!D17=""),"",IF(calc_gear1!E22="","",calc_gear1!E22)) -> 5210.4462 | D42: =IF(OR('Input&Output'!D17=0,'Input&Output'!D17=""),"",calc_gear1!G22) -> 4289.9939 | M42: 5 | N42: =calc_gear1!F32 -> 4515.1 | O42: =N41 -> 3908.8 | P42: =O42 -> 3908.8 | Q42: =P41 -> 3218.3
A43: 4th to 5th | B43: =IF(OR('Input&Output'!D18=0,'Input&Output'!D18=""),"",IF(calc_gear1!F27="","",calc_gear1!F27)) -> 3908.8 | C43: =IF(OR('Input&Output'!D18=0,'Input&Output'!D18=""),"",IF(calc_gear1!E27="","",calc_gear1!E27)) -> 5210.4462 | D43: =IF(OR('Input&Output'!D18=0,'Input&Output'!D18=""),"",calc_gear1!G27) -> 4510.7552 | M43: 6 | N43: 200 | O43: =N42 -> 4515.1 | P43: =O43 -> 4515.1 | Q43: =P42 -> 3908.8
A44: 5th to 6th | B44: =IF(C44="","",IF(calc_gear1!F32="","",calc_gear1!F32)) -> 4515.1 | C44: =IF(calc_gear1!E32=20000,"",IF(calc_gear1!E32="","",calc_gear1!E32)) -> 5210.4462 | D44: =IF(OR('Input&Output'!D19=0,'Input&Output'!D19=""),"",calc_gear1!G32) -> 4682.1587
A45: 1st to clutch | B45: =calc_gear1!F8 -> 566.1 | C45: =calc_gear1!G5 -> 1658 | D45: ='Input&Output'!D12 -> 1400
A46: 2nd to clutch | B46: =B47 -> 806.4 | C46: =calc_gear1!G5 -> 1658 | D46: ='Input&Output'!D12 -> 1400
A47: 2nd to 1st | B47: =IF(calc_gear1!F13="","",calc_gear1!F13) -> 806.4 | C47: =IF(calc_gear1!G13="","",calc_gear1!G5) -> 1658 | D47: =IF(calc_gear1!E13="","",calc_gear1!E13) -> 2361.9456
A48: 3rd to 2nd | B48: =IF(calc_gear1!F18="","",calc_gear1!F18) -> 1485.3 | C48: =IF(calc_gear1!G18="","",calc_gear1!G18) -> 2404.7007 | D48: =IF(calc_gear1!E18="","",calc_gear1!E18) -> 3053.7768
A49: 4th to 3rd | B49: =IF(OR('Input&Output'!D17=0,'Input&Output'!D17=""),"",IF(calc_gear1!F23="","",calc_gear1!F23)) -> 2534.3 | C49: =IF(OR('Input&Output'!D17=0,'Input&Output'!D17=""),"",IF(calc_gear1!G23="","",calc_gear1!G23)) -> 3378.2219 | D49: =IF(OR('Input&Output'!D17=0,'Input&Output'!D17=""),"",IF(calc_gear1!E23="","",calc_gear1!E23)) -> 4103.0317
A50: 5th to 4th | B50: =IF(OR('Input&Output'!D18=0,'Input&Output'!D18=""),"",IF(calc_gear1!F28="","",calc_gear1!F28)) -> 3218.3 | C50: =IF(OR('Input&Output'!D18=0,'Input&Output'!D18=""),"",IF(calc_gear1!G28="","",calc_gear1!G28)) -> 3713.9182 | D50: =IF(OR('Input&Output'!D18=0,'Input&Output'!D18=""),"",IF(calc_gear1!E28="","",calc_gear1!E28)) -> 4289.9939
A51: 6th to 5th | B51: =IF(C44="","",IF(calc_gear1!F33="","",calc_gear1!F33)) -> 3908.8 | C51: =IF(C44="","",IF(calc_gear1!G33="","",calc_gear1!G33)) -> 4053.4256 | D51: =IF(OR('Input&Output'!D19=0,'Input&Output'!D19=""),"",IF(calc_gear1!E33="","",calc_gear1!E33)) -> 4510.7552

Sheet calc_gear1
J1: Sheet"v-t_chart" | L1: Sheet"phase_chart" | P1: (modified) Step 1&2+step 3(d) calculation | Q1: Step 1&2+step 3(d) calculation | T1: Step 3(a) | Y1: Step 2(a)&(b) | Z1: Step 2 | AA1: Step 3(b) | AC1: Step 3(c) | AT1: Display | AW1: Distance
F2: =IF(TODAY()>G40,"",1) -> 1 | I2: time | J2: v | K2: Ne calcu | L2: acceleration phase | M2: cruise_phase | N2: deceleration phase | R2: acc from 0km/h | T2: flag_cruise-upshift | U2: flag for no gear | Y2: Clutch disengage | Z2: 1st gear for start | AD2: 4sec-rule① | AF2: 4sec-rule② | AH2: 4sec-rule③ | AJ2: 4sec-rule4 | AM2: 4sec-rule5 | AO2: 4sec-rule6 | AQ2: 4sec-rule7 | AS2: 4sec-rule8 | AT2: clutch_disengage | AU2: Ne
I3: sec | J3: km/h | K3: rpm | P3: GEAR_NO | Q3: GEAR_NO | V3: GEAR_NO | AA3: GEAR_NO | AD3: GEAR_NO | AF3: GEAR_NO | AH3: GEAR_NO | AJ3: GEAR_NO | AM3: GEAR_NO | AO3: GEAR_NO | AQ3: GEAR_NO | AS3: GEAR_NO | AU3: 1/100rpm | AW3: m
B4: gear | C4: NV_ratio | E4: Clutch disengage | G4: Min Ne | I4: 0 | J4: 0 | K4: =IF($J4=0,0,VLOOKUP($Q4,$B$5:$C$11,2)*$J4) -> 0 | L4: FALSE | M4: FALSE | N4: FALSE | P4: 0 | Q4: =P4 -> 0 | R4: 0 | V4: 0 | Y4: ="" | Z4: ="" | AA4: 0 | AD4: 0 | AF4: 0 | AH4: 0 | AJ4: 0 | AM4: 0 | AO4: 0 | AQ4: 0 | AS4: 0 | AU4: =IF(Y4=0,$C$17/100,IF(OR(K4<$C$17,AA4=0),$C$17/100,(VLOOKUP($AS4,$B$5:$C$11,2)*$J4)/100)) -> 14 | AW4: 0
B5: 0 | C5: 0 | E5: n_idle + 0.03*(s – n_idle) | G5: =C17+0.03*(C16-C17) -> 1658 | I5: 1 | J5: ='v-t_chart'!C2 -> 0 | K5: =IF($J5=0,0,VLOOKUP($Q5,$B$5:$C$11,2)*$J5) -> 0 | L5: =IF('Input&Output'!$C$3=10,phase_chart!C2,IF('Input&Output'!$C$3=21,phase_chart!G2,IF('Input&Output'!$C$3=22,phase_chart!K2,IF('Input&Output'!$C$3=31,phase_chart!O2,IF('Input&Output'!$C$3=32,phase_chart!S2,""))))) -> FALSE | M5: =IF('Input&Output'!$C$3=10,phase_chart!D2,IF('Input&Output'!$C$3=21,phase_chart!H2,IF('Input&Output'!$C$3=22,phase_chart!L2,IF('Input&Output'!$C$3=31,phase_chart!P2,IF('Input&Output'!$C$3=32,phase_chart!T2,""))))) -> FALSE | N5: =IF('Input&Output'!$C$3=10,phase_chart!E2,IF('Input&Output'!$C$3=21,phase_chart!I2,IF('Input&Output'!$C$3=22,phase_chart!M2,IF('Input&Output'!$C$3=31,phase_chart!Q2,IF('Input&Output'!$C$3=32,phase_chart!U2,""))))) -> FALSE | P5: =IF(NOT($J5=0),IF($J5<IF($P4=0,0,VLOOKUP(P4,tbL!$M$37:$Q$43,IF(L5=TRUE,2,4))),IF($J5>=VLOOKUP(P4,tbL!$M$37:$Q$43,IF(L5=TRUE,3,5)),$P4,IF(AND(L4=TRUE,L5=TRUE),$P4,$P4-1)),IF(AND(L5=TRUE,J5=VLOOKUP(P4,tbL!$M$37:$Q$43,IF(L5=TRUE,2,4))),P4,IF($P4+1>$C$12,$C$12,$P4+1))),0) -> 0 | Q5: =P5 -> 0 | R5: =IF(L5=TRUE,IF(OR(K4=0,R4=1),1,0),0) -> 0 | T5: =IF(AND(L4=TRUE,M5=TRUE),1,IF(AND(L4=TRUE,N5=TRUE),-1,0)) -> 0 | U5: =IF(AND(T5=-1,N5=TRUE),"*",IF(AND(U4="*",N5=TRUE),"*",IF(AND(AND(L5=TRUE,U4="*"),J5<VLOOKUP(V4+1,tbL!$M$38:$O$43,3)),"*",""))) | V5: =IF(U5="*",IF(Q5>V4,V4,Q5),Q5) -> 0 | Y5: =IF(OR($V5=3,OR($V5=1,$V5=2)),IF(OR($V8=0,OR($V9=0,OR($V10=0,OR($V11=0,OR($V12=0,OR($V13=0,$V14=0)))))),IF(J5<IF(V5=3,$D$18,IF(V5=2,$F$13,$F$8)),0,IF(Y4=0,0,IF(J5<10,0,""))),""),"") | Z5: =IF(AND(AND(J10>0,J9=0),Z4=""),1,IF(Z4=1,IF(AND(J5>0,J6-J5>0),"",1),"")) | AA5: =IF(IF(AND(AT5=-1,Z5=1),1,IF(Y5=0,AA4,V5))=0,0,IF((IF(AND(AT5=-1,Z5=1),1,IF(Y5=0,AA4,V5))-AA4)>=2,-(-AA4-1),IF(IF(AND(AT5=-1,Z5=1),1,IF(Y5=0,AA4,V5))-AA4<=-2,(AA4-1),IF(AND(AT5=-1,Z5=1),1,IF(Y5=0,V5,V5))))) -> 0 | AC5: =IF(OR(OR($AT5=-1,$R5=1),AA5=0),"",IF(AND(AA4=AA6,AA5<>AA4),"*","")) | AD5: =IF(AC5="*",AA4,AA5) -> 0 | AE5: =IF(OR(OR($AT5=-1,$R5=1),AD5=0),"",IF(AND(AND(AD4=AD7,AD5<>AD4),AD5=AD6),IF(AE3="*","","*"),"")) | AF5: =IF(AE5="*",AD4,IF(AE4="*",AD3,AD5)) -> 0 | AG5: =IF(OR(OR(OR($AT5=-1,$R5=1),AF5=0),AG2="*"),"",IF(AND(AND(AND(AF4=AF8,AF5<>AF4),AF5=AF6),AF5=AF7),"*","")) | AH5: =IF(AG5="*",AF4,IF(AG4="*",AF3,IF(AG3="*",AF2,AF5))) -> 0 | AI5: =IF(OR(OR(OR($AT5=-1,$R5=1),AH5=0),AI1="*"),"",IF(AND(AND(AND(AND(AH4=AH9,AH5<>AH4),AH5=AH6),AH5=AH7),AH5=AH8),"*","")) | AJ5: =IF(AI5="*",AH4,IF(AI4="*",AH3,IF(AI3="*",AH2,IF(AI2="*",AH1,AH5)))) -> 0 | AL5: =IF(OR(OR(OR($AT5=-1,$R5=1),AJ5=0),AL1="*"),"",IF(AND(AND(AND(AND(AJ4=AJ9,AJ5<>AJ4),AJ5=AJ6),AJ5=AJ7),AJ5=AJ8),"*","")) | AM5: =IF(AL5="*",AJ4,IF(AL4="*",#REF!,IF(AL3="*",#REF!,IF(AL2="*",AJ1,AJ5)))) -> 0 | AN5: =IF(OR(OR(OR($AT5=-1,$R5=1),AM5=0),AN2="*"),"",IF(AND(AND(AND(AM4=AM8,AM5<>AM4),AM5=AM6),AM5=AM7),"*","")) | AO5: =IF(AN5="*",AM4,IF(AN4="*",#REF!,IF(AN3="*",#REF!,AM5))) -> 0 | AP5: =IF(OR(OR($AT5=-1,$R5=1),AO5=0),"",IF(AND(AND(AO4=AO7,AO5<>AO4),AO5=AO6),"*","")) | AQ5: =IF(AP5="*",AO4,IF(AP4="*",AH3,AO5)) -> 0 | AR5: =IF(OR(OR($AT5=-1,$R5=1),AQ5=0),"",IF(AND(AQ4=AQ6,AQ5<>AQ4),"*","")) | AS5: =IF(AR5="*",AQ4,AQ5) -> 0 | AT5: =IF(OR(Z5=1,Y5=0),-1,"") | AU5: =IF(Y5=0,$C$17/100,IF(OR(K5<$C$17,AA5=0),$C$17/100,(VLOOKUP($AS5,$B$5:$C$11,2)*$J5)/100)) -> 14 | AW5: =AW4+J5/3.6 -> 0
B6: 1 | C6: ='Input&Output'!$D14 -> 2.929 | I6: =I5+1 -> 2 | J6: ='v-t_chart'!C3 -> 0 | K6: =IF($J6=0,0,VLOOKUP($Q6,$B$5:$C$11,2)*$J6) -> 0 | L6: =IF('Input&Output'!$C$3=10,phase_chart!C3,IF('Input&Output'!$C$3=21,phase_chart!G3,IF('Input&Output'!$C$3=22,phase_chart!K3,IF('Input&Output'!$C$3=31,phase_chart!O3,IF('Input&Output'!$C$3=32,phase_chart!S3,""))))) -> FALSE | M6: =IF('Input&Output'!$C$3=10,phase_chart!D3,IF('Input&Output'!$C$3=21,phase_chart!H3,IF('Input&Output'!$C$3=22,phase_chart!L3,IF('Input&Output'!$C$3=31,phase_chart!P3,IF('Input&Output'!$C$3=32,phase_chart!T3,""))))) -> FALSE | N6: =IF('Input&Output'!$C$3=10,phase_chart!E3,IF('Input&Output'!$C$3=21,phase_chart!I3,IF('Input&Output'!$C$3=22,phase_chart!M3,IF('Input&Output'!$C$3=31,phase_chart!Q3,IF('Input&Output'!$C$3=32,phase_chart!U3,""))))) -> FALSE | P6: =IF(NOT($J6=0),IF($J6<IF($P5=0,0,VLOOKUP(P5,tbL!$M$37:$Q$43,IF(L6=TRUE,2,4))),IF($J6>=VLOOKUP(P5,tbL!$M$37:$Q$43,IF(L6=TRUE,3,5)),$P5,IF(AND(L5=TRUE,L6=TRUE),$P5,$P5-1)),IF(AND(L6=TRUE,J6=VLOOKUP(P5,tbL!$M$37:$Q$43,IF(L6=TRUE,2,4))),P5,IF($P5+1>$C$12,$C$12,$P5+1))),0) -> 0 | Q6: =P6 -> 0 | R6: =IF(L6=TRUE,IF(OR(K5=0,R5=1),1,0),0) -> 0 | T6: =IF(AND(L5=TRUE,M6=TRUE),1,IF(AND(L5=TRUE,N6=TRUE),-1,0)) -> 0 | U6: =IF(AND(T6=-1,N6=TRUE),"*",IF(AND(U5="*",N6=TRUE),"*",IF(AND(AND(L6=TRUE,U5="*"),J6<VLOOKUP(V5+1,tbL!$M$38:$O$43,3)),"*",""))) | V6: =IF(U6="*",IF(Q6>V5,V5,Q6),Q6) -> 0 | Y6: =IF(OR($V6=3,OR($V6=1,$V6=2)),IF(OR($V9=0,OR($V10=0,OR($V11=0,OR($V12=0,OR($V13=0,OR($V14=0,$V15=0)))))),IF(J6<IF(V6=3,$D$18,IF(V6=2,$F$13,$F$8)),0,IF(Y5=0,0,IF(J6<10,0,""))),""),"") | Z6: =IF(AND(AND(J11>0,J10=0),Z5=""),1,IF(Z5=1,IF(AND(J6>0,J7-J6>0),"",1),"")) | AA6: =IF(IF(AND(AT6=-1,Z6=1),1,IF(Y6=0,AA5,V6))=0,0,IF((IF(AND(AT6=-1,Z6=1),1,IF(Y6=0,AA5,V6))-AA5)>=2,-(-AA5-1),IF(IF(AND(AT6=-1,Z6=1),1,IF(Y6=0,AA5,V6))-AA5<=-2,(AA5-1),IF(AND(AT6=-1,Z6=1),1,IF(Y6=0,V6,V6))))) -> 0 | AC6: =IF(OR(OR($AT6=-1,$R6=1),AA6=0),"",IF(AND(AA5=AA7,AA6<>AA5),"*","")) | AD6: =IF(AC6="*",AA5,AA6) -> 0 | AE6: =IF(OR(OR($AT6=-1,$R6=1),AD6=0),"",IF(AND(AND(AD5=AD8,AD6<>AD5),AD6=AD7),IF(AE4="*","","*"),"")) | AF6: =IF(AE6="*",AD5,IF(AE5="*",AD4,AD6)) -> 0 | AG6: =IF(OR(OR(OR($AT6=-1,$R6=1),AF6=0),AG3="*"),"",IF(AND(AND(AND(AF5=AF9,AF6<>AF5),AF6=AF7),AF6=AF8),"*","")) | AH6: =IF(AG6="*",AF5,IF(AG5="*",AF4,IF(AG4="*",AF3,AF6))) -> 0 | AI6: =IF(OR(OR(OR($AT6=-1,$R6=1),AH6=0),AI2="*"),"",IF(AND(AND(AND(AND(AH5=AH10,AH6<>AH5),AH6=AH7),AH6=AH8),AH6=AH9),"*","")) | AJ6: =IF(AI6="*",AH5,IF(AI5="*",AH4,IF(AI4="*",AH3,IF(AI3="*",AH2,AH6)))) -> 0 | AL6: =IF(OR(OR(OR($AT6=-1,$R6=1),AJ6=0),AL2="*"),"",IF(AND(AND(AND(AND(AJ5=AJ10,AJ6<>AJ5),AJ6=AJ7),AJ6=AJ8),AJ6=AJ9),"*","")) | AM6: =IF(AL6="*",AJ5,IF(AL5="*",AJ4,IF(AL4="*",#REF!,IF(AL3="*",#REF!,AJ6)))) -> 0 | AN6: =IF(OR(OR(OR($AT6=-1,$R6=1),AM6=0),AN3="*"),"",IF(AND(AND(AND(AM5=AM9,AM6<>AM5),AM6=AM7),AM6=AM8),"*","")) | AO6: =IF(AN6="*",AM5,IF(AN5="*",AM4,IF(AN4="*",#REF!,AM6))) -> 0 | AP6: =IF(OR(OR($AT6=-1,$R6=1),AO6=0),"",IF(AND(AND(AO5=AO8,AO6<>AO5),AO6=AO7),"*","")) | AQ6: =IF(AP6="*",AO5,IF(AP5="*",AO4,AO6)) -> 0 | AR6: =IF(OR(OR($AT6=-1,$R6=1),AQ6=0),"",IF(AND(AQ5=AQ7,AQ6<>AQ5),"*","")) | AS6: =IF(AR6="*",AQ5,AQ6) -> 0 | AT6: =IF(OR(Z6=1,Y6=0),-1,"") | AU6: =IF(Y6=0,$C$17/100,IF(OR(K6<$C$17,AA6=0),$C$17/100,(VLOOKUP($AS6,$B$5:$C$11,2)*$J6)/100)) -> 14 | AW6: =AW5+J6/3.6 -> 0
B7: 2 | C7: ='Input&Output'!$D15 -> 2.056 | F7: km/h | I7: =I6+1 -> 3 | J7: ='v-t_chart'!C4 -> 0 | K7: =IF($J7=0,0,VLOOKUP($Q7,$B$5:$C$11,2)*$J7) -> 0 | L7: =IF('Input&Output'!$C$3=10,phase_chart!C4,IF('Input&Output'!$C$3=21,phase_chart!G4,IF('Input&Output'!$C$3=22,phase_chart!K4,IF('Input&Output'!$C$3=31,phase_chart!O4,IF('Input&Output'!$C$3=32,phase_chart!S4,""))))) -> FALSE | M7: =IF('Input&Output'!$C$3=10,phase_chart!D4,IF('Input&Output'!$C$3=21,phase_chart!H4,IF('Input&Output'!$C$3=22,phase_chart!L4,IF('Input&Output'!$C$3=31,phase_chart!P4,IF('Input&Output'!$C$3=32,phase_chart!T4,""))))) -> FALSE | N7: =IF('Input&Output'!$C$3=10,phase_chart!E4,IF('Input&Output'!$C$3=21,phase_chart!I4,IF('Input&Output'!$C$3=22,phase_chart!M4,IF('Input&Output'!$C$3=31,phase_chart!Q4,IF('Input&Output'!$C$3=32,phase_chart!U4,""))))) -> FALSE | P7: =IF(NOT($J7=0),IF($J7<IF($P6=0,0,VLOOKUP(P6,tbL!$M$37:$Q$43,IF(L7=TRUE,2,4))),IF($J7>=VLOOKUP(P6,tbL!$M$37:$Q$43,IF(L7=TRUE,3,5)),$P6,IF(AND(L6=TRUE,L7=TRUE),$P6,$P6-1)),IF(AND(L7=TRUE,J7=VLOOKUP(P6,tbL!$M$37:$Q$43,IF(L7=TRUE,2,4))),P6,IF($P6+1>$C$12,$C$12,$P6+1))),0) -> 0 | Q7: =P7 -> 0 | R7: =IF(L7=TRUE,IF(OR(K6=0,R6=1),1,0),0) -> 0 | T7: =IF(AND(L6=TRUE,M7=TRUE),1,IF(AND(L6=TRUE,N7=TRUE),-1,0)) -> 0 | U7: =IF(AND(T7=-1,N7=TRUE),"*",IF(AND(U6="*",N7=TRUE),"*",IF(AND(AND(L7=TRUE,U6="*"),J7<VLOOKUP(V6+1,tbL!$M$38:$O$43,3)),"*",""))) | V7: =IF(U7="*",IF(Q7>V6,V6,Q7),Q7) -> 0 | Y7: =IF(OR($V7=3,OR($V7=1,$V7=2)),IF(OR($V10=0,OR($V11=0,OR($V12=0,OR($V13=0,OR($V14=0,OR($V15=0,$V16=0)))))),IF(J7<IF(V7=3,$D$18,IF(V7=2,$F$13,$F$8)),0,IF(Y6=0,0,IF(J7<10,0,""))),""),"") | Z7: =IF(AND(AND(J12>0,J11=0),Z6=""),1,IF(Z6=1,IF(AND(J7>0,J8-J7>0),"",1),"")) | AA7: =IF(IF(AND(AT7=-1,Z7=1),1,IF(Y7=0,AA6,V7))=0,0,IF((IF(AND(AT7=-1,Z7=1),1,IF(Y7=0,AA6,V7))-AA6)>=2,-(-AA6-1),IF(IF(AND(AT7=-1,Z7=1),1,IF(Y7=0,AA6,V7))-AA6<=-2,(AA6-1),IF(AND(AT7=-1,Z7=1),1,IF(Y7=0,V7,V7))))) -> 0 | AC7: =IF(OR(OR($AT7=-1,$R7=1),AA7=0),"",IF(AND(AA6=AA8,AA7<>AA6),"*","")) | AD7: =IF(AC7="*",AA6,AA7) -> 0 | AE7: =IF(OR(OR($AT7=-1,$R7=1),AD7=0),"",IF(AND(AND(AD6=AD9,AD7<>AD6),AD7=AD8),IF(AE5="*","","*"),"")) | AF7: =IF(AE7="*",AD6,IF(AE6="*",AD5,AD7)) -> 0 | AG7: =IF(OR(OR(OR($AT7=-1,$R7=1),AF7=0),AG4="*"),"",IF(AND(AND(AND(AF6=AF10,AF7<>AF6),AF7=AF8),AF7=AF9),"*","")) | AH7: =IF(AG7="*",AF6,IF(AG6="*",AF5,IF(AG5="*",AF4,AF7))) -> 0 | AI7: =IF(OR(OR(OR($AT7=-1,$R7=1),AH7=0),AI3="*"),"",IF(AND(AND(AND(AND(AH6=AH11,AH7<>AH6),AH7=AH8),AH7=AH9),AH7=AH10),"*","")) | AJ7: =IF(AI7="*",AH6,IF(AI6="*",AH5,IF(AI5="*",AH4,IF(AI4="*",AH3,AH7)))) -> 0 | AL7: =IF(OR(OR(OR($AT7=-1,$R7=1),AJ7=0),AL3="*"),"",IF(AND(AND(AND(AND(AJ6=AJ11,AJ7<>AJ6),AJ7=AJ8),AJ7=AJ9),AJ7=AJ10),"*","")) | AM7: =IF(AL7="*",AJ6,IF(AL6="*",AJ5,IF(AL5="*",AJ4,IF(AL4="*",#REF!,AJ7)))) -> 0 | AN7: =IF(OR(OR(OR($AT7=-1,$R7=1),AM7=0),AN4="*"),"",IF(AND(AND(AND(AM6=AM10,AM7<>AM6),AM7=AM8),AM7=AM9),"*","")) | AO7: =IF(AN7="*",AM6,IF(AN6="*",AM5,IF(AN5="*",AM4,AM7))) -> 0 | AP7: =IF(OR(OR($AT7=-1,$R7=1),AO7=0),"",IF(AND(AND(AO6=AO9,AO7<>AO6),AO7=AO8),"*","")) | AQ7: =IF(AP7="*",AO6,IF(AP6="*",AO5,AO7)) -> 0 | AR7: =IF(OR(OR($AT7=-1,$R7=1),AQ7=0),"",IF(AND(AQ6=AQ8,AQ7<>AQ6),"*","")) | AS7: =IF(AR7="*",AQ6,AQ7) -> 0 | AT7: =IF(OR(Z7=1,Y7=0),-1,"") | AU7: =IF(Y7=0,$C$17/100,IF(OR(K7<$C$17,AA7=0),$C$17/100,(VLOOKUP($AS7,$B$5:$C$11,2)*$J7)/100)) -> 14 | AW7: =AW6+J7/3.6 -> 0
B8: 3 | C8: ='Input&Output'!$D16 -> 1.619 | F8: =IF($F$2=1,INDIRECT(tbL!I8),IF($F$2=2,INDIRECT(tbL!J8),IF($F$2=3,INDIRECT(tbL!K8)))) -> 566.1 | I8: =I7+1 -> 4 | J8: ='v-t_chart'!C5 -> 0 | K8: =IF($J8=0,0,VLOOKUP($Q8,$B$5:$C$11,2)*$J8) -> 0 | L8: =IF('Input&Output'!$C$3=10,phase_chart!C5,IF('Input&Output'!$C$3=21,phase_chart!G5,IF('Input&Output'!$C$3=22,phase_chart!K5,IF('Input&Output'!$C$3=31,phase_chart!O5,IF('Input&Output'!$C$3=32,phase_chart!S5,""))))) -> FALSE | M8: =IF('Input&Output'!$C$3=10,phase_chart!D5,IF('Input&Output'!$C$3=21,phase_chart!H5,IF('Input&Output'!$C$3=22,phase_chart!L5,IF('Input&Output'!$C$3=31,phase_chart!P5,IF('Input&Output'!$C$3=32,phase_chart!T5,""))))) -> FALSE | N8: =IF('Input&Output'!$C$3=10,phase_chart!E5,IF('Input&Output'!$C$3=21,phase_chart!I5,IF('Input&Output'!$C$3=22,phase_chart!M5,IF('Input&Output'!$C$3=31,phase_chart!Q5,IF('Input&Output'!$C$3=32,phase_chart!U5,""))))) -> FALSE | P8: =IF(NOT($J8=0),IF($J8<IF($P7=0,0,VLOOKUP(P7,tbL!$M$37:$Q$43,IF(L8=TRUE,2,4))),IF($J8>=VLOOKUP(P7,tbL!$M$37:$Q$43,IF(L8=TRUE,3,5)),$P7,IF(AND(L7=TRUE,L8=TRUE),$P7,$P7-1)),IF(AND(L8=TRUE,J8=VLOOKUP(P7,tbL!$M$37:$Q$43,IF(L8=TRUE,2,4))),P7,IF($P7+1>$C$12,$C$12,$P7+1))),0) -> 0 | Q8: =P8 -> 0 | R8: =IF(L8=TRUE,IF(OR(K7=0,R7=1),1,0),0) -> 0 | T8: =IF(AND(L7=TRUE,M8=TRUE),1,IF(AND(L7=TRUE,N8=TRUE),-1,0)) -> 0 | U8: =IF(AND(T8=-1,N8=TRUE),"*",IF(AND(U7="*",N8=TRUE),"*",IF(AND(AND(L8=TRUE,U7="*"),J8<VLOOKUP(V7+1,tbL!$M$38:$O$43,3)),"*",""))) | V8: =IF(U8="*",IF(Q8>V7,V7,Q8),Q8) -> 0 | Y8: =IF(OR($V8=3,OR($V8=1,$V8=2)),IF(OR($V11=0,OR($V12=0,OR($V13=0,OR($V14=0,OR($V15=0,OR($V16=0,$V17=0)))))),IF(J8<IF(V8=3,$D$18,IF(V8=2,$F$13,$F$8)),0,IF(Y7=0,0,IF(J8<10,0,""))),""),"") | Z8: =IF(AND(AND(J13>0,J12=0),Z7=""),1,IF(Z7=1,IF(AND(J8>0,J9-J8>0),"",1),"")) | AA8: =IF(IF(AND(AT8=-1,Z8=1),1,IF(Y8=0,AA7,V8))=0,0,IF((IF(AND(AT8=-1,Z8=1),1,IF(Y8=0,AA7,V8))-AA7)>=2,-(-AA7-1),IF(IF(AND(AT8=-1,Z8=1),1,IF(Y8=0,AA7,V8))-AA7<=-2,(AA7-1),IF(AND(AT8=-1,Z8=1),1,IF(Y8=0,V8,V8))))) -> 0 | AC8: =IF(OR(OR($AT8=-1,$R8=1),AA8=0),"",IF(AND(AA7=AA9,AA8<>AA7),"*","")) | AD8: =IF(AC8="*",AA7,AA8) -> 0 | AE8: =IF(OR(OR($AT8=-1,$R8=1),AD8=0),"",IF(AND(AND(AD7=AD10,AD8<>AD7),AD8=AD9),IF(AE6="*","","*"),"")) | AF8: =IF(AE8="*",AD7,IF(AE7="*",AD6,AD8)) -> 0 | AG8: =IF(OR(OR(OR($AT8=-1,$R8=1),AF8=0),AG5="*"),"",IF(AND(AND(AND(AF7=AF11,AF8<>AF7),AF8=AF9),AF8=AF10),"*","")) | AH8: =IF(AG8="*",AF7,IF(AG7="*",AF6,IF(AG6="*",AF5,AF8))) -> 0 | AI8: =IF(OR(OR(OR($AT8=-1,$R8=1),AH8=0),AI4="*"),"",IF(AND(AND(AND(AND(AH7=AH12,AH8<>AH7),AH8=AH9),AH8=AH10),AH8=AH11),"*","")) | AJ8: =IF(AI8="*",AH7,IF(AI7="*",AH6,IF(AI6="*",AH5,IF(AI5="*",AH4,AH8)))) -> 0 | AL8: =IF(OR(OR(OR($AT8=-1,$R8=1),AJ8=0),AL4="*"),"",IF(AND(AND(AND(AND(AJ7=AJ12,AJ8<>AJ7),AJ8=AJ9),AJ8=AJ10),AJ8=AJ11),"*","")) | AM8: =IF(AL8="*",AJ7,IF(AL7="*",AJ6,IF(AL6="*",AJ5,IF(AL5="*",AJ4,AJ8)))) -> 0 | AN8: =IF(OR(OR(OR($AT8=-1,$R8=1),AM8=0),AN5="*"),"",IF(AND(AND(AND(AM7=AM11,AM8<>AM7),AM8=AM9),AM8=AM10),"*","")) | AO8: =IF(AN8="*",AM7,IF(AN7="*",AM6,IF(AN6="*",AM5,AM8))) -> 0 | AP8: =IF(OR(OR($AT8=-1,$R8=1),AO8=0),"",IF(AND(AND(AO7=AO10,AO8<>AO7),AO8=AO9),"*","")) | AQ8: =IF(AP8="*",AO7,IF(AP7="*",AO6,AO8)) -> 0 | AR8: =IF(OR(OR($AT8=-1,$R8=1),AQ8=0),"",IF(AND(AQ7=AQ9,AQ8<>AQ7),"*","")) | AS8: =IF(AR8="*",AQ7,AQ8) -> 0 | AT8: =IF(OR(Z8=1,Y8=0),-1,"") | AU8: =IF(Y8=0,$C$17/100,IF(OR(K8<$C$17,AA8=0),$C$17/100,(VLOOKUP($AS8,$B$5:$C$11,2)*$J8)/100)) -> 14 | AW8: =AW7+J8/3.6 -> 0
B9: 4 | C9: ='Input&Output'!$D17 -> 1.333 | F9: 1st>>Clutch disengage | I9: =I8+1 -> 5 | J9: ='v-t_chart'!C6 -> 0 | K9: =IF($J9=0,0,VLOOKUP($Q9,$B$5:$C$11,2)*$J9) -> 0 | L9: =IF('Input&Output'!$C$3=10,phase_chart!C6,IF('Input&Output'!$C$3=21,phase_chart!G6,IF('Input&Output'!$C$3=22,phase_chart!K6,IF('Input&Output'!$C$3=31,phase_chart!O6,IF('Input&Output'!$C$3=32,phase_chart!S6,""))))) -> FALSE | M9: =IF('Input&Output'!$C$3=10,phase_chart!D6,IF('Input&Output'!$C$3=21,phase_chart!H6,IF('Input&Output'!$C$3=22,phase_chart!L6,IF('Input&Output'!$C$3=31,phase_chart!P6,IF('Input&Output'!$C$3=32,phase_chart!T6,""))))) -> FALSE | N9: =IF('Input&Output'!$C$3=10,phase_chart!E6,IF('Input&Output'!$C$3=21,phase_chart!I6,IF('Input&Output'!$C$3=22,phase_chart!M6,IF('Input&Output'!$C$3=31,phase_chart!Q6,IF('Input&Output'!$C$3=32,phase_chart!U6,""))))) -> FALSE | P9: =IF(NOT($J9=0),IF($J9<IF($P8=0,0,VLOOKUP(P8,tbL!$M$37:$Q$43,IF(L9=TRUE,2,4))),IF($J9>=VLOOKUP(P8,tbL!$M$37:$Q$43,IF(L9=TRUE,3,5)),$P8,IF(AND(L8=TRUE,L9=TRUE),$P8,$P8-1)),IF(AND(L9=TRUE,J9=VLOOKUP(P8,tbL!$M$37:$Q$43,IF(L9=TRUE,2,4))),P8,IF($P8+1>$C$12,$C$12,$P8+1))),0) -> 0 | Q9: =P9 -> 0 | R9: =IF(L9=TRUE,IF(OR(K8=0,R8=1),1,0),0) -> 0 | T9: =IF(AND(L8=TRUE,M9=TRUE),1,IF(AND(L8=TRUE,N9=TRUE),-1,0)) -> 0 | U9: =IF(AND(T9=-1,N9=TRUE),"*",IF(AND(U8="*",N9=TRUE),"*",IF(AND(AND(L9=TRUE,U8="*"),J9<VLOOKUP(V8+1,tbL!$M$38:$O$43,3)),"*",""))) | V9: =IF(U9="*",IF(Q9>V8,V8,Q9),Q9) -> 0 | Y9: =IF(OR($V9=3,OR($V9=1,$V9=2)),IF(OR($V12=0,OR($V13=0,OR($V14=0,OR($V15=0,OR($V16=0,OR($V17=0,$V18=0)))))),IF(J9<IF(V9=3,$D$18,IF(V9=2,$F$13,$F$8)),0,IF(Y8=0,0,IF(J9<10,0,""))),""),"") | Z9: =IF(AND(AND(J14>0,J13=0),Z8=""),1,IF(Z8=1,IF(AND(J9>0,J10-J9>0),"",1),"")) | AA9: =IF(IF(AND(AT9=-1,Z9=1),1,IF(Y9=0,AA8,V9))=0,0,IF((IF(AND(AT9=-1,Z9=1),1,IF(Y9=0,AA8,V9))-AA8)>=2,-(-AA8-1),IF(IF(AND(AT9=-1,Z9=1),1,IF(Y9=0,AA8,V9))-AA8<=-2,(AA8-1),IF(AND(AT9=-1,Z9=1),1,IF(Y9=0,V9,V9))))) -> 0 | AC9: =IF(OR(OR($AT9=-1,$R9=1),AA9=0),"",IF(AND(AA8=AA10,AA9<>AA8),"*","")) | AD9: =IF(AC9="*",AA8,AA9) -> 0 | AE9: =IF(OR(OR($AT9=-1,$R9=1),AD9=0),"",IF(AND(AND(AD8=AD11,AD9<>AD8),AD9=AD10),IF(AE7="*","","*"),"")) | AF9: =IF(AE9="*",AD8,IF(AE8="*",AD7,AD9)) -> 0 | AG9: =IF(OR(OR(OR($AT9=-1,$R9=1),AF9=0),AG6="*"),"",IF(AND(AND(AND(AF8=AF12,AF9<>AF8),AF9=AF10),AF9=AF11),"*","")) | AH9: =IF(AG9="*",AF8,IF(AG8="*",AF7,IF(AG7="*",AF6,AF9))) -> 0 | AI9: =IF(OR(OR(OR($AT9=-1,$R9=1),AH9=0),AI5="*"),"",IF(AND(AND(AND(AND(AH8=AH13,AH9<>AH8),AH9=AH10),AH9=AH11),AH9=AH12),"*","")) | AJ9: =IF(AI9="*",AH8,IF(AI8="*",AH7,IF(AI7="*",AH6,IF(AI6="*",AH5,AH9)))) -> 0 | AL9: =IF(OR(OR(OR($AT9=-1,$R9=1),AJ9=0),AL5="*"),"",IF(AND(AND(AND(AND(AJ8=AJ13,AJ9<>AJ8),AJ9=AJ10),AJ9=AJ11),AJ9=AJ12),"*","")) | AM9: =IF(AL9="*",AJ8,IF(AL8="*",AJ7,IF(AL7="*",AJ6,IF(AL6="*",AJ5,AJ9)))) -> 0 | AN9: =IF(OR(OR(OR($AT9=-1,$R9=1),AM9=0),AN6="*"),"",IF(AND(AND(AND(AM8=AM12,AM9<>AM8),AM9=AM10),AM9=AM11),"*","")) | AO9: =IF(AN9="*",AM8,IF(AN8="*",AM7,IF(AN7="*",AM6,AM9))) -> 0 | AP9: =IF(OR(OR($AT9=-1,$R9=1),AO9=0),"",IF(AND(AND(AO8=AO11,AO9<>AO8),AO9=AO10),"*","")) | AQ9: =IF(AP9="*",AO8,IF(AP8="*",AO7,AO9)) -> 0 | AR9: =IF(OR(OR($AT9=-1,$R9=1),AQ9=0),"",IF(AND(AQ8=AQ10,AQ9<>AQ8),"*","")) | AS9: =IF(AR9="*",AQ8,AQ9) -> 0 | AT9: =IF(OR(Z9=1,Y9=0),-1,"") | AU9: =IF(Y9=0,$C$17/100,IF(OR(K9<$C$17,AA9=0),$C$17/100,(VLOOKUP($AS9,$B$5:$C$11,2)*$J9)/100)) -> 14 | AW9: =AW8+J9/3.6 -> 0
B10: 5 | C10: ='Input&Output'!$D18 -> 1.154 | F10: acceleration | H10: cruise | I10: =I9+1 -> 6 | J10: ='v-t_chart'!C7 -> 0 | K10: =IF($J10=0,0,VLOOKUP($Q10,$B$5:$C$11,2)*$J10) -> 0 | L10: =IF('Input&Output'!$C$3=10,phase_chart!C7,IF('Input&Output'!$C$3=21,phase_chart!G7,IF('Input&Output'!$C$3=22,phase_chart!K7,IF('Input&Output'!$C$3=31,phase_chart!O7,IF('Input&Output'!$C$3=32,phase_chart!S7,""))))) -> FALSE | M10: =IF('Input&Output'!$C$3=10,phase_chart!D7,IF('Input&Output'!$C$3=21,phase_chart!H7,IF('Input&Output'!$C$3=22,phase_chart!L7,IF('Input&Output'!$C$3=31,phase_chart!P7,IF('Input&Output'!$C$3=32,phase_chart!T7,""))))) -> FALSE | N10: =IF('Input&Output'!$C$3=10,phase_chart!E7,IF('Input&Output'!$C$3=21,phase_chart!I7,IF('Input&Output'!$C$3=22,phase_chart!M7,IF('Input&Output'!$C$3=31,phase_chart!Q7,IF('Input&Output'!$C$3=32,phase_chart!U7,""))))) -> FALSE | P10: =IF(NOT($J10=0),IF($J10<IF($P9=0,0,VLOOKUP(P9,tbL!$M$37:$Q$43,IF(L10=TRUE,2,4))),IF($J10>=VLOOKUP(P9,tbL!$M$37:$Q$43,IF(L10=TRUE,3,5)),$P9,IF(AND(L9=TRUE,L10=TRUE),$P9,$P9-1)),IF(AND(L10=TRUE,J10=VLOOKUP(P9,tbL!$M$37:$Q$43,IF(L10=TRUE,2,4))),P9,IF($P9+1>$C$12,$C$12,$P9+1))),0) -> 0 | Q10: =P10 -> 0 | R10: =IF(L10=TRUE,IF(OR(K9=0,R9=1),1,0),0) -> 0 | T10: =IF(AND(L9=TRUE,M10=TRUE),1,IF(AND(L9=TRUE,N10=TRUE),-1,0)) -> 0 | U10: =IF(AND(T10=-1,N10=TRUE),"*",IF(AND(U9="*",N10=TRUE),"*",IF(AND(AND(L10=TRUE,U9="*"),J10<VLOOKUP(V9+1,tbL!$M$38:$O$43,3)),"*",""))) | V10: =IF(U10="*",IF(Q10>V9,V9,Q10),Q10) -> 0 | Y10: =IF(OR($V10=3,OR($V10=1,$V10=2)),IF(OR($V13=0,OR($V14=0,OR($V15=0,OR($V16=0,OR($V17=0,OR($V18=0,$V19=0)))))),IF(J10<IF(V10=3,$D$18,IF(V10=2,$F$13,$F$8)),0,IF(Y9=0,0,IF(J10<10,0,""))),""),"") | Z10: =IF(AND(AND(J15>0,J14=0),Z9=""),1,IF(Z9=1,IF(AND(J10>0,J11-J10>0),"",1),"")) | AA10: =IF(IF(AND(AT10=-1,Z10=1),1,IF(Y10=0,AA9,V10))=0,0,IF((IF(AND(AT10=-1,Z10=1),1,IF(Y10=0,AA9,V10))-AA9)>=2,-(-AA9-1),IF(IF(AND(AT10=-1,Z10=1),1,IF(Y10=0,AA9,V10))-AA9<=-2,(AA9-1),IF(AND(AT10=-1,Z10=1),1,IF(Y10=0,V10,V10))))) -> 0 | AC10: =IF(OR(OR($AT10=-1,$R10=1),AA10=0),"",IF(AND(AA9=AA11,AA10<>AA9),"*","")) | AD10: =IF(AC10="*",AA9,AA10) -> 0 | AE10: =IF(OR(OR($AT10=-1,$R10=1),AD10=0),"",IF(AND(AND(AD9=AD12,AD10<>AD9),AD10=AD11),IF(AE8="*","","*"),"")) | AF10: =IF(AE10="*",AD9,IF(AE9="*",AD8,AD10)) -> 0 | AG10: =IF(OR(OR(OR($AT10=-1,$R10=1),AF10=0),AG7="*"),"",IF(AND(AND(AND(AF9=AF13,AF10<>AF9),AF10=AF11),AF10=AF12),"*","")) | AH10: =IF(AG10="*",AF9,IF(AG9="*",AF8,IF(AG8="*",AF7,AF10))) -> 0 | AI10: =IF(OR(OR(OR($AT10=-1,$R10=1),AH10=0),AI6="*"),"",IF(AND(AND(AND(AND(AH9=AH14,AH10<>AH9),AH10=AH11),AH10=AH12),AH10=AH13),"*","")) | AJ10: =IF(AI10="*",AH9,IF(AI9="*",AH8,IF(AI8="*",AH7,IF(AI7="*",AH6,AH10)))) -> 0 | AL10: =IF(OR(OR(OR($AT10=-1,$R10=1),AJ10=0),AL6="*"),"",IF(AND(AND(AND(AND(AJ9=AJ14,AJ10<>AJ9),AJ10=AJ11),AJ10=AJ12),AJ10=AJ13),"*","")) | AM10: =IF(AL10="*",AJ9,IF(AL9="*",AJ8,IF(AL8="*",AJ7,IF(AL7="*",AJ6,AJ10)))) -> 0 | AN10: =IF(OR(OR(OR($AT10=-1,$R10=1),AM10=0),AN7="*"),"",IF(AND(AND(AND(AM9=AM13,AM10<>AM9),AM10=AM11),AM10=AM12),"*","")) | AO10: =IF(AN10="*",AM9,IF(AN9="*",AM8,IF(AN8="*",AM7,AM10))) -> 0 | AP10: =IF(OR(OR($AT10=-1,$R10=1),AO10=0),"",IF(AND(AND(AO9=AO12,AO10<>AO9),AO10=AO11),"*","")) | AQ10: =IF(AP10="*",AO9,IF(AP9="*",AO8,AO10)) -> 0 | AR10: =IF(OR(OR($AT10=-1,$R10=1),AQ10=0),"",IF(AND(AQ9=AQ11,AQ10<>AQ9),"*","")) | AS10: =IF(AR10="*",AQ9,AQ10) -> 0 | AT10: =IF(OR(Z10=1,Y10=0),-1,"") | AU10: =IF(Y10=0,$C$17/100,IF(OR(K10<$C$17,AA10=0),$C$17/100,(VLOOKUP($AS10,$B$5:$C$11,2)*$J10)/100)) -> 14 | AW10: =AW9+J10/3.6 -> 0
B11: 6 | C11: ='Input&Output'!$D19 -> 1.037 | E11: 1st | F11: 1st>>2nd | G11: 2nd | H11: 1st>>2nd | I11: =I10+1 -> 7 | J11: ='v-t_chart'!C8 -> 0 | K11: =IF($J11=0,0,VLOOKUP($Q11,$B$5:$C$11,2)*$J11) -> 0 | L11: =IF('Input&Output'!$C$3=10,phase_chart!C8,IF('Input&Output'!$C$3=21,phase_chart!G8,IF('Input&Output'!$C$3=22,phase_chart!K8,IF('Input&Output'!$C$3=31,phase_chart!O8,IF('Input&Output'!$C$3=32,phase_chart!S8,""))))) -> FALSE | M11: =IF('Input&Output'!$C$3=10,phase_chart!D8,IF('Input&Output'!$C$3=21,phase_chart!H8,IF('Input&Output'!$C$3=22,phase_chart!L8,IF('Input&Output'!$C$3=31,phase_chart!P8,IF('Input&Output'!$C$3=32,phase_chart!T8,""))))) -> FALSE | N11: =IF('Input&Output'!$C$3=10,phase_chart!E8,IF('Input&Output'!$C$3=21,phase_chart!I8,IF('Input&Output'!$C$3=22,phase_chart!M8,IF('Input&Output'!$C$3=31,phase_chart!Q8,IF('Input&Output'!$C$3=32,phase_chart!U8,""))))) -> FALSE | P11: =IF(NOT($J11=0),IF($J11<IF($P10=0,0,VLOOKUP(P10,tbL!$M$37:$Q$43,IF(L11=TRUE,2,4))),IF($J11>=VLOOKUP(P10,tbL!$M$37:$Q$43,IF(L11=TRUE,3,5)),$P10,IF(AND(L10=TRUE,L11=TRUE),$P10,$P10-1)),IF(AND(L11=TRUE,J11=VLOOKUP(P10,tbL!$M$37:$Q$43,IF(L11=TRUE,2,4))),P10,IF($P10+1>$C$12,$C$12,$P10+1))),0) -> 0 | Q11: =P11 -> 0 | R11: =IF(L11=TRUE,IF(OR(K10=0,R10=1),1,0),0) -> 0 | T11: =IF(AND(L10=TRUE,M11=TRUE),1,IF(AND(L10=TRUE,N11=TRUE),-1,0)) -> 0 | U11: =IF(AND(T11=-1,N11=TRUE),"*",IF(AND(U10="*",N11=TRUE),"*",IF(AND(AND(L11=TRUE,U10="*"),J11<VLOOKUP(V10+1,tbL!$M$38:$O$43,3)),"*",""))) | V11: =IF(U11="*",IF(Q11>V10,V10,Q11),Q11) -> 0 | Y11: =IF(OR($V11=3,OR($V11=1,$V11=2)),IF(OR($V14=0,OR($V15=0,OR($V16=0,OR($V17=0,OR($V18=0,OR($V19=0,$V20=0)))))),IF(J11<IF(V11=3,$D$18,IF(V11=2,$F$13,$F$8)),0,IF(Y10=0,0,IF(J11<10,0,""))),""),"") | Z11: =IF(AND(AND(J16>0,J15=0),Z10=""),1,IF(Z10=1,IF(AND(J11>0,J12-J11>0),"",1),"")) | AA11: =IF(IF(AND(AT11=-1,Z11=1),1,IF(Y11=0,AA10,V11))=0,0,IF((IF(AND(AT11=-1,Z11=1),1,IF(Y11=0,AA10,V11))-AA10)>=2,-(-AA10-1),IF(IF(AND(AT11=-1,Z11=1),1,IF(Y11=0,AA10,V11))-AA10<=-2,(AA10-1),IF(AND(AT11=-1,Z11=1),1,IF(Y11=0,V11,V11))))) -> 0 | AC11: =IF(OR(OR($AT11=-1,$R11=1),AA11=0),"",IF(AND(AA10=AA12,AA11<>AA10),"*","")) | AD11: =IF(AC11="*",AA10,AA11) -> 0 | AE11: =IF(OR(OR($AT11=-1,$R11=1),AD11=0),"",IF(AND(AND(AD10=AD13,AD11<>AD10),AD11=AD12),IF(AE9="*","","*"),"")) | AF11: =IF(AE11="*",AD10,IF(AE10="*",AD9,AD11)) -> 0 | AG11: =IF(OR(OR(OR($AT11=-1,$R11=1),AF11=0),AG8="*"),"",IF(AND(AND(AND(AF10=AF14,AF11<>AF10),AF11=AF12),AF11=AF13),"*","")) | AH11: =IF(AG11="*",AF10,IF(AG10="*",AF9,IF(AG9="*",AF8,AF11))) -> 0 | AI11: =IF(OR(OR(OR($AT11=-1,$R11=1),AH11=0),AI7="*"),"",IF(AND(AND(AND(AND(AH10=AH15,AH11<>AH10),AH11=AH12),AH11=AH13),AH11=AH14),"*","")) | AJ11: =IF(AI11="*",AH10,IF(AI10="*",AH9,IF(AI9="*",AH8,IF(AI8="*",AH7,AH11)))) -> 0 | AL11: =IF(OR(OR(OR($AT11=-1,$R11=1),AJ11=0),AL7="*"),"",IF(AND(AND(AND(AND(AJ10=AJ15,AJ11<>AJ10),AJ11=AJ12),AJ11=AJ13),AJ11=AJ14),"*","")) | AM11: =IF(AL11="*",AJ10,IF(AL10="*",AJ9,IF(AL9="*",AJ8,IF(AL8="*",AJ7,AJ11)))) -> 0 | AN11: =IF(OR(OR(OR($AT11=-1,$R11=1),AM11=0),AN8="*"),"",IF(AND(AND(AND(AM10=AM14,AM11<>AM10),AM11=AM12),AM11=AM13),"*","")) | AO11: =IF(AN11="*",AM10,IF(AN10="*",AM9,IF(AN9="*",AM8,AM11))) -> 0 | AP11: =IF(OR(OR($AT11=-1,$R11=1),AO11=0),"",IF(AND(AND(AO10=AO13,AO11<>AO10),AO11=AO12),"*","")) | AQ11: =IF(AP11="*",AO10,IF(AP10="*",AO9,AO11)) -> 0 | AR11: =IF(OR(OR($AT11=-1,$R11=1),AQ11=0),"",IF(AND(AQ10=AQ12,AQ11<>AQ10),"*","")) | AS11: =IF(AR11="*",AQ10,AQ11) -> 0 | AT11: =IF(OR(Z11=1,Y11=0),-1,"") | AU11: =IF(Y11=0,$C$17/100,IF(OR(K11<$C$17,AA11=0),$C$17/100,(VLOOKUP($AS11,$B$5:$C$11,2)*$J11)/100)) -> 14 | AW11: =AW10+J11/3.6 -> 0
B12: no. of gears | C12: =IF(C9=0,3,IF(C10=0,4,IF(C11=0,5,IF(C11<>0,6,IF(C9="",3,IF(C10="",4,IF(C11="",5,""))))))) -> 6 | E12: =((0.5753*EXP((-1.9)*($C$15)/($C$14-0))-0.1)*($C$16-$C$17)+$C$17) -> 4350.4462 | F12: =IF($F$2=1,INDIRECT(tbL!I12),IF($F$2=2,INDIRECT(tbL!J12),IF($F$2=3,INDIRECT(tbL!K12)))) -> 1485.3 | G12: =F12*C7 -> 3053.7768 | H12: =F13 -> 806.4 | I12: =I11+1 -> 8 | J12: ='v-t_chart'!C9 -> 0 | K12: =IF($J12=0,0,VLOOKUP($Q12,$B$5:$C$11,2)*$J12) -> 0 | L12: =IF('Input&Output'!$C$3=10,phase_chart!C9,IF('Input&Output'!$C$3=21,phase_chart!G9,IF('Input&Output'!$C$3=22,phase_chart!K9,IF('Input&Output'!$C$3=31,phase_chart!O9,IF('Input&Output'!$C$3=32,phase_chart!S9,""))))) -> FALSE | M12: =IF('Input&Output'!$C$3=10,phase_chart!D9,IF('Input&Output'!$C$3=21,phase_chart!H9,IF('Input&Output'!$C$3=22,phase_chart!L9,IF('Input&Output'!$C$3=31,phase_chart!P9,IF('Input&Output'!$C$3=32,phase_chart!T9,""))))) -> FALSE | N12: =IF('Input&Output'!$C$3=10,phase_chart!E9,IF('Input&Output'!$C$3=21,phase_chart!I9,IF('Input&Output'!$C$3=22,phase_chart!M9,IF('Input&Output'!$C$3=31,phase_chart!Q9,IF('Input&Output'!$C$3=32,phase_chart!U9,""))))) -> FALSE | P12: =IF(NOT($J12=0),IF($J12<IF($P11=0,0,VLOOKUP(P11,tbL!$M$37:$Q$43,IF(L12=TRUE,2,4))),IF($J12>=VLOOKUP(P11,tbL!$M$37:$Q$43,IF(L12=TRUE,3,5)),$P11,IF(AND(L11=TRUE,L12=TRUE),$P11,$P11-1)),IF(AND(L12=TRUE,J12=VLOOKUP(P11,tbL!$M$37:$Q$43,IF(L12=TRUE,2,4))),P11,IF($P11+1>$C$12,$C$12,$P11+1))),0) -> 0 | Q12: =P12 -> 0 | R12: =IF(L12=TRUE,IF(OR(K11=0,R11=1),1,0),0) -> 0 | T12: =IF(AND(L11=TRUE,M12=TRUE),1,IF(AND(L11=TRUE,N12=TRUE),-1,0)) -> 0 | U12: =IF(AND(T12=-1,N12=TRUE),"*",IF(AND(U11="*",N12=TRUE),"*",IF(AND(AND(L12=TRUE,U11="*"),J12<VLOOKUP(V11+1,tbL!$M$38:$O$43,3)),"*",""))) | V12: =IF(U12="*",IF(Q12>V11,V11,Q12),Q12) -> 0 | Y12: =IF(OR($V12=3,OR($V12=1,$V12=2)),IF(OR($V15=0,OR($V16=0,OR($V17=0,OR($V18=0,OR($V19=0,OR($V20=0,$V21=0)))))),IF(J12<IF(V12=3,$D$18,IF(V12=2,$F$13,$F$8)),0,IF(Y11=0,0,IF(J12<10,0,""))),""),"") | Z12: =IF(AND(AND(J17>0,J16=0),Z11=""),1,IF(Z11=1,IF(AND(J12>0,J13-J12>0),"",1),"")) | AA12: =IF(IF(AND(AT12=-1,Z12=1),1,IF(Y12=0,AA11,V12))=0,0,IF((IF(AND(AT12=-1,Z12=1),1,IF(Y12=0,AA11,V12))-AA11)>=2,-(-AA11-1),IF(IF(AND(AT12=-1,Z12=1),1,IF(Y12=0,AA11,V12))-AA11<=-2,(AA11-1),IF(AND(AT12=-1,Z12=1),1,IF(Y12=0,V12,V12))))) -> 0 | AC12: =IF(OR(OR($AT12=-1,$R12=1),AA12=0),"",IF(AND(AA11=AA13,AA12<>AA11),"*","")) | AD12: =IF(AC12="*",AA11,AA12) -> 0 | AE12: =IF(OR(OR($AT12=-1,$R12=1),AD12=0),"",IF(AND(AND(AD11=AD14,AD12<>AD11),AD12=AD13),IF(AE10="*","","*"),"")) | AF12: =IF(AE12="*",AD11,IF(AE11="*",AD10,AD12)) -> 0 | AG12: =IF(OR(OR(OR($AT12=-1,$R12=1),AF12=0),AG9="*"),"",IF(AND(AND(AND(AF11=AF15,AF12<>AF11),AF12=AF13),AF12=AF14),"*","")) | AH12: =IF(AG12="*",AF11,IF(AG11="*",AF10,IF(AG10="*",AF9,AF12))) -> 0 | AI12: =IF(OR(OR(OR($AT12=-1,$R12=1),AH12=0),AI8="*"),"",IF(AND(AND(AND(AND(AH11=AH16,AH12<>AH11),AH12=AH13),AH12=AH14),AH12=AH15),"*","")) | AJ12: =IF(AI12="*",AH11,IF(AI11="*",AH10,IF(AI10="*",AH9,IF(AI9="*",AH8,AH12)))) -> 0 | AL12: =IF(OR(OR(OR($AT12=-1,$R12=1),AJ12=0),AL8="*"),"",IF(AND(AND(AND(AND(AJ11=AJ16,AJ12<>AJ11),AJ12=AJ13),AJ12=AJ14),AJ12=AJ15),"*","")) | AM12: =IF(AL12="*",AJ11,IF(AL11="*",AJ10,IF(AL10="*",AJ9,IF(AL9="*",AJ8,AJ12)))) -> 0 | AN12: =IF(OR(OR(OR($AT12=-1,$R12=1),AM12=0),AN9="*"),"",IF(AND(AND(AND(AM11=AM15,AM12<>AM11),AM12=AM13),AM12=AM14),"*","")) | AO12: =IF(AN12="*",AM11,IF(AN11="*",AM10,IF(AN10="*",AM9,AM12))) -> 0 | AP12: =IF(OR(OR($AT12=-1,$R12=1),AO12=0),"",IF(AND(AND(AO11=AO14,AO12<>AO11),AO12=AO13),"*","")) | AQ12: =IF(AP12="*",AO11,IF(AP11="*",AO10,AO12)) -> 0 | AR12: =IF(OR(OR($AT12=-1,$R12=1),AQ12=0),"",IF(AND(AQ11=AQ13,AQ12<>AQ11),"*","")) | AS12: =IF(AR12="*",AQ11,AQ12) -> 0 | AT12: =IF(OR(Z12=1,Y12=0),-1,"") | AU12: =IF(Y12=0,$C$17/100,IF(OR(K12<$C$17,AA12=0),$C$17/100,(VLOOKUP($AS12,$B$5:$C$11,2)*$J12)/100)) -> 14 | AW12: =AW11+J12/3.6 -> 0
E13: =F13*C6 -> 2361.9456 | F13: =IF($F$2=1,INDIRECT(tbL!I13),IF($F$2=2,INDIRECT(tbL!J13),IF($F$2=3,INDIRECT(tbL!K13)))) -> 806.4 | G13: =F13*C7 -> 1657.9584 | H13: =F13 -> 806.4 | I13: =I12+1 -> 9 | J13: ='v-t_chart'!C10 -> 0 | K13: =IF($J13=0,0,VLOOKUP($Q13,$B$5:$C$11,2)*$J13) -> 0 | L13: =IF('Input&Output'!$C$3=10,phase_chart!C10,IF('Input&Output'!$C$3=21,phase_chart!G10,IF('Input&Output'!$C$3=22,phase_chart!K10,IF('Input&Output'!$C$3=31,phase_chart!O10,IF('Input&Output'!$C$3=32,phase_chart!S10,""))))) -> FALSE | M13: =IF('Input&Output'!$C$3=10,phase_chart!D10,IF('Input&Output'!$C$3=21,phase_chart!H10,IF('Input&Output'!$C$3=22,phase_chart!L10,IF('Input&Output'!$C$3=31,phase_chart!P10,IF('Input&Output'!$C$3=32,phase_chart!T10,""))))) -> FALSE | N13: =IF('Input&Output'!$C$3=10,phase_chart!E10,IF('Input&Output'!$C$3=21,phase_chart!I10,IF('Input&Output'!$C$3=22,phase_chart!M10,IF('Input&Output'!$C$3=31,phase_chart!Q10,IF('Input&Output'!$C$3=32,phase_chart!U10,""))))) -> FALSE | P13: =IF(NOT($J13=0),IF($J13<IF($P12=0,0,VLOOKUP(P12,tbL!$M$37:$Q$43,IF(L13=TRUE,2,4))),IF($J13>=VLOOKUP(P12,tbL!$M$37:$Q$43,IF(L13=TRUE,3,5)),$P12,IF(AND(L12=TRUE,L13=TRUE),$P12,$P12-1)),IF(AND(L13=TRUE,J13=VLOOKUP(P12,tbL!$M$37:$Q$43,IF(L13=TRUE,2,4))),P12,IF($P12+1>$C$12,$C$12,$P12+1))),0) -> 0 | Q13: =P13 -> 0 | R13: =IF(L13=TRUE,IF(OR(K12=0,R12=1),1,0),0) -> 0 | T13: =IF(AND(L12=TRUE,M13=TRUE),1,IF(AND(L12=TRUE,N13=TRUE),-1,0)) -> 0 | U13: =IF(AND(T13=-1,N13=TRUE),"*",IF(AND(U12="*",N13=TRUE),"*",IF(AND(AND(L13=TRUE,U12="*"),J13<VLOOKUP(V12+1,tbL!$M$38:$O$43,3)),"*",""))) | V13: =IF(U13="*",IF(Q13>V12,V12,Q13),Q13) -> 0 | Y13: =IF(OR($V13=3,OR($V13=1,$V13=2)),IF(OR($V16=0,OR($V17=0,OR($V18=0,OR($V19=0,OR($V20=0,OR($V21=0,$V22=0)))))),IF(J13<IF(V13=3,$D$18,IF(V13=2,$F$13,$F$8)),0,IF(Y12=0,0,IF(J13<10,0,""))),""),"") | Z13: =IF(AND(AND(J18>0,J17=0),Z12=""),1,IF(Z12=1,IF(AND(J13>0,J14-J13>0),"",1),"")) | AA13: =IF(IF(AND(AT13=-1,Z13=1),1,IF(Y13=0,AA12,V13))=0,0,IF((IF(AND(AT13=-1,Z13=1),1,IF(Y13=0,AA12,V13))-AA12)>=2,-(-AA12-1),IF(IF(AND(AT13=-1,Z13=1),1,IF(Y13=0,AA12,V13))-AA12<=-2,(AA12-1),IF(AND(AT13=-1,Z13=1),1,IF(Y13=0,V13,V13))))) -> 0 | AC13: =IF(OR(OR($AT13=-1,$R13=1),AA13=0),"",IF(AND(AA12=AA14,AA13<>AA12),"*","")) | AD13: =IF(AC13="*",AA12,AA13) -> 0 | AE13: =IF(OR(OR($AT13=-1,$R13=1),AD13=0),"",IF(AND(AND(AD12=AD15,AD13<>AD12),AD13=AD14),IF(AE11="*","","*"),"")) | AF13: =IF(AE13="*",AD12,IF(AE12="*",AD11,AD13)) -> 0 | AG13: =IF(OR(OR(OR($AT13=-1,$R13=1),AF13=0),AG10="*"),"",IF(AND(AND(AND(AF12=AF16,AF13<>AF12),AF13=AF14),AF13=AF15),"*","")) | AH13: =IF(AG13="*",AF12,IF(AG12="*",AF11,IF(AG11="*",AF10,AF13))) -> 0 | AI13: =IF(OR(OR(OR($AT13=-1,$R13=1),AH13=0),AI9="*"),"",IF(AND(AND(AND(AND(AH12=AH17,AH13<>AH12),AH13=AH14),AH13=AH15),AH13=AH16),"*","")) | AJ13: =IF(AI13="*",AH12,IF(AI12="*",AH11,IF(AI11="*",AH10,IF(AI10="*",AH9,AH13)))) -> 0 | AL13: =IF(OR(OR(OR($AT13=-1,$R13=1),AJ13=0),AL9="*"),"",IF(AND(AND(AND(AND(AJ12=AJ17,AJ13<>AJ12),AJ13=AJ14),AJ13=AJ15),AJ13=AJ16),"*","")) | AM13: =IF(AL13="*",AJ12,IF(AL12="*",AJ11,IF(AL11="*",AJ10,IF(AL10="*",AJ9,AJ13)))) -> 0 | AN13: =IF(OR(OR(OR($AT13=-1,$R13=1),AM13=0),AN10="*"),"",IF(AND(AND(AND(AM12=AM16,AM13<>AM12),AM13=AM14),AM13=AM15),"*","")) | AO13: =IF(AN13="*",AM12,IF(AN12="*",AM11,IF(AN11="*",AM10,AM13))) -> 0 | AP13: =IF(OR(OR($AT13=-1,$R13=1),AO13=0),"",IF(AND(AND(AO12=AO15,AO13<>AO12),AO13=AO14),"*","")) | AQ13: =IF(AP13="*",AO12,IF(AP12="*",AO11,AO13)) -> 0 | AR13: =IF(OR(OR($AT13=-1,$R13=1),AQ13=0),"",IF(AND(AQ12=AQ14,AQ13<>AQ12),"*","")) | AS13: =IF(AR13="*",AQ12,AQ13) -> 0 | AT13: =IF(OR(Z13=1,Y13=0),-1,"") | AU13: =IF(Y13=0,$C$17/100,IF(OR(K13<$C$17,AA13=0),$C$17/100,(VLOOKUP($AS13,$B$5:$C$11,2)*$J13)/100)) -> 14 | AW13: =AW12+J13/3.6 -> 0
A14: weight | B14: kg | C14: ='Input&Output'!D9+75 -> 243 | F14: 2nd>>1st or Clutch disengage | H14: 2nd>>1st | I14: =I13+1 -> 10 | J14: ='v-t_chart'!C11 -> 0 | K14: =IF($J14=0,0,VLOOKUP($Q14,$B$5:$C$11,2)*$J14) -> 0 | L14: =IF('Input&Output'!$C$3=10,phase_chart!C11,IF('Input&Output'!$C$3=21,phase_chart!G11,IF('Input&Output'!$C$3=22,phase_chart!K11,IF('Input&Output'!$C$3=31,phase_chart!O11,IF('Input&Output'!$C$3=32,phase_chart!S11,""))))) -> FALSE | M14: =IF('Input&Output'!$C$3=10,phase_chart!D11,IF('Input&Output'!$C$3=21,phase_chart!H11,IF('Input&Output'!$C$3=22,phase_chart!L11,IF('Input&Output'!$C$3=31,phase_chart!P11,IF('Input&Output'!$C$3=32,phase_chart!T11,""))))) -> FALSE | N14: =IF('Input&Output'!$C$3=10,phase_chart!E11,IF('Input&Output'!$C$3=21,phase_chart!I11,IF('Input&Output'!$C$3=22,phase_chart!M11,IF('Input&Output'!$C$3=31,phase_chart!Q11,IF('Input&Output'!$C$3=32,phase_chart!U11,""))))) -> FALSE | P14: =IF(NOT($J14=0),IF($J14<IF($P13=0,0,VLOOKUP(P13,tbL!$M$37:$Q$43,IF(L14=TRUE,2,4))),IF($J14>=VLOOKUP(P13,tbL!$M$37:$Q$43,IF(L14=TRUE,3,5)),$P13,IF(AND(L13=TRUE,L14=TRUE),$P13,$P13-1)),IF(AND(L14=TRUE,J14=VLOOKUP(P13,tbL!$M$37:$Q$43,IF(L14=TRUE,2,4))),P13,IF($P13+1>$C$12,$C$12,$P13+1))),0) -> 0 | Q14: =P14 -> 0 | R14: =IF(L14=TRUE,IF(OR(K13=0,R13=1),1,0),0) -> 0 | T14: =IF(AND(L13=TRUE,M14=TRUE),1,IF(AND(L13=TRUE,N14=TRUE),-1,0)) -> 0 | U14: =IF(AND(T14=-1,N14=TRUE),"*",IF(AND(U13="*",N14=TRUE),"*",IF(AND(AND(L14=TRUE,U13="*"),J14<VLOOKUP(V13+1,tbL!$M$38:$O$43,3)),"*",""))) | V14: =IF(U14="*",IF(Q14>V13,V13,Q14),Q14) -> 0 | Y14: =IF(OR($V14=3,OR($V14=1,$V14=2)),IF(OR($V17=0,OR($V18=0,OR($V19=0,OR($V20=0,OR($V21=0,OR($V22=0,$V23=0)))))),IF(J14<IF(V14=3,$D$18,IF(V14=2,$F$13,$F$8)),0,IF(Y13=0,0,IF(J14<10,0,""))),""),"") | Z14: =IF(AND(AND(J19>0,J18=0),Z13=""),1,IF(Z13=1,IF(AND(J14>0,J15-J14>0),"",1),"")) | AA14: =IF(IF(AND(AT14=-1,Z14=1),1,IF(Y14=0,AA13,V14))=0,0,IF((IF(AND(AT14=-1,Z14=1),1,IF(Y14=0,AA13,V14))-AA13)>=2,-(-AA13-1),IF(IF(AND(AT14=-1,Z14=1),1,IF(Y14=0,AA13,V14))-AA13<=-2,(AA13-1),IF(AND(AT14=-1,Z14=1),1,IF(Y14=0,V14,V14))))) -> 0 | AC14: =IF(OR(OR($AT14=-1,$R14=1),AA14=0),"",IF(AND(AA13=AA15,AA14<>AA13),"*","")) | AD14: =IF(AC14="*",AA13,AA14) -> 0 | AE14: =IF(OR(OR($AT14=-1,$R14=1),AD14=0),"",IF(AND(AND(AD13=AD16,AD14<>AD13),AD14=AD15),IF(AE12="*","","*"),"")) | AF14: =IF(AE14="*",AD13,IF(AE13="*",AD12,AD14)) -> 0 | AG14: =IF(OR(OR(OR($AT14=-1,$R14=1),AF14=0),AG11="*"),"",IF(AND(AND(AND(AF13=AF17,AF14<>AF13),AF14=AF15),AF14=AF16),"*","")) | AH14: =IF(AG14="*",AF13,IF(AG13="*",AF12,IF(AG12="*",AF11,AF14))) -> 0 | AI14: =IF(OR(OR(OR($AT14=-1,$R14=1),AH14=0),AI10="*"),"",IF(AND(AND(AND(AND(AH13=AH18,AH14<>AH13),AH14=AH15),AH14=AH16),AH14=AH17),"*","")) | AJ14: =IF(AI14="*",AH13,IF(AI13="*",AH12,IF(AI12="*",AH11,IF(AI11="*",AH10,AH14)))) -> 0 | AL14: =IF(OR(OR(OR($AT14=-1,$R14=1),AJ14=0),AL10="*"),"",IF(AND(AND(AND(AND(AJ13=AJ18,AJ14<>AJ13),AJ14=AJ15),AJ14=AJ16),AJ14=AJ17),"*","")) | AM14: =IF(AL14="*",AJ13,IF(AL13="*",AJ12,IF(AL12="*",AJ11,IF(AL11="*",AJ10,AJ14)))) -> 0 | AN14: =IF(OR(OR(OR($AT14=-1,$R14=1),AM14=0),AN11="*"),"",IF(AND(AND(AND(AM13=AM17,AM14<>AM13),AM14=AM15),AM14=AM16),"*","")) | AO14: =IF(AN14="*",AM13,IF(AN13="*",AM12,IF(AN12="*",AM11,AM14))) -> 0 | AP14: =IF(OR(OR($AT14=-1,$R14=1),AO14=0),"",IF(AND(AND(AO13=AO16,AO14<>AO13),AO14=AO15),"*","")) | AQ14: =IF(AP14="*",AO13,IF(AP13="*",AO12,AO14)) -> 0 | AR14: =IF(OR(OR($AT14=-1,$R14=1),AQ14=0),"",IF(AND(AQ13=AQ15,AQ14<>AQ13),"*","")) | AS14: =IF(AR14="*",AQ13,AQ14) -> 0 | AT14: =IF(OR(Z14=1,Y14=0),-1,"") | AU14: =IF(Y14=0,$C$17/100,IF(OR(K14<$C$17,AA14=0),$C$17/100,(VLOOKUP($AS14,$B$5:$C$11,2)*$J14)/100)) -> 14 | AW14: =AW13+J14/3.6 -> 0
A15: max-power | B15: kW | C15: ='Input&Output'!D8 -> 33.4 | I15: =I14+1 -> 11 | J15: ='v-t_chart'!C12 -> 0 | K15: =IF($J15=0,0,VLOOKUP($Q15,$B$5:$C$11,2)*$J15) -> 0 | L15: =IF('Input&Output'!$C$3=10,phase_chart!C12,IF('Input&Output'!$C$3=21,phase_chart!G12,IF('Input&Output'!$C$3=22,phase_chart!K12,IF('Input&Output'!$C$3=31,phase_chart!O12,IF('Input&Output'!$C$3=32,phase_chart!S12,""))))) -> FALSE | M15: =IF('Input&Output'!$C$3=10,phase_chart!D12,IF('Input&Output'!$C$3=21,phase_chart!H12,IF('Input&Output'!$C$3=22,phase_chart!L12,IF('Input&Output'!$C$3=31,phase_chart!P12,IF('Input&Output'!$C$3=32,phase_chart!T12,""))))) -> FALSE | N15: =IF('Input&Output'!$C$3=10,phase_chart!E12,IF('Input&Output'!$C$3=21,phase_chart!I12,IF('Input&Output'!$C$3=22,phase_chart!M12,IF('Input&Output'!$C$3=31,phase_chart!Q12,IF('Input&Output'!$C$3=32,phase_chart!U12,""))))) -> FALSE | P15: =IF(NOT($J15=0),IF($J15<IF($P14=0,0,VLOOKUP(P14,tbL!$M$37:$Q$43,IF(L15=TRUE,2,4))),IF($J15>=VLOOKUP(P14,tbL!$M$37:$Q$43,IF(L15=TRUE,3,5)),$P14,IF(AND(L14=TRUE,L15=TRUE),$P14,$P14-1)),IF(AND(L15=TRUE,J15=VLOOKUP(P14,tbL!$M$37:$Q$43,IF(L15=TRUE,2,4))),P14,IF($P14+1>$C$12,$C$12,$P14+1))),0) -> 0 | Q15: =P15 -> 0 | R15: =IF(L15=TRUE,IF(OR(K14=0,R14=1),1,0),0) -> 0 | T15: =IF(AND(L14=TRUE,M15=TRUE),1,IF(AND(L14=TRUE,N15=TRUE),-1,0)) -> 0 | U15: =IF(AND(T15=-1,N15=TRUE),"*",IF(AND(U14="*",N15=TRUE),"*",IF(AND(AND(L15=TRUE,U14="*"),J15<VLOOKUP(V14+1,tbL!$M$38:$O$43,3)),"*",""))) | V15: =IF(U15="*",IF(Q15>V14,V14,Q15),Q15) -> 0 | Y15: =IF(OR($V15=3,OR($V15=1,$V15=2)),IF(OR($V18=0,OR($V19=0,OR($V20=0,OR($V21=0,OR($V22=0,OR($V23=0,$V24=0)))))),IF(J15<IF(V15=3,$D$18,IF(V15=2,$F$13,$F$8)),0,IF(Y14=0,0,IF(J15<10,0,""))),""),"") | Z15: =IF(AND(AND(J20>0,J19=0),Z14=""),1,IF(Z14=1,IF(AND(J15>0,J16-J15>0),"",1),"")) | AA15: =IF(IF(AND(AT15=-1,Z15=1),1,IF(Y15=0,AA14,V15))=0,0,IF((IF(AND(AT15=-1,Z15=1),1,IF(Y15=0,AA14,V15))-AA14)>=2,-(-AA14-1),IF(IF(AND(AT15=-1,Z15=1),1,IF(Y15=0,AA14,V15))-AA14<=-2,(AA14-1),IF(AND(AT15=-1,Z15=1),1,IF(Y15=0,V15,V15))))) -> 0 | AC15: =IF(OR(OR($AT15=-1,$R15=1),AA15=0),"",IF(AND(AA14=AA16,AA15<>AA14),"*","")) | AD15: =IF(AC15="*",AA14,AA15) -> 0 | AE15: =IF(OR(OR($AT15=-1,$R15=1),AD15=0),"",IF(AND(AND(AD14=AD17,AD15<>AD14),AD15=AD16),IF(AE13="*","","*"),"")) | AF15: =IF(AE15="*",AD14,IF(AE14="*",AD13,AD15)) -> 0 | AG15: =IF(OR(OR(OR($AT15=-1,$R15=1),AF15=0),AG12="*"),"",IF(AND(AND(AND(AF14=AF18,AF15<>AF14),AF15=AF16),AF15=AF17),"*","")) | AH15: =IF(AG15="*",AF14,IF(AG14="*",AF13,IF(AG13="*",AF12,AF15))) -> 0 | AI15: =IF(OR(OR(OR($AT15=-1,$R15=1),AH15=0),AI11="*"),"",IF(AND(AND(AND(AND(AH14=AH19,AH15<>AH14),AH15=AH16),AH15=AH17),AH15=AH18),"*","")) | AJ15: =IF(AI15="*",AH14,IF(AI14="*",AH13,IF(AI13="*",AH12,IF(AI12="*",AH11,AH15)))) -> 0 | AL15: =IF(OR(OR(OR($AT15=-1,$R15=1),AJ15=0),AL11="*"),"",IF(AND(AND(AND(AND(AJ14=AJ19,AJ15<>AJ14),AJ15=AJ16),AJ15=AJ17),AJ15=AJ18),"*","")) | AM15: =IF(AL15="*",AJ14,IF(AL14="*",AJ13,IF(AL13="*",AJ12,IF(AL12="*",AJ11,AJ15)))) -> 0 | AN15: =IF(OR(OR(OR($AT15=-1,$R15=1),AM15=0),AN12="*"),"",IF(AND(AND(AND(AM14=AM18,AM15<>AM14),AM15=AM16),AM15=AM17),"*","")) | AO15: =IF(AN15="*",AM14,IF(AN14="*",AM13,IF(AN13="*",AM12,AM15))) -> 0 | AP15: =IF(OR(OR($AT15=-1,$R15=1),AO15=0),"",IF(AND(AND(AO14=AO17,AO15<>AO14),AO15=AO16),"*","")) | AQ15: =IF(AP15="*",AO14,IF(AP14="*",AO13,AO15)) -> 0 | AR15: =IF(OR(OR($AT15=-1,$R15=1),AQ15=0),"",IF(AND(AQ14=AQ16,AQ15<>AQ14),"*","")) | AS15: =IF(AR15="*",AQ14,AQ15) -> 0 | AT15: =IF(OR(Z15=1,Y15=0),-1,"") | AU15: =IF(Y15=0,$C$17/100,IF(OR(K15<$C$17,AA15=0),$C$17/100,(VLOOKUP($AS15,$B$5:$C$11,2)*$J15)/100)) -> 14 | AW15: =AW14+J15/3.6 -> 0
A16: Ne at max-power | B16: rpm | C16: ='Input&Output'!D11 -> 10000 | E16: 2nd | F16: 2nd>>3rd | G16: 3rd | H16: 2nd>>3rd | I16: =I15+1 -> 12 | J16: ='v-t_chart'!C13 -> 0 | K16: =IF($J16=0,0,VLOOKUP($Q16,$B$5:$C$11,2)*$J16) -> 0 | L16: =IF('Input&Output'!$C$3=10,phase_chart!C13,IF('Input&Output'!$C$3=21,phase_chart!G13,IF('Input&Output'!$C$3=22,phase_chart!K13,IF('Input&Output'!$C$3=31,phase_chart!O13,IF('Input&Output'!$C$3=32,phase_chart!S13,""))))) -> FALSE | M16: =IF('Input&Output'!$C$3=10,phase_chart!D13,IF('Input&Output'!$C$3=21,phase_chart!H13,IF('Input&Output'!$C$3=22,phase_chart!L13,IF('Input&Output'!$C$3=31,phase_chart!P13,IF('Input&Output'!$C$3=32,phase_chart!T13,""))))) -> FALSE | N16: =IF('Input&Output'!$C$3=10,phase_chart!E13,IF('Input&Output'!$C$3=21,phase_chart!I13,IF('Input&Output'!$C$3=22,phase_chart!M13,IF('Input&Output'!$C$3=31,phase_chart!Q13,IF('Input&Output'!$C$3=32,phase_chart!U13,""))))) -> FALSE | P16: =IF(NOT($J16=0),IF($J16<IF($P15=0,0,VLOOKUP(P15,tbL!$M$37:$Q$43,IF(L16=TRUE,2,4))),IF($J16>=VLOOKUP(P15,tbL!$M$37:$Q$43,IF(L16=TRUE,3,5)),$P15,IF(AND(L15=TRUE,L16=TRUE),$P15,$P15-1)),IF(AND(L16=TRUE,J16=VLOOKUP(P15,tbL!$M$37:$Q$43,IF(L16=TRUE,2,4))),P15,IF($P15+1>$C$12,$C$12,$P15+1))),0) -> 0 | Q16: =P16 -> 0 | R16: =IF(L16=TRUE,IF(OR(K15=0,R15=1),1,0),0) -> 0 | T16: =IF(AND(L15=TRUE,M16=TRUE),1,IF(AND(L15=TRUE,N16=TRUE),-1,0)) -> 0 | U16: =IF(AND(T16=-1,N16=TRUE),"*",IF(AND(U15="*",N16=TRUE),"*",IF(AND(AND(L16=TRUE,U15="*"),J16<VLOOKUP(V15+1,tbL!$M$38:$O$43,3)),"*",""))) | V16: =IF(U16="*",IF(Q16>V15,V15,Q16),Q16) -> 0 | Y16: =IF(OR($V16=3,OR($V16=1,$V16=2)),IF(OR($V19=0,OR($V20=0,OR($V21=0,OR($V22=0,OR($V23=0,OR($V24=0,$V25=0)))))),IF(J16<IF(V16=3,$D$18,IF(V16=2,$F$13,$F$8)),0,IF(Y15=0,0,IF(J16<10,0,""))),""),"") | Z16: =IF(AND(AND(J21>0,J20=0),Z15=""),1,IF(Z15=1,IF(AND(J16>0,J17-J16>0),"",1),"")) | AA16: =IF(IF(AND(AT16=-1,Z16=1),1,IF(Y16=0,AA15,V16))=0,0,IF((IF(AND(AT16=-1,Z16=1),1,IF(Y16=0,AA15,V16))-AA15)>=2,-(-AA15-1),IF(IF(AND(AT16=-1,Z16=1),1,IF(Y16=0,AA15,V16))-AA15<=-2,(AA15-1),IF(AND(AT16=-1,Z16=1),1,IF(Y16=0,V16,V16))))) -> 0 | AC16: =IF(OR(OR($AT16=-1,$R16=1),AA16=0),"",IF(AND(AA15=AA17,AA16<>AA15),"*","")) | AD16: =IF(AC16="*",AA15,AA16) -> 0 | AE16: =IF(OR(OR($AT16=-1,$R16=1),AD16=0),"",IF(AND(AND(AD15=AD18,AD16<>AD15),AD16=AD17),IF(AE14="*","","*"),"")) | AF16: =IF(AE16="*",AD15,IF(AE15="*",AD14,AD16)) -> 0 | AG16: =IF(OR(OR(OR($AT16=-1,$R16=1),AF16=0),AG13="*"),"",IF(AND(AND(AND(AF15=AF19,AF16<>AF15),AF16=AF17),AF16=AF18),"*","")) | AH16: =IF(AG16="*",AF15,IF(AG15="*",AF14,IF(AG14="*",AF13,AF16))) -> 0 | AI16: =IF(OR(OR(OR($AT16=-1,$R16=1),AH16=0),AI12="*"),"",IF(AND(AND(AND(AND(AH15=AH20,AH16<>AH15),AH16=AH17),AH16=AH18),AH16=AH19),"*","")) | AJ16: =IF(AI16="*",AH15,IF(AI15="*",AH14,IF(AI14="*",AH13,IF(AI13="*",AH12,AH16)))) -> 0 | AL16: =IF(OR(OR(OR($AT16=-1,$R16=1),AJ16=0),AL12="*"),"",IF(AND(AND(AND(AND(AJ15=AJ20,AJ16<>AJ15),AJ16=AJ17),AJ16=AJ18),AJ16=AJ19),"*","")) | AM16: =IF(AL16="*",AJ15,IF(AL15="*",AJ14,IF(AL14="*",AJ13,IF(AL13="*",AJ12,AJ16)))) -> 0 | AN16: =IF(OR(OR(OR($AT16=-1,$R16=1),AM16=0),AN13="*"),"",IF(AND(AND(AND(AM15=AM19,AM16<>AM15),AM16=AM17),AM16=AM18),"*","")) | AO16: =IF(AN16="*",AM15,IF(AN15="*",AM14,IF(AN14="*",AM13,AM16))) -> 0 | AP16: =IF(OR(OR($AT16=-1,$R16=1),AO16=0),"",IF(AND(AND(AO15=AO18,AO16<>AO15),AO16=AO17),"*","")) | AQ16: =IF(AP16="*",AO15,IF(AP15="*",AO14,AO16)) -> 0 | AR16: =IF(OR(OR($AT16=-1,$R16=1),AQ16=0),"",IF(AND(AQ15=AQ17,AQ16<>AQ15),"*","")) | AS16: =IF(AR16="*",AQ15,AQ16) -> 0 | AT16: =IF(OR(Z16=1,Y16=0),-1,"") | AU16: =IF(Y16=0,$C$17/100,IF(OR(K16<$C$17,AA16=0),$C$17/100,(VLOOKUP($AS16,$B$5:$C$11,2)*$J16)/100)) -> 14 | AW16: =AW15+J16/3.6 -> 0
A17: Idling Ne | B17: rpm | C17: ='Input&Output'!D12 -> 1400 | D17: 3rd>>Clutch disengage | E17: =((0.5753*EXP((-1.9)*($C$15)/($C$14-0)))*($C$16-$C$17)+$C$17) -> 5210.4462 | F17: =IF($F$2=1,INDIRECT(tbL!I17),IF($F$2=2,INDIRECT(tbL!J17),IF($F$2=3,INDIRECT(tbL!K17)))) -> 2534.3 | G17: =F17*C8 -> 4103.0317 | H17: =F12 -> 1485.3 | I17: =I16+1 -> 13 | J17: ='v-t_chart'!C14 -> 0 | K17: =IF($J17=0,0,VLOOKUP($Q17,$B$5:$C$11,2)*$J17) -> 0 | L17: =IF('Input&Output'!$C$3=10,phase_chart!C14,IF('Input&Output'!$C$3=21,phase_chart!G14,IF('Input&Output'!$C$3=22,phase_chart!K14,IF('Input&Output'!$C$3=31,phase_chart!O14,IF('Input&Output'!$C$3=32,phase_chart!S14,""))))) -> FALSE | M17: =IF('Input&Output'!$C$3=10,phase_chart!D14,IF('Input&Output'!$C$3=21,phase_chart!H14,IF('Input&Output'!$C$3=22,phase_chart!L14,IF('Input&Output'!$C$3=31,phase_chart!P14,IF('Input&Output'!$C$3=32,phase_chart!T14,""))))) -> FALSE | N17: =IF('Input&Output'!$C$3=10,phase_chart!E14,IF('Input&Output'!$C$3=21,phase_chart!I14,IF('Input&Output'!$C$3=22,phase_chart!M14,IF('Input&Output'!$C$3=31,phase_chart!Q14,IF('Input&Output'!$C$3=32,phase_chart!U14,""))))) -> FALSE | P17: =IF(NOT($J17=0),IF($J17<IF($P16=0,0,VLOOKUP(P16,tbL!$M$37:$Q$43,IF(L17=TRUE,2,4))),IF($J17>=VLOOKUP(P16,tbL!$M$37:$Q$43,IF(L17=TRUE,3,5)),$P16,IF(AND(L16=TRUE,L17=TRUE),$P16,$P16-1)),IF(AND(L17=TRUE,J17=VLOOKUP(P16,tbL!$M$37:$Q$43,IF(L17=TRUE,2,4))),P16,IF($P16+1>$C$12,$C$12,$P16+1))),0) -> 0 | Q17: =P17 -> 0 | R17: =IF(L17=TRUE,IF(OR(K16=0,R16=1),1,0),0) -> 0 | T17: =IF(AND(L16=TRUE,M17=TRUE),1,IF(AND(L16=TRUE,N17=TRUE),-1,0)) -> 0 | U17: =IF(AND(T17=-1,N17=TRUE),"*",IF(AND(U16="*",N17=TRUE),"*",IF(AND(AND(L17=TRUE,U16="*"),J17<VLOOKUP(V16+1,tbL!$M$38:$O$43,3)),"*",""))) | V17: =IF(U17="*",IF(Q17>V16,V16,Q17),Q17) -> 0 | Y17: =IF(OR($V17=3,OR($V17=1,$V17=2)),IF(OR($V20=0,OR($V21=0,OR($V22=0,OR($V23=0,OR($V24=0,OR($V25=0,$V26=0)))))),IF(J17<IF(V17=3,$D$18,IF(V17=2,$F$13,$F$8)),0,IF(Y16=0,0,IF(J17<10,0,""))),""),"") | Z17: =IF(AND(AND(J22>0,J21=0),Z16=""),1,IF(Z16=1,IF(AND(J17>0,J18-J17>0),"",1),"")) | AA17: =IF(IF(AND(AT17=-1,Z17=1),1,IF(Y17=0,AA16,V17))=0,0,IF((IF(AND(AT17=-1,Z17=1),1,IF(Y17=0,AA16,V17))-AA16)>=2,-(-AA16-1),IF(IF(AND(AT17=-1,Z17=1),1,IF(Y17=0,AA16,V17))-AA16<=-2,(AA16-1),IF(AND(AT17=-1,Z17=1),1,IF(Y17=0,V17,V17))))) -> 0 | AC17: =IF(OR(OR($AT17=-1,$R17=1),AA17=0),"",IF(AND(AA16=AA18,AA17<>AA16),"*","")) | AD17: =IF(AC17="*",AA16,AA17) -> 0 | AE17: =IF(OR(OR($AT17=-1,$R17=1),AD17=0),"",IF(AND(AND(AD16=AD19,AD17<>AD16),AD17=AD18),IF(AE15="*","","*"),"")) | AF17: =IF(AE17="*",AD16,IF(AE16="*",AD15,AD17)) -> 0 | AG17: =IF(OR(OR(OR($AT17=-1,$R17=1),AF17=0),AG14="*"),"",IF(AND(AND(AND(AF16=AF20,AF17<>AF16),AF17=AF18),AF17=AF19),"*","")) | AH17: =IF(AG17="*",AF16,IF(AG16="*",AF15,IF(AG15="*",AF14,AF17))) -> 0 | AI17: =IF(OR(OR(OR($AT17=-1,$R17=1),AH17=0),AI13="*"),"",IF(AND(AND(AND(AND(AH16=AH21,AH17<>AH16),AH17=AH18),AH17=AH19),AH17=AH20),"*","")) | AJ17: =IF(AI17="*",AH16,IF(AI16="*",AH15,IF(AI15="*",AH14,IF(AI14="*",AH13,AH17)))) -> 0 | AL17: =IF(OR(OR(OR($AT17=-1,$R17=1),AJ17=0),AL13="*"),"",IF(AND(AND(AND(AND(AJ16=AJ21,AJ17<>AJ16),AJ17=AJ18),AJ17=AJ19),AJ17=AJ20),"*","")) | AM17: =IF(AL17="*",AJ16,IF(AL16="*",AJ15,IF(AL15="*",AJ14,IF(AL14="*",AJ13,AJ17)))) -> 0 | AN17: =IF(OR(OR(OR($AT17=-1,$R17=1),AM17=0),AN14="*"),"",IF(AND(AND(AND(AM16=AM20,AM17<>AM16),AM17=AM18),AM17=AM19),"*","")) | AO17: =IF(AN17="*",AM16,IF(AN16="*",AM15,IF(AN15="*",AM14,AM17))) -> 0 | AP17: =IF(OR(OR($AT17=-1,$R17=1),AO17=0),"",IF(AND(AND(AO16=AO19,AO17<>AO16),AO17=AO18),"*","")) | AQ17: =IF(AP17="*",AO16,IF(AP16="*",AO15,AO17)) -> 0 | AR17: =IF(OR(OR($AT17=-1,$R17=1),AQ17=0),"",IF(AND(AQ16=AQ18,AQ17<>AQ16),"*","")) | AS17: =IF(AR17="*",AQ16,AQ17) -> 0 | AT17: =IF(OR(Z17=1,Y17=0),-1,"") | AU17: =IF(Y17=0,$C$17/100,IF(OR(K17<$C$17,AA17=0),$C$17/100,(VLOOKUP($AS17,$B$5:$C$11,2)*$J17)/100)) -> 14 | AW17: =AW16+J17/3.6 -> 0
D18: =ROUND(G5/C8,tbL!B2) -> 1024.1 | E18: =F18*C7 -> 3053.7768 | F18: =IF($F$2=1,INDIRECT(tbL!I18),IF($F$2=2,INDIRECT(tbL!J18),IF($F$2=3,INDIRECT(tbL!K18)))) -> 1485.3 | G18: =F12*C8 -> 2404.7007 | H18: =F12 -> 1485.3 | I18: =I17+1 -> 14 | J18: ='v-t_chart'!C15 -> 0 | K18: =IF($J18=0,0,VLOOKUP($Q18,$B$5:$C$11,2)*$J18) -> 0 | L18: =IF('Input&Output'!$C$3=10,phase_chart!C15,IF('Input&Output'!$C$3=21,phase_chart!G15,IF('Input&Output'!$C$3=22,phase_chart!K15,IF('Input&Output'!$C$3=31,phase_chart!O15,IF('Input&Output'!$C$3=32,phase_chart!S15,""))))) -> FALSE | M18: =IF('Input&Output'!$C$3=10,phase_chart!D15,IF('Input&Output'!$C$3=21,phase_chart!H15,IF('Input&Output'!$C$3=22,phase_chart!L15,IF('Input&Output'!$C$3=31,phase_chart!P15,IF('Input&Output'!$C$3=32,phase_chart!T15,""))))) -> FALSE | N18: =IF('Input&Output'!$C$3=10,phase_chart!E15,IF('Input&Output'!$C$3=21,phase_chart!I15,IF('Input&Output'!$C$3=22,phase_chart!M15,IF('Input&Output'!$C$3=31,phase_chart!Q15,IF('Input&Output'!$C$3=32,phase_chart!U15,""))))) -> FALSE | P18: =IF(NOT($J18=0),IF($J18<IF($P17=0,0,VLOOKUP(P17,tbL!$M$37:$Q$43,IF(L18=TRUE,2,4))),IF($J18>=VLOOKUP(P17,tbL!$M$37:$Q$43,IF(L18=TRUE,3,5)),$P17,IF(AND(L17=TRUE,L18=TRUE),$P17,$P17-1)),IF(AND(L18=TRUE,J18=VLOOKUP(P17,tbL!$M$37:$Q$43,IF(L18=TRUE,2,4))),P17,IF($P17+1>$C$12,$C$12,$P17+1))),0) -> 0 | Q18: =P18 -> 0 | R18: =IF(L18=TRUE,IF(OR(K17=0,R17=1),1,0),0) -> 0 | T18: =IF(AND(L17=TRUE,M18=TRUE),1,IF(AND(L17=TRUE,N18=TRUE),-1,0)) -> 0 | U18: =IF(AND(T18=-1,N18=TRUE),"*",IF(AND(U17="*",N18=TRUE),"*",IF(AND(AND(L18=TRUE,U17="*"),J18<VLOOKUP(V17+1,tbL!$M$38:$O$43,3)),"*",""))) | V18: =IF(U18="*",IF(Q18>V17,V17,Q18),Q18) -> 0 | Y18: =IF(OR($V18=3,OR($V18=1,$V18=2)),IF(OR($V21=0,OR($V22=0,OR($V23=0,OR($V24=0,OR($V25=0,OR($V26=0,$V27=0)))))),IF(J18<IF(V18=3,$D$18,IF(V18=2,$F$13,$F$8)),0,IF(Y17=0,0,IF(J18<10,0,""))),""),"") | Z18: =IF(AND(AND(J23>0,J22=0),Z17=""),1,IF(Z17=1,IF(AND(J18>0,J19-J18>0),"",1),"")) | AA18: =IF(IF(AND(AT18=-1,Z18=1),1,IF(Y18=0,AA17,V18))=0,0,IF((IF(AND(AT18=-1,Z18=1),1,IF(Y18=0,AA17,V18))-AA17)>=2,-(-AA17-1),IF(IF(AND(AT18=-1,Z18=1),1,IF(Y18=0,AA17,V18))-AA17<=-2,(AA17-1),IF(AND(AT18=-1,Z18=1),1,IF(Y18=0,V18,V18))))) -> 0 | AC18: =IF(OR(OR($AT18=-1,$R18=1),AA18=0),"",IF(AND(AA17=AA19,AA18<>AA17),"*","")) | AD18: =IF(AC18="*",AA17,AA18) -> 0 | AE18: =IF(OR(OR($AT18=-1,$R18=1),AD18=0),"",IF(AND(AND(AD17=AD20,AD18<>AD17),AD18=AD19),IF(AE16="*","","*"),"")) | AF18: =IF(AE18="*",AD17,IF(AE17="*",AD16,AD18)) -> 0 | AG18: =IF(OR(OR(OR($AT18=-1,$R18=1),AF18=0),AG15="*"),"",IF(AND(AND(AND(AF17=AF21,AF18<>AF17),AF18=AF19),AF18=AF20),"*","")) | AH18: =IF(AG18="*",AF17,IF(AG17="*",AF16,IF(AG16="*",AF15,AF18))) -> 0 | AI18: =IF(OR(OR(OR($AT18=-1,$R18=1),AH18=0),AI14="*"),"",IF(AND(AND(AND(AND(AH17=AH22,AH18<>AH17),AH18=AH19),AH18=AH20),AH18=AH21),"*","")) | AJ18: =IF(AI18="*",AH17,IF(AI17="*",AH16,IF(AI16="*",AH15,IF(AI15="*",AH14,AH18)))) -> 0 | AL18: =IF(OR(OR(OR($AT18=-1,$R18=1),AJ18=0),AL14="*"),"",IF(AND(AND(AND(AND(AJ17=AJ22,AJ18<>AJ17),AJ18=AJ19),AJ18=AJ20),AJ18=AJ21),"*","")) | AM18: =IF(AL18="*",AJ17,IF(AL17="*",AJ16,IF(AL16="*",AJ15,IF(AL15="*",AJ14,AJ18)))) -> 0 | AN18: =IF(OR(OR(OR($AT18=-1,$R18=1),AM18=0),AN15="*"),"",IF(AND(AND(AND(AM17=AM21,AM18<>AM17),AM18=AM19),AM18=AM20),"*","")) | AO18: =IF(AN18="*",AM17,IF(AN17="*",AM16,IF(AN16="*",AM15,AM18))) -> 0 | AP18: =IF(OR(OR($AT18=-1,$R18=1),AO18=0),"",IF(AND(AND(AO17=AO20,AO18<>AO17),AO18=AO19),"*","")) | AQ18: =IF(AP18="*",AO17,IF(AP17="*",AO16,AO18)) -> 0 | AR18: =IF(OR(OR($AT18=-1,$R18=1),AQ18=0),"",IF(AND(AQ17=AQ19,AQ18<>AQ17),"*","")) | AS18: =IF(AR18="*",AQ17,AQ18) -> 0 | AT18: =IF(OR(Z18=1,Y18=0),-1,"") | AU18: =IF(Y18=0,$C$17/100,IF(OR(K18<$C$17,AA18=0),$C$17/100,(VLOOKUP($AS18,$B$5:$C$11,2)*$J18)/100)) -> 14 | AW18: =AW17+J18/3.6 -> 0
F19: 3rd>>2nd | H19: 3rd>>2nd | I19: =I18+1 -> 15 | J19: ='v-t_chart'!C16 -> 0 | K19: =IF($J19=0,0,VLOOKUP($Q19,$B$5:$C$11,2)*$J19) -> 0 | L19: =IF('Input&Output'!$C$3=10,phase_chart!C16,IF('Input&Output'!$C$3=21,phase_chart!G16,IF('Input&Output'!$C$3=22,phase_chart!K16,IF('Input&Output'!$C$3=31,phase_chart!O16,IF('Input&Output'!$C$3=32,phase_chart!S16,""))))) -> FALSE | M19: =IF('Input&Output'!$C$3=10,phase_chart!D16,IF('Input&Output'!$C$3=21,phase_chart!H16,IF('Input&Output'!$C$3=22,phase_chart!L16,IF('Input&Output'!$C$3=31,phase_chart!P16,IF('Input&Output'!$C$3=32,phase_chart!T16,""))))) -> FALSE | N19: =IF('Input&Output'!$C$3=10,phase_chart!E16,IF('Input&Output'!$C$3=21,phase_chart!I16,IF('Input&Output'!$C$3=22,phase_chart!M16,IF('Input&Output'!$C$3=31,phase_chart!Q16,IF('Input&Output'!$C$3=32,phase_chart!U16,""))))) -> FALSE | P19: =IF(NOT($J19=0),IF($J19<IF($P18=0,0,VLOOKUP(P18,tbL!$M$37:$Q$43,IF(L19=TRUE,2,4))),IF($J19>=VLOOKUP(P18,tbL!$M$37:$Q$43,IF(L19=TRUE,3,5)),$P18,IF(AND(L18=TRUE,L19=TRUE),$P18,$P18-1)),IF(AND(L19=TRUE,J19=VLOOKUP(P18,tbL!$M$37:$Q$43,IF(L19=TRUE,2,4))),P18,IF($P18+1>$C$12,$C$12,$P18+1))),0) -> 0 | Q19: =P19 -> 0 | R19: =IF(L19=TRUE,IF(OR(K18=0,R18=1),1,0),0) -> 0 | T19: =IF(AND(L18=TRUE,M19=TRUE),1,IF(AND(L18=TRUE,N19=TRUE),-1,0)) -> 0 | U19: =IF(AND(T19=-1,N19=TRUE),"*",IF(AND(U18="*",N19=TRUE),"*",IF(AND(AND(L19=TRUE,U18="*"),J19<VLOOKUP(V18+1,tbL!$M$38:$O$43,3)),"*",""))) | V19: =IF(U19="*",IF(Q19>V18,V18,Q19),Q19) -> 0 | Y19: =IF(OR($V19=3,OR($V19=1,$V19=2)),IF(OR($V22=0,OR($V23=0,OR($V24=0,OR($V25=0,OR($V26=0,OR($V27=0,$V28=0)))))),IF(J19<IF(V19=3,$D$18,IF(V19=2,$F$13,$F$8)),0,IF(Y18=0,0,IF(J19<10,0,""))),""),"") | Z19: =IF(AND(AND(J24>0,J23=0),Z18=""),1,IF(Z18=1,IF(AND(J19>0,J20-J19>0),"",1),"")) | AA19: =IF(IF(AND(AT19=-1,Z19=1),1,IF(Y19=0,AA18,V19))=0,0,IF((IF(AND(AT19=-1,Z19=1),1,IF(Y19=0,AA18,V19))-AA18)>=2,-(-AA18-1),IF(IF(AND(AT19=-1,Z19=1),1,IF(Y19=0,AA18,V19))-AA18<=-2,(AA18-1),IF(AND(AT19=-1,Z19=1),1,IF(Y19=0,V19,V19))))) -> 0 | AC19: =IF(OR(OR($AT19=-1,$R19=1),AA19=0),"",IF(AND(AA18=AA20,AA19<>AA18),"*","")) | AD19: =IF(AC19="*",AA18,AA19) -> 0 | AE19: =IF(OR(OR($AT19=-1,$R19=1),AD19=0),"",IF(AND(AND(AD18=AD21,AD19<>AD18),AD19=AD20),IF(AE17="*","","*"),"")) | AF19: =IF(AE19="*",AD18,IF(AE18="*",AD17,AD19)) -> 0 | AG19: =IF(OR(OR(OR($AT19=-1,$R19=1),AF19=0),AG16="*"),"",IF(AND(AND(AND(AF18=AF22,AF19<>AF18),AF19=AF20),AF19=AF21),"*","")) | AH19: =IF(AG19="*",AF18,IF(AG18="*",AF17,IF(AG17="*",AF16,AF19))) -> 0 | AI19: =IF(OR(OR(OR($AT19=-1,$R19=1),AH19=0),AI15="*"),"",IF(AND(AND(AND(AND(AH18=AH23,AH19<>AH18),AH19=AH20),AH19=AH21),AH19=AH22),"*","")) | AJ19: =IF(AI19="*",AH18,IF(AI18="*",AH17,IF(AI17="*",AH16,IF(AI16="*",AH15,AH19)))) -> 0 | AL19: =IF(OR(OR(OR($AT19=-1,$R19=1),AJ19=0),AL15="*"),"",IF(AND(AND(AND(AND(AJ18=AJ23,AJ19<>AJ18),AJ19=AJ20),AJ19=AJ21),AJ19=AJ22),"*","")) | AM19: =IF(AL19="*",AJ18,IF(AL18="*",AJ17,IF(AL17="*",AJ16,IF(AL16="*",AJ15,AJ19)))) -> 0 | AN19: =IF(OR(OR(OR($AT19=-1,$R19=1),AM19=0),AN16="*"),"",IF(AND(AND(AND(AM18=AM22,AM19<>AM18),AM19=AM20),AM19=AM21),"*","")) | AO19: =IF(AN19="*",AM18,IF(AN18="*",AM17,IF(AN17="*",AM16,AM19))) -> 0 | AP19: =IF(OR(OR($AT19=-1,$R19=1),AO19=0),"",IF(AND(AND(AO18=AO21,AO19<>AO18),AO19=AO20),"*","")) | AQ19: =IF(AP19="*",AO18,IF(AP18="*",AO17,AO19)) -> 0 | AR19: =IF(OR(OR($AT19=-1,$R19=1),AQ19=0),"",IF(AND(AQ18=AQ20,AQ19<>AQ18),"*","")) | AS19: =IF(AR19="*",AQ18,AQ19) -> 0 | AT19: =IF(OR(Z19=1,Y19=0),-1,"") | AU19: =IF(Y19=0,$C$17/100,IF(OR(K19<$C$17,AA19=0),$C$17/100,(VLOOKUP($AS19,$B$5:$C$11,2)*$J19)/100)) -> 14 | AW19: =AW18+J19/3.6 -> 0
I20: =I19+1 -> 16 | J20: ='v-t_chart'!C17 -> 0 | K20: =IF($J20=0,0,VLOOKUP($Q20,$B$5:$C$11,2)*$J20) -> 0 | L20: =IF('Input&Output'!$C$3=10,phase_chart!C17,IF('Input&Output'!$C$3=21,phase_chart!G17,IF('Input&Output'!$C$3=22,phase_chart!K17,IF('Input&Output'!$C$3=31,phase_chart!O17,IF('Input&Output'!$C$3=32,phase_chart!S17,""))))) -> FALSE | M20: =IF('Input&Output'!$C$3=10,phase_chart!D17,IF('Input&Output'!$C$3=21,phase_chart!H17,IF('Input&Output'!$C$3=22,phase_chart!L17,IF('Input&Output'!$C$3=31,phase_chart!P17,IF('Input&Output'!$C$3=32,phase_chart!T17,""))))) -> FALSE | N20: =IF('Input&Output'!$C$3=10,phase_chart!E17,IF('Input&Output'!$C$3=21,phase_chart!I17,IF('Input&Output'!$C$3=22,phase_chart!M17,IF('Input&Output'!$C$3=31,phase_chart!Q17,IF('Input&Output'!$C$3=32,phase_chart!U17,""))))) -> FALSE | P20: =IF(NOT($J20=0),IF($J20<IF($P19=0,0,VLOOKUP(P19,tbL!$M$37:$Q$43,IF(L20=TRUE,2,4))),IF($J20>=VLOOKUP(P19,tbL!$M$37:$Q$43,IF(L20=TRUE,3,5)),$P19,IF(AND(L19=TRUE,L20=TRUE),$P19,$P19-1)),IF(AND(L20=TRUE,J20=VLOOKUP(P19,tbL!$M$37:$Q$43,IF(L20=TRUE,2,4))),P19,IF($P19+1>$C$12,$C$12,$P19+1))),0) -> 0 | Q20: =P20 -> 0 | R20: =IF(L20=TRUE,IF(OR(K19=0,R19=1),1,0),0) -> 0 | T20: =IF(AND(L19=TRUE,M20=TRUE),1,IF(AND(L19=TRUE,N20=TRUE),-1,0)) -> 0 | U20: =IF(AND(T20=-1,N20=TRUE),"*",IF(AND(U19="*",N20=TRUE),"*",IF(AND(AND(L20=TRUE,U19="*"),J20<VLOOKUP(V19+1,tbL!$M$38:$O$43,3)),"*",""))) | V20: =IF(U20="*",IF(Q20>V19,V19,Q20),Q20) -> 0 | Y20: =IF(OR($V20=3,OR($V20=1,$V20=2)),IF(OR($V23=0,OR($V24=0,OR($V25=0,OR($V26=0,OR($V27=0,OR($V28=0,$V29=0)))))),IF(J20<IF(V20=3,$D$18,IF(V20=2,$F$13,$F$8)),0,IF(Y19=0,0,IF(J20<10,0,""))),""),"") | Z20: =IF(AND(AND(J25>0,J24=0),Z19=""),1,IF(Z19=1,IF(AND(J20>0,J21-J20>0),"",1),"")) | AA20: =IF(IF(AND(AT20=-1,Z20=1),1,IF(Y20=0,AA19,V20))=0,0,IF((IF(AND(AT20=-1,Z20=1),1,IF(Y20=0,AA19,V20))-AA19)>=2,-(-AA19-1),IF(IF(AND(AT20=-1,Z20=1),1,IF(Y20=0,AA19,V20))-AA19<=-2,(AA19-1),IF(AND(AT20=-1,Z20=1),1,IF(Y20=0,V20,V20))))) -> 0 | AC20: =IF(OR(OR($AT20=-1,$R20=1),AA20=0),"",IF(AND(AA19=AA21,AA20<>AA19),"*","")) | AD20: =IF(AC20="*",AA19,AA20) -> 0 | AE20: =IF(OR(OR($AT20=-1,$R20=1),AD20=0),"",IF(AND(AND(AD19=AD22,AD20<>AD19),AD20=AD21),IF(AE18="*","","*"),"")) | AF20: =IF(AE20="*",AD19,IF(AE19="*",AD18,AD20)) -> 0 | AG20: =IF(OR(OR(OR($AT20=-1,$R20=1),AF20=0),AG17="*"),"",IF(AND(AND(AND(AF19=AF23,AF20<>AF19),AF20=AF21),AF20=AF22),"*","")) | AH20: =IF(AG20="*",AF19,IF(AG19="*",AF18,IF(AG18="*",AF17,AF20))) -> 0 | AI20: =IF(OR(OR(OR($AT20=-1,$R20=1),AH20=0),AI16="*"),"",IF(AND(AND(AND(AND(AH19=AH24,AH20<>AH19),AH20=AH21),AH20=AH22),AH20=AH23),"*","")) | AJ20: =IF(AI20="*",AH19,IF(AI19="*",AH18,IF(AI18="*",AH17,IF(AI17="*",AH16,AH20)))) -> 0 | AL20: =IF(OR(OR(OR($AT20=-1,$R20=1),AJ20=0),AL16="*"),"",IF(AND(AND(AND(AND(AJ19=AJ24,AJ20<>AJ19),AJ20=AJ21),AJ20=AJ22),AJ20=AJ23),"*","")) | AM20: =IF(AL20="*",AJ19,IF(AL19="*",AJ18,IF(AL18="*",AJ17,IF(AL17="*",AJ16,AJ20)))) -> 0 | AN20: =IF(OR(OR(OR($AT20=-1,$R20=1),AM20=0),AN17="*"),"",IF(AND(AND(AND(AM19=AM23,AM20<>AM19),AM20=AM21),AM20=AM22),"*","")) | AO20: =IF(AN20="*",AM19,IF(AN19="*",AM18,IF(AN18="*",AM17,AM20))) -> 0 | AP20: =IF(OR(OR($AT20=-1,$R20=1),AO20=0),"",IF(AND(AND(AO19=AO22,AO20<>AO19),AO20=AO21),"*","")) | AQ20: =IF(AP20="*",AO19,IF(AP19="*",AO18,AO20)) -> 0 | AR20: =IF(OR(OR($AT20=-1,$R20=1),AQ20=0),"",IF(AND(AQ19=AQ21,AQ20<>AQ19),"*","")) | AS20: =IF(AR20="*",AQ19,AQ20) -> 0 | AT20: =IF(OR(Z20=1,Y20=0),-1,"") | AU20: =IF(Y20=0,$C$17/100,IF(OR(K20<$C$17,AA20=0),$C$17/100,(VLOOKUP($AS20,$B$5:$C$11,2)*$J20)/100)) -> 14 | AW20: =AW19+J20/3.6 -> 0
E21: 3rd | F21: 3rd>>4th | G21: 4th | H21: 3rd>>4th | I21: =I20+1 -> 17 | J21: ='v-t_chart'!C18 -> 0 | K21: =IF($J21=0,0,VLOOKUP($Q21,$B$5:$C$11,2)*$J21) -> 0 | L21: =IF('Input&Output'!$C$3=10,phase_chart!C18,IF('Input&Output'!$C$3=21,phase_chart!G18,IF('Input&Output'!$C$3=22,phase_chart!K18,IF('Input&Output'!$C$3=31,phase_chart!O18,IF('Input&Output'!$C$3=32,phase_chart!S18,""))))) -> FALSE | M21: =IF('Input&Output'!$C$3=10,phase_chart!D18,IF('Input&Output'!$C$3=21,phase_chart!H18,IF('Input&Output'!$C$3=22,phase_chart!L18,IF('Input&Output'!$C$3=31,phase_chart!P18,IF('Input&Output'!$C$3=32,phase_chart!T18,""))))) -> FALSE | N21: =IF('Input&Output'!$C$3=10,phase_chart!E18,IF('Input&Output'!$C$3=21,phase_chart!I18,IF('Input&Output'!$C$3=22,phase_chart!M18,IF('Input&Output'!$C$3=31,phase_chart!Q18,IF('Input&Output'!$C$3=32,phase_chart!U18,""))))) -> FALSE | P21: =IF(NOT($J21=0),IF($J21<IF($P20=0,0,VLOOKUP(P20,tbL!$M$37:$Q$43,IF(L21=TRUE,2,4))),IF($J21>=VLOOKUP(P20,tbL!$M$37:$Q$43,IF(L21=TRUE,3,5)),$P20,IF(AND(L20=TRUE,L21=TRUE),$P20,$P20-1)),IF(AND(L21=TRUE,J21=VLOOKUP(P20,tbL!$M$37:$Q$43,IF(L21=TRUE,2,4))),P20,IF($P20+1>$C$12,$C$12,$P20+1))),0) -> 0 | Q21: =P21 -> 0 | R21: =IF(L21=TRUE,IF(OR(K20=0,R20=1),1,0),0) -> 0 | T21: =IF(AND(L20=TRUE,M21=TRUE),1,IF(AND(L20=TRUE,N21=TRUE),-1,0)) -> 0 | U21: =IF(AND(T21=-1,N21=TRUE),"*",IF(AND(U20="*",N21=TRUE),"*",IF(AND(AND(L21=TRUE,U20="*"),J21<VLOOKUP(V20+1,tbL!$M$38:$O$43,3)),"*",""))) | V21: =IF(U21="*",IF(Q21>V20,V20,Q21),Q21) -> 0 | Y21: =IF(OR($V21=3,OR($V21=1,$V21=2)),IF(OR($V24=0,OR($V25=0,OR($V26=0,OR($V27=0,OR($V28=0,OR($V29=0,$V30=0)))))),IF(J21<IF(V21=3,$D$18,IF(V21=2,$F$13,$F$8)),0,IF(Y20=0,0,IF(J21<10,0,""))),""),"") | Z21: =IF(AND(AND(J26>0,J25=0),Z20=""),1,IF(Z20=1,IF(AND(J21>0,J22-J21>0),"",1),"")) -> 1 | AA21: =IF(IF(AND(AT21=-1,Z21=1),1,IF(Y21=0,AA20,V21))=0,0,IF((IF(AND(AT21=-1,Z21=1),1,IF(Y21=0,AA20,V21))-AA20)>=2,-(-AA20-1),IF(IF(AND(AT21=-1,Z21=1),1,IF(Y21=0,AA20,V21))-AA20<=-2,(AA20-1),IF(AND(AT21=-1,Z21=1),1,IF(Y21=0,V21,V21))))) -> 1 | AC21: =IF(OR(OR($AT21=-1,$R21=1),AA21=0),"",IF(AND(AA20=AA22,AA21<>AA20),"*","")) | AD21: =IF(AC21="*",AA20,AA21) -> 1 | AE21: =IF(OR(OR($AT21=-1,$R21=1),AD21=0),"",IF(AND(AND(AD20=AD23,AD21<>AD20),AD21=AD22),IF(AE19="*","","*"),"")) | AF21: =IF(AE21="*",AD20,IF(AE20="*",AD19,AD21)) -> 1 | AG21: =IF(OR(OR(OR($AT21=-1,$R21=1),AF21=0),AG18="*"),"",IF(AND(AND(AND(AF20=AF24,AF21<>AF20),AF21=AF22),AF21=AF23),"*","")) | AH21: =IF(AG21="*",AF20,IF(AG20="*",AF19,IF(AG19="*",AF18,AF21))) -> 1 | AI21: =IF(OR(OR(OR($AT21=-1,$R21=1),AH21=0),AI17="*"),"",IF(AND(AND(AND(AND(AH20=AH25,AH21<>AH20),AH21=AH22),AH21=AH23),AH21=AH24),"*","")) | AJ21: =IF(AI21="*",AH20,IF(AI20="*",AH19,IF(AI19="*",AH18,IF(AI18="*",AH17,AH21)))) -> 1 | AL21: =IF(OR(OR(OR($AT21=-1,$R21=1),AJ21=0),AL17="*"),"",IF(AND(AND(AND(AND(AJ20=AJ25,AJ21<>AJ20),AJ21=AJ22),AJ21=AJ23),AJ21=AJ24),"*","")) | AM21: =IF(AL21="*",AJ20,IF(AL20="*",AJ19,IF(AL19="*",AJ18,IF(AL18="*",AJ17,AJ21)))) -> 1 | AN21: =IF(OR(OR(OR($AT21=-1,$R21=1),AM21=0),AN18="*"),"",IF(AND(AND(AND(AM20=AM24,AM21<>AM20),AM21=AM22),AM21=AM23),"*","")) | AO21: =IF(AN21="*",AM20,IF(AN20="*",AM19,IF(AN19="*",AM18,AM21))) -> 1 | AP21: =IF(OR(OR($AT21=-1,$R21=1),AO21=0),"",IF(AND(AND(AO20=AO23,AO21<>AO20),AO21=AO22),"*","")) | AQ21: =IF(AP21="*",AO20,IF(AP20="*",AO19,AO21)) -> 1 | AR21: =IF(OR(OR($AT21=-1,$R21=1),AQ21=0),"",IF(AND(AQ20=AQ22,AQ21<>AQ20),"*","")) | AS21: =IF(AR21="*",AQ20,AQ21) -> 1 | AT21: =IF(OR(Z21=1,Y21=0),-1,"") -> -1 | AU21: =IF(Y21=0,$C$17/100,IF(OR(K21<$C$17,AA21=0),$C$17/100,(VLOOKUP($AS21,$B$5:$C$11,2)*$J21)/100)) -> 14 | AW21: =AW20+J21/3.6 -> 0
E22: =IF(OR(C9=0,C9=""),20000,((0.5753*EXP((-1.9)*($C$15)/($C$14-0)))*($C$16-$C$17)+$C$17)) -> 5210.4462 | F22: =IF($F$2=1,INDIRECT(tbL!I22),IF($F$2=2,INDIRECT(tbL!J22),IF($F$2=3,INDIRECT(tbL!K22)))) -> 3218.3 | G22: =F22*C9 -> 4289.9939 | H22: =IF(C12<=3,1000,F17) -> 2534.3 | I22: =I21+1 -> 18 | J22: ='v-t_chart'!C19 -> 0 | K22: =IF($J22=0,0,VLOOKUP($Q22,$B$5:$C$11,2)*$J22) -> 0 | L22: =IF('Input&Output'!$C$3=10,phase_chart!C19,IF('Input&Output'!$C$3=21,phase_chart!G19,IF('Input&Output'!$C$3=22,phase_chart!K19,IF('Input&Output'!$C$3=31,phase_chart!O19,IF('Input&Output'!$C$3=32,phase_chart!S19,""))))) -> FALSE | M22: =IF('Input&Output'!$C$3=10,phase_chart!D19,IF('Input&Output'!$C$3=21,phase_chart!H19,IF('Input&Output'!$C$3=22,phase_chart!L19,IF('Input&Output'!$C$3=31,phase_chart!P19,IF('Input&Output'!$C$3=32,phase_chart!T19,""))))) -> FALSE | N22: =IF('Input&Output'!$C$3=10,phase_chart!E19,IF('Input&Output'!$C$3=21,phase_chart!I19,IF('Input&Output'!$C$3=22,phase_chart!M19,IF('Input&Output'!$C$3=31,phase_chart!Q19,IF('Input&Output'!$C$3=32,phase_chart!U19,""))))) -> FALSE | P22: =IF(NOT($J22=0),IF($J22<IF($P21=0,0,VLOOKUP(P21,tbL!$M$37:$Q$43,IF(L22=TRUE,2,4))),IF($J22>=VLOOKUP(P21,tbL!$M$37:$Q$43,IF(L22=TRUE,3,5)),$P21,IF(AND(L21=TRUE,L22=TRUE),$P21,$P21-1)),IF(AND(L22=TRUE,J22=VLOOKUP(P21,tbL!$M$37:$Q$43,IF(L22=TRUE,2,4))),P21,IF($P21+1>$C$12,$C$12,$P21+1))),0) -> 0 | Q22: =P22 -> 0 | R22: =IF(L22=TRUE,IF(OR(K21=0,R21=1),1,0),0) -> 0 | T22: =IF(AND(L21=TRUE,M22=TRUE),1,IF(AND(L21=TRUE,N22=TRUE),-1,0)) -> 0 | U22: =IF(AND(T22=-1,N22=TRUE),"*",IF(AND(U21="*",N22=TRUE),"*",IF(AND(AND(L22=TRUE,U21="*"),J22<VLOOKUP(V21+1,tbL!$M$38:$O$43,3)),"*",""))) | V22: =IF(U22="*",IF(Q22>V21,V21,Q22),Q22) -> 0 | Y22: =IF(OR($V22=3,OR($V22=1,$V22=2)),IF(OR($V25=0,OR($V26=0,OR($V27=0,OR($V28=0,OR($V29=0,OR($V30=0,$V31=0)))))),IF(J22<IF(V22=3,$D$18,IF(V22=2,$F$13,$F$8)),0,IF(Y21=0,0,IF(J22<10,0,""))),""),"") | Z22: =IF(AND(AND(J27>0,J26=0),Z21=""),1,IF(Z21=1,IF(AND(J22>0,J23-J22>0),"",1),"")) -> 1 | AA22: =IF(IF(AND(AT22=-1,Z22=1),1,IF(Y22=0,AA21,V22))=0,0,IF((IF(AND(AT22=-1,Z22=1),1,IF(Y22=0,AA21,V22))-AA21)>=2,-(-AA21-1),IF(IF(AND(AT22=-1,Z22=1),1,IF(Y22=0,AA21,V22))-AA21<=-2,(AA21-1),IF(AND(AT22=-1,Z22=1),1,IF(Y22=0,V22,V22))))) -> 1 | AC22: =IF(OR(OR($AT22=-1,$R22=1),AA22=0),"",IF(AND(AA21=AA23,AA22<>AA21),"*","")) | AD22: =IF(AC22="*",AA21,AA22) -> 1 | AE22: =IF(OR(OR($AT22=-1,$R22=1),AD22=0),"",IF(AND(AND(AD21=AD24,AD22<>AD21),AD22=AD23),IF(AE20="*","","*"),"")) | AF22: =IF(AE22="*",AD21,IF(AE21="*",AD20,AD22)) -> 1 | AG22: =IF(OR(OR(OR($AT22=-1,$R22=1),AF22=0),AG19="*"),"",IF(AND(AND(AND(AF21=AF25,AF22<>AF21),AF22=AF23),AF22=AF24),"*","")) | AH22: =IF(AG22="*",AF21,IF(AG21="*",AF20,IF(AG20="*",AF19,AF22))) -> 1 | AI22: =IF(OR(OR(OR($AT22=-1,$R22=1),AH22=0),AI18="*"),"",IF(AND(AND(AND(AND(AH21=AH26,AH22<>AH21),AH22=AH23),AH22=AH24),AH22=AH25),"*","")) | AJ22: =IF(AI22="*",AH21,IF(AI21="*",AH20,IF(AI20="*",AH19,IF(AI19="*",AH18,AH22)))) -> 1 | AL22: =IF(OR(OR(OR($AT22=-1,$R22=1),AJ22=0),AL18="*"),"",IF(AND(AND(AND(AND(AJ21=AJ26,AJ22<>AJ21),AJ22=AJ23),AJ22=AJ24),AJ22=AJ25),"*","")) | AM22: =IF(AL22="*",AJ21,IF(AL21="*",AJ20,IF(AL20="*",AJ19,IF(AL19="*",AJ18,AJ22)))) -> 1 | AN22: =IF(OR(OR(OR($AT22=-1,$R22=1),AM22=0),AN19="*"),"",IF(AND(AND(AND(AM21=AM25,AM22<>AM21),AM22=AM23),AM22=AM24),"*","")) | AO22: =IF(AN22="*",AM21,IF(AN21="*",AM20,IF(AN20="*",AM19,AM22))) -> 1 | AP22: =IF(OR(OR($AT22=-1,$R22=1),AO22=0),"",IF(AND(AND(AO21=AO24,AO22<>AO21),AO22=AO23),"*","")) | AQ22: =IF(AP22="*",AO21,IF(AP21="*",AO20,AO22)) -> 1 | AR22: =IF(OR(OR($AT22=-1,$R22=1),AQ22=0),"",IF(AND(AQ21=AQ23,AQ22<>AQ21),"*","")) | AS22: =IF(AR22="*",AQ21,AQ22) -> 1 | AT22: =IF(OR(Z22=1,Y22=0),-1,"") -> -1 | AU22: =IF(Y22=0,$C$17/100,IF(OR(K22<$C$17,AA22=0),$C$17/100,(VLOOKUP($AS22,$B$5:$C$11,2)*$J22)/100)) -> 14 | AW22: =AW21+J22/3.6 -> 0
E23: =F23*C8 -> 4103.0317 | F23: =IF($F$2=1,INDIRECT(tbL!I23),IF($F$2=2,INDIRECT(tbL!J23),IF($F$2=3,INDIRECT(tbL!K23)))) -> 2534.3 | G23: =F23*C9 -> 3378.2219 | H23: =IF(C12<=3,1000,F17) -> 2534.3 | I23: =I22+1 -> 19 | J23: ='v-t_chart'!C20 -> 0 | K23: =IF($J23=0,0,VLOOKUP($Q23,$B$5:$C$11,2)*$J23) -> 0 | L23: =IF('Input&Output'!$C$3=10,phase_chart!C20,IF('Input&Output'!$C$3=21,phase_chart!G20,IF('Input&Output'!$C$3=22,phase_chart!K20,IF('Input&Output'!$C$3=31,phase_chart!O20,IF('Input&Output'!$C$3=32,phase_chart!S20,""))))) -> FALSE | M23: =IF('Input&Output'!$C$3=10,phase_chart!D20,IF('Input&Output'!$C$3=21,phase_chart!H20,IF('Input&Output'!$C$3=22,phase_chart!L20,IF('Input&Output'!$C$3=31,phase_chart!P20,IF('Input&Output'!$C$3=32,phase_chart!T20,""))))) -> FALSE | N23: =IF('Input&Output'!$C$3=10,phase_chart!E20,IF('Input&Output'!$C$3=21,phase_chart!I20,IF('Input&Output'!$C$3=22,phase_chart!M20,IF('Input&Output'!$C$3=31,phase_chart!Q20,IF('Input&Output'!$C$3=32,phase_chart!U20,""))))) -> FALSE | P23: =IF(NOT($J23=0),IF($J23<IF($P22=0,0,VLOOKUP(P22,tbL!$M$37:$Q$43,IF(L23=TRUE,2,4))),IF($J23>=VLOOKUP(P22,tbL!$M$37:$Q$43,IF(L23=TRUE,3,5)),$P22,IF(AND(L22=TRUE,L23=TRUE),$P22,$P22-1)),IF(AND(L23=TRUE,J23=VLOOKUP(P22,tbL!$M$37:$Q$43,IF(L23=TRUE,2,4))),P22,IF($P22+1>$C$12,$C$12,$P22+1))),0) -> 0 | Q23: =P23 -> 0 | R23: =IF(L23=TRUE,IF(OR(K22=0,R22=1),1,0),0) -> 0 | T23: =IF(AND(L22=TRUE,M23=TRUE),1,IF(AND(L22=TRUE,N23=TRUE),-1,0)) -> 0 | U23: =IF(AND(T23=-1,N23=TRUE),"*",IF(AND(U22="*",N23=TRUE),"*",IF(AND(AND(L23=TRUE,U22="*"),J23<VLOOKUP(V22+1,tbL!$M$38:$O$43,3)),"*",""))) | V23: =IF(U23="*",IF(Q23>V22,V22,Q23),Q23) -> 0 | Y23: =IF(OR($V23=3,OR($V23=1,$V23=2)),IF(OR($V26=0,OR($V27=0,OR($V28=0,OR($V29=0,OR($V30=0,OR($V31=0,$V32=0)))))),IF(J23<IF(V23=3,$D$18,IF(V23=2,$F$13,$F$8)),0,IF(Y22=0,0,IF(J23<10,0,""))),""),"") | Z23: =IF(AND(AND(J28>0,J27=0),Z22=""),1,IF(Z22=1,IF(AND(J23>0,J24-J23>0),"",1),"")) -> 1 | AA23: =IF(IF(AND(AT23=-1,Z23=1),1,IF(Y23=0,AA22,V23))=0,0,IF((IF(AND(AT23=-1,Z23=1),1,IF(Y23=0,AA22,V23))-AA22)>=2,-(-AA22-1),IF(IF(AND(AT23=-1,Z23=1),1,IF(Y23=0,AA22,V23))-AA22<=-2,(AA22-1),IF(AND(AT23=-1,Z23=1),1,IF(Y23=0,V23,V23))))) -> 1 | AC23: =IF(OR(OR($AT23=-1,$R23=1),AA23=0),"",IF(AND(AA22=AA24,AA23<>AA22),"*","")) | AD23: =IF(AC23="*",AA22,AA23) -> 1 | AE23: =IF(OR(OR($AT23=-1,$R23=1),AD23=0),"",IF(AND(AND(AD22=AD25,AD23<>AD22),AD23=AD24),IF(AE21="*","","*"),"")) | AF23: =IF(AE23="*",AD22,IF(AE22="*",AD21,AD23)) -> 1 | AG23: =IF(OR(OR(OR($AT23=-1,$R23=1),AF23=0),AG20="*"),"",IF(AND(AND(AND(AF22=AF26,AF23<>AF22),AF23=AF24),AF23=AF25),"*","")) | AH23: =IF(AG23="*",AF22,IF(AG22="*",AF21,IF(AG21="*",AF20,AF23))) -> 1 | AI23: =IF(OR(OR(OR($AT23=-1,$R23=1),AH23=0),AI19="*"),"",IF(AND(AND(AND(AND(AH22=AH27,AH23<>AH22),AH23=AH24),AH23=AH25),AH23=AH26),"*","")) | AJ23: =IF(AI23="*",AH22,IF(AI22="*",AH21,IF(AI21="*",AH20,IF(AI20="*",AH19,AH23)))) -> 1 | AL23: =IF(OR(OR(OR($AT23=-1,$R23=1),AJ23=0),AL19="*"),"",IF(AND(AND(AND(AND(AJ22=AJ27,AJ23<>AJ22),AJ23=AJ24),AJ23=AJ25),AJ23=AJ26),"*","")) | AM23: =IF(AL23="*",AJ22,IF(AL22="*",AJ21,IF(AL21="*",AJ20,IF(AL20="*",AJ19,AJ23)))) -> 1 | AN23: =IF(OR(OR(OR($AT23=-1,$R23=1),AM23=0),AN20="*"),"",IF(AND(AND(AND(AM22=AM26,AM23<>AM22),AM23=AM24),AM23=AM25),"*","")) | AO23: =IF(AN23="*",AM22,IF(AN22="*",AM21,IF(AN21="*",AM20,AM23))) -> 1 | AP23: =IF(OR(OR($AT23=-1,$R23=1),AO23=0),"",IF(AND(AND(AO22=AO25,AO23<>AO22),AO23=AO24),"*","")) | AQ23: =IF(AP23="*",AO22,IF(AP22="*",AO21,AO23)) -> 1 | AR23: =IF(OR(OR($AT23=-1,$R23=1),AQ23=0),"",IF(AND(AQ22=AQ24,AQ23<>AQ22),"*","")) | AS23: =IF(AR23="*",AQ22,AQ23) -> 1 | AT23: =IF(OR(Z23=1,Y23=0),-1,"") -> -1 | AU23: =IF(Y23=0,$C$17/100,IF(OR(K23<$C$17,AA23=0),$C$17/100,(VLOOKUP($AS23,$B$5:$C$11,2)*$J23)/100)) -> 14 | AW23: =AW22+J23/3.6 -> 0
F24: 4th>>3rd | H24: 4th>>3rd | I24: =I23+1 -> 20 | J24: ='v-t_chart'!C21 -> 0 | K24: =IF($J24=0,0,VLOOKUP($Q24,$B$5:$C$11,2)*$J24) -> 0 | L24: =IF('Input&Output'!$C$3=10,phase_chart!C21,IF('Input&Output'!$C$3=21,phase_chart!G21,IF('Input&Output'!$C$3=22,phase_chart!K21,IF('Input&Output'!$C$3=31,phase_chart!O21,IF('Input&Output'!$C$3=32,phase_chart!S21,""))))) -> FALSE | M24: =IF('Input&Output'!$C$3=10,phase_chart!D21,IF('Input&Output'!$C$3=21,phase_chart!H21,IF('Input&Output'!$C$3=22,phase_chart!L21,IF('Input&Output'!$C$3=31,phase_chart!P21,IF('Input&Output'!$C$3=32,phase_chart!T21,""))))) -> FALSE | N24: =IF('Input&Output'!$C$3=10,phase_chart!E21,IF('Input&Output'!$C$3=21,phase_chart!I21,IF('Input&Output'!$C$3=22,phase_chart!M21,IF('Input&Output'!$C$3=31,phase_chart!Q21,IF('Input&Output'!$C$3=32,phase_chart!U21,""))))) -> FALSE | P24: =IF(NOT($J24=0),IF($J24<IF($P23=0,0,VLOOKUP(P23,tbL!$M$37:$Q$43,IF(L24=TRUE,2,4))),IF($J24>=VLOOKUP(P23,tbL!$M$37:$Q$43,IF(L24=TRUE,3,5)),$P23,IF(AND(L23=TRUE,L24=TRUE),$P23,$P23-1)),IF(AND(L24=TRUE,J24=VLOOKUP(P23,tbL!$M$37:$Q$43,IF(L24=TRUE,2,4))),P23,IF($P23+1>$C$12,$C$12,$P23+1))),0) -> 0 | Q24: =P24 -> 0 | R24: =IF(L24=TRUE,IF(OR(K23=0,R23=1),1,0),0) -> 0 | T24: =IF(AND(L23=TRUE,M24=TRUE),1,IF(AND(L23=TRUE,N24=TRUE),-1,0)) -> 0 | U24: =IF(AND(T24=-1,N24=TRUE),"*",IF(AND(U23="*",N24=TRUE),"*",IF(AND(AND(L24=TRUE,U23="*"),J24<VLOOKUP(V23+1,tbL!$M$38:$O$43,3)),"*",""))) | V24: =IF(U24="*",IF(Q24>V23,V23,Q24),Q24) -> 0 | Y24: =IF(OR($V24=3,OR($V24=1,$V24=2)),IF(OR($V27=0,OR($V28=0,OR($V29=0,OR($V30=0,OR($V31=0,OR($V32=0,$V33=0)))))),IF(J24<IF(V24=3,$D$18,IF(V24=2,$F$13,$F$8)),0,IF(Y23=0,0,IF(J24<10,0,""))),""),"") | Z24: =IF(AND(AND(J29>0,J28=0),Z23=""),1,IF(Z23=1,IF(AND(J24>0,J25-J24>0),"",1),"")) -> 1 | AA24: =IF(IF(AND(AT24=-1,Z24=1),1,IF(Y24=0,AA23,V24))=0,0,IF((IF(AND(AT24=-1,Z24=1),1,IF(Y24=0,AA23,V24))-AA23)>=2,-(-AA23-1),IF(IF(AND(AT24=-1,Z24=1),1,IF(Y24=0,AA23,V24))-AA23<=-2,(AA23-1),IF(AND(AT24=-1,Z24=1),1,IF(Y24=0,V24,V24))))) -> 1 | AC24: =IF(OR(OR($AT24=-1,$R24=1),AA24=0),"",IF(AND(AA23=AA25,AA24<>AA23),"*","")) | AD24: =IF(AC24="*",AA23,AA24) -> 1 | AE24: =IF(OR(OR($AT24=-1,$R24=1),AD24=0),"",IF(AND(AND(AD23=AD26,AD24<>AD23),AD24=AD25),IF(AE22="*","","*"),"")) | AF24: =IF(AE24="*",AD23,IF(AE23="*",AD22,AD24)) -> 1 | AG24: =IF(OR(OR(OR($AT24=-1,$R24=1),AF24=0),AG21="*"),"",IF(AND(AND(AND(AF23=AF27,AF24<>AF23),AF24=AF25),AF24=AF26),"*","")) | AH24: =IF(AG24="*",AF23,IF(AG23="*",AF22,IF(AG22="*",AF21,AF24))) -> 1 | AI24: =IF(OR(OR(OR($AT24=-1,$R24=1),AH24=0),AI20="*"),"",IF(AND(AND(AND(AND(AH23=AH28,AH24<>AH23),AH24=AH25),AH24=AH26),AH24=AH27),"*","")) | AJ24: =IF(AI24="*",AH23,IF(AI23="*",AH22,IF(AI22="*",AH21,IF(AI21="*",AH20,AH24)))) -> 1 | AL24: =IF(OR(OR(OR($AT24=-1,$R24=1),AJ24=0),AL20="*"),"",IF(AND(AND(AND(AND(AJ23=AJ28,AJ24<>AJ23),AJ24=AJ25),AJ24=AJ26),AJ24=AJ27),"*","")) | AM24: =IF(AL24="*",AJ23,IF(AL23="*",AJ22,IF(AL22="*",AJ21,IF(AL21="*",AJ20,AJ24)))) -> 1 | AN24: =IF(OR(OR(OR($AT24=-1,$R24=1),AM24=0),AN21="*"),"",IF(AND(AND(AND(AM23=AM27,AM24<>AM23),AM24=AM25),AM24=AM26),"*","")) | AO24: =IF(AN24="*",AM23,IF(AN23="*",AM22,IF(AN22="*",AM21,AM24))) -> 1 | AP24: =IF(OR(OR($AT24=-1,$R24=1),AO24=0),"",IF(AND(AND(AO23=AO26,AO24<>AO23),AO24=AO25),"*","")) | AQ24: =IF(AP24="*",AO23,IF(AP23="*",AO22,AO24)) -> 1 | AR24: =IF(OR(OR($AT24=-1,$R24=1),AQ24=0),"",IF(AND(AQ23=AQ25,AQ24<>AQ23),"*","")) | AS24: =IF(AR24="*",AQ23,AQ24) -> 1 | AT24: =IF(OR(Z24=1,Y24=0),-1,"") -> -1 | AU24: =IF(Y24=0,$C$17/100,IF(OR(K24<$C$17,AA24=0),$C$17/100,(VLOOKUP($AS24,$B$5:$C$11,2)*$J24)/100)) -> 14 | AW24: =AW23+J24/3.6 -> 0
I25: =I24+1 -> 21 | J25: ='v-t_chart'!C22 -> 0 | K25: =IF($J25=0,0,VLOOKUP($Q25,$B$5:$C$11,2)*$J25) -> 0 | L25: =IF('Input&Output'!$C$3=10,phase_chart!C22,IF('Input&Output'!$C$3=21,phase_chart!G22,IF('Input&Output'!$C$3=22,phase_chart!K22,IF('Input&Output'!$C$3=31,phase_chart!O22,IF('Input&Output'!$C$3=32,phase_chart!S22,""))))) -> FALSE | M25: =IF('Input&Output'!$C$3=10,phase_chart!D22,IF('Input&Output'!$C$3=21,phase_chart!H22,IF('Input&Output'!$C$3=22,phase_chart!L22,IF('Input&Output'!$C$3=31,phase_chart!P22,IF('Input&Output'!$C$3=32,phase_chart!T22,""))))) -> FALSE | N25: =IF('Input&Output'!$C$3=10,phase_chart!E22,IF('Input&Output'!$C$3=21,phase_chart!I22,IF('Input&Output'!$C$3=22,phase_chart!M22,IF('Input&Output'!$C$3=31,phase_chart!Q22,IF('Input&Output'!$C$3=32,phase_chart!U22,""))))) -> FALSE | P25: =IF(NOT($J25=0),IF($J25<IF($P24=0,0,VLOOKUP(P24,tbL!$M$37:$Q$43,IF(L25=TRUE,2,4))),IF($J25>=VLOOKUP(P24,tbL!$M$37:$Q$43,IF(L25=TRUE,3,5)),$P24,IF(AND(L24=TRUE,L25=TRUE),$P24,$P24-1)),IF(AND(L25=TRUE,J25=VLOOKUP(P24,tbL!$M$37:$Q$43,IF(L25=TRUE,2,4))),P24,IF($P24+1>$C$12,$C$12,$P24+1))),0) -> 0 | Q25: =P25 -> 0 | R25: =IF(L25=TRUE,IF(OR(K24=0,R24=1),1,0),0) -> 0 | T25: =IF(AND(L24=TRUE,M25=TRUE),1,IF(AND(L24=TRUE,N25=TRUE),-1,0)) -> 0 | U25: =IF(AND(T25=-1,N25=TRUE),"*",IF(AND(U24="*",N25=TRUE),"*",IF(AND(AND(L25=TRUE,U24="*"),J25<VLOOKUP(V24+1,tbL!$M$38:$O$43,3)),"*",""))) | V25: =IF(U25="*",IF(Q25>V24,V24,Q25),Q25) -> 0 | Y25: =IF(OR($V25=3,OR($V25=1,$V25=2)),IF(OR($V28=0,OR($V29=0,OR($V30=0,OR($V31=0,OR($V32=0,OR($V33=0,$V34=0)))))),IF(J25<IF(V25=3,$D$18,IF(V25=2,$F$13,$F$8)),0,IF(Y24=0,0,IF(J25<10,0,""))),""),"") | Z25: =IF(AND(AND(J30>0,J29=0),Z24=""),1,IF(Z24=1,IF(AND(J25>0,J26-J25>0),"",1),"")) -> 1 | AA25: =IF(IF(AND(AT25=-1,Z25=1),1,IF(Y25=0,AA24,V25))=0,0,IF((IF(AND(AT25=-1,Z25=1),1,IF(Y25=0,AA24,V25))-AA24)>=2,-(-AA24-1),IF(IF(AND(AT25=-1,Z25=1),1,IF(Y25=0,AA24,V25))-AA24<=-2,(AA24-1),IF(AND(AT25=-1,Z25=1),1,IF(Y25=0,V25,V25))))) -> 1 | AC25: =IF(OR(OR($AT25=-1,$R25=1),AA25=0),"",IF(AND(AA24=AA26,AA25<>AA24),"*","")) | AD25: =IF(AC25="*",AA24,AA25) -> 1 | AE25: =IF(OR(OR($AT25=-1,$R25=1),AD25=0),"",IF(AND(AND(AD24=AD27,AD25<>AD24),AD25=AD26),IF(AE23="*","","*"),"")) | AF25: =IF(AE25="*",AD24,IF(AE24="*",AD23,AD25)) -> 1 | AG25: =IF(OR(OR(OR($AT25=-1,$R25=1),AF25=0),AG22="*"),"",IF(AND(AND(AND(AF24=AF28,AF25<>AF24),AF25=AF26),AF25=AF27),"*","")) | AH25: =IF(AG25="*",AF24,IF(AG24="*",AF23,IF(AG23="*",AF22,AF25))) -> 1 | AI25: =IF(OR(OR(OR($AT25=-1,$R25=1),AH25=0),AI21="*"),"",IF(AND(AND(AND(AND(AH24=AH29,AH25<>AH24),AH25=AH26),AH25=AH27),AH25=AH28),"*","")) | AJ25: =IF(AI25="*",AH24,IF(AI24="*",AH23,IF(AI23="*",AH22,IF(AI22="*",AH21,AH25)))) -> 1 | AL25: =IF(OR(OR(OR($AT25=-1,$R25=1),AJ25=0),AL21="*"),"",IF(AND(AND(AND(AND(AJ24=AJ29,AJ25<>AJ24),AJ25=AJ26),AJ25=AJ27),AJ25=AJ28),"*","")) | AM25: =IF(AL25="*",AJ24,IF(AL24="*",AJ23,IF(AL23="*",AJ22,IF(AL22="*",AJ21,AJ25)))) -> 1 | AN25: =IF(OR(OR(OR($AT25=-1,$R25=1),AM25=0),AN22="*"),"",IF(AND(AND(AND(AM24=AM28,AM25<>AM24),AM25=AM26),AM25=AM27),"*","")) | AO25: =IF(AN25="*",AM24,IF(AN24="*",AM23,IF(AN23="*",AM22,AM25))) -> 1 | AP25: =IF(OR(OR($AT25=-1,$R25=1),AO25=0),"",IF(AND(AND(AO24=AO27,AO25<>AO24),AO25=AO26),"*","")) | AQ25: =IF(AP25="*",AO24,IF(AP24="*",AO23,AO25)) -> 1 | AR25: =IF(OR(OR($AT25=-1,$R25=1),AQ25=0),"",IF(AND(AQ24=AQ26,AQ25<>AQ24),"*","")) | AS25: =IF(AR25="*",AQ24,AQ25) -> 1 | AT25: =IF(OR(Z25=1,Y25=0),-1,"") -> -1 | AU25: =IF(Y25=0,$C$17/100,IF(OR(K25<$C$17,AA25=0),$C$17/100,(VLOOKUP($AS25,$B$5:$C$11,2)*$J25)/100)) -> 14 | AW25: =AW24+J25/3.6 -> 0
E26: 4th | F26: 4th>>5th | G26: 5th | H26: 3rd>>4th | I26: =I25+1 -> 22 | J26: ='v-t_chart'!C23 -> 1 | K26: =IF($J26=0,0,VLOOKUP($Q26,$B$5:$C$11,2)*$J26) -> 2.929 | L26: =IF('Input&Output'!$C$3=10,phase_chart!C23,IF('Input&Output'!$C$3=21,phase_chart!G23,IF('Input&Output'!$C$3=22,phase_chart!K23,IF('Input&Output'!$C$3=31,phase_chart!O23,IF('Input&Output'!$C$3=32,phase_chart!S23,""))))) -> TRUE | M26: =IF('Input&Output'!$C$3=10,phase_chart!D23,IF('Input&Output'!$C$3=21,phase_chart!H23,IF('Input&Output'!$C$3=22,phase_chart!L23,IF('Input&Output'!$C$3=31,phase_chart!P23,IF('Input&Output'!$C$3=32,phase_chart!T23,""))))) -> FALSE | N26: =IF('Input&Output'!$C$3=10,phase_chart!E23,IF('Input&Output'!$C$3=21,phase_chart!I23,IF('Input&Output'!$C$3=22,phase_chart!M23,IF('Input&Output'!$C$3=31,phase_chart!Q23,IF('Input&Output'!$C$3=32,phase_chart!U23,""))))) -> FALSE | P26: =IF(NOT($J26=0),IF($J26<IF($P25=0,0,VLOOKUP(P25,tbL!$M$37:$Q$43,IF(L26=TRUE,2,4))),IF($J26>=VLOOKUP(P25,tbL!$M$37:$Q$43,IF(L26=TRUE,3,5)),$P25,IF(AND(L25=TRUE,L26=TRUE),$P25,$P25-1)),IF(AND(L26=TRUE,J26=VLOOKUP(P25,tbL!$M$37:$Q$43,IF(L26=TRUE,2,4))),P25,IF($P25+1>$C$12,$C$12,$P25+1))),0) -> 1 | Q26: =P26 -> 1 | R26: =IF(L26=TRUE,IF(OR(K25=0,R25=1),1,0),0) -> 1 | T26: =IF(AND(L25=TRUE,M26=TRUE),1,IF(AND(L25=TRUE,N26=TRUE),-1,0)) -> 0 | U26: =IF(AND(T26=-1,N26=TRUE),"*",IF(AND(U25="*",N26=TRUE),"*",IF(AND(AND(L26=TRUE,U25="*"),J26<VLOOKUP(V25+1,tbL!$M$38:$O$43,3)),"*",""))) | V26: =IF(U26="*",IF(Q26>V25,V25,Q26),Q26) -> 1 | Y26: =IF(OR($V26=3,OR($V26=1,$V26=2)),IF(OR($V29=0,OR($V30=0,OR($V31=0,OR($V32=0,OR($V33=0,OR($V34=0,$V35=0)))))),IF(J26<IF(V26=3,$D$18,IF(V26=2,$F$13,$F$8)),0,IF(Y25=0,0,IF(J26<10,0,""))),""),"") | Z26: =IF(AND(AND(J31>0,J30=0),Z25=""),1,IF(Z25=1,IF(AND(J26>0,J27-J26>0),"",1),"")) | AA26: =IF(IF(AND(AT26=-1,Z26=1),1,IF(Y26=0,AA25,V26))=0,0,IF((IF(AND(AT26=-1,Z26=1),1,IF(Y26=0,AA25,V26))-AA25)>=2,-(-AA25-1),IF(IF(AND(AT26=-1,Z26=1),1,IF(Y26=0,AA25,V26))-AA25<=-2,(AA25-1),IF(AND(AT26=-1,Z26=1),1,IF(Y26=0,V26,V26))))) -> 1 | AC26: =IF(OR(OR($AT26=-1,$R26=1),AA26=0),"",IF(AND(AA25=AA27,AA26<>AA25),"*","")) | AD26: =IF(AC26="*",AA25,AA26) -> 1 | AE26: =IF(OR(OR($AT26=-1,$R26=1),AD26=0),"",IF(AND(AND(AD25=AD28,AD26<>AD25),AD26=AD27),IF(AE24="*","","*"),"")) | AF26: =IF(AE26="*",AD25,IF(AE25="*",AD24,AD26)) -> 1 | AG26: =IF(OR(OR(OR($AT26=-1,$R26=1),AF26=0),AG23="*"),"",IF(AND(AND(AND(AF25=AF29,AF26<>AF25),AF26=AF27),AF26=AF28),"*","")) | AH26: =IF(AG26="*",AF25,IF(AG25="*",AF24,IF(AG24="*",AF23,AF26))) -> 1 | AI26: =IF(OR(OR(OR($AT26=-1,$R26=1),AH26=0),AI22="*"),"",IF(AND(AND(AND(AND(AH25=AH30,AH26<>AH25),AH26=AH27),AH26=AH28),AH26=AH29),"*","")) | AJ26: =IF(AI26="*",AH25,IF(AI25="*",AH24,IF(AI24="*",AH23,IF(AI23="*",AH22,AH26)))) -> 1 | AL26: =IF(OR(OR(OR($AT26=-1,$R26=1),AJ26=0),AL22="*"),"",IF(AND(AND(AND(AND(AJ25=AJ30,AJ26<>AJ25),AJ26=AJ27),AJ26=AJ28),AJ26=AJ29),"*","")) | AM26: =IF(AL26="*",AJ25,IF(AL25="*",AJ24,IF(AL24="*",AJ23,IF(AL23="*",AJ22,AJ26)))) -> 1 | AN26: =IF(OR(OR(OR($AT26=-1,$R26=1),AM26=0),AN23="*"),"",IF(AND(AND(AND(AM25=AM29,AM26<>AM25),AM26=AM27),AM26=AM28),"*","")) | AO26: =IF(AN26="*",AM25,IF(AN25="*",AM24,IF(AN24="*",AM23,AM26))) -> 1 | AP26: =IF(OR(OR($AT26=-1,$R26=1),AO26=0),"",IF(AND(AND(AO25=AO28,AO26<>AO25),AO26=AO27),"*","")) | AQ26: =IF(AP26="*",AO25,IF(AP25="*",AO24,AO26)) -> 1 | AR26: =IF(OR(OR($AT26=-1,$R26=1),AQ26=0),"",IF(AND(AQ25=AQ27,AQ26<>AQ25),"*","")) | AS26: =IF(AR26="*",AQ25,AQ26) -> 1 | AT26: =IF(OR(Z26=1,Y26=0),-1,"") | AU26: =IF(Y26=0,$C$17/100,IF(OR(K26<$C$17,AA26=0),$C$17/100,(VLOOKUP($AS26,$B$5:$C$11,2)*$J26)/100)) -> 14 | AW26: =AW25+J26/3.6 -> 0.27777778
E27: =IF(OR(C10=0,C10=""),20000,((0.5753*EXP((-1.9)*($C$15)/($C$14-0)))*($C$16-$C$17)+$C$17)) -> 5210.4462 | F27: =IF($F$2=1,INDIRECT(tbL!I27),IF($F$2=2,INDIRECT(tbL!J27),IF($F$2=3,INDIRECT(tbL!K27)))) -> 3908.8 | G27: =F27*C10 -> 4510.7552 | H27: =IF(C12<=4,1000,F22) -> 3218.3 | I27: =I26+1 -> 23 | J27: ='v-t_chart'!C24 -> 2.6 | K27: =IF($J27=0,0,VLOOKUP($Q27,$B$5:$C$11,2)*$J27) -> 7.6154 | L27: =IF('Input&Output'!$C$3=10,phase_chart!C24,IF('Input&Output'!$C$3=21,phase_chart!G24,IF('Input&Output'!$C$3=22,phase_chart!K24,IF('Input&Output'!$C$3=31,phase_chart!O24,IF('Input&Output'!$C$3=32,phase_chart!S24,""))))) -> TRUE | M27: =IF('Input&Output'!$C$3=10,phase_chart!D24,IF('Input&Output'!$C$3=21,phase_chart!H24,IF('Input&Output'!$C$3=22,phase_chart!L24,IF('Input&Output'!$C$3=31,phase_chart!P24,IF('Input&Output'!$C$3=32,phase_chart!T24,""))))) -> FALSE | N27: =IF('Input&Output'!$C$3=10,phase_chart!E24,IF('Input&Output'!$C$3=21,phase_chart!I24,IF('Input&Output'!$C$3=22,phase_chart!M24,IF('Input&Output'!$C$3=31,phase_chart!Q24,IF('Input&Output'!$C$3=32,phase_chart!U24,""))))) -> FALSE | P27: =IF(NOT($J27=0),IF($J27<IF($P26=0,0,VLOOKUP(P26,tbL!$M$37:$Q$43,IF(L27=TRUE,2,4))),IF($J27>=VLOOKUP(P26,tbL!$M$37:$Q$43,IF(L27=TRUE,3,5)),$P26,IF(AND(L26=TRUE,L27=TRUE),$P26,$P26-1)),IF(AND(L27=TRUE,J27=VLOOKUP(P26,tbL!$M$37:$Q$43,IF(L27=TRUE,2,4))),P26,IF($P26+1>$C$12,$C$12,$P26+1))),0) -> 1 | Q27: =P27 -> 1 | R27: =IF(L27=TRUE,IF(OR(K26=0,R26=1),1,0),0) -> 1 | T27: =IF(AND(L26=TRUE,M27=TRUE),1,IF(AND(L26=TRUE,N27=TRUE),-1,0)) -> 0 | U27: =IF(AND(T27=-1,N27=TRUE),"*",IF(AND(U26="*",N27=TRUE),"*",IF(AND(AND(L27=TRUE,U26="*"),J27<VLOOKUP(V26+1,tbL!$M$38:$O$43,3)),"*",""))) | V27: =IF(U27="*",IF(Q27>V26,V26,Q27),Q27) -> 1 | Y27: =IF(OR($V27=3,OR($V27=1,$V27=2)),IF(OR($V30=0,OR($V31=0,OR($V32=0,OR($V33=0,OR($V34=0,OR($V35=0,$V36=0)))))),IF(J27<IF(V27=3,$D$18,IF(V27=2,$F$13,$F$8)),0,IF(Y26=0,0,IF(J27<10,0,""))),""),"") | Z27: =IF(AND(AND(J32>0,J31=0),Z26=""),1,IF(Z26=1,IF(AND(J27>0,J28-J27>0),"",1),"")) | AA27: =IF(IF(AND(AT27=-1,Z27=1),1,IF(Y27=0,AA26,V27))=0,0,IF((IF(AND(AT27=-1,Z27=1),1,IF(Y27=0,AA26,V27))-AA26)>=2,-(-AA26-1),IF(IF(AND(AT27=-1,Z27=1),1,IF(Y27=0,AA26,V27))-AA26<=-2,(AA26-1),IF(AND(AT27=-1,Z27=1),1,IF(Y27=0,V27,V27))))) -> 1 | AC27: =IF(OR(OR($AT27=-1,$R27=1),AA27=0),"",IF(AND(AA26=AA28,AA27<>AA26),"*","")) | AD27: =IF(AC27="*",AA26,AA27) -> 1 | AE27: =IF(OR(OR($AT27=-1,$R27=1),AD27=0),"",IF(AND(AND(AD26=AD29,AD27<>AD26),AD27=AD28),IF(AE25="*","","*"),"")) | AF27: =IF(AE27="*",AD26,IF(AE26="*",AD25,AD27)) -> 1 | AG27: =IF(OR(OR(OR($AT27=-1,$R27=1),AF27=0),AG24="*"),"",IF(AND(AND(AND(AF26=AF30,AF27<>AF26),AF27=AF28),AF27=AF29),"*","")) | AH27: =IF(AG27="*",AF26,IF(AG26="*",AF25,IF(AG25="*",AF24,AF27))) -> 1 | AI27: =IF(OR(OR(OR($AT27=-1,$R27=1),AH27=0),AI23="*"),"",IF(AND(AND(AND(AND(AH26=AH31,AH27<>AH26),AH27=AH28),AH27=AH29),AH27=AH30),"*","")) | AJ27: =IF(AI27="*",AH26,IF(AI26="*",AH25,IF(AI25="*",AH24,IF(AI24="*",AH23,AH27)))) -> 1 | AL27: =IF(OR(OR(OR($AT27=-1,$R27=1),AJ27=0),AL23="*"),"",IF(AND(AND(AND(AND(AJ26=AJ31,AJ27<>AJ26),AJ27=AJ28),AJ27=AJ29),AJ27=AJ30),"*","")) | AM27: =IF(AL27="*",AJ26,IF(AL26="*",AJ25,IF(AL25="*",AJ24,IF(AL24="*",AJ23,AJ27)))) -> 1 | AN27: =IF(OR(OR(OR($AT27=-1,$R27=1),AM27=0),AN24="*"),"",IF(AND(AND(AND(AM26=AM30,AM27<>AM26),AM27=AM28),AM27=AM29),"*","")) | AO27: =IF(AN27="*",AM26,IF(AN26="*",AM25,IF(AN25="*",AM24,AM27))) -> 1 | AP27: =IF(OR(OR($AT27=-1,$R27=1),AO27=0),"",IF(AND(AND(AO26=AO29,AO27<>AO26),AO27=AO28),"*","")) | AQ27: =IF(AP27="*",AO26,IF(AP26="*",AO25,AO27)) -> 1 | AR27: =IF(OR(OR($AT27=-1,$R27=1),AQ27=0),"",IF(AND(AQ26=AQ28,AQ27<>AQ26),"*","")) | AS27: =IF(AR27="*",AQ26,AQ27) -> 1 | AT27: =IF(OR(Z27=1,Y27=0),-1,"") | AU27: =IF(Y27=0,$C$17/100,IF(OR(K27<$C$17,AA27=0),$C$17/100,(VLOOKUP($AS27,$B$5:$C$11,2)*$J27)/100)) -> 14 | AW27: =AW26+J27/3.6 -> 1
E28: =F28*C9 -> 4289.9939 | F28: =IF($F$2=1,INDIRECT(tbL!I28),IF($F$2=2,INDIRECT(tbL!J28),IF($F$2=3,INDIRECT(tbL!K28)))) -> 3218.3 | G28: =F28*C10 -> 3713.9182 | H28: =IF(C12<=4,1000,F22) -> 3218.3 | I28: =I27+1 -> 24 | J28: ='v-t_chart'!C25 -> 4.8 | K28: =IF($J28=0,0,VLOOKUP($Q28,$B$5:$C$11,2)*$J28) -> 14.0592 | L28: =IF('Input&Output'!$C$3=10,phase_chart!C25,IF('Input&Output'!$C$3=21,phase_chart!G25,IF('Input&Output'!$C$3=22,phase_chart!K25,IF('Input&Output'!$C$3=31,phase_chart!O25,IF('Input&Output'!$C$3=32,phase_chart!S25,""))))) -> TRUE | M28: =IF('Input&Output'!$C$3=10,phase_chart!D25,IF('Input&Output'!$C$3=21,phase_chart!H25,IF('Input&Output'!$C$3=22,phase_chart!L25,IF('Input&Output'!$C$3=31,phase_chart!P25,IF('Input&Output'!$C$3=32,phase_chart!T25,""))))) -> FALSE | N28: =IF('Input&Output'!$C$3=10,phase_chart!E25,IF('Input&Output'!$C$3=21,phase_chart!I25,IF('Input&Output'!$C$3=22,phase_chart!M25,IF('Input&Output'!$C$3=31,phase_chart!Q25,IF('Input&Output'!$C$3=32,phase_chart!U25,""))))) -> FALSE | P28: =IF(NOT($J28=0),IF($J28<IF($P27=0,0,VLOOKUP(P27,tbL!$M$37:$Q$43,IF(L28=TRUE,2,4))),IF($J28>=VLOOKUP(P27,tbL!$M$37:$Q$43,IF(L28=TRUE,3,5)),$P27,IF(AND(L27=TRUE,L28=TRUE),$P27,$P27-1)),IF(AND(L28=TRUE,J28=VLOOKUP(P27,tbL!$M$37:$Q$43,IF(L28=TRUE,2,4))),P27,IF($P27+1>$C$12,$C$12,$P27+1))),0) -> 1 | Q28: =P28 -> 1 | R28: =IF(L28=TRUE,IF(OR(K27=0,R27=1),1,0),0) -> 1 | T28: =IF(AND(L27=TRUE,M28=TRUE),1,IF(AND(L27=TRUE,N28=TRUE),-1,0)) -> 0 | U28: =IF(AND(T28=-1,N28=TRUE),"*",IF(AND(U27="*",N28=TRUE),"*",IF(AND(AND(L28=TRUE,U27="*"),J28<VLOOKUP(V27+1,tbL!$M$38:$O$43,3)),"*",""))) | V28: =IF(U28="*",IF(Q28>V27,V27,Q28),Q28) -> 1 | Y28: =IF(OR($V28=3,OR($V28=1,$V28=2)),IF(OR($V31=0,OR($V32=0,OR($V33=0,OR($V34=0,OR($V35=0,OR($V36=0,$V37=0)))))),IF(J28<IF(V28=3,$D$18,IF(V28=2,$F$13,$F$8)),0,IF(Y27=0,0,IF(J28<10,0,""))),""),"") | Z28: =IF(AND(AND(J33>0,J32=0),Z27=""),1,IF(Z27=1,IF(AND(J28>0,J29-J28>0),"",1),"")) | AA28: =IF(IF(AND(AT28=-1,Z28=1),1,IF(Y28=0,AA27,V28))=0,0,IF((IF(AND(AT28=-1,Z28=1),1,IF(Y28=0,AA27,V28))-AA27)>=2,-(-AA27-1),IF(IF(AND(AT28=-1,Z28=1),1,IF(Y28=0,AA27,V28))-AA27<=-2,(AA27-1),IF(AND(AT28=-1,Z28=1),1,IF(Y28=0,V28,V28))))) -> 1 | AC28: =IF(OR(OR($AT28=-1,$R28=1),AA28=0),"",IF(AND(AA27=AA29,AA28<>AA27),"*","")) | AD28: =IF(AC28="*",AA27,AA28) -> 1 | AE28: =IF(OR(OR($AT28=-1,$R28=1),AD28=0),"",IF(AND(AND(AD27=AD30,AD28<>AD27),AD28=AD29),IF(AE26="*","","*"),"")) | AF28: =IF(AE28="*",AD27,IF(AE27="*",AD26,AD28)) -> 1 | AG28: =IF(OR(OR(OR($AT28=-1,$R28=1),AF28=0),AG25="*"),"",IF(AND(AND(AND(AF27=AF31,AF28<>AF27),AF28=AF29),AF28=AF30),"*","")) | AH28: =IF(AG28="*",AF27,IF(AG27="*",AF26,IF(AG26="*",AF25,AF28))) -> 1 | AI28: =IF(OR(OR(OR($AT28=-1,$R28=1),AH28=0),AI24="*"),"",IF(AND(AND(AND(AND(AH27=AH32,AH28<>AH27),AH28=AH29),AH28=AH30),AH28=AH31),"*","")) | AJ28: =IF(AI28="*",AH27,IF(AI27="*",AH26,IF(AI26="*",AH25,IF(AI25="*",AH24,AH28)))) -> 1 | AL28: =IF(OR(OR(OR($AT28=-1,$R28=1),AJ28=0),AL24="*"),"",IF(AND(AND(AND(AND(AJ27=AJ32,AJ28<>AJ27),AJ28=AJ29),AJ28=AJ30),AJ28=AJ31),"*","")) | AM28: =IF(AL28="*",AJ27,IF(AL27="*",AJ26,IF(AL26="*",AJ25,IF(AL25="*",AJ24,AJ28)))) -> 1 | AN28: =IF(OR(OR(OR($AT28=-1,$R28=1),AM28=0),AN25="*"),"",IF(AND(AND(AND(AM27=AM31,AM28<>AM27),AM28=AM29),AM28=AM30),"*","")) | AO28: =IF(AN28="*",AM27,IF(AN27="*",AM26,IF(AN26="*",AM25,AM28))) -> 1 | AP28: =IF(OR(OR($AT28=-1,$R28=1),AO28=0),"",IF(AND(AND(AO27=AO30,AO28<>AO27),AO28=AO29),"*","")) | AQ28: =IF(AP28="*",AO27,IF(AP27="*",AO26,AO28)) -> 1 | AR28: =IF(OR(OR($AT28=-1,$R28=1),AQ28=0),"",IF(AND(AQ27=AQ29,AQ28<>AQ27),"*","")) | AS28: =IF(AR28="*",AQ27,AQ28) -> 1 | AT28: =IF(OR(Z28=1,Y28=0),-1,"") | AU28: =IF(Y28=0,$C$17/100,IF(OR(K28<$C$17,AA28=0),$C$17/100,(VLOOKUP($AS28,$B$5:$C$11,2)*$J28)/100)) -> 14 | AW28: =AW27+J28/3.6 -> 2.3333333
F29: 5th>>4th | H29: 5th>>4th | I29: =I28+1 -> 25 | J29: ='v-t_chart'!C26 -> 7.2 | K29: =IF($J29=0,0,VLOOKUP($Q29,$B$5:$C$11,2)*$J29) -> 21.0888 | L29: =IF('Input&Output'!$C$3=10,phase_chart!C26,IF('Input&Output'!$C$3=21,phase_chart!G26,IF('Input&Output'!$C$3=22,phase_chart!K26,IF('Input&Output'!$C$3=31,phase_chart!O26,IF('Input&Output'!$C$3=32,phase_chart!S26,""))))) -> TRUE | M29: =IF('Input&Output'!$C$3=10,phase_chart!D26,IF('Input&Output'!$C$3=21,phase_chart!H26,IF('Input&Output'!$C$3=22,phase_chart!L26,IF('Input&Output'!$C$3=31,phase_chart!P26,IF('Input&Output'!$C$3=32,phase_chart!T26,""))))) -> FALSE | N29: =IF('Input&Output'!$C$3=10,phase_chart!E26,IF('Input&Output'!$C$3=21,phase_chart!I26,IF('Input&Output'!$C$3=22,phase_chart!M26,IF('Input&Output'!$C$3=31,phase_chart!Q26,IF('Input&Output'!$C$3=32,phase_chart!U26,""))))) -> FALSE | P29: =IF(NOT($J29=0),IF($J29<IF($P28=0,0,VLOOKUP(P28,tbL!$M$37:$Q$43,IF(L29=TRUE,2,4))),IF($J29>=VLOOKUP(P28,tbL!$M$37:$Q$43,IF(L29=TRUE,3,5)),$P28,IF(AND(L28=TRUE,L29=TRUE),$P28,$P28-1)),IF(AND(L29=TRUE,J29=VLOOKUP(P28,tbL!$M$37:$Q$43,IF(L29=TRUE,2,4))),P28,IF($P28+1>$C$12,$C$12,$P28+1))),0) -> 1 | Q29: =P29 -> 1 | R29: =IF(L29=TRUE,IF(OR(K28=0,R28=1),1,0),0) -> 1 | T29: =IF(AND(L28=TRUE,M29=TRUE),1,IF(AND(L28=TRUE,N29=TRUE),-1,0)) -> 0 | U29: =IF(AND(T29=-1,N29=TRUE),"*",IF(AND(U28="*",N29=TRUE),"*",IF(AND(AND(L29=TRUE,U28="*"),J29<VLOOKUP(V28+1,tbL!$M$38:$O$43,3)),"*",""))) | V29: =IF(U29="*",IF(Q29>V28,V28,Q29),Q29) -> 1 | Y29: =IF(OR($V29=3,OR($V29=1,$V29=2)),IF(OR($V32=0,OR($V33=0,OR($V34=0,OR($V35=0,OR($V36=0,OR($V37=0,$V38=0)))))),IF(J29<IF(V29=3,$D$18,IF(V29=2,$F$13,$F$8)),0,IF(Y28=0,0,IF(J29<10,0,""))),""),"") | Z29: =IF(AND(AND(J34>0,J33=0),Z28=""),1,IF(Z28=1,IF(AND(J29>0,J30-J29>0),"",1),"")) | AA29: =IF(IF(AND(AT29=-1,Z29=1),1,IF(Y29=0,AA28,V29))=0,0,IF((IF(AND(AT29=-1,Z29=1),1,IF(Y29=0,AA28,V29))-AA28)>=2,-(-AA28-1),IF(IF(AND(AT29=-1,Z29=1),1,IF(Y29=0,AA28,V29))-AA28<=-2,(AA28-1),IF(AND(AT29=-1,Z29=1),1,IF(Y29=0,V29,V29))))) -> 1 | AC29: =IF(OR(OR($AT29=-1,$R29=1),AA29=0),"",IF(AND(AA28=AA30,AA29<>AA28),"*","")) | AD29: =IF(AC29="*",AA28,AA29) -> 1 | AE29: =IF(OR(OR($AT29=-1,$R29=1),AD29=0),"",IF(AND(AND(AD28=AD31,AD29<>AD28),AD29=AD30),IF(AE27="*","","*"),"")) | AF29: =IF(AE29="*",AD28,IF(AE28="*",AD27,AD29)) -> 1 | AG29: =IF(OR(OR(OR($AT29=-1,$R29=1),AF29=0),AG26="*"),"",IF(AND(AND(AND(AF28=AF32,AF29<>AF28),AF29=AF30),AF29=AF31),"*","")) | AH29: =IF(AG29="*",AF28,IF(AG28="*",AF27,IF(AG27="*",AF26,AF29))) -> 1 | AI29: =IF(OR(OR(OR($AT29=-1,$R29=1),AH29=0),AI25="*"),"",IF(AND(AND(AND(AND(AH28=AH33,AH29<>AH28),AH29=AH30),AH29=AH31),AH29=AH32),"*","")) | AJ29: =IF(AI29="*",AH28,IF(AI28="*",AH27,IF(AI27="*",AH26,IF(AI26="*",AH25,AH29)))) -> 1 | AL29: =IF(OR(OR(OR($AT29=-1,$R29=1),AJ29=0),AL25="*"),"",IF(AND(AND(AND(AND(AJ28=AJ33,AJ29<>AJ28),AJ29=AJ30),AJ29=AJ31),AJ29=AJ32),"*","")) | AM29: =IF(AL29="*",AJ28,IF(AL28="*",AJ27,IF(AL27="*",AJ26,IF(AL26="*",AJ25,AJ29)))) -> 1 | AN29: =IF(OR(OR(OR($AT29=-1,$R29=1),AM29=0),AN26="*"),"",IF(AND(AND(AND(AM28=AM32,AM29<>AM28),AM29=AM30),AM29=AM31),"*","")) | AO29: =IF(AN29="*",AM28,IF(AN28="*",AM27,IF(AN27="*",AM26,AM29))) -> 1 | AP29: =IF(OR(OR($AT29=-1,$R29=1),AO29=0),"",IF(AND(AND(AO28=AO31,AO29<>AO28),AO29=AO30),"*","")) | AQ29: =IF(AP29="*",AO28,IF(AP28="*",AO27,AO29)) -> 1 | AR29: =IF(OR(OR($AT29=-1,$R29=1),AQ29=0),"",IF(AND(AQ28=AQ30,AQ29<>AQ28),"*","")) | AS29: =IF(AR29="*",AQ28,AQ29) -> 1 | AT29: =IF(OR(Z29=1,Y29=0),-1,"") | AU29: =IF(Y29=0,$C$17/100,IF(OR(K29<$C$17,AA29=0),$C$17/100,(VLOOKUP($AS29,$B$5:$C$11,2)*$J29)/100)) -> 14 | AW29: =AW28+J29/3.6 -> 4.3333333
I30: =I29+1 -> 26 | J30: ='v-t_chart'!C27 -> 9.6 | K30: =IF($J30=0,0,VLOOKUP($Q30,$B$5:$C$11,2)*$J30) -> 28.1184 | L30: =IF('Input&Output'!$C$3=10,phase_chart!C27,IF('Input&Output'!$C$3=21,phase_chart!G27,IF('Input&Output'!$C$3=22,phase_chart!K27,IF('Input&Output'!$C$3=31,phase_chart!O27,IF('Input&Output'!$C$3=32,phase_chart!S27,""))))) -> TRUE | M30: =IF('Input&Output'!$C$3=10,phase_chart!D27,IF('Input&Output'!$C$3=21,phase_chart!H27,IF('Input&Output'!$C$3=22,phase_chart!L27,IF('Input&Output'!$C$3=31,phase_chart!P27,IF('Input&Output'!$C$3=32,phase_chart!T27,""))))) -> FALSE | N30: =IF('Input&Output'!$C$3=10,phase_chart!E27,IF('Input&Output'!$C$3=21,phase_chart!I27,IF('Input&Output'!$C$3=22,phase_chart!M27,IF('Input&Output'!$C$3=31,phase_chart!Q27,IF('Input&Output'!$C$3=32,phase_chart!U27,""))))) -> FALSE | P30: =IF(NOT($J30=0),IF($J30<IF($P29=0,0,VLOOKUP(P29,tbL!$M$37:$Q$43,IF(L30=TRUE,2,4))),IF($J30>=VLOOKUP(P29,tbL!$M$37:$Q$43,IF(L30=TRUE,3,5)),$P29,IF(AND(L29=TRUE,L30=TRUE),$P29,$P29-1)),IF(AND(L30=TRUE,J30=VLOOKUP(P29,tbL!$M$37:$Q$43,IF(L30=TRUE,2,4))),P29,IF($P29+1>$C$12,$C$12,$P29+1))),0) -> 1 | Q30: =P30 -> 1 | R30: =IF(L30=TRUE,IF(OR(K29=0,R29=1),1,0),0) -> 1 | T30: =IF(AND(L29=TRUE,M30=TRUE),1,IF(AND(L29=TRUE,N30=TRUE),-1,0)) -> 0 | U30: =IF(AND(T30=-1,N30=TRUE),"*",IF(AND(U29="*",N30=TRUE),"*",IF(AND(AND(L30=TRUE,U29="*"),J30<VLOOKUP(V29+1,tbL!$M$38:$O$43,3)),"*",""))) | V30: =IF(U30="*",IF(Q30>V29,V29,Q30),Q30) -> 1 | Y30: =IF(OR($V30=3,OR($V30=1,$V30=2)),IF(OR($V33=0,OR($V34=0,OR($V35=0,OR($V36=0,OR($V37=0,OR($V38=0,$V39=0)))))),IF(J30<IF(V30=3,$D$18,IF(V30=2,$F$13,$F$8)),0,IF(Y29=0,0,IF(J30<10,0,""))),""),"") | Z30: =IF(AND(AND(J35>0,J34=0),Z29=""),1,IF(Z29=1,IF(AND(J30>0,J31-J30>0),"",1),"")) | AA30: =IF(IF(AND(AT30=-1,Z30=1),1,IF(Y30=0,AA29,V30))=0,0,IF((IF(AND(AT30=-1,Z30=1),1,IF(Y30=0,AA29,V30))-AA29)>=2,-(-AA29-1),IF(IF(AND(AT30=-1,Z30=1),1,IF(Y30=0,AA29,V30))-AA29<=-2,(AA29-1),IF(AND(AT30=-1,Z30=1),1,IF(Y30=0,V30,V30))))) -> 1 | AC30: =IF(OR(OR($AT30=-1,$R30=1),AA30=0),"",IF(AND(AA29=AA31,AA30<>AA29),"*","")) | AD30: =IF(AC30="*",AA29,AA30) -> 1 | AE30: =IF(OR(OR($AT30=-1,$R30=1),AD30=0),"",IF(AND(AND(AD29=AD32,AD30<>AD29),AD30=AD31),IF(AE28="*","","*"),"")) | AF30: =IF(AE30="*",AD29,IF(AE29="*",AD28,AD30)) -> 1 | AG30: =IF(OR(OR(OR($AT30=-1,$R30=1),AF30=0),AG27="*"),"",IF(AND(AND(AND(AF29=AF33,AF30<>AF29),AF30=AF31),AF30=AF32),"*","")) | AH30: =IF(AG30="*",AF29,IF(AG29="*",AF28,IF(AG28="*",AF27,AF30))) -> 1 | AI30: =IF(OR(OR(OR($AT30=-1,$R30=1),AH30=0),AI26="*"),"",IF(AND(AND(AND(AND(AH29=AH34,AH30<>AH29),AH30=AH31),AH30=AH32),AH30=AH33),"*","")) | AJ30: =IF(AI30="*",AH29,IF(AI29="*",AH28,IF(AI28="*",AH27,IF(AI27="*",AH26,AH30)))) -> 1 | AL30: =IF(OR(OR(OR($AT30=-1,$R30=1),AJ30=0),AL26="*"),"",IF(AND(AND(AND(AND(AJ29=AJ34,AJ30<>AJ29),AJ30=AJ31),AJ30=AJ32),AJ30=AJ33),"*","")) | AM30: =IF(AL30="*",AJ29,IF(AL29="*",AJ28,IF(AL28="*",AJ27,IF(AL27="*",AJ26,AJ30)))) -> 1 | AN30: =IF(OR(OR(OR($AT30=-1,$R30=1),AM30=0),AN27="*"),"",IF(AND(AND(AND(AM29=AM33,AM30<>AM29),AM30=AM31),AM30=AM32),"*","")) | AO30: =IF(AN30="*",AM29,IF(AN29="*",AM28,IF(AN28="*",AM27,AM30))) -> 1 | AP30: =IF(OR(OR($AT30=-1,$R30=1),AO30=0),"",IF(AND(AND(AO29=AO32,AO30<>AO29),AO30=AO31),"*","")) | AQ30: =IF(AP30="*",AO29,IF(AP29="*",AO28,AO30)) -> 1 | AR30: =IF(OR(OR($AT30=-1,$R30=1),AQ30=0),"",IF(AND(AQ29=AQ31,AQ30<>AQ29),"*","")) | AS30: =IF(AR30="*",AQ29,AQ30) -> 1 | AT30: =IF(OR(Z30=1,Y30=0),-1,"") | AU30: =IF(Y30=0,$C$17/100,IF(OR(K30<$C$17,AA30=0),$C$17/100,(VLOOKUP($AS30,$B$5:$C$11,2)*$J30)/100)) -> 14 | AW30: =AW29+J30/3.6 -> 7
