Workbook
Name model_data: model!#REF!
Name model_list: model!$B$4:$M$32
Name models: model!$B$4:$M$15

Sheet Cumulative CTE (Own Work)
B2: Time(s) | C2: Velocity(Km/h) | D2: Vehicle Mass (Kg) | E2: Acceleration (Km/h2) | F2: Tractive effort (N) | G2: Distance (m) | H2: Incremental CTE (Nm) | I2: Cumulative CTE (Nm) | J2: Braking Energy (Nm) | K2: Cumulative Braking Energy (Nm)
B3: 1 | C3: =IF('Input&Output'!$C$3=10,'v-t_chart'!G3,IF('Input&Output'!$C$3=21,'v-t_chart'!H3,IF('Input&Output'!$C$3=32,'v-t_chart'!I3,IF('Input&Output'!$C$3=22,'v-t_chart'!J3,IF('Input&Output'!$C$3=31,'v-t_chart'!K3,'v-t_chart'!L3))))) -> 0 | D3: 243 | E3: 0 | F3: =D3*E3 -> 0 | G3: 0 | H3: =F3*G3 -> 0 | I3: 0 | J3: 0 | K3: 0
B4: 2 | C4: =IF('Input&Output'!$C$3=10,'v-t_chart'!G4,IF('Input&Output'!$C$3=21,'v-t_chart'!H4,IF('Input&Output'!$C$3=32,'v-t_chart'!I4,IF('Input&Output'!$C$3=22,'v-t_chart'!J4,IF('Input&Output'!$C$3=31,'v-t_chart'!K4,'v-t_chart'!L4))))) -> 0 | D4: 243 | E4: =(C4-C3)/(B4/B4) -> 0 | F4: =D4*E4 -> 0 | G4: =(C4+C3/2)*(B4-B3) -> 0 | H4: =F4*G4 -> 0 | I4: =I3+H4 -> 0 | J4: =0.5*D4*((C3^2)-(C4^2)) -> 0 | K4: =K3+J4 -> 0
B5: 3 | C5: =IF('Input&Output'!$C$3=10,'v-t_chart'!G5,IF('Input&Output'!$C$3=21,'v-t_chart'!H5,IF('Input&Output'!$C$3=32,'v-t_chart'!I5,IF('Input&Output'!$C$3=22,'v-t_chart'!J5,IF('Input&Output'!$C$3=31,'v-t_chart'!K5,'v-t_chart'!L5))))) -> 0 | D5: 243 | E5: =(C5-C4)/(B5/B5) -> 0 | F5: =D5*E5 -> 0 | G5: =(C5+C4/2)*(B5-B4) -> 0 | H5: =F5*G5 -> 0 | I5: =I4+H5 -> 0 | J5: =0.5*D5*((C4^2)-(C5^2)) -> 0 | K5: =K4+J5 -> 0
B6: 4 | C6: =IF('Input&Output'!$C$3=10,'v-t_chart'!G6,IF('Input&Output'!$C$3=21,'v-t_chart'!H6,IF('Input&Output'!$C$3=32,'v-t_chart'!I6,IF('Input&Output'!$C$3=22,'v-t_chart'!J6,IF('Input&Output'!$C$3=31,'v-t_chart'!K6,'v-t_chart'!L6))))) -> 0 | D6: 243 | E6: =(C6-C5)/(B6/B6) -> 0 | F6: =D6*E6 -> 0 | G6: =(C6+C5/2)*(B6-B5) -> 0 | H6: =F6*G6 -> 0 | I6: =I5+H6 -> 0 | J6: =0.5*D6*((C5^2)-(C6^2)) -> 0 | K6: =K5+J6 -> 0
B7: 5 | C7: =IF('Input&Output'!$C$3=10,'v-t_chart'!G7,IF('Input&Output'!$C$3=21,'v-t_chart'!H7,IF('Input&Output'!$C$3=32,'v-t_chart'!I7,IF('Input&Output'!$C$3=22,'v-t_chart'!J7,IF('Input&Output'!$C$3=31,'v-t_chart'!K7,'v-t_chart'!L7))))) -> 0 | D7: 243 | E7: =(C7-C6)/(B7/B7) -> 0 | F7: =D7*E7 -> 0 | G7: =(C7+C6/2)*(B7-B6) -> 0 | H7: =F7*G7 -> 0 | I7: =I6+H7 -> 0 | J7: =0.5*D7*((C6^2)-(C7^2)) -> 0 | K7: =K6+J7 -> 0
B8: 6 | C8: =IF('Input&Output'!$C$3=10,'v-t_chart'!G8,IF('Input&Output'!$C$3=21,'v-t_chart'!H8,IF('Input&Output'!$C$3=32,'v-t_chart'!I8,IF('Input&Output'!$C$3=22,'v-t_chart'!J8,IF('Input&Output'!$C$3=31,'v-t_chart'!K8,'v-t_chart'!L8))))) -> 0 | D8: 243 | E8: =(C8-C7)/(B8/B8) -> 0 | F8: =D8*E8 -> 0 | G8: =(C8+C7/2)*(B8-B7) -> 0 | H8: =F8*G8 -> 0 | I8: =I7+H8 -> 0 | J8: =0.5*D8*((C7^2)-(C8^2)) -> 0 | K8: =K7+J8 -> 0
B9: 7 | C9: =IF('Input&Output'!$C$3=10,'v-t_chart'!G9,IF('Input&Output'!$C$3=21,'v-t_chart'!H9,IF('Input&Output'!$C$3=32,'v-t_chart'!I9,IF('Input&Output'!$C$3=22,'v-t_chart'!J9,IF('Input&Output'!$C$3=31,'v-t_chart'!K9,'v-t_chart'!L9))))) -> 0 | D9: 243 | E9: =(C9-C8)/(B9/B9) -> 0 | F9: =D9*E9 -> 0 | G9: =(C9+C8/2)*(B9-B8) -> 0 | H9: =F9*G9 -> 0 | I9: =I8+H9 -> 0 | J9: =0.5*D9*((C8^2)-(C9^2)) -> 0 | K9: =K8+J9 -> 0
B10: 8 | C10: =IF('Input&Output'!$C$3=10,'v-t_chart'!G10,IF('Input&Output'!$C$3=21,'v-t_chart'!H10,IF('Input&Output'!$C$3=32,'v-t_chart'!I10,IF('Input&Output'!$C$3=22,'v-t_chart'!J10,IF('Input&Output'!$C$3=31,'v-t_chart'!K10,'v-t_chart'!L10))))) -> 0 | D10: 243 | E10: =(C10-C9)/(B10/B10) -> 0 | F10: =D10*E10 -> 0 | G10: =(C10+C9/2)*(B10-B9) -> 0 | H10: =F10*G10 -> 0 | I10: =I9+H10 -> 0 | J10: =0.5*D10*((C9^2)-(C10^2)) -> 0 | K10: =K9+J10 -> 0
B11: 9 | C11: =IF('Input&Output'!$C$3=10,'v-t_chart'!G11,IF('Input&Output'!$C$3=21,'v-t_chart'!H11,IF('Input&Output'!$C$3=32,'v-t_chart'!I11,IF('Input&Output'!$C$3=22,'v-t_chart'!J11,IF('Input&Output'!$C$3=31,'v-t_chart'!K11,'v-t_chart'!L11))))) -> 0 | D11: 243 | E11: =(C11-C10)/(B11/B11) -> 0 | F11: =D11*E11 -> 0 | G11: =(C11+C10/2)*(B11-B10) -> 0 | H11: =F11*G11 -> 0 | I11: =I10+H11 -> 0 | J11: =0.5*D11*((C10^2)-(C11^2)) -> 0 | K11: =K10+J11 -> 0
B12: 10 | C12: =IF('Input&Output'!$C$3=10,'v-t_chart'!G12,IF('Input&Output'!$C$3=21,'v-t_chart'!H12,IF('Input&Output'!$C$3=32,'v-t_chart'!I12,IF('Input&Output'!$C$3=22,'v-t_chart'!J12,IF('Input&Output'!$C$3=31,'v-t_chart'!K12,'v-t_chart'!L12))))) -> 0 | D12: 243 | E12: =(C12-C11)/(B12/B12) -> 0 | F12: =D12*E12 -> 0 | G12: =(C12+C11/2)*(B12-B11) -> 0 | H12: =F12*G12 -> 0 | I12: =I11+H12 -> 0 | J12: =0.5*D12*((C11^2)-(C12^2)) -> 0 | K12: =K11+J12 -> 0
B13: 11 | C13: =IF('Input&Output'!$C$3=10,'v-t_chart'!G13,IF('Input&Output'!$C$3=21,'v-t_chart'!H13,IF('Input&Output'!$C$3=32,'v-t_chart'!I13,IF('Input&Output'!$C$3=22,'v-t_chart'!J13,IF('Input&Output'!$C$3=31,'v-t_chart'!K13,'v-t_chart'!L13))))) -> 0 | D13: 243 | E13: =(C13-C12)/(B13/B13) -> 0 | F13: =D13*E13 -> 0 | G13: =(C13+C12/2)*(B13-B12) -> 0 | H13: =F13*G13 -> 0 | I13: =I12+H13 -> 0 | J13: =0.5*D13*((C12^2)-(C13^2)) -> 0 | K13: =K12+J13 -> 0
B14: 12 | C14: =IF('Input&Output'!$C$3=10,'v-t_chart'!G14,IF('Input&Output'!$C$3=21,'v-t_chart'!H14,IF('Input&Output'!$C$3=32,'v-t_chart'!I14,IF('Input&Output'!$C$3=22,'v-t_chart'!J14,IF('Input&Output'!$C$3=31,'v-t_chart'!K14,'v-t_chart'!L14))))) -> 0 | D14: 243 | E14: =(C14-C13)/(B14/B14) -> 0 | F14: =D14*E14 -> 0 | G14: =(C14+C13/2)*(B14-B13) -> 0 | H14: =F14*G14 -> 0 | I14: =I13+H14 -> 0 | J14: =0.5*D14*((C13^2)-(C14^2)) -> 0 | K14: =K13+J14 -> 0
B15: 13 | C15: =IF('Input&Output'!$C$3=10,'v-t_chart'!G15,IF('Input&Output'!$C$3=21,'v-t_chart'!H15,IF('Input&Output'!$C$3=32,'v-t_chart'!I15,IF('Input&Output'!$C$3=22,'v-t_chart'!J15,IF('Input&Output'!$C$3=31,'v-t_chart'!K15,'v-t_chart'!L15))))) -> 0 | D15: 243 | E15: =(C15-C14)/(B15/B15) -> 0 | F15: =D15*E15 -> 0 | G15: =(C15+C14/2)*(B15-B14) -> 0 | H15: =F15*G15 -> 0 | I15: =I14+H15 -> 0 | J15: =0.5*D15*((C14^2)-(C15^2)) -> 0 | K15: =K14+J15 -> 0
... B22: 20 | C22: =IF('Input&Output'!$C$3=10,'v-t_chart'!G22,IF('Input&Output'!$C$3=21,'v-t_chart'!H22,IF('Input&Output'!$C$3=32,'v-t_chart'!I22,IF('Input&Output'!$C$3=22,'v-t_chart'!J22,IF('Input&Output'!$C$3=31,'v-t_chart'!K22,'v-t_chart'!L22))))) -> 0 | D22: 243 | E22: =(C22-C21)/(B22/B22) -> 0 | F22: =D22*E22 -> 0 | G22: =(C22+C21/2)*(B22-B21) -> 0 | H22: =F22*G22 -> 0 | I22: =I21+H22 -> 0 | J22: =0.5*D22*((C21^2)-(C22^2)) -> 0 | K22: =K21+J22 -> 0
B23: 21 | C23: =IF('Input&Output'!$C$3=10,'v-t_chart'!G23,IF('Input&Output'!$C$3=21,'v-t_chart'!H23,IF('Input&Output'!$C$3=32,'v-t_chart'!I23,IF('Input&Output'!$C$3=22,'v-t_chart'!J23,IF('Input&Output'!$C$3=31,'v-t_chart'!K23,'v-t_chart'!L23))))) -> 1 | D23: 243 | E23: =(C23-C22)/(B23/B23) -> 1 | F23: =D23*E23 -> 243 | G23: =(C23+C22/2)*(B23-B22) -> 1 | H23: =F23*G23 -> 243 | I23: =I22+H23 -> 243 | J23: =(0.5*D23*((C22^2)-(C23^2)))*-1 -> 121.5 | K23: =K22+J23 -> 121.5
B24: 22 | C24: =IF('Input&Output'!$C$3=10,'v-t_chart'!G24,IF('Input&Output'!$C$3=21,'v-t_chart'!H24,IF('Input&Output'!$C$3=32,'v-t_chart'!I24,IF('Input&Output'!$C$3=22,'v-t_chart'!J24,IF('Input&Output'!$C$3=31,'v-t_chart'!K24,'v-t_chart'!L24))))) -> 2.6 | D24: 243 | E24: =(C24-C23)/(B24/B24) -> 1.6 | F24: =D24*E24 -> 388.8 | G24: =(C24+C23/2)*(B24-B23) -> 3.1 | H24: =F24*G24 -> 1205.28 | I24: =I23+H24 -> 1448.28 | J24: =(0.5*D24*((C23^2)-(C24^2)))*-1 -> 699.84 | K24: =K23+J24 -> 821.34
B25: 23 | C25: =IF('Input&Output'!$C$3=10,'v-t_chart'!G25,IF('Input&Output'!$C$3=21,'v-t_chart'!H25,IF('Input&Output'!$C$3=32,'v-t_chart'!I25,IF('Input&Output'!$C$3=22,'v-t_chart'!J25,IF('Input&Output'!$C$3=31,'v-t_chart'!K25,'v-t_chart'!L25))))) -> 4.8 | D25: 243 | E25: =(C25-C24)/(B25/B25) -> 2.2 | F25: =D25*E25 -> 534.6 | G25: =(C25+C24/2)*(B25-B24) -> 6.1 | H25: =F25*G25 -> 3261.06 | I25: =I24+H25 -> 4709.34 | J25: =(0.5*D25*((C24^2)-(C25^2)))*-1 -> 1978.02 | K25: =K24+J25 -> 2799.36
B26: 24 | C26: =IF('Input&Output'!$C$3=10,'v-t_chart'!G26,IF('Input&Output'!$C$3=21,'v-t_chart'!H26,IF('Input&Output'!$C$3=32,'v-t_chart'!I26,IF('Input&Output'!$C$3=22,'v-t_chart'!J26,IF('Input&Output'!$C$3=31,'v-t_chart'!K26,'v-t_chart'!L26))))) -> 7.2 | D26: 243 | E26: =(C26-C25)/(B26/B26) -> 2.4 | F26: =D26*E26 -> 583.2 | G26: =(C26+C25/2)*(B26-B25) -> 9.6 | H26: =F26*G26 -> 5598.72 | I26: =I25+H26 -> 10308.06 | J26: =(0.5*D26*((C25^2)-(C26^2)))*-1 -> 3499.2 | K26: =K25+J26 -> 6298.56
B27: 25 | C27: =IF('Input&Output'!$C$3=10,'v-t_chart'!G27,IF('Input&Output'!$C$3=21,'v-t_chart'!H27,IF('Input&Output'!$C$3=32,'v-t_chart'!I27,IF('Input&Output'!$C$3=22,'v-t_chart'!J27,IF('Input&Output'!$C$3=31,'v-t_chart'!K27,'v-t_chart'!L27))))) -> 9.6 | D27: 243 | E27: =(C27-C26)/(B27/B27) -> 2.4 | F27: =D27*E27 -> 583.2 | G27: =(C27+C26/2)*(B27-B26) -> 13.2 | H27: =F27*G27 -> 7698.24 | I27: =I26+H27 -> 18006.3 | J27: =(0.5*D27*((C26^2)-(C27^2)))*-1 -> 4898.88 | K27: =K26+J27 -> 11197.44
B28: 26 | C28: =IF('Input&Output'!$C$3=10,'v-t_chart'!G28,IF('Input&Output'!$C$3=21,'v-t_chart'!H28,IF('Input&Output'!$C$3=32,'v-t_chart'!I28,IF('Input&Output'!$C$3=22,'v-t_chart'!J28,IF('Input&Output'!$C$3=31,'v-t_chart'!K28,'v-t_chart'!L28))))) -> 12 | D28: 243 | E28: =(C28-C27)/(B28/B28) -> 2.4 | F28: =D28*E28 -> 583.2 | G28: =(C28+C27/2)*(B28-B27) -> 16.8 | H28: =F28*G28 -> 9797.76 | I28: =I27+H28 -> 27804.06 | J28: =(0.5*D28*((C27^2)-(C28^2)))*-1 -> 6298.56 | K28: =K27+J28 -> 17496
B29: 27 | C29: =IF('Input&Output'!$C$3=10,'v-t_chart'!G29,IF('Input&Output'!$C$3=21,'v-t_chart'!H29,IF('Input&Output'!$C$3=32,'v-t_chart'!I29,IF('Input&Output'!$C$3=22,'v-t_chart'!J29,IF('Input&Output'!$C$3=31,'v-t_chart'!K29,'v-t_chart'!L29))))) -> 14.3 | D29: 243 | E29: =(C29-C28)/(B29/B29) -> 2.3 | F29: =D29*E29 -> 558.9 | G29: =(C29+C28/2)*(B29-B28) -> 20.3 | H29: =F29*G29 -> 11345.67 | I29: =I28+H29 -> 39149.73 | J29: =(0.5*D29*((C28^2)-(C29^2)))*-1 -> 7349.535 | K29: =K28+J29 -> 24845.535
B30: 28 | C30: =IF('Input&Output'!$C$3=10,'v-t_chart'!G30,IF('Input&Output'!$C$3=21,'v-t_chart'!H30,IF('Input&Output'!$C$3=32,'v-t_chart'!I30,IF('Input&Output'!$C$3=22,'v-t_chart'!J30,IF('Input&Output'!$C$3=31,'v-t_chart'!K30,'v-t_chart'!L30))))) -> 16.6 | D30: 243 | E30: =(C30-C29)/(B30/B30) -> 2.3 | F30: =D30*E30 -> 558.9 | G30: =(C30+C29/2)*(B30-B29) -> 23.75 | H30: =F30*G30 -> 13273.875 | I30: =I29+H30 -> 52423.605 | J30: =(0.5*D30*((C29^2)-(C30^2)))*-1 -> 8635.005 | K30: =K29+J30 -> 33480.54
B31: 29 | C31: =IF('Input&Output'!$C$3=10,'v-t_chart'!G31,IF('Input&Output'!$C$3=21,'v-t_chart'!H31,IF('Input&Output'!$C$3=32,'v-t_chart'!I31,IF('Input&Output'!$C$3=22,'v-t_chart'!J31,IF('Input&Output'!$C$3=31,'v-t_chart'!K31,'v-t_chart'!L31))))) -> 18.9 | D31: 243 | E31: =(C31-C30)/(B31/B31) -> 2.3 | F31: =D31*E31 -> 558.9 | G31: =(C31+C30/2)*(B31-B30) -> 27.2 | H31: =F31*G31 -> 15202.08 | I31: =I30+H31 -> 67625.685 | J31: =(0.5*D31*((C30^2)-(C31^2)))*-1 -> 9920.475 | K31: =K30+J31 -> 43401.015
B32: 30 | C32: =IF('Input&Output'!$C$3=10,'v-t_chart'!G32,IF('Input&Output'!$C$3=21,'v-t_chart'!H32,IF('Input&Output'!$C$3=32,'v-t_chart'!I32,IF('Input&Output'!$C$3=22,'v-t_chart'!J32,IF('Input&Output'!$C$3=31,'v-t_chart'!K32,'v-t_chart'!L32))))) -> 21.2 | D32: 243 | E32: =(C32-C31)/(B32/B32) -> 2.3 | F32: =D32*E32 -> 558.9 | G32: =(C32+C31/2)*(B32-B31) -> 30.65 | H32: =F32*G32 -> 17130.285 | I32: =I31+H32 -> 84755.97 | J32: =(0.5*D32*((C31^2)-(C32^2)))*-1 -> 11205.945 | K32: =K31+J32 -> 54606.96
B33: 31 | C33: =IF('Input&Output'!$C$3=10,'v-t_chart'!G33,IF('Input&Output'!$C$3=21,'v-t_chart'!H33,IF('Input&Output'!$C$3=32,'v-t_chart'!I33,IF('Input&Output'!$C$3=22,'v-t_chart'!J33,IF('Input&Output'!$C$3=31,'v-t_chart'!K33,'v-t_chart'!L33))))) -> 23.5 | D33: 243 | E33: =(C33-C32)/(B33/B33) -> 2.3 | F33: =D33*E33 -> 558.9 | G33: =(C33+C32/2)*(B33-B32) -> 34.1 | H33: =F33*G33 -> 19058.49 | I33: =I32+H33 -> 103814.46 | J33: =(0.5*D33*((C32^2)-(C33^2)))*-1 -> 12491.415 | K33: =K32+J33 -> 67098.375
B34: 32 | C34: =IF('Input&Output'!$C$3=10,'v-t_chart'!G34,IF('Input&Output'!$C$3=21,'v-t_chart'!H34,IF('Input&Output'!$C$3=32,'v-t_chart'!I34,IF('Input&Output'!$C$3=22,'v-t_chart'!J34,IF('Input&Output'!$C$3=31,'v-t_chart'!K34,'v-t_chart'!L34))))) -> 25.6 | D34: 243 | E34: =(C34-C33)/(B34/B34) -> 2.1 | F34: =D34*E34 -> 510.3 | G34: =(C34+C33/2)*(B34-B33) -> 37.35 | H34: =F34*G34 -> 19059.705 | I34: =I33+H34 -> 122874.17 | J34: =(0.5*D34*((C33^2)-(C34^2)))*-1 -> 12527.865 | K34: =K33+J34 -> 79626.24
... B1572: 1570 | C1572: =IF('Input&Output'!$C$3=10,'v-t_chart'!G1572,IF('Input&Output'!$C$3=21,'v-t_chart'!H1572,IF('Input&Output'!$C$3=32,'v-t_chart'!I1572,IF('Input&Output'!$C$3=22,'v-t_chart'!J1572,IF('Input&Output'!$C$3=31,'v-t_chart'!K1572,'v-t_chart'!L1572))))) -> 88.3 | D1572: 243 | E1572: =(C1572-C1571)/(B1572/B1572) -> 1.8 | F1572: =D1572*E1572 -> 437.4 | G1572: =(C1572+C1571/2)*(B1572-B1571) -> 131.55 | H1572: =F1572*G1572 -> 57539.97 | I1572: =I1571+H1572 -> 1882855.1 | J1572: =(0.5*D1572*((C1571^2)-(C1572^2)))*-1 -> 38228.76 | K1572: =K1571+J1572 -> 947322.14
B1573: =B1572+1 -> 1571 | C1573: =IF('Input&Output'!$C$3=10,'v-t_chart'!G1573,IF('Input&Output'!$C$3=21,'v-t_chart'!H1573,IF('Input&Output'!$C$3=32,'v-t_chart'!I1573,IF('Input&Output'!$C$3=22,'v-t_chart'!J1573,IF('Input&Output'!$C$3=31,'v-t_chart'!K1573,'v-t_chart'!L1573))))) -> 89.9 | D1573: 243 | E1573: =(C1573-C1572)/(B1573/B1573) -> 1.6 | F1573: =D1573*E1573 -> 388.8 | G1573: =(C1573+C1572/2)*(B1573-B1572) -> 134.05 | H1573: =F1573*G1573 -> 52118.64 | I1573: =I1572+H1573 -> 1934973.8 | J1573: =(0.5*D1573*((C1572^2)-(C1573^2)))*-1 -> 34642.08 | K1573: =K1572+J1573 -> 981964.22
B1574: =B1573+1 -> 1572 | C1574: =IF('Input&Output'!$C$3=10,'v-t_chart'!G1574,IF('Input&Output'!$C$3=21,'v-t_chart'!H1574,IF('Input&Output'!$C$3=32,'v-t_chart'!I1574,IF('Input&Output'!$C$3=22,'v-t_chart'!J1574,IF('Input&Output'!$C$3=31,'v-t_chart'!K1574,'v-t_chart'!L1574))))) -> 91 | D1574: 243 | E1574: =(C1574-C1573)/(B1574/B1574) -> 1.1 | F1574: =D1574*E1574 -> 267.3 | G1574: =(C1574+C1573/2)*(B1574-B1573) -> 135.95 | H1574: =F1574*G1574 -> 36339.435 | I1574: =I1573+H1574 -> 1971313.2 | J1574: =(0.5*D1574*((C1573^2)-(C1574^2)))*-1 -> 24177.285 | K1574: =K1573+J1574 -> 1006141.5
B1575: =B1574+1 -> 1573 | C1575: =IF('Input&Output'!$C$3=10,'v-t_chart'!G1575,IF('Input&Output'!$C$3=21,'v-t_chart'!H1575,IF('Input&Output'!$C$3=32,'v-t_chart'!I1575,IF('Input&Output'!$C$3=22,'v-t_chart'!J1575,IF('Input&Output'!$C$3=31,'v-t_chart'!K1575,'v-t_chart'!L1575))))) -> 91.8 | D1575: 243 | E1575: =(C1575-C1574)/(B1575/B1575) -> 0.8 | F1575: =D1575*E1575 -> 194.4 | G1575: =(C1575+C1574/2)*(B1575-B1574) -> 137.3 | H1575: =F1575*G1575 -> 26691.12 | I1575: =I1574+H1575 -> 1998004.3 | J1575: =(0.5*D1575*((C1574^2)-(C1575^2)))*-1 -> 17768.16 | K1575: =K1574+J1575 -> 1023909.7
B1576: =B1575+1 -> 1574 | C1576: =IF('Input&Output'!$C$3=10,'v-t_chart'!G1576,IF('Input&Output'!$C$3=21,'v-t_chart'!H1576,IF('Input&Output'!$C$3=32,'v-t_chart'!I1576,IF('Input&Output'!$C$3=22,'v-t_chart'!J1576,IF('Input&Output'!$C$3=31,'v-t_chart'!K1576,'v-t_chart'!L1576))))) -> 92.5 | D1576: 243 | E1576: =(C1576-C1575)/(B1576/B1576) -> 0.7 | F1576: =D1576*E1576 -> 170.1 | G1576: =(C1576+C1575/2)*(B1576-B1575) -> 138.4 | H1576: =F1576*G1576 -> 23541.84 | I1576: =I1575+H1576 -> 2021546.2 | J1576: =(0.5*D1576*((C1575^2)-(C1576^2)))*-1 -> 15674.715 | K1576: =K1575+J1576 -> 1039584.4
B1577: =B1576+1 -> 1575 | C1577: =IF('Input&Output'!$C$3=10,'v-t_chart'!G1577,IF('Input&Output'!$C$3=21,'v-t_chart'!H1577,IF('Input&Output'!$C$3=32,'v-t_chart'!I1577,IF('Input&Output'!$C$3=22,'v-t_chart'!J1577,IF('Input&Output'!$C$3=31,'v-t_chart'!K1577,'v-t_chart'!L1577))))) -> 93.1 | D1577: 243 | E1577: =(C1577-C1576)/(B1577/B1577) -> 0.6 | F1577: =D1577*E1577 -> 145.8 | G1577: =(C1577+C1576/2)*(B1577-B1576) -> 139.35 | H1577: =F1577*G1577 -> 20317.23 | I1577: =I1576+H1577 -> 2041863.4 | J1577: =(0.5*D1577*((C1576^2)-(C1577^2)))*-1 -> 13530.24 | K1577: =K1576+J1577 -> 1053114.6
B1578: =B1577+1 -> 1576 | C1578: =IF('Input&Output'!$C$3=10,'v-t_chart'!G1578,IF('Input&Output'!$C$3=21,'v-t_chart'!H1578,IF('Input&Output'!$C$3=32,'v-t_chart'!I1578,IF('Input&Output'!$C$3=22,'v-t_chart'!J1578,IF('Input&Output'!$C$3=31,'v-t_chart'!K1578,'v-t_chart'!L1578))))) -> 93.7 | D1578: 243 | E1578: =(C1578-C1577)/(B1578/B1578) -> 0.6 | F1578: =D1578*E1578 -> 145.8 | G1578: =(C1578+C1577/2)*(B1578-B1577) -> 140.25 | H1578: =F1578*G1578 -> 20448.45 | I1578: =I1577+H1578 -> 2062311.8 | J1578: =(0.5*D1578*((C1577^2)-(C1578^2)))*-1 -> 13617.72 | K1578: =K1577+J1578 -> 1066732.3
B1579: =B1578+1 -> 1577 | C1579: =IF('Input&Output'!$C$3=10,'v-t_chart'!G1579,IF('Input&Output'!$C$3=21,'v-t_chart'!H1579,IF('Input&Output'!$C$3=32,'v-t_chart'!I1579,IF('Input&Output'!$C$3=22,'v-t_chart'!J1579,IF('Input&Output'!$C$3=31,'v-t_chart'!K1579,'v-t_chart'!L1579))))) -> 94.4 | D1579: 243 | E1579: =(C1579-C1578)/(B1579/B1579) -> 0.7 | F1579: =D1579*E1579 -> 170.1 | G1579: =(C1579+C1578/2)*(B1579-B1578) -> 141.25 | H1579: =F1579*G1579 -> 24026.625 | I1579: =I1578+H1579 -> 2086338.5 | J1579: =(0.5*D1579*((C1578^2)-(C1579^2)))*-1 -> 15997.905 | K1579: =K1578+J1579 -> 1082730.2
B1580: =B1579+1 -> 1578 | C1580: =IF('Input&Output'!$C$3=10,'v-t_chart'!G1580,IF('Input&Output'!$C$3=21,'v-t_chart'!H1580,IF('Input&Output'!$C$3=32,'v-t_chart'!I1580,IF('Input&Output'!$C$3=22,'v-t_chart'!J1580,IF('Input&Output'!$C$3=31,'v-t_chart'!K1580,'v-t_chart'!L1580))))) -> 95 | D1580: 243 | E1580: =(C1580-C1579)/(B1580/B1580) -> 0.6 | F1580: =D1580*E1580 -> 145.8 | G1580: =(C1580+C1579/2)*(B1580-B1579) -> 142.2 | H1580: =F1580*G1580 -> 20732.76 | I1580: =I1579+H1580 -> 2107071.2 | J1580: =(0.5*D1580*((C1579^2)-(C1580^2)))*-1 -> 13807.26 | K1580: =K1579+J1580 -> 1096537.5
B1581: =B1580+1 -> 1579 | C1581: =IF('Input&Output'!$C$3=10,'v-t_chart'!G1581,IF('Input&Output'!$C$3=21,'v-t_chart'!H1581,IF('Input&Output'!$C$3=32,'v-t_chart'!I1581,IF('Input&Output'!$C$3=22,'v-t_chart'!J1581,IF('Input&Output'!$C$3=31,'v-t_chart'!K1581,'v-t_chart'!L1581))))) -> 95.6 | D1581: 243 | E1581: =(C1581-C1580)/(B1581/B1581) -> 0.6 | F1581: =D1581*E1581 -> 145.8 | G1581: =(C1581+C1580/2)*(B1581-B1580) -> 143.1 | H1581: =F1581*G1581 -> 20863.98 | I1581: =I1580+H1581 -> 2127935.2 | J1581: =(0.5*D1581*((C1580^2)-(C1581^2)))*-1 -> 13894.74 | K1581: =K1580+J1581 -> 1110432.2
B1582: =B1581+1 -> 1580 | C1582: =IF('Input&Output'!$C$3=10,'v-t_chart'!G1582,IF('Input&Output'!$C$3=21,'v-t_chart'!H1582,IF('Input&Output'!$C$3=32,'v-t_chart'!I1582,IF('Input&Output'!$C$3=22,'v-t_chart'!J1582,IF('Input&Output'!$C$3=31,'v-t_chart'!K1582,'v-t_chart'!L1582))))) -> 96.3 | D1582: 243 | E1582: =(C1582-C1581)/(B1582/B1582) -> 0.7 | F1582: =D1582*E1582 -> 170.1 | G1582: =(C1582+C1581/2)*(B1582-B1581) -> 144.1 | H1582: =F1582*G1582 -> 24511.41 | I1582: =I1581+H1582 -> 2152446.6 | J1582: =(0.5*D1582*((C1581^2)-(C1582^2)))*-1 -> 16321.095 | K1582: =K1581+J1582 -> 1126753.3
B1583: =B1582+1 -> 1581 | C1583: =IF('Input&Output'!$C$3=10,'v-t_chart'!G1583,IF('Input&Output'!$C$3=21,'v-t_chart'!H1583,IF('Input&Output'!$C$3=32,'v-t_chart'!I1583,IF('Input&Output'!$C$3=22,'v-t_chart'!J1583,IF('Input&Output'!$C$3=31,'v-t_chart'!K1583,'v-t_chart'!L1583))))) -> 96.9 | D1583: 243 | E1583: =(C1583-C1582)/(B1583/B1583) -> 0.6 | F1583: =D1583*E1583 -> 145.8 | G1583: =(C1583+C1582/2)*(B1583-B1582) -> 145.05 | H1583: =F1583*G1583 -> 21148.29 | I1583: =I1582+H1583 -> 2173594.9 | J1583: =(0.5*D1583*((C1582^2)-(C1583^2)))*-1 -> 14084.28 | K1583: =K1582+J1583 -> 1140837.6
B1584: =B1583+1 -> 1582 | C1584: =IF('Input&Output'!$C$3=10,'v-t_chart'!G1584,IF('Input&Output'!$C$3=21,'v-t_chart'!H1584,IF('Input&Output'!$C$3=32,'v-t_chart'!I1584,IF('Input&Output'!$C$3=22,'v-t_chart'!J1584,IF('Input&Output'!$C$3=31,'v-t_chart'!K1584,'v-t_chart'!L1584))))) -> 97.5 | D1584: 243 | E1584: =(C1584-C1583)/(B1584/B1584) -> 0.6 | F1584: =D1584*E1584 -> 145.8 | G1584: =(C1584+C1583/2)*(B1584-B1583) -> 145.95 | H1584: =F1584*G1584 -> 21279.51 | I1584: =I1583+H1584 -> 2194874.4 | J1584: =(0.5*D1584*((C1583^2)-(C1584^2)))*-1 -> 14171.76 | K1584: =K1583+J1584 -> 1155009.4
...

Sheet (imported from UN) --->

Sheet Input&Output
B1: WMTC Class code
B2: Class1=10 | C2: Class2-1=21 Class2-2=22 | D2: Class3-1=31 Class3-2=32
C3: 31
G4: Part1 | M4: Part2 | S4: Part3
B5: MODEL | D5: Ninja 400 | G5: time | H5: v | I5: Gear-NO. | J5: Clutch | K5: Ne | M5: time | N5: v | O5: Gear-NO. | P5: Clutch | Q5: Ne | S5: time | T5: v | U5: Gear-NO. | V5: Clutch | W5: Ne
G6: 0 | H6: 0 | I6: 0 | K6: =K7 -> 1400 | M6: 0 | N6: =IF(C3=10,"",H606) -> 0 | O6: =IF(C3=10,"",I606) -> 0 | P6: =J606 | Q6: =IF(C3=10,"",K606) -> 1400 | S6: 0 | T6: =IF(OR(C3=10,INT(C3/10)=2),"",N606) -> 0 | U6: =IF(INT(C3/10)<=2,"",O606) -> 0 | V6: =P606 | W6: =IF(INT(C3/10)<=2,"",Q606) -> 1400
G7: =calc_gear1!$I5 -> 1 | H7: =calc_gear1!$J5 -> 0 | I7: =calc_gear1!AS5 -> 0 | J7: =calc_gear1!AT5 | K7: =calc_gear1!AU5*100 -> 1400 | M7: =calc_gear1!$I605 -> 1 | N7: =IF($C$3=10,"",calc_gear1!$J605) -> 0 | O7: =IF($C$3=10,"",calc_gear1!AS605) -> 0 | P7: =calc_gear1!AT605 | Q7: =IF($C$3=10,"",calc_gear1!AU605*100) -> 1400 | S7: =calc_gear1!$I1205 -> 1 | T7: =IF(INT($C$3/10)<=2,"",calc_gear1!$J1205) -> 0 | U7: =IF(INT($C$3/10)<=2,"",calc_gear1!AS1205) -> 0 | V7: =calc_gear1!AT1205 | W7: =IF(INT($C$3/10)<=2,"",calc_gear1!AU1205*100) -> 1400
B8: Max power | C8: kW | D8: 33.4 | G8: =calc_gear1!$I6 -> 2 | H8: =calc_gear1!$J6 -> 0 | I8: =calc_gear1!AS6 -> 0 | J8: =calc_gear1!AT6 | K8: =calc_gear1!AU6*100 -> 1400 | M8: =calc_gear1!$I606 -> 2 | N8: =IF($C$3=10,"",calc_gear1!$J606) -> 0 | O8: =IF($C$3=10,"",calc_gear1!AS606) -> 0 | P8: =calc_gear1!AT606 | Q8: =IF($C$3=10,"",calc_gear1!AU606*100) -> 1400 | S8: =calc_gear1!$I1206 -> 2 | T8: =IF(INT($C$3/10)<=2,"",calc_gear1!$J1206) -> 0 | U8: =IF(INT($C$3/10)<=2,"",calc_gear1!AS1206) -> 0 | V8: =calc_gear1!AT1206 | W8: =IF(INT($C$3/10)<=2,"",calc_gear1!AU1206*100) -> 1400
B9: Kerb Weight | C9: kg | D9: 168 | G9: =calc_gear1!$I7 -> 3 | H9: =calc_gear1!$J7 -> 0 | I9: =calc_gear1!AS7 -> 0 | J9: =calc_gear1!AT7 | K9: =calc_gear1!AU7*100 -> 1400 | M9: =calc_gear1!$I607 -> 3 | N9: =IF($C$3=10,"",calc_gear1!$J607) -> 0 | O9: =IF($C$3=10,"",calc_gear1!AS607) -> 0 | P9: =calc_gear1!AT607 | Q9: =IF($C$3=10,"",calc_gear1!AU607*100) -> 1400 | S9: =calc_gear1!$I1207 -> 3 | T9: =IF(INT($C$3/10)<=2,"",calc_gear1!$J1207) -> 0 | U9: =IF(INT($C$3/10)<=2,"",calc_gear1!AS1207) -> 1 | V9: =calc_gear1!AT1207 -> -1 | W9: =IF(INT($C$3/10)<=2,"",calc_gear1!AU1207*100) -> 1400
G10: =calc_gear1!$I8 -> 4 | H10: =calc_gear1!$J8 -> 0 | I10: =calc_gear1!AS8 -> 0 | J10: =calc_gear1!AT8 | K10: =calc_gear1!AU8*100 -> 1400 | M10: =calc_gear1!$I608 -> 4 | N10: =IF($C$3=10,"",calc_gear1!$J608) -> 0 | O10: =IF($C$3=10,"",calc_gear1!AS608) -> 1 | P10: =calc_gear1!AT608 -> -1 | Q10: =IF($C$3=10,"",calc_gear1!AU608*100) -> 1400 | S10: =calc_gear1!$I1208 -> 4 | T10: =IF(INT($C$3/10)<=2,"",calc_gear1!$J1208) -> 0 | U10: =IF(INT($C$3/10)<=2,"",calc_gear1!AS1208) -> 1 | V10: =calc_gear1!AT1208 -> -1 | W10: =IF(INT($C$3/10)<=2,"",calc_gear1!AU1208*100) -> 1400
B11: Max Ne | C11: ｒｐｍ | D11: 10000 | G11: =calc_gear1!$I9 -> 5 | H11: =calc_gear1!$J9 -> 0 | I11: =calc_gear1!AS9 -> 0 | J11: =calc_gear1!AT9 | K11: =calc_gear1!AU9*100 -> 1400 | M11: =calc_gear1!$I609 -> 5 | N11: =IF($C$3=10,"",calc_gear1!$J609) -> 0 | O11: =IF($C$3=10,"",calc_gear1!AS609) -> 1 | P11: =calc_gear1!AT609 -> -1 | Q11: =IF($C$3=10,"",calc_gear1!AU609*100) -> 1400 | S11: =calc_gear1!$I1209 -> 5 | T11: =IF(INT($C$3/10)<=2,"",calc_gear1!$J1209) -> 0 | U11: =IF(INT($C$3/10)<=2,"",calc_gear1!AS1209) -> 1 | V11: =calc_gear1!AT1209 -> -1 | W11: =IF(INT($C$3/10)<=2,"",calc_gear1!AU1209*100) -> 1400
B12: Idling speed | C12: ｒｐｍ | D12: 1400 | G12: =calc_gear1!$I10 -> 6 | H12: =calc_gear1!$J10 -> 0 | I12: =calc_gear1!AS10 -> 0 | J12: =calc_gear1!AT10 | K12: =calc_gear1!AU10*100 -> 1400 | M12: =calc_gear1!$I610 -> 6 | N12: =IF($C$3=10,"",calc_gear1!$J610) -> 0 | O12: =IF($C$3=10,"",calc_gear1!AS610) -> 1 | P12: =calc_gear1!AT610 -> -1 | Q12: =IF($C$3=10,"",calc_gear1!AU610*100) -> 1400 | S12: =calc_gear1!$I1210 -> 6 | T12: =IF(INT($C$3/10)<=2,"",calc_gear1!$J1210) -> 0 | U12: =IF(INT($C$3/10)<=2,"",calc_gear1!AS1210) -> 1 | V12: =calc_gear1!AT1210 -> -1 | W12: =IF(INT($C$3/10)<=2,"",calc_gear1!AU1210*100) -> 1400
G13: =calc_gear1!$I11 -> 7 | H13: =calc_gear1!$J11 -> 0 | I13: =calc_gear1!AS11 -> 0 | J13: =calc_gear1!AT11 | K13: =calc_gear1!AU11*100 -> 1400 | M13: =calc_gear1!$I611 -> 7 | N13: =IF($C$3=10,"",calc_gear1!$J611) -> 0 | O13: =IF($C$3=10,"",calc_gear1!AS611) -> 1 | P13: =calc_gear1!AT611 -> -1 | Q13: =IF($C$3=10,"",calc_gear1!AU611*100) -> 1400 | S13: =calc_gear1!$I1211 -> 7 | T13: =IF(INT($C$3/10)<=2,"",calc_gear1!$J1211) -> 0 | U13: =IF(INT($C$3/10)<=2,"",calc_gear1!AS1211) -> 1 | V13: =calc_gear1!AT1211 -> -1 | W13: =IF(INT($C$3/10)<=2,"",calc_gear1!AU1211*100) -> 1400
B14: NV ratio | C14: 1st | D14: 2.929 | G14: =calc_gear1!$I12 -> 8 | H14: =calc_gear1!$J12 -> 0 | I14: =calc_gear1!AS12 -> 0 | J14: =calc_gear1!AT12 | K14: =calc_gear1!AU12*100 -> 1400 | M14: =calc_gear1!$I612 -> 8 | N14: =IF($C$3=10,"",calc_gear1!$J612) -> 0 | O14: =IF($C$3=10,"",calc_gear1!AS612) -> 1 | P14: =calc_gear1!AT612 -> -1 | Q14: =IF($C$3=10,"",calc_gear1!AU612*100) -> 1400 | S14: =calc_gear1!$I1212 -> 8 | T14: =IF(INT($C$3/10)<=2,"",calc_gear1!$J1212) -> 0.9 | U14: =IF(INT($C$3/10)<=2,"",calc_gear1!AS1212) -> 1 | V14: =calc_gear1!AT1212 | W14: =IF(INT($C$3/10)<=2,"",calc_gear1!AU1212*100) -> 1400
C15: 2nd | D15: 2.056 | G15: =calc_gear1!$I13 -> 9 | H15: =calc_gear1!$J13 -> 0 | I15: =calc_gear1!AS13 -> 0 | J15: =calc_gear1!AT13 | K15: =calc_gear1!AU13*100 -> 1400 | M15: =calc_gear1!$I613 -> 9 | N15: =IF($C$3=10,"",calc_gear1!$J613) -> 2.3 | O15: =IF($C$3=10,"",calc_gear1!AS613) -> 1 | P15: =calc_gear1!AT613 | Q15: =IF($C$3=10,"",calc_gear1!AU613*100) -> 1400 | S15: =calc_gear1!$I1213 -> 9 | T15: =IF(INT($C$3/10)<=2,"",calc_gear1!$J1213) -> 3.2 | U15: =IF(INT($C$3/10)<=2,"",calc_gear1!AS1213) -> 1 | V15: =calc_gear1!AT1213 | W15: =IF(INT($C$3/10)<=2,"",calc_gear1!AU1213*100) -> 1400
C16: 3rd | D16: 1.619 | G16: =calc_gear1!$I14 -> 10 | H16: =calc_gear1!$J14 -> 0 | I16: =calc_gear1!AS14 -> 0 | J16: =calc_gear1!AT14 | K16: =calc_gear1!AU14*100 -> 1400 | M16: =calc_gear1!$I614 -> 10 | N16: =IF($C$3=10,"",calc_gear1!$J614) -> 7.3 | O16: =IF($C$3=10,"",calc_gear1!AS614) -> 1 | P16: =calc_gear1!AT614 | Q16: =IF($C$3=10,"",calc_gear1!AU614*100) -> 1400 | S16: =calc_gear1!$I1214 -> 10 | T16: =IF(INT($C$3/10)<=2,"",calc_gear1!$J1214) -> 7.3 | U16: =IF(INT($C$3/10)<=2,"",calc_gear1!AS1214) -> 1 | V16: =calc_gear1!AT1214 | W16: =IF(INT($C$3/10)<=2,"",calc_gear1!AU1214*100) -> 1400
C17: 4th | D17: 1.333 | G17: =calc_gear1!$I15 -> 11 | H17: =calc_gear1!$J15 -> 0 | I17: =calc_gear1!AS15 -> 0 | J17: =calc_gear1!AT15 | K17: =calc_gear1!AU15*100 -> 1400 | M17: =calc_gear1!$I615 -> 11 | N17: =IF($C$3=10,"",calc_gear1!$J615) -> 15.2 | O17: =IF($C$3=10,"",calc_gear1!AS615) -> 1 | P17: =calc_gear1!AT615 | Q17: =IF($C$3=10,"",calc_gear1!AU615*100) -> 1400 | S17: =calc_gear1!$I1215 -> 11 | T17: =IF(INT($C$3/10)<=2,"",calc_gear1!$J1215) -> 12.4 | U17: =IF(INT($C$3/10)<=2,"",calc_gear1!AS1215) -> 1 | V17: =calc_gear1!AT1215 | W17: =IF(INT($C$3/10)<=2,"",calc_gear1!AU1215*100) -> 1400
C18: 5th | D18: 1.154 | G18: =calc_gear1!$I16 -> 12 | H18: =calc_gear1!$J16 -> 0 | I18: =calc_gear1!AS16 -> 0 | J18: =calc_gear1!AT16 | K18: =calc_gear1!AU16*100 -> 1400 | M18: =calc_gear1!$I616 -> 12 | N18: =IF($C$3=10,"",calc_gear1!$J616) -> 23.9 | O18: =IF($C$3=10,"",calc_gear1!AS616) -> 1 | P18: =calc_gear1!AT616 | Q18: =IF($C$3=10,"",calc_gear1!AU616*100) -> 1400 | S18: =calc_gear1!$I1216 -> 12 | T18: =IF(INT($C$3/10)<=2,"",calc_gear1!$J1216) -> 17.9 | U18: =IF(INT($C$3/10)<=2,"",calc_gear1!AS1216) -> 1 | V18: =calc_gear1!AT1216 | W18: =IF(INT($C$3/10)<=2,"",calc_gear1!AU1216*100) -> 1400
C19: 6th | D19: 1.037 | G19: =calc_gear1!$I17 -> 13 | H19: =calc_gear1!$J17 -> 0 | I19: =calc_gear1!AS17 -> 0 | J19: =calc_gear1!AT17 | K19: =calc_gear1!AU17*100 -> 1400 | M19: =calc_gear1!$I617 -> 13 | N19: =IF($C$3=10,"",calc_gear1!$J617) -> 32.5 | O19: =IF($C$3=10,"",calc_gear1!AS617) -> 1 | P19: =calc_gear1!AT617 | Q19: =IF($C$3=10,"",calc_gear1!AU617*100) -> 1400 | S19: =calc_gear1!$I1217 -> 13 | T19: =IF(INT($C$3/10)<=2,"",calc_gear1!$J1217) -> 23.5 | U19: =IF(INT($C$3/10)<=2,"",calc_gear1!AS1217) -> 1 | V19: =calc_gear1!AT1217 | W19: =IF(INT($C$3/10)<=2,"",calc_gear1!AU1217*100) -> 1400
A20: v.63 July2011 | G20: =calc_gear1!$I18 -> 14 | H20: =calc_gear1!$J18 -> 0 | I20: =calc_gear1!AS18 -> 0 | J20: =calc_gear1!AT18 | K20: =calc_gear1!AU18*100 -> 1400 | M20: =calc_gear1!$I618 -> 14 | N20: =IF($C$3=10,"",calc_gear1!$J618) -> 39.2 | O20: =IF($C$3=10,"",calc_gear1!AS618) -> 1 | P20: =calc_gear1!AT618 | Q20: =IF($C$3=10,"",calc_gear1!AU618*100) -> 1400 | S20: =calc_gear1!$I1218 -> 14 | T20: =IF(INT($C$3/10)<=2,"",calc_gear1!$J1218) -> 29.1 | U20: =IF(INT($C$3/10)<=2,"",calc_gear1!AS1218) -> 1 | V20: =calc_gear1!AT1218 | W20: =IF(INT($C$3/10)<=2,"",calc_gear1!AU1218*100) -> 1400
G21: =calc_gear1!$I19 -> 15 | H21: =calc_gear1!$J19 -> 0 | I21: =calc_gear1!AS19 -> 0 | J21: =calc_gear1!AT19 | K21: =calc_gear1!AU19*100 -> 1400 | M21: =calc_gear1!$I619 -> 15 | N21: =IF($C$3=10,"",calc_gear1!$J619) -> 44.1 | O21: =IF($C$3=10,"",calc_gear1!AS619) -> 1 | P21: =calc_gear1!AT619 | Q21: =IF($C$3=10,"",calc_gear1!AU619*100) -> 1400 | S21: =calc_gear1!$I1219 -> 15 | T21: =IF(INT($C$3/10)<=2,"",calc_gear1!$J1219) -> 34.3 | U21: =IF(INT($C$3/10)<=2,"",calc_gear1!AS1219) -> 1 | V21: =calc_gear1!AT1219 | W21: =IF(INT($C$3/10)<=2,"",calc_gear1!AU1219*100) -> 1400
G22: =calc_gear1!$I20 -> 16 | H22: =calc_gear1!$J20 -> 0 | I22: =calc_gear1!AS20 -> 0 | J22: =calc_gear1!AT20 | K22: =calc_gear1!AU20*100 -> 1400 | M22: =calc_gear1!$I620 -> 16 | N22: =IF($C$3=10,"",calc_gear1!$J620) -> 48.1 | O22: =IF($C$3=10,"",calc_gear1!AS620) -> 1 | P22: =calc_gear1!AT620 | Q22: =IF($C$3=10,"",calc_gear1!AU620*100) -> 1400 | S22: =calc_gear1!$I1220 -> 16 | T22: =IF(INT($C$3/10)<=2,"",calc_gear1!$J1220) -> 38.6 | U22: =IF(INT($C$3/10)<=2,"",calc_gear1!AS1220) -> 1 | V22: =calc_gear1!AT1220 | W22: =IF(INT($C$3/10)<=2,"",calc_gear1!AU1220*100) -> 1400
C23: v | D23: Ne | G23: =calc_gear1!$I21 -> 17 | H23: =calc_gear1!$J21 -> 0 | I23: =calc_gear1!AS21 -> 1 | J23: =calc_gear1!AT21 -> -1 | K23: =calc_gear1!AU21*100 -> 1400 | M23: =calc_gear1!$I621 -> 17 | N23: =IF($C$3=10,"",calc_gear1!$J621) -> 51.2 | O23: =IF($C$3=10,"",calc_gear1!AS621) -> 1 | P23: =calc_gear1!AT621 | Q23: =IF($C$3=10,"",calc_gear1!AU621*100) -> 1400 | S23: =calc_gear1!$I1221 -> 17 | T23: =IF(INT($C$3/10)<=2,"",calc_gear1!$J1221) -> 41.6 | U23: =IF(INT($C$3/10)<=2,"",calc_gear1!AS1221) -> 1 | V23: =calc_gear1!AT1221 | W23: =IF(INT($C$3/10)<=2,"",calc_gear1!AU1221*100) -> 1400
C24: =tbL!B39 -> in km/h | D24: =tbL!C39 -> in min-1 | G24: =calc_gear1!$I22 -> 18 | H24: =calc_gear1!$J22 -> 0 | I24: =calc_gear1!AS22 -> 1 | J24: =calc_gear1!AT22 -> -1 | K24: =calc_gear1!AU22*100 -> 1400 | M24: =calc_gear1!$I622 -> 18 | N24: =IF($C$3=10,"",calc_gear1!$J622) -> 53.3 | O24: =IF($C$3=10,"",calc_gear1!AS622) -> 1 | P24: =calc_gear1!AT622 | Q24: =IF($C$3=10,"",calc_gear1!AU622*100) -> 1400 | S24: =calc_gear1!$I1222 -> 18 | T24: =IF(INT($C$3/10)<=2,"",calc_gear1!$J1222) -> 43.9 | U24: =IF(INT($C$3/10)<=2,"",calc_gear1!AS1222) -> 1 | V24: =calc_gear1!AT1222 | W24: =IF(INT($C$3/10)<=2,"",calc_gear1!AU1222*100) -> 1400
A25: UPSHIFT Acc-phase | B25: =tbL!A40 -> 1st to 2nd | C25: =tbL!B40 -> 1485.3 | D25: =tbL!C40 -> 4350.4462 | G25: =calc_gear1!$I23 -> 19 | H25: =calc_gear1!$J23 -> 0 | I25: =calc_gear1!AS23 -> 1 | J25: =calc_gear1!AT23 -> -1 | K25: =calc_gear1!AU23*100 -> 1400 | M25: =calc_gear1!$I623 -> 19 | N25: =IF($C$3=10,"",calc_gear1!$J623) -> 54.5 | O25: =IF($C$3=10,"",calc_gear1!AS623) -> 1 | P25: =calc_gear1!AT623 | Q25: =IF($C$3=10,"",calc_gear1!AU623*100) -> 1400 | S25: =calc_gear1!$I1223 -> 19 | T25: =IF(INT($C$3/10)<=2,"",calc_gear1!$J1223) -> 45.9 | U25: =IF(INT($C$3/10)<=2,"",calc_gear1!AS1223) -> 1 | V25: =calc_gear1!AT1223 | W25: =IF(INT($C$3/10)<=2,"",calc_gear1!AU1223*100) -> 1400
B26: =tbL!A41 -> 2nd to 3rd | C26: =tbL!B41 -> 2534.3 | D26: =tbL!C41 -> 5210.4462 | G26: =calc_gear1!$I24 -> 20 | H26: =calc_gear1!$J24 -> 0 | I26: =calc_gear1!AS24 -> 1 | J26: =calc_gear1!AT24 -> -1 | K26: =calc_gear1!AU24*100 -> 1400 | M26: =calc_gear1!$I624 -> 20 | N26: =IF($C$3=10,"",calc_gear1!$J624) -> 55.7 | O26: =IF($C$3=10,"",calc_gear1!AS624) -> 1 | P26: =calc_gear1!AT624 | Q26: =IF($C$3=10,"",calc_gear1!AU624*100) -> 1400 | S26: =calc_gear1!$I1224 -> 20 | T26: =IF(INT($C$3/10)<=2,"",calc_gear1!$J1224) -> 48.1 | U26: =IF(INT($C$3/10)<=2,"",calc_gear1!AS1224) -> 1 | V26: =calc_gear1!AT1224 | W26: =IF(INT($C$3/10)<=2,"",calc_gear1!AU1224*100) -> 1400
B27: =tbL!A42 -> 3rd to 4th | C27: =tbL!B42 -> 3218.3 | D27: =tbL!C42 -> 5210.4462 | G27: =calc_gear1!$I25 -> 21 | H27: =calc_gear1!$J25 -> 0 | I27: =calc_gear1!AS25 -> 1 | J27: =calc_gear1!AT25 -> -1 | K27: =calc_gear1!AU25*100 -> 1400 | M27: =calc_gear1!$I625 -> 21 | N27: =IF($C$3=10,"",calc_gear1!$J625) -> 56.9 | O27: =IF($C$3=10,"",calc_gear1!AS625) -> 1 | P27: =calc_gear1!AT625 | Q27: =IF($C$3=10,"",calc_gear1!AU625*100) -> 1400 | S27: =calc_gear1!$I1225 -> 21 | T27: =IF(INT($C$3/10)<=2,"",calc_gear1!$J1225) -> 50.3 | U27: =IF(INT($C$3/10)<=2,"",calc_gear1!AS1225) -> 1 | V27: =calc_gear1!AT1225 | W27: =IF(INT($C$3/10)<=2,"",calc_gear1!AU1225*100) -> 1400
B28: =tbL!A43 -> 4th to 5th | C28: =tbL!B43 -> 3908.8 | D28: =tbL!C43 -> 5210.4462 | G28: =calc_gear1!$I26 -> 22 | H28: =calc_gear1!$J26 -> 1 | I28: =calc_gear1!AS26 -> 1 | J28: =calc_gear1!AT26 | K28: =calc_gear1!AU26*100 -> 1400 | M28: =calc_gear1!$I626 -> 22 | N28: =IF($C$3=10,"",calc_gear1!$J626) -> 57.5 | O28: =IF($C$3=10,"",calc_gear1!AS626) -> 1 | P28: =calc_gear1!AT626 | Q28: =IF($C$3=10,"",calc_gear1!AU626*100) -> 1400 | S28: =calc_gear1!$I1226 -> 22 | T28: =IF(INT($C$3/10)<=2,"",calc_gear1!$J1226) -> 52.6 | U28: =IF(INT($C$3/10)<=2,"",calc_gear1!AS1226) -> 1 | V28: =calc_gear1!AT1226 | W28: =IF(INT($C$3/10)<=2,"",calc_gear1!AU1226*100) -> 1400
B29: =tbL!A44 -> 5th to 6th | C29: =tbL!B44 -> 4515.1 | D29: =tbL!C44 -> 5210.4462 | G29: =calc_gear1!$I27 -> 23 | H29: =calc_gear1!$J27 -> 2.6 | I29: =calc_gear1!AS27 -> 1 | J29: =calc_gear1!AT27 | K29: =calc_gear1!AU27*100 -> 1400 | M29: =calc_gear1!$I627 -> 23 | N29: =IF($C$3=10,"",calc_gear1!$J627) -> 58 | O29: =IF($C$3=10,"",calc_gear1!AS627) -> 1 | P29: =calc_gear1!AT627 | Q29: =IF($C$3=10,"",calc_gear1!AU627*100) -> 1400 | S29: =calc_gear1!$I1227 -> 23 | T29: =IF(INT($C$3/10)<=2,"",calc_gear1!$J1227) -> 54.8 | U29: =IF(INT($C$3/10)<=2,"",calc_gear1!AS1227) -> 1 | V29: =calc_gear1!AT1227 | W29: =IF(INT($C$3/10)<=2,"",calc_gear1!AU1227*100) -> 1400
A30: Clutch disengaged | B30: =tbL!A45 -> 1st to clutch | C30: =tbL!B45 -> 566.1 | D30: =calc_gear1!G5 -> 1658 | G30: =calc_gear1!$I28 -> 24 | H30: =calc_gear1!$J28 -> 4.8 | I30: =calc_gear1!AS28 -> 1 | J30: =calc_gear1!AT28 | K30: =calc_gear1!AU28*100 -> 1400 | M30: =calc_gear1!$I628 -> 24 | N30: =IF($C$3=10,"",calc_gear1!$J628) -> 58.4 | O30: =IF($C$3=10,"",calc_gear1!AS628) -> 1 | P30: =calc_gear1!AT628 | Q30: =IF($C$3=10,"",calc_gear1!AU628*100) -> 1400 | S30: =calc_gear1!$I1228 -> 24 | T30: =IF(INT($C$3/10)<=2,"",calc_gear1!$J1228) -> 55.8 | U30: =IF(INT($C$3/10)<=2,"",calc_gear1!AS1228) -> 1 | V30: =calc_gear1!AT1228 | W30: =IF(INT($C$3/10)<=2,"",calc_gear1!AU1228*100) -> 1400
B31: =tbL!A46 -> 2nd to clutch | C31: =tbL!B46 -> 806.4 | D31: =calc_gear1!G5 -> 1658 | G31: =calc_gear1!$I29 -> 25 | H31: =calc_gear1!$J29 -> 7.2 | I31: =calc_gear1!AS29 -> 1 | J31: =calc_gear1!AT29 | K31: =calc_gear1!AU29*100 -> 1400 | M31: =calc_gear1!$I629 -> 25 | N31: =IF($C$3=10,"",calc_gear1!$J629) -> 58.5 | O31: =IF($C$3=10,"",calc_gear1!AS629) -> 1 | P31: =calc_gear1!AT629 | Q31: =IF($C$3=10,"",calc_gear1!AU629*100) -> 1400 | S31: =calc_gear1!$I1229 -> 25 | T31: =IF(INT($C$3/10)<=2,"",calc_gear1!$J1229) -> 55.2 | U31: =IF(INT($C$3/10)<=2,"",calc_gear1!AS1229) -> 1 | V31: =calc_gear1!AT1229 | W31: =IF(INT($C$3/10)<=2,"",calc_gear1!AU1229*100) -> 1400
B32: 3rd to clutch | C32: =calc_gear1!D18 -> 1024.1 | D32: =calc_gear1!G5 -> 1658 | G32: =calc_gear1!$I30 -> 26 | H32: =calc_gear1!$J30 -> 9.6 | I32: =calc_gear1!AS30 -> 1 | J32: =calc_gear1!AT30 | K32: =calc_gear1!AU30*100 -> 1400 | M32: =calc_gear1!$I630 -> 26 | N32: =IF($C$3=10,"",calc_gear1!$J630) -> 58.5 | O32: =IF($C$3=10,"",calc_gear1!AS630) -> 1 | P32: =calc_gear1!AT630 | Q32: =IF($C$3=10,"",calc_gear1!AU630*100) -> 1400 | S32: =calc_gear1!$I1230 -> 26 | T32: =IF(INT($C$3/10)<=2,"",calc_gear1!$J1230) -> 53.9 | U32: =IF(INT($C$3/10)<=2,"",calc_gear1!AS1230) -> 1 | V32: =calc_gear1!AT1230 | W32: =IF(INT($C$3/10)<=2,"",calc_gear1!AU1230*100) -> 1400
A33: DOWNSHIFT | B33: =tbL!A47 -> 2nd to 1st | C33: =tbL!B47 -> 806.4 | D33: =tbL!C47 -> 1658 | G33: =calc_gear1!$I31 -> 27 | H33: =calc_gear1!$J31 -> 12 | I33: =calc_gear1!AS31 -> 1 | J33: =calc_gear1!AT31 | K33: =calc_gear1!AU31*100 -> 1400 | M33: =calc_gear1!$I631 -> 27 | N33: =IF($C$3=10,"",calc_gear1!$J631) -> 58.6 | O33: =IF($C$3=10,"",calc_gear1!AS631) -> 1 | P33: =calc_gear1!AT631 | Q33: =IF($C$3=10,"",calc_gear1!AU631*100) -> 1400 | S33: =calc_gear1!$I1231 -> 27 | T33: =IF(INT($C$3/10)<=2,"",calc_gear1!$J1231) -> 52.7 | U33: =IF(INT($C$3/10)<=2,"",calc_gear1!AS1231) -> 1 | V33: =calc_gear1!AT1231 | W33: =IF(INT($C$3/10)<=2,"",calc_gear1!AU1231*100) -> 1400
B34: =tbL!A48 -> 3rd to 2nd | C34: =tbL!B48 -> 1485.3 | D34: =tbL!C48 -> 2404.7007 | G34: =calc_gear1!$I32 -> 28 | H34: =calc_gear1!$J32 -> 14.3 | I34: =calc_gear1!AS32 -> 1 | J34: =calc_gear1!AT32 | K34: =calc_gear1!AU32*100 -> 1400 | M34: =calc_gear1!$I632 -> 28 | N34: =IF($C$3=10,"",calc_gear1!$J632) -> 58.9 | O34: =IF($C$3=10,"",calc_gear1!AS632) -> 1 | P34: =calc_gear1!AT632 | Q34: =IF($C$3=10,"",calc_gear1!AU632*100) -> 1400 | S34: =calc_gear1!$I1232 -> 28 | T34: =IF(INT($C$3/10)<=2,"",calc_gear1!$J1232) -> 52.8 | U34: =IF(INT($C$3/10)<=2,"",calc_gear1!AS1232) -> 1 | V34: =calc_gear1!AT1232 | W34: =IF(INT($C$3/10)<=2,"",calc_gear1!AU1232*100) -> 1400
B35: =tbL!A49 -> 4th to 3rd | C35: =tbL!B49 -> 2534.3 | D35: =tbL!C49 -> 3378.2219 | G35: =calc_gear1!$I33 -> 29 | H35: =calc_gear1!$J33 -> 16.6 | I35: =calc_gear1!AS33 -> 1 | J35: =calc_gear1!AT33 | K35: =calc_gear1!AU33*100 -> 1400 | M35: =calc_gear1!$I633 -> 29 | N35: =IF($C$3=10,"",calc_gear1!$J633) -> 59.3 | O35: =IF($C$3=10,"",calc_gear1!AS633) -> 1 | P35: =calc_gear1!AT633 | Q35: =IF($C$3=10,"",calc_gear1!AU633*100) -> 1400 | S35: =calc_gear1!$I1233 -> 29 | T35: =IF(INT($C$3/10)<=2,"",calc_gear1!$J1233) -> 55 | U35: =IF(INT($C$3/10)<=2,"",calc_gear1!AS1233) -> 1 | V35: =calc_gear1!AT1233 | W35: =IF(INT($C$3/10)<=2,"",calc_gear1!AU1233*100) -> 1400
B36: =tbL!A50 -> 5th to 4th | C36: =tbL!B50 -> 3218.3 | D36: =tbL!C50 -> 3713.9182 | G36: =calc_gear1!$I34 -> 30 | H36: =calc_gear1!$J34 -> 18.9 | I36: =calc_gear1!AS34 -> 1 | J36: =calc_gear1!AT34 | K36: =calc_gear1!AU34*100 -> 1400 | M36: =calc_gear1!$I634 -> 30 | N36: =IF($C$3=10,"",calc_gear1!$J634) -> 59.8 | O36: =IF($C$3=10,"",calc_gear1!AS634) -> 1 | P36: =calc_gear1!AT634 | Q36: =IF($C$3=10,"",calc_gear1!AU634*100) -> 1400 | S36: =calc_gear1!$I1234 -> 30 | T36: =IF(INT($C$3/10)<=2,"",calc_gear1!$J1234) -> 58.5 | U36: =IF(INT($C$3/10)<=2,"",calc_gear1!AS1234) -> 1 | V36: =calc_gear1!AT1234 | W36: =IF(INT($C$3/10)<=2,"",calc_gear1!AU1234*100) -> 1400
B37: =tbL!A51 -> 6th to 5th | C37: =tbL!B51 -> 3908.8 | D37: =tbL!C51 -> 4053.4256 | G37: =calc_gear1!$I35 -> 31 | H37: =calc_gear1!$J35 -> 21.2 | I37: =calc_gear1!AS35 -> 1 | J37: =calc_gear1!AT35 | K37: =calc_gear1!AU35*100 -> 1400 | M37: =calc_gear1!$I635 -> 31 | N37: =IF($C$3=10,"",calc_gear1!$J635) -> 60.2 | O37: =IF($C$3=10,"",calc_gear1!AS635) -> 1 | P37: =calc_gear1!AT635 | Q37: =IF($C$3=10,"",calc_gear1!AU635*100) -> 1400 | S37: =calc_gear1!$I1235 -> 31 | T37: =IF(INT($C$3/10)<=2,"",calc_gear1!$J1235) -> 62.3 | U37: =IF(INT($C$3/10)<=2,"",calc_gear1!AS1235) -> 1 | V37: =calc_gear1!AT1235 | W37: =IF(INT($C$3/10)<=2,"",calc_gear1!AU1235*100) -> 1400
G38: =calc_gear1!$I36 -> 32 | H38: =calc_gear1!$J36 -> 23.5 | I38: =calc_gear1!AS36 -> 1 | J38: =calc_gear1!AT36 | K38: =calc_gear1!AU36*100 -> 1400 | M38: =calc_gear1!$I636 -> 32 | N38: =IF($C$3=10,"",calc_gear1!$J636) -> 60.5 | O38: =IF($C$3=10,"",calc_gear1!AS636) -> 1 | P38: =calc_gear1!AT636 | Q38: =IF($C$3=10,"",calc_gear1!AU636*100) -> 1400 | S38: =calc_gear1!$I1236 -> 32 | T38: =IF(INT($C$3/10)<=2,"",calc_gear1!$J1236) -> 65.7 | U38: =IF(INT($C$3/10)<=2,"",calc_gear1!AS1236) -> 1 | V38: =calc_gear1!AT1236 | W38: =IF(INT($C$3/10)<=2,"",calc_gear1!AU1236*100) -> 1400
G39: =calc_gear1!$I37 -> 33 | H39: =calc_gear1!$J37 -> 25.6 | I39: =calc_gear1!AS37 -> 1 | J39: =calc_gear1!AT37 | K39: =calc_gear1!AU37*100 -> 1400 | M39: =calc_gear1!$I637 -> 33 | N39: =IF($C$3=10,"",calc_gear1!$J637) -> 60.8 | O39: =IF($C$3=10,"",calc_gear1!AS637) -> 1 | P39: =calc_gear1!AT637 | Q39: =IF($C$3=10,"",calc_gear1!AU637*100) -> 1400 | S39: =calc_gear1!$I1237 -> 33 | T39: =IF(INT($C$3/10)<=2,"",calc_gear1!$J1237) -> 68.1 | U39: =IF(INT($C$3/10)<=2,"",calc_gear1!AS1237) -> 1 | V39: =calc_gear1!AT1237 | W39: =IF(INT($C$3/10)<=2,"",calc_gear1!AU1237*100) -> 1400
G40: =calc_gear1!$I38 -> 34 | H40: =calc_gear1!$J38 -> 27.1 | I40: =calc_gear1!AS38 -> 1 | J40: =calc_gear1!AT38 | K40: =calc_gear1!AU38*100 -> 1400 | M40: =calc_gear1!$I638 -> 34 | N40: =IF($C$3=10,"",calc_gear1!$J638) -> 61.1 | O40: =IF($C$3=10,"",calc_gear1!AS638) -> 1 | P40: =calc_gear1!AT638 | Q40: =IF($C$3=10,"",calc_gear1!AU638*100) -> 1400 | S40: =calc_gear1!$I1238 -> 34 | T40: =IF(INT($C$3/10)<=2,"",calc_gear1!$J1238) -> 69.1 | U40: =IF(INT($C$3/10)<=2,"",calc_gear1!AS1238) -> 1 | V40: =calc_gear1!AT1238 | W40: =IF(INT($C$3/10)<=2,"",calc_gear1!AU1238*100) -> 1400
...

Sheet phase_chart
A1: time(0-1800) | B1: time | C1: acc_class1 | D1: cru_class1 | E1: dec_class1 | G1: acc_class21 | H1: cru_class21 | I1: dec_class21 | K1: acc_class22 | L1: cru_class22 | M1: dec_class22 | O1: acc_class31 | P1: cru_class31 | Q1: dec_class31 | S1: acc_class32 | T1: cru_class32 | U1: dec_class32
A2: 1 | B2: 1 | C2: FALSE | D2: FALSE | E2: FALSE | G2: =C2 -> FALSE | H2: =D2 -> FALSE | I2: =E2 -> FALSE | K2: FALSE | L2: FALSE | M2: FALSE | N2: 1 | O2: =K2 -> FALSE | P2: =L2 -> FALSE | Q2: =M2 -> FALSE | S2: =K2 -> FALSE | T2: =L2 -> FALSE | U2: =M2 -> FALSE | W2: =A2 -> 1 | X2: ='v-t_chart'!C2 -> 0 | Y2: =IF(S2=TRUE,105,100) -> 100 | Z2: =IF(T2=TRUE,115,110) -> 110 | AA2: =IF(U2=TRUE,95,90) -> 90 | AB2: =calc_gear1!AS5*5+50 -> 50 | AC2: =IF(AND(calc_gear1!AT5=-1,calc_gear1!Z5=1),calc_gear1!AS5*5+50.5,IF(AND(calc_gear1!Y5=0,AB1-AC1=-0.5),calc_gear1!AS5*5+50.5,calc_gear1!O5*5+50.5)) -> 50.5
A3: 2 | B3: 2 | C3: FALSE | D3: FALSE | E3: FALSE | G3: =C3 -> FALSE | H3: =D3 -> FALSE | I3: =E3 -> FALSE | K3: FALSE | L3: FALSE | M3: FALSE | N3: 2 | O3: =K3 -> FALSE | P3: =L3 -> FALSE | Q3: =M3 -> FALSE | S3: =K3 -> FALSE | T3: =L3 -> FALSE | U3: =M3 -> FALSE | W3: =A3 -> 2 | X3: ='v-t_chart'!C3 -> 0 | Y3: =IF(S3=TRUE,105,100) -> 100 | Z3: =IF(T3=TRUE,115,110) -> 110 | AA3: =IF(U3=TRUE,95,90) -> 90 | AB3: =calc_gear1!AS6*5+50 -> 50 | AC3: =IF(AND(calc_gear1!AT6=-1,calc_gear1!Z6=1),calc_gear1!AS6*5+50.5,IF(AND(calc_gear1!Y6=0,AB2-AC2=-0.5),calc_gear1!AS6*5+50.5,calc_gear1!O6*5+50.5)) -> 50.5
A4: 3 | B4: 3 | C4: FALSE | D4: FALSE | E4: FALSE | G4: =C4 -> FALSE | H4: =D4 -> FALSE | I4: =E4 -> FALSE | K4: FALSE | L4: FALSE | M4: FALSE | N4: 3 | O4: =K4 -> FALSE | P4: =L4 -> FALSE | Q4: =M4 -> FALSE | S4: =K4 -> FALSE | T4: =L4 -> FALSE | U4: =M4 -> FALSE | W4: =A4 -> 3 | X4: ='v-t_chart'!C4 -> 0 | Y4: =IF(S4=TRUE,105,100) -> 100 | Z4: =IF(T4=TRUE,115,110) -> 110 | AA4: =IF(U4=TRUE,95,90) -> 90 | AB4: =calc_gear1!AS7*5+50 -> 50 | AC4: =IF(AND(calc_gear1!AT7=-1,calc_gear1!Z7=1),calc_gear1!AS7*5+50.5,IF(AND(calc_gear1!Y7=0,AB3-AC3=-0.5),calc_gear1!AS7*5+50.5,calc_gear1!O7*5+50.5)) -> 50.5
A5: 4 | B5: 4 | C5: FALSE | D5: FALSE | E5: FALSE | G5: =C5 -> FALSE | H5: =D5 -> FALSE | I5: =E5 -> FALSE | K5: FALSE | L5: FALSE | M5: FALSE | N5: 4 | O5: =K5 -> FALSE | P5: =L5 -> FALSE | Q5: =M5 -> FALSE | S5: =K5 -> FALSE | T5: =L5 -> FALSE | U5: =M5 -> FALSE | W5: =A5 -> 4 | X5: ='v-t_chart'!C5 -> 0 | Y5: =IF(S5=TRUE,105,100) -> 100 | Z5: =IF(T5=TRUE,115,110) -> 110 | AA5: =IF(U5=TRUE,95,90) -> 90 | AB5: =calc_gear1!AS8*5+50 -> 50 | AC5: =IF(AND(calc_gear1!AT8=-1,calc_gear1!Z8=1),calc_gear1!AS8*5+50.5,IF(AND(calc_gear1!Y8=0,AB4-AC4=-0.5),calc_gear1!AS8*5+50.5,calc_gear1!O8*5+50.5)) -> 50.5
A6: 5 | B6: 5 | C6: FALSE | D6: FALSE | E6: FALSE | G6: =C6 -> FALSE | H6: =D6 -> FALSE | I6: =E6 -> FALSE | K6: FALSE | L6: FALSE | M6: FALSE | N6: 5 | O6: =K6 -> FALSE | P6: =L6 -> FALSE | Q6: =M6 -> FALSE | S6: =K6 -> FALSE | T6: =L6 -> FALSE | U6: =M6 -> FALSE | W6: =A6 -> 5 | X6: ='v-t_chart'!C6 -> 0 | Y6: =IF(S6=TRUE,105,100) -> 100 | Z6: =IF(T6=TRUE,115,110) -> 110 | AA6: =IF(U6=TRUE,95,90) -> 90 | AB6: =calc_gear1!AS9*5+50 -> 50 | AC6: =IF(AND(calc_gear1!AT9=-1,calc_gear1!Z9=1),calc_gear1!AS9*5+50.5,IF(AND(calc_gear1!Y9=0,AB5-AC5=-0.5),calc_gear1!AS9*5+50.5,calc_gear1!O9*5+50.5)) -> 50.5
A7: 6 | B7: 6 | C7: FALSE | D7: FALSE | E7: FALSE | G7: =C7 -> FALSE | H7: =D7 -> FALSE | I7: =E7 -> FALSE | K7: FALSE | L7: FALSE | M7: FALSE | N7: 6 | O7: =K7 -> FALSE | P7: =L7 -> FALSE | Q7: =M7 -> FALSE | S7: =K7 -> FALSE | T7: =L7 -> FALSE | U7: =M7 -> FALSE | W7: =A7 -> 6 | X7: ='v-t_chart'!C7 -> 0 | Y7: =IF(S7=TRUE,105,100) -> 100 | Z7: =IF(T7=TRUE,115,110) -> 110 | AA7: =IF(U7=TRUE,95,90) -> 90 | AB7: =calc_gear1!AS10*5+50 -> 50 | AC7: =IF(AND(calc_gear1!AT10=-1,calc_gear1!Z10=1),calc_gear1!AS10*5+50.5,IF(AND(calc_gear1!Y10=0,AB6-AC6=-0.5),calc_gear1!AS10*5+50.5,calc_gear1!O10*5+50.5)) -> 50.5
A8: 7 | B8: 7 | C8: FALSE | D8: FALSE | E8: FALSE | G8: =C8 -> FALSE | H8: =D8 -> FALSE | I8: =E8 -> FALSE | K8: FALSE | L8: FALSE | M8: FALSE | N8: 7 | O8: =K8 -> FALSE | P8: =L8 -> FALSE | Q8: =M8 -> FALSE | S8: =K8 -> FALSE | T8: =L8 -> FALSE | U8: =M8 -> FALSE | W8: =A8 -> 7 | X8: ='v-t_chart'!C8 -> 0 | Y8: =IF(S8=TRUE,105,100) -> 100 | Z8: =IF(T8=TRUE,115,110) -> 110 | AA8: =IF(U8=TRUE,95,90) -> 90 | AB8: =calc_gear1!AS11*5+50 -> 50 | AC8: =IF(AND(calc_gear1!AT11=-1,calc_gear1!Z11=1),calc_gear1!AS11*5+50.5,IF(AND(calc_gear1!Y11=0,AB7-AC7=-0.5),calc_gear1!AS11*5+50.5,calc_gear1!O11*5+50.5)) -> 50.5
A9: 8 | B9: 8 | C9: FALSE | D9: FALSE | E9: FALSE | G9: =C9 -> FALSE | H9: =D9 -> FALSE | I9: =E9 -> FALSE | K9: FALSE | L9: FALSE | M9: FALSE | N9: 8 | O9: =K9 -> FALSE | P9: =L9 -> FALSE | Q9: =M9 -> FALSE | S9: =K9 -> FALSE | T9: =L9 -> FALSE | U9: =M9 -> FALSE | W9: =A9 -> 8 | X9: ='v-t_chart'!C9 -> 0 | Y9: =IF(S9=TRUE,105,100) -> 100 | Z9: =IF(T9=TRUE,115,110) -> 110 | AA9: =IF(U9=TRUE,95,90) -> 90 | AB9: =calc_gear1!AS12*5+50 -> 50 | AC9: =IF(AND(calc_gear1!AT12=-1,calc_gear1!Z12=1),calc_gear1!AS12*5+50.5,IF(AND(calc_gear1!Y12=0,AB8-AC8=-0.5),calc_gear1!AS12*5+50.5,calc_gear1!O12*5+50.5)) -> 50.5
A10: 9 | B10: 9 | C10: FALSE | D10: FALSE | E10: FALSE | G10: =C10 -> FALSE | H10: =D10 -> FALSE | I10: =E10 -> FALSE | K10: FALSE | L10: FALSE | M10: FALSE | N10: 9 | O10: =K10 -> FALSE | P10: =L10 -> FALSE | Q10: =M10 -> FALSE | S10: =K10 -> FALSE | T10: =L10 -> FALSE | U10: =M10 -> FALSE | W10: =A10 -> 9 | X10: ='v-t_chart'!C10 -> 0 | Y10: =IF(S10=TRUE,105,100) -> 100 | Z10: =IF(T10=TRUE,115,110) -> 110 | AA10: =IF(U10=TRUE,95,90) -> 90 | AB10: =calc_gear1!AS13*5+50 -> 50 | AC10: =IF(AND(calc_gear1!AT13=-1,calc_gear1!Z13=1),calc_gear1!AS13*5+50.5,IF(AND(calc_gear1!Y13=0,AB9-AC9=-0.5),calc_gear1!AS13*5+50.5,calc_gear1!O13*5+50.5)) -> 50.5
A11: 10 | B11: 10 | C11: FALSE | D11: FALSE | E11: FALSE | G11: =C11 -> FALSE | H11: =D11 -> FALSE | I11: =E11 -> FALSE | K11: FALSE | L11: FALSE | M11: FALSE | N11: 10 | O11: =K11 -> FALSE | P11: =L11 -> FALSE | Q11: =M11 -> FALSE | S11: =K11 -> FALSE | T11: =L11 -> FALSE | U11: =M11 -> FALSE | W11: =A11 -> 10 | X11: ='v-t_chart'!C11 -> 0 | Y11: =IF(S11=TRUE,105,100) -> 100 | Z11: =IF(T11=TRUE,115,110) -> 110 | AA11: =IF(U11=TRUE,95,90) -> 90 | AB11: =calc_gear1!AS14*5+50 -> 50 | AC11: =IF(AND(calc_gear1!AT14=-1,calc_gear1!Z14=1),calc_gear1!AS14*5+50.5,IF(AND(calc_gear1!Y14=0,AB10-AC10=-0.5),calc_gear1!AS14*5+50.5,calc_gear1!O14*5+50.5)) -> 50.5
A12: 11 | B12: 11 | C12: FALSE | D12: FALSE | E12: FALSE | G12: =C12 -> FALSE | H12: =D12 -> FALSE | I12: =E12 -> FALSE | K12: FALSE | L12: FALSE | M12: FALSE | N12: 11 | O12: =K12 -> FALSE | P12: =L12 -> FALSE | Q12: =M12 -> FALSE | S12: =K12 -> FALSE | T12: =L12 -> FALSE | U12: =M12 -> FALSE | W12: =A12 -> 11 | X12: ='v-t_chart'!C12 -> 0 | Y12: =IF(S12=TRUE,105,100) -> 100 | Z12: =IF(T12=TRUE,115,110) -> 110 | AA12: =IF(U12=TRUE,95,90) -> 90 | AB12: =calc_gear1!AS15*5+50 -> 50 | AC12: =IF(AND(calc_gear1!AT15=-1,calc_gear1!Z15=1),calc_gear1!AS15*5+50.5,IF(AND(calc_gear1!Y15=0,AB11-AC11=-0.5),calc_gear1!AS15*5+50.5,calc_gear1!O15*5+50.5)) -> 50.5
A13: 12 | B13: 12 | C13: FALSE | D13: FALSE | E13: FALSE | G13: =C13 -> FALSE | H13: =D13 -> FALSE | I13: =E13 -> FALSE | K13: FALSE | L13: FALSE | M13: FALSE | N13: 12 | O13: =K13 -> FALSE | P13: =L13 -> FALSE | Q13: =M13 -> FALSE | S13: =K13 -> FALSE | T13: =L13 -> FALSE | U13: =M13 -> FALSE | W13: =A13 -> 12 | X13: ='v-t_chart'!C13 -> 0 | Y13: =IF(S13=TRUE,105,100) -> 100 | Z13: =IF(T13=TRUE,115,110) -> 110 | AA13: =IF(U13=TRUE,95,90) -> 90 | AB13: =calc_gear1!AS16*5+50 -> 50 | AC13: =IF(AND(calc_gear1!AT16=-1,calc_gear1!Z16=1),calc_gear1!AS16*5+50.5,IF(AND(calc_gear1!Y16=0,AB12-AC12=-0.5),calc_gear1!AS16*5+50.5,calc_gear1!O16*5+50.5)) -> 50.5
... A601: 600 | B601: 600 | C601: FALSE | D601: FALSE | E601: FALSE | G601: =C601 -> FALSE | H601: =D601 -> FALSE | I601: =E601 -> FALSE | K601: FALSE | L601: FALSE | M601: FALSE | N601: 600 | O601: =K601 -> FALSE | P601: =L601 -> FALSE | Q601: =M601 -> FALSE | S601: =K601 -> FALSE | T601: =L601 -> FALSE | U601: =M601 -> FALSE | W601: =A601 -> 600 | X601: ='v-t_chart'!C601 -> 0 | Y601: =IF(S601=TRUE,105,100) -> 100 | Z601: =IF(T601=TRUE,115,110) -> 110 | AA601: =IF(U601=TRUE,95,90) -> 90 | AB601: =calc_gear1!AS604*5+50 -> 50 | AC601: =IF(AND(calc_gear1!AT604=-1,calc_gear1!Z604=1),calc_gear1!AS604*5+50.5,IF(AND(calc_gear1!Y604=0,AB600-AC600=-0.5),calc_gear1!AS604*5+50.5,calc_gear1!O604*5+50.5)) -> 50.5
A602: 601 | B602: 1 | F602: 1 | G602: FALSE | H602: FALSE | I602: FALSE | K602: FALSE | L602: FALSE | M602: FALSE | N602: 1 | O602: =K602 -> FALSE | P602: =L602 -> FALSE | Q602: =M602 -> FALSE | S602: =K602 -> FALSE | T602: =L602 -> FALSE | U602: =M602 -> FALSE | W602: =A602 -> 601 | X602: ='v-t_chart'!C602 -> 0 | Y602: =IF(S602=TRUE,105,100) -> 100 | Z602: =IF(T602=TRUE,115,110) -> 110 | AA602: =IF(U602=TRUE,95,90) -> 90 | AB602: =calc_gear1!AS605*5+50 -> 50 | AC602: =IF(AND(calc_gear1!AT605=-1,calc_gear1!Z605=1),calc_gear1!AS605*5+50.5,IF(AND(calc_gear1!Y605=0,AB601-AC601=-0.5),calc_gear1!AS605*5+50.5,calc_gear1!O605*5+50.5)) -> 50.5
A603: 602 | B603: 2 | F603: 2 | G603: FALSE | H603: FALSE | I603: FALSE | K603: FALSE | L603: FALSE | M603: FALSE | N603: 2 | O603: =K603 -> FALSE | P603: =L603 -> FALSE | Q603: =M603 -> FALSE | S603: =K603 -> FALSE | T603: =L603 -> FALSE | U603: =M603 -> FALSE | W603: =A603 -> 602 | X603: ='v-t_chart'!C603 -> 0 | Y603: =IF(S603=TRUE,105,100) -> 100 | Z603: =IF(T603=TRUE,115,110) -> 110 | AA603: =IF(U603=TRUE,95,90) -> 90 | AB603: =calc_gear1!AS606*5+50 -> 50 | AC603: =IF(AND(calc_gear1!AT606=-1,calc_gear1!Z606=1),calc_gear1!AS606*5+50.5,IF(AND(calc_gear1!Y606=0,AB602-AC602=-0.5),calc_gear1!AS606*5+50.5,calc_gear1!O606*5+50.5)) -> 50.5
A604: 603 | B604: 3 | F604: 3 | G604: FALSE | H604: FALSE | I604: FALSE | K604: FALSE | L604: FALSE | M604: FALSE | N604: 3 | O604: =K604 -> FALSE | P604: =L604 -> FALSE | Q604: =M604 -> FALSE | S604: =K604 -> FALSE | T604: =L604 -> FALSE | U604: =M604 -> FALSE | W604: =A604 -> 603 | X604: ='v-t_chart'!C604 -> 0 | Y604: =IF(S604=TRUE,105,100) -> 100 | Z604: =IF(T604=TRUE,115,110) -> 110 | AA604: =IF(U604=TRUE,95,90) -> 90 | AB604: =calc_gear1!AS607*5+50 -> 50 | AC604: =IF(AND(calc_gear1!AT607=-1,calc_gear1!Z607=1),calc_gear1!AS607*5+50.5,IF(AND(calc_gear1!Y607=0,AB603-AC603=-0.5),calc_gear1!AS607*5+50.5,calc_gear1!O607*5+50.5)) -> 50.5
A605: 604 | B605: 4 | F605: 4 | G605: FALSE | H605: FALSE | I605: FALSE | K605: FALSE | L605: FALSE | M605: FALSE | N605: 4 | O605: =K605 -> FALSE | P605: =L605 -> FALSE | Q605: =M605 -> FALSE | S605: =K605 -> FALSE | T605: =L605 -> FALSE | U605: =M605 -> FALSE | W605: =A605 -> 604 | X605: ='v-t_chart'!C605 -> 0 | Y605: =IF(S605=TRUE,105,100) -> 100 | Z605: =IF(T605=TRUE,115,110) -> 110 | AA605: =IF(U605=TRUE,95,90) -> 90 | AB605: =calc_gear1!AS608*5+50 -> 55 | AC605: =IF(AND(calc_gear1!AT608=-1,calc_gear1!Z608=1),calc_gear1!AS608*5+50.5,IF(AND(calc_gear1!Y608=0,AB604-AC604=-0.5),calc_gear1!AS608*5+50.5,calc_gear1!O608*5+50.5)) -> 55.5
A606: 605 | B606: 5 | F606: 5 | G606: FALSE | H606: FALSE | I606: FALSE | K606: FALSE | L606: FALSE | M606: FALSE | N606: 5 | O606: =K606 -> FALSE | P606: =L606 -> FALSE | Q606: =M606 -> FALSE | S606: =K606 -> FALSE | T606: =L606 -> FALSE | U606: =M606 -> FALSE | W606: =A606 -> 605 | X606: ='v-t_chart'!C606 -> 0 | Y606: =IF(S606=TRUE,105,100) -> 100 | Z606: =IF(T606=TRUE,115,110) -> 110 | AA606: =IF(U606=TRUE,95,90) -> 90 | AB606: =calc_gear1!AS609*5+50 -> 55 | AC606: =IF(AND(calc_gear1!AT609=-1,calc_gear1!Z609=1),calc_gear1!AS609*5+50.5,IF(AND(calc_gear1!Y609=0,AB605-AC605=-0.5),calc_gear1!AS609*5+50.5,calc_gear1!O609*5+50.5)) -> 55.5
A607: 606 | B607: 6 | F607: 6 | G607: FALSE | H607: FALSE | I607: FALSE | K607: FALSE | L607: FALSE | M607: FALSE | N607: 6 | O607: =K607 -> FALSE | P607: =L607 -> FALSE | Q607: =M607 -> FALSE | S607: =K607 -> FALSE | T607: =L607 -> FALSE | U607: =M607 -> FALSE | W607: =A607 -> 606 | X607: ='v-t_chart'!C607 -> 0 | Y607: =IF(S607=TRUE,105,100) -> 100 | Z607: =IF(T607=TRUE,115,110) -> 110 | AA607: =IF(U607=TRUE,95,90) -> 90 | AB607: =calc_gear1!AS610*5+50 -> 55 | AC607: =IF(AND(calc_gear1!AT610=-1,calc_gear1!Z610=1),calc_gear1!AS610*5+50.5,IF(AND(calc_gear1!Y610=0,AB606-AC606=-0.5),calc_gear1!AS610*5+50.5,calc_gear1!O610*5+50.5)) -> 55.5
A608: 607 | B608: 7 | F608: 7 | G608: FALSE | H608: FALSE | I608: FALSE | K608: FALSE | L608: FALSE | M608: FALSE | N608: 7 | O608: =K608 -> FALSE | P608: =L608 -> FALSE | Q608: =M608 -> FALSE | S608: =K608 -> FALSE | T608: =L608 -> FALSE | U608: =M608 -> FALSE | W608: =A608 -> 607 | X608: ='v-t_chart'!C608 -> 0 | Y608: =IF(S608=TRUE,105,100) -> 100 | Z608: =IF(T608=TRUE,115,110) -> 110 | AA608: =IF(U608=TRUE,95,90) -> 90 | AB608: =calc_gear1!AS611*5+50 -> 55 | AC608: =IF(AND(calc_gear1!AT611=-1,calc_gear1!Z611=1),calc_gear1!AS611*5+50.5,IF(AND(calc_gear1!Y611=0,AB607-AC607=-0.5),calc_gear1!AS611*5+50.5,calc_gear1!O611*5+50.5)) -> 55.5
A609: 608 | B609: 8 | F609: 8 | G609: FALSE | H609: FALSE | I609: FALSE | K609: FALSE | L609: FALSE | M609: FALSE | N609: 8 | O609: =K609 -> FALSE | P609: =L609 -> FALSE | Q609: =M609 -> FALSE | S609: =K609 -> FALSE | T609: =L609 -> FALSE | U609: =M609 -> FALSE | W609: =A609 -> 608 | X609: ='v-t_chart'!C609 -> 0 | Y609: =IF(S609=TRUE,105,100) -> 100 | Z609: =IF(T609=TRUE,115,110) -> 110 | AA609: =IF(U609=TRUE,95,90) -> 90 | AB609: =calc_gear1!AS612*5+50 -> 55 | AC609: =IF(AND(calc_gear1!AT612=-1,calc_gear1!Z612=1),calc_gear1!AS612*5+50.5,IF(AND(calc_gear1!Y612=0,AB608-AC608=-0.5),calc_gear1!AS612*5+50.5,calc_gear1!O612*5+50.5)) -> 55.5
A610: 609 | B610: 9 | F610: 9 | G610: TRUE | H610: FALSE | I610: FALSE | K610: TRUE | L610: FALSE | M610: FALSE | N610: 9 | O610: =K610 -> TRUE | P610: =L610 -> FALSE | Q610: =M610 -> FALSE | S610: =K610 -> TRUE | T610: =L610 -> FALSE | U610: =M610 -> FALSE | W610: =A610 -> 609 | X610: ='v-t_chart'!C610 -> 2.3 | Y610: =IF(S610=TRUE,105,100) -> 105 | Z610: =IF(T610=TRUE,115,110) -> 110 | AA610: =IF(U610=TRUE,95,90) -> 90 | AB610: =calc_gear1!AS613*5+50 -> 55 | AC610: =IF(AND(calc_gear1!AT613=-1,calc_gear1!Z613=1),calc_gear1!AS613*5+50.5,IF(AND(calc_gear1!Y613=0,AB609-AC609=-0.5),calc_gear1!AS613*5+50.5,calc_gear1!O613*5+50.5)) -> 50.5
A611: 610 | B611: 10 | F611: 10 | G611: TRUE | H611: FALSE | I611: FALSE | K611: TRUE | L611: FALSE | M611: FALSE | N611: 10 | O611: =K611 -> TRUE | P611: =L611 -> FALSE | Q611: =M611 -> FALSE | S611: =K611 -> TRUE | T611: =L611 -> FALSE | U611: =M611 -> FALSE | W611: =A611 -> 610 | X611: ='v-t_chart'!C611 -> 7.3 | Y611: =IF(S611=TRUE,105,100) -> 105 | Z611: =IF(T611=TRUE,115,110) -> 110 | AA611: =IF(U611=TRUE,95,90) -> 90 | AB611: =calc_gear1!AS614*5+50 -> 55 | AC611: =IF(AND(calc_gear1!AT614=-1,calc_gear1!Z614=1),calc_gear1!AS614*5+50.5,IF(AND(calc_gear1!Y614=0,AB610-AC610=-0.5),calc_gear1!AS614*5+50.5,calc_gear1!O614*5+50.5)) -> 50.5
A612: 611 | B612: 11 | F612: 11 | G612: TRUE | H612: FALSE | I612: FALSE | K612: TRUE | L612: FALSE | M612: FALSE | N612: 11 | O612: =K612 -> TRUE | P612: =L612 -> FALSE | Q612: =M612 -> FALSE | S612: =K612 -> TRUE | T612: =L612 -> FALSE | U612: =M612 -> FALSE | W612: =A612 -> 611 | X612: ='v-t_chart'!C612 -> 15.2 | Y612: =IF(S612=TRUE,105,100) -> 105 | Z612: =IF(T612=TRUE,115,110) -> 110 | AA612: =IF(U612=TRUE,95,90) -> 90 | AB612: =calc_gear1!AS615*5+50 -> 55 | AC612: =IF(AND(calc_gear1!AT615=-1,calc_gear1!Z615=1),calc_gear1!AS615*5+50.5,IF(AND(calc_gear1!Y615=0,AB611-AC611=-0.5),calc_gear1!AS615*5+50.5,calc_gear1!O615*5+50.5)) -> 50.5
A613: 612 | B613: 12 | F613: 12 | G613: TRUE | H613: FALSE | I613: FALSE | K613: TRUE | L613: FALSE | M613: FALSE | N613: 12 | O613: =K613 -> TRUE | P613: =L613 -> FALSE | Q613: =M613 -> FALSE | S613: =K613 -> TRUE | T613: =L613 -> FALSE | U613: =M613 -> FALSE | W613: =A613 -> 612 | X613: ='v-t_chart'!C613 -> 23.9 | Y613: =IF(S613=TRUE,105,100) -> 105 | Z613: =IF(T613=TRUE,115,110) -> 110 | AA613: =IF(U613=TRUE,95,90) -> 90 | AB613: =calc_gear1!AS616*5+50 -> 55 | AC613: =IF(AND(calc_gear1!AT616=-1,calc_gear1!Z616=1),calc_gear1!AS616*5+50.5,IF(AND(calc_gear1!Y616=0,AB612-AC612=-0.5),calc_gear1!AS616*5+50.5,calc_gear1!O616*5+50.5)) -> 50.5
... A1201: 1200 | B1201: 600 | F1201: 600 | G1201: FALSE | H1201: FALSE | I1201: FALSE | K1201: FALSE | L1201: FALSE | M1201: FALSE | N1201: 600 | O1201: =K1201 -> FALSE | P1201: =L1201 -> FALSE | Q1201: =M1201 -> FALSE | S1201: =K1201 -> FALSE | T1201: =L1201 -> FALSE | U1201: =M1201 -> FALSE | W1201: =A1201 -> 1200 | X1201: ='v-t_chart'!C1201 -> 0 | Y1201: =IF(S1201=TRUE,105,100) -> 100 | Z1201: =IF(T1201=TRUE,115,110) -> 110 | AA1201: =IF(U1201=TRUE,95,90) -> 90 | AB1201: =calc_gear1!AS1204*5+50 -> 50 | AC1201: =IF(AND(calc_gear1!AT1204=-1,calc_gear1!Z1204=1),calc_gear1!AS1204*5+50.5,IF(AND(calc_gear1!Y1204=0,AB1200-AC1200=-0.5),calc_gear1!AS1204*5+50.5,calc_gear1!O1204*5+50.5)) -> 50.5
A1202: 1201 | B1202: 1 | N1202: 1 | O1202: FALSE | P1202: FALSE | Q1202: FALSE | S1202: FALSE | T1202: FALSE | U1202: FALSE | W1202: =A1202 -> 1201 | X1202: ='v-t_chart'!C1202 -> 0 | Y1202: =IF(S1202=TRUE,105,100) -> 100 | Z1202: =IF(T1202=TRUE,115,110) -> 110 | AA1202: =IF(U1202=TRUE,95,90) -> 90 | AB1202: =calc_gear1!AS1205*5+50 -> 50 | AC1202: =IF(AND(calc_gear1!AT1205=-1,calc_gear1!Z1205=1),calc_gear1!AS1205*5+50.5,IF(AND(calc_gear1!Y1205=0,AB1201-AC1201=-0.5),calc_gear1!AS1205*5+50.5,calc_gear1!O1205*5+50.5)) -> 50.5
A1203: 1202 | B1203: 2 | N1203: 2 | O1203: FALSE | P1203: FALSE | Q1203: FALSE | S1203: FALSE | T1203: FALSE | U1203: FALSE | W1203: =A1203 -> 1202 | X1203: ='v-t_chart'!C1203 -> 0 | Y1203: =IF(S1203=TRUE,105,100) -> 100 | Z1203: =IF(T1203=TRUE,115,110) -> 110 | AA1203: =IF(U1203=TRUE,95,90) -> 90 | AB1203: =calc_gear1!AS1206*5+50 -> 50 | AC1203: =IF(AND(calc_gear1!AT1206=-1,calc_gear1!Z1206=1),calc_gear1!AS1206*5+50.5,IF(AND(calc_gear1!Y1206=0,AB1202-AC1202=-0.5),calc_gear1!AS1206*5+50.5,calc_gear1!O1206*5+50.5)) -> 50.5
