Workbook
Name Left_front__corner_sprung_mass__kg: #REF!
Name Left_front__corner_sprung_mass__kg: #REF!
Name Left_front__corner_sprung_mass__kg: #REF!
Name Left_front__corner_sprung_mass__kg: #REF!
Name Left_front__corner_sprung_mass__kg: #REF!
Name Left_front__corner_sprung_mass__kg: #REF!
Name Left_front__corner_sprung_mass__kg: #REF!

Sheet Q1
C1: Lateral Acceleration | D1: 7
B3: Measured Suspension Data | E3: Calculated Suspension Data | H3: Results
B4: MR fl | C4: Motion Ratio front left | D4: 1 | E4: Ms fl | F4: Front Left corner sprung mass [kg] | G4: =SUM(D8-D12) -> 225 | H4: Kϕf | I4: Front Roll Stiffness [Nm/rad] | J4: =((D20^2*G21)/2) -> 49246.875
B5: MR fr | C5: Motion Ratio front right | D5: 1 | E5: Ms fr | F5: Front Right corner sprung mass [kg] | G5: =SUM(D9-D13) -> 225 | H5: Kϕr | I5: Rear Roll Stiffness [Nm/rad] | J5: =((D21^2*G22)/2) -> 49246.875
B6: MR rl | C6: Motion Ratio rear left | D6: 1 | E6: Ms rl | F6: Rear Left corner sprung mass [kg] | G6: =SUM(D10-D14) -> 225 | H6: Kϕt | I6: Total Roll Stiffness [Nm/rad] | J6: =J4+J5 -> 98493.75
B7: MR rr | C7: Motion Ratio rear right | D7: 1 | E7: Ms rr | F7: Rear Right corner sprung mass [kg] | G7: =SUM(D11-D15) -> 225 | H7: Mot | I7: Overturning moment [Nm] | J7: =(G10*G27*5) -> -675
B8: M fl | C8: Front Left total measured static corner mass [kg] | D8: 250 | E8: Ms f | F8: Total front sprung mass [kg] | G8: =SUM(G4+G5) -> 450 | H8: ϕ | I8: Roll angle (Radians) | J8: =(J7/J6) -> -0.0068532267
B9: M fr | C9: Front Right measured static corner mass [kg] | D9: 250 | E9: Ms r | F9: Total rear sprung mass [kg] | G9: =SUM(G6+G7) -> 450 | H9: WTsf | I9: Front weight transfer due to spung mass [N] | J9: =(J8*G21*D20)/2 -> -225
B10: M rl | C10: Rear Left total measured static corner mass [kg] | D10: 250 | E10: Mstot | F10: Total sprung mass | G10: =SUM(G8+G9) -> 900 | H10: WTsr | I10: Rear weight transfer due to spung mass [N] | J10: =(J8*G22*D21)/2 -> -225
B11: M rr | C11: Rear Right total measured static corner mass [kg] | D11: 250 | E11: M tot | F11: Total Mass | G11: =SUM(G10+D12+D13+D14+D15) -> 1000
B12: Mus fl | C12: Front Left unsprung mass [kg] | D12: 25 | E12: Mus tot | F12: Total unsprung mass | G12: =SUM(D12+D13+D14+D15) -> 100 | H12: WTsrcf | I12: Front WT due to sprung mass at RC Height | J12: =(G8*'Q1'!D1*'Q1'!D27)/'Q1'!D20 -> 210
B13: Mus fr | C13: Front Right total unsprung mass [kg] | D13: 25 | E13: Ks fl | F13: Front Left Spring rate [N/mm] | G13: =SUM(D16*0.1751) -> 43.775 | H13: WTsrcr | I13: Rear WT due to sprung mass at RC Height | J13: =(G9*D1*D28)/D21 -> 420
B14: Mus rl | C14: Rear Left unsprung mass [kg] | D14: 25 | E14: Ks fr | F14: Front Right rspring rate [N/mm] | G14: =SUM(D17*0.1751) -> 43.775 | H14: Wtusf | I14: Front WT due to Unsprung mass at wheel centre height | J14: =((D12+D13)*D1*D23)/D20 -> 64.166667
B15: Mus rr | C15: Rear Right unsprung mass [kg] | D15: 25 | E15: Ks rl | F15: Rear Left Spring rate [N/mm] | G15: =SUM(D18*0.1751) -> 43.775 | H15: Wtusr | I15: Rear WT due to Unsprung mass at wheel centre height | J15: =((D14+D15)*D1*D24)/D21 -> 64.166667
B16: Ks fl | C16: Front Left Spring rate [lb/in] | D16: 250 | E16: Ks rr | F16: Rear Right Spring Rate [N/mm] | G16: =SUM(D19*0.1751) -> 43.775 | I16: Total front WT | J16: =J9+J12+J14 -> 49.166667
B17: Ks fr | C17: Front Right Spring rate [lb/in] | D17: 250 | E17: Kw fl | F17: Front Left wheel rate [N/mm] | G17: =D4^2*G13 -> 43.775 | I17: Total Rear WT | J17: =J10+J13+J15 -> 259.16667
B18: Ks rl | C18: Rear Left Spring rate [lb/in] | D18: 250 | E18: Kw fr | F18: Front Right wheel rate [N/mm] | G18: =D5^2*G14 -> 43.775 | I18: Total WT calculated by adding all Weight Transfers | J18: =J16+J17 -> 308.33333
B19: Ks rr | C19: Rear Right Spring rate [lb/in] | D19: 250 | E19: Kw rl | F19: Rear Left Wheel Rate [N/mm] | G19: =D6^2*G15 -> 43.775 | H19: Fz fl | I19: Left front vertical force [N] | J19: =D8*9.81+J16 -> 2501.6667
B20: Tf | C20: Front Track | D20: 1.5 | E20: Kw rr | F20: Rear Right wheel rate [N/mm] | G20: =D7^2*G16 -> 43.775 | H20: Fz fr | I20: Front Right vertical force [N] | J20: =D9*9.81-J16 -> 2403.3333
B21: Tr | C21: Rear track | D21: 1.5 | E21: Kwf | F21: Average Front wheel rate [N/m] | G21: =(G17+G18)*1000/2 -> 43775 | H21: Fz rl | I21: Rear Left vertical force [N] | J21: =D10*9.81+J17 -> 2711.6667
B22: L | C22: Wheel base | D22: 2.5 | E22: Kwr | F22: Average Rear wheel rate [N/m] | G22: =(G19+G20)*1000/2 -> 43775 | H22: Fz rr | I22: Rear Right vertical force [N] | J22: =D11*9.81-J17 -> 2193.3333
B23: Rrf | C23: Rolling Radius front | D23: 0.275 | E23: b | F23: distance of cg of sprung mass from front axle [m] | G23: =(G9*D22)/G10 -> 1.25 | I23: Total wheel loads by individual wheel load check | J23: =J19+J20+J21+J22 -> 9810
B24: Rrr | C24: Rolling Radius rear | D24: 0.275 | E24: hr -hf | F24: Rear -Front RC Height [m] | G24: =D28-D27 -> 0.1 | I24: Total wheel load by static corner weight check | J24: =G11*9.81 -> 9810
B25: Htot | C25: Height of CG of total mass above ground | D25: 0.4 | E25: z | F25: Depth of triangle at CG [m] | G25: =(D28-D27)/D22*G23 -> 0.05
B26: Hs | C26: Height of CG of sprung mass above ground | E26: z+hf | F26: Height of roll axis at CG [m] | G26: =G25+D27 -> 0.15
B27: hf | C27: Height of Front roll centre above ground | D27: 0.1 | E27: Hsra | F27: Height of CG above roll axis [m] | G27: =D26-G25-D27 -> -0.15 | H27: WT | I27: Total WT calculated for 'solid' car | J27: =(G11*D1*D25)/((D20+D21)/2) -> 1866.6667
B28: hr | C28: Height of Rear roll centre above ground | D28: 0.2
I30: Front Split | J30: =J19-J20 -> 98.333333
I31: Rear Split | J31: =J21-J22 -> 518.33333
I32: FRLSD | J32: =J30-J31 -> -420
I33: Rear WT Percentage % | J33: =J31/(J30+J31)*100 -> 84.054054

Sheet Q2
C1: Lateral Acceleration | D1: 8.1
B3: Measured Suspension Data | E3: Calculated Suspension Data | H3: Results
B4: MR fl | C4: Motion Ratio front left | D4: 0.87 | E4: Ms fl | F4: Front Left corner sprung mass [kg] | G4: =SUM(D8-D12) -> 156.8 | H4: Kϕf | I4: Front Roll Stiffness [Nm/rad] | J4: =((D20^2*G21)/2) -> 28877.69
B5: MR fr | C5: Motion Ratio front right | D5: 0.82 | E5: Ms fr | F5: Front Right corner sprung mass [kg] | G5: =SUM(D9-D13) -> 177.2 | H5: Kϕr | I5: Rear Roll Stiffness [Nm/rad] | J5: =((D21^2*G22)/2) -> 70815.567
B6: MR rl | C6: Motion Ratio rear left | D6: 1.02 | E6: Ms rl | F6: Rear Left corner sprung mass [kg] | G6: =SUM(D10-D14) -> 163.8 | H6: Kϕt | I6: Total Roll Stiffness [Nm/rad] | J6: =J4+J5 -> 99693.257
B7: MR rr | C7: Motion Ratio rear right | D7: 1.02 | E7: Ms rr | F7: Rear Right corner sprung mass [kg] | G7: =SUM(D11-D15) -> 184.2 | H7: Mot | I7: Overturning moment [Nm] | J7: =(G10*G27*5) -> -396
B8: M fl | C8: Front Left total measured static corner mass [kg] | D8: 185.8 | E8: Ms f | F8: Total front sprung mass [kg] | G8: =SUM(G4+G5) -> 334 | H8: ϕ | I8: Roll angle (Radians) | J8: =(J7/J6) -> -0.0039721844
B9: M fr | C9: Front Right measured static corner mass [kg] | D9: 206.2 | E9: Ms r | F9: Total rear sprung mass [kg] | G9: =SUM(G6+G7) -> 348 | H9: WTsf | I9: Front weight transfer due to spung mass [N] | J9: =(J8*G21*D20)/2 -> -78.032319
B10: M rl | C10: Rear Left total measured static corner mass [kg] | D10: 198.8 | E10: Mstot | F10: Total sprung mass | G10: =SUM(G8+G9) -> 682 | H10: WTsr | I10: Rear weight transfer due to spung mass [N] | J10: =(J8*G22*D21)/2 -> -185.06085
B11: M rr | C11: Rear Right total measured static corner mass [kg] | D11: 219.2 | E11: M tot | F11: Total Mass | G11: =SUM(G10+D12+D13+D14+D15) -> 810
B12: Mus fl | C12: Front Left unsprung mass [kg] | D12: 29 | E12: Mus tot | F12: Total unsprung mass | G12: =SUM(D12+D13+D14+D15) -> 128 | H12: WTsrcf | I12: Front WT due to sprung mass at RC Height | J12: =(G8*'Q2'!D1*'Q2'!D27)/'Q2'!D20 -> 110.42449
B13: Mus fr | C13: Front Right total unsprung mass [kg] | D13: 29 | E13: Ks fl | F13: Front Left Spring rate [N/mm] | G13: =SUM(D16*0.1751) -> 37.6465 | H13: WTsrcr | I13: Rear WT due to sprung mass at RC Height | J13: =(G9*D1*D28)/D21 -> 315.26053
B14: Mus rl | C14: Rear Left unsprung mass [kg] | D14: 35 | E14: Ks fr | F14: Front Right rspring rate [N/mm] | G14: =SUM(D17*0.1751) -> 37.1212 | H14: Wtusf | I14: Front WT due to Unsprung mass at wheel centre height | J14: =((D12+D13)*D1*D23)/D20 -> 89.485714
B15: Mus rr | C15: Rear Right unsprung mass [kg] | D15: 35 | E15: Ks rl | F15: Rear Left Spring rate [N/mm] | G15: =SUM(D18*0.1751) -> 58.8336 | H15: Wtusr | I15: Rear WT due to Unsprung mass at wheel centre height | J15: =((D14+D15)*D1*D24)/D21 -> 104.44737
B16: Ks fl | C16: Front Left Spring rate [lb/in] | D16: 215 | E16: Ks rr | F16: Rear Right Spring Rate [N/mm] | G16: =SUM(D19*0.1751) -> 59.0087 | I16: Total front WT | J16: =J9+J12+J14 -> 121.87788
B17: Ks fr | C17: Front Right Spring rate [lb/in] | D17: 212 | E17: Kw fl | F17: Front Left wheel rate [N/mm] | G17: =D4^2*G13 -> 28.494636 | I17: Total Rear WT | J17: =J10+J13+J15 -> 234.64705
B18: Ks rl | C18: Rear Left Spring rate [lb/in] | D18: 336 | E18: Kw fr | F18: Front Right wheel rate [N/mm] | G18: =D5^2*G14 -> 24.960295 | I18: Total WT calculated by adding all Weight Transfers | J18: =J16+J17 -> 356.52493
B19: Ks rr | C19: Rear Right Spring rate [lb/in] | D19: 337 | E19: Kw rl | F19: Rear Left Wheel Rate [N/mm] | G19: =D6^2*G15 -> 61.210477 | H19: Fz fl | I19: Left front vertical force [N] | J19: =D8*9.81+J16 -> 1944.5759
B20: Tf | C20: Front Track | D20: 1.47 | E20: Kw rr | F20: Rear Right wheel rate [N/mm] | G20: =D7^2*G16 -> 61.392651 | H20: Fz fr | I20: Front Right vertical force [N] | J20: =D9*9.81-J16 -> 1900.9441
B21: Tr | C21: Rear track | D21: 1.52 | E21: Kwf | F21: Average Front wheel rate [N/m] | G21: =(G17+G18)*1000/2 -> 26727.465 | H21: Fz rl | I21: Rear Left vertical force [N] | J21: =D10*9.81+J17 -> 2184.875
B22: L | C22: Wheel base | D22: 2.55 | E22: Kwr | F22: Average Rear wheel rate [N/m] | G22: =(G19+G20)*1000/2 -> 61301.564 | H22: Fz rr | I22: Rear Right vertical force [N] | J22: =D11*9.81-J17 -> 1915.705
B23: Rrf | C23: Rolling Radius front | D23: 0.28 | E23: b | F23: distance of cg of sprung mass from front axle [m] | G23: =(G9*D22)/G10 -> 1.301173 | I23: Total wheel loads by individual wheel load check | J23: =J19+J20+J21+J22 -> 7946.1
B24: Rrr | C24: Rolling Radius rear | D24: 0.28 | E24: hr -hf | F24: Rear -Front RC Height [m] | G24: =D28-D27 -> 0.11 | I24: Total wheel load by static corner weight check | J24: =G11*9.81 -> 7946.1
B25: Htot | C25: Height of CG of total mass above ground | D25: 0.45 | E25: z | F25: Depth of triangle at CG [m] | G25: =(D28-D27)/D22*G23 -> 0.056129032
B26: Hs | C26: Height of CG of sprung mass above ground | E26: z+hf | F26: Height of roll axis at CG [m] | G26: =G25+D27 -> 0.11612903
B27: hf | C27: Height of Front roll centre above ground | D27: 0.06 | E27: Hsra | F27: Height of CG above roll axis [m] | G27: =D26-G25-D27 -> -0.11612903 | H27: WT | I27: Total WT calculated for 'solid' car | J27: =(G11*D1*D25)/((D20+D21)/2) -> 1974.8829
B28: hr | C28: Height of Rear roll centre above ground | D28: 0.17
I30: Front Split | J30: =J19-J20 -> 43.63177
I31: Rear Split | J31: =J21-J22 -> 269.17009
I32: FRLSD | J32: =J30-J31 -> -225.53832
I33: Rear WT Percentage % | J33: =J31/(J30+J31)*100 -> 86.051307

Sheet Q3
C1: Lateral Acceleration | D1: 8.1
B3: Measured Suspension Data | E3: Calculated Suspension Data | H3: Results
B4: MR fl | C4: Motion Ratio front left | D4: 0.87 | E4: Ms fl | F4: Front Left corner sprung mass [kg] | G4: =SUM(D8-D12) -> 156.8 | H4: Kϕf | I4: Front Roll Stiffness [Nm/rad] | J4: =((D20^2*G21)/2) -> 31772.551
B5: MR fr | C5: Motion Ratio front right | D5: 0.82 | E5: Ms fr | F5: Front Right corner sprung mass [kg] | G5: =SUM(D9-D13) -> 177.2 | H5: Kϕr | I5: Rear Roll Stiffness [Nm/rad] | J5: =((D21^2*G22)/2) -> 70815.567
B6: MR rl | C6: Motion Ratio rear left | D6: 1.02 | E6: Ms rl | F6: Rear Left corner sprung mass [kg] | G6: =SUM(D10-D14) -> 163.8 | H6: Kϕt | I6: Total Roll Stiffness [Nm/rad] | J6: =J4+J5 -> 102588.12
B7: MR rr | C7: Motion Ratio rear right | D7: 1.02 | E7: Ms rr | F7: Rear Right corner sprung mass [kg] | G7: =SUM(D11-D15) -> 184.2 | H7: Mot | I7: Overturning moment [Nm] | J7: =(G10*G27*5) -> -396
B8: M fl | C8: Front Left total measured static corner mass [kg] | D8: 185.8 | E8: Ms f | F8: Total front sprung mass [kg] | G8: =SUM(G4+G5) -> 334 | H8: ϕ | I8: Roll angle (Radians) | J8: =(J7/J6) -> -0.0038600962
B9: M fr | C9: Front Right measured static corner mass [kg] | D9: 206.2 | E9: Ms r | F9: Total rear sprung mass [kg] | G9: =SUM(G6+G7) -> 348 | H9: WTsf | I9: Front weight transfer due to spung mass [N] | J9: =(J8*G21*D20)/2 -> -83.432041
B10: M rl | C10: Rear Left total measured static corner mass [kg] | D10: 198.8 | E10: Mstot | F10: Total sprung mass | G10: =SUM(G8+G9) -> 682 | H10: WTsr | I10: Rear weight transfer due to spung mass [N] | J10: =(J8*G22*D21)/2 -> -179.83875
B11: M rr | C11: Rear Right total measured static corner mass [kg] | D11: 219.2 | E11: M tot | F11: Total Mass | G11: =SUM(G10+D12+D13+D14+D15) -> 810
B12: Mus fl | C12: Front Left unsprung mass [kg] | D12: 29 | E12: Mus tot | F12: Total unsprung mass | G12: =SUM(D12+D13+D14+D15) -> 128 | H12: WTsrcf | I12: Front WT due to sprung mass at RC Height | J12: =(G8*'Q3'!D1*'Q3'!D27)/'Q3'!D20 -> 110.42449
B13: Mus fr | C13: Front Right total unsprung mass [kg] | D13: 29 | E13: Ks fl | F13: Front Left Spring rate [N/mm] | G13: =SUM(D16*0.1751) -> 41.1485 | H13: WTsrcr | I13: Rear WT due to sprung mass at RC Height | J13: =(G9*D1*D28)/D21 -> 315.26053
B14: Mus rl | C14: Rear Left unsprung mass [kg] | D14: 35 | E14: Ks fr | F14: Front Right rspring rate [N/mm] | G14: =SUM(D17*0.1751) -> 41.1485 | H14: Wtusf | I14: Front WT due to Unsprung mass at wheel centre height | J14: =((D12+D13)*D1*D23)/D20 -> 89.485714
B15: Mus rr | C15: Rear Right unsprung mass [kg] | D15: 35 | E15: Ks rl | F15: Rear Left Spring rate [N/mm] | G15: =SUM(D18*0.1751) -> 58.8336 | H15: Wtusr | I15: Rear WT due to Unsprung mass at wheel centre height | J15: =((D14+D15)*D1*D24)/D21 -> 104.44737
B16: Ks fl | C16: Front Left Spring rate [lb/in] | D16: 235 | E16: Ks rr | F16: Rear Right Spring Rate [N/mm] | G16: =SUM(D19*0.1751) -> 59.0087 | I16: Total front WT | J16: =J9+J12+J14 -> 116.47816
B17: Ks fr | C17: Front Right Spring rate [lb/in] | D17: 235 | E17: Kw fl | F17: Front Left wheel rate [N/mm] | G17: =D4^2*G13 -> 31.1453 | I17: Total Rear WT | J17: =J10+J13+J15 -> 239.86915
B18: Ks rl | C18: Rear Left Spring rate [lb/in] | D18: 336 | E18: Kw fr | F18: Front Right wheel rate [N/mm] | G18: =D5^2*G14 -> 27.668251 | I18: Total WT calculated by adding all Weight Transfers | J18: =J16+J17 -> 356.34731
B19: Ks rr | C19: Rear Right Spring rate [lb/in] | D19: 337 | E19: Kw rl | F19: Rear Left Wheel Rate [N/mm] | G19: =D6^2*G15 -> 61.210477 | H19: Fz fl | I19: Left front vertical force [N] | J19: =D8*9.81+J16 -> 1939.1762
B20: Tf | C20: Front Track | D20: 1.47 | E20: Kw rr | F20: Rear Right wheel rate [N/mm] | G20: =D7^2*G16 -> 61.392651 | H20: Fz fr | I20: Front Right vertical force [N] | J20: =D9*9.81-J16 -> 1906.3438
B21: Tr | C21: Rear track | D21: 1.52 | E21: Kwf | F21: Average Front wheel rate [N/m] | G21: =(G17+G18)*1000/2 -> 29406.776 | H21: Fz rl | I21: Rear Left vertical force [N] | J21: =D10*9.81+J17 -> 2190.0971
B22: L | C22: Wheel base | D22: 2.55 | E22: Kwr | F22: Average Rear wheel rate [N/m] | G22: =(G19+G20)*1000/2 -> 61301.564 | H22: Fz rr | I22: Rear Right vertical force [N] | J22: =D11*9.81-J17 -> 1910.4829
B23: Rrf | C23: Rolling Radius front | D23: 0.28 | E23: b | F23: distance of cg of sprung mass from front axle [m] | G23: =(G9*D22)/G10 -> 1.301173 | I23: Total wheel loads by individual wheel load check | J23: =J19+J20+J21+J22 -> 7946.1
B24: Rrr | C24: Rolling Radius rear | D24: 0.28 | E24: hr -hf | F24: Rear -Front RC Height [m] | G24: =D28-D27 -> 0.11 | I24: Total wheel load by static corner weight check | J24: =G11*9.81 -> 7946.1
B25: Htot | C25: Height of CG of total mass above ground | D25: 0.45 | E25: z | F25: Depth of triangle at CG [m] | G25: =(D28-D27)/D22*G23 -> 0.056129032
B26: Hs | C26: Height of CG of sprung mass above ground | E26: z+hf | F26: Height of roll axis at CG [m] | G26: =G25+D27 -> 0.11612903
B27: hf | C27: Height of Front roll centre above ground | D27: 0.06 | E27: Hsra | F27: Height of CG above roll axis [m] | G27: =D26-G25-D27 -> -0.11612903 | H27: WT | I27: Total WT calculated for 'solid' car | J27: =(G11*D1*D25)/((D20+D21)/2) -> 1974.8829
B28: hr | C28: Height of Rear roll centre above ground | D28: 0.17
I30: Front Split | J30: =J19-J20 -> 32.832326
I31: Rear Split | J31: =J21-J22 -> 279.61429
I32: FRLSD | J32: =J30-J31 -> -246.78196
A33: Q3 | I33: Rear WT Percentage % | J33: =J31/(J30+J31)*100 -> 89.491861
A34: (i) | B34: This car would be expected to understeer less with this current setup.
A35: (ii) | B35: This is primarily due to the slight increase in the total load split difference between the front and rear axles, as a greater rear load split will always produce a car with handling balance biased towards Oversteer.
A36: (iii) | B36: Changing this value would affect the diagonal wheel load distribution or 'wedge.' This would result in a handling balance that is far more direction dependent. This will create a car that will differing levels of total grip in different directions, therefore far more suited to oval racing, where only one cornering direction used.

Sheet Q4
C1: Lateral Acceleration | D1: 8.1
B3: Measured Suspension Data | E3: Calculated Suspension Data | H3: Results
B4: MR fl | C4: Motion Ratio front left | D4: 0.87 | E4: Ms fl | F4: Front Left corner sprung mass [kg] | G4: =SUM(D8-D12) -> 156.8 | H4: Kϕf | I4: Front Roll Stiffness [Nm/rad] | J4: =((D20^2*G21)/2) -> 31772.551
B5: MR fr | C5: Motion Ratio front right | D5: 0.82 | E5: Ms fr | F5: Front Right corner sprung mass [kg] | G5: =SUM(D9-D13) -> 177.2 | H5: Kϕr | I5: Rear Roll Stiffness [Nm/rad] | J5: =((D21^2*G22)/2) -> 33352.199
B6: MR rl | C6: Motion Ratio rear left | D6: 0.7 | E6: Ms rl | F6: Rear Left corner sprung mass [kg] | G6: =SUM(D10-D14) -> 163.8 | H6: Kϕt | I6: Total Roll Stiffness [Nm/rad] | J6: =J4+J5 -> 65124.75
B7: MR rr | C7: Motion Ratio rear right | D7: 0.7 | E7: Ms rr | F7: Rear Right corner sprung mass [kg] | G7: =SUM(D11-D15) -> 184.2 | H7: Mot | I7: Overturning moment [Nm] | J7: =(G10*G27*5) -> -396
B8: M fl | C8: Front Left total measured static corner mass [kg] | D8: 185.8 | E8: Ms f | F8: Total front sprung mass [kg] | G8: =SUM(G4+G5) -> 334 | H8: ϕ | I8: Roll angle (Radians) | J8: =(J7/J6) -> -0.0060806376
B9: M fr | C9: Front Right measured static corner mass [kg] | D9: 206.2 | E9: Ms r | F9: Total rear sprung mass [kg] | G9: =SUM(G6+G7) -> 348 | H9: WTsf | I9: Front weight transfer due to spung mass [N] | J9: =(J8*G21*D20)/2 -> -131.42678
B10: M rl | C10: Rear Left total measured static corner mass [kg] | D10: 198.8 | E10: Mstot | F10: Total sprung mass | G10: =SUM(G8+G9) -> 682 | H10: WTsr | I10: Rear weight transfer due to spung mass [N] | J10: =(J8*G22*D21)/2 -> -133.42279
B11: M rr | C11: Rear Right total measured static corner mass [kg] | D11: 219.2 | E11: M tot | F11: Total Mass | G11: =SUM(G10+D12+D13+D14+D15) -> 810
B12: Mus fl | C12: Front Left unsprung mass [kg] | D12: 29 | E12: Mus tot | F12: Total unsprung mass | G12: =SUM(D12+D13+D14+D15) -> 128 | H12: WTsrcf | I12: Front WT due to sprung mass at RC Height | J12: =(G8*'Q4'!D1*'Q4'!D27)/'Q4'!D20 -> 110.42449
B13: Mus fr | C13: Front Right total unsprung mass [kg] | D13: 29 | E13: Ks fl | F13: Front Left Spring rate [N/mm] | G13: =SUM(D16*0.1751) -> 41.1485 | H13: WTsrcr | I13: Rear WT due to sprung mass at RC Height | J13: =(G9*D1*D28)/D21 -> 315.26053
B14: Mus rl | C14: Rear Left unsprung mass [kg] | D14: 35 | E14: Ks fr | F14: Front Right rspring rate [N/mm] | G14: =SUM(D17*0.1751) -> 41.1485 | H14: Wtusf | I14: Front WT due to Unsprung mass at wheel centre height | J14: =((D12+D13)*D1*D23)/D20 -> 89.485714
B15: Mus rr | C15: Rear Right unsprung mass [kg] | D15: 35 | E15: Ks rl | F15: Rear Left Spring rate [N/mm] | G15: =SUM(D18*0.1751) -> 58.8336 | H15: Wtusr | I15: Rear WT due to Unsprung mass at wheel centre height | J15: =((D14+D15)*D1*D24)/D21 -> 104.44737
B16: Ks fl | C16: Front Left Spring rate [lb/in] | D16: 235 | E16: Ks rr | F16: Rear Right Spring Rate [N/mm] | G16: =SUM(D19*0.1751) -> 59.0087 | I16: Total front WT | J16: =J9+J12+J14 -> 68.483425
B17: Ks fr | C17: Front Right Spring rate [lb/in] | D17: 235 | E17: Kw fl | F17: Front Left wheel rate [N/mm] | G17: =D4^2*G13 -> 31.1453 | I17: Total Rear WT | J17: =J10+J13+J15 -> 286.28511
B18: Ks rl | C18: Rear Left Spring rate [lb/in] | D18: 336 | E18: Kw fr | F18: Front Right wheel rate [N/mm] | G18: =D5^2*G14 -> 27.668251 | I18: Total WT calculated by adding all Weight Transfers | J18: =J16+J17 -> 354.76853
B19: Ks rr | C19: Rear Right Spring rate [lb/in] | D19: 337 | E19: Kw rl | F19: Rear Left Wheel Rate [N/mm] | G19: =D6^2*G15 -> 28.828464 | H19: Fz fl | I19: Left front vertical force [N] | J19: =D8*9.81+J16 -> 1891.1814
B20: Tf | C20: Front Track | D20: 1.47 | E20: Kw rr | F20: Rear Right wheel rate [N/mm] | G20: =D7^2*G16 -> 28.914263 | H20: Fz fr | I20: Front Right vertical force [N] | J20: =D9*9.81-J16 -> 1954.3386
B21: Tr | C21: Rear track | D21: 1.52 | E21: Kwf | F21: Average Front wheel rate [N/m] | G21: =(G17+G18)*1000/2 -> 29406.776 | H21: Fz rl | I21: Rear Left vertical force [N] | J21: =D10*9.81+J17 -> 2236.5131
B22: L | C22: Wheel base | D22: 2.55 | E22: Kwr | F22: Average Rear wheel rate [N/m] | G22: =(G19+G20)*1000/2 -> 28871.363 | H22: Fz rr | I22: Rear Right vertical force [N] | J22: =D11*9.81-J17 -> 1864.0669
B23: Rrf | C23: Rolling Radius front | D23: 0.28 | E23: b | F23: distance of cg of sprung mass from front axle [m] | G23: =(G9*D22)/G10 -> 1.301173 | I23: Total wheel loads by individual wheel load check | J23: =J19+J20+J21+J22 -> 7946.1
B24: Rrr | C24: Rolling Radius rear | D24: 0.28 | E24: hr -hf | F24: Rear -Front RC Height [m] | G24: =D28-D27 -> 0.11 | I24: Total wheel load by static corner weight check | J24: =G11*9.81 -> 7946.1
B25: Htot | C25: Height of CG of total mass above ground | D25: 0.45 | E25: z | F25: Depth of triangle at CG [m] | G25: =(D28-D27)/D22*G23 -> 0.056129032
B26: Hs | C26: Height of CG of sprung mass above ground | E26: z+hf | F26: Height of roll axis at CG [m] | G26: =G25+D27 -> 0.11612903
B27: hf | C27: Height of Front roll centre above ground | D27: 0.06 | E27: Hsra | F27: Height of CG above roll axis [m] | G27: =D26-G25-D27 -> -0.11612903 | H27: WT | I27: Total WT calculated for 'solid' car | J27: =(G11*D1*D25)/((D20+D21)/2) -> 1974.8829
B28: hr | C28: Height of Rear roll centre above ground | D28: 0.17
I30: Front Split | J30: =J19-J20 -> -63.15715
I31: Rear Split | J31: =J21-J22 -> 372.44622
I32: FRLSD | J32: =J30-J31 -> -435.60337
I33: Rear WT Percentage % | J33: =J31/(J30+J31)*100 -> 120.4201
C34: (double click the cells below to see full answers)
B35: Q4
B36: (i) | C36: All areas shaded in this colour are directly affected by the Rear Motion Ratio values, howver the only 2 values that feature these values in the eqaution are Kw rl and Kw rr.
B37: (ii) | C37: By reducing the Rear Motion Ratio values, the weight transfer at the rear has increased, whereas on the front axle, it has had the opposite effect . Total roll stifness has also significantly decreased. This also has an effect on the load splits, which consequently increased even further. This would create a vehcile with heavy oversteer characteristics, and therefore ideally would not be suited for competition use.
B38: (iii)
B39: (iv)

Sheet Q5
C1: Lateral Acceleration | D1: 8.1
B3: Measured Suspension Data | E3: Calculated Suspension Data | H3: Results
B4: MR fl | C4: Motion Ratio front left | D4: 0.87 | E4: Ms fl | F4: Front Left corner sprung mass [kg] | G4: =SUM(D8-D12) -> 156.8 | H4: Kϕf | I4: Front Roll Stiffness [Nm/rad] | J4: =((D20^2*G21)/2) -> 31772.551
B5: MR fr | C5: Motion Ratio front right | D5: 0.82 | E5: Ms fr | F5: Front Right corner sprung mass [kg] | G5: =SUM(D9-D13) -> 177.2 | H5: Kϕr | I5: Rear Roll Stiffness [Nm/rad] | J5: =((D21^2*G22)/2) -> 33352.199
B6: MR rl | C6: Motion Ratio rear left | D6: 0.7 | E6: Ms rl | F6: Rear Left corner sprung mass [kg] | G6: =SUM(D10-D14) -> 163.8 | H6: Kϕt | I6: Total Roll Stiffness [Nm/rad] | J6: =J4+J5 -> 65124.75
B7: MR rr | C7: Motion Ratio rear right | D7: 0.7 | E7: Ms rr | F7: Rear Right corner sprung mass [kg] | G7: =SUM(D11-D15) -> 184.2 | H7: Mot | I7: Overturning moment [Nm] | J7: =(G10*G27*5) -> -396
B8: M fl | C8: Front Left total measured static corner mass [kg] | D8: 185.8 | E8: Ms f | F8: Total front sprung mass [kg] | G8: =SUM(G4+G5) -> 334 | H8: ϕ | I8: Roll angle (Radians) | J8: =(J7/J6) -> -0.0060806376
B9: M fr | C9: Front Right measured static corner mass [kg] | D9: 206.2 | E9: Ms r | F9: Total rear sprung mass [kg] | G9: =SUM(G6+G7) -> 348 | H9: WTsf | I9: Front weight transfer due to spung mass [N] | J9: =(J8*G21*D20)/2 -> -131.42678
B10: M rl | C10: Rear Left total measured static corner mass [kg] | D10: 198.8 | E10: Mstot | F10: Total sprung mass | G10: =SUM(G8+G9) -> 682 | H10: WTsr | I10: Rear weight transfer due to spung mass [N] | J10: =(J8*G22*D21)/2 -> -133.42279
B11: M rr | C11: Rear Right total measured static corner mass [kg] | D11: 219.2 | E11: M tot | F11: Total Mass | G11: =SUM(G10+D12+D13+D14+D15) -> 810
B12: Mus fl | C12: Front Left unsprung mass [kg] | D12: 29 | E12: Mus tot | F12: Total unsprung mass | G12: =SUM(D12+D13+D14+D15) -> 128 | H12: WTsrcf | I12: Front WT due to sprung mass at RC Height | J12: =(G8*'Q5'!D1*'Q5'!D27)/'Q5'!D20 -> 110.42449
B13: Mus fr | C13: Front Right total unsprung mass [kg] | D13: 29 | E13: Ks fl | F13: Front Left Spring rate [N/mm] | G13: =SUM(D16*0.1751) -> 41.1485 | H13: WTsrcr | I13: Rear WT due to sprung mass at RC Height | J13: =(G9*D1*D28)/D21 -> 315.26053
B14: Mus rl | C14: Rear Left unsprung mass [kg] | D14: 35 | E14: Ks fr | F14: Front Right rspring rate [N/mm] | G14: =SUM(D17*0.1751) -> 41.1485 | H14: Wtusf | I14: Front WT due to Unsprung mass at wheel centre height | J14: =((D12+D13)*D1*D23)/D20 -> 89.485714
B15: Mus rr | C15: Rear Right unsprung mass [kg] | D15: 35 | E15: Ks rl | F15: Rear Left Spring rate [N/mm] | G15: =SUM(D18*0.1751) -> 58.8336 | H15: Wtusr | I15: Rear WT due to Unsprung mass at wheel centre height | J15: =((D14+D15)*D1*D24)/D21 -> 104.44737
B16: Ks fl | C16: Front Left Spring rate [lb/in] | D16: 235 | E16: Ks rr | F16: Rear Right Spring Rate [N/mm] | G16: =SUM(D19*0.1751) -> 59.0087 | I16: Total front WT | J16: =J9+J12+J14 -> 68.483425
B17: Ks fr | C17: Front Right Spring rate [lb/in] | D17: 235 | E17: Kw fl | F17: Front Left wheel rate [N/mm] | G17: =D4^2*G13 -> 31.1453 | I17: Total Rear WT | J17: =J10+J13+J15 -> 286.28511
B18: Ks rl | C18: Rear Left Spring rate [lb/in] | D18: 336 | E18: Kw fr | F18: Front Right wheel rate [N/mm] | G18: =D5^2*G14 -> 27.668251 | I18: Total WT calculated by adding all Weight Transfers | J18: =J16+J17 -> 354.76853
B19: Ks rr | C19: Rear Right Spring rate [lb/in] | D19: 337 | E19: Kw rl | F19: Rear Left Wheel Rate [N/mm] | G19: =D6^2*G15 -> 28.828464 | H19: Fz fl | I19: Left front vertical force [N] | J19: =D8*9.81+J16 -> 1891.1814
B20: Tf | C20: Front Track | D20: 1.47 | E20: Kw rr | F20: Rear Right wheel rate [N/mm] | G20: =D7^2*G16 -> 28.914263 | H20: Fz fr | I20: Front Right vertical force [N] | J20: =D9*9.81-J16 -> 1954.3386
B21: Tr | C21: Rear track | D21: 1.52 | E21: Kwf | F21: Average Front wheel rate [N/m] | G21: =(G17+G18)*1000/2 -> 29406.776 | H21: Fz rl | I21: Rear Left vertical force [N] | J21: =D10*9.81+J17 -> 2236.5131
B22: L | C22: Wheel base | D22: 2.55 | E22: Kwr | F22: Average Rear wheel rate [N/m] | G22: =(G19+G20)*1000/2 -> 28871.363 | H22: Fz rr | I22: Rear Right vertical force [N] | J22: =D11*9.81-J17 -> 1864.0669
B23: Rrf | C23: Rolling Radius front | D23: 0.28 | E23: b | F23: distance of cg of sprung mass from front axle [m] | G23: =(G9*D22)/G10 -> 1.301173 | I23: Total wheel loads by individual wheel load check | J23: =J19+J20+J21+J22 -> 7946.1
B24: Rrr | C24: Rolling Radius rear | D24: 0.28 | E24: hr -hf | F24: Rear -Front RC Height [m] | G24: =D28-D27 -> 0.11 | I24: Total wheel load by static corner weight check | J24: =G11*9.81 -> 7946.1
B25: Htot | C25: Height of CG of total mass above ground | D25: 0.45 | E25: z | F25: Depth of triangle at CG [m] | G25: =(D28-D27)/D22*G23 -> 0.056129032
B26: Hs | C26: Height of CG of sprung mass above ground | E26: z+hf | F26: Height of roll axis at CG [m] | G26: =G25+D27 -> 0.11612903
B27: hf | C27: Height of Front roll centre above ground | D27: 0.06 | E27: Hsra | F27: Height of CG above roll axis [m] | G27: =D26-G25-D27 -> -0.11612903 | H27: WT | I27: Total WT calculated for 'solid' car | J27: =(G11*D1*D25)/((D20+D21)/2) -> 1974.8829
B28: hr | C28: Height of Rear roll centre above ground | D28: 0.17
I30: Front Split | J30: =J19-J20 -> -63.15715
I31: Rear Split | J31: =J21-J22 -> 372.44622
I32: FRLSD | J32: =J30-J31 -> -435.60337
I33: Rear WT Percentage % | J33: =J31/(J30+J31)*100 -> 120.4201

Sheet Q6
C1: Lateral Acceleration | D1: 8.1
B3: Measured Suspension Data | E3: Calculated Suspension Data | H3: Results
B4: MR fl | C4: Motion Ratio front left | D4: 0.87 | E4: Ms fl | F4: Front Left corner sprung mass [kg] | G4: =SUM(D8-D12) -> 181.8 | H4: Kϕf | I4: Front Roll Stiffness [Nm/rad] | J4: =((D20^2*G21)/2) -> 31772.551
B5: MR fr | C5: Motion Ratio front right | D5: 0.82 | E5: Ms fr | F5: Front Right corner sprung mass [kg] | G5: =SUM(D9-D13) -> 152.2 | H5: Kϕr | I5: Rear Roll Stiffness [Nm/rad] | J5: =((D21^2*G22)/2) -> 27256.626
B6: MR rl | C6: Motion Ratio rear left | D6: 0.7 | E6: Ms rl | F6: Rear Left corner sprung mass [kg] | G6: =SUM(D10-D14) -> 138.8 | H6: Kϕt | I6: Total Roll Stiffness [Nm/rad] | J6: =J4+J5 -> 59029.177
B7: MR rr | C7: Motion Ratio rear right | D7: 0.7 | E7: Ms rr | F7: Rear Right corner sprung mass [kg] | G7: =SUM(D11-D15) -> 209.2 | H7: Mot | I7: Overturning moment [Nm] | J7: =(G10*G27*5) -> -396
B8: M fl | C8: Front Left total measured static corner mass [kg] | D8: 210.8 | E8: Ms f | F8: Total front sprung mass [kg] | G8: =SUM(G4+G5) -> 334 | H8: ϕ | I8: Roll angle (Radians) | J8: =(J7/J6) -> -0.0067085469
B9: M fr | C9: Front Right measured static corner mass [kg] | D9: 181.2 | E9: Ms r | F9: Total rear sprung mass [kg] | G9: =SUM(G6+G7) -> 348 | H9: WTsf | I9: Front weight transfer due to spung mass [N] | J9: =(J8*G21*D20)/2 -> -144.9984
B10: M rl | C10: Rear Left total measured static corner mass [kg] | D10: 173.8 | E10: Mstot | F10: Total sprung mass | G10: =SUM(G8+G9) -> 682 | H10: WTsr | I10: Rear weight transfer due to spung mass [N] | J10: =(J8*G22*D21)/2 -> -120.2976
B11: M rr | C11: Rear Right total measured static corner mass [kg] | D11: 244.2 | E11: M tot | F11: Total Mass | G11: =SUM(G10+D12+D13+D14+D15) -> 810
B12: Mus fl | C12: Front Left unsprung mass [kg] | D12: 29 | E12: Mus tot | F12: Total unsprung mass | G12: =SUM(D12+D13+D14+D15) -> 128 | H12: WTsrcf | I12: Front WT due to sprung mass at RC Height | J12: =(G8*'Q6'!D1*'Q6'!D27)/'Q6'!D20 -> 110.42449
B13: Mus fr | C13: Front Right total unsprung mass [kg] | D13: 29 | E13: Ks fl | F13: Front Left Spring rate [N/mm] | G13: =SUM(D16*0.1751) -> 41.1485 | H13: WTsrcr | I13: Rear WT due to sprung mass at RC Height | J13: =(G9*D1*D28)/D21 -> 315.26053
B14: Mus rl | C14: Rear Left unsprung mass [kg] | D14: 35 | E14: Ks fr | F14: Front Right rspring rate [N/mm] | G14: =SUM(D17*0.1751) -> 41.1485 | H14: Wtusf | I14: Front WT due to Unsprung mass at wheel centre height | J14: =((D12+D13)*D1*D23)/D20 -> 89.485714
B15: Mus rr | C15: Rear Right unsprung mass [kg] | D15: 35 | E15: Ks rl | F15: Rear Left Spring rate [N/mm] | G15: =SUM(D18*0.1751) -> 48.1525 | H15: Wtusr | I15: Rear WT due to Unsprung mass at wheel centre height | J15: =((D14+D15)*D1*D24)/D21 -> 104.44737
B16: Ks fl | C16: Front Left Spring rate [lb/in] | D16: 235 | E16: Ks rr | F16: Rear Right Spring Rate [N/mm] | G16: =SUM(D19*0.1751) -> 48.1525 | I16: Total front WT | J16: =J9+J12+J14 -> 54.911806
B17: Ks fr | C17: Front Right Spring rate [lb/in] | D17: 235 | E17: Kw fl | F17: Front Left wheel rate [N/mm] | G17: =D4^2*G13 -> 31.1453 | I17: Total Rear WT | J17: =J10+J13+J15 -> 299.41029
B18: Ks rl | C18: Rear Left Spring rate [lb/in] | D18: 275 | E18: Kw fr | F18: Front Right wheel rate [N/mm] | G18: =D5^2*G14 -> 27.668251 | I18: Total WT calculated by adding all Weight Transfers | J18: =J16+J17 -> 354.3221
B19: Ks rr | C19: Rear Right Spring rate [lb/in] | D19: 275 | E19: Kw rl | F19: Rear Left Wheel Rate [N/mm] | G19: =D6^2*G15 -> 23.594725 | H19: Fz fl | I19: Left front vertical force [N] | J19: =D8*9.81+J16 -> 2122.8598
B20: Tf | C20: Front Track | D20: 1.47 | E20: Kw rr | F20: Rear Right wheel rate [N/mm] | G20: =D7^2*G16 -> 23.594725 | H20: Fz fr | I20: Front Right vertical force [N] | J20: =D9*9.81-J16 -> 1722.6602
B21: Tr | C21: Rear track | D21: 1.52 | E21: Kwf | F21: Average Front wheel rate [N/m] | G21: =(G17+G18)*1000/2 -> 29406.776 | H21: Fz rl | I21: Rear Left vertical force [N] | J21: =D10*9.81+J17 -> 2004.3883
B22: L | C22: Wheel base | D22: 2.55 | E22: Kwr | F22: Average Rear wheel rate [N/m] | G22: =(G19+G20)*1000/2 -> 23594.725 | H22: Fz rr | I22: Rear Right vertical force [N] | J22: =D11*9.81-J17 -> 2096.1917
B23: Rrf | C23: Rolling Radius front | D23: 0.28 | E23: b | F23: distance of cg of sprung mass from front axle [m] | G23: =(G9*D22)/G10 -> 1.301173 | I23: Total wheel loads by individual wheel load check | J23: =J19+J20+J21+J22 -> 7946.1
B24: Rrr | C24: Rolling Radius rear | D24: 0.28 | E24: hr -hf | F24: Rear -Front RC Height [m] | G24: =D28-D27 -> 0.11 | I24: Total wheel load by static corner weight check | J24: =G11*9.81 -> 7946.1
B25: Htot | C25: Height of CG of total mass above ground | D25: 0.45 | E25: z | F25: Depth of triangle at CG [m] | G25: =(D28-D27)/D22*G23 -> 0.056129032
B26: Hs | C26: Height of CG of sprung mass above ground | E26: z+hf | F26: Height of roll axis at CG [m] | G26: =G25+D27 -> 0.11612903
B27: hf | C27: Height of Front roll centre above ground | D27: 0.06 | E27: Hsra | F27: Height of CG above roll axis [m] | G27: =D26-G25-D27 -> -0.11612903 | H27: WT | I27: Total WT calculated for 'solid' car | J27: =(G11*D1*D25)/((D20+D21)/2) -> 1974.8829
B28: hr | C28: Height of Rear roll centre above ground | D28: 0.17
I30: Front Split | J30: =J19-J20 -> 400.19961
I31: Rear Split | J31: =J21-J22 -> -91.803415
I32: FRLSD | J32: =J30-J31 -> 492.00303 | L32: -489 | M32: (With previous corner mass values)
C33: (double click the cells below to see full answers) | I33: Rear WT Percentage % | J33: =J31/(J30+J31)*100 -> -29.768011 | L33: 129.28064
B34: Q6
B35: (i) | C35: The FRLSD has not changed by a significant amount in terms of value, however the direction is now different, with the front load split being significantly higher than the previous results. Now with the corner weights changed, the car will be far more biased towards understeer, creating more stable handling, at the expense of overall front grip. In a racing application, typically the car is ever so slighly balanced towards understeer to create a car with an almost neutral handling balance with a good combination of grip and lack of slip, giving the driver confidence to push the car hard without experiencing sudden oversteer.
B36: (ii) | C36: As previously mentioned, a single direction corner setup (as used in oval racing) is typically dictated by the diagonal wheel load distribution 'wedge.' with changes in corner mass values and spring rates, the 'wedge' can be altered to suit certain directional cornering characteristics, therefore a setup that is used on an oval racing application will always be biased towards the constant turning direction, to generate the maximum lateral forces, with the most stable handling.
