Workbook

Sheet Question
B2: Ready Plc has €160,000 available for investment now.
B3: It is looking at 4 projects which have the following cash flows.
B4: Assume average cost of weighted capital (WACC) at 8%
B6: Project Cost €000 | C6: 1 | D6: 2 | E6: 3 | F6: 4
C7: 85 | D7: 100 | E7: 100 | F7: 90
B9: Incomes (Cash Flow)
B10: Year 1 | C10: 20 | D10: 20 | E10: 25 | F10: 15
B11: Year 2 | C11: 30 | D11: 35 | E11: 25 | F11: 25
B12: Year 3 | C12: 35 | D12: 40 | E12: 30 | F12: 30
B13: Year 4 | C13: 40 | D13: 50 | E13: 35 | F13: 55
B14: Disposal | C14: 0 | D14: 20 | E14: 0 | F14: 15
B17: (Note the projects are divisible)
B19: Calculate the following: | D19: ( i.) | E19: NPV
D20: (ii.) | E20: Discounted payback
D21: (iii.) | E21: IRR
D22: (iv.) | E22: Optimal investment policy
D23: ( v.) | E23: The resulting NPV of your choice

Sheet Sheet1

Sheet Payback
A1: Payback - Ready PLC
D2: PP
B3: =NPV!C3 -> Project 1 | C3: =NPV!D3 -> -85 | D3: =C3 -> -85
B4: =NPV!C4 -> Year 1 | C4: =NPV!D4 -> 20 | D4: =C3+C4 -> -65
B5: =NPV!C5 -> Year 2 | C5: =NPV!D5 -> 30 | D5: =SUM(C3:C5) -> -35
B6: =NPV!C6 -> Year 3 | C6: =NPV!D6 -> 35 | D6: =SUM(C3:C6) -> 0 | E6: <= Payback at the end of year 3 exactly
B7: =NPV!C7 -> Year 4 | C7: =NPV!D7 -> 40 | D7: =SUM(C3:C7) -> 40
B8: =NPV!C8 -> Disposal | C8: =NPV!D8 -> 0 | D8: =SUM(C3:C8) -> 40
D10: PP
B11: =NPV!C12 -> Project 2 | C11: =NPV!D12 -> -100 | D11: =C11 -> -100
B12: =NPV!C13 -> Year 1 | C12: =NPV!D13 -> 20 | D12: =SUM(C11:C12) -> -80
B13: =NPV!C14 -> Year 2 | C13: =NPV!D14 -> 35 | D13: =SUM(C11:C13) -> -45
B14: =NPV!C15 -> Year 3 | C14: =NPV!D15 -> 40 | D14: =SUM(C11:C14) -> -5
B15: =NPV!C16 -> Year 4 | C15: =NPV!D16 -> 50 | D15: =SUM(C11:C15) -> 45 | E15: <= Payback during year 4 ; to be exact then 3 + (5/50) = 3.1 years
B16: =NPV!C17 -> Disposal | C16: =NPV!D17 -> 20 | D16: =SUM(C11:C16) -> 65
D18: PP
B19: =NPV!C21 -> Project 3 | C19: =NPV!D21 -> -100 | D19: =C19 -> -100
B20: =NPV!C22 -> Year 1 | C20: =NPV!D22 -> 25 | D20: =SUM(C19:C20) -> -75
B21: =NPV!C23 -> Year 2 | C21: =NPV!D23 -> 25 | D21: =SUM(C19:C21) -> -50
B22: =NPV!C24 -> Year 3 | C22: =NPV!D24 -> 30 | D22: =SUM(C19:C22) -> -20
B23: =NPV!C25 -> Year 4 | C23: =NPV!D25 -> 35 | D23: =SUM(C19:C23) -> 15 | E23: <= Payback during year 4; to be exact then 3 + (20/35) = 3.57 years
B24: =NPV!C26 -> Disposal | C24: =NPV!D26 -> 0 | D24: =SUM(C19:C24) -> 15
D26: PP
B27: =NPV!C30 -> Project 4 | C27: =NPV!D30 -> -90 | D27: =C27 -> -90
B28: =NPV!C31 -> Year 1 | C28: =NPV!D31 -> 15 | D28: =SUM(C27:C28) -> -75
B29: =NPV!C32 -> Year 2 | C29: =NPV!D32 -> 25 | D29: =SUM(C27:C29) -> -50
B30: =NPV!C33 -> Year 3 | C30: =NPV!D33 -> 30 | D30: =SUM(C27:C30) -> -20
B31: =NPV!C34 -> Year 4 | C31: =NPV!D34 -> 55 | D31: =SUM(C27:C31) -> 35 | E31: <= Payback during year 4; to be exact then 3 + (20/55) = 3.36 years
B32: =NPV!C35 -> Disposal | C32: =NPV!D35 -> 15 | D32: =SUM(C27:C32) -> 50
B34: Best payback period is project 1 because this is the shortest time at 3 years, followed by Project 2, Project 4 and Project 3.
B35: Compare this payback period with Discounted Payback where the time value of money is taken into account and is a more accurate reflection.

Sheet Discounted payback
A1: Discounted Payback - Ready PLC
D2: Discount factor 8% | E2: PV | F2: DPP
B3: =NPV!C3 -> Project 1 | C3: =NPV!D3 -> -85 | D3: 1 | E3: =D3*C3 -> -85 | F3: =E3 -> -85
B4: =NPV!C4 -> Year 1 | C4: =NPV!D4 -> 20 | D4: ='Discount Tables'!I3 -> 0.92592593 | E4: =D4*C4 -> 18.518519 | F4: =F3+E4 -> -66.481481
B5: =NPV!C5 -> Year 2 | C5: =NPV!D5 -> 30 | D5: ='Discount Tables'!I4 -> 0.85733882 | E5: =D5*C5 -> 25.720165 | F5: =F4+E5 -> -40.761317
B6: =NPV!C6 -> Year 3 | C6: =NPV!D6 -> 35 | D6: ='Discount Tables'!I5 -> 0.79383224 | E6: =D6*C6 -> 27.784128 | F6: =F5+E6 -> -12.977188
B7: =NPV!C7 -> Year 4 | C7: =NPV!D7 -> 40 | D7: ='Discount Tables'!I6 -> 0.73502985 | E7: =D7*C7 -> 29.401194 | F7: =F6+E7 -> 16.424006 | G7: <= Payback in year 4; to be exact then 3 + (12.98/29.4) = 3.44 years
B8: =NPV!C8 -> Disposal | C8: =NPV!D8 -> 0 | D8: =D7 -> 0.73502985 | E8: =D8*C8 -> 0
D10: Discount factor 8% | E10: PV | F10: DPP
B11: =NPV!C12 -> Project 2 | C11: =NPV!D12 -> -100 | D11: 1 | E11: =D11*C11 -> -100 | F11: =E11 -> -100
B12: =NPV!C13 -> Year 1 | C12: =NPV!D13 -> 20 | D12: =D4 -> 0.92592593 | E12: =D12*C12 -> 18.518519 | F12: =F11+E12 -> -81.481481
B13: =NPV!C14 -> Year 2 | C13: =NPV!D14 -> 35 | D13: =D5 -> 0.85733882 | E13: =D13*C13 -> 30.006859 | F13: =F12+E13 -> -51.474623
B14: =NPV!C15 -> Year 3 | C14: =NPV!D15 -> 40 | D14: =D6 -> 0.79383224 | E14: =D14*C14 -> 31.75329 | F14: =F13+E14 -> -19.721333
B15: =NPV!C16 -> Year 4 | C15: =NPV!D16 -> 50 | D15: =D7 -> 0.73502985 | E15: =D15*C15 -> 36.751493 | F15: =F14+E15 -> 17.03016 | G15: <= Payback in year 4 ; to be exact then 3 + (19.72/36.75) = 3.54 years
B16: =NPV!C17 -> Disposal | C16: =NPV!D17 -> 20 | D16: =D8 -> 0.73502985 | E16: =D16*C16 -> 14.700597
D18: Discount factor 8% | E18: PV | F18: DPP
B19: =NPV!C21 -> Project 3 | C19: =NPV!D21 -> -100 | D19: 1 | E19: =D19*C19 -> -100 | F19: =E19 -> -100
B20: =NPV!C22 -> Year 1 | C20: =NPV!D22 -> 25 | D20: =D4 -> 0.92592593 | E20: =D20*C20 -> 23.148148 | F20: =F19+E20 -> -76.851852
B21: =NPV!C23 -> Year 2 | C21: =NPV!D23 -> 25 | D21: =D5 -> 0.85733882 | E21: =D21*C21 -> 21.433471 | F21: =F20+E21 -> -55.418381
B22: =NPV!C24 -> Year 3 | C22: =NPV!D24 -> 30 | D22: =D6 -> 0.79383224 | E22: =D22*C22 -> 23.814967 | F22: =F21+E22 -> -31.603414
B23: =NPV!C25 -> Year 4 | C23: =NPV!D25 -> 35 | D23: =D7 -> 0.73502985 | E23: =D23*C23 -> 25.726045 | F23: =F22+E23 -> -5.8773693
B24: =NPV!C26 -> Disposal | C24: =NPV!D26 -> 0 | D24: =D8 -> 0.73502985 | E24: =D24*C24 -> 0 | F24: =F23+E24 -> -5.8773693 | G24: <= No Payback achieved
D26: Discount factor 8% | E26: PV | F26: DPP
B27: =NPV!C30 -> Project 4 | C27: =NPV!D30 -> -90 | D27: 1 | E27: =D27*C27 -> -90 | F27: =C27 -> -90
B28: =NPV!C31 -> Year 1 | C28: =NPV!D31 -> 15 | D28: =D4 -> 0.92592593 | E28: =D28*C28 -> 13.888889 | F28: =F27+E28 -> -76.111111
B29: =NPV!C32 -> Year 2 | C29: =NPV!D32 -> 25 | D29: =D5 -> 0.85733882 | E29: =D29*C29 -> 21.433471 | F29: =F28+E29 -> -54.677641
B30: =NPV!C33 -> Year 3 | C30: =NPV!D33 -> 30 | D30: =D6 -> 0.79383224 | E30: =D30*C30 -> 23.814967 | F30: =F29+E30 -> -30.862673
B31: =NPV!C34 -> Year 4 | C31: =NPV!D34 -> 55 | D31: =D7 -> 0.73502985 | E31: =D31*C31 -> 40.426642 | F31: =F30+E31 -> 9.5639685 | G31: <= Payback in year 4; to be exact then 3 + (30.86/40.43) = 3.76 years
B32: =NPV!C35 -> Disposal | C32: =NPV!D35 -> 15 | D32: =D8 -> 0.73502985 | E32: =D32*C32 -> 11.025448
B34: Best payback period is project 1 because this is the shortest time at 3.44 years, followed by Project 2 and then Project 4.
B35: Project 3 does not reach payback.

Sheet NPV
B1: NPV - Ready PLC
E2: Discount factor 8% | F2: PV
C3: Project 1 | D3: =-Question!C7 -> -85 | E3: 1 | F3: =E3*D3 -> -85
C4: Year 1 | D4: =Question!C10 -> 20 | E4: ='Discount Tables'!I3 -> 0.92592593 | F4: =E4*D4 -> 18.518519
C5: Year 2 | D5: =Question!C11 -> 30 | E5: ='Discount Tables'!I4 -> 0.85733882 | F5: =E5*D5 -> 25.720165
C6: Year 3 | D6: =Question!C12 -> 35 | E6: ='Discount Tables'!I5 -> 0.79383224 | F6: =E6*D6 -> 27.784128
C7: Year 4 | D7: =Question!C13 -> 40 | E7: ='Discount Tables'!I6 -> 0.73502985 | F7: =E7*D7 -> 29.401194
C8: Disposal | D8: =Question!C14 -> 0 | E8: =E7 -> 0.73502985 | F8: =E8*D8 -> 0
F9: =SUM(F3:F8) -> 16.424006 | G9: NPV Project 1
E11: Discount factor 8% | F11: PV
C12: Project 2 | D12: =-Question!D7 -> -100 | E12: 1 | F12: =E12*D12 -> -100
C13: Year 1 | D13: =Question!D10 -> 20 | E13: ='Discount Tables'!I3 -> 0.92592593 | F13: =E13*D13 -> 18.518519
C14: Year 2 | D14: =Question!D11 -> 35 | E14: ='Discount Tables'!I4 -> 0.85733882 | F14: =E14*D14 -> 30.006859
C15: Year 3 | D15: =Question!D12 -> 40 | E15: ='Discount Tables'!I5 -> 0.79383224 | F15: =E15*D15 -> 31.75329
C16: Year 4 | D16: =Question!D13 -> 50 | E16: ='Discount Tables'!I6 -> 0.73502985 | F16: =E16*D16 -> 36.751493
C17: Disposal | D17: =Question!D14 -> 20 | E17: =E16 -> 0.73502985 | F17: =E17*D17 -> 14.700597
F18: =SUM(F12:F17) -> 31.730757 | G18: NPV Project 2
E20: Discount factor 8% | F20: PV
C21: Project 3 | D21: =-Question!E7 -> -100 | E21: 1 | F21: =E21*D21 -> -100
C22: Year 1 | D22: =Question!E10 -> 25 | E22: ='Discount Tables'!I3 -> 0.92592593 | F22: =E22*D22 -> 23.148148
C23: Year 2 | D23: =Question!E11 -> 25 | E23: ='Discount Tables'!I4 -> 0.85733882 | F23: =E23*D23 -> 21.433471
C24: Year 3 | D24: =Question!E12 -> 30 | E24: ='Discount Tables'!I5 -> 0.79383224 | F24: =E24*D24 -> 23.814967
C25: Year 4 | D25: =Question!E13 -> 35 | E25: ='Discount Tables'!I6 -> 0.73502985 | F25: =E25*D25 -> 25.726045
C26: Disposal | D26: =Question!E14 -> 0 | E26: =E25 -> 0.73502985 | F26: =E26*D26 -> 0
F27: =SUM(F21:F26) -> -5.8773693 | G27: NPV Project 3
E29: Discount factor 8% | F29: PV
C30: Project 4 | D30: =-Question!F7 -> -90 | E30: 1 | F30: =E30*D30 -> -90
C31: Year 1 | D31: =Question!F10 -> 15 | E31: ='Discount Tables'!I3 -> 0.92592593 | F31: =E31*D31 -> 13.888889
C32: Year 2 | D32: =Question!F11 -> 25 | E32: ='Discount Tables'!I4 -> 0.85733882 | F32: =E32*D32 -> 21.433471
C33: Year 3 | D33: =Question!F12 -> 30 | E33: ='Discount Tables'!I5 -> 0.79383224 | F33: =E33*D33 -> 23.814967
C34: Year 4 | D34: =Question!F13 -> 55 | E34: ='Discount Tables'!I6 -> 0.73502985 | F34: =E34*D34 -> 40.426642
C35: Disposal | D35: =Question!F14 -> 15 | E35: =E34 -> 0.73502985 | F35: =E35*D35 -> 11.025448
F36: =SUM(F30:F35) -> 20.589416 | G36: NPV Project 4
B38: Highest NPV is Project 2, followed by projects 4 & 1 in that order. Project 3 is negative and so should not be undertaken
B39: The NPV is the return on the project for its given investment so if it is positive it yields a positive return

Sheet IRR
A1: IRR - Ready PLC
A2: IRR is the discount factor when NPV is zero!
D3: Discount factor 8% | E3: PV @ 8% | G3: Discount factor 20% | H3: PV @ 20%
B4: Project 1 | C4: =NPV!D3 -> -85 | D4: =NPV!E3 -> 1 | E4: =D4*C4 -> -85 | G4: 1 | H4: =G4*C4 -> -85
B5: Year 1 | C5: =NPV!D4 -> 20 | D5: =NPV!E4 -> 0.92592593 | E5: =D5*C5 -> 18.518519 | G5: ='Discount Tables'!U3 -> 0.83333333 | H5: =G5*C5 -> 16.666667
B6: Year 2 | C6: =NPV!D5 -> 30 | D6: =NPV!E5 -> 0.85733882 | E6: =D6*C6 -> 25.720165 | G6: ='Discount Tables'!U4 -> 0.69444444 | H6: =G6*C6 -> 20.833333
B7: Year 3 | C7: =NPV!D6 -> 35 | D7: =NPV!E6 -> 0.79383224 | E7: =D7*C7 -> 27.784128 | G7: ='Discount Tables'!U5 -> 0.5787037 | H7: =G7*C7 -> 20.25463
B8: Year 4 | C8: =NPV!D7 -> 40 | D8: =NPV!E7 -> 0.73502985 | E8: =D8*C8 -> 29.401194 | G8: ='Discount Tables'!U6 -> 0.48225309 | H8: =G8*C8 -> 19.290123
B9: Disposal | C9: =NPV!D8 -> 0 | D9: =NPV!E8 -> 0.73502985 | E9: =D9*C9 -> 0 | G9: =G8 -> 0.48225309 | H9: =G9*C9 -> 0
E10: =SUM(E4:E9) -> 16.424006 | H10: =SUM(H4:H9) -> -7.9552469 | J10: IRR is approx | K10: ='IRR calc check'!K14 -> 16.084254 | L10: %
D12: Discount factor 8% | E12: PV @ 8% | G12: Discount factor 20% | H12: PV @ 20%
B13: Project 2 | C13: =NPV!D12 -> -100 | D13: =NPV!E12 -> 1 | E13: =D13*C13 -> -100 | G13: 1 | H13: =G13*C13 -> -100
B14: Year 1 | C14: =NPV!D13 -> 20 | D14: =NPV!E13 -> 0.92592593 | E14: =D14*C14 -> 18.518519 | G14: =G5 -> 0.83333333 | H14: =G14*C14 -> 16.666667
B15: Year 2 | C15: =NPV!D14 -> 35 | D15: =NPV!E14 -> 0.85733882 | E15: =D15*C15 -> 30.006859 | G15: =G6 -> 0.69444444 | H15: =G15*C15 -> 24.305556
B16: Year 3 | C16: =NPV!D15 -> 40 | D16: =NPV!E15 -> 0.79383224 | E16: =D16*C16 -> 31.75329 | G16: =G7 -> 0.5787037 | H16: =G16*C16 -> 23.148148
B17: Year 4 | C17: =NPV!D16 -> 50 | D17: =NPV!E16 -> 0.73502985 | E17: =D17*C17 -> 36.751493 | G17: =G8 -> 0.48225309 | H17: =G17*C17 -> 24.112654
B18: Disposal | C18: =NPV!D17 -> 20 | D18: =NPV!E17 -> 0.73502985 | E18: =D18*C18 -> 14.700597 | G18: =G17 -> 0.48225309 | H18: =G18*C18 -> 9.6450617
E19: =SUM(E13:E18) -> 31.730757 | H19: =SUM(H13:H18) -> -2.1219136 | J19: IRR is approx | K19: ='IRR calc check'!K38 -> 19.24783 | L19: %
D21: Discount factor 8% | E21: PV @ 8% | G21: Discount factor 20% | H21: PV @ 20%
B22: Project 3 | C22: =NPV!D21 -> -100 | D22: =NPV!E21 -> 1 | E22: =D22*C22 -> -100 | G22: 1 | H22: =G22*C22 -> -100
B23: Year 1 | C23: =NPV!D22 -> 25 | D23: =NPV!E22 -> 0.92592593 | E23: =D23*C23 -> 23.148148 | G23: =G5 -> 0.83333333 | H23: =G23*C23 -> 20.833333
B24: Year 2 | C24: =NPV!D23 -> 25 | D24: =NPV!E23 -> 0.85733882 | E24: =D24*C24 -> 21.433471 | G24: =G6 -> 0.69444444 | H24: =G24*C24 -> 17.361111
B25: Year 3 | C25: =NPV!D24 -> 30 | D25: =NPV!E24 -> 0.79383224 | E25: =D25*C25 -> 23.814967 | G25: =G7 -> 0.5787037 | H25: =G25*C25 -> 17.361111
B26: Year 4 | C26: =NPV!D25 -> 35 | D26: =NPV!E25 -> 0.73502985 | E26: =D26*C26 -> 25.726045 | G26: =G8 -> 0.48225309 | H26: =G26*C26 -> 16.878858
B27: Disposal | C27: =NPV!D26 -> 0 | D27: =NPV!E26 -> 0.73502985 | E27: =D27*C27 -> 0 | G27: =G26 -> 0.48225309 | H27: =G27*C27 -> 0
E28: =SUM(E22:E27) -> -5.8773693 | H28: =SUM(H22:H27) -> -27.565586 | J28: IRR is approx | K28: ='IRR calc check'!K62 -> 4.7480761 | L28: %
D30: Discount factor 8% | E30: PV @ 8% | G30: Discount factor 20% | H30: PV @ 20%
B31: Project 4 | C31: =NPV!D30 -> -90 | D31: =NPV!E30 -> 1 | E31: =D31*C31 -> -90 | G31: 1 | H31: =G31*C31 -> -90
B32: Year 1 | C32: =NPV!D31 -> 15 | D32: =NPV!E31 -> 0.92592593 | E32: =D32*C32 -> 13.888889 | G32: =G5 -> 0.83333333 | H32: =G32*C32 -> 12.5
B33: Year 2 | C33: =NPV!D32 -> 25 | D33: =NPV!E32 -> 0.85733882 | E33: =D33*C33 -> 21.433471 | G33: =G6 -> 0.69444444 | H33: =G33*C33 -> 17.361111
B34: Year 3 | C34: =NPV!D33 -> 30 | D34: =NPV!E33 -> 0.79383224 | E34: =D34*C34 -> 23.814967 | G34: =G7 -> 0.5787037 | H34: =G34*C34 -> 17.361111
B35: Year 4 | C35: =NPV!D34 -> 55 | D35: =NPV!E34 -> 0.73502985 | E35: =D35*C35 -> 40.426642 | G35: =G8 -> 0.48225309 | H35: =G35*C35 -> 26.52392
B36: Disposal | C36: =NPV!D35 -> 15 | D36: =NPV!E35 -> 0.73502985 | E36: =D36*C36 -> 11.025448 | G36: =G35 -> 0.48225309 | H36: =G36*C36 -> 7.2337963
E37: =SUM(E31:E36) -> 20.589416 | H37: =SUM(H31:H36) -> -9.0200617 | J37: IRR is approx | K37: ='IRR calc check'!K86 -> 16.344389 | L37: %
B39: Project 1 has the highest IRR followed by project 2, project 4 & project 3 in that order
B41: How to approximately derive IRR for project 1
B42: At 8% discount factor, project 1 has an NPV of 16.42
B43: To reduce NPV towards zero, we must increase the discount factor.
B44: Let's take an arbitrarily higher discount factor of, say, 20%, and see what that does to IRR
D46: Discount factor 8% | E46: PV | G46: Discount factor 20% | H46: New PV
...

Sheet Optimal investment
B1: =Question!B2 -> Ready Plc has €160,000 available for investment now.
B2: =Question!B3 -> It is looking at 4 projects which have the following cash flows.
B3: =Question!B4 -> Assume average cost of weighted capital (WACC) at 8%
B5: Project Cost €000 | C5: 1 | D5: 2 | E5: 3 | F5: 4
C6: 85 | D6: 100 | E6: 100 | F6: 90
B8: Incomes (Cash Flow)
B9: Year 1 | C9: 20 | D9: 20 | E9: 25 | F9: 15
B10: Year 2 | C10: 30 | D10: 35 | E10: 25 | F10: 25
B11: Year 3 | C11: 35 | D11: 40 | E11: 30 | F11: 30
B12: Year 4 | C12: 40 | D12: 50 | E12: 35 | F12: 55
B13: Disposal | C13: 0 | D13: 20 | E13: 0 | F13: 15
B16: Calculate the: | E16: ( i.) | F16: Optimal investment policy.
E17: (ii.) | F17: The resulting NPV of your choice.
B19: (Note the projects are divisible)
D20: (€000s) | E20: (€000s) | F20: (€000s) | G20: (€000s)
C21: Project => | D21: 1 | E21: 2 | F21: 3 | G21: 4
B22: Initial investment | C22: DF @ 8% | D22: =-C6 -> -85 | E22: =-D6 -> -100 | F22: =-E6 -> -100 | G22: =-F6 -> -90
B23: Year 1 | C23: =NPV!E4 -> 0.92592593 | D23: =$C$23*C9 -> 18.518519 | E23: =$C$23*D9 -> 18.518519 | F23: =$C$23*E9 -> 23.148148 | G23: =$C$23*F9 -> 13.888889
B24: Year 2 | C24: =NPV!E5 -> 0.85733882 | D24: =$C$24*C10 -> 25.720165 | E24: =$C$24*D10 -> 30.006859 | F24: =$C$24*E10 -> 21.433471 | G24: =$C$24*F10 -> 21.433471
B25: Year 3 | C25: =NPV!E6 -> 0.79383224 | D25: =$C$25*C11 -> 27.784128 | E25: =$C$25*D11 -> 31.75329 | F25: =$C$25*E11 -> 23.814967 | G25: =$C$25*F11 -> 23.814967
B26: Year 4 | C26: =NPV!E7 -> 0.73502985 | D26: =$C$26*C12 -> 29.401194 | E26: =$C$26*D12 -> 36.751493 | F26: =$C$26*E12 -> 25.726045 | G26: =$C$26*F12 -> 40.426642
B27: Disposal Year 4 | C27: =NPV!E8 -> 0.73502985 | D27: =$C$27*C13 -> 0 | E27: =$C$27*D13 -> 14.700597 | F27: =$C$27*E13 -> 0 | G27: =$C$27*F13 -> 11.025448
C28: NPV | D28: =SUM(D22:D27) -> 16.424006 | E28: =SUM(E22:E27) -> 31.730757 | F28: =SUM(F22:F27) -> -5.8773693 | G28: =SUM(G22:G27) -> 20.589416 | H28: <= Net Present Value accounts for all of the future returns plus the initial investment
C29: GPV | D29: =SUM(D23:D27) -> 101.42401 | E29: =SUM(E23:E27) -> 131.73076 | F29: =SUM(F23:F27) -> 94.122631 | G29: =SUM(G23:G27) -> 110.58942 | H29: <= Gross Present Value accounts for all the future returns but NOT the initial investment
C30: Cost-benefit ratio | D30: =D28/-D22 -> 0.1932236 | E30: =E28/-E22 -> 0.31730757 | F30: =F28/-F22 -> -0.058773693 | G30: =G28/-G22 -> 0.22877129 | H30: <= Cost-benefit ratio is the comparison of the NPV of a project with its initial cost.
C31: Profitability Index | D31: =D29/-D22 -> 1.1932236 | E31: =E29/-E22 -> 1.3173076 | F31: =F29/-F22 -> 0.94122631 | G31: =G29/-G22 -> 1.2287713 | H31: <= Profitability Index is the comparison of the GPV of a project with its initial cost.
C32: Ranking | D32: 3 | E32: 1 | F32: Not viable | G32: 2 | I32: (A ratio of greater than one indicates that the project is a viable one).
C34: Optimal investment => | D34: €160K available
C35: 100% project 2 | D35: 100 | E35: Have enough to undertake 100% of project 2 (€100K)
C36: Two thirds (60/90) project 4 | D36: =90*66.67% -> 60.003 | E36: Remaining €60K is only 66.67% of the total investment of €90K to undertake all of project 4
C39: Project | D39: Project NPV | E39: % of project undertaken | F39: Resultant NPV
C40: 2 | D40: =E28 -> 31.730757 | E40: 1 | F40: =D40*E40 -> 31.730757 | G40: <= NPV for project 2
C41: 4 | D41: =G28 -> 20.589416 | E41: 0.6667 | F41: =D41*E41 -> 13.726964 | G41: <= 2/3 of NPV for project 4
F42: =SUM(F40:F41) -> 45.45772 | G42: Resultant NPV (€000s)
B43: Therefore:
B44: The optimal investment is 100% of project 2 and 66.67% of project 4
B45: The resultant NPV of €45,457 is the BEST POSSIBLE return that can be obtained with these 4 projects from an initial investment of €160,000.
B47: NOTE: If the projects were indivisible then only Project 2 could be undertaken since the other 3 projects all require more than the remaining €60K investment to be fully completed.

Sheet Discount Tables
A1: Discount factors
A2: Period | B2: 0.01 | C2: 0.02 | D2: 0.03 | E2: 0.04 | F2: 0.05 | G2: 0.06 | H2: 0.07 | I2: 0.08 | J2: 0.09 | K2: 0.1 | L2: 0.11 | M2: 0.12 | N2: 0.13 | O2: 0.14 | P2: 0.15 | Q2: 0.16 | R2: 0.17 | S2: 0.18 | T2: 0.19 | U2: 0.2
A3: 1 | B3: =1/(1+B$2)^$A3 -> 0.99009901 | C3: =1/(1+C$2)^$A3 -> 0.98039216 | D3: =1/(1+D$2)^$A3 -> 0.97087379 | E3: =1/(1+E$2)^$A3 -> 0.96153846 | F3: =1/(1+F$2)^$A3 -> 0.95238095 | G3: =1/(1+G$2)^$A3 -> 0.94339623 | H3: =1/(1+H$2)^$A3 -> 0.93457944 | I3: =1/(1+I$2)^$A3 -> 0.92592593 | ... U3: =1/(1+U$2)^$A3 -> 0.83333333
A4: 2 | B4: =1/(1+B$2)^$A4 -> 0.98029605 | C4: =1/(1+C$2)^$A4 -> 0.96116878 | D4: =1/(1+D$2)^$A4 -> 0.94259591 | E4: =1/(1+E$2)^$A4 -> 0.92455621 | F4: =1/(1+F$2)^$A4 -> 0.90702948 | G4: =1/(1+G$2)^$A4 -> 0.88999644 | H4: =1/(1+H$2)^$A4 -> 0.87343873 | I4: =1/(1+I$2)^$A4 -> 0.85733882 | ... U4: =1/(1+U$2)^$A4 -> 0.69444444
A5: 3 | B5: =1/(1+B$2)^$A5 -> 0.97059015 | C5: =1/(1+C$2)^$A5 -> 0.94232233 | D5: =1/(1+D$2)^$A5 -> 0.91514166 | E5: =1/(1+E$2)^$A5 -> 0.88899636 | F5: =1/(1+F$2)^$A5 -> 0.8638376 | G5: =1/(1+G$2)^$A5 -> 0.83961928 | H5: =1/(1+H$2)^$A5 -> 0.81629788 | I5: =1/(1+I$2)^$A5 -> 0.79383224 | ... U5: =1/(1+U$2)^$A5 -> 0.5787037
A6: 4 | B6: =1/(1+B$2)^$A6 -> 0.96098034 | C6: =1/(1+C$2)^$A6 -> 0.92384543 | D6: =1/(1+D$2)^$A6 -> 0.88848705 | E6: =1/(1+E$2)^$A6 -> 0.85480419 | F6: =1/(1+F$2)^$A6 -> 0.82270247 | G6: =1/(1+G$2)^$A6 -> 0.79209366 | H6: =1/(1+H$2)^$A6 -> 0.76289521 | I6: =1/(1+I$2)^$A6 -> 0.73502985 | ... U6: =1/(1+U$2)^$A6 -> 0.48225309
A7: 5 | B7: =1/(1+B$2)^$A7 -> 0.95146569 | C7: =1/(1+C$2)^$A7 -> 0.90573081 | D7: =1/(1+D$2)^$A7 -> 0.86260878 | E7: =1/(1+E$2)^$A7 -> 0.82192711 | F7: =1/(1+F$2)^$A7 -> 0.78352617 | G7: =1/(1+G$2)^$A7 -> 0.74725817 | H7: =1/(1+H$2)^$A7 -> 0.71298618 | I7: =1/(1+I$2)^$A7 -> 0.6805832 | ... U7: =1/(1+U$2)^$A7 -> 0.40187757
A8: 6 | B8: =1/(1+B$2)^$A8 -> 0.94204524 | C8: =1/(1+C$2)^$A8 -> 0.88797138 | D8: =1/(1+D$2)^$A8 -> 0.83748426 | E8: =1/(1+E$2)^$A8 -> 0.79031453 | F8: =1/(1+F$2)^$A8 -> 0.7462154 | G8: =1/(1+G$2)^$A8 -> 0.70496054 | H8: =1/(1+H$2)^$A8 -> 0.66634222 | I8: =1/(1+I$2)^$A8 -> 0.63016963 | ... U8: =1/(1+U$2)^$A8 -> 0.33489798
A9: 7 | B9: =1/(1+B$2)^$A9 -> 0.93271805 | C9: =1/(1+C$2)^$A9 -> 0.87056018 | D9: =1/(1+D$2)^$A9 -> 0.81309151 | E9: =1/(1+E$2)^$A9 -> 0.75991781 | F9: =1/(1+F$2)^$A9 -> 0.71068133 | G9: =1/(1+G$2)^$A9 -> 0.66505711 | H9: =1/(1+H$2)^$A9 -> 0.62274974 | I9: =1/(1+I$2)^$A9 -> 0.5834904 | ... U9: =1/(1+U$2)^$A9 -> 0.27908165
A10: 8 | B10: =1/(1+B$2)^$A10 -> 0.92348322 | C10: =1/(1+C$2)^$A10 -> 0.85349037 | D10: =1/(1+D$2)^$A10 -> 0.78940923 | E10: =1/(1+E$2)^$A10 -> 0.73069021 | F10: =1/(1+F$2)^$A10 -> 0.67683936 | G10: =1/(1+G$2)^$A10 -> 0.62741237 | H10: =1/(1+H$2)^$A10 -> 0.5820091 | I10: =1/(1+I$2)^$A10 -> 0.54026888 | ... U10: =1/(1+U$2)^$A10 -> 0.23256804
A11: 9 | B11: =1/(1+B$2)^$A11 -> 0.91433982 | C11: =1/(1+C$2)^$A11 -> 0.83675527 | D11: =1/(1+D$2)^$A11 -> 0.76641673 | E11: =1/(1+E$2)^$A11 -> 0.70258674 | F11: =1/(1+F$2)^$A11 -> 0.64460892 | G11: =1/(1+G$2)^$A11 -> 0.59189846 | H11: =1/(1+H$2)^$A11 -> 0.54393374 | I11: =1/(1+I$2)^$A11 -> 0.50024897 | ... U11: =1/(1+U$2)^$A11 -> 0.1938067
A12: 10 | B12: =1/(1+B$2)^$A12 -> 0.90528695 | C12: =1/(1+C$2)^$A12 -> 0.8203483 | D12: =1/(1+D$2)^$A12 -> 0.74409391 | E12: =1/(1+E$2)^$A12 -> 0.67556417 | F12: =1/(1+F$2)^$A12 -> 0.61391325 | G12: =1/(1+G$2)^$A12 -> 0.55839478 | H12: =1/(1+H$2)^$A12 -> 0.50834929 | I12: =1/(1+I$2)^$A12 -> 0.46319349 | ... U12: =1/(1+U$2)^$A12 -> 0.16150558
A13: 11 | B13: =1/(1+B$2)^$A13 -> 0.89632372 | C13: =1/(1+C$2)^$A13 -> 0.80426304 | D13: =1/(1+D$2)^$A13 -> 0.72242128 | E13: =1/(1+E$2)^$A13 -> 0.64958093 | F13: =1/(1+F$2)^$A13 -> 0.58467929 | G13: =1/(1+G$2)^$A13 -> 0.52678753 | H13: =1/(1+H$2)^$A13 -> 0.4750928 | I13: =1/(1+I$2)^$A13 -> 0.42888286 | ... U13: =1/(1+U$2)^$A13 -> 0.13458799
A14: 12 | B14: =1/(1+B$2)^$A14 -> 0.88744923 | C14: =1/(1+C$2)^$A14 -> 0.78849318 | D14: =1/(1+D$2)^$A14 -> 0.70137988 | E14: =1/(1+E$2)^$A14 -> 0.62459705 | F14: =1/(1+F$2)^$A14 -> 0.55683742 | G14: =1/(1+G$2)^$A14 -> 0.49696936 | H14: =1/(1+H$2)^$A14 -> 0.44401196 | I14: =1/(1+I$2)^$A14 -> 0.39711376 | ... U14: =1/(1+U$2)^$A14 -> 0.11215665
... A27: 50 | B27: =1/(1+B$2)^$A27 -> 0.60803882 | C27: =1/(1+C$2)^$A27 -> 0.37152788 | D27: =1/(1+D$2)^$A27 -> 0.22810708 | E27: =1/(1+E$2)^$A27 -> 0.14071262 | F27: =1/(1+F$2)^$A27 -> 0.087203727 | G27: =1/(1+G$2)^$A27 -> 0.054288362 | H27: =1/(1+H$2)^$A27 -> 0.033947759 | I27: =1/(1+I$2)^$A27 -> 0.021321229 | ... U27: =1/(1+U$2)^$A27 -> 0.00010988482

Sheet IRR calc check
A1: Project 1
A2: DF 1 % | B2: Change | C2: DF 2 %
A3: 8 | B3: =C3-A3 -> 12 | C3: 20
A4: =IRR!E10 -> 16.424006 | B4: =A4-C4 -> 24.379253 | C4: =IRR!H10 -> -7.9552469
A5: NPV | C5: NPV
A7: % | C7: Change in NPV
A8: =B3 -> 12 | B8: = | C8: =B4 -> 24.379253
A10: 0.01 | B10: = | C10: =C8/A8 -> 2.0316044 | D10: <= For 1% change in DF then NPV changes by this much
A12: Increase DF to reduce NPV towards zero
K13: IRR =
A14: To reduce NPV from | C14: =A4 -> 16.424006 | D14: to zero we need to raise the DF above | G14: =A3 -> 8 | H14: % by | I14: =C14/C10 -> 8.0842539 | J14: or | K14: =G14+I14 -> 16.084254 | L14: %
A16: Check | C16: DF for which NPV is zero
A17: =IRR!B4 -> Project 1 | B17: =IRR!C4 -> -85 | C17: 1 | D17: =B17*C17 -> -85
A18: =IRR!B5 -> Year 1 | B18: =IRR!C5 -> 20 | C18: =1/(1+($K$14)/100) -> 0.86144328 | D18: =B18*C18 -> 17.228866
A19: =IRR!B6 -> Year 2 | B19: =IRR!C6 -> 30 | C19: =1/((1+($K$14)/100)*(1+($K$14)/100)) -> 0.74208452 | D19: =B19*C19 -> 22.262536
A20: =IRR!B7 -> Year 3 | B20: =IRR!C7 -> 35 | C20: =1/((1+($K$14)/100)*(1+($K$14)/100)*(1+($K$14)/100)) -> 0.63926372 | D20: =B20*C20 -> 22.37423
A21: =IRR!B8 -> Year 4 | B21: =IRR!C8 -> 40 | C21: =1/((1+($K$14)/100)*(1+($K$14)/100)*(1+($K$14)/100)*(1+($K$14)/100)) -> 0.55068943 | D21: =B21*C21 -> 22.027577
A22: =IRR!B9 -> Disposal | B22: =IRR!C9 -> 0 | C22: =C21 -> 0.55068943 | D22: =B22*C22 -> 0
D23: =SUM(D17:D22) -> -1.1067915 | E23: Needs to be very close to zero to prove this is IRR
A25: Project 2
A26: DF 1 % | B26: Change | C26: DF 2 %
A27: 8 | B27: =C27-A27 -> 12 | C27: 20
A28: =IRR!E19 -> 31.730757 | B28: =A28-C28 -> 33.85267 | C28: =IRR!H19 -> -2.1219136
A29: NPV | C29: NPV
A31: % | C31: Change in NPV
A32: =B27 -> 12 | B32: = | C32: =B28 -> 33.85267
A34: 0.01 | B34: = | C34: =C32/A32 -> 2.8210558 | D34: <= For 1% change in DF then NPV changes by this much
A36: Increase DF to reduce NPV towards zero
K37: IRR =
A38: To reduce NPV from | C38: =A28 -> 31.730757 | D38: to zero we need to raise the DF above | G38: =A27 -> 8 | H38: % by | I38: =C38/C34 -> 11.24783 | J38: or | K38: =G38+I38 -> 19.24783 | L38: %
A40: Check | C40: DF for which NPV is zero
A41: =IRR!B13 -> Project 2 | B41: =IRR!C13 -> -100 | C41: 1 | D41: =B41*C41 -> -100
A42: =IRR!B14 -> Year 1 | B42: =IRR!C14 -> 20 | C42: =1/(1+($K$38)/100) -> 0.83858968 | D42: =B42*C42 -> 16.771794
A43: =IRR!B15 -> Year 2 | B43: =IRR!C15 -> 35 | C43: =1/((1+($K$38)/100)*(1+($K$38)/100)) -> 0.70323266 | D43: =B43*C43 -> 24.613143
A44: =IRR!B16 -> Year 3 | B44: =IRR!C16 -> 40 | C44: =1/((1+($K$38)/100)*(1+($K$38)/100)*(1+($K$38)/100)) -> 0.58972365 | D44: =B44*C44 -> 23.588946
A45: =IRR!B17 -> Year 4 | B45: =IRR!C17 -> 50 | C45: =1/((1+($K$38)/100)*(1+($K$38)/100)*(1+($K$38)/100)*(1+($K$38)/100)) -> 0.49453617 | D45: =B45*C45 -> 24.726808
A46: =IRR!B18 -> Disposal | B46: =IRR!C18 -> 20 | C46: =C45 -> 0.49453617 | D46: =B46*C46 -> 9.8907234
D47: =SUM(D41:D46) -> -0.40858539 | E47: Needs to be very close to zero to prove this is IRR
A49: Project 3
A50: DF 1 % | B50: Change | C50: DF 2 %
...

Sheet Resources
B2: http://www.experiglot.com/2006/08/09/how-to-calculate-an-internal-rate-of-return-irr-and-when-not-to-use-it/
