Workbook

Sheet task1
B2: HC fuel balance: | D2: CxHy + a (O2 + ACR N2) → x CO2 + (y/2) H2O + ACR An2 + x(1-ϕ)O2
C3: iso | D3: C8H18 + x (O2 + 3.76 N2)→ 8 CO2 + 9 H2O + 47 N2
C4: blend | D4: C8H18+CH3OH + x (O2 + 3.76 N2)→ n1 CO2 + n2 H2O + n3 N2
C6: BALANCING FACTORS
C7: carbon (x) | D7: =1+8 -> 9 | E7: a | F7: =((2*(F8/D20))+((F9/D20)-1))/2 -> 14
C8: hydrogen (y) | D8: =18+4 -> 22 | E8: CO2 | F8: =D7*D20 -> 9 | G8: n1 | H8: m CO2 produced | I8: =F8*(D35+(2*D37)) -> 396.0783
E9: H2O | F9: =(D8/2)*D20 -> 11 | G9: n2
E10: N2 | F10: =F7*G18 -> 52.666667 | G10: n3
C11: m air | D11: =F7*((2*D37)+(2*D38*G18)) -> 1923.3444 | E11: mass% C8H18 | G11: =F35/I11 -> 0.78094246 | H11: total fuel weight | I11: =F35+F36 -> 146.26778
C12: m fuel | D12: =F35+F36 -> 146.26778 | E12: mass% CH3OH | G12: =F36/I11 -> 0.21905754
C13: stochiometric ratio | E13: =D11/D12 -> 13.149474
C14: equ ratio | D14: =1/(E13/D15) -> 1 | E14: LHV | F14: =H14/(F35+F36) -> 39.247194 | G14: Hnet | H14: =H16-H15 -> 5740.6
C15: fuel ratio | D15: =D11/D12 -> 13.149474 | E15: HHV | F15: =((F9*H38)+(F8*G37))/(F35+F36) -> 45.705896 | G15: H needed | H15: =G35+G36 -> 460.7
G16: H released | H16: =(F8*G37)+(G38*F9) -> 6201.3
C17: O2 | D17: =1-D18 -> 0.21 | E17: Atmospheric Composition Ratio:
C18: N2 | D18: 0.79 | G18: =D18/D17 -> 3.7619048
C20: ϕ | D20: 1
C21: η | D21: 0.4
C22: CC | D22: 1600
C23: # cyl | D23: 4
C24: cc/cyl | D24: =D22/D23 -> 400
C25: clearance | D25: =D24*0.1 -> 40
C26: rpm | D26: 1800
C27: T [K] | D27: =20+273 -> 293
C28: R | D28: 8314
C29: n [mol] | D29: =(10^5*(D24*D21*10^-6))/(D28*D27) -> 6.5681391e-06
C30: α | D30: =D29/(D20+(I23*(1+J20))) -> 6.5681391e-06
C31: n [poly index]
D32: 1.17
C33: molecular weights:
F34: weight | G34: h
C35: C | D35: 12.0107 | E35: C8H18 | F35: =D35*8+(D36*18) -> 114.22672 | G35: 259.2
C36: H | D36: 1.00784 | E36: CH3OH | F36: =D35+(D36*4)+D37 -> 32.04106 | G36: 201.5
C37: O | D37: 15.999 | E37: CO2 | G37: 393.5
C38: N | D38: 14.0067 | E38: H2O | G38: 241.8 | H38: 285.8
G39: gas | H39: liquid

Sheet task2
S1: enthalpy of formation
M2: ϕ | N2: α | O2: [O2] | P2: [N2] | Q2: enthalpy | R2: flame T | S2: h reactors | T2: h released | U2: h NET
M3: =B9 -> 1 | N3: =B21 -> 1.0852157e-07 | O3: =(G17*B21)/(B15*10^-6) -> 0 | P3: =(G16*B21)/(B15*10^-6) -> 0.12757745 | Q3: =(8*B9*E30)+(9*B9*E31)+(G13*(1-B9)*E32)+(47*E33) -> 4937.7992 | R3: =F27 -> 2351.5288 | S3: =(B9*AR5) -> 259.2 | T3: =((AR6*G14)+(G15*AR7)) -> 5324.2 | U3: =((AR6*G14)+(G15*AR7))-(B9*AR5) -> 5065
S4: enthalpy of formation | AR4: h [kj/mol] | AS4: ϕ
M5: ϕ | N5: α | O5: [O2] | P5: [N2] | Q5: enthalpy | R5: flame T | S5: h reactors | T5: h released | U5: h NET | V5: CO2 [n1] | W5: H2O [n2] | X5: O2 [n3] | Y5: N2 [n4] | Z5: Nox (PPM) | AA5: CO2 % | AB5: Temperature % | AC5: T % ref | AQ5: C8H18 | AR5: 259.2 | AS5: 1
D6: stochiometric equation: | M6: 1 | N6: 1.0852157e-07 | O6: 0 | P6: 0.12757745 | Q6: 5065 | R6: 2398.8488 | S6: 259.2 | T6: 5324.2 | U6: 5065 | V6: 8 | W6: 9 | X6: 0 | Y6: 47.02381 | Z6: =(SUM(N22:N37)/(N6*(V6+W6+X6+Y6)))*10^6 -> 0 | AQ6: CO2 | AR6: 393.5 | AS6: 0.99
D7: C8H18 + x (O2 + 3.76 N2)→ 8 CO2 + 9 H2O + 47 N2 | M7: 0.99 | N7: 1.0853951e-07 | O7: 0.00033918596 | P7: 0.12759853 | Q7: 5014.4 | R7: 2383.1578 | S7: 256.608 | T7: 5270.958 | U7: 5014.35 | V7: 7.92 | W7: 8.91 | X7: 0.125 | Y7: 47.02381 | Z7: =(SUM(P22:P37)/(N7*(V7+W7+X7+Y7)))*10^6 -> 20281.801 | AA7: =1-((V7/V6)*1) -> 0.01 | AB7: =(R6-R7)/R6 -> 0.0065410892 | AC7: =($R$6-R7)/$R$6 -> 0.0065410892 | AQ7: H2O g | AR7: 241.8 | AS7: 0.98
D8: O2 | E8: 0.21 | F8: Atmospheric Composition Ratio: | M8: 0.98 | N8: 1.0855745e-07 | O8: 0.00067848404 | P8: 0.12761962 | Q8: 4963.7 | R8: 2367.3664 | S8: 254.016 | T8: 5217.716 | U8: 4963.7 | V8: 7.84 | W8: 8.82 | X8: 0.25 | Y8: 47.02381 | Z8: =(SUM(R$22:R$37)/(N8*(V8+W8+X8+Y8)))*10^6 -> 24468.036 | AA8: =1-((V8/V7)*1) -> 0.01010101 | AB8: =(R7-R8)/R7 -> 0.0066262199 | AC8: =($R$6-R8)/$R$6 -> 0.013123966 | AQ8: H2O l | AR8: 285.8 | AS8: 0.97
A9: ϕ | B9: 1 | D9: N2 | E9: =1-E8 -> 0.79 | H9: =E9/E8 -> 3.7619048 | M9: 0.97 | N9: 1.0857539e-07 | O9: 0.0010178943 | P9: 0.12764071 | Q9: 4913 | R9: 2351.5101 | S9: 251.424 | T9: 5164.474 | U9: 4913.05 | V9: 7.76 | W9: 8.73 | X9: 0.375 | Y9: 47.02381 | Z9: =(SUM(T$22:T$37)/(N9*(V9+W9+X9+Y9)))*10^6 -> 25492.388 | AA9: =1-((V9/V8)*1) -> 0.010204082 | AB9: =(R8-R9)/R8 -> 0.0066978931 | AC9: =($R$6-R9)/$R$6 -> 0.019733957 | AS9: 0.96
A10: η | B10: 0.4 | D10: HC fuel balance: | F10: CxHy + a (O2 + ACR N2) → x CO2 + (y/2) H2O + ACR An2 + x(1-ϕ)O2 | M10: 0.96 | N10: 1.0859334e-07 | O10: 0.0013574168 | P10: 0.12766182 | Q10: 4862.4 | R10: 2335.6242 | S10: 248.832 | T10: 5111.232 | U10: 4862.4 | V10: 7.68 | W10: 8.64 | X10: 0.5 | Y10: 47.02381 | Z10: =(SUM(V$22:V$37)/(N10*(V10+W10+X10+Y10)))*10^6 -> 24978.407 | AA10: =1-((V10/V9)*1) -> 0.010309278 | AB10: =(R9-R10)/R9 -> 0.0067556177 | AC10: =($R$6-R10)/$R$6 -> 0.026356259 | AS10: 0.95
F11: where: | G11: a=x+(y/4) | M11: 0.95 | N11: 1.086113e-07 | O11: 0.0016970516 | P11: 0.12768293 | Q11: 4811.8 | R11: 2319.6693 | S11: 246.24 | T11: 5057.99 | U11: 4811.75 | V11: 7.6 | W11: 8.55 | X11: 0.625 | Y11: 47.02381 | Z11: =(SUM(X$22:X$37)/(N11*(V11+W11+X11+Y11)))*10^6 -> 23627.495 | AA11: =1-((V11/V10)*1) -> 0.010416667 | AB11: =(R10-R11)/R10 -> 0.0068310681 | AC11: =($R$6-R11)/$R$6 -> 0.033007286 | AS11: 0.9
A12: CC | B12: 1600 | F12: BALANCING FACTORS | M12: 0.9 | N12: 1.0870118e-07 | O12: 0.0033969117 | P12: 0.12778858 | Q12: 4558.5005 | R12: 2238.6757 | S12: 233.28 | T12: 4791.78 | U12: 4558.5 | V12: 7.2 | W12: 8.1 | X12: 1.25 | Y12: 47.02381 | Z12: =(SUM(Z$22:Z$37)/(N12*(V12+W12+X12+Y12)))*10^6 -> 13788.073 | AA12: =1-((V12/V11)*1) -> 0.052631579 | AB12: =(R11-R12)/R11 -> 0.034916014 | AC12: =($R$6-R12)/$R$6 -> 0.066770817 | AS12: 0.85
A13: # cyl | B13: 4 | D13: carbon (x) | E13: =8*B9 -> 8 | F13: a | G13: 12.5 | I13: T: | J13: 2950 | M13: 0.85 | N13: 1.087912e-07 | O13: 0.0050995874 | P13: 0.12789442 | Q13: 4305.3 | R13: 2155.6846 | S13: 220.32 | T13: 4525.57 | U13: 4305.25 | V13: 6.8 | W13: 7.65 | X13: 1.875 | Y13: 47.02381 | Z13: =(SUM(AB$22:AB$37)/(N13*(V13+W13+X13+Y13)))*10^6 -> 6365.8984 | AA13: =1-((V13/V12)*1) -> 0.055555556 | AB13: =(R12-R13)/R12 -> 0.037071518 | AC13: =($R$6-R13)/$R$6 -> 0.10136704 | AS13: 0.8
A14: cc/cyl | B14: =B12/B13 -> 400 | D14: hydrogen (y) | E14: =18*B9 -> 18 | F14: CO2 | G14: =8*B9 -> 8 | H14: n1 | I14: h: | J14: =VLOOKUP(J13,tables!B19:D87,3,FALSE) -> 149.78 | M14: 0.8 | N14: 1.0888137e-07 | O14: 0.0068050857 | P14: 0.12800042 | Q14: 4052 | R14: 2070.3634 | S14: 207.36 | T14: 4259.36 | U14: 4052 | V14: 6.4 | W14: 7.2 | X14: 2.5 | Y14: 47.02381 | Z14: =(SUM(AD$22:AD$37)/(N14*(V14+W14+X14+Y14)))*10^6 -> 2486.3389 | AA14: =1-((V14/V13)*1) -> 0.058823529 | AB14: =(R13-R14)/R13 -> 0.039579636 | AC14: =($R$6-R14)/$R$6 -> 0.13693461 | AS14: 0.75
A15: clearance | B15: =B14*0.1 -> 40 | F15: H2O | G15: =9*B9 -> 9 | H15: n2 | I15: h: | J15: =VLOOKUP(J13,tables!I19:K87,3,FALSE) -> 123.77 | M15: 0.75 | N15: 1.0897169e-07 | O15: 0.0085134136 | P15: 0.1281066 | Q15: 2940.4 | R15: 1628.7846 | S15: 194.4 | T15: 3134.76 | U15: 2940.36 | V15: 6 | W15: 6.75 | X15: 3.125 | Y15: 47.02381 | Z15: =(SUM(AF$22:AF$37)/(N15*(V15+W15+X15+Y15)))*10^6 -> 1.6566161 | AA15: =1-((V15/V14)*1) -> 0.0625 | AB15: =(R14-R15)/R14 -> 0.21328567 | AC15: =($R$6-R15)/$R$6 -> 0.32101408 | AS15: 0.7
A16: rpm | B16: 1800 | F16: N2 | G16: =H9*G13 -> 47.02381 | H16: n4 | I16: h: | J16: =VLOOKUP(J13,tables!W19:Y87,3,FALSE) -> 90.88 | M16: 0.7 | N16: 1.0906217e-07 | O16: 0.010224578 | P16: 0.12821296 | Q16: 2795.9002 | R16: 1577.4974 | S16: 181.44 | T16: 2977.36 | U16: 2795.92 | V16: 5.6 | W16: 6.3 | X16: 3.75 | Y16: 47.02381 | Z16: =(SUM(AH$22:AH$37)/(N16*(V16+W16+X16+Y16)))*10^6 -> 0.58885917 | AA16: =1-((V16/V15)*1) -> 0.066666667 | AB16: =(R15-R16)/R15 -> 0.031488003 | AC16: =($R$6-R16)/$R$6 -> 0.34239399 | AS16: 0.65
A17: T [K] | B17: =20+273 -> 293 | F17: O2 | G17: =G13*(1-B9) -> 0 | H17: n3 | M17: 0.65 | N17: 1.0915279e-07 | O17: 0.011938586 | P17: 0.1283195 | Q17: 2651.5001 | R17: 1525.0997 | S17: 168.48 | T17: 2819.96 | U17: 2651.48 | V17: 5.2 | W17: 5.85 | X17: 4.375 | Y17: 47.02381 | Z17: =(SUM(AJ$22:AJ$37)/(N17*(V17+W17+X17+Y17)))*10^6 -> 0.18634907 | AA17: =1-((V17/V16)*1) -> 0.071428571 | AB17: =(R16-R17)/R16 -> 0.033215727 | AC17: =($R$6-R17)/$R$6 -> 0.36423686 | AS17: 0.6
A18: R | B18: 8314 | D18: m air | E18: =G13*((2*B28)+(H9*2*B29)) -> 1717.2718 | M18: 0.6 | N18: 1.0924356e-07 | O18: 0.013655445 | P18: 0.12842621 | Q18: 2507.0001 | R18: 1471.5266 | S18: 155.52 | T18: 2662.56 | U18: 2507.04 | V18: 4.8 | W18: 5.4 | X18: 5 | Y18: 47.02381 | Z18: =(SUM(AL$22:AL$37)/(N18*(V18+W18+X18+Y18)))*10^6 -> 0.051899497 | AA18: =1-((V18/V17)*1) -> 0.076923077 | AB18: =(R17-R18)/R17 -> 0.035127622 | AC18: =($R$6-R18)/$R$6 -> 0.3865697
A19: n [poly index] | B19: 1.17 | D19: m fuel | E19: =(B26*E13)+(B27*E14) -> 114.22672
A20: n [mol] | B20: =(10^5*(B14*B10*10^-6))/(B18*B17) -> 6.5681391e-06 | D20: stochiometric ratio | F20: =E18/E19 -> 15.033889 | L20: ϕ | M20: 1 | O20: 0.99 | Q20: 0.98 | S20: 0.97 | U20: 0.96 | W20: 0.95 | Y20: 0.9 | AA20: 0.85 | AC20: 0.8 | AE20: 0.75 | AG20: 0.7 | AI20: 0.65 | AK20: 0.6
A21: α | B21: =B20/(B9+(G13*(1+H9))) -> 1.0852157e-07 | K21: DEGREES | L21: P [BAR] | M21: temp | N21: Nox | O21: temp | P21: Nox | Q21: temp | R21: Nox | S21: temp | T21: Nox | U21: temp | V21: Nox | W21: temp | X21: Nox | Y21: temp | Z21: Nox | AA21: temp | AB21: Nox | AC21: temp | AD21: Nox | AE21: temp | AF21: Nox | AG21: temp | AH21: Nox | AI21: temp | AJ21: Nox | AK21: temp | AL21: Nox
D22: equ ratio | E22: =1/(F20/E23) -> 1 | K22: 1 | L22: 10 | M22: =R6 -> 2398.8488 | N22: =(((4.17*10^13)*(($P$6*($O$6)^0.5))*((EXP(-67837/M22))))/($B$16*6))*($B$10/10)*(10^-6) -> 0 | O22: =R7 -> 2383.1578 | P22: =(((4.17*10^13)*(($P$7*($O$7)^0.5))*((EXP(-67837/O22))))/($B$16*6))*($B$15)*(10^-6) -> 1.5760461e-10 | Q22: =R8 -> 2367.3664 | R22: =(((4.17*10^13)*(($P$8*($O$8)^0.5))*((EXP(-67837/Q22))))/($B$16*6))*($B$15)*(10^-6) -> 1.843869e-10 | S22: =R9 -> 2351.5101 | T22: =(((4.17*10^13)*(($P$9*($O$9)^0.5))*((EXP(-67837/S22))))/($B$16*6))*($B$15)*(10^-6) -> 1.8619493e-10 | U22: =R10 -> 2335.6242 | V22: =(((4.17*10^13)*(($P$10*($O$10)^0.5))*((EXP(-67837/U22))))/($B$16*6))*($B$15)*(10^-6) -> 1.7673823e-10 | W22: =R11 -> 2319.6693 | X22: =(((4.17*10^13)*(($P$11*($O$11)^0.5))*((EXP(-67837/W22))))/($B$16*6))*($B$15)*(10^-6) -> 1.618581e-10 | Y22: =R12 -> 2238.6757 | Z22: =(((4.17*10^13)*(($P$12*($O$12)^0.5))*((EXP(-67837/Y22))))/($B$16*6))*($B$15)*(10^-6) -> 7.9559021e-11 | AA22: =R13 -> 2155.6846 | AB22: =(((4.17*10^13)*(($P$13*($O$13)^0.5))*((EXP(-67837/AA22))))/($B$16*6))*($B$15)*(10^-6) -> 3.0382719e-11 | AC22: =R14 -> 2070.3634 | AD22: =(((4.17*10^13)*(($P$14*($O$14)^0.5))*((EXP(-67837/AC22))))/($B$16*6))*($B$15)*(10^-6) -> 9.6032495e-12 | AE22: =R15 -> 1628.7846 | AF22: =(((4.17*10^13)*(($P$15*($O$15)^0.5))*((EXP(-67837/AE22))))/($B$16*6))*($B$15)*(10^-6) -> 1.4911838e-15 | AG22: =R16 -> 1577.4974 | AH22: =(((4.17*10^13)*(($P$16*($O$16)^0.5))*((EXP(-67837/AG22))))/($B$16*6))*($B$15)*(10^-6) -> 4.2227425e-16 | AI22: =R17 -> 1525.0997 | AJ22: =(((4.17*10^13)*(($P$17*($O$17)^0.5))*((EXP(-67837/AI22))))/($B$16*6))*($B$15)*(10^-6) -> 1.0422253e-16 | AK22: =R18 -> 1471.5266 | AL22: =(((4.17*10^13)*(($P$18*($O$18)^0.5))*((EXP(-67837/AK22))))/($B$16*6))*($B$15)*(10^-6) -> 2.2090917e-17
D23: fuel ratio | E23: =E18/E19 -> 15.033889 | K23: 2 | L23: 12 | M23: =M22*(($L23/L22)^(($B$19-1)/$B$19)) -> 2463.2464 | N23: =(((4.17*10^13)*(($P$6*($O$6)^0.5))*((EXP(-67837/M23))))/($B$16*6))*($B$15)*(10^-6) -> 0 | O23: =O22*(($L23/$L22)^(($B$19-1)/$B$19)) -> 2447.134 | P23: =(((4.17*10^13)*(($P$7*($O$7)^0.5))*((EXP(-67837/O23))))/($B$16*6))*($B$15)*(10^-6) -> 3.3171114e-10 | Q23: =Q22*(($L23/$L22)^(($B$19-1)/$B$19)) -> 2430.9188 | R23: =(((4.17*10^13)*(($P$8*($O$8)^0.5))*((EXP(-67837/Q23))))/($B$16*6))*($B$15)*(10^-6) -> 3.9001115e-10 | S23: =S22*(($L23/$L22)^(($B$19-1)/$B$19)) -> 2414.6368 | T23: =(((4.17*10^13)*(($P$9*($O$9)^0.5))*((EXP(-67837/S23))))/($B$16*6))*($B$15)*(10^-6) -> 3.9582994e-10 | U23: =U22*(($L23/$L22)^(($B$19-1)/$B$19)) -> 2398.3244 | V23: =(((4.17*10^13)*(($P$10*($O$10)^0.5))*((EXP(-67837/U23))))/($B$16*6))*($B$15)*(10^-6) -> 3.7765834e-10 | W23: =W22*(($L23/$L22)^(($B$19-1)/$B$19)) -> 2381.9413 | X23: =(((4.17*10^13)*(($P$11*($O$11)^0.5))*((EXP(-67837/W23))))/($B$16*6))*($B$15)*(10^-6) -> 3.4767317e-10 | Y23: =Y22*(($L23/$L22)^(($B$19-1)/$B$19)) -> 2298.7734 | Z23: =(((4.17*10^13)*(($P$12*($O$12)^0.5))*((EXP(-67837/Y23))))/($B$16*6))*($B$15)*(10^-6) -> 1.7568676e-10 | AA23: =AA22*(($L23/$L22)^(($B$19-1)/$B$19)) -> 2213.5544 | AB23: =(((4.17*10^13)*(($P$13*($O$13)^0.5))*((EXP(-67837/AA23))))/($B$16*6))*($B$15)*(10^-6) -> 6.9170625e-11 | AC23: =AC22*(($L23/$L22)^(($B$19-1)/$B$19)) -> 2125.9427 | AD23: =(((4.17*10^13)*(($P$14*($O$14)^0.5))*((EXP(-67837/AC23))))/($B$16*6))*($B$15)*(10^-6) -> 2.2617139e-11 | AE23: =AE22*(($L23/$L22)^(($B$19-1)/$B$19)) -> 1672.5096 | AF23: =(((4.17*10^13)*(($P$15*($O$15)^0.5))*((EXP(-67837/AE23))))/($B$16*6))*($B$15)*(10^-6) -> 4.4300498e-15 | AG23: =AG22*(($L23/$L22)^(($B$19-1)/$B$19)) -> 1619.8456 | AH23: =(((4.17*10^13)*(($P$16*($O$16)^0.5))*((EXP(-67837/AG23))))/($B$16*6))*($B$15)*(10^-6) -> 1.2997089e-15 | AI23: =AI22*(($L23/$L22)^(($B$19-1)/$B$19)) -> 1566.0413 | AJ23: =(((4.17*10^13)*(($P$17*($O$17)^0.5))*((EXP(-67837/AI23))))/($B$16*6))*($B$15)*(10^-6) -> 3.3341715e-16 | AK23: =AK22*(($L23/$L22)^(($B$19-1)/$B$19)) -> 1511.0299 | AL23: =(((4.17*10^13)*(($P$18*($O$18)^0.5))*((EXP(-67837/AK23))))/($B$16*6))*($B$15)*(10^-6) -> 7.3726954e-17
A24: molecular weights: | K24: 3 | L24: 14 | M24: =M23*((L24/L23)^(($B$19-1)/$B$19)) -> 2519.0406 | N24: =(((4.17*10^13)*(($P$6*($O$6)^0.5))*((EXP(-67837/M24))))/($B$16*6))*($B$15)*(10^-6) -> 0 | O24: =O23*(($L24/$L23)^(($B$19-1)/$B$19)) -> 2502.5633 | P24: =(((4.17*10^13)*(($P$7*($O$7)^0.5))*((EXP(-67837/O24))))/($B$16*6))*($B$15)*(10^-6) -> 6.1293363e-10 | Q24: =Q23*(($L24/$L23)^(($B$19-1)/$B$19)) -> 2485.9808 | R24: =(((4.17*10^13)*(($P$8*($O$8)^0.5))*((EXP(-67837/Q24))))/($B$16*6))*($B$15)*(10^-6) -> 7.2361758e-10 | S24: =S23*(($L24/$L23)^(($B$19-1)/$B$19)) -> 2469.3299 | T24: =(((4.17*10^13)*(($P$9*($O$9)^0.5))*((EXP(-67837/S24))))/($B$16*6))*($B$15)*(10^-6) -> 7.374809e-10 | U24: =U23*(($L24/$L23)^(($B$19-1)/$B$19)) -> 2452.6481 | V24: =(((4.17*10^13)*(($P$10*($O$10)^0.5))*((EXP(-67837/U24))))/($B$16*6))*($B$15)*(10^-6) -> 7.066092e-10 | W24: =W23*(($L24/$L23)^(($B$19-1)/$B$19)) -> 2435.8939 | X24: =(((4.17*10^13)*(($P$11*($O$11)^0.5))*((EXP(-67837/W24))))/($B$16*6))*($B$15)*(10^-6) -> 6.5331521e-10 | Y24: =Y23*(($L24/$L23)^(($B$19-1)/$B$19)) -> 2350.8422 | Z24: =(((4.17*10^13)*(($P$12*($O$12)^0.5))*((EXP(-67837/Y24))))/($B$16*6))*($B$15)*(10^-6) -> 3.3775515e-10 | AA24: =AA23*(($L24/$L23)^(($B$19-1)/$B$19)) -> 2263.6929 | AB24: =(((4.17*10^13)*(($P$13*($O$13)^0.5))*((EXP(-67837/AA24))))/($B$16*6))*($B$15)*(10^-6) -> 1.3636817e-10 | AC24: =AC23*(($L24/$L23)^(($B$19-1)/$B$19)) -> 2174.0967 | AD24: =(((4.17*10^13)*(($P$14*($O$14)^0.5))*((EXP(-67837/AC24))))/($B$16*6))*($B$15)*(10^-6) -> 4.5854034e-11 | AE24: =AE23*(($L24/$L23)^(($B$19-1)/$B$19)) -> 1710.3931 | AF24: =(((4.17*10^13)*(($P$15*($O$15)^0.5))*((EXP(-67837/AE24))))/($B$16*6))*($B$15)*(10^-6) -> 1.0878344e-14 | AG24: =AG23*(($L24/$L23)^(($B$19-1)/$B$19)) -> 1656.5362 | AH24: =(((4.17*10^13)*(($P$16*($O$16)^0.5))*((EXP(-67837/AG24))))/($B$16*6))*($B$15)*(10^-6) -> 3.2861309e-15 | AI24: =AI23*(($L24/$L23)^(($B$19-1)/$B$19)) -> 1601.5131 | AJ24: =(((4.17*10^13)*(($P$17*($O$17)^0.5))*((EXP(-67837/AI24))))/($B$16*6))*($B$15)*(10^-6) -> 8.70296e-16 | AK24: =AK23*(($L24/$L23)^(($B$19-1)/$B$19)) -> 1545.2558 | AL24: =(((4.17*10^13)*(($P$18*($O$18)^0.5))*((EXP(-67837/AK24))))/($B$16*6))*($B$15)*(10^-6) -> 1.9928526e-16
A25: air | K25: 4 | L25: 16 | M25: =M24*((L25/L24)^(($B$19-1)/$B$19)) -> 2568.3922 | N25: =(((4.17*10^13)*(($P$6*($O$6)^0.5))*((EXP(-67837/M25))))/($B$16*6))*($B$15)*(10^-6) -> 0 | O25: =O24*(($L25/$L24)^(($B$19-1)/$B$19)) -> 2551.5921 | P25: =(((4.17*10^13)*(($P$7*($O$7)^0.5))*((EXP(-67837/O25))))/($B$16*6))*($B$15)*(10^-6) -> 1.0318592e-09 | Q25: =Q24*(($L25/$L24)^(($B$19-1)/$B$19)) -> 2534.6847 | R25: =(((4.17*10^13)*(($P$8*($O$8)^0.5))*((EXP(-67837/Q25))))/($B$16*6))*($B$15)*(10^-6) -> 1.2224328e-09 | S25: =S24*(($L25/$L24)^(($B$19-1)/$B$19)) -> 2517.7077 | T25: =(((4.17*10^13)*(($P$9*($O$9)^0.5))*((EXP(-67837/S25))))/($B$16*6))*($B$15)*(10^-6) -> 1.2502653e-09 | U25: =U24*(($L25/$L24)^(($B$19-1)/$B$19)) -> 2500.699 | V25: =(((4.17*10^13)*(($P$10*($O$10)^0.5))*((EXP(-67837/U25))))/($B$16*6))*($B$15)*(10^-6) -> 1.2022366e-09 | W25: =W24*(($L25/$L24)^(($B$19-1)/$B$19)) -> 2483.6165 | X25: =(((4.17*10^13)*(($P$11*($O$11)^0.5))*((EXP(-67837/W25))))/($B$16*6))*($B$15)*(10^-6) -> 1.115632e-09 | Y25: =Y24*(($L25/$L24)^(($B$19-1)/$B$19)) -> 2396.8985 | Z25: =(((4.17*10^13)*(($P$12*($O$12)^0.5))*((EXP(-67837/Y25))))/($B$16*6))*($B$15)*(10^-6) -> 5.8804174e-10 | AA25: =AA24*(($L25/$L24)^(($B$19-1)/$B$19)) -> 2308.0419 | AB25: =(((4.17*10^13)*(($P$13*($O$13)^0.5))*((EXP(-67837/AA25))))/($B$16*6))*($B$15)*(10^-6) -> 2.4254366e-10 | AC25: =AC24*(($L25/$L24)^(($B$19-1)/$B$19)) -> 2216.6904 | AD25: =(((4.17*10^13)*(($P$14*($O$14)^0.5))*((EXP(-67837/AC25))))/($B$16*6))*($B$15)*(10^-6) -> 8.3514198e-11 | AE25: =AE24*(($L25/$L24)^(($B$19-1)/$B$19)) -> 1743.9021 | AF25: =(((4.17*10^13)*(($P$15*($O$15)^0.5))*((EXP(-67837/AE25))))/($B$16*6))*($B$15)*(10^-6) -> 2.3309758e-14 | AG25: =AG24*(($L25/$L24)^(($B$19-1)/$B$19)) -> 1688.9901 | AH25: =(((4.17*10^13)*(($P$16*($O$16)^0.5))*((EXP(-67837/AG25))))/($B$16*6))*($B$15)*(10^-6) -> 7.218059e-15 | AI25: =AI24*(($L25/$L24)^(($B$19-1)/$B$19)) -> 1632.8891 | AJ25: =(((4.17*10^13)*(($P$17*($O$17)^0.5))*((EXP(-67837/AI25))))/($B$16*6))*($B$15)*(10^-6) -> 1.9640092e-15 | AK25: =AK24*(($L25/$L24)^(($B$19-1)/$B$19)) -> 1575.5296 | AL25: =(((4.17*10^13)*(($P$18*($O$18)^0.5))*((EXP(-67837/AK25))))/($B$16*6))*($B$15)*(10^-6) -> 4.6325547e-16
A26: carbon | B26: 12.0107 | K26: 5 | L26: 18 | M26: =M25*((L26/L25)^(($B$19-1)/$B$19)) -> 2612.7253 | N26: =(((4.17*10^13)*(($P$6*($O$6)^0.5))*((EXP(-67837/M26))))/($B$16*6))*($B$15)*(10^-6) -> 0 | O26: =O25*(($L26/$L25)^(($B$19-1)/$B$19)) -> 2595.6353 | P26: =(((4.17*10^13)*(($P$7*($O$7)^0.5))*((EXP(-67837/O26))))/($B$16*6))*($B$15)*(10^-6) -> 1.6200878e-09 | Q26: =Q25*(($L26/$L25)^(($B$19-1)/$B$19)) -> 2578.436 | R26: =(((4.17*10^13)*(($P$8*($O$8)^0.5))*((EXP(-67837/Q26))))/($B$16*6))*($B$15)*(10^-6) -> 1.9250853e-09 | S26: =S25*(($L26/$L25)^(($B$19-1)/$B$19)) -> 2561.1659 | T26: =(((4.17*10^13)*(($P$9*($O$9)^0.5))*((EXP(-67837/S26))))/($B$16*6))*($B$15)*(10^-6) -> 1.9749542e-09 | U26: =U25*(($L26/$L25)^(($B$19-1)/$B$19)) -> 2543.8637 | V26: =(((4.17*10^13)*(($P$10*($O$10)^0.5))*((EXP(-67837/U26))))/($B$16*6))*($B$15)*(10^-6) -> 1.9050014e-09 | W26: =W25*(($L26/$L25)^(($B$19-1)/$B$19)) -> 2526.4864 | X26: =(((4.17*10^13)*(($P$11*($O$11)^0.5))*((EXP(-67837/W26))))/($B$16*6))*($B$15)*(10^-6) -> 1.7733778e-09 | Y26: =Y25*(($L26/$L25)^(($B$19-1)/$B$19)) -> 2438.2715 | Z26: =(((4.17*10^13)*(($P$12*($O$12)^0.5))*((EXP(-67837/Y26))))/($B$16*6))*($B$15)*(10^-6) -> 9.5054053e-10 | AA26: =AA25*(($L26/$L25)^(($B$19-1)/$B$19)) -> 2347.8811 | AB26: =(((4.17*10^13)*(($P$13*($O$13)^0.5))*((EXP(-67837/AA26))))/($B$16*6))*($B$15)*(10^-6) -> 3.9937584e-10 | AC26: =AC25*(($L26/$L25)^(($B$19-1)/$B$19)) -> 2254.9528 | AD26: =(((4.17*10^13)*(($P$14*($O$14)^0.5))*((EXP(-67837/AC26))))/($B$16*6))*($B$15)*(10^-6) -> 1.4037123e-10 | AE26: =AE25*(($L26/$L25)^(($B$19-1)/$B$19)) -> 1774.0037 | AF26: =(((4.17*10^13)*(($P$15*($O$15)^0.5))*((EXP(-67837/AE26))))/($B$16*6))*($B$15)*(10^-6) -> 4.5101974e-14 | AG26: =AG25*(($L26/$L25)^(($B$19-1)/$B$19)) -> 1718.1439 | AH26: =(((4.17*10^13)*(($P$16*($O$16)^0.5))*((EXP(-67837/AG26))))/($B$16*6))*($B$15)*(10^-6) -> 1.4269145e-14 | AI26: =AI25*(($L26/$L25)^(($B$19-1)/$B$19)) -> 1661.0745 | AJ26: =(((4.17*10^13)*(($P$17*($O$17)^0.5))*((EXP(-67837/AI26))))/($B$16*6))*($B$15)*(10^-6) -> 3.9745679e-15 | AK26: =AK25*(($L26/$L25)^(($B$19-1)/$B$19)) -> 1602.7249 | AL26: =(((4.17*10^13)*(($P$18*($O$18)^0.5))*((EXP(-67837/AK26))))/($B$16*6))*($B$15)*(10^-6) -> 9.6186178e-16
A27: hydrogen | B27: 1.00784 | D27: temperature: | F27: 2351.5288 | K27: 6 | L27: 20 | M27: =M26*((L27/L26)^(($B$19-1)/$B$19)) -> 2653.0307 | N27: =(((4.17*10^13)*(($P$6*($O$6)^0.5))*((EXP(-67837/M27))))/($B$16*6))*($B$15)*(10^-6) -> 0 | O27: =O26*(($L27/$L26)^(($B$19-1)/$B$19)) -> 2635.677 | P27: =(((4.17*10^13)*(($P$7*($O$7)^0.5))*((EXP(-67837/O27))))/($B$16*6))*($B$15)*(10^-6) -> 2.4097649e-09 | Q27: =Q26*(($L27/$L26)^(($B$19-1)/$B$19)) -> 2618.2125 | R27: =(((4.17*10^13)*(($P$8*($O$8)^0.5))*((EXP(-67837/Q27))))/($B$16*6))*($B$15)*(10^-6) -> 2.8710205e-09 | S27: =S26*(($L27/$L26)^(($B$19-1)/$B$19)) -> 2600.676 | T27: =(((4.17*10^13)*(($P$9*($O$9)^0.5))*((EXP(-67837/S27))))/($B$16*6))*($B$15)*(10^-6) -> 2.9533428e-09 | U27: =U26*(($L27/$L26)^(($B$19-1)/$B$19)) -> 2583.1068 | V27: =(((4.17*10^13)*(($P$10*($O$10)^0.5))*((EXP(-67837/U27))))/($B$16*6))*($B$15)*(10^-6) -> 2.8565429e-09 | W27: =W26*(($L27/$L26)^(($B$19-1)/$B$19)) -> 2565.4614 | X27: =(((4.17*10^13)*(($P$11*($O$11)^0.5))*((EXP(-67837/W27))))/($B$16*6))*($B$15)*(10^-6) -> 2.6665939e-09 | Y27: =Y26*(($L27/$L26)^(($B$19-1)/$B$19)) -> 2475.8857 | Z27: =(((4.17*10^13)*(($P$12*($O$12)^0.5))*((EXP(-67837/Y27))))/($B$16*6))*($B$15)*(10^-6) -> 1.4505597e-09 | AA27: =AA26*(($L27/$L26)^(($B$19-1)/$B$19)) -> 2384.1009 | AB27: =(((4.17*10^13)*(($P$13*($O$13)^0.5))*((EXP(-67837/AA27))))/($B$16*6))*($B$15)*(10^-6) -> 6.1946073e-10 | AC27: =AC26*(($L27/$L26)^(($B$19-1)/$B$19)) -> 2289.739 | AD27: =(((4.17*10^13)*(($P$14*($O$14)^0.5))*((EXP(-67837/AC27))))/($B$16*6))*($B$15)*(10^-6) -> 2.2170024e-10 | AE27: =AE26*(($L27/$L26)^(($B$19-1)/$B$19)) -> 1801.3705 | AF27: =(((4.17*10^13)*(($P$15*($O$15)^0.5))*((EXP(-67837/AE27))))/($B$16*6))*($B$15)*(10^-6) -> 8.0629804e-14 | AG27: =AG26*(($L27/$L26)^(($B$19-1)/$B$19)) -> 1744.649 | AH27: =(((4.17*10^13)*(($P$16*($O$16)^0.5))*((EXP(-67837/AG27))))/($B$16*6))*($B$15)*(10^-6) -> 2.5995652e-14 | AI27: =AI26*(($L27/$L26)^(($B$19-1)/$B$19)) -> 1686.6992 | AJ27: =(((4.17*10^13)*(($P$17*($O$17)^0.5))*((EXP(-67837/AI27))))/($B$16*6))*($B$15)*(10^-6) -> 7.3916733e-15 | AK27: =AK26*(($L27/$L26)^(($B$19-1)/$B$19)) -> 1627.4494 | AL27: =(((4.17*10^13)*(($P$18*($O$18)^0.5))*((EXP(-67837/AK27))))/($B$16*6))*($B$15)*(10^-6) -> 1.8296808e-15
A28: oxygen | B28: 15.999 | K28: 7 | L28: 22 | M28: =M27*((L28/L27)^(($B$19-1)/$B$19)) -> 2690.0268 | N28: =(((4.17*10^13)*(($P$6*($O$6)^0.5))*((EXP(-67837/M28))))/($B$16*6))*($B$15)*(10^-6) -> 0 | O28: =O27*(($L28/$L27)^(($B$19-1)/$B$19)) -> 2672.4311 | P28: =(((4.17*10^13)*(($P$7*($O$7)^0.5))*((EXP(-67837/O28))))/($B$16*6))*($B$15)*(10^-6) -> 3.4332406e-09 | Q28: =Q27*(($L28/$L27)^(($B$19-1)/$B$19)) -> 2654.723 | R28: =(((4.17*10^13)*(($P$8*($O$8)^0.5))*((EXP(-67837/Q28))))/($B$16*6))*($B$15)*(10^-6) -> 4.1000703e-09 | S28: =S27*(($L28/$L27)^(($B$19-1)/$B$19)) -> 2636.9419 | T28: =(((4.17*10^13)*(($P$9*($O$9)^0.5))*((EXP(-67837/S28))))/($B$16*6))*($B$15)*(10^-6) -> 4.2277802e-09 | U28: =U27*(($L28/$L27)^(($B$19-1)/$B$19)) -> 2619.1277 | V28: =(((4.17*10^13)*(($P$10*($O$10)^0.5))*((EXP(-67837/U28))))/($B$16*6))*($B$15)*(10^-6) -> 4.0991986e-09 | W28: =W27*(($L28/$L27)^(($B$19-1)/$B$19)) -> 2601.2363 | X28: =(((4.17*10^13)*(($P$11*($O$11)^0.5))*((EXP(-67837/W28))))/($B$16*6))*($B$15)*(10^-6) -> 3.8361357e-09 | Y28: =Y27*(($L28/$L27)^(($B$19-1)/$B$19)) -> 2510.4115 | Z28: =(((4.17*10^13)*(($P$12*($O$12)^0.5))*((EXP(-67837/Y28))))/($B$16*6))*($B$15)*(10^-6) -> 2.114398e-09 | AA28: =AA27*(($L28/$L27)^(($B$19-1)/$B$19)) -> 2417.3467 | AB28: =(((4.17*10^13)*(($P$13*($O$13)^0.5))*((EXP(-67837/AA28))))/($B$16*6))*($B$15)*(10^-6) -> 9.1614722e-10 | AC28: =AC27*(($L28/$L27)^(($B$19-1)/$B$19)) -> 2321.669 | AD28: =(((4.17*10^13)*(($P$14*($O$14)^0.5))*((EXP(-67837/AC28))))/($B$16*6))*($B$15)*(10^-6) -> 3.3321265e-10 | AE28: =AE27*(($L28/$L27)^(($B$19-1)/$B$19)) -> 1826.4903 | AF28: =(((4.17*10^13)*(($P$15*($O$15)^0.5))*((EXP(-67837/AE28))))/($B$16*6))*($B$15)*(10^-6) -> 1.3533969e-13 | AG28: =AG27*(($L28/$L27)^(($B$19-1)/$B$19)) -> 1768.9778 | AH28: =(((4.17*10^13)*(($P$16*($O$16)^0.5))*((EXP(-67837/AG28))))/($B$16*6))*($B$15)*(10^-6) -> 4.4375487e-14 | AI28: =AI27*(($L28/$L27)^(($B$19-1)/$B$19)) -> 1710.2199 | AJ28: =(((4.17*10^13)*(($P$17*($O$17)^0.5))*((EXP(-67837/AI28))))/($B$16*6))*($B$15)*(10^-6) -> 1.2851811e-14 | AK28: =AK27*(($L28/$L27)^(($B$19-1)/$B$19)) -> 1650.1439 | AL28: =(((4.17*10^13)*(($P$18*($O$18)^0.5))*((EXP(-67837/AK28))))/($B$16*6))*($B$15)*(10^-6) -> 3.2459552e-15
A29: nitrogen | B29: 14.0067 | E29: Enthalpy | K29: 8 | L29: 24 | M29: =M28*((L29/L28)^(($B$19-1)/$B$19)) -> 2724.2518 | N29: =(((4.17*10^13)*(($P$6*($O$6)^0.5))*((EXP(-67837/M29))))/($B$16*6))*($B$15)*(10^-6) -> 0 | O29: =O28*(($L29/$L28)^(($B$19-1)/$B$19)) -> 2706.4323 | P29: =(((4.17*10^13)*(($P$7*($O$7)^0.5))*((EXP(-67837/O29))))/($B$16*6))*($B$15)*(10^-6) -> 4.7228208e-09 | Q29: =Q28*(($L29/$L28)^(($B$19-1)/$B$19)) -> 2688.4988 | R29: =(((4.17*10^13)*(($P$8*($O$8)^0.5))*((EXP(-67837/Q29))))/($B$16*6))*($B$15)*(10^-6) -> 5.652133e-09 | S29: =S28*(($L29/$L28)^(($B$19-1)/$B$19)) -> 2670.4916 | T29: =(((4.17*10^13)*(($P$9*($O$9)^0.5))*((EXP(-67837/S29))))/($B$16*6))*($B$15)*(10^-6) -> 5.8408169e-09 | U29: =U28*(($L29/$L28)^(($B$19-1)/$B$19)) -> 2652.4507 | V29: =(((4.17*10^13)*(($P$10*($O$10)^0.5))*((EXP(-67837/U29))))/($B$16*6))*($B$15)*(10^-6) -> 5.6756398e-09 | W29: =W28*(($L29/$L28)^(($B$19-1)/$B$19)) -> 2634.3317 | X29: =(((4.17*10^13)*(($P$11*($O$11)^0.5))*((EXP(-67837/W29))))/($B$16*6))*($B$15)*(10^-6) -> 5.3233107e-09 | Y29: =Y28*(($L29/$L28)^(($B$19-1)/$B$19)) -> 2542.3513 | Z29: =(((4.17*10^13)*(($P$12*($O$12)^0.5))*((EXP(-67837/Y29))))/($B$16*6))*($B$15)*(10^-6) -> 2.9690838e-09 | AA29: =AA28*(($L29/$L28)^(($B$19-1)/$B$19)) -> 2448.1025 | AB29: =(((4.17*10^13)*(($P$13*($O$13)^0.5))*((EXP(-67837/AA29))))/($B$16*6))*($B$15)*(10^-6) -> 1.3033981e-09 | AC29: =AC28*(($L29/$L28)^(($B$19-1)/$B$19)) -> 2351.2075 | AD29: =(((4.17*10^13)*(($P$14*($O$14)^0.5))*((EXP(-67837/AC29))))/($B$16*6))*($B$15)*(10^-6) -> 4.8099785e-10 | AE29: =AE28*(($L29/$L28)^(($B$19-1)/$B$19)) -> 1849.7286 | AF29: =(((4.17*10^13)*(($P$15*($O$15)^0.5))*((EXP(-67837/AE29))))/($B$16*6))*($B$15)*(10^-6) -> 2.15808e-13 | AG29: =AG28*(($L29/$L28)^(($B$19-1)/$B$19)) -> 1791.4844 | AH29: =(((4.17*10^13)*(($P$16*($O$16)^0.5))*((EXP(-67837/AG29))))/($B$16*6))*($B$15)*(10^-6) -> 7.1841228e-14 | AI29: =AI28*(($L29/$L28)^(($B$19-1)/$B$19)) -> 1731.9789 | AJ29: =(((4.17*10^13)*(($P$17*($O$17)^0.5))*((EXP(-67837/AI29))))/($B$16*6))*($B$15)*(10^-6) -> 2.1153559e-14 | AK29: =AK28*(($L29/$L28)^(($B$19-1)/$B$19)) -> 1671.1386 | AL29: =(((4.17*10^13)*(($P$18*($O$18)^0.5))*((EXP(-67837/AK29))))/($B$16*6))*($B$15)*(10^-6) -> 5.4405238e-15
D30: polyCo2: | E30: =8.6E-19*(F27^6) - 1.037488E-14*(F27^5) + 4.968947595E-11*(F27^4) - 0.0000001201911805397*(F27^3) + 0.000156509548934808*(F27^2) - 0.0482393620326645*F27 + 5.20845196264969 -> 113.14533 | K30: 9 | L30: 26 | M30: =M29*((L30/L29)^(($B$19-1)/$B$19)) -> 2756.1202 | N30: =(((4.17*10^13)*(($P$6*($O$6)^0.5))*((EXP(-67837/M30))))/($B$16*6))*($B$15)*(10^-6) -> 0 | O30: =O29*(($L30/$L29)^(($B$19-1)/$B$19)) -> 2738.0922 | P30: =(((4.17*10^13)*(($P$7*($O$7)^0.5))*((EXP(-67837/O30))))/($B$16*6))*($B$15)*(10^-6) -> 6.310584e-09 | Q30: =Q29*(($L30/$L29)^(($B$19-1)/$B$19)) -> 2719.949 | R30: =(((4.17*10^13)*(($P$8*($O$8)^0.5))*((EXP(-67837/Q30))))/($B$16*6))*($B$15)*(10^-6) -> 7.5669358e-09 | S30: =S29*(($L30/$L29)^(($B$19-1)/$B$19)) -> 2701.731 | T30: =(((4.17*10^13)*(($P$9*($O$9)^0.5))*((EXP(-67837/S30))))/($B$16*6))*($B$15)*(10^-6) -> 7.8349398e-09 | U30: =U29*(($L30/$L29)^(($B$19-1)/$B$19)) -> 2683.4792 | V30: =(((4.17*10^13)*(($P$10*($O$10)^0.5))*((EXP(-67837/U30))))/($B$16*6))*($B$15)*(10^-6) -> 7.6285943e-09 | W30: =W29*(($L30/$L29)^(($B$19-1)/$B$19)) -> 2665.1482 | X30: =(((4.17*10^13)*(($P$11*($O$11)^0.5))*((EXP(-67837/W30))))/($B$16*6))*($B$15)*(10^-6) -> 7.1695988e-09 | Y30: =Y29*(($L30/$L29)^(($B$19-1)/$B$19)) -> 2572.0918 | Z30: =(((4.17*10^13)*(($P$12*($O$12)^0.5))*((EXP(-67837/Y30))))/($B$16*6))*($B$15)*(10^-6) -> 4.0421641e-09 | AA30: =AA29*(($L30/$L29)^(($B$19-1)/$B$19)) -> 2476.7405 | AB30: =(((4.17*10^13)*(($P$13*($O$13)^0.5))*((EXP(-67837/AA30))))/($B$16*6))*($B$15)*(10^-6) -> 1.7956722e-09 | AC30: =AC29*(($L30/$L29)^(($B$19-1)/$B$19)) -> 2378.712 | AD30: =(((4.17*10^13)*(($P$14*($O$14)^0.5))*((EXP(-67837/AC30))))/($B$16*6))*($B$15)*(10^-6) -> 6.7147153e-10 | AE30: =AE29*(($L30/$L29)^(($B$19-1)/$B$19)) -> 1871.3668 | AF30: =(((4.17*10^13)*(($P$15*($O$15)^0.5))*((EXP(-67837/AE30))))/($B$16*6))*($B$15)*(10^-6) -> 3.2978549e-13 | AG30: =AG29*(($L30/$L29)^(($B$19-1)/$B$19)) -> 1812.4412 | AH30: =(((4.17*10^13)*(($P$16*($O$16)^0.5))*((EXP(-67837/AG30))))/($B$16*6))*($B$15)*(10^-6) -> 1.1130771e-13 | AI30: =AI29*(($L30/$L29)^(($B$19-1)/$B$19)) -> 1752.2396 | AJ30: =(((4.17*10^13)*(($P$17*($O$17)^0.5))*((EXP(-67837/AI30))))/($B$16*6))*($B$15)*(10^-6) -> 3.3271162e-14 | AK30: =AK29*(($L30/$L29)^(($B$19-1)/$B$19)) -> 1690.6876 | AL30: =(((4.17*10^13)*(($P$18*($O$18)^0.5))*((EXP(-67837/AK30))))/($B$16*6))*($B$15)*(10^-6) -> 8.6993305e-15
D31: polyH2O | E31: =6.7E-19*(F27^6) - 7.89843E-15*(F27^5) + 3.687984988E-11*(F27^4) - 8.638622855912E-08*(F27^3) + 0.000110740178605573*(F27^2) - 0.031241611607915*F27 + 3.30066945333761 -> 91.945618 | K31: 10 | L31: 28 | M31: =M30*((L31/L30)^(($B$19-1)/$B$19)) -> 2785.958 | N31: =(((4.17*10^13)*(($P$6*($O$6)^0.5))*((EXP(-67837/M31))))/($B$16*6))*($B$15)*(10^-6) -> 0 | O31: =O30*(($L31/$L30)^(($B$19-1)/$B$19)) -> 2767.7348 | P31: =(((4.17*10^13)*(($P$7*($O$7)^0.5))*((EXP(-67837/O31))))/($B$16*6))*($B$15)*(10^-6) -> 8.2282466e-09 | Q31: =Q30*(($L31/$L30)^(($B$19-1)/$B$19)) -> 2749.3952 | R31: =(((4.17*10^13)*(($P$8*($O$8)^0.5))*((EXP(-67837/Q31))))/($B$16*6))*($B$15)*(10^-6) -> 9.8838576e-09 | S31: =S30*(($L31/$L30)^(($B$19-1)/$B$19)) -> 2730.98 | T31: =(((4.17*10^13)*(($P$9*($O$9)^0.5))*((EXP(-67837/S31))))/($B$16*6))*($B$15)*(10^-6) -> 1.0252371e-08 | U31: =U30*(($L31/$L30)^(($B$19-1)/$B$19)) -> 2712.5305 | V31: =(((4.17*10^13)*(($P$10*($O$10)^0.5))*((EXP(-67837/U31))))/($B$16*6))*($B$15)*(10^-6) -> 1.0000634e-08 | W31: =W30*(($L31/$L30)^(($B$19-1)/$B$19)) -> 2694.0011 | X31: =(((4.17*10^13)*(($P$11*($O$11)^0.5))*((EXP(-67837/W31))))/($B$16*6))*($B$15)*(10^-6) -> 9.4164371e-09 | Y31: =Y30*(($L31/$L30)^(($B$19-1)/$B$19)) -> 2599.9373 | Z31: =(((4.17*10^13)*(($P$12*($O$12)^0.5))*((EXP(-67837/Y31))))/($B$16*6))*($B$15)*(10^-6) -> 5.3615335e-09 | AA31: =AA30*(($L31/$L30)^(($B$19-1)/$B$19)) -> 2503.5537 | AB31: =(((4.17*10^13)*(($P$13*($O$13)^0.5))*((EXP(-67837/AA31))))/($B$16*6))*($B$15)*(10^-6) -> 2.4078253e-09 | AC31: =AC30*(($L31/$L30)^(($B$19-1)/$B$19)) -> 2404.4639 | AD31: =(((4.17*10^13)*(($P$14*($O$14)^0.5))*((EXP(-67837/AC31))))/($B$16*6))*($B$15)*(10^-6) -> 9.1133003e-10 | AE31: =AE30*(($L31/$L30)^(($B$19-1)/$B$19)) -> 1891.6262 | AF31: =(((4.17*10^13)*(($P$15*($O$15)^0.5))*((EXP(-67837/AE31))))/($B$16*6))*($B$15)*(10^-6) -> 4.8623002e-13 | AG31: =AG30*(($L31/$L30)^(($B$19-1)/$B$19)) -> 1832.0627 | AH31: =(((4.17*10^13)*(($P$16*($O$16)^0.5))*((EXP(-67837/AG31))))/($B$16*6))*($B$15)*(10^-6) -> 1.6619474e-13 | AI31: =AI30*(($L31/$L30)^(($B$19-1)/$B$19)) -> 1771.2094 | AJ31: =(((4.17*10^13)*(($P$17*($O$17)^0.5))*((EXP(-67837/AI31))))/($B$16*6))*($B$15)*(10^-6) -> 5.0366442e-14 | AK31: =AK30*(($L31/$L30)^(($B$19-1)/$B$19)) -> 1708.991 | AL31: =(((4.17*10^13)*(($P$18*($O$18)^0.5))*((EXP(-67837/AK31))))/($B$16*6))*($B$15)*(10^-6) -> 1.3369494e-14
D32: polyO2 | E32: =6.5E-19*(F27^6) - 7.82245E-15*(F27^5) + 0.0000000000371204177*(F27^4) - 8.798317617007E-08*(F27^3) + 0.000109823272345614*(F27^2) - 0.0326064446414848*F27 + 3.57864890028521 -> 72.616009 | K32: 11 | L32: 30 | M32: =M31*((L32/L31)^(($B$19-1)/$B$19)) -> 2814.0266 | N32: =(((4.17*10^13)*(($P$6*($O$6)^0.5))*((EXP(-67837/M32))))/($B$16*6))*($B$15)*(10^-6) -> 0 | O32: =O31*(($L32/$L31)^(($B$19-1)/$B$19)) -> 2795.6198 | P32: =(((4.17*10^13)*(($P$7*($O$7)^0.5))*((EXP(-67837/O32))))/($B$16*6))*($B$15)*(10^-6) -> 1.0507066e-08 | Q32: =Q31*(($L32/$L31)^(($B$19-1)/$B$19)) -> 2777.0954 | R32: =(((4.17*10^13)*(($P$8*($O$8)^0.5))*((EXP(-67837/Q32))))/($B$16*6))*($B$15)*(10^-6) -> 1.2641798e-08 | S32: =S31*(($L32/$L31)^(($B$19-1)/$B$19)) -> 2758.4947 | T32: =(((4.17*10^13)*(($P$9*($O$9)^0.5))*((EXP(-67837/S32))))/($B$16*6))*($B$15)*(10^-6) -> 1.3134919e-08 | U32: =U31*(($L32/$L31)^(($B$19-1)/$B$19)) -> 2739.8593 | V32: =(((4.17*10^13)*(($P$10*($O$10)^0.5))*((EXP(-67837/U32))))/($B$16*6))*($B$15)*(10^-6) -> 1.2834013e-08 | W32: =W31*(($L32/$L31)^(($B$19-1)/$B$19)) -> 2721.1432 | X32: =(((4.17*10^13)*(($P$11*($O$11)^0.5))*((EXP(-67837/W32))))/($B$16*6))*($B$15)*(10^-6) -> 1.2105053e-08 | Y32: =Y31*(($L32/$L31)^(($B$19-1)/$B$19)) -> 2626.1317 | Z32: =(((4.17*10^13)*(($P$12*($O$12)^0.5))*((EXP(-67837/Y32))))/($B$16*6))*($B$15)*(10^-6) -> 6.9552948e-09 | AA32: =AA31*(($L32/$L31)^(($B$19-1)/$B$19)) -> 2528.777 | AB32: =(((4.17*10^13)*(($P$13*($O$13)^0.5))*((EXP(-67837/AA32))))/($B$16*6))*($B$15)*(10^-6) -> 3.1550255e-09 | AC32: =AC31*(($L32/$L31)^(($B$19-1)/$B$19)) -> 2428.6889 | AD32: =(((4.17*10^13)*(($P$14*($O$14)^0.5))*((EXP(-67837/AC32))))/($B$16*6))*($B$15)*(10^-6) -> 1.2075102e-09 | AE32: =AE31*(($L32/$L31)^(($B$19-1)/$B$19)) -> 1910.6844 | AF32: =(((4.17*10^13)*(($P$15*($O$15)^0.5))*((EXP(-67837/AE32))))/($B$16*6))*($B$15)*(10^-6) -> 6.9532936e-13 | AG32: =AG31*(($L32/$L31)^(($B$19-1)/$B$19)) -> 1850.5208 | AH32: =(((4.17*10^13)*(($P$16*($O$16)^0.5))*((EXP(-67837/AG32))))/($B$16*6))*($B$15)*(10^-6) -> 2.4044555e-13 | AI32: =AI31*(($L32/$L31)^(($B$19-1)/$B$19)) -> 1789.0544 | AJ32: =(((4.17*10^13)*(($P$17*($O$17)^0.5))*((EXP(-67837/AI32))))/($B$16*6))*($B$15)*(10^-6) -> 7.3799184e-14 | AK32: =AK31*(($L32/$L31)^(($B$19-1)/$B$19)) -> 1726.2092 | AL32: =(((4.17*10^13)*(($P$18*($O$18)^0.5))*((EXP(-67837/AK32))))/($B$16*6))*($B$15)*(10^-6) -> 1.9863943e-14
D33: polyN2 | E33: =5.9E-19*(F27^6) - 7.10207E-15*(F27^5) + 3.346089681E-11*(F27^4) - 7.890960163412E-08*(F27^3) + 0.000098599769211504*(F27^2) - 0.028172899155961*F27 + 3.05378907997741 -> 68.19417 | K33: 12 | L33: 32 | M33: =M32*((L33/L32)^(($B$19-1)/$B$19)) -> 2840.5389 | N33: =(((4.17*10^13)*(($P$6*($O$6)^0.5))*((EXP(-67837/M33))))/($B$16*6))*($B$15)*(10^-6) -> 0 | O33: =O32*(($L33/$L32)^(($B$19-1)/$B$19)) -> 2821.9587 | P33: =(((4.17*10^13)*(($P$7*($O$7)^0.5))*((EXP(-67837/O33))))/($B$16*6))*($B$15)*(10^-6) -> 1.3177767e-08 | Q33: =Q32*(($L33/$L32)^(($B$19-1)/$B$19)) -> 2803.2598 | R33: =(((4.17*10^13)*(($P$8*($O$8)^0.5))*((EXP(-67837/Q33))))/($B$16*6))*($B$15)*(10^-6) -> 1.587908e-08 | S33: =S32*(($L33/$L32)^(($B$19-1)/$B$19)) -> 2784.4838 | T33: =(((4.17*10^13)*(($P$9*($O$9)^0.5))*((EXP(-67837/S33))))/($B$16*6))*($B$15)*(10^-6) -> 1.6523863e-08 | U33: =U32*(($L33/$L32)^(($B$19-1)/$B$19)) -> 2765.6729 | V33: =(((4.17*10^13)*(($P$10*($O$10)^0.5))*((EXP(-67837/U33))))/($B$16*6))*($B$15)*(10^-6) -> 1.6170545e-08 | W33: =W32*(($L33/$L32)^(($B$19-1)/$B$19)) -> 2746.7804 | X33: =(((4.17*10^13)*(($P$11*($O$11)^0.5))*((EXP(-67837/W33))))/($B$16*6))*($B$15)*(10^-6) -> 1.5276335e-08 | Y33: =Y32*(($L33/$L32)^(($B$19-1)/$B$19)) -> 2650.8738 | Z33: =(((4.17*10^13)*(($P$12*($O$12)^0.5))*((EXP(-67837/Y33))))/($B$16*6))*($B$15)*(10^-6) -> 8.8516456e-09 | AA33: =AA32*(($L33/$L32)^(($B$19-1)/$B$19)) -> 2552.6019 | AB33: =(((4.17*10^13)*(($P$13*($O$13)^0.5))*((EXP(-67837/AA33))))/($B$16*6))*($B$15)*(10^-6) -> 4.0526816e-09 | AC33: =AC32*(($L33/$L32)^(($B$19-1)/$B$19)) -> 2451.5708 | AD33: =(((4.17*10^13)*(($P$14*($O$14)^0.5))*((EXP(-67837/AC33))))/($B$16*6))*($B$15)*(10^-6) -> 1.567154e-09 | AE33: =AE32*(($L33/$L32)^(($B$19-1)/$B$19)) -> 1928.6859 | AF33: =(((4.17*10^13)*(($P$15*($O$15)^0.5))*((EXP(-67837/AE33))))/($B$16*6))*($B$15)*(10^-6) -> 9.685157e-13 | AG33: =AG32*(($L33/$L32)^(($B$19-1)/$B$19)) -> 1867.9554 | AH33: =(((4.17*10^13)*(($P$16*($O$16)^0.5))*((EXP(-67837/AG33))))/($B$16*6))*($B$15)*(10^-6) -> 3.3854141e-13 | AI33: =AI32*(($L33/$L32)^(($B$19-1)/$B$19)) -> 1805.9099 | AJ33: =(((4.17*10^13)*(($P$17*($O$17)^0.5))*((EXP(-67837/AI33))))/($B$16*6))*($B$15)*(10^-6) -> 1.0513611e-13 | AK33: =AK32*(($L33/$L32)^(($B$19-1)/$B$19)) -> 1742.4726 | AL33: =(((4.17*10^13)*(($P$18*($O$18)^0.5))*((EXP(-67837/AK33))))/($B$16*6))*($B$15)*(10^-6) -> 2.866563e-14
D34: (8*ϕ*(polyCO2))+(9*ϕ*polyH2O)+(x*(1-ϕ)*polyO2)+(47*polyN2) | K34: 13 | L34: 34 | M34: =M33*((L34/L33)^(($B$19-1)/$B$19)) -> 2865.6709 | N34: =(((4.17*10^13)*(($P$6*($O$6)^0.5))*((EXP(-67837/M34))))/($B$16*6))*($B$15)*(10^-6) -> 0 | O34: =O33*(($L34/$L33)^(($B$19-1)/$B$19)) -> 2846.9263 | P34: =(((4.17*10^13)*(($P$7*($O$7)^0.5))*((EXP(-67837/O34))))/($B$16*6))*($B$15)*(10^-6) -> 1.6270497e-08 | Q34: =Q33*(($L34/$L33)^(($B$19-1)/$B$19)) -> 2828.0619 | R34: =(((4.17*10^13)*(($P$8*($O$8)^0.5))*((EXP(-67837/Q34))))/($B$16*6))*($B$15)*(10^-6) -> 1.963338e-08 | S34: =S33*(($L34/$L33)^(($B$19-1)/$B$19)) -> 2809.1199 | T34: =(((4.17*10^13)*(($P$9*($O$9)^0.5))*((EXP(-67837/S34))))/($B$16*6))*($B$15)*(10^-6) -> 2.0459868e-08 | U34: =U33*(($L34/$L33)^(($B$19-1)/$B$19)) -> 2790.1425 | V34: =(((4.17*10^13)*(($P$10*($O$10)^0.5))*((EXP(-67837/U34))))/($B$16*6))*($B$15)*(10^-6) -> 2.0051507e-08 | W34: =W33*(($L34/$L33)^(($B$19-1)/$B$19)) -> 2771.0829 | X34: =(((4.17*10^13)*(($P$11*($O$11)^0.5))*((EXP(-67837/W34))))/($B$16*6))*($B$15)*(10^-6) -> 1.8970732e-08 | Y34: =Y33*(($L34/$L33)^(($B$19-1)/$B$19)) -> 2674.3277 | Z34: =(((4.17*10^13)*(($P$12*($O$12)^0.5))*((EXP(-67837/Y34))))/($B$16*6))*($B$15)*(10^-6) -> 1.1078785e-08 | AA34: =AA33*(($L34/$L33)^(($B$19-1)/$B$19)) -> 2575.1863 | AB34: =(((4.17*10^13)*(($P$13*($O$13)^0.5))*((EXP(-67837/AA34))))/($B$16*6))*($B$15)*(10^-6) -> 5.1163826e-09 | AC34: =AC33*(($L34/$L33)^(($B$19-1)/$B$19)) -> 2473.2614 | AD34: =(((4.17*10^13)*(($P$14*($O$14)^0.5))*((EXP(-67837/AC34))))/($B$16*6))*($B$15)*(10^-6) -> 1.9975772e-09 | AE34: =AE33*(($L34/$L33)^(($B$19-1)/$B$19)) -> 1945.7502 | AF34: =(((4.17*10^13)*(($P$15*($O$15)^0.5))*((EXP(-67837/AE34))))/($B$16*6))*($B$15)*(10^-6) -> 1.3184732e-12 | AG34: =AG33*(($L34/$L33)^(($B$19-1)/$B$19)) -> 1884.4824 | AH34: =(((4.17*10^13)*(($P$16*($O$16)^0.5))*((EXP(-67837/AG34))))/($B$16*6))*($B$15)*(10^-6) -> 4.6551304e-13 | AI34: =AI33*(($L34/$L33)^(($B$19-1)/$B$19)) -> 1821.8879 | AJ34: =(((4.17*10^13)*(($P$17*($O$17)^0.5))*((EXP(-67837/AI34))))/($B$16*6))*($B$15)*(10^-6) -> 1.4615854e-13 | AK34: =AK33*(($L34/$L33)^(($B$19-1)/$B$19)) -> 1757.8894 | AL34: =(((4.17*10^13)*(($P$18*($O$18)^0.5))*((EXP(-67837/AK34))))/($B$16*6))*($B$15)*(10^-6) -> 4.0331331e-14
K35: 14 | L35: 36 | M35: =M34*((L35/L34)^(($B$19-1)/$B$19)) -> 2889.5696 | N35: =(((4.17*10^13)*(($P$6*($O$6)^0.5))*((EXP(-67837/M35))))/($B$16*6))*($B$15)*(10^-6) -> 0 | O35: =O34*(($L35/$L34)^(($B$19-1)/$B$19)) -> 2870.6687 | P35: =(((4.17*10^13)*(($P$7*($O$7)^0.5))*((EXP(-67837/O35))))/($B$16*6))*($B$15)*(10^-6) -> 1.9814786e-08 | Q35: =Q34*(($L35/$L34)^(($B$19-1)/$B$19)) -> 2851.647 | R35: =(((4.17*10^13)*(($P$8*($O$8)^0.5))*((EXP(-67837/Q35))))/($B$16*6))*($B$15)*(10^-6) -> 2.3941676e-08 | S35: =S34*(($L35/$L34)^(($B$19-1)/$B$19)) -> 2832.547 | T35: =(((4.17*10^13)*(($P$9*($O$9)^0.5))*((EXP(-67837/S35))))/($B$16*6))*($B$15)*(10^-6) -> 2.4982925e-08 | U35: =U34*(($L35/$L34)^(($B$19-1)/$B$19)) -> 2813.4114 | V35: =(((4.17*10^13)*(($P$10*($O$10)^0.5))*((EXP(-67837/U35))))/($B$16*6))*($B$15)*(10^-6) -> 2.4517572e-08 | W35: =W34*(($L35/$L34)^(($B$19-1)/$B$19)) -> 2794.1928 | X35: =(((4.17*10^13)*(($P$11*($O$11)^0.5))*((EXP(-67837/W35))))/($B$16*6))*($B$15)*(10^-6) -> 2.322818e-08 | Y35: =Y34*(($L35/$L34)^(($B$19-1)/$B$19)) -> 2696.6307 | Z35: =(((4.17*10^13)*(($P$12*($O$12)^0.5))*((EXP(-67837/Y35))))/($B$16*6))*($B$15)*(10^-6) -> 1.3664839e-08 | AA35: =AA34*(($L35/$L34)^(($B$19-1)/$B$19)) -> 2596.6625 | AB35: =(((4.17*10^13)*(($P$13*($O$13)^0.5))*((EXP(-67837/AA35))))/($B$16*6))*($B$15)*(10^-6) -> 6.3618452e-09 | AC35: =AC34*(($L35/$L34)^(($B$19-1)/$B$19)) -> 2493.8875 | AD35: =(((4.17*10^13)*(($P$14*($O$14)^0.5))*((EXP(-67837/AC35))))/($B$16*6))*($B$15)*(10^-6) -> 2.506242e-09 | AE35: =AE34*(($L35/$L34)^(($B$19-1)/$B$19)) -> 1961.9771 | AF35: =(((4.17*10^13)*(($P$15*($O$15)^0.5))*((EXP(-67837/AE35))))/($B$16*6))*($B$15)*(10^-6) -> 1.7591396e-12 | AG35: =AG34*(($L35/$L34)^(($B$19-1)/$B$19)) -> 1900.1983 | AH35: =(((4.17*10^13)*(($P$16*($O$16)^0.5))*((EXP(-67837/AG35))))/($B$16*6))*($B$15)*(10^-6) -> 6.2694908e-13 | AI35: =AI34*(($L35/$L34)^(($B$19-1)/$B$19)) -> 1837.0819 | AJ35: =(((4.17*10^13)*(($P$17*($O$17)^0.5))*((EXP(-67837/AI35))))/($B$16*6))*($B$15)*(10^-6) -> 1.9886894e-13 | AK35: =AK34*(($L35/$L34)^(($B$19-1)/$B$19)) -> 1772.5495 | AL35: =(((4.17*10^13)*(($P$18*($O$18)^0.5))*((EXP(-67837/AK35))))/($B$16*6))*($B$15)*(10^-6) -> 5.5495074e-14
K36: 15 | L36: 38 | M36: =M35*((L36/L35)^(($B$19-1)/$B$19)) -> 2912.3592 | N36: =(((4.17*10^13)*(($P$6*($O$6)^0.5))*((EXP(-67837/M36))))/($B$16*6))*($B$15)*(10^-6) -> 0 | O36: =O35*(($L36/$L35)^(($B$19-1)/$B$19)) -> 2893.3092 | P36: =(((4.17*10^13)*(($P$7*($O$7)^0.5))*((EXP(-67837/O36))))/($B$16*6))*($B$15)*(10^-6) -> 2.3839528e-08 | Q36: =Q35*(($L36/$L35)^(($B$19-1)/$B$19)) -> 2874.1375 | R36: =(((4.17*10^13)*(($P$8*($O$8)^0.5))*((EXP(-67837/Q36))))/($B$16*6))*($B$15)*(10^-6) -> 2.8840216e-08 | S36: =S35*(($L36/$L35)^(($B$19-1)/$B$19)) -> 2854.8869 | T36: =(((4.17*10^13)*(($P$9*($O$9)^0.5))*((EXP(-67837/S36))))/($B$16*6))*($B$15)*(10^-6) -> 3.0132306e-08 | U36: =U35*(($L36/$L35)^(($B$19-1)/$B$19)) -> 2835.6003 | V36: =(((4.17*10^13)*(($P$10*($O$10)^0.5))*((EXP(-67837/U36))))/($B$16*6))*($B$15)*(10^-6) -> 2.9608753e-08 | W36: =W35*(($L36/$L35)^(($B$19-1)/$B$19)) -> 2816.2302 | X36: =(((4.17*10^13)*(($P$11*($O$11)^0.5))*((EXP(-67837/W36))))/($B$16*6))*($B$15)*(10^-6) -> 2.8088041e-08 | Y36: =Y35*(($L36/$L35)^(($B$19-1)/$B$19)) -> 2717.8986 | Z36: =(((4.17*10^13)*(($P$12*($O$12)^0.5))*((EXP(-67837/Y36))))/($B$16*6))*($B$15)*(10^-6) -> 1.6637796e-08 | AA36: =AA35*(($L36/$L35)^(($B$19-1)/$B$19)) -> 2617.142 | AB36: =(((4.17*10^13)*(($P$13*($O$13)^0.5))*((EXP(-67837/AA36))))/($B$16*6))*($B$15)*(10^-6) -> 7.8048701e-09 | AC36: =AC35*(($L36/$L35)^(($B$19-1)/$B$19)) -> 2513.5565 | AD36: =(((4.17*10^13)*(($P$14*($O$14)^0.5))*((EXP(-67837/AC36))))/($B$16*6))*($B$15)*(10^-6) -> 3.1007331e-09 | AE36: =AE35*(($L36/$L35)^(($B$19-1)/$B$19)) -> 1977.4509 | AF36: =(((4.17*10^13)*(($P$15*($O$15)^0.5))*((EXP(-67837/AE36))))/($B$16*6))*($B$15)*(10^-6) -> 2.3057032e-12 | AG36: =AG35*(($L36/$L35)^(($B$19-1)/$B$19)) -> 1915.1849 | AH36: =(((4.17*10^13)*(($P$16*($O$16)^0.5))*((EXP(-67837/AG36))))/($B$16*6))*($B$15)*(10^-6) -> 8.2900205e-13 | AI36: =AI35*(($L36/$L35)^(($B$19-1)/$B$19)) -> 1851.5707 | AJ36: =(((4.17*10^13)*(($P$17*($O$17)^0.5))*((EXP(-67837/AI36))))/($B$16*6))*($B$15)*(10^-6) -> 2.6549638e-13 | AK36: =AK35*(($L36/$L35)^(($B$19-1)/$B$19)) -> 1786.5294 | AL36: =(((4.17*10^13)*(($P$18*($O$18)^0.5))*((EXP(-67837/AK36))))/($B$16*6))*($B$15)*(10^-6) -> 7.4871197e-14
K37: 16 | L37: 40 | M37: =M36*((L37/L36)^(($B$19-1)/$B$19)) -> 2934.1458 | N37: =(((4.17*10^13)*(($P$6*($O$6)^0.5))*((EXP(-67837/M37))))/($B$16*6))*($B$15)*(10^-6) -> 0 | O37: =O36*(($L37/$L36)^(($B$19-1)/$B$19)) -> 2914.9532 | P37: =(((4.17*10^13)*(($P$7*($O$7)^0.5))*((EXP(-67837/O37))))/($B$16*6))*($B$15)*(10^-6) -> 2.8372965e-08 | Q37: =Q36*(($L37/$L36)^(($B$19-1)/$B$19)) -> 2895.6381 | R37: =(((4.17*10^13)*(($P$8*($O$8)^0.5))*((EXP(-67837/Q37))))/($B$16*6))*($B$15)*(10^-6) -> 3.436449e-08 | S37: =S36*(($L37/$L36)^(($B$19-1)/$B$19)) -> 2876.2435 | T37: =(((4.17*10^13)*(($P$9*($O$9)^0.5))*((EXP(-67837/S37))))/($B$16*6))*($B$15)*(10^-6) -> 3.5946531e-08 | U37: =U36*(($L37/$L36)^(($B$19-1)/$B$19)) -> 2856.8127 | V37: =(((4.17*10^13)*(($P$10*($O$10)^0.5))*((EXP(-67837/U37))))/($B$16*6))*($B$15)*(10^-6) -> 3.5364368e-08 | W37: =W36*(($L37/$L36)^(($B$19-1)/$B$19)) -> 2837.2976 | X37: =(((4.17*10^13)*(($P$11*($O$11)^0.5))*((EXP(-67837/W37))))/($B$16*6))*($B$15)*(10^-6) -> 3.358906e-08 | Y37: =Y36*(($L37/$L36)^(($B$19-1)/$B$19)) -> 2738.2304 | Z37: =(((4.17*10^13)*(($P$12*($O$12)^0.5))*((EXP(-67837/Y37))))/($B$16*6))*($B$15)*(10^-6) -> 2.0025458e-08 | AA37: =AA36*(($L37/$L36)^(($B$19-1)/$B$19)) -> 2636.7201 | AB37: =(((4.17*10^13)*(($P$13*($O$13)^0.5))*((EXP(-67837/AA37))))/($B$16*6))*($B$15)*(10^-6) -> 9.4613038e-09 | AC37: =AC36*(($L37/$L36)^(($B$19-1)/$B$19)) -> 2532.3597 | AD37: =(((4.17*10^13)*(($P$14*($O$14)^0.5))*((EXP(-67837/AC37))))/($B$16*6))*($B$15)*(10^-6) -> 3.7887357e-09 | AE37: =AE36*(($L37/$L36)^(($B$19-1)/$B$19)) -> 1992.2436 | AF37: =(((4.17*10^13)*(($P$15*($O$15)^0.5))*((EXP(-67837/AE37))))/($B$16*6))*($B$15)*(10^-6) -> 2.9745958e-12 | AG37: =AG36*(($L37/$L36)^(($B$19-1)/$B$19)) -> 1929.5119 | AH37: =(((4.17*10^13)*(($P$16*($O$16)^0.5))*((EXP(-67837/AG37))))/($B$16*6))*($B$15)*(10^-6) -> 1.0783922e-12 | AI37: =AI36*(($L37/$L36)^(($B$19-1)/$B$19)) -> 1865.4217 | AJ37: =(((4.17*10^13)*(($P$17*($O$17)^0.5))*((EXP(-67837/AI37))))/($B$16*6))*($B$15)*(10^-6) -> 3.48501e-13 | AK37: =AK36*(($L37/$L36)^(($B$19-1)/$B$19)) -> 1799.8939 | AL37: =(((4.17*10^13)*(($P$18*($O$18)^0.5))*((EXP(-67837/AK37))))/($B$16*6))*($B$15)*(10^-6) -> 9.9257075e-14
K38: SUM: | N38: 0 | P38: =SUM(P22:P37) -> 1.4084146e-07 | R38: =SUM(R22:R37) -> 1.6982019e-07 | T38: =SUM(T22:T37) -> 1.7683439e-07 | V38: =SUM(V22:V37) -> 1.7317561e-07 | X38: =SUM(X22:X37) -> 1.6372133e-07 | Z38: =SUM(Z22:Z37) -> 9.5283141e-08 | AB38: =SUM(AB22:AB37) -> 4.3872453e-08 | AD38: =SUM(AD22:AD37) -> 1.7088624e-08 | AF38: =SUM(AF22:AF37) -> 1.1354761e-11 | AH38: =SUM(AH22:AH37) -> 4.0250535e-12 | AJ38: =SUM(AJ22:AJ37) -> 1.2702413e-12 | AL38: =SUM(AL22:AL37) -> 3.5278945e-13
D44: (ϕCxHy+a(O2+ACR N2))+ EGR%(n1 CO2+ n2H2O+n3 O2+n4 N2)→(1 + EGR%)( n1 CO2 + n2 H2O + n3 O2 + n4 N2)
D45: EGR% (ϕCxHy + a(O2 + ACRN2)) → n1 VO2 + n2 H2O + n3 O2 + n4 N2
D46: carbon (x) | E46: =E52*8 -> 7.76 | F46: a | G46: 12.5 | M46: ϕ | N46: α | O46: [O2] | P46: [N2] | Q46: enthalpy | R46: flame T | S46: h reactors | T46: h released | U46: h NET | V46: CO2 [n1] | W46: H2O [n2] | X46: O2 [n3] | Y46: N2 [n4] | Z46: Nox (PPM)
D47: hydrogen (y) | E47: =E52*18 -> 17.46 | F47: CO2 | G47: =8*E52*(1+E53) -> 8.148 | H47: n1 | M47: 0.97 | N47: =E63 -> 1.0861814e-07 | O47: =($G$49*$N$47)/($E$58*10^-6) -> 0.0010692098 | P47: =($G$50*$N$47)/($E$58*10^-6) -> 0.13400763 | Q47: =(G47*E68)+(G48*E69)+(G50*E71)+(E70*G49) -> 4913.05 | R47: =E65 -> 2263.825 | U47: 4913.05 | V47: =G47 -> 8.148 | W47: =G48 -> 9.1665 | X47: =G49 -> 0.39375 | Y47: =G50 -> 49.35
F48: H2O | G48: =9*E52*(1+E53) -> 9.1665 | H48: n2
F49: O2 | G49: =G46*(1-E52)*(1+E53) -> 0.39375 | H49: n3
F50: N2 | G50: =G46*E51*(1+E53) -> 49.35 | H50: n4
D51: ACR | E51: 3.76
D52: ϕ | E52: 0.97
D53: EGR | E53: 0.05
D54: η | E54: 0.4
D55: CC | E55: 1600
D56: # cyl | E56: 4
D57: cc/cyl | E57: =E55/E56 -> 400
D58: clearance | E58: =E57*0.1 -> 40
D59: rpm | E59: 1800
D60: T [K] | E60: =20+273 -> 293
D61: R | E61: 8314
D62: n [mol] | E62: =(10^5*(E57*E54*10^-6))/(E61*E60) -> 6.5681391e-06
D63: α | E63: =E62/(E52+(G46*(1+E51))) -> 1.0861814e-07
D64: n | E64: 1.17
D65: temperature | E65: 2263.825
E67: Enthalpy
D68: polyCo2: | E68: =8.6E-19*(E65^6) - 1.037488E-14*(E65^5) + 4.968947595E-11*(E65^4) - 0.0000001201911805397*(E65^3) + 0.000156509548934808*(E65^2) - 0.0482393620326645*E65 + 5.20845196264969 -> 107.61511
D69: polyH2O | E69: =6.7E-19*(E65^6) - 7.89843E-15*(E65^5) + 3.687984988E-11*(E65^4) - 8.638622855912E-08*(E65^3) + 0.000110740178605573*(E65^2) - 0.031241611607915*E65 + 3.30066945333761 -> 87.056031
D70: polyO2 | E70: =6.5E-19*(E65^6) - 7.82245E-15*(E65^5) + 0.0000000000371204177*(E65^4) - 8.798317617007E-08*(E65^3) + 0.000109823272345614*(E65^2) - 0.0326064446414848*E65 + 3.57864890028521 -> 69.16162
D71: polyN2 | E71: =5.9E-19*(E65^6) - 7.10207E-15*(E65^5) + 3.346089681E-11*(E65^4) - 7.890960163412E-08*(E65^3) + 0.000098599769211504*(E65^2) - 0.028172899155961*E65 + 3.05378907997741 -> 65.06526

Sheet task2 b
S1: enthalpy of formation
M2: ϕ | N2: α | O2: [O2] | P2: [N2] | Q2: enthalpy | R2: flame T | S2: h reactors | T2: h released | U2: h NET
M3: =B9 -> 0.97 | N3: =B21 -> 1.0857539e-07 | O3: =(G17*B21)/(B15*10^-6) -> 0.0010178943 | P3: =(G16*B21)/(B15*10^-6) -> 0.12764071 | Q3: =(8*B9*E30)+(9*B9*E31)+(G13*(1-B9)*E32)+(47*E33) -> 4913.05 | R3: =F27 -> 2351.5288 | S3: =(B9*AR5) -> 251.424 | T3: =((AR6*G14)+(G15*AR7)) -> 5164.474 | U3: =((AR6*G14)+(G15*AR7))-(B9*AR5) -> 4913.05
S4: enthalpy of formation | AR4: h [kj/mol] | AS4: ϕ
M5: ϕ | N5: α | O5: [O2] | P5: [N2] | Q5: enthalpy | R5: flame T | S5: h reactors | T5: h released | U5: h NET | V5: CO2 [n1] | W5: H2O [n2] | X5: O2 [n3] | Y5: N2 [n4] | Z5: Nox (PPM) | AQ5: C8H18 | AR5: 259.2 | AS5: 1
D6: stochiometric equation: | M6: 1 | N6: 1.0852157e-07 | O6: 0 | P6: 0.12757745 | Q6: 5065 | R6: 2398.8488 | S6: 259.2 | T6: 5324.2 | U6: 5065 | V6: 8 | W6: 9 | X6: 0 | Y6: 47.02381 | Z6: =(SUM(N22:N37)/(N6*(V6+W6+X6+Y6)))*10^6 -> 0 | AQ6: CO2 | AR6: 393.5 | AS6: 0.99
D7: C8H18 + x (O2 + 3.76 N2)→ 8 CO2 + 9 H2O + 47 N2 | M7: 0.99 | N7: 1.0853951e-07 | O7: 0.00033918596 | P7: 0.12759853 | Q7: 5014.4 | R7: 2383.1578 | S7: 256.608 | T7: 5270.958 | U7: 5014.35 | V7: 7.92 | W7: 8.91 | X7: 0.125 | Y7: 47.02381 | Z7: =(SUM(P22:P37)/(N7*(V7+W7+X7+Y7)))*10^6 -> 20281.801 | AQ7: H2O g | AR7: 241.8 | AS7: 0.98
D8: O2 | E8: 0.21 | F8: Atmospheric Composition Ratio: | M8: 0.98 | N8: 1.0855745e-07 | O8: 0.00067848404 | P8: 0.12761962 | Q8: 4963.7 | R8: 2367.3664 | S8: 254.016 | T8: 5217.716 | U8: 4963.7 | V8: 7.84 | W8: 8.82 | X8: 0.25 | Y8: 47.02381 | Z8: =(SUM(R$22:R$37)/(N8*(V8+W8+X8+Y8)))*10^6 -> 24468.036 | AQ8: H2O l | AR8: 285.8 | AS8: 0.97
A9: ϕ | B9: 0.97 | D9: N2 | E9: =1-E8 -> 0.79 | H9: =E9/E8 -> 3.7619048 | M9: 0.97 | N9: 1.0857539e-07 | O9: 0.0010178943 | P9: 0.12764071 | Q9: 4913 | R9: 2351.5101 | S9: 251.424 | T9: 5164.474 | U9: 4913.05 | V9: 7.76 | W9: 8.73 | X9: 0.375 | Y9: 47.02381 | Z9: =(SUM(T$22:T$37)/(N9*(V9+W9+X9+Y9)))*10^6 -> 25492.388 | AS9: 0.96
A10: η | B10: 0.4 | D10: HC fuel balance: | F10: CxHy + a (O2 + ACR N2) → x CO2 + (y/2) H2O + ACR An2 + x(1-ϕ)O2 | M10: 0.96 | N10: 1.0859334e-07 | O10: 0.0013574168 | P10: 0.12766182 | Q10: 4862.4 | R10: 2335.6242 | S10: 248.832 | T10: 5111.232 | U10: 4862.4 | V10: 7.68 | W10: 8.64 | X10: 0.5 | Y10: 47.02381 | Z10: =(SUM(V$22:V$37)/(N10*(V10+W10+X10+Y10)))*10^6 -> 24978.407 | AS10: 0.95
D11: where: | E11: a=x+(y/4) | M11: 0.95 | N11: 1.086113e-07 | O11: 0.0016970516 | P11: 0.12768293 | Q11: 4811.8 | R11: 2319.6693 | S11: 246.24 | T11: 5057.99 | U11: 4811.75 | V11: 7.6 | W11: 8.55 | X11: 0.625 | Y11: 47.02381 | Z11: =(SUM(X$22:X$37)/(N11*(V11+W11+X11+Y11)))*10^6 -> 23627.495 | AS11: 0.9
A12: CC | B12: 1600 | F12: BALANCING FACTORS | M12: 0.9 | N12: 1.0870118e-07 | O12: 0.0033969117 | P12: 0.12778858 | Q12: 4558.5005 | R12: 2238.6757 | S12: 233.28 | T12: 4791.78 | U12: 4558.5 | V12: 7.2 | W12: 8.1 | X12: 1.25 | Y12: 47.02381 | Z12: =(SUM(Z$22:Z$37)/(N12*(V12+W12+X12+Y12)))*10^6 -> 13788.073 | AS12: 0.85
A13: # cyl | B13: 4 | D13: carbon (x) | E13: =8*B9 -> 7.76 | F13: a | G13: 12.5 | I13: T: | J13: 2950 | M13: 0.85 | N13: 1.087912e-07 | O13: 0.0050995874 | P13: 0.12789442 | Q13: 4305.3 | R13: 2155.6846 | S13: 220.32 | T13: 4525.57 | U13: 4305.25 | V13: 6.8 | W13: 7.65 | X13: 1.875 | Y13: 47.02381 | Z13: =(SUM(AB$22:AB$37)/(N13*(V13+W13+X13+Y13)))*10^6 -> 6365.8984 | AS13: 0.8
A14: cc/cyl | B14: =B12/B13 -> 400 | D14: hydrogen (y) | E14: =18*B9 -> 17.46 | F14: CO2 | G14: =8*B9 -> 7.76 | H14: n1 | I14: h: | J14: =VLOOKUP(J13,tables!B19:D87,3,FALSE) -> 149.78 | M14: 0.8 | N14: 1.0888137e-07 | O14: 0.0068050857 | P14: 0.12800042 | Q14: 4052 | R14: 2070.3634 | S14: 207.36 | T14: 4259.36 | U14: 4052 | V14: 6.4 | W14: 7.2 | X14: 2.5 | Y14: 47.02381 | Z14: =(SUM(AD$22:AD$37)/(N14*(V14+W14+X14+Y14)))*10^6 -> 2486.3389 | AS14: 0.75
A15: clearance | B15: =B14*0.1 -> 40 | F15: H2O | G15: =9*B9 -> 8.73 | H15: n2 | I15: h: | J15: =VLOOKUP(J13,tables!I19:K87,3,FALSE) -> 123.77 | M15: 0.75 | N15: 1.0897169e-07 | O15: 0.0085134136 | P15: 0.1281066 | Q15: 2940.4 | R15: 1628.7846 | S15: 194.4 | T15: 3134.76 | U15: 2940.36 | V15: 6 | W15: 6.75 | X15: 3.125 | Y15: 47.02381 | Z15: =(SUM(AF$22:AF$37)/(N15*(V15+W15+X15+Y15)))*10^6 -> 1.6566161 | AS15: 0.7
A16: rpm | B16: 1800 | F16: N2 | G16: =H9*G13 -> 47.02381 | H16: n4 | I16: h: | J16: =VLOOKUP(J13,tables!W19:Y87,3,FALSE) -> 90.88 | M16: 0.7 | N16: 1.0906217e-07 | O16: 0.010224578 | P16: 0.12821296 | Q16: 2795.9002 | R16: 1577.4974 | S16: 181.44 | T16: 2977.36 | U16: 2795.92 | V16: 5.6 | W16: 6.3 | X16: 3.75 | Y16: 47.02381 | Z16: =(SUM(AH$22:AH$37)/(N16*(V16+W16+X16+Y16)))*10^6 -> 0.58885917 | AS16: 0.65
A17: T [K] | B17: =20+273 -> 293 | F17: O2 | G17: =G13*(1-B9) -> 0.375 | H17: n3 | M17: 0.65 | N17: 1.0915279e-07 | O17: 0.011938586 | P17: 0.1283195 | Q17: 2651.5001 | R17: 1525.0997 | S17: 168.48 | T17: 2819.96 | U17: 2651.48 | V17: 5.2 | W17: 5.85 | X17: 4.375 | Y17: 47.02381 | Z17: =(SUM(AJ$22:AJ$37)/(N17*(V17+W17+X17+Y17)))*10^6 -> 0.18634907 | AS17: 0.6
A18: R | B18: 8314 | D18: m air | E18: =G13*((2*I24)+(H9*2*I25)) -> 1717.2718 | M18: 0.6 | N18: 1.0924356e-07 | O18: 0.013655445 | P18: 0.12842621 | Q18: 2507.0001 | R18: 1471.5266 | S18: 155.52 | T18: 2662.56 | U18: 2507.04 | V18: 4.8 | W18: 5.4 | X18: 5 | Y18: 47.02381 | Z18: =(SUM(AL$22:AL$37)/(N18*(V18+W18+X18+Y18)))*10^6 -> 0.051899497
D19: m fuel | E19: =(I22*E13)+(I23*E14) -> 110.79992
A20: n [mol] | B20: =(10^5*(B14*B10*10^-6))/(B18*B17) -> 6.5681391e-06 | D20: stochiometric ratio | F20: =E18/E19 -> 15.498854 | H20: molecular weights: | L20: ϕ | M20: 1 | O20: 0.99 | Q20: 0.98 | S20: 0.97 | U20: 0.96 | W20: 0.95 | Y20: 0.9 | AA20: 0.85 | AC20: 0.8 | AE20: 0.75 | AG20: 0.7 | AI20: 0.65 | AK20: 0.6
A21: α | B21: =B20/(B9+(G13*(1+H9))) -> 1.0857539e-07 | H21: air | K21: DEGREES | L21: P [BAR] | M21: temp | N21: Nox | O21: temp | P21: Nox | Q21: temp | R21: Nox | S21: temp | T21: Nox | U21: temp | V21: Nox | W21: temp | X21: Nox | Y21: temp | Z21: Nox | AA21: temp | AB21: Nox | AC21: temp | AD21: Nox | AE21: temp | AF21: Nox | AG21: temp | AH21: Nox | AI21: temp | AJ21: Nox | AK21: temp | AL21: Nox
A22: n [poly index] | D22: equ ratio | E22: =1/(F20/E23) -> 1 | H22: carbon | I22: 12.0107 | K22: 1 | L22: 10 | M22: =R6 -> 2398.8488 | N22: =(((4.17*10^13)*(($P$6*($O$6)^0.5))*((EXP(-67837/M22))))/($B$16*6))*($B$10/10)*(10^-6) -> 0 | O22: =R7 -> 2383.1578 | P22: =(((4.17*10^13)*(($P$7*($O$7)^0.5))*((EXP(-67837/O22))))/($B$16*6))*($B$15)*(10^-6) -> 1.5760461e-10 | Q22: =R8 -> 2367.3664 | R22: =(((4.17*10^13)*(($P$8*($O$8)^0.5))*((EXP(-67837/Q22))))/($B$16*6))*($B$15)*(10^-6) -> 1.843869e-10 | S22: =R9 -> 2351.5101 | T22: =(((4.17*10^13)*(($P$9*($O$9)^0.5))*((EXP(-67837/S22))))/($B$16*6))*($B$15)*(10^-6) -> 1.8619493e-10 | U22: =R10 -> 2335.6242 | V22: =(((4.17*10^13)*(($P$10*($O$10)^0.5))*((EXP(-67837/U22))))/($B$16*6))*($B$15)*(10^-6) -> 1.7673823e-10 | W22: =R11 -> 2319.6693 | X22: =(((4.17*10^13)*(($P$11*($O$11)^0.5))*((EXP(-67837/W22))))/($B$16*6))*($B$15)*(10^-6) -> 1.618581e-10 | Y22: =R12 -> 2238.6757 | Z22: =(((4.17*10^13)*(($P$12*($O$12)^0.5))*((EXP(-67837/Y22))))/($B$16*6))*($B$15)*(10^-6) -> 7.9559021e-11 | AA22: =R13 -> 2155.6846 | AB22: =(((4.17*10^13)*(($P$13*($O$13)^0.5))*((EXP(-67837/AA22))))/($B$16*6))*($B$15)*(10^-6) -> 3.0382719e-11 | AC22: =R14 -> 2070.3634 | AD22: =(((4.17*10^13)*(($P$14*($O$14)^0.5))*((EXP(-67837/AC22))))/($B$16*6))*($B$15)*(10^-6) -> 9.6032495e-12 | AE22: =R15 -> 1628.7846 | AF22: =(((4.17*10^13)*(($P$15*($O$15)^0.5))*((EXP(-67837/AE22))))/($B$16*6))*($B$15)*(10^-6) -> 1.4911838e-15 | AG22: =R16 -> 1577.4974 | AH22: =(((4.17*10^13)*(($P$16*($O$16)^0.5))*((EXP(-67837/AG22))))/($B$16*6))*($B$15)*(10^-6) -> 4.2227425e-16 | AI22: =R17 -> 1525.0997 | AJ22: =(((4.17*10^13)*(($P$17*($O$17)^0.5))*((EXP(-67837/AI22))))/($B$16*6))*($B$15)*(10^-6) -> 1.0422253e-16 | AK22: =R18 -> 1471.5266 | AL22: =(((4.17*10^13)*(($P$18*($O$18)^0.5))*((EXP(-67837/AK22))))/($B$16*6))*($B$15)*(10^-6) -> 2.2090917e-17
B23: 1.17 | D23: fuel ratio | E23: =E18/E19 -> 15.498854 | H23: hydrogen | I23: 1.00784 | K23: 2 | L23: 12 | M23: =M22*(($L23/L22)^(($B$23-1)/$B$23)) -> 2463.2464 | N23: =(((4.17*10^13)*(($P$6*($O$6)^0.5))*((EXP(-67837/M23))))/($B$16*6))*($B$10/10)*(10^-6) -> 0 | O23: =O22*(($L23/$L22)^(($B$23-1)/$B$23)) -> 2447.134 | P23: =(((4.17*10^13)*(($P$7*($O$7)^0.5))*((EXP(-67837/O23))))/($B$16*6))*($B$15)*(10^-6) -> 3.3171114e-10 | Q23: =Q22*(($L23/$L22)^(($B$23-1)/$B$23)) -> 2430.9188 | R23: =(((4.17*10^13)*(($P$8*($O$8)^0.5))*((EXP(-67837/Q23))))/($B$16*6))*($B$15)*(10^-6) -> 3.9001115e-10 | S23: =S22*(($L23/$L22)^(($B$23-1)/$B$23)) -> 2414.6368 | T23: =(((4.17*10^13)*(($P$9*($O$9)^0.5))*((EXP(-67837/S23))))/($B$16*6))*($B$15)*(10^-6) -> 3.9582994e-10 | U23: =U22*(($L23/$L22)^(($B$23-1)/$B$23)) -> 2398.3244 | V23: =(((4.17*10^13)*(($P$10*($O$10)^0.5))*((EXP(-67837/U23))))/($B$16*6))*($B$15)*(10^-6) -> 3.7765834e-10 | W23: =W22*(($L23/$L22)^(($B$23-1)/$B$23)) -> 2381.9413 | X23: =(((4.17*10^13)*(($P$11*($O$11)^0.5))*((EXP(-67837/W23))))/($B$16*6))*($B$15)*(10^-6) -> 3.4767317e-10 | Y23: =Y22*(($L23/$L22)^(($B$23-1)/$B$23)) -> 2298.7734 | Z23: =(((4.17*10^13)*(($P$12*($O$12)^0.5))*((EXP(-67837/Y23))))/($B$16*6))*($B$15)*(10^-6) -> 1.7568676e-10 | AA23: =AA22*(($L23/$L22)^(($B$23-1)/$B$23)) -> 2213.5544 | AB23: =(((4.17*10^13)*(($P$13*($O$13)^0.5))*((EXP(-67837/AA23))))/($B$16*6))*($B$15)*(10^-6) -> 6.9170625e-11 | AC23: =AC22*(($L23/$L22)^(($B$23-1)/$B$23)) -> 2125.9427 | AD23: =(((4.17*10^13)*(($P$14*($O$14)^0.5))*((EXP(-67837/AC23))))/($B$16*6))*($B$15)*(10^-6) -> 2.2617139e-11 | AE23: =AE22*(($L23/$L22)^(($B$23-1)/$B$23)) -> 1672.5096 | AF23: =(((4.17*10^13)*(($P$15*($O$15)^0.5))*((EXP(-67837/AE23))))/($B$16*6))*($B$15)*(10^-6) -> 4.4300498e-15 | AG23: =AG22*(($L23/$L22)^(($B$23-1)/$B$23)) -> 1619.8456 | AH23: =(((4.17*10^13)*(($P$16*($O$16)^0.5))*((EXP(-67837/AG23))))/($B$16*6))*($B$15)*(10^-6) -> 1.2997089e-15 | AI23: =AI22*(($L23/$L22)^(($B$23-1)/$B$23)) -> 1566.0413 | AJ23: =(((4.17*10^13)*(($P$17*($O$17)^0.5))*((EXP(-67837/AI23))))/($B$16*6))*($B$15)*(10^-6) -> 3.3341715e-16 | AK23: =AK22*(($L23/$L22)^(($B$23-1)/$B$23)) -> 1511.0299 | AL23: =(((4.17*10^13)*(($P$18*($O$18)^0.5))*((EXP(-67837/AK23))))/($B$16*6))*($B$15)*(10^-6) -> 7.3726954e-17
H24: oxygen | I24: 15.999 | K24: 3 | L24: 14 | M24: =M23*((L24/L23)^(($B$23-1)/$B$23)) -> 2519.0406 | N24: =(((4.17*10^13)*(($P$6*($O$6)^0.5))*((EXP(-67837/M24))))/($B$16*6))*($B$10/10)*(10^-6) -> 0 | O24: =O23*(($L24/$L23)^(($B$23-1)/$B$23)) -> 2502.5633 | P24: =(((4.17*10^13)*(($P$7*($O$7)^0.5))*((EXP(-67837/O24))))/($B$16*6))*($B$15)*(10^-6) -> 6.1293363e-10 | Q24: =Q23*(($L24/$L23)^(($B$23-1)/$B$23)) -> 2485.9808 | R24: =(((4.17*10^13)*(($P$8*($O$8)^0.5))*((EXP(-67837/Q24))))/($B$16*6))*($B$15)*(10^-6) -> 7.2361758e-10 | S24: =S23*(($L24/$L23)^(($B$23-1)/$B$23)) -> 2469.3299 | T24: =(((4.17*10^13)*(($P$9*($O$9)^0.5))*((EXP(-67837/S24))))/($B$16*6))*($B$15)*(10^-6) -> 7.374809e-10 | U24: =U23*(($L24/$L23)^(($B$23-1)/$B$23)) -> 2452.6481 | V24: =(((4.17*10^13)*(($P$10*($O$10)^0.5))*((EXP(-67837/U24))))/($B$16*6))*($B$15)*(10^-6) -> 7.066092e-10 | W24: =W23*(($L24/$L23)^(($B$23-1)/$B$23)) -> 2435.8939 | X24: =(((4.17*10^13)*(($P$11*($O$11)^0.5))*((EXP(-67837/W24))))/($B$16*6))*($B$15)*(10^-6) -> 6.5331521e-10 | Y24: =Y23*(($L24/$L23)^(($B$23-1)/$B$23)) -> 2350.8422 | Z24: =(((4.17*10^13)*(($P$12*($O$12)^0.5))*((EXP(-67837/Y24))))/($B$16*6))*($B$15)*(10^-6) -> 3.3775515e-10 | AA24: =AA23*(($L24/$L23)^(($B$23-1)/$B$23)) -> 2263.6929 | AB24: =(((4.17*10^13)*(($P$13*($O$13)^0.5))*((EXP(-67837/AA24))))/($B$16*6))*($B$15)*(10^-6) -> 1.3636817e-10 | AC24: =AC23*(($L24/$L23)^(($B$23-1)/$B$23)) -> 2174.0967 | AD24: =(((4.17*10^13)*(($P$14*($O$14)^0.5))*((EXP(-67837/AC24))))/($B$16*6))*($B$15)*(10^-6) -> 4.5854034e-11 | AE24: =AE23*(($L24/$L23)^(($B$23-1)/$B$23)) -> 1710.3931 | AF24: =(((4.17*10^13)*(($P$15*($O$15)^0.5))*((EXP(-67837/AE24))))/($B$16*6))*($B$15)*(10^-6) -> 1.0878344e-14 | AG24: =AG23*(($L24/$L23)^(($B$23-1)/$B$23)) -> 1656.5362 | AH24: =(((4.17*10^13)*(($P$16*($O$16)^0.5))*((EXP(-67837/AG24))))/($B$16*6))*($B$15)*(10^-6) -> 3.2861309e-15 | AI24: =AI23*(($L24/$L23)^(($B$23-1)/$B$23)) -> 1601.5131 | AJ24: =(((4.17*10^13)*(($P$17*($O$17)^0.5))*((EXP(-67837/AI24))))/($B$16*6))*($B$15)*(10^-6) -> 8.70296e-16 | AK24: =AK23*(($L24/$L23)^(($B$23-1)/$B$23)) -> 1545.2558 | AL24: =(((4.17*10^13)*(($P$18*($O$18)^0.5))*((EXP(-67837/AK24))))/($B$16*6))*($B$15)*(10^-6) -> 1.9928526e-16
H25: nitrogen | I25: 14.0067 | K25: 4 | L25: 16 | M25: =M24*((L25/L24)^(($B$23-1)/$B$23)) -> 2568.3922 | N25: =(((4.17*10^13)*(($P$6*($O$6)^0.5))*((EXP(-67837/M25))))/($B$16*6))*($B$10/10)*(10^-6) -> 0 | O25: =O24*(($L25/$L24)^(($B$23-1)/$B$23)) -> 2551.5921 | P25: =(((4.17*10^13)*(($P$7*($O$7)^0.5))*((EXP(-67837/O25))))/($B$16*6))*($B$15)*(10^-6) -> 1.0318592e-09 | Q25: =Q24*(($L25/$L24)^(($B$23-1)/$B$23)) -> 2534.6847 | R25: =(((4.17*10^13)*(($P$8*($O$8)^0.5))*((EXP(-67837/Q25))))/($B$16*6))*($B$15)*(10^-6) -> 1.2224328e-09 | S25: =S24*(($L25/$L24)^(($B$23-1)/$B$23)) -> 2517.7077 | T25: =(((4.17*10^13)*(($P$9*($O$9)^0.5))*((EXP(-67837/S25))))/($B$16*6))*($B$15)*(10^-6) -> 1.2502653e-09 | U25: =U24*(($L25/$L24)^(($B$23-1)/$B$23)) -> 2500.699 | V25: =(((4.17*10^13)*(($P$10*($O$10)^0.5))*((EXP(-67837/U25))))/($B$16*6))*($B$15)*(10^-6) -> 1.2022366e-09 | W25: =W24*(($L25/$L24)^(($B$23-1)/$B$23)) -> 2483.6165 | X25: =(((4.17*10^13)*(($P$11*($O$11)^0.5))*((EXP(-67837/W25))))/($B$16*6))*($B$15)*(10^-6) -> 1.115632e-09 | Y25: =Y24*(($L25/$L24)^(($B$23-1)/$B$23)) -> 2396.8985 | Z25: =(((4.17*10^13)*(($P$12*($O$12)^0.5))*((EXP(-67837/Y25))))/($B$16*6))*($B$15)*(10^-6) -> 5.8804174e-10 | AA25: =AA24*(($L25/$L24)^(($B$23-1)/$B$23)) -> 2308.0419 | AB25: =(((4.17*10^13)*(($P$13*($O$13)^0.5))*((EXP(-67837/AA25))))/($B$16*6))*($B$15)*(10^-6) -> 2.4254366e-10 | AC25: =AC24*(($L25/$L24)^(($B$23-1)/$B$23)) -> 2216.6904 | AD25: =(((4.17*10^13)*(($P$14*($O$14)^0.5))*((EXP(-67837/AC25))))/($B$16*6))*($B$15)*(10^-6) -> 8.3514198e-11 | AE25: =AE24*(($L25/$L24)^(($B$23-1)/$B$23)) -> 1743.9021 | AF25: =(((4.17*10^13)*(($P$15*($O$15)^0.5))*((EXP(-67837/AE25))))/($B$16*6))*($B$15)*(10^-6) -> 2.3309758e-14 | AG25: =AG24*(($L25/$L24)^(($B$23-1)/$B$23)) -> 1688.9901 | AH25: =(((4.17*10^13)*(($P$16*($O$16)^0.5))*((EXP(-67837/AG25))))/($B$16*6))*($B$15)*(10^-6) -> 7.218059e-15 | AI25: =AI24*(($L25/$L24)^(($B$23-1)/$B$23)) -> 1632.8891 | AJ25: =(((4.17*10^13)*(($P$17*($O$17)^0.5))*((EXP(-67837/AI25))))/($B$16*6))*($B$15)*(10^-6) -> 1.9640092e-15 | AK25: =AK24*(($L25/$L24)^(($B$23-1)/$B$23)) -> 1575.5296 | AL25: =(((4.17*10^13)*(($P$18*($O$18)^0.5))*((EXP(-67837/AK25))))/($B$16*6))*($B$15)*(10^-6) -> 4.6325547e-16
K26: 5 | L26: 18 | M26: =M25*((L26/L25)^(($B$23-1)/$B$23)) -> 2612.7253 | N26: =(((4.17*10^13)*(($P$6*($O$6)^0.5))*((EXP(-67837/M26))))/($B$16*6))*($B$10/10)*(10^-6) -> 0 | O26: =O25*(($L26/$L25)^(($B$23-1)/$B$23)) -> 2595.6353 | P26: =(((4.17*10^13)*(($P$7*($O$7)^0.5))*((EXP(-67837/O26))))/($B$16*6))*($B$15)*(10^-6) -> 1.6200878e-09 | Q26: =Q25*(($L26/$L25)^(($B$23-1)/$B$23)) -> 2578.436 | R26: =(((4.17*10^13)*(($P$8*($O$8)^0.5))*((EXP(-67837/Q26))))/($B$16*6))*($B$15)*(10^-6) -> 1.9250853e-09 | S26: =S25*(($L26/$L25)^(($B$23-1)/$B$23)) -> 2561.1659 | T26: =(((4.17*10^13)*(($P$9*($O$9)^0.5))*((EXP(-67837/S26))))/($B$16*6))*($B$15)*(10^-6) -> 1.9749542e-09 | U26: =U25*(($L26/$L25)^(($B$23-1)/$B$23)) -> 2543.8637 | V26: =(((4.17*10^13)*(($P$10*($O$10)^0.5))*((EXP(-67837/U26))))/($B$16*6))*($B$15)*(10^-6) -> 1.9050014e-09 | W26: =W25*(($L26/$L25)^(($B$23-1)/$B$23)) -> 2526.4864 | X26: =(((4.17*10^13)*(($P$11*($O$11)^0.5))*((EXP(-67837/W26))))/($B$16*6))*($B$15)*(10^-6) -> 1.7733778e-09 | Y26: =Y25*(($L26/$L25)^(($B$23-1)/$B$23)) -> 2438.2715 | Z26: =(((4.17*10^13)*(($P$12*($O$12)^0.5))*((EXP(-67837/Y26))))/($B$16*6))*($B$15)*(10^-6) -> 9.5054053e-10 | AA26: =AA25*(($L26/$L25)^(($B$23-1)/$B$23)) -> 2347.8811 | AB26: =(((4.17*10^13)*(($P$13*($O$13)^0.5))*((EXP(-67837/AA26))))/($B$16*6))*($B$15)*(10^-6) -> 3.9937584e-10 | AC26: =AC25*(($L26/$L25)^(($B$23-1)/$B$23)) -> 2254.9528 | AD26: =(((4.17*10^13)*(($P$14*($O$14)^0.5))*((EXP(-67837/AC26))))/($B$16*6))*($B$15)*(10^-6) -> 1.4037123e-10 | AE26: =AE25*(($L26/$L25)^(($B$23-1)/$B$23)) -> 1774.0037 | AF26: =(((4.17*10^13)*(($P$15*($O$15)^0.5))*((EXP(-67837/AE26))))/($B$16*6))*($B$15)*(10^-6) -> 4.5101974e-14 | AG26: =AG25*(($L26/$L25)^(($B$23-1)/$B$23)) -> 1718.1439 | AH26: =(((4.17*10^13)*(($P$16*($O$16)^0.5))*((EXP(-67837/AG26))))/($B$16*6))*($B$15)*(10^-6) -> 1.4269145e-14 | AI26: =AI25*(($L26/$L25)^(($B$23-1)/$B$23)) -> 1661.0745 | AJ26: =(((4.17*10^13)*(($P$17*($O$17)^0.5))*((EXP(-67837/AI26))))/($B$16*6))*($B$15)*(10^-6) -> 3.9745679e-15 | AK26: =AK25*(($L26/$L25)^(($B$23-1)/$B$23)) -> 1602.7249 | AL26: =(((4.17*10^13)*(($P$18*($O$18)^0.5))*((EXP(-67837/AK26))))/($B$16*6))*($B$15)*(10^-6) -> 9.6186178e-16
D27: temperature: | F27: 2351.5288 | K27: 6 | L27: 20 | M27: =M26*((L27/L26)^(($B$23-1)/$B$23)) -> 2653.0307 | N27: =(((4.17*10^13)*(($P$6*($O$6)^0.5))*((EXP(-67837/M27))))/($B$16*6))*($B$10/10)*(10^-6) -> 0 | O27: =O26*(($L27/$L26)^(($B$23-1)/$B$23)) -> 2635.677 | P27: =(((4.17*10^13)*(($P$7*($O$7)^0.5))*((EXP(-67837/O27))))/($B$16*6))*($B$15)*(10^-6) -> 2.4097649e-09 | Q27: =Q26*(($L27/$L26)^(($B$23-1)/$B$23)) -> 2618.2125 | R27: =(((4.17*10^13)*(($P$8*($O$8)^0.5))*((EXP(-67837/Q27))))/($B$16*6))*($B$15)*(10^-6) -> 2.8710205e-09 | S27: =S26*(($L27/$L26)^(($B$23-1)/$B$23)) -> 2600.676 | T27: =(((4.17*10^13)*(($P$9*($O$9)^0.5))*((EXP(-67837/S27))))/($B$16*6))*($B$15)*(10^-6) -> 2.9533428e-09 | U27: =U26*(($L27/$L26)^(($B$23-1)/$B$23)) -> 2583.1068 | V27: =(((4.17*10^13)*(($P$10*($O$10)^0.5))*((EXP(-67837/U27))))/($B$16*6))*($B$15)*(10^-6) -> 2.8565429e-09 | W27: =W26*(($L27/$L26)^(($B$23-1)/$B$23)) -> 2565.4614 | X27: =(((4.17*10^13)*(($P$11*($O$11)^0.5))*((EXP(-67837/W27))))/($B$16*6))*($B$15)*(10^-6) -> 2.6665939e-09 | Y27: =Y26*(($L27/$L26)^(($B$23-1)/$B$23)) -> 2475.8857 | Z27: =(((4.17*10^13)*(($P$12*($O$12)^0.5))*((EXP(-67837/Y27))))/($B$16*6))*($B$15)*(10^-6) -> 1.4505597e-09 | AA27: =AA26*(($L27/$L26)^(($B$23-1)/$B$23)) -> 2384.1009 | AB27: =(((4.17*10^13)*(($P$13*($O$13)^0.5))*((EXP(-67837/AA27))))/($B$16*6))*($B$15)*(10^-6) -> 6.1946073e-10 | AC27: =AC26*(($L27/$L26)^(($B$23-1)/$B$23)) -> 2289.739 | AD27: =(((4.17*10^13)*(($P$14*($O$14)^0.5))*((EXP(-67837/AC27))))/($B$16*6))*($B$15)*(10^-6) -> 2.2170024e-10 | AE27: =AE26*(($L27/$L26)^(($B$23-1)/$B$23)) -> 1801.3705 | AF27: =(((4.17*10^13)*(($P$15*($O$15)^0.5))*((EXP(-67837/AE27))))/($B$16*6))*($B$15)*(10^-6) -> 8.0629804e-14 | AG27: =AG26*(($L27/$L26)^(($B$23-1)/$B$23)) -> 1744.649 | AH27: =(((4.17*10^13)*(($P$16*($O$16)^0.5))*((EXP(-67837/AG27))))/($B$16*6))*($B$15)*(10^-6) -> 2.5995652e-14 | AI27: =AI26*(($L27/$L26)^(($B$23-1)/$B$23)) -> 1686.6992 | AJ27: =(((4.17*10^13)*(($P$17*($O$17)^0.5))*((EXP(-67837/AI27))))/($B$16*6))*($B$15)*(10^-6) -> 7.3916733e-15 | AK27: =AK26*(($L27/$L26)^(($B$23-1)/$B$23)) -> 1627.4494 | AL27: =(((4.17*10^13)*(($P$18*($O$18)^0.5))*((EXP(-67837/AK27))))/($B$16*6))*($B$15)*(10^-6) -> 1.8296808e-15
K28: 7 | L28: 22 | M28: =M27*((L28/L27)^(($B$23-1)/$B$23)) -> 2690.0268 | N28: =(((4.17*10^13)*(($P$6*($O$6)^0.5))*((EXP(-67837/M28))))/($B$16*6))*($B$10/10)*(10^-6) -> 0 | O28: =O27*(($L28/$L27)^(($B$23-1)/$B$23)) -> 2672.4311 | P28: =(((4.17*10^13)*(($P$7*($O$7)^0.5))*((EXP(-67837/O28))))/($B$16*6))*($B$15)*(10^-6) -> 3.4332406e-09 | Q28: =Q27*(($L28/$L27)^(($B$23-1)/$B$23)) -> 2654.723 | R28: =(((4.17*10^13)*(($P$8*($O$8)^0.5))*((EXP(-67837/Q28))))/($B$16*6))*($B$15)*(10^-6) -> 4.1000703e-09 | S28: =S27*(($L28/$L27)^(($B$23-1)/$B$23)) -> 2636.9419 | T28: =(((4.17*10^13)*(($P$9*($O$9)^0.5))*((EXP(-67837/S28))))/($B$16*6))*($B$15)*(10^-6) -> 4.2277802e-09 | U28: =U27*(($L28/$L27)^(($B$23-1)/$B$23)) -> 2619.1277 | V28: =(((4.17*10^13)*(($P$10*($O$10)^0.5))*((EXP(-67837/U28))))/($B$16*6))*($B$15)*(10^-6) -> 4.0991986e-09 | W28: =W27*(($L28/$L27)^(($B$23-1)/$B$23)) -> 2601.2363 | X28: =(((4.17*10^13)*(($P$11*($O$11)^0.5))*((EXP(-67837/W28))))/($B$16*6))*($B$15)*(10^-6) -> 3.8361357e-09 | Y28: =Y27*(($L28/$L27)^(($B$23-1)/$B$23)) -> 2510.4115 | Z28: =(((4.17*10^13)*(($P$12*($O$12)^0.5))*((EXP(-67837/Y28))))/($B$16*6))*($B$15)*(10^-6) -> 2.114398e-09 | AA28: =AA27*(($L28/$L27)^(($B$23-1)/$B$23)) -> 2417.3467 | AB28: =(((4.17*10^13)*(($P$13*($O$13)^0.5))*((EXP(-67837/AA28))))/($B$16*6))*($B$15)*(10^-6) -> 9.1614722e-10 | AC28: =AC27*(($L28/$L27)^(($B$23-1)/$B$23)) -> 2321.669 | AD28: =(((4.17*10^13)*(($P$14*($O$14)^0.5))*((EXP(-67837/AC28))))/($B$16*6))*($B$15)*(10^-6) -> 3.3321265e-10 | AE28: =AE27*(($L28/$L27)^(($B$23-1)/$B$23)) -> 1826.4903 | AF28: =(((4.17*10^13)*(($P$15*($O$15)^0.5))*((EXP(-67837/AE28))))/($B$16*6))*($B$15)*(10^-6) -> 1.3533969e-13 | AG28: =AG27*(($L28/$L27)^(($B$23-1)/$B$23)) -> 1768.9778 | AH28: =(((4.17*10^13)*(($P$16*($O$16)^0.5))*((EXP(-67837/AG28))))/($B$16*6))*($B$15)*(10^-6) -> 4.4375487e-14 | AI28: =AI27*(($L28/$L27)^(($B$23-1)/$B$23)) -> 1710.2199 | AJ28: =(((4.17*10^13)*(($P$17*($O$17)^0.5))*((EXP(-67837/AI28))))/($B$16*6))*($B$15)*(10^-6) -> 1.2851811e-14 | AK28: =AK27*(($L28/$L27)^(($B$23-1)/$B$23)) -> 1650.1439 | AL28: =(((4.17*10^13)*(($P$18*($O$18)^0.5))*((EXP(-67837/AK28))))/($B$16*6))*($B$15)*(10^-6) -> 3.2459552e-15
E29: Enthalpy | K29: 8 | L29: 24 | M29: =M28*((L29/L28)^(($B$23-1)/$B$23)) -> 2724.2518 | N29: =(((4.17*10^13)*(($P$6*($O$6)^0.5))*((EXP(-67837/M29))))/($B$16*6))*($B$10/10)*(10^-6) -> 0 | O29: =O28*(($L29/$L28)^(($B$23-1)/$B$23)) -> 2706.4323 | P29: =(((4.17*10^13)*(($P$7*($O$7)^0.5))*((EXP(-67837/O29))))/($B$16*6))*($B$15)*(10^-6) -> 4.7228208e-09 | Q29: =Q28*(($L29/$L28)^(($B$23-1)/$B$23)) -> 2688.4988 | R29: =(((4.17*10^13)*(($P$8*($O$8)^0.5))*((EXP(-67837/Q29))))/($B$16*6))*($B$15)*(10^-6) -> 5.652133e-09 | S29: =S28*(($L29/$L28)^(($B$23-1)/$B$23)) -> 2670.4916 | T29: =(((4.17*10^13)*(($P$9*($O$9)^0.5))*((EXP(-67837/S29))))/($B$16*6))*($B$15)*(10^-6) -> 5.8408169e-09 | U29: =U28*(($L29/$L28)^(($B$23-1)/$B$23)) -> 2652.4507 | V29: =(((4.17*10^13)*(($P$10*($O$10)^0.5))*((EXP(-67837/U29))))/($B$16*6))*($B$15)*(10^-6) -> 5.6756398e-09 | W29: =W28*(($L29/$L28)^(($B$23-1)/$B$23)) -> 2634.3317 | X29: =(((4.17*10^13)*(($P$11*($O$11)^0.5))*((EXP(-67837/W29))))/($B$16*6))*($B$15)*(10^-6) -> 5.3233107e-09 | Y29: =Y28*(($L29/$L28)^(($B$23-1)/$B$23)) -> 2542.3513 | Z29: =(((4.17*10^13)*(($P$12*($O$12)^0.5))*((EXP(-67837/Y29))))/($B$16*6))*($B$15)*(10^-6) -> 2.9690838e-09 | AA29: =AA28*(($L29/$L28)^(($B$23-1)/$B$23)) -> 2448.1025 | AB29: =(((4.17*10^13)*(($P$13*($O$13)^0.5))*((EXP(-67837/AA29))))/($B$16*6))*($B$15)*(10^-6) -> 1.3033981e-09 | AC29: =AC28*(($L29/$L28)^(($B$23-1)/$B$23)) -> 2351.2075 | AD29: =(((4.17*10^13)*(($P$14*($O$14)^0.5))*((EXP(-67837/AC29))))/($B$16*6))*($B$15)*(10^-6) -> 4.8099785e-10 | AE29: =AE28*(($L29/$L28)^(($B$23-1)/$B$23)) -> 1849.7286 | AF29: =(((4.17*10^13)*(($P$15*($O$15)^0.5))*((EXP(-67837/AE29))))/($B$16*6))*($B$15)*(10^-6) -> 2.15808e-13 | AG29: =AG28*(($L29/$L28)^(($B$23-1)/$B$23)) -> 1791.4844 | AH29: =(((4.17*10^13)*(($P$16*($O$16)^0.5))*((EXP(-67837/AG29))))/($B$16*6))*($B$15)*(10^-6) -> 7.1841228e-14 | AI29: =AI28*(($L29/$L28)^(($B$23-1)/$B$23)) -> 1731.9789 | AJ29: =(((4.17*10^13)*(($P$17*($O$17)^0.5))*((EXP(-67837/AI29))))/($B$16*6))*($B$15)*(10^-6) -> 2.1153559e-14 | AK29: =AK28*(($L29/$L28)^(($B$23-1)/$B$23)) -> 1671.1386 | AL29: =(((4.17*10^13)*(($P$18*($O$18)^0.5))*((EXP(-67837/AK29))))/($B$16*6))*($B$15)*(10^-6) -> 5.4405238e-15
D30: polyCo2: | E30: =8.6E-19*(F27^6) - 1.037488E-14*(F27^5) + 4.968947595E-11*(F27^4) - 0.0000001201911805397*(F27^3) + 0.000156509548934808*(F27^2) - 0.0482393620326645*F27 + 5.20845196264969 -> 113.14533 | K30: 9 | L30: 26 | M30: =M29*((L30/L29)^(($B$23-1)/$B$23)) -> 2756.1202 | N30: =(((4.17*10^13)*(($P$6*($O$6)^0.5))*((EXP(-67837/M30))))/($B$16*6))*($B$10/10)*(10^-6) -> 0 | O30: =O29*(($L30/$L29)^(($B$23-1)/$B$23)) -> 2738.0922 | P30: =(((4.17*10^13)*(($P$7*($O$7)^0.5))*((EXP(-67837/O30))))/($B$16*6))*($B$15)*(10^-6) -> 6.310584e-09 | Q30: =Q29*(($L30/$L29)^(($B$23-1)/$B$23)) -> 2719.949 | R30: =(((4.17*10^13)*(($P$8*($O$8)^0.5))*((EXP(-67837/Q30))))/($B$16*6))*($B$15)*(10^-6) -> 7.5669358e-09 | S30: =S29*(($L30/$L29)^(($B$23-1)/$B$23)) -> 2701.731 | T30: =(((4.17*10^13)*(($P$9*($O$9)^0.5))*((EXP(-67837/S30))))/($B$16*6))*($B$15)*(10^-6) -> 7.8349398e-09 | U30: =U29*(($L30/$L29)^(($B$23-1)/$B$23)) -> 2683.4792 | V30: =(((4.17*10^13)*(($P$10*($O$10)^0.5))*((EXP(-67837/U30))))/($B$16*6))*($B$15)*(10^-6) -> 7.6285943e-09 | W30: =W29*(($L30/$L29)^(($B$23-1)/$B$23)) -> 2665.1482 | X30: =(((4.17*10^13)*(($P$11*($O$11)^0.5))*((EXP(-67837/W30))))/($B$16*6))*($B$15)*(10^-6) -> 7.1695988e-09 | Y30: =Y29*(($L30/$L29)^(($B$23-1)/$B$23)) -> 2572.0918 | Z30: =(((4.17*10^13)*(($P$12*($O$12)^0.5))*((EXP(-67837/Y30))))/($B$16*6))*($B$15)*(10^-6) -> 4.0421641e-09 | AA30: =AA29*(($L30/$L29)^(($B$23-1)/$B$23)) -> 2476.7405 | AB30: =(((4.17*10^13)*(($P$13*($O$13)^0.5))*((EXP(-67837/AA30))))/($B$16*6))*($B$15)*(10^-6) -> 1.7956722e-09 | AC30: =AC29*(($L30/$L29)^(($B$23-1)/$B$23)) -> 2378.712 | AD30: =(((4.17*10^13)*(($P$14*($O$14)^0.5))*((EXP(-67837/AC30))))/($B$16*6))*($B$15)*(10^-6) -> 6.7147153e-10 | AE30: =AE29*(($L30/$L29)^(($B$23-1)/$B$23)) -> 1871.3668 | AF30: =(((4.17*10^13)*(($P$15*($O$15)^0.5))*((EXP(-67837/AE30))))/($B$16*6))*($B$15)*(10^-6) -> 3.2978549e-13 | AG30: =AG29*(($L30/$L29)^(($B$23-1)/$B$23)) -> 1812.4412 | AH30: =(((4.17*10^13)*(($P$16*($O$16)^0.5))*((EXP(-67837/AG30))))/($B$16*6))*($B$15)*(10^-6) -> 1.1130771e-13 | AI30: =AI29*(($L30/$L29)^(($B$23-1)/$B$23)) -> 1752.2396 | AJ30: =(((4.17*10^13)*(($P$17*($O$17)^0.5))*((EXP(-67837/AI30))))/($B$16*6))*($B$15)*(10^-6) -> 3.3271162e-14 | AK30: =AK29*(($L30/$L29)^(($B$23-1)/$B$23)) -> 1690.6876 | AL30: =(((4.17*10^13)*(($P$18*($O$18)^0.5))*((EXP(-67837/AK30))))/($B$16*6))*($B$15)*(10^-6) -> 8.6993305e-15
D31: polyH2O | E31: =6.7E-19*(F27^6) - 7.89843E-15*(F27^5) + 3.687984988E-11*(F27^4) - 8.638622855912E-08*(F27^3) + 0.000110740178605573*(F27^2) - 0.031241611607915*F27 + 3.30066945333761 -> 91.945618 | K31: 10 | L31: 28 | M31: =M30*((L31/L30)^(($B$23-1)/$B$23)) -> 2785.958 | N31: =(((4.17*10^13)*(($P$6*($O$6)^0.5))*((EXP(-67837/M31))))/($B$16*6))*($B$10/10)*(10^-6) -> 0 | O31: =O30*(($L31/$L30)^(($B$23-1)/$B$23)) -> 2767.7348 | P31: =(((4.17*10^13)*(($P$7*($O$7)^0.5))*((EXP(-67837/O31))))/($B$16*6))*($B$15)*(10^-6) -> 8.2282466e-09 | Q31: =Q30*(($L31/$L30)^(($B$23-1)/$B$23)) -> 2749.3952 | R31: =(((4.17*10^13)*(($P$8*($O$8)^0.5))*((EXP(-67837/Q31))))/($B$16*6))*($B$15)*(10^-6) -> 9.8838576e-09 | S31: =S30*(($L31/$L30)^(($B$23-1)/$B$23)) -> 2730.98 | T31: =(((4.17*10^13)*(($P$9*($O$9)^0.5))*((EXP(-67837/S31))))/($B$16*6))*($B$15)*(10^-6) -> 1.0252371e-08 | U31: =U30*(($L31/$L30)^(($B$23-1)/$B$23)) -> 2712.5305 | V31: =(((4.17*10^13)*(($P$10*($O$10)^0.5))*((EXP(-67837/U31))))/($B$16*6))*($B$15)*(10^-6) -> 1.0000634e-08 | W31: =W30*(($L31/$L30)^(($B$23-1)/$B$23)) -> 2694.0011 | X31: =(((4.17*10^13)*(($P$11*($O$11)^0.5))*((EXP(-67837/W31))))/($B$16*6))*($B$15)*(10^-6) -> 9.4164371e-09 | Y31: =Y30*(($L31/$L30)^(($B$23-1)/$B$23)) -> 2599.9373 | Z31: =(((4.17*10^13)*(($P$12*($O$12)^0.5))*((EXP(-67837/Y31))))/($B$16*6))*($B$15)*(10^-6) -> 5.3615335e-09 | AA31: =AA30*(($L31/$L30)^(($B$23-1)/$B$23)) -> 2503.5537 | AB31: =(((4.17*10^13)*(($P$13*($O$13)^0.5))*((EXP(-67837/AA31))))/($B$16*6))*($B$15)*(10^-6) -> 2.4078253e-09 | AC31: =AC30*(($L31/$L30)^(($B$23-1)/$B$23)) -> 2404.4639 | AD31: =(((4.17*10^13)*(($P$14*($O$14)^0.5))*((EXP(-67837/AC31))))/($B$16*6))*($B$15)*(10^-6) -> 9.1133003e-10 | AE31: =AE30*(($L31/$L30)^(($B$23-1)/$B$23)) -> 1891.6262 | AF31: =(((4.17*10^13)*(($P$15*($O$15)^0.5))*((EXP(-67837/AE31))))/($B$16*6))*($B$15)*(10^-6) -> 4.8623002e-13 | AG31: =AG30*(($L31/$L30)^(($B$23-1)/$B$23)) -> 1832.0627 | AH31: =(((4.17*10^13)*(($P$16*($O$16)^0.5))*((EXP(-67837/AG31))))/($B$16*6))*($B$15)*(10^-6) -> 1.6619474e-13 | AI31: =AI30*(($L31/$L30)^(($B$23-1)/$B$23)) -> 1771.2094 | AJ31: =(((4.17*10^13)*(($P$17*($O$17)^0.5))*((EXP(-67837/AI31))))/($B$16*6))*($B$15)*(10^-6) -> 5.0366442e-14 | AK31: =AK30*(($L31/$L30)^(($B$23-1)/$B$23)) -> 1708.991 | AL31: =(((4.17*10^13)*(($P$18*($O$18)^0.5))*((EXP(-67837/AK31))))/($B$16*6))*($B$15)*(10^-6) -> 1.3369494e-14
D32: polyO2 | E32: =6.5E-19*(F27^6) - 7.82245E-15*(F27^5) + 0.0000000000371204177*(F27^4) - 8.798317617007E-08*(F27^3) + 0.000109823272345614*(F27^2) - 0.0326064446414848*F27 + 3.57864890028521 -> 72.616009 | K32: 11 | L32: 30 | M32: =M31*((L32/L31)^(($B$23-1)/$B$23)) -> 2814.0266 | N32: =(((4.17*10^13)*(($P$6*($O$6)^0.5))*((EXP(-67837/M32))))/($B$16*6))*($B$10/10)*(10^-6) -> 0 | O32: =O31*(($L32/$L31)^(($B$23-1)/$B$23)) -> 2795.6198 | P32: =(((4.17*10^13)*(($P$7*($O$7)^0.5))*((EXP(-67837/O32))))/($B$16*6))*($B$15)*(10^-6) -> 1.0507066e-08 | Q32: =Q31*(($L32/$L31)^(($B$23-1)/$B$23)) -> 2777.0954 | R32: =(((4.17*10^13)*(($P$8*($O$8)^0.5))*((EXP(-67837/Q32))))/($B$16*6))*($B$15)*(10^-6) -> 1.2641798e-08 | S32: =S31*(($L32/$L31)^(($B$23-1)/$B$23)) -> 2758.4947 | T32: =(((4.17*10^13)*(($P$9*($O$9)^0.5))*((EXP(-67837/S32))))/($B$16*6))*($B$15)*(10^-6) -> 1.3134919e-08 | U32: =U31*(($L32/$L31)^(($B$23-1)/$B$23)) -> 2739.8593 | V32: =(((4.17*10^13)*(($P$10*($O$10)^0.5))*((EXP(-67837/U32))))/($B$16*6))*($B$15)*(10^-6) -> 1.2834013e-08 | W32: =W31*(($L32/$L31)^(($B$23-1)/$B$23)) -> 2721.1432 | X32: =(((4.17*10^13)*(($P$11*($O$11)^0.5))*((EXP(-67837/W32))))/($B$16*6))*($B$15)*(10^-6) -> 1.2105053e-08 | Y32: =Y31*(($L32/$L31)^(($B$23-1)/$B$23)) -> 2626.1317 | Z32: =(((4.17*10^13)*(($P$12*($O$12)^0.5))*((EXP(-67837/Y32))))/($B$16*6))*($B$15)*(10^-6) -> 6.9552948e-09 | AA32: =AA31*(($L32/$L31)^(($B$23-1)/$B$23)) -> 2528.777 | AB32: =(((4.17*10^13)*(($P$13*($O$13)^0.5))*((EXP(-67837/AA32))))/($B$16*6))*($B$15)*(10^-6) -> 3.1550255e-09 | AC32: =AC31*(($L32/$L31)^(($B$23-1)/$B$23)) -> 2428.6889 | AD32: =(((4.17*10^13)*(($P$14*($O$14)^0.5))*((EXP(-67837/AC32))))/($B$16*6))*($B$15)*(10^-6) -> 1.2075102e-09 | AE32: =AE31*(($L32/$L31)^(($B$23-1)/$B$23)) -> 1910.6844 | AF32: =(((4.17*10^13)*(($P$15*($O$15)^0.5))*((EXP(-67837/AE32))))/($B$16*6))*($B$15)*(10^-6) -> 6.9532936e-13 | AG32: =AG31*(($L32/$L31)^(($B$23-1)/$B$23)) -> 1850.5208 | AH32: =(((4.17*10^13)*(($P$16*($O$16)^0.5))*((EXP(-67837/AG32))))/($B$16*6))*($B$15)*(10^-6) -> 2.4044555e-13 | AI32: =AI31*(($L32/$L31)^(($B$23-1)/$B$23)) -> 1789.0544 | AJ32: =(((4.17*10^13)*(($P$17*($O$17)^0.5))*((EXP(-67837/AI32))))/($B$16*6))*($B$15)*(10^-6) -> 7.3799184e-14 | AK32: =AK31*(($L32/$L31)^(($B$23-1)/$B$23)) -> 1726.2092 | AL32: =(((4.17*10^13)*(($P$18*($O$18)^0.5))*((EXP(-67837/AK32))))/($B$16*6))*($B$15)*(10^-6) -> 1.9863943e-14
D33: polyN2 | E33: =5.9E-19*(F27^6) - 7.10207E-15*(F27^5) + 3.346089681E-11*(F27^4) - 7.890960163412E-08*(F27^3) + 0.000098599769211504*(F27^2) - 0.028172899155961*F27 + 3.05378907997741 -> 68.19417 | K33: 12 | L33: 32 | M33: =M32*((L33/L32)^(($B$23-1)/$B$23)) -> 2840.5389 | N33: =(((4.17*10^13)*(($P$6*($O$6)^0.5))*((EXP(-67837/M33))))/($B$16*6))*($B$10/10)*(10^-6) -> 0 | O33: =O32*(($L33/$L32)^(($B$23-1)/$B$23)) -> 2821.9587 | P33: =(((4.17*10^13)*(($P$7*($O$7)^0.5))*((EXP(-67837/O33))))/($B$16*6))*($B$15)*(10^-6) -> 1.3177767e-08 | Q33: =Q32*(($L33/$L32)^(($B$23-1)/$B$23)) -> 2803.2598 | R33: =(((4.17*10^13)*(($P$8*($O$8)^0.5))*((EXP(-67837/Q33))))/($B$16*6))*($B$15)*(10^-6) -> 1.587908e-08 | S33: =S32*(($L33/$L32)^(($B$23-1)/$B$23)) -> 2784.4838 | T33: =(((4.17*10^13)*(($P$9*($O$9)^0.5))*((EXP(-67837/S33))))/($B$16*6))*($B$15)*(10^-6) -> 1.6523863e-08 | U33: =U32*(($L33/$L32)^(($B$23-1)/$B$23)) -> 2765.6729 | V33: =(((4.17*10^13)*(($P$10*($O$10)^0.5))*((EXP(-67837/U33))))/($B$16*6))*($B$15)*(10^-6) -> 1.6170545e-08 | W33: =W32*(($L33/$L32)^(($B$23-1)/$B$23)) -> 2746.7804 | X33: =(((4.17*10^13)*(($P$11*($O$11)^0.5))*((EXP(-67837/W33))))/($B$16*6))*($B$15)*(10^-6) -> 1.5276335e-08 | Y33: =Y32*(($L33/$L32)^(($B$23-1)/$B$23)) -> 2650.8738 | Z33: =(((4.17*10^13)*(($P$12*($O$12)^0.5))*((EXP(-67837/Y33))))/($B$16*6))*($B$15)*(10^-6) -> 8.8516456e-09 | AA33: =AA32*(($L33/$L32)^(($B$23-1)/$B$23)) -> 2552.6019 | AB33: =(((4.17*10^13)*(($P$13*($O$13)^0.5))*((EXP(-67837/AA33))))/($B$16*6))*($B$15)*(10^-6) -> 4.0526816e-09 | AC33: =AC32*(($L33/$L32)^(($B$23-1)/$B$23)) -> 2451.5708 | AD33: =(((4.17*10^13)*(($P$14*($O$14)^0.5))*((EXP(-67837/AC33))))/($B$16*6))*($B$15)*(10^-6) -> 1.567154e-09 | AE33: =AE32*(($L33/$L32)^(($B$23-1)/$B$23)) -> 1928.6859 | AF33: =(((4.17*10^13)*(($P$15*($O$15)^0.5))*((EXP(-67837/AE33))))/($B$16*6))*($B$15)*(10^-6) -> 9.685157e-13 | AG33: =AG32*(($L33/$L32)^(($B$23-1)/$B$23)) -> 1867.9554 | AH33: =(((4.17*10^13)*(($P$16*($O$16)^0.5))*((EXP(-67837/AG33))))/($B$16*6))*($B$15)*(10^-6) -> 3.3854141e-13 | AI33: =AI32*(($L33/$L32)^(($B$23-1)/$B$23)) -> 1805.9099 | AJ33: =(((4.17*10^13)*(($P$17*($O$17)^0.5))*((EXP(-67837/AI33))))/($B$16*6))*($B$15)*(10^-6) -> 1.0513611e-13 | AK33: =AK32*(($L33/$L32)^(($B$23-1)/$B$23)) -> 1742.4726 | AL33: =(((4.17*10^13)*(($P$18*($O$18)^0.5))*((EXP(-67837/AK33))))/($B$16*6))*($B$15)*(10^-6) -> 2.866563e-14
D34: (8*ϕ*(polyCO2))+(9*ϕ*polyH2O)+(x*(1-ϕ)*polyO2)+(47*polyN2) | K34: 13 | L34: 34 | M34: =M33*((L34/L33)^(($B$23-1)/$B$23)) -> 2865.6709 | N34: =(((4.17*10^13)*(($P$6*($O$6)^0.5))*((EXP(-67837/M34))))/($B$16*6))*($B$10/10)*(10^-6) -> 0 | O34: =O33*(($L34/$L33)^(($B$23-1)/$B$23)) -> 2846.9263 | P34: =(((4.17*10^13)*(($P$7*($O$7)^0.5))*((EXP(-67837/O34))))/($B$16*6))*($B$15)*(10^-6) -> 1.6270497e-08 | Q34: =Q33*(($L34/$L33)^(($B$23-1)/$B$23)) -> 2828.0619 | R34: =(((4.17*10^13)*(($P$8*($O$8)^0.5))*((EXP(-67837/Q34))))/($B$16*6))*($B$15)*(10^-6) -> 1.963338e-08 | S34: =S33*(($L34/$L33)^(($B$23-1)/$B$23)) -> 2809.1199 | T34: =(((4.17*10^13)*(($P$9*($O$9)^0.5))*((EXP(-67837/S34))))/($B$16*6))*($B$15)*(10^-6) -> 2.0459868e-08 | U34: =U33*(($L34/$L33)^(($B$23-1)/$B$23)) -> 2790.1425 | V34: =(((4.17*10^13)*(($P$10*($O$10)^0.5))*((EXP(-67837/U34))))/($B$16*6))*($B$15)*(10^-6) -> 2.0051507e-08 | W34: =W33*(($L34/$L33)^(($B$23-1)/$B$23)) -> 2771.0829 | X34: =(((4.17*10^13)*(($P$11*($O$11)^0.5))*((EXP(-67837/W34))))/($B$16*6))*($B$15)*(10^-6) -> 1.8970732e-08 | Y34: =Y33*(($L34/$L33)^(($B$23-1)/$B$23)) -> 2674.3277 | Z34: =(((4.17*10^13)*(($P$12*($O$12)^0.5))*((EXP(-67837/Y34))))/($B$16*6))*($B$15)*(10^-6) -> 1.1078785e-08 | AA34: =AA33*(($L34/$L33)^(($B$23-1)/$B$23)) -> 2575.1863 | AB34: =(((4.17*10^13)*(($P$13*($O$13)^0.5))*((EXP(-67837/AA34))))/($B$16*6))*($B$15)*(10^-6) -> 5.1163826e-09 | AC34: =AC33*(($L34/$L33)^(($B$23-1)/$B$23)) -> 2473.2614 | AD34: =(((4.17*10^13)*(($P$14*($O$14)^0.5))*((EXP(-67837/AC34))))/($B$16*6))*($B$15)*(10^-6) -> 1.9975772e-09 | AE34: =AE33*(($L34/$L33)^(($B$23-1)/$B$23)) -> 1945.7502 | AF34: =(((4.17*10^13)*(($P$15*($O$15)^0.5))*((EXP(-67837/AE34))))/($B$16*6))*($B$15)*(10^-6) -> 1.3184732e-12 | AG34: =AG33*(($L34/$L33)^(($B$23-1)/$B$23)) -> 1884.4824 | AH34: =(((4.17*10^13)*(($P$16*($O$16)^0.5))*((EXP(-67837/AG34))))/($B$16*6))*($B$15)*(10^-6) -> 4.6551304e-13 | AI34: =AI33*(($L34/$L33)^(($B$23-1)/$B$23)) -> 1821.8879 | AJ34: =(((4.17*10^13)*(($P$17*($O$17)^0.5))*((EXP(-67837/AI34))))/($B$16*6))*($B$15)*(10^-6) -> 1.4615854e-13 | AK34: =AK33*(($L34/$L33)^(($B$23-1)/$B$23)) -> 1757.8894 | AL34: =(((4.17*10^13)*(($P$18*($O$18)^0.5))*((EXP(-67837/AK34))))/($B$16*6))*($B$15)*(10^-6) -> 4.0331331e-14
K35: 14 | L35: 36 | M35: =M34*((L35/L34)^(($B$23-1)/$B$23)) -> 2889.5696 | N35: =(((4.17*10^13)*(($P$6*($O$6)^0.5))*((EXP(-67837/M35))))/($B$16*6))*($B$10/10)*(10^-6) -> 0 | O35: =O34*(($L35/$L34)^(($B$23-1)/$B$23)) -> 2870.6687 | P35: =(((4.17*10^13)*(($P$7*($O$7)^0.5))*((EXP(-67837/O35))))/($B$16*6))*($B$15)*(10^-6) -> 1.9814786e-08 | Q35: =Q34*(($L35/$L34)^(($B$23-1)/$B$23)) -> 2851.647 | R35: =(((4.17*10^13)*(($P$8*($O$8)^0.5))*((EXP(-67837/Q35))))/($B$16*6))*($B$15)*(10^-6) -> 2.3941676e-08 | S35: =S34*(($L35/$L34)^(($B$23-1)/$B$23)) -> 2832.547 | T35: =(((4.17*10^13)*(($P$9*($O$9)^0.5))*((EXP(-67837/S35))))/($B$16*6))*($B$15)*(10^-6) -> 2.4982925e-08 | U35: =U34*(($L35/$L34)^(($B$23-1)/$B$23)) -> 2813.4114 | V35: =(((4.17*10^13)*(($P$10*($O$10)^0.5))*((EXP(-67837/U35))))/($B$16*6))*($B$15)*(10^-6) -> 2.4517572e-08 | W35: =W34*(($L35/$L34)^(($B$23-1)/$B$23)) -> 2794.1928 | X35: =(((4.17*10^13)*(($P$11*($O$11)^0.5))*((EXP(-67837/W35))))/($B$16*6))*($B$15)*(10^-6) -> 2.322818e-08 | Y35: =Y34*(($L35/$L34)^(($B$23-1)/$B$23)) -> 2696.6307 | Z35: =(((4.17*10^13)*(($P$12*($O$12)^0.5))*((EXP(-67837/Y35))))/($B$16*6))*($B$15)*(10^-6) -> 1.3664839e-08 | AA35: =AA34*(($L35/$L34)^(($B$23-1)/$B$23)) -> 2596.6625 | AB35: =(((4.17*10^13)*(($P$13*($O$13)^0.5))*((EXP(-67837/AA35))))/($B$16*6))*($B$15)*(10^-6) -> 6.3618452e-09 | AC35: =AC34*(($L35/$L34)^(($B$23-1)/$B$23)) -> 2493.8875 | AD35: =(((4.17*10^13)*(($P$14*($O$14)^0.5))*((EXP(-67837/AC35))))/($B$16*6))*($B$15)*(10^-6) -> 2.506242e-09 | AE35: =AE34*(($L35/$L34)^(($B$23-1)/$B$23)) -> 1961.9771 | AF35: =(((4.17*10^13)*(($P$15*($O$15)^0.5))*((EXP(-67837/AE35))))/($B$16*6))*($B$15)*(10^-6) -> 1.7591396e-12 | AG35: =AG34*(($L35/$L34)^(($B$23-1)/$B$23)) -> 1900.1983 | AH35: =(((4.17*10^13)*(($P$16*($O$16)^0.5))*((EXP(-67837/AG35))))/($B$16*6))*($B$15)*(10^-6) -> 6.2694908e-13 | AI35: =AI34*(($L35/$L34)^(($B$23-1)/$B$23)) -> 1837.0819 | AJ35: =(((4.17*10^13)*(($P$17*($O$17)^0.5))*((EXP(-67837/AI35))))/($B$16*6))*($B$15)*(10^-6) -> 1.9886894e-13 | AK35: =AK34*(($L35/$L34)^(($B$23-1)/$B$23)) -> 1772.5495 | AL35: =(((4.17*10^13)*(($P$18*($O$18)^0.5))*((EXP(-67837/AK35))))/($B$16*6))*($B$15)*(10^-6) -> 5.5495074e-14
K36: 15 | L36: 38 | M36: =M35*((L36/L35)^(($B$23-1)/$B$23)) -> 2912.3592 | N36: =(((4.17*10^13)*(($P$6*($O$6)^0.5))*((EXP(-67837/M36))))/($B$16*6))*($B$10/10)*(10^-6) -> 0 | O36: =O35*(($L36/$L35)^(($B$23-1)/$B$23)) -> 2893.3092 | P36: =(((4.17*10^13)*(($P$7*($O$7)^0.5))*((EXP(-67837/O36))))/($B$16*6))*($B$15)*(10^-6) -> 2.3839528e-08 | Q36: =Q35*(($L36/$L35)^(($B$23-1)/$B$23)) -> 2874.1375 | R36: =(((4.17*10^13)*(($P$8*($O$8)^0.5))*((EXP(-67837/Q36))))/($B$16*6))*($B$15)*(10^-6) -> 2.8840216e-08 | S36: =S35*(($L36/$L35)^(($B$23-1)/$B$23)) -> 2854.8869 | T36: =(((4.17*10^13)*(($P$9*($O$9)^0.5))*((EXP(-67837/S36))))/($B$16*6))*($B$15)*(10^-6) -> 3.0132306e-08 | U36: =U35*(($L36/$L35)^(($B$23-1)/$B$23)) -> 2835.6003 | V36: =(((4.17*10^13)*(($P$10*($O$10)^0.5))*((EXP(-67837/U36))))/($B$16*6))*($B$15)*(10^-6) -> 2.9608753e-08 | W36: =W35*(($L36/$L35)^(($B$23-1)/$B$23)) -> 2816.2302 | X36: =(((4.17*10^13)*(($P$11*($O$11)^0.5))*((EXP(-67837/W36))))/($B$16*6))*($B$15)*(10^-6) -> 2.8088041e-08 | Y36: =Y35*(($L36/$L35)^(($B$23-1)/$B$23)) -> 2717.8986 | Z36: =(((4.17*10^13)*(($P$12*($O$12)^0.5))*((EXP(-67837/Y36))))/($B$16*6))*($B$15)*(10^-6) -> 1.6637796e-08 | AA36: =AA35*(($L36/$L35)^(($B$23-1)/$B$23)) -> 2617.142 | AB36: =(((4.17*10^13)*(($P$13*($O$13)^0.5))*((EXP(-67837/AA36))))/($B$16*6))*($B$15)*(10^-6) -> 7.8048701e-09 | AC36: =AC35*(($L36/$L35)^(($B$23-1)/$B$23)) -> 2513.5565 | AD36: =(((4.17*10^13)*(($P$14*($O$14)^0.5))*((EXP(-67837/AC36))))/($B$16*6))*($B$15)*(10^-6) -> 3.1007331e-09 | AE36: =AE35*(($L36/$L35)^(($B$23-1)/$B$23)) -> 1977.4509 | AF36: =(((4.17*10^13)*(($P$15*($O$15)^0.5))*((EXP(-67837/AE36))))/($B$16*6))*($B$15)*(10^-6) -> 2.3057032e-12 | AG36: =AG35*(($L36/$L35)^(($B$23-1)/$B$23)) -> 1915.1849 | AH36: =(((4.17*10^13)*(($P$16*($O$16)^0.5))*((EXP(-67837/AG36))))/($B$16*6))*($B$15)*(10^-6) -> 8.2900205e-13 | AI36: =AI35*(($L36/$L35)^(($B$23-1)/$B$23)) -> 1851.5707 | AJ36: =(((4.17*10^13)*(($P$17*($O$17)^0.5))*((EXP(-67837/AI36))))/($B$16*6))*($B$15)*(10^-6) -> 2.6549638e-13 | AK36: =AK35*(($L36/$L35)^(($B$23-1)/$B$23)) -> 1786.5294 | AL36: =(((4.17*10^13)*(($P$18*($O$18)^0.5))*((EXP(-67837/AK36))))/($B$16*6))*($B$15)*(10^-6) -> 7.4871197e-14
K37: 16 | L37: 40 | M37: =M36*((L37/L36)^(($B$23-1)/$B$23)) -> 2934.1458 | N37: =(((4.17*10^13)*(($P$6*($O$6)^0.5))*((EXP(-67837/M37))))/($B$16*6))*($B$10/10)*(10^-6) -> 0 | O37: =O36*(($L37/$L36)^(($B$23-1)/$B$23)) -> 2914.9532 | P37: =(((4.17*10^13)*(($P$7*($O$7)^0.5))*((EXP(-67837/O37))))/($B$16*6))*($B$15)*(10^-6) -> 2.8372965e-08 | Q37: =Q36*(($L37/$L36)^(($B$23-1)/$B$23)) -> 2895.6381 | R37: =(((4.17*10^13)*(($P$8*($O$8)^0.5))*((EXP(-67837/Q37))))/($B$16*6))*($B$15)*(10^-6) -> 3.436449e-08 | S37: =S36*(($L37/$L36)^(($B$23-1)/$B$23)) -> 2876.2435 | T37: =(((4.17*10^13)*(($P$9*($O$9)^0.5))*((EXP(-67837/S37))))/($B$16*6))*($B$15)*(10^-6) -> 3.5946531e-08 | U37: =U36*(($L37/$L36)^(($B$23-1)/$B$23)) -> 2856.8127 | V37: =(((4.17*10^13)*(($P$10*($O$10)^0.5))*((EXP(-67837/U37))))/($B$16*6))*($B$15)*(10^-6) -> 3.5364368e-08 | W37: =W36*(($L37/$L36)^(($B$23-1)/$B$23)) -> 2837.2976 | X37: =(((4.17*10^13)*(($P$11*($O$11)^0.5))*((EXP(-67837/W37))))/($B$16*6))*($B$15)*(10^-6) -> 3.358906e-08 | Y37: =Y36*(($L37/$L36)^(($B$23-1)/$B$23)) -> 2738.2304 | Z37: =(((4.17*10^13)*(($P$12*($O$12)^0.5))*((EXP(-67837/Y37))))/($B$16*6))*($B$15)*(10^-6) -> 2.0025458e-08 | AA37: =AA36*(($L37/$L36)^(($B$23-1)/$B$23)) -> 2636.7201 | AB37: =(((4.17*10^13)*(($P$13*($O$13)^0.5))*((EXP(-67837/AA37))))/($B$16*6))*($B$15)*(10^-6) -> 9.4613038e-09 | AC37: =AC36*(($L37/$L36)^(($B$23-1)/$B$23)) -> 2532.3597 | AD37: =(((4.17*10^13)*(($P$14*($O$14)^0.5))*((EXP(-67837/AC37))))/($B$16*6))*($B$15)*(10^-6) -> 3.7887357e-09 | AE37: =AE36*(($L37/$L36)^(($B$23-1)/$B$23)) -> 1992.2436 | AF37: =(((4.17*10^13)*(($P$15*($O$15)^0.5))*((EXP(-67837/AE37))))/($B$16*6))*($B$15)*(10^-6) -> 2.9745958e-12 | AG37: =AG36*(($L37/$L36)^(($B$23-1)/$B$23)) -> 1929.5119 | AH37: =(((4.17*10^13)*(($P$16*($O$16)^0.5))*((EXP(-67837/AG37))))/($B$16*6))*($B$15)*(10^-6) -> 1.0783922e-12 | AI37: =AI36*(($L37/$L36)^(($B$23-1)/$B$23)) -> 1865.4217 | AJ37: =(((4.17*10^13)*(($P$17*($O$17)^0.5))*((EXP(-67837/AI37))))/($B$16*6))*($B$15)*(10^-6) -> 3.48501e-13 | AK37: =AK36*(($L37/$L36)^(($B$23-1)/$B$23)) -> 1799.8939 | AL37: =(((4.17*10^13)*(($P$18*($O$18)^0.5))*((EXP(-67837/AK37))))/($B$16*6))*($B$15)*(10^-6) -> 9.9257075e-14
K38: SUM: | N38: 0 | P38: =SUM(P22:P37) -> 1.4084146e-07 | R38: =SUM(R22:R37) -> 1.6982019e-07 | T38: =SUM(T22:T37) -> 1.7683439e-07 | V38: =SUM(V22:V37) -> 1.7317561e-07 | X38: =SUM(X22:X37) -> 1.6372133e-07 | Z38: =SUM(Z22:Z37) -> 9.5283141e-08 | AB38: =SUM(AB22:AB37) -> 4.3872453e-08 | AD38: =SUM(AD22:AD37) -> 1.7088624e-08 | AF38: =SUM(AF22:AF37) -> 1.1354761e-11 | AH38: =SUM(AH22:AH37) -> 4.0250535e-12 | AJ38: =SUM(AJ22:AJ37) -> 1.2702413e-12 | AL38: =SUM(AL22:AL37) -> 3.5278945e-13
D44: (ϕCxHy+a(O2+ACR N2))+ EGR%(n1 CO2+ n2H2O+n3 O2+n4 N2)→(1 + EGR%)( n1 CO2 + n2 H2O + n3 O2 + n4 N2)
D45: EGR% (ϕCxHy + a(O2 + ACRN2)) → n1 VO2 + n2 H2O + n3 O2 + n4 N2
D46: carbon (x) | E46: =E52*8 -> 7.76 | F46: a | G46: 12.5
D47: hydrogen (y) | E47: =E52*18 -> 17.46 | F47: CO2 | G47: =8*E52*(1+E53) -> 10.088 | H47: n1
F48: H2O | G48: =9*E52*(1+E53) -> 11.349 | H48: n2
F49: O2 | G49: =G46*(1-E52)*(1+E53) -> 0.4875 | H49: n3
F50: N2 | G50: =G46*E51*(1+E53) -> 61.1 | H50: n4
D51: ACR | E51: 3.76
D52: ϕ | E52: 0.97
D53: EGR | E53: 0.3 | F53: EGR | G53: ϕ | H53: α | I53: [O2] | J53: [N2] | K53: enthalpy | L53: flame T | M53: h reactors | N53: h released | O53: h NET | P53: CO2 [n1] | Q53: H2O [n2] | R53: O2 [n3] | S53: N2 [n4] | T53: Nox (PPM)
D54: η | E54: 0.4 | F54: =E53 -> 0.3 | G54: 0.97 | H54: =E63 -> 1.0861814e-07 | I54: =($G$49*$H$54)/($E$58*10^-6) -> 0.0013237836 | J54: =($G$50*$H$54)/($E$58*10^-6) -> 0.16591421 | K54: =(G47*E68)+(G48*E69)+(G50*E71)+(E70*G49) -> 4913.05 | L54: =E65 -> 1920.2482 | O54: 4913.05 | P54: =G47 -> 10.088 | Q54: =G48 -> 11.349 | R54: =G49 -> 0.4875 | S54: =G50 -> 61.1
D55: CC | E55: 1600
D56: # cyl | E56: 4
D57: cc/cyl | E57: =E55/E56 -> 400
D58: clearance | E58: =E57*0.1 -> 40 | F58: EGR | G58: ϕ | H58: α | I58: [O2] | J58: [N2] | K58: enthalpy | L58: flame T | M58: h reactors | N58: h released | O58: h NET | P58: CO2 [n1] | Q58: H2O [n2] | R58: O2 [n3] | S58: N2 [n4] | T58: Nox (PPM)
D59: rpm | E59: 1800 | F59: 0 | G59: 0.97 | H59: 1.0861814e-07 | I59: 0.0010182951 | J59: 0.12762632 | K59: 4913.0497 | L59: 2351.5286 | O59: 4913.05 | P59: 7.76 | Q59: 8.73 | R59: 0.375 | S59: 47
D60: T [K] | E60: =20+273 -> 293
D61: R | E61: 8314
D62: n [mol] | E62: =(10^5*(E57*E54*10^-6))/(E61*E60) -> 6.5681391e-06 | F62: EGR | G62: ϕ | H62: α | I62: [O2] | J62: [N2] | K62: enthalpy | L62: flame T | M62: h reactors | N62: h released | O62: h NET | P62: CO2 [n1] | Q62: H2O [n2] | R62: O2 [n3] | S62: N2 [n4] | T62: Nox (PPM)
D63: α | E63: =E62/(E52+(G46*(1+E51))) -> 1.0861814e-07 | F63: 0.05 | G63: 0.97 | H63: 1.0861814e-07 | I63: 0.0010692098 | J63: 0.13400763 | K63: 4913.0505 | L63: 2263.8252 | O63: 4913.05 | P63: 8.148 | Q63: 9.1665 | R63: 0.39375 | S63: 49.35
D64: n | E64: 1.17 | L64: =1-(L63/L59) -> 0.037296367
D65: temperature | E65: 1920.2482
F66: EGR | G66: ϕ | H66: α | I66: [O2] | J66: [N2] | K66: enthalpy | L66: flame T | M66: h reactors | N66: h released | O66: h NET | P66: CO2 [n1] | Q66: H2O [n2] | R66: O2 [n3] | S66: N2 [n4] | T66: Nox (PPM)
E67: Enthalpy | F67: 0.1 | G67: 0.97 | H67: 1.0861814e-07 | I67: 0.0011201246 | J67: 0.14038895 | K67: 4913.05 | L67: 2183.7078 | O67: 4913.05 | P67: 8.536 | Q67: 9.603 | R67: 0.4125 | S67: 51.7
D68: polyCo2: | E68: =8.6E-19*(E65^6) - 1.037488E-14*(E65^5) + 4.968947595E-11*(E65^4) - 0.0000001201911805397*(E65^3) + 0.000156509548934808*(E65^2) - 0.0482393620326645*E65 + 5.20845196264969 -> 86.500608 | L68: =1-(L67/L59) -> 0.071366697
D69: polyH2O | E69: =6.7E-19*(E65^6) - 7.89843E-15*(E65^5) + 3.687984988E-11*(E65^4) - 8.638622855912E-08*(E65^3) + 0.000110740178605573*(E65^2) - 0.031241611607915*E65 + 3.30066945333761 -> 68.789748
D70: polyO2 | E70: =6.5E-19*(E65^6) - 7.82245E-15*(E65^5) + 0.0000000000371204177*(E65^4) - 8.798317617007E-08*(E65^3) + 0.000109823272345614*(E65^2) - 0.0326064446414848*E65 + 3.57864890028521 -> 56.010489 | F70: EGR | G70: ϕ | H70: α | I70: [O2] | J70: [N2] | K70: enthalpy | L70: flame T | M70: h reactors | N70: h released | O70: h NET | P70: CO2 [n1] | Q70: H2O [n2] | R70: O2 [n3] | S70: N2 [n4] | T70: Nox (PPM)
D71: polyN2 | E71: =5.9E-19*(E65^6) - 7.10207E-15*(E65^5) + 3.346089681E-11*(E65^4) - 7.890960163412E-08*(E65^3) + 0.000098599769211504*(E65^2) - 0.028172899155961*E65 + 3.05378907997741 -> 52.903959 | F71: 0.15 | G71: 0.97 | H71: 1.0861814e-07 | I71: 0.0011710394 | J71: 0.14677027 | K71: 4913.05 | L71: 2110.0665 | O71: 4913.05 | P71: 8.924 | Q71: 10.0395 | R71: 0.43125 | S71: 54.05
L72: =1-(L71/L59) -> 0.10268303
F74: EGR | G74: ϕ | H74: α | I74: [O2] | J74: [N2] | K74: enthalpy | L74: flame T | M74: h reactors | N74: h released | O74: h NET | P74: CO2 [n1] | Q74: H2O [n2] | R74: O2 [n3] | S74: N2 [n4] | T74: Nox (PPM)
F75: 0.2 | G75: 0.97 | H75: 1.0861814e-07 | I75: 0.0012219541 | J75: 0.15315158 | K75: 4913.05 | L75: 2042.0415 | O75: 4913.05 | P75: 9.312 | Q75: 10.476 | R75: 0.45 | S75: 56.4
L76: =1-(L75/L59) -> 0.13161103
F78: EGR | G78: ϕ | H78: α | I78: [O2] | J78: [N2] | K78: enthalpy | L78: flame T | M78: h reactors | N78: h released | O78: h NET | P78: CO2 [n1] | Q78: H2O [n2] | R78: O2 [n3] | S78: N2 [n4]
F79: 0.25 | G79: 0.97 | H79: 1.0861814e-07 | I79: 0.0012728689 | J79: 0.1595329 | K79: 4913.05 | L79: 1978.9522 | O79: 4913.05 | P79: 9.7 | Q79: 10.9125 | R79: 0.46875 | S79: 58.75
L80: =1-(L79/L59) -> 0.1584401
F82: EGR | G82: ϕ | H82: α | I82: [O2] | J82: [N2] | K82: enthalpy | L82: flame T | M82: h reactors | N82: h released | O82: h NET | P82: CO2 [n1] | Q82: H2O [n2] | R82: O2 [n3] | S82: N2 [n4]
F83: 0.3 | G83: 0.97 | H83: 1.0861814e-07 | I83: 0.0013237836 | J83: 0.16591421 | K83: 4913.05 | L83: 1920.2482 | O83: 4913.05 | P83: 10.088 | Q83: 11.349 | R83: 0.4875 | S83: 61.1
L84: =1-(L83/L59) -> 0.1834043

Sheet tables
B2: CO2 | I2: H2O | P2: O2 | W2: N2
B19: T(K) | C19: c^p [kJ/kmol-K] | D19: h^h^0 [MJ/kmol] | E19: s^ [kJ/kmol-K] | F19: g0R^uT | I19: T(K) | J19: c^p [kJ/kmol-K] | K19: h^h^0 [MJ/kmol] | L19: s^ [kJ/kmol-K] | M19: g0R^uT | P19: T(K) | Q19: c^p [kJ/kmol-K] | R19: h^h^0 [MJ/kmol] | S19: s^ [kJ/kmol-K] | T19: g0R^uT | W19: T(K) | X19: c^p [kJ/kmol-K] | Y19: h^h^0 [MJ/kmol] | Z19: s^ [kJ/kmol-K] | AA19: g0R^uT
B20: 200 | C20: 32.39 | D20: 3.42 | E20: 199.87 | F20: 262.76 | I20: 200 | J20: 32.25 | K20: 3.23 | L20: 175.59 | M20: 168.5 | P20: 200 | Q20: 28.47 | R20: 2.84 | S20: 193.51 | T20: 24.98 | W20: 200 | X20: 28.79 | Y20: 2.84 | Z20: 179.95 | AA20: 23.35
B21: 250 | C21: 34.96 | D21: 1.74 | E21: 207.37 | F21: 215.11 | I21: 250 | J21: 32.9 | K21: 1.6 | L21: 182.86 | M21: 139.11 | P21: 250 | Q21: 28.9 | R21: 1.4 | S21: 199.91 | T21: 24.72 | W21: 250 | X21: 28.95 | Y21: 1.4 | Z21: 186.39 | AA21: 23.09
B22: 298 | C22: 37.2 | D22: 0 | E22: 213.73 | F22: 184.46 | I22: 298 | J22: 33.45 | K22: 0 | L22: 188.71 | M22: 120.26 | P22: 298 | Q22: 29.31 | R22: 0 | S22: 205.03 | T22: 24.66 | W22: 298 | X22: 29.07 | Y22: 0 | Z22: 191.5 | AA22: 23.03
B23: 300 | C23: 37.28 | D23: 0.07 | E23: 213.96 | F23: 183.48 | I23: 300 | J23: 33.47 | K23: 0.06 | L23: 188.91 | M23: 119.66 | P23: 300 | Q23: 29.33 | R23: 0.05 | S23: 205.21 | T23: 24.66 | W23: 300 | X23: 29.07 | Y23: 0.05 | Z23: 191.68 | AA23: 23.03
B24: 350 | C24: 39.37 | D24: 1.99 | E24: 219.86 | F24: 161 | I24: 350 | J24: 33.97 | K24: 1.75 | L24: 194.11 | M24: 105.85 | P24: 350 | Q24: 29.77 | R24: 1.53 | S24: 209.77 | T24: 24.7 | W24: 350 | X24: 29.19 | Y24: 1.51 | Z24: 196.17 | AA24: 23.08
B25: 400 | C25: 41.27 | D25: 4 | E25: 225.25 | F25: 144.22 | I25: 400 | J25: 34.44 | K25: 3.46 | L25: 198.68 | M25: 95.58 | P25: 400 | Q25: 30.21 | R25: 3.03 | S25: 213.77 | T25: 24.8 | W25: 400 | X25: 29.32 | Y25: 2.97 | Z25: 200.08 | AA25: 23.17
B26: 450 | C26: 43 | D26: 6.11 | E26: 230.21 | F26: 131.24 | I26: 450 | J26: 34.89 | K26: 5.19 | L26: 202.76 | M26: 87.64 | P26: 450 | Q26: 30.66 | R26: 4.55 | S26: 217.36 | T26: 24.93 | W26: 450 | X26: 29.46 | Y26: 4.44 | Z26: 203.54 | AA26: 23.29
B27: 500 | C27: 44.57 | D27: 8.3 | E27: 234.82 | F27: 120.91 | I27: 500 | J27: 35.34 | K27: 6.95 | L27: 206.46 | M27: 81.34 | P27: 500 | Q27: 31.11 | R27: 6.1 | S27: 220.61 | T27: 25.07 | W27: 500 | X27: 29.63 | Y27: 5.92 | Z27: 206.65 | AA27: 23.43
B28: 550 | C28: 46 | D28: 10.56 | E28: 239.14 | F28: 112.51 | I28: 550 | J28: 35.8 | K28: 8.73 | L28: 209.85 | M28: 76.22 | P28: 550 | Q28: 31.57 | R28: 7.66 | S28: 223.6 | T28: 25.22 | W28: 550 | X28: 29.84 | Y28: 7.41 | Z28: 209.49 | AA28: 23.58
B29: 600 | C29: 47.31 | D29: 12.9 | E29: 243.2 | F29: 105.55 | I29: 600 | J29: 36.29 | K29: 10.53 | L29: 212.98 | M29: 71.99 | P29: 600 | Q29: 32.03 | R29: 9.25 | S29: 226.36 | T29: 25.37 | W29: 600 | X29: 30.08 | Y29: 8.9 | Z29: 212.09 | AA29: 23.72
B30: 650 | C30: 48.51 | D30: 15.29 | E30: 247.03 | F30: 99.7 | I30: 650 | J30: 36.81 | K30: 12.35 | L30: 215.91 | M30: 68.43 | P30: 650 | Q30: 32.48 | R30: 10.87 | S30: 228.94 | T30: 25.53 | W30: 650 | X30: 30.37 | Y30: 10.42 | Z30: 214.51 | AA30: 23.87
B31: 700 | C31: 49.61 | D31: 17.75 | E31: 250.67 | F31: 94.72 | I31: 700 | J31: 37.36 | K31: 14.21 | L31: 218.65 | M31: 65.41 | P31: 700 | Q31: 32.93 | R31: 12.5 | S31: 231.37 | T31: 25.68 | W31: 700 | X31: 30.68 | Y31: 11.94 | Z31: 216.77 | AA31: 24.02
... B87: 3500 | C87: 62.72 | D87: 184.11 | E87: 343.73 | F87: 48.54 | I87: 3500 | J87: 57.07 | K87: 154.79 | L87: 295.11 | M87: 38.49 | P87: 3500 | Q87: 40.68 | R87: 118.17 | S87: 290.58 | T87: 30.89 | W87: 3500 | X87: 37.3 | Y87: 111.31 | Z87: 272.53 | AA87: 28.95

Sheet CO
A1: CO
A2: T(K) | B2: c^p(kJ/kmol-K) | C2: h^h^0(MJ/kmol) | D2: s^(kJ/kmol-K) | E2: g0R^uT
A3: 200 | B3: 28.69 | C3: 2.84 | D3: 186.01 | E3: 90.55
A4: 250 | B4: 28.89 | C4: 1.4 | D4: 192.43 | E4: 77
A5: 298 | B5: 29.07 | C5: 0 | D5: 197.54 | E5: 68.35
A6: 300 | B6: 29.08 | C6: 0.05 | D6: 197.72 | E6: 68.08
A7: 350 | B7: 29.25 | C7: 1.51 | D7: 202.21 | E7: 61.79
A8: 400 | B8: 29.43 | C8: 2.98 | D8: 206.13 | E8: 57.14
A9: 450 | B9: 29.63 | C9: 4.46 | D9: 209.61 | E9: 53.57
A10: 500 | B10: 29.86 | C10: 5.94 | D10: 212.74 | E10: 50.75
A11: 550 | B11: 30.11 | C11: 7.44 | D11: 215.6 | E11: 48.48
A12: 600 | B12: 30.41 | C12: 8.95 | D12: 218.23 | E12: 46.61
A13: 650 | B13: 30.73 | C13: 10.48 | D13: 220.68 | E13: 45.06
A14: 700 | B14: 31.09 | C14: 12.03 | D14: 222.97 | E14: 43.74
... A70: 3500 | B70: 37.47 | C70: 112.23 | D70: 279.28 | E70: 33.53

Sheet C gas
A1: C | B1: (gas)
A2: T(K) | B2: c^p(kJ/kmol-K) | C2: h^h^0(MJ/kmol) | D2: s^(kJ/kmol-K) | E2: g0R^uT
A3: 200 | B3: 20.84 | C3: 2.05 | D3: 149.68 | E3: 411.79
A4: 250 | B4: 20.84 | C4: 1 | D4: 154.33 | E4: 325.78
A5: 298 | B5: 20.83 | C5: 0 | D5: 158 | E5: 270.13
A6: 300 | B6: 20.83 | C6: 0.04 | D6: 158.13 | E6: 268.35
A7: 350 | B7: 20.83 | C7: 1.08 | D7: 161.34 | E7: 227.27
A8: 400 | B8: 20.82 | C8: 2.12 | D8: 164.12 | E8: 196.41
A9: 450 | B9: 20.81 | C9: 3.16 | D9: 166.57 | E9: 172.38
A10: 500 | B10: 20.81 | C10: 4.2 | D10: 168.76 | E10: 153.12
A11: 550 | B11: 20.8 | C11: 5.24 | D11: 170.75 | E11: 137.35
A12: 600 | B12: 20.8 | C12: 6.28 | D12: 172.56 | E12: 124.18
A13: 650 | B13: 20.79 | C13: 7.32 | D13: 174.22 | E13: 113.02
A14: 700 | B14: 20.79 | C14: 8.36 | D14: 175.76 | E14: 103.45
... A70: 3500 | B70: 22 | C70: 67.6 | D70: 209.59 | E70: 1.74

Sheet C solid
A1: C(Solid)
A2: T(K) | B2: c^p(kJ/kmol-K) | C2: h^h^0(MJ/kmol) | D2: s^(kJ/kmol-K) | E2: g0R^uT
A3: 200 | B3: 4.63 | C3: 0.65 | D3: 3.14 | E3: 0.77
A4: 250 | B4: 6.69 | C4: 0.37 | D4: 4.4 | E4: 0.7
A5: 298 | B5: 8.51 | C5: 0 | D5: 5.74 | E5: 0.69
A6: 300 | B6: 8.57 | C6: 0.02 | D6: 5.79 | E6: 0.69
A7: 350 | B7: 10.3 | C7: 0.49 | D7: 7.24 | E7: 0.7
A8: 400 | B8: 11.87 | C8: 1.04 | D8: 8.72 | E8: 0.73
A9: 450 | B9: 13.29 | C9: 1.67 | D9: 10.2 | E9: 0.78
A10: 500 | B10: 14.58 | C10: 2.37 | D10: 11.67 | E10: 0.83
A11: 550 | B11: 15.74 | C11: 3.13 | D11: 13.12 | E11: 0.89
A12: 600 | B12: 16.79 | C12: 3.94 | D12: 14.53 | E12: 0.96
A13: 650 | B13: 17.72 | C13: 4.81 | D13: 15.91 | E13: 1.02
A14: 700 | B14: 18.55 | C14: 5.71 | D14: 17.26 | E14: 1.09
... A70: 3500 | B70: 27.18 | C70: 74.89 | D70: 55.4 | E70: 4.09

Sheet CH4
A1: CH4
A2: T(K) | B2: c^p(kJ/kmol-K) | C2: h^h^0(MJ/kmol) | D2: s^(kJ/kmol-K) | E2: g0R^uT
A3: 200 | B3: 28.14 | C3: 3.12 | D3: 173.46 | E3: 67.78
A4: 250 | B4: 31.9 | C4: 1.62 | D4: 180.15 | E4: 58.48
A5: 298 | B5: 35.14 | C5: 0 | D5: 186.05 | E5: 52.59
A6: 300 | B6: 35.26 | C6: 0.07 | D6: 186.27 | E6: 52.4
A7: 350 | B7: 38.33 | C7: 1.91 | D7: 191.94 | E7: 48.17
A8: 400 | B8: 41.19 | C8: 3.89 | D8: 197.24 | E8: 45.07
A9: 450 | B9: 43.93 | C9: 6.02 | D9: 202.25 | E9: 42.73
A10: 500 | B10: 46.61 | C10: 8.29 | D10: 207.02 | E10: 40.92
A11: 550 | B11: 49.26 | C11: 10.68 | D11: 211.59 | E11: 39.49
A12: 600 | B12: 51.93 | C12: 13.21 | D12: 215.99 | E12: 38.34
A13: 650 | B13: 54.62 | C13: 15.88 | D13: 220.25 | E13: 37.41
A14: 700 | B14: 57.33 | C14: 18.67 | D14: 224.4 | E14: 36.65
... A70: 3500 | B70: 102.92 | C70: 273.25 | D70: 361.37 | E70: 36.65

Sheet H2
A1: H2
A2: T(K) | B2: c^p(kJ/kmol-K) | C2: h^h^0(MJ/kmol) | D2: ^s(kJ/kmol-K) | E2: g0R^uT
A3: 200 | B3: 28.52 | C3: 2.82 | D3: 119.13 | E3: 16.02
A4: 250 | B4: 28.71 | C4: 1.39 | D4: 125.52 | E4: 15.76
A5: 298 | B5: 28.87 | C5: 0 | D5: 130.59 | E5: 15.71
A6: 300 | B6: 28.88 | C6: 0.05 | D6: 130.77 | E6: 15.71
A7: 350 | B7: 29.01 | C7: 1.5 | D7: 135.23 | E7: 15.75
A8: 400 | B8: 29.12 | C8: 2.95 | D8: 139.11 | E8: 15.84
A9: 450 | B9: 29.21 | C9: 4.41 | D9: 142.54 | E9: 15.97
A10: 500 | B10: 29.27 | C10: 5.87 | D10: 145.63 | E10: 16.1
A11: 550 | B11: 29.33 | C11: 7.34 | D11: 148.42 | E11: 16.25
A12: 600 | B12: 29.37 | C12: 8.81 | D12: 150.97 | E12: 16.39
A13: 650 | B13: 29.42 | C13: 10.28 | D13: 153.32 | E13: 16.54
A14: 700 | B14: 29.46 | C14: 11.75 | D14: 155.51 | E14: 16.69
... A70: 3500 | B70: 38.19 | C70: 107.56 | D70: 208.59 | E70: 21.39

Sheet H
A1: H
A2: T(K) | B2: c^p(kJ/kmol-K) | C2: h^h^0(MJ/kmol) | D2: ^s(kJ/kmol-K) | E2: g0R^uT
A3: 200 | B3: 20.79 | C3: 2.04 | D3: 106.3 | E3: 117.07
A4: 250 | B4: 20.79 | C4: 1 | D4: 110.94 | E4: 91.04
A5: 298 | B5: 20.79 | C5: 0 | D5: 114.6 | E5: 74.15
A6: 300 | B6: 20.79 | C6: 0.04 | D6: 114.73 | E6: 73.61
A7: 350 | B7: 20.79 | C7: 1.08 | D7: 117.93 | E7: 61.09
A8: 400 | B8: 20.79 | C8: 2.12 | D8: 120.71 | E8: 51.66
A9: 450 | B9: 20.79 | C9: 3.16 | D9: 123.16 | E9: 44.29
A10: 500 | B10: 20.79 | C10: 4.2 | D10: 125.35 | E10: 38.37
A11: 550 | B11: 20.79 | C11: 5.23 | D11: 127.33 | E11: 33.5
A12: 600 | B12: 20.79 | C12: 6.27 | D12: 129.13 | E12: 29.42
A13: 650 | B13: 20.79 | C13: 7.31 | D13: 130.8 | E13: 25.95
A14: 700 | B14: 20.79 | C14: 8.35 | D14: 132.34 | E14: 22.97
... A70: 3500 | B70: 20.79 | C70: 66.55 | D70: 165.79 | E70: 10.16

Sheet O
A1: O
A2: T(K) | B2: c^p(kJ/kmol-K) | C2: h^h^0(MJ/kmol) | D2: ^s(kJ/kmol-K) | E2: g0R^uT
A3: 200 | B3: 22.48 | C3: 2.18 | D3: 152.08 | E3: 130.26
A4: 250 | B4: 22.15 | C4: 1.06 | D4: 157.06 | E4: 100.49
A5: 298 | B5: 21.9 | C5: 0 | D5: 160.94 | E5: 81.17
A6: 300 | B6: 21.89 | C6: 0.04 | D6: 161.07 | E6: 80.55
A7: 350 | B7: 21.67 | C7: 1.13 | D7: 164.43 | E7: 66.24
A8: 400 | B8: 21.5 | C8: 2.21 | D8: 167.31 | E8: 55.47
A9: 450 | B9: 21.36 | C9: 3.28 | D9: 169.84 | E9: 47.05
A10: 500 | B10: 21.26 | C10: 4.35 | D10: 172.08 | E10: 40.29
A11: 550 | B11: 21.17 | C11: 5.41 | D11: 174.1 | E11: 34.74
A12: 600 | B12: 21.11 | C12: 6.46 | D12: 175.94 | E12: 30.09
A13: 650 | B13: 21.07 | C13: 7.52 | D13: 177.63 | E13: 26.14
A14: 700 | B14: 21.03 | C14: 8.57 | D14: 179.19 | E14: 22.74
... A70: 3500 | B70: 21.09 | C70: 67.08 | D70: 212.82 | E70: 14.73

Sheet OH
A1: OH
A2: T(K) | B2: c^p(kJ/kmol-K) | C2: h^h^0(MJ/kmol) | D2: ^s(kJ/kmol-K) | E2: g0R^uT
A3: 200 | B3: 30.14 | C3: 2.95 | D3: 171.6 | E3: 1.03
A4: 250 | B4: 30.04 | C4: 1.44 | D4: 178.31 | E4: 3.39
A5: 298 | B5: 29.93 | C5: 0 | D5: 183.6 | E5: 6.36
A6: 300 | B6: 29.93 | C6: 0.06 | D6: 183.78 | E6: 6.45
A7: 350 | B7: 29.82 | C7: 1.55 | D7: 188.39 | E7: 8.73
A8: 400 | B8: 29.72 | C8: 3.04 | D8: 192.36 | E8: 10.5
A9: 450 | B9: 29.63 | C9: 4.52 | D9: 195.86 | E9: 11.93
A10: 500 | B10: 29.57 | C10: 6 | D10: 198.97 | E10: 13.11
A11: 550 | B11: 29.53 | C11: 7.48 | D11: 201.79 | E11: 14.11
A12: 600 | B12: 29.53 | C12: 8.95 | D12: 204.36 | E12: 14.97
A13: 650 | B13: 29.55 | C13: 10.43 | D13: 206.72 | E13: 15.72
A14: 700 | B14: 29.61 | C14: 11.91 | D14: 208.92 | E14: 16.38
... A70: 3500 | B70: 37.4 | C70: 108.13 | D70: 262.44 | E70: 26.51

Sheet N
A1: N
A2: T(K) | B2: c^p(kJ/kmol-K) | C2: h^h^0(MJ/kmol) | D2: ^s(kJ/kmol-K) | E2: g0R^uT
A3: 200 | B3: 20.79 | C3: 2.04 | D3: 144.88 | E3: 265.57
A4: 250 | B4: 20.79 | C4: 1 | D4: 149.52 | E4: 208.91
A5: 298 | B5: 20.79 | C5: 0 | D5: 153.18 | E5: 172.23
A6: 300 | B6: 20.79 | C6: 0.04 | D6: 153.31 | E6: 171.06
A7: 350 | B7: 20.78 | C7: 1.08 | D7: 156.51 | E7: 143.96
A8: 400 | B8: 20.78 | C8: 2.12 | D8: 159.29 | E8: 123.59
A9: 450 | B9: 20.78 | C9: 3.16 | D9: 161.74 | E9: 107.71
A10: 500 | B10: 20.78 | C10: 4.2 | D10: 163.93 | E10: 94.98
A11: 550 | B11: 20.79 | C11: 5.23 | D11: 165.91 | E11: 84.54
A12: 600 | B12: 20.79 | C12: 6.27 | D12: 167.72 | E12: 75.83
A13: 650 | B13: 20.79 | C13: 7.31 | D13: 169.38 | E13: 68.43
A14: 700 | B14: 20.79 | C14: 8.35 | D14: 170.92 | E14: 62.08
... A70: 3500 | B70: 21.29 | C70: 66.77 | D70: 204.44 | E70: 6.05

Sheet NO
A1: NO
A2: T(K) | B2: c^p(kJ/kmol-K) | C2: h^h^0 | D2: (MJ/kmol) | E2: ^s(kJ/kmol-K)
A3: 200 | B3: 29.37 | C3: 2.9 | D3: 198.85 | E3: 28.64
A4: 250 | B4: 29.56 | C4: 1.43 | D4: 205.42 | E4: 18.05
A5: 298 | B5: 29.73 | C5: 0 | D5: 210.64 | E5: 11.09
A6: 300 | B6: 29.73 | C6: 0.06 | D6: 210.83 | E6: 10.87
A7: 350 | B7: 29.91 | C7: 1.55 | D7: 215.42 | E7: 5.65
A8: 400 | B8: 30.1 | C8: 3.05 | D8: 219.43 | E8: 1.67
A9: 450 | B9: 30.32 | C9: 4.56 | D9: 222.99 | E9: 1.47
A10: 500 | B10: 30.57 | C10: 6.08 | D10: 226.19 | E10: 4.02
A11: 550 | B11: 30.85 | C11: 7.61 | D11: 229.12 | E11: 6.15
A12: 600 | B12: 31.17 | C12: 9.16 | D12: 231.82 | E12: 7.95
A13: 650 | B13: 31.53 | C13: 10.73 | D13: 234.33 | E13: 9.49
A14: 700 | B14: 31.91 | C14: 12.32 | D14: 236.68 | E14: 10.84
... A70: 3500 | B70: 37.68 | C70: 113.78 | D70: 293.87 | E70: 28.33

Sheet NO2
A1: NO2
A2: T(K) | B2: c^p(kJ/kmol-K) | C2: h^h^0(MJ/kmol) | D2: ^s(kJ/kmol-K) | E2: g0R^uT
A3: 200 | B3: 32.93 | C3: 3.43 | D3: 226.01 | E3: 9.34
A4: 250 | B4: 35.03 | C4: 1.73 | D4: 233.58 | E4: 13.01
A5: 298 | B5: 36.88 | C5: 0 | D5: 239.91 | E5: 15.51
A6: 300 | B6: 36.95 | C6: 0.07 | D6: 240.14 | E6: 15.59
A7: 350 | B7: 38.71 | C7: 1.96 | D7: 245.97 | E7: 17.54
A8: 400 | B8: 40.33 | C8: 3.94 | D8: 251.25 | E8: 19.08
A9: 450 | B9: 41.83 | C9: 5.99 | D9: 256.09 | E9: 20.35
A10: 500 | B10: 43.23 | C10: 8.12 | D10: 260.57 | E10: 21.43
A11: 550 | B11: 44.52 | C11: 10.31 | D11: 264.75 | E11: 22.35
A12: 600 | B12: 45.73 | C12: 12.57 | D12: 268.67 | E12: 23.16
A13: 650 | B13: 46.86 | C13: 14.88 | D13: 272.38 | E13: 23.88
A14: 700 | B14: 47.91 | C14: 17.25 | D14: 275.89 | E14: 24.53
... A70: 3500 | B70: 57.54 | C70: 173.03 | D70: 363.66 | E70: 36.66

Sheet SO2
A1: SO2
A2: T(K) | B2: c^p(kJ/kmol-K) | C2: h^h^0(MJ/kmol) | D2: s^(kJ/kmol-K) | E2: g0R^uT
A3: 200 | B3: 35.59 | C3: 3.71 | D3: 233.08 | E3: 208.79
A4: 250 | B4: 37.86 | C4: 1.87 | D4: 241.27 | E4: 172.74
A5: 298 | B5: 39.86 | C5: 0 | D5: 248.11 | E5: 149.6
A6: 300 | B6: 39.94 | C6: 0.07 | D6: 248.35 | E6: 148.86
A7: 350 | B7: 41.83 | C7: 2.12 | D7: 254.66 | E7: 131.92
A8: 400 | B8: 43.55 | C8: 4.25 | D8: 260.36 | E8: 119.3
A9: 450 | B9: 45.12 | C9: 6.47 | D9: 265.58 | E9: 109.56
A10: 500 | B10: 46.54 | C10: 8.76 | D10: 270.4 | E10: 101.83
A11: 550 | B11: 47.83 | C11: 11.12 | D11: 274.9 | E11: 95.55
A12: 600 | B12: 48.99 | C12: 13.54 | D12: 279.11 | E12: 90.37
A13: 650 | B13: 50.03 | C13: 16.02 | D13: 283.08 | E13: 86.02
A14: 700 | B14: 50.97 | C14: 18.54 | D14: 286.82 | E14: 82.32
... A70: 3500 | B70: 59.92 | C70: 180.06 | D70: 378 | E70: 49.48

Sheet SO3
A1: SO3
A2: T(K) | B2: c^p(kJ/kmol-K) | C2: h^h^0(MJ/kmol) | D2: s^(kJ/kmol-K) | E2: g0R^uT
A3: 200 | B3: 42.79 | C3: 4.6 | D3: 238.07 | E3: 269.42
A4: 250 | B4: 47.05 | C4: 2.36 | D4: 248.08 | E4: 221.39
A5: 298 | B5: 50.78 | C5: 0 | D5: 256.7 | E5: 190.54
A6: 300 | B6: 50.91 | C6: 0.09 | D6: 257.01 | E6: 189.55
A7: 350 | B7: 54.42 | C7: 2.73 | D7: 265.13 | E7: 166.96
A8: 400 | B8: 57.58 | C8: 5.53 | D8: 272.6 | E8: 150.13
A9: 450 | B9: 60.42 | C9: 8.48 | D9: 279.55 | E9: 137.14
A10: 500 | B10: 62.96 | C10: 11.57 | D10: 286.05 | E10: 126.83
A11: 550 | B11: 65.23 | C11: 14.77 | D11: 292.16 | E11: 118.46
A12: 600 | B12: 67.23 | C12: 18.09 | D12: 297.92 | E12: 111.55
A13: 650 | B13: 68.99 | C13: 21.49 | D13: 303.38 | E13: 105.75
A14: 700 | B14: 70.52 | C14: 24.98 | D14: 308.55 | E14: 100.82
... A70: 3500 | B70: 82.38 | C70: 249.37 | D70: 435.38 | E70: 57.4

Sheet C3H8
A1: C3H8
A2: T(K) | B2: c^p(kJ/kmol-K) | C2: h^h^0(MJ/kmol) | D2: ^s(kJ/kmol-K) | E2: g0R^uT
A3: 200 | B3: 52.35 | C3: 6.19 | D3: 245.27 | E3: 95.68
A4: 250 | B4: 63.29 | C4: 3.3 | D4: 258.13 | E4: 82.6
A5: 298 | B5: 73.55 | C5: 0 | D5: 270.16 | E5: 74.39
A6: 300 | B6: 73.94 | C6: 0.14 | D6: 270.62 | E6: 74.13
A7: 350 | B7: 84.23 | C7: 4.09 | D7: 282.8 | E7: 68.3
A8: 400 | B8: 94.1 | C8: 8.55 | D8: 294.69 | E8: 64.1
A9: 450 | B9: 103.5 | C9: 13.49 | D9: 306.32 | E9: 60.99
A10: 500 | B10: 112.4 | C10: 18.89 | D10: 317.69 | E10: 58.65
A11: 550 | B11: 120.79 | C11: 24.73 | D11: 328.8 | E11: 56.85
A12: 600 | B12: 128.63 | C12: 30.96 | D12: 339.65 | E12: 55.46
A13: 650 | B13: 135.95 | C13: 37.58 | D13: 350.24 | E13: 54.39
A14: 700 | B14: 142.74 | C14: 44.55 | D14: 360.57 | E14: 53.56
... A70: 3500 | B70: 239.43 | C70: 645.52 | D70: 685.96 | E70: 63.89
