Workbook
Name Iso_Octane: EGR!$B$3

Sheet Home Page

Sheet Fuel Blend Calc
A1: Stoichemetric
A2: Iso-octane | H2: Iso-Octane & Methanol Blend
A3: Atmosphere | H3: Atmosphere
A4: O2 | B4: 0.21 | D4: Atmospheric Composition | H4: O2 | I4: 0.21 | K4: Atmospheric Composition
A5: N2 | B5: 0.79 | D5: Ratio | E5: 3.76 | H5: N2 | I5: 0.79 | K5: Ratio | L5: 3.76
A7: HC Fuel Balance | H7: HC Fuel Balance
A8: Where… | B8: x = (2n1+n2)/2 | E8: Molecules | H8: Where… | I8: x = (2n1+n2-O)/2 | L8: Molecules
B9: Molecules | D9: x | E9: =((2*E10)+(E11))/2 -> 12.5 | I9: Molecules | K9: x | L9: =((2*L10+(L11)-I12))/2 -> 14
A10: Carbon (x) | B10: 8 | D10: CO2 (n1) | E10: =B10 -> 8 | H10: Carbon (x) | I10: =B10+B28 -> 9 | K10: CO2 (n1) | L10: =I10 -> 9
A11: Hydrogen (y) | B11: 18 | D11: H20 (n2) | E11: =B11/2 -> 9 | H11: Hydrogen (y) | I11: =B11+B29 -> 22 | K11: H20 (n2) | L11: =I11/2 -> 11
D12: N2 (n3) | E12: =3.76*E9 -> 47 | H12: Oxygen (z) | I12: 1 | K12: N2 (n3) | L12: =L9*3.76 -> 52.64
A13: Air Mass | B13: =(E9*((2*E17)+E5*2*E18)) -> 1716 | C13: Kg | D13: Molecular Weight | H13: Air Mass | I13: =(L9*((2*L17)+L5*2*L18)) -> 1921.92 | J13: Kg | K13: Molecular Weight
A14: Fuel Mass | B14: =(B10*E15)+(B11*E16) -> 114 | C14: Kg | D14: Air | E14: =(2*E17)+(2*E5*E18) -> 137.28 | F14: kg/kmol | H14: Fuel Mass | I14: =(I10*L15)+(I11*L16)+(I12*L17) -> 146 | J14: Kg | K14: Air | L14: =(2*L17)+(2*L5*L18) -> 137.28 | M14: kg/kmol
D15: Carbon | E15: 12 | F15: kg/kmol | K15: Carbon | L15: 12 | M15: kg/kmol
A16: Stoichiometric Air/Fuel Ratio | B16: =B13/B14 -> 15.052632 | D16: Hydrogen | E16: 1 | F16: kg/kmol | H16: Stoichiometric Air/Fuel Ratio | I16: =I13/I14 -> 13.163836 | K16: Hydrogen | L16: 1 | M16: kg/kmol
D17: Oxygen | E17: 16 | F17: kg/kmol | K17: Oxygen | L17: 16 | M17: kg/kmol
D18: Nitrogen | E18: 14 | F18: kg/kmol | K18: Nitrogen | L18: 14 | M18: kg/kmol
A19: Equivalence Ratio | B19: Fuel Ratio | H19: mass of CO2 | I19: =L10*(L15+(2*L17)) -> 396 | J19: kg/kmol
A20: =B16/13.7 -> 1.0987322 | B20: =A20*B16 -> 16.538811 | E20: 259.2 | F20: kJ/mol | H20: CO2 per 1kg of fuel | I20: =I19/I14 -> 2.7123288 | J20: kg | L20: =E20+E38 -> 460.7 | M20: kJ/mol
A21: Methanol | K21: LHV
A22: O2 | B22: 0.21 | D22: Atmospheric Composition | H22: Equivalence Ratio | I22: Fuel Ratio | K22: h | L22: =(L10*393.5)+(L11*241.8) -> 6201.3 | M22: MJ
A23: N2 | B23: 0.79 | D23: Ratio | E23: 3.76 | H23: =I16/13.7 -> 0.96086391 | I23: =H23*I16 -> 12.648655 | K23: Net Enthalpy | L23: =L22-L20 -> 5740.6 | M23: MJ
K24: Calorific Value | L24: =L23/I14 -> 39.319178 | M24: MJ/Kg
A25: HC Fuel Balance | H25: Mass Percentages | I25: Fuel | J25: Air | K25: HHV
A26: Where… | B26: x = (2n1+n2-O)/2 | E26: Molecules | H26: Iso-Octane | I26: =B14/I14 -> 0.78082192 | J26: =B13/I13 -> 0.89285714 | K26: h | L26: =(L10*393.5)+(L11*285.8) -> 6685.3 | M26: MJ
B27: Molecules | D27: x | E27: =((2*E28)+(E29)-B30)/2 -> 1.5 | H27: Methanol | I27: =B32/I14 -> 0.21917808 | J27: =B31/I13 -> 0.10714286 | K27: Net Enthalpy | L27: =L26-L20 -> 6224.6 | M27: MJ
A28: Carbon (x) | B28: 1 | D28: CO2 (n1) | E28: =B28 -> 1 | H28: Total | I28: =I26+I27 -> 1 | J28: =J26+J27 -> 1 | K28: Calorific Value | L28: =L27/I14 -> 42.634247 | M28: MJ/Kg
A29: Hydrogen (y) | B29: 4 | D29: H20 (n2) | E29: =B29/2 -> 2 | H29: Nomenclature
A30: Oxygen (z) | B30: 1 | D30: N2 (n3) | E30: =3.76*E27 -> 5.64 | H30: Enthalpy of formation
A31: Air Mass | B31: =(E27*((2*E35)+E23*2*E36)) -> 205.92 | C31: Kg | D31: Molecular Weight | H31: Enthalpy released from reaction
A32: Fuel Mass | B32: =(B28*E33)+(B29*E34)+(B30*E35) -> 32 | C32: Kg | D32: Air | E32: =(2*E35)+(2*E23*E36) -> 137.28 | F32: kg/kmol
D33: Carbon | E33: 12 | F33: kg/kmol
A34: Stoichiometric Air/Fuel Ratio | B34: =B31/B32 -> 6.435 | D34: Hydrogen | E34: 1 | F34: kg/kmol
D35: Oxygen | E35: 16 | F35: kg/kmol
D36: Nitrogen | E36: 14 | F36: kg/kmol
A37: Equivalence Ratio | B37: Fuel Ratio
A38: =B34/13.7 -> 0.46970803 | B38: =A38*B34 -> 3.0225712 | E38: 201.5 | F38: kJ/mol

Sheet NOx Model (1)
A1: NO𝑥 Model
A2: Fuel | C2: Carbon (x) | D2: Hydrogen (y) | E2: Oxygen (z) | F2: CO₂ (n1) | G2: H₂O (n2) | H2: x | I2: N₂ (n3) | J2: ℎ (MJ/Mol) | L2: NET Enthalpy | M2: Moles Number | O2: ='NOx Model (2)'!B3 -> Iso-Octane
A3: ='Air & Fuel Properties'!C19 -> Iso-Octane | B3: ='Air & Fuel Properties'!B19 -> C8H18 | C3: 8 | D3: 18 | E3: 0 | F3: =C3 -> 8 | G3: =D3/2 -> 9 | H3: =((2*F3+G3)-E3)/2 -> 12.5 | I3: =((2*F3+G3)/2)*3.76 -> 47 | J3: =(F3*$T$19)+(G3*$T$20) -> 5324.2 | K3: ='Air & Fuel Properties'!M19 -> 259.2 | L3: =J3-K3 -> 5065 | M3: =(($Q$23*10^5)*(($Q$24*10^-6)*(0.4))/($Q$25*$Q$26)) -> 6.5681391e-06 | O3: ɸ | P3: 𝜆 | Q3: CO₂ (n1) | R3: H₂0 (n2) | S3: O₂ (n3) | T3: N₂ (n4) | U3: Reaction Enthalpy (MJ) | V3: Fuel Enthalpy (MJ) | W3: NET Enthalpy (MJ) | X3: Alpha | Y3: Oxygen Concentration | Z3: Nitrogen Concentration | AA3: Total Exhaust kmols
A4: ='Air & Fuel Properties'!C24 -> Methanol | B4: ='Air & Fuel Properties'!B24 -> CH4O | C4: 1 | D4: 4 | E4: 1 | F4: =C4 -> 1 | G4: =D4/2 -> 2 | H4: =((2*F4+G4)-E4)/2 -> 1.5 | I4: =((2*F4+G4)/2)*3.76 -> 7.52 | J4: =(F4*$T$19)+(G4*$T$20) -> 877.1 | K4: ='Air & Fuel Properties'!M24 -> 201.5 | L4: =J4-K4 -> 675.6 | M4: =(($Q$23*10^5)*(($Q$24*10^-6)*(0.4))/($Q$25*$Q$26)) -> 6.5681391e-06 | O4: 1 | P4: =1/O4 -> 1 | Q4: ='NOx Model (2)'!$E$3*O4 -> 8 | R4: ='NOx Model (2)'!$G$3*O4 -> 9 | S4: ='NOx Model (2)'!$D$3*($O$4-O4) -> 0 | T4: ='NOx Model (2)'!$J$3 -> 47 | U4: ='NOx Model (2)'!$K$3*O4 -> 5324.2 | V4: ='NOx Model (2)'!$M$3*O4 -> 259.2 | W4: =O4*'NOx Model (2)'!$O$3 -> 5065 | X4: =('NOx Model (1)'!$M$3)/(O4+('NOx Model (2)'!$D$3*(1+3.76))) -> 1.0856428e-07 | Y4: =(S4*X4)/('NOx Model (1)'!$M$24*10^-6) -> 0 | Z4: =(T4*X4)/('NOx Model (1)'!$M$24*10^-6) -> 0.12756303 | AA4: =X4*(Q4+R4+S4+T4) -> 6.9481141e-06
A5: ='Air & Fuel Properties'!C25 -> Ethanol | B5: ='Air & Fuel Properties'!B25 -> C2H6O | C5: 2 | D5: 6 | E5: 1 | F5: =C5 -> 2 | G5: =D5/2 -> 3 | H5: =((2*F5+G5)-E5)/2 -> 3 | I5: =((2*F5+G5)/2)*3.76 -> 13.16 | J5: =(F5*$T$19)+(G5*$T$20) -> 1512.4 | K5: ='Air & Fuel Properties'!M25 -> 235.1 | L5: =J5-K5 -> 1277.3 | M5: =(($Q$23*10^5)*(($Q$24*10^-6)*(0.4))/($Q$25*$Q$26)) -> 6.5681391e-06 | O5: 0.99 | P5: =1/O5 -> 1.010101 | Q5: ='NOx Model (2)'!$E$3*O5 -> 7.92 | R5: ='NOx Model (2)'!$G$3*O5 -> 8.91 | S5: ='NOx Model (2)'!$D$3*($O$4-O5) -> 0.125 | T5: ='NOx Model (2)'!$J$3 -> 47 | U5: ='NOx Model (2)'!$K$3*O5 -> 5270.958 | V5: ='NOx Model (2)'!$M$3*O5 -> 256.608 | W5: =O5*'NOx Model (2)'!$O$3 -> 5014.35 | X5: =('NOx Model (1)'!$M$3)/(O5+('NOx Model (2)'!$D$3*(1+3.76))) -> 1.0858223e-07 | Y5: =(S5*X5)/('NOx Model (1)'!$M$24*10^-6) -> 0.00033931947 | Z5: =(T5*X5)/('NOx Model (1)'!$M$24*10^-6) -> 0.12758412 | AA5: =X5*(Q5+R5+S5+T5) -> 6.9443765e-06
A6: ='Air & Fuel Properties'!C10 -> Propane | B6: ='Air & Fuel Properties'!B10 -> C3H8 | C6: 3 | D6: 8 | E6: 0 | F6: =C6 -> 3 | G6: =D6/2 -> 4 | H6: =((2*F6+G6)-E6)/2 -> 5 | I6: =((2*F6+G6)/2)*3.76 -> 18.8 | J6: =(F6*$T$19)+(G6*$T$20) -> 2147.7 | K6: ='Air & Fuel Properties'!M10 -> 104.7 | L6: =J6-K6 -> 2043 | M6: =(($Q$23*10^5)*(($Q$24*10^-6)*(0.4))/($Q$25*$Q$26)) -> 6.5681391e-06 | O6: 0.98 | P6: =1/O6 -> 1.0204082 | Q6: ='NOx Model (2)'!$E$3*O6 -> 7.84 | R6: ='NOx Model (2)'!$G$3*O6 -> 8.82 | S6: ='NOx Model (2)'!$D$3*($O$4-O6) -> 0.25 | T6: ='NOx Model (2)'!$J$3 -> 47 | U6: ='NOx Model (2)'!$K$3*O6 -> 5217.716 | V6: ='NOx Model (2)'!$M$3*O6 -> 254.016 | W6: =O6*'NOx Model (2)'!$O$3 -> 4963.7 | X6: =('NOx Model (1)'!$M$3)/(O6+('NOx Model (2)'!$D$3*(1+3.76))) -> 1.0860018e-07 | Y6: =(S6*X6)/('NOx Model (1)'!$M$24*10^-6) -> 0.00067875115 | Z6: =(T6*X6)/('NOx Model (1)'!$M$24*10^-6) -> 0.12760522 | AA6: =X6*(Q6+R6+S6+T6) -> 6.9406377e-06
A7: ='Air & Fuel Properties'!C9 -> Ethane | B7: ='Air & Fuel Properties'!B9 -> C2H6 | C7: 2 | D7: 6 | E7: 0 | F7: =C7 -> 2 | G7: =D7/2 -> 3 | H7: =((2*F7+G7)-E7)/2 -> 3.5 | I7: =((2*F7+G7)/2)*3.76 -> 13.16 | J7: =(F7*$T$19)+(G7*$T$20) -> 1512.4 | K7: ='Air & Fuel Properties'!M9 -> 83.8 | L7: =J7-K7 -> 1428.6 | M7: =(($Q$23*10^5)*(($Q$24*10^-6)*(0.4))/($Q$25*$Q$26)) -> 6.5681391e-06 | O7: 0.97 | P7: =1/O7 -> 1.0309278 | Q7: ='NOx Model (2)'!$E$3*O7 -> 7.76 | R7: ='NOx Model (2)'!$G$3*O7 -> 8.73 | S7: ='NOx Model (2)'!$D$3*($O$4-O7) -> 0.375 | T7: ='NOx Model (2)'!$J$3 -> 47 | U7: ='NOx Model (2)'!$K$3*O7 -> 5164.474 | V7: ='NOx Model (2)'!$M$3*O7 -> 251.424 | W7: =O7*'NOx Model (2)'!$O$3 -> 4913.05 | X7: =('NOx Model (1)'!$M$3)/(O7+('NOx Model (2)'!$D$3*(1+3.76))) -> 1.0861814e-07 | Y7: =(S7*X7)/('NOx Model (1)'!$M$24*10^-6) -> 0.0010182951 | Z7: =(T7*X7)/('NOx Model (1)'!$M$24*10^-6) -> 0.12762632 | AA7: =X7*(Q7+R7+S7+T7) -> 6.9368977e-06
A8: ='Air & Fuel Properties'!C26 -> Hydrogen | B8: ='Air & Fuel Properties'!B26 -> H2 | C8: 0 | D8: 2 | E8: 0 | F8: =C8 -> 0 | G8: =D8/2 -> 1 | H8: =((2*F8+G8)-E8)/2 -> 0.5 | I8: =((2*F8+G8)/2)*3.76 -> 1.88 | J8: =(F8*$T$19)+(G8*$T$20) -> 241.8 | K8: ='Air & Fuel Properties'!M26 -> 0 | L8: =J8-K8 -> 241.8 | M8: =(($Q$23*10^5)*(($Q$24*10^-6)*(0.4))/($Q$25*$Q$26)) -> 6.5681391e-06 | O8: 0.96 | P8: =1/O8 -> 1.0416667 | Q8: ='NOx Model (2)'!$E$3*O8 -> 7.68 | R8: ='NOx Model (2)'!$G$3*O8 -> 8.64 | S8: ='NOx Model (2)'!$D$3*($O$4-O8) -> 0.5 | T8: ='NOx Model (2)'!$J$3 -> 47 | U8: ='NOx Model (2)'!$K$3*O8 -> 5111.232 | V8: ='NOx Model (2)'!$M$3*O8 -> 248.832 | W8: =O8*'NOx Model (2)'!$O$3 -> 4862.4 | X8: =('NOx Model (1)'!$M$3)/(O8+('NOx Model (2)'!$D$3*(1+3.76))) -> 1.0863611e-07 | Y8: =(S8*X8)/('NOx Model (1)'!$M$24*10^-6) -> 0.0013579514 | Z8: =(T8*X8)/('NOx Model (1)'!$M$24*10^-6) -> 0.12764743 | AA8: =X8*(Q8+R8+S8+T8) -> 6.9331564e-06
O9: 0.95 | P9: =1/O9 -> 1.0526316 | Q9: ='NOx Model (2)'!$E$3*O9 -> 7.6 | R9: ='NOx Model (2)'!$G$3*O9 -> 8.55 | S9: ='NOx Model (2)'!$D$3*($O$4-O9) -> 0.625 | T9: ='NOx Model (2)'!$J$3 -> 47 | U9: ='NOx Model (2)'!$K$3*O9 -> 5057.99 | V9: ='NOx Model (2)'!$M$3*O9 -> 246.24 | W9: =O9*'NOx Model (2)'!$O$3 -> 4811.75 | X9: =('NOx Model (1)'!$M$3)/(O9+('NOx Model (2)'!$D$3*(1+3.76))) -> 1.0865408e-07 | Y9: =(S9*X9)/('NOx Model (1)'!$M$24*10^-6) -> 0.00169772 | Z9: =(T9*X9)/('NOx Model (1)'!$M$24*10^-6) -> 0.12766854 | AA9: =X9*(Q9+R9+S9+T9) -> 6.9294139e-06
O10: 0.9 | P10: =1/O10 -> 1.1111111 | Q10: ='NOx Model (2)'!$E$3*O10 -> 7.2 | R10: ='NOx Model (2)'!$G$3*O10 -> 8.1 | S10: ='NOx Model (2)'!$D$3*($O$4-O10) -> 1.25 | T10: ='NOx Model (2)'!$J$3 -> 47 | U10: ='NOx Model (2)'!$K$3*O10 -> 4791.78 | V10: ='NOx Model (2)'!$M$3*O10 -> 233.28 | W10: =O10*'NOx Model (2)'!$O$3 -> 4558.5 | X10: =('NOx Model (1)'!$M$3)/(O10+('NOx Model (2)'!$D$3*(1+3.76))) -> 1.0874402e-07 | Y10: =(S10*X10)/('NOx Model (1)'!$M$24*10^-6) -> 0.0033982508 | Z10: =(T10*X10)/('NOx Model (1)'!$M$24*10^-6) -> 0.12777423 | AA10: =X10*(Q10+R10+S10+T10) -> 6.9106828e-06
A11: Enthalpys | O11: 0.85 | P11: =1/O11 -> 1.1764706 | Q11: ='NOx Model (2)'!$E$3*O11 -> 6.8 | R11: ='NOx Model (2)'!$G$3*O11 -> 7.65 | S11: ='NOx Model (2)'!$D$3*($O$4-O11) -> 1.875 | T11: ='NOx Model (2)'!$J$3 -> 47 | U11: ='NOx Model (2)'!$K$3*O11 -> 4525.57 | V11: ='NOx Model (2)'!$M$3*O11 -> 220.32 | W11: =O11*'NOx Model (2)'!$O$3 -> 4305.25 | X11: =('NOx Model (1)'!$M$3)/(O11+('NOx Model (2)'!$D$3*(1+3.76))) -> 1.0883412e-07 | Y11: =(S11*X11)/('NOx Model (1)'!$M$24*10^-6) -> 0.0051015993 | Z11: =(T11*X11)/('NOx Model (1)'!$M$24*10^-6) -> 0.12788009 | AA11: =X11*(Q11+R11+S11+T11) -> 6.8919206e-06
A12: CO2 | C12: H2O | E12: Oxygen | G12: Nitrogen | I12: Total Enthalpy | K12: Temperature | O12: 0.8 | P12: =1/O12 -> 1.25 | Q12: ='NOx Model (2)'!$E$3*O12 -> 6.4 | R12: ='NOx Model (2)'!$G$3*O12 -> 7.2 | S12: ='NOx Model (2)'!$D$3*($O$4-O12) -> 2.5 | T12: ='NOx Model (2)'!$J$3 -> 47 | U12: ='NOx Model (2)'!$K$3*O12 -> 4259.36 | V12: ='NOx Model (2)'!$M$3*O12 -> 207.36 | W12: =O12*'NOx Model (2)'!$O$3 -> 4052 | X12: =('NOx Model (1)'!$M$3)/(O12+('NOx Model (2)'!$D$3*(1+3.76))) -> 1.0892436e-07 | Y12: =(S12*X12)/('NOx Model (1)'!$M$24*10^-6) -> 0.0068077727 | Z12: =(T12*X12)/('NOx Model (1)'!$M$24*10^-6) -> 0.12798613 | AA12: =X12*(Q12+R12+S12+T12) -> 6.8731273e-06
A13: Enthalpy | B13: NET Enthalpy | C13: Enthalpy | D13: NET Enthalpy | E13: Enthalpy | F13: NET Enthalpy | G13: Enthalpy | H13: NET Enthalpy | I13: Enthalpy | J13: NET Enthalpy | K13: K | O13: 0.75 | P13: =1/O13 -> 1.3333333 | Q13: ='NOx Model (2)'!$E$3*O13 -> 6 | R13: ='NOx Model (2)'!$G$3*O13 -> 6.75 | S13: ='NOx Model (2)'!$D$3*($O$4-O13) -> 3.125 | T13: ='NOx Model (2)'!$J$3 -> 47 | U13: ='NOx Model (2)'!$K$3*O13 -> 3993.15 | V13: ='NOx Model (2)'!$M$3*O13 -> 194.4 | W13: =O13*'NOx Model (2)'!$O$3 -> 3798.75 | X13: =('NOx Model (1)'!$M$3)/(O13+('NOx Model (2)'!$D$3*(1+3.76))) -> 1.0901476e-07 | Y13: =(S13*X13)/('NOx Model (1)'!$M$24*10^-6) -> 0.0085167779 | Z13: =(T13*X13)/('NOx Model (1)'!$M$24*10^-6) -> 0.12809234 | AA13: =X13*(Q13+R13+S13+T13) -> 6.8543028e-06
A14: =(8.5770134353*(10^-19)*(K14^6))-(1.0374875556*(10^-14)*(K14^5))+(4.9689475953*(10^-11)*(K14^4))-(1.2019118054*(10^-7)*(K14^3))+(1.5650954893*(10^-4)*(K14^2))-(4.8239362033*(10^-2)*(K14))+(5.2084519626) -> 0.93567016 | B14: =Properties!D7*'NOx Model (2)'!$F$3 -> 27.0864 | C14: =((6.6506859177*(10^-19)*(K14^6)) -(7.8984343104*(10^-15)*(K14^5))+(3.6879849877*(10^-11)*(K14^4))-(8.6386228559*(10^-8)*(K14^3))+(1.1074017861*(10^-4)*(K14^2))-(3.1241611608*(10^-2)*(K14))+(3.3006694533)) -> 0.84738727 | D14: =Properties!J7*'NOx Model (2)'!$H$3 -> 28.7793 | E14: =(6.4958291549*(10^-19)*('NOx Model (1)'!K14^6))-(7.8224528491*(10^-15)*('NOx Model (1)'!K14^5))+(3.7120417697*(10^-11)*('NOx Model (1)'!K14^4))-(8.798317617*(10^-8)*('NOx Model (1)'!K14^3))+(1.0982327235*(10^-4)*('NOx Model (1)'!K14^2))-(3.2606444641*(10^-2)*('NOx Model (1)'!K14))+(3.5786489003) -> 0.80335651 | F14: =Properties!P7*'NOx Model (2)'!$I$3 -> 0.355 | G14: =(5.9376621671*(10^-19)*('NOx Model (1)'!K14^6))-(7.1020711589*(10^-15)*('NOx Model (1)'!K14^5))+(3.3460896805*(10^-11)*(K14^4))-(7.8909601634*(10^-8)*(K14^3))+(9.8599769212*(10^-5)*(K14^2))-(2.8172899156*(10^-2)*(K14))+(3.05378908) -> 0.78322598 | H14: =Properties!V7*'NOx Model (2)'!$J$3 -> 133.48 | I14: =A14+C14+E14+G14 -> 3.3696399 | J14: =B14+D14+F14+H14 -> 189.7007 | K14: 200 | O14: 0.7 | P14: =1/O14 -> 1.4285714 | Q14: ='NOx Model (2)'!$E$3*O14 -> 5.6 | R14: ='NOx Model (2)'!$G$3*O14 -> 6.3 | S14: ='NOx Model (2)'!$D$3*($O$4-O14) -> 3.75 | T14: ='NOx Model (2)'!$J$3 -> 47 | U14: ='NOx Model (2)'!$K$3*O14 -> 3726.94 | V14: ='NOx Model (2)'!$M$3*O14 -> 181.44 | W14: =O14*'NOx Model (2)'!$O$3 -> 3545.5 | X14: =('NOx Model (1)'!$M$3)/(O14+('NOx Model (2)'!$D$3*(1+3.76))) -> 1.091053e-07 | Y14: =(S14*X14)/('NOx Model (1)'!$M$24*10^-6) -> 0.010228622 | Z14: =(T14*X14)/('NOx Model (1)'!$M$24*10^-6) -> 0.12819873 | AA14: =X14*(Q14+R14+S14+T14) -> 6.8354471e-06
A15: ='NOx Model (2)'!$F$3*(8.5770134353*(10^-19)*(K15^6))-(1.0374875556*(10^-14)*(K15^5))+(4.9689475953*(10^-11)*(K15^4))-(1.2019118054*(10^-7)*(K15^3))+(1.5650954893*(10^-4)*(K15^2))-(4.8239362033*(10^-2)*(K15))+(5.2084519626) -> 1.2380973 | B15: =Properties!D8*'NOx Model (2)'!$F$3 -> 13.7808 | C15: ='NOx Model (2)'!$H$3* ((6.6506859177*(10^-19)*(K15^6)) -(7.8984343104*(10^-15)*(K15^5))+(3.6879849877*(10^-11)*(K15^4))-(8.6386228559*(10^-8)*(K15^3))+(1.1074017861*(10^-4)*(K15^2))-(3.1241611608*(10^-2)*(K15))+(3.3006694533)) -> 10.676442 | D15: =Properties!J8*'NOx Model (2)'!$H$3 -> 14.256 | E15: ='NOx Model (2)'!$I$3*(6.4958291549*(10^-19)*('NOx Model (1)'!K15^6))-(7.8224528491*(10^-15)*('NOx Model (1)'!K15^5))+(3.7120417697*(10^-11)*('NOx Model (1)'!K15^4))-(8.798317617*(10^-8)*('NOx Model (1)'!K15^3))+(1.0982327235*(10^-4)*('NOx Model (1)'!K15^2))-(3.2606444641*(10^-2)*('NOx Model (1)'!K15))+(3.5786489003) -> 1.0536375 | F15: =Properties!P8*'NOx Model (2)'!$I$3 -> 0.175 | G15: ='NOx Model (2)'!$J$3*(5.9376621671*(10^-19)*('NOx Model (1)'!K15^6))-(7.1020711589*(10^-15)*('NOx Model (1)'!K15^5))+(3.3460896805*(10^-11)*(K15^4))-(7.8909601634*(10^-8)*(K15^3))+(9.8599769212*(10^-5)*(K15^2))-(2.8172899156*(10^-2)*(K15))+(3.05378908) -> 1.0706716 | H15: =Properties!V8*'NOx Model (2)'!$J$3 -> 65.8 | I15: =A15+C15+E15+G15 -> 14.038848 | J15: =B15+D15+F15+H15 -> 94.0118 | K15: 250 | O15: 0.65 | P15: =1/O15 -> 1.5384615 | Q15: ='NOx Model (2)'!$E$3*O15 -> 5.2 | R15: ='NOx Model (2)'!$G$3*O15 -> 5.85 | S15: ='NOx Model (2)'!$D$3*($O$4-O15) -> 4.375 | T15: ='NOx Model (2)'!$J$3 -> 47 | U15: ='NOx Model (2)'!$K$3*O15 -> 3460.73 | V15: ='NOx Model (2)'!$M$3*O15 -> 168.48 | W15: =O15*'NOx Model (2)'!$O$3 -> 3292.25 | X15: =('NOx Model (1)'!$M$3)/(O15+('NOx Model (2)'!$D$3*(1+3.76))) -> 1.09196e-07 | Y15: =(S15*X15)/('NOx Model (1)'!$M$24*10^-6) -> 0.011943312 | Z15: =(T15*X15)/('NOx Model (1)'!$M$24*10^-6) -> 0.12830529 | AA15: =X15*(Q15+R15+S15+T15) -> 6.81656e-06
A16: ='NOx Model (2)'!$F$3*(8.5770134353*(10^-19)*(K16^6))-(1.0374875556*(10^-14)*(K16^5))+(4.9689475953*(10^-11)*(K16^4))-(1.2019118054*(10^-7)*(K16^3))+(1.5650954893*(10^-4)*(K16^2))-(4.8239362033*(10^-2)*(K16))+(5.2084519626) -> 1.9233399 | B16: =Properties!D9*'NOx Model (2)'!$F$3 -> 0 | C16: ='NOx Model (2)'!$H$3* ((6.6506859177*(10^-19)*(K16^6)) -(7.8984343104*(10^-15)*(K16^5))+(3.6879849877*(10^-11)*(K16^4))-(8.6386228559*(10^-8)*(K16^3))+(1.1074017861*(10^-4)*(K16^2))-(3.1241611608*(10^-2)*(K16))+(3.3006694533)) -> 16.140412 | D16: =Properties!J9*'NOx Model (2)'!$H$3 -> 0 | E16: ='NOx Model (2)'!$I$3*(6.4958291549*(10^-19)*('NOx Model (1)'!K16^6))-(7.8224528491*(10^-15)*('NOx Model (1)'!K16^5))+(3.7120417697*(10^-11)*('NOx Model (1)'!K16^4))-(8.798317617*(10^-8)*('NOx Model (1)'!K16^3))+(1.0982327235*(10^-4)*('NOx Model (1)'!K16^2))-(3.2606444641*(10^-2)*('NOx Model (1)'!K16))+(3.5786489003) -> 1.5607341 | F16: =Properties!P9*'NOx Model (2)'!$I$3 -> 0 | G16: ='NOx Model (2)'!$J$3*(5.9376621671*(10^-19)*('NOx Model (1)'!K16^6))-(7.1020711589*(10^-15)*('NOx Model (1)'!K16^5))+(3.3460896805*(10^-11)*(K16^4))-(7.8909601634*(10^-8)*(K16^3))+(9.8599769212*(10^-5)*(K16^2))-(2.8172899156*(10^-2)*(K16))+(3.05378908) -> 1.5928187 | H16: =Properties!V9*'NOx Model (2)'!$J$3 -> 0 | I16: =A16+C16+E16+G16 -> 21.217304 | J16: =B16+D16+F16+H16 -> 0 | K16: 298 | O16: 0.6 | P16: =1/O16 -> 1.6666667 | Q16: ='NOx Model (2)'!$E$3*O16 -> 4.8 | R16: ='NOx Model (2)'!$G$3*O16 -> 5.4 | S16: ='NOx Model (2)'!$D$3*($O$4-O16) -> 5 | T16: ='NOx Model (2)'!$J$3 -> 47 | U16: ='NOx Model (2)'!$K$3*O16 -> 3194.52 | V16: ='NOx Model (2)'!$M$3*O16 -> 155.52 | W16: =O16*'NOx Model (2)'!$O$3 -> 3039 | X16: =('NOx Model (1)'!$M$3)/(O16+('NOx Model (2)'!$D$3*(1+3.76))) -> 1.0928684e-07 | Y16: =(S16*X16)/('NOx Model (1)'!$M$24*10^-6) -> 0.013660855 | Z16: =(T16*X16)/('NOx Model (1)'!$M$24*10^-6) -> 0.12841204 | AA16: =X16*(Q16+R16+S16+T16) -> 6.7976415e-06
A17: ='NOx Model (2)'!$F$3*(8.5770134353*(10^-19)*(K17^6))-(1.0374875556*(10^-14)*(K17^5))+(4.9689475953*(10^-11)*(K17^4))-(1.2019118054*(10^-7)*(K17^3))+(1.5650954893*(10^-4)*(K17^2))-(4.8239362033*(10^-2)*(K17))+(5.2084519626) -> 1.9595668 | B17: =Properties!D10*'NOx Model (2)'!$F$3 -> 0.5544 | C17: ='NOx Model (2)'!$H$3* ((6.6506859177*(10^-19)*(K17^6)) -(7.8984343104*(10^-15)*(K17^5))+(3.6879849877*(10^-11)*(K17^4))-(8.6386228559*(10^-8)*(K17^3))+(1.1074017861*(10^-4)*(K17^2))-(3.1241611608*(10^-2)*(K17))+(3.3006694533)) -> 16.415715 | D17: =Properties!J10*'NOx Model (2)'!$H$3 -> 0.5346 | E17: ='NOx Model (2)'!$I$3*(6.4958291549*(10^-19)*('NOx Model (1)'!K17^6))-(7.8224528491*(10^-15)*('NOx Model (1)'!K17^5))+(3.7120417697*(10^-11)*('NOx Model (1)'!K17^4))-(8.798317617*(10^-8)*('NOx Model (1)'!K17^3))+(1.0982327235*(10^-4)*('NOx Model (1)'!K17^2))-(3.2606444641*(10^-2)*('NOx Model (1)'!K17))+(3.5786489003) -> 1.5869903 | F17: =Properties!P10*'NOx Model (2)'!$I$3 -> 0.00625 | G17: ='NOx Model (2)'!$J$3*(5.9376621671*(10^-19)*('NOx Model (1)'!K17^6))-(7.1020711589*(10^-15)*('NOx Model (1)'!K17^5))+(3.3460896805*(10^-11)*(K17^4))-(7.8909601634*(10^-8)*(K17^3))+(9.8599769212*(10^-5)*(K17^2))-(2.8172899156*(10^-2)*(K17))+(3.05378908) -> 1.6194588 | H17: =Properties!V10*'NOx Model (2)'!$J$3 -> 2.35 | I17: =A17+C17+E17+G17 -> 21.581731 | J17: =B17+D17+F17+H17 -> 3.44525 | K17: 300
A18: ='NOx Model (2)'!$F$3*(8.5770134353*(10^-19)*(K18^6))-(1.0374875556*(10^-14)*(K18^5))+(4.9689475953*(10^-11)*(K18^4))-(1.2019118054*(10^-7)*(K18^3))+(1.5650954893*(10^-4)*(K18^2))-(4.8239362033*(10^-2)*(K18))+(5.2084519626) -> 3.0475474 | B18: =Properties!D11*'NOx Model (2)'!$F$3 -> 15.7608 | C18: ='NOx Model (2)'!$H$3* ((6.6506859177*(10^-19)*(K18^6)) -(7.8984343104*(10^-15)*(K18^5))+(3.6879849877*(10^-11)*(K18^4))-(8.6386228559*(10^-8)*(K18^3))+(1.1074017861*(10^-4)*(K18^2))-(3.1241611608*(10^-2)*(K18))+(3.3006694533)) -> 24.423508 | D18: =Properties!J11*'NOx Model (2)'!$H$3 -> 15.5925 | E18: ='NOx Model (2)'!$I$3*(6.4958291549*(10^-19)*('NOx Model (1)'!K18^6))-(7.8224528491*(10^-15)*('NOx Model (1)'!K18^5))+(3.7120417697*(10^-11)*('NOx Model (1)'!K18^4))-(8.798317617*(10^-8)*('NOx Model (1)'!K18^3))+(1.0982327235*(10^-4)*('NOx Model (1)'!K18^2))-(3.2606444641*(10^-2)*('NOx Model (1)'!K18))+(3.5786489003) -> 2.363568 | F18: =Properties!P11*'NOx Model (2)'!$I$3 -> 0.19125 | G18: ='NOx Model (2)'!$J$3*(5.9376621671*(10^-19)*('NOx Model (1)'!K18^6))-(7.1020711589*(10^-15)*('NOx Model (1)'!K18^5))+(3.3460896805*(10^-11)*(K18^4))-(7.8909601634*(10^-8)*(K18^3))+(9.8599769212*(10^-5)*(K18^2))-(2.8172899156*(10^-2)*(K18))+(3.05378908) -> 2.4046186 | H18: =Properties!V11*'NOx Model (2)'!$J$3 -> 70.97 | I18: =A18+C18+E18+G18 -> 32.239242 | J18: =B18+D18+F18+H18 -> 102.51455 | K18: 350 | T18: KJ/Mol
A19: ='NOx Model (2)'!$F$3*(8.5770134353*(10^-19)*(K19^6))-(1.0374875556*(10^-14)*(K19^5))+(4.9689475953*(10^-11)*(K19^4))-(1.2019118054*(10^-7)*(K19^3))+(1.5650954893*(10^-4)*(K19^2))-(4.8239362033*(10^-2)*(K19))+(5.2084519626) -> 4.4556354 | B19: =Properties!D12*'NOx Model (2)'!$F$3 -> 31.68 | C19: ='NOx Model (2)'!$H$3* ((6.6506859177*(10^-19)*(K19^6)) -(7.8984343104*(10^-15)*(K19^5))+(3.6879849877*(10^-11)*(K19^4))-(8.6386228559*(10^-8)*(K19^3))+(1.1074017861*(10^-4)*(K19^2))-(3.1241611608*(10^-2)*(K19))+(3.3006694533)) -> 34.389954 | D19: =Properties!J12*'NOx Model (2)'!$H$3 -> 30.8286 | E19: ='NOx Model (2)'!$I$3*(6.4958291549*(10^-19)*('NOx Model (1)'!K19^6))-(7.8224528491*(10^-15)*('NOx Model (1)'!K19^5))+(3.7120417697*(10^-11)*('NOx Model (1)'!K19^4))-(8.798317617*(10^-8)*('NOx Model (1)'!K19^3))+(1.0982327235*(10^-4)*('NOx Model (1)'!K19^2))-(3.2606444641*(10^-2)*('NOx Model (1)'!K19))+(3.5786489003) -> 3.3473847 | F19: =Properties!P12*'NOx Model (2)'!$I$3 -> 0.37875 | G19: ='NOx Model (2)'!$J$3*(5.9376621671*(10^-19)*('NOx Model (1)'!K19^6))-(7.1020711589*(10^-15)*('NOx Model (1)'!K19^5))+(3.3460896805*(10^-11)*(K19^4))-(7.8909601634*(10^-8)*(K19^3))+(9.8599769212*(10^-5)*(K19^2))-(2.8172899156*(10^-2)*(K19))+(3.05378908) -> 3.4085589 | H19: =Properties!V12*'NOx Model (2)'!$J$3 -> 139.59 | I19: =A19+C19+E19+G19 -> 45.601533 | J19: =B19+D19+F19+H19 -> 202.47735 | K19: 400 | M19: Atmosphere | P19: RPM | S19: CO₂ | T19: =-(-393.5) -> 393.5
A20: ='NOx Model (2)'!$F$3*(8.5770134353*(10^-19)*(K20^6))-(1.0374875556*(10^-14)*(K20^5))+(4.9689475953*(10^-11)*(K20^4))-(1.2019118054*(10^-7)*(K20^3))+(1.5650954893*(10^-4)*(K20^2))-(4.8239362033*(10^-2)*(K20))+(5.2084519626) -> 6.1440423 | B20: =Properties!D13*'NOx Model (2)'!$F$3 -> 48.3912 | C20: ='NOx Model (2)'!$H$3* ((6.6506859177*(10^-19)*(K20^6)) -(7.8984343104*(10^-15)*(K20^5))+(3.6879849877*(10^-11)*(K20^4))-(8.6386228559*(10^-8)*(K20^3))+(1.1074017861*(10^-4)*(K20^2))-(3.1241611608*(10^-2)*(K20))+(3.3006694533)) -> 46.037648 | D20: =Properties!J13*'NOx Model (2)'!$H$3 -> 46.2429 | E20: ='NOx Model (2)'!$I$3*(6.4958291549*(10^-19)*('NOx Model (1)'!K20^6))-(7.8224528491*(10^-15)*('NOx Model (1)'!K20^5))+(3.7120417697*(10^-11)*('NOx Model (1)'!K20^4))-(8.798317617*(10^-8)*('NOx Model (1)'!K20^3))+(1.0982327235*(10^-4)*('NOx Model (1)'!K20^2))-(3.2606444641*(10^-2)*('NOx Model (1)'!K20))+(3.5786489003) -> 4.5059917 | F20: =Properties!P13*'NOx Model (2)'!$I$3 -> 0.56875 | G20: ='NOx Model (2)'!$J$3*(5.9376621671*(10^-19)*('NOx Model (1)'!K20^6))-(7.1020711589*(10^-15)*('NOx Model (1)'!K20^5))+(3.3460896805*(10^-11)*(K20^4))-(7.8909601634*(10^-8)*(K20^3))+(9.8599769212*(10^-5)*(K20^2))-(2.8172899156*(10^-2)*(K20))+(3.05378908) -> 4.6245863 | H20: =Properties!V13*'NOx Model (2)'!$J$3 -> 208.68 | I20: =A20+C20+E20+G20 -> 61.312269 | J20: =B20+D20+F20+H20 -> 303.88285 | K20: 450 | M20: O2 | N20: 0.21 | P20: 1800 | S20: H₂O | T20: =-(-241.8) -> 241.8
A21: ='NOx Model (2)'!$F$3*(8.5770134353*(10^-19)*(K21^6))-(1.0374875556*(10^-14)*(K21^5))+(4.9689475953*(10^-11)*(K21^4))-(1.2019118054*(10^-7)*(K21^3))+(1.5650954893*(10^-4)*(K21^2))-(4.8239362033*(10^-2)*(K21))+(5.2084519626) -> 8.0797785 | B21: =Properties!D14*'NOx Model (2)'!$F$3 -> 65.736 | C21: ='NOx Model (2)'!$H$3* ((6.6506859177*(10^-19)*(K21^6)) -(7.8984343104*(10^-15)*(K21^5))+(3.6879849877*(10^-11)*(K21^4))-(8.6386228559*(10^-8)*(K21^3))+(1.1074017861*(10^-4)*(K21^2))-(3.1241611608*(10^-2)*(K21))+(3.3006694533)) -> 59.119507 | D21: =Properties!J14*'NOx Model (2)'!$H$3 -> 61.9245 | E21: ='NOx Model (2)'!$I$3*(6.4958291549*(10^-19)*('NOx Model (1)'!K21^6))-(7.8224528491*(10^-15)*('NOx Model (1)'!K21^5))+(3.7120417697*(10^-11)*('NOx Model (1)'!K21^4))-(8.798317617*(10^-8)*('NOx Model (1)'!K21^3))+(1.0982327235*(10^-4)*('NOx Model (1)'!K21^2))-(3.2606444641*(10^-2)*('NOx Model (1)'!K21))+(3.5786489003) -> 5.8101908 | F21: =Properties!P14*'NOx Model (2)'!$I$3 -> 0.7625 | G21: ='NOx Model (2)'!$J$3*(5.9376621671*(10^-19)*('NOx Model (1)'!K21^6))-(7.1020711589*(10^-15)*('NOx Model (1)'!K21^5))+(3.3460896805*(10^-11)*(K21^4))-(7.8909601634*(10^-8)*(K21^3))+(9.8599769212*(10^-5)*(K21^2))-(2.8172899156*(10^-2)*(K21))+(3.05378908) -> 6.058995 | H21: =Properties!V14*'NOx Model (2)'!$J$3 -> 278.24 | I21: =A21+C21+E21+G21 -> 79.068471 | J21: =B21+D21+F21+H21 -> 406.663 | K21: 500 | M21: N2 | N21: 0.79 | S21: CO | T21: =-(-283) -> 283
A22: ='NOx Model (2)'!$F$3*(8.5770134353*(10^-19)*(K22^6))-(1.0374875556*(10^-14)*(K22^5))+(4.9689475953*(10^-11)*(K22^4))-(1.2019118054*(10^-7)*(K22^3))+(1.5650954893*(10^-4)*(K22^2))-(4.8239362033*(10^-2)*(K22))+(5.2084519626) -> 10.236915 | B22: =Properties!D15*'NOx Model (2)'!$F$3 -> 83.6352 | C22: ='NOx Model (2)'!$H$3* ((6.6506859177*(10^-19)*(K22^6)) -(7.8984343104*(10^-15)*(K22^5))+(3.6879849877*(10^-11)*(K22^4))-(8.6386228559*(10^-8)*(K22^3))+(1.1074017861*(10^-4)*(K22^2))-(3.1241611608*(10^-2)*(K22))+(3.3006694533)) -> 73.416696 | D22: =Properties!J15*'NOx Model (2)'!$H$3 -> 77.7843 | E22: ='NOx Model (2)'!$I$3*(6.4958291549*(10^-19)*('NOx Model (1)'!K22^6))-(7.8224528491*(10^-15)*('NOx Model (1)'!K22^5))+(3.7120417697*(10^-11)*('NOx Model (1)'!K22^4))-(8.798317617*(10^-8)*('NOx Model (1)'!K22^3))+(1.0982327235*(10^-4)*('NOx Model (1)'!K22^2))-(3.2606444641*(10^-2)*('NOx Model (1)'!K22))+(3.5786489003) -> 7.2337493 | F22: =Properties!P15*'NOx Model (2)'!$I$3 -> 0.9575 | G22: ='NOx Model (2)'!$J$3*(5.9376621671*(10^-19)*('NOx Model (1)'!K22^6))-(7.1020711589*(10^-15)*('NOx Model (1)'!K22^5))+(3.3460896805*(10^-11)*(K22^4))-(7.8909601634*(10^-8)*(K22^3))+(9.8599769212*(10^-5)*(K22^2))-(2.8172899156*(10^-2)*(K22))+(3.05378908) -> 7.7334688 | H22: =Properties!V15*'NOx Model (2)'!$J$3 -> 348.27 | I22: =A22+C22+E22+G22 -> 98.620829 | J22: =B22+D22+F22+H22 -> 510.647 | K22: 550 | P22: For Ideal Gas Law | S22: O | T22: 0
A23: ='NOx Model (2)'!$F$3*(8.5770134353*(10^-19)*(K23^6))-(1.0374875556*(10^-14)*(K23^5))+(4.9689475953*(10^-11)*(K23^4))-(1.2019118054*(10^-7)*(K23^3))+(1.5650954893*(10^-4)*(K23^2))-(4.8239362033*(10^-2)*(K23))+(5.2084519626) -> 12.596917 | B23: =Properties!D16*'NOx Model (2)'!$F$3 -> 102.168 | C23: ='NOx Model (2)'!$H$3* ((6.6506859177*(10^-19)*(K23^6)) -(7.8984343104*(10^-15)*(K23^5))+(3.6879849877*(10^-11)*(K23^4))-(8.6386228559*(10^-8)*(K23^3))+(1.1074017861*(10^-4)*(K23^2))-(3.1241611608*(10^-2)*(K23))+(3.3006694533)) -> 88.736625 | D23: =Properties!J16*'NOx Model (2)'!$H$3 -> 93.8223 | E23: ='NOx Model (2)'!$I$3*(6.4958291549*(10^-19)*('NOx Model (1)'!K23^6))-(7.8224528491*(10^-15)*('NOx Model (1)'!K23^5))+(3.7120417697*(10^-11)*('NOx Model (1)'!K23^4))-(8.798317617*(10^-8)*('NOx Model (1)'!K23^3))+(1.0982327235*(10^-4)*('NOx Model (1)'!K23^2))-(3.2606444641*(10^-2)*('NOx Model (1)'!K23))+(3.5786489003) -> 8.7531147 | F23: =Properties!P16*'NOx Model (2)'!$I$3 -> 1.15625 | G23: ='NOx Model (2)'!$J$3*(5.9376621671*(10^-19)*('NOx Model (1)'!K23^6))-(7.1020711589*(10^-15)*('NOx Model (1)'!K23^5))+(3.3460896805*(10^-11)*(K23^4))-(7.8909601634*(10^-8)*(K23^3))+(9.8599769212*(10^-5)*(K23^2))-(2.8172899156*(10^-2)*(K23))+(3.05378908) -> 9.6877973 | H23: =Properties!V16*'NOx Model (2)'!$J$3 -> 418.3 | I23: =A23+C23+E23+G23 -> 119.77445 | J23: =B23+D23+F23+H23 -> 615.44655 | K23: 600 | M23: Clearance Volume | P23: P | Q23: 1 | S23: N | T23: 0
A24: ='NOx Model (2)'!$F$3*(8.5770134353*(10^-19)*(K24^6))-(1.0374875556*(10^-14)*(K24^5))+(4.9689475953*(10^-11)*(K24^4))-(1.2019118054*(10^-7)*(K24^3))+(1.5650954893*(10^-4)*(K24^2))-(4.8239362033*(10^-2)*(K24))+(5.2084519626) -> 15.149063 | B24: =Properties!D17*'NOx Model (2)'!$F$3 -> 121.0968 | C24: ='NOx Model (2)'!$H$3* ((6.6506859177*(10^-19)*(K24^6)) -(7.8984343104*(10^-15)*(K24^5))+(3.6879849877*(10^-11)*(K24^4))-(8.6386228559*(10^-8)*(K24^3))+(1.1074017861*(10^-4)*(K24^2))-(3.1241611608*(10^-2)*(K24))+(3.3006694533)) -> 104.91101 | D24: =Properties!J17*'NOx Model (2)'!$H$3 -> 110.0385 | E24: ='NOx Model (2)'!$I$3*(6.4958291549*(10^-19)*('NOx Model (1)'!K24^6))-(7.8224528491*(10^-15)*('NOx Model (1)'!K24^5))+(3.7120417697*(10^-11)*('NOx Model (1)'!K24^4))-(8.798317617*(10^-8)*('NOx Model (1)'!K24^3))+(1.0982327235*(10^-4)*('NOx Model (1)'!K24^2))-(3.2606444641*(10^-2)*('NOx Model (1)'!K24))+(3.5786489003) -> 10.347131 | F24: =Properties!P17*'NOx Model (2)'!$I$3 -> 1.35875 | G24: ='NOx Model (2)'!$J$3*(5.9376621671*(10^-19)*('NOx Model (1)'!K24^6))-(7.1020711589*(10^-15)*('NOx Model (1)'!K24^5))+(3.3460896805*(10^-11)*(K24^4))-(7.8909601634*(10^-8)*(K24^3))+(9.8599769212*(10^-5)*(K24^2))-(2.8172899156*(10^-2)*(K24))+(3.05378908) -> 11.982906 | H24: =Properties!V17*'NOx Model (2)'!$J$3 -> 489.74 | I24: =A24+C24+E24+G24 -> 142.39011 | J24: =B24+D24+F24+H24 -> 722.23405 | K24: 650 | M24: 40 | P24: V | Q24: =1600/4 -> 400 | S24: The standard enthalpy of formation is zero for elements in their standard states.
A25: ='NOx Model (2)'!$F$3*(8.5770134353*(10^-19)*(K25^6))-(1.0374875556*(10^-14)*(K25^5))+(4.9689475953*(10^-11)*(K25^4))-(1.2019118054*(10^-7)*(K25^3))+(1.5650954893*(10^-4)*(K25^2))-(4.8239362033*(10^-2)*(K25))+(5.2084519626) -> 17.890929 | B25: =Properties!D18*'NOx Model (2)'!$F$3 -> 140.58 | C25: ='NOx Model (2)'!$H$3* ((6.6506859177*(10^-19)*(K25^6)) -(7.8984343104*(10^-15)*(K25^5))+(3.6879849877*(10^-11)*(K25^4))-(8.6386228559*(10^-8)*(K25^3))+(1.1074017861*(10^-4)*(K25^2))-(3.1241611608*(10^-2)*(K25))+(3.3006694533)) -> 121.79399 | D25: =Properties!J18*'NOx Model (2)'!$H$3 -> 126.6111 | E25: ='NOx Model (2)'!$I$3*(6.4958291549*(10^-19)*('NOx Model (1)'!K25^6))-(7.8224528491*(10^-15)*('NOx Model (1)'!K25^5))+(3.7120417697*(10^-11)*('NOx Model (1)'!K25^4))-(8.798317617*(10^-8)*('NOx Model (1)'!K25^3))+(1.0982327235*(10^-4)*('NOx Model (1)'!K25^2))-(3.2606444641*(10^-2)*('NOx Model (1)'!K25))+(3.5786489003) -> 11.996757 | F25: =Properties!P18*'NOx Model (2)'!$I$3 -> 1.5625 | G25: ='NOx Model (2)'!$J$3*(5.9376621671*(10^-19)*('NOx Model (1)'!K25^6))-(7.1020711589*(10^-15)*('NOx Model (1)'!K25^5))+(3.3460896805*(10^-11)*(K25^4))-(7.8909601634*(10^-8)*(K25^3))+(9.8599769212*(10^-5)*(K25^2))-(2.8172899156*(10^-2)*(K25))+(3.05378908) -> 14.704202 | H25: =Properties!V18*'NOx Model (2)'!$J$3 -> 561.18 | I25: =A25+C25+E25+G25 -> 166.38588 | J25: =B25+D25+F25+H25 -> 829.9336 | K25: 700 | P25: R | Q25: 8314
A26: ='NOx Model (2)'!$F$3*(8.5770134353*(10^-19)*(K26^6))-(1.0374875556*(10^-14)*(K26^5))+(4.9689475953*(10^-11)*(K26^4))-(1.2019118054*(10^-7)*(K26^3))+(1.5650954893*(10^-4)*(K26^2))-(4.8239362033*(10^-2)*(K26))+(5.2084519626) -> 20.828959 | B26: =Properties!D19*'NOx Model (2)'!$F$3 -> 160.38 | C26: ='NOx Model (2)'!$H$3* ((6.6506859177*(10^-19)*(K26^6)) -(7.8984343104*(10^-15)*(K26^5))+(3.6879849877*(10^-11)*(K26^4))-(8.6386228559*(10^-8)*(K26^3))+(1.1074017861*(10^-4)*(K26^2))-(3.1241611608*(10^-2)*(K26))+(3.3006694533)) -> 139.26035 | D26: =Properties!J19*'NOx Model (2)'!$H$3 -> 143.3619 | E26: ='NOx Model (2)'!$I$3*(6.4958291549*(10^-19)*('NOx Model (1)'!K26^6))-(7.8224528491*(10^-15)*('NOx Model (1)'!K26^5))+(3.7120417697*(10^-11)*('NOx Model (1)'!K26^4))-(8.798317617*(10^-8)*('NOx Model (1)'!K26^3))+(1.0982327235*(10^-4)*('NOx Model (1)'!K26^2))-(3.2606444641*(10^-2)*('NOx Model (1)'!K26))+(3.5786489003) -> 13.684783 | F26: =Properties!P19*'NOx Model (2)'!$I$3 -> 1.77 | G26: ='NOx Model (2)'!$J$3*(5.9376621671*(10^-19)*('NOx Model (1)'!K26^6))-(7.1020711589*(10^-15)*('NOx Model (1)'!K26^5))+(3.3460896805*(10^-11)*(K26^4))-(7.8909601634*(10^-8)*(K26^3))+(9.8599769212*(10^-5)*(K26^2))-(2.8172899156*(10^-2)*(K26))+(3.05378908) -> 17.965227 | H26: =Properties!V19*'NOx Model (2)'!$J$3 -> 633.56 | I26: =A26+C26+E26+G26 -> 191.73931 | J26: =B26+D26+F26+H26 -> 939.0719 | K26: 750 | M26: Atmospheric Composition Ratio | P26: T | Q26: =20+273 -> 293
A27: ='NOx Model (2)'!$F$3*(8.5770134353*(10^-19)*(K27^6))-(1.0374875556*(10^-14)*(K27^5))+(4.9689475953*(10^-11)*(K27^4))-(1.2019118054*(10^-7)*(K27^3))+(1.5650954893*(10^-4)*(K27^2))-(4.8239362033*(10^-2)*(K27))+(5.2084519626) -> 23.979102 | B27: =Properties!D20*'NOx Model (2)'!$F$3 -> 180.6552 | C27: ='NOx Model (2)'!$H$3* ((6.6506859177*(10^-19)*(K27^6)) -(7.8984343104*(10^-15)*(K27^5))+(3.6879849877*(10^-11)*(K27^4))-(8.6386228559*(10^-8)*(K27^3))+(1.1074017861*(10^-4)*(K27^2))-(3.1241611608*(10^-2)*(K27))+(3.3006694533)) -> 157.20373 | D27: =Properties!J20*'NOx Model (2)'!$H$3 -> 160.38 | E27: ='NOx Model (2)'!$I$3*(6.4958291549*(10^-19)*('NOx Model (1)'!K27^6))-(7.8224528491*(10^-15)*('NOx Model (1)'!K27^5))+(3.7120417697*(10^-11)*('NOx Model (1)'!K27^4))-(8.798317617*(10^-8)*('NOx Model (1)'!K27^3))+(1.0982327235*(10^-4)*('NOx Model (1)'!K27^2))-(3.2606444641*(10^-2)*('NOx Model (1)'!K27))+(3.5786489003) -> 15.395549 | F27: =Properties!P20*'NOx Model (2)'!$I$3 -> 1.98 | G27: ='NOx Model (2)'!$J$3*(5.9376621671*(10^-19)*('NOx Model (1)'!K27^6))-(7.1020711589*(10^-15)*('NOx Model (1)'!K27^5))+(3.3460896805*(10^-11)*(K27^4))-(7.8909601634*(10^-8)*(K27^3))+(9.8599769212*(10^-5)*(K27^2))-(2.8172899156*(10^-2)*(K27))+(3.05378908) -> 21.911638 | H27: =Properties!V20*'NOx Model (2)'!$J$3 -> 706.88 | I27: =A27+C27+E27+G27 -> 218.49002 | J27: =B27+D27+F27+H27 -> 1049.8952 | K27: 800
A28: ='NOx Model (2)'!$F$3*(8.5770134353*(10^-19)*(K28^6))-(1.0374875556*(10^-14)*(K28^5))+(4.9689475953*(10^-11)*(K28^4))-(1.2019118054*(10^-7)*(K28^3))+(1.5650954893*(10^-4)*(K28^2))-(4.8239362033*(10^-2)*(K28))+(5.2084519626) -> 27.367539 | B28: =Properties!D21*'NOx Model (2)'!$F$3 -> 201.2472 | C28: ='NOx Model (2)'!$H$3* ((6.6506859177*(10^-19)*(K28^6)) -(7.8984343104*(10^-15)*(K28^5))+(3.6879849877*(10^-11)*(K28^4))-(8.6386228559*(10^-8)*(K28^3))+(1.1074017861*(10^-4)*(K28^2))-(3.1241611608*(10^-2)*(K28))+(3.3006694533)) -> 175.53503 | D28: =Properties!J21*'NOx Model (2)'!$H$3 -> 177.7545 | E28: ='NOx Model (2)'!$I$3*(6.4958291549*(10^-19)*('NOx Model (1)'!K28^6))-(7.8224528491*(10^-15)*('NOx Model (1)'!K28^5))+(3.7120417697*(10^-11)*('NOx Model (1)'!K28^4))-(8.798317617*(10^-8)*('NOx Model (1)'!K28^3))+(1.0982327235*(10^-4)*('NOx Model (1)'!K28^2))-(3.2606444641*(10^-2)*('NOx Model (1)'!K28))+(3.5786489003) -> 17.114667 | F28: =Properties!P21*'NOx Model (2)'!$I$3 -> 2.19125 | G28: ='NOx Model (2)'!$J$3*(5.9376621671*(10^-19)*('NOx Model (1)'!K28^6))-(7.1020711589*(10^-15)*('NOx Model (1)'!K28^5))+(3.3460896805*(10^-11)*(K28^4))-(7.8909601634*(10^-8)*(K28^3))+(9.8599769212*(10^-5)*(K28^2))-(2.8172899156*(10^-2)*(K28))+(3.05378908) -> 26.725486 | H28: =Properties!V21*'NOx Model (2)'!$J$3 -> 781.14 | I28: =A28+C28+E28+G28 -> 246.74272 | J28: =B28+D28+F28+H28 -> 1162.333 | K28: 850 | M28: 3.76
A29: ='NOx Model (2)'!$F$3*(8.5770134353*(10^-19)*(K29^6))-(1.0374875556*(10^-14)*(K29^5))+(4.9689475953*(10^-11)*(K29^4))-(1.2019118054*(10^-7)*(K29^3))+(1.5650954893*(10^-4)*(K29^2))-(4.8239362033*(10^-2)*(K29))+(5.2084519626) -> 31.031471 | B29: =Properties!D22*'NOx Model (2)'!$F$3 -> 222.156 | C29: ='NOx Model (2)'!$H$3* ((6.6506859177*(10^-19)*(K29^6)) -(7.8984343104*(10^-15)*(K29^5))+(3.6879849877*(10^-11)*(K29^4))-(8.6386228559*(10^-8)*(K29^3))+(1.1074017861*(10^-4)*(K29^2))-(3.1241611608*(10^-2)*(K29))+(3.3006694533)) -> 194.18072 | D29: =Properties!J22*'NOx Model (2)'!$H$3 -> 195.3963 | E29: ='NOx Model (2)'!$I$3*(6.4958291549*(10^-19)*('NOx Model (1)'!K29^6))-(7.8224528491*(10^-15)*('NOx Model (1)'!K29^5))+(3.7120417697*(10^-11)*('NOx Model (1)'!K29^4))-(8.798317617*(10^-8)*('NOx Model (1)'!K29^3))+(1.0982327235*(10^-4)*('NOx Model (1)'!K29^2))-(3.2606444641*(10^-2)*('NOx Model (1)'!K29))+(3.5786489003) -> 18.828742 | F29: =Properties!P22*'NOx Model (2)'!$I$3 -> 2.40625 | G29: ='NOx Model (2)'!$J$3*(5.9376621671*(10^-19)*('NOx Model (1)'!K29^6))-(7.1020711589*(10^-15)*('NOx Model (1)'!K29^5))+(3.3460896805*(10^-11)*(K29^4))-(7.8909601634*(10^-8)*(K29^3))+(9.8599769212*(10^-5)*(K29^2))-(2.8172899156*(10^-2)*(K29))+(3.05378908) -> 32.629816 | H29: =Properties!V22*'NOx Model (2)'!$J$3 -> 856.34 | I29: =A29+C29+E29+G29 -> 276.67074 | J29: =B29+D29+F29+H29 -> 1276.2985 | K29: 900
A30: ='NOx Model (2)'!$F$3*(8.5770134353*(10^-19)*(K30^6))-(1.0374875556*(10^-14)*(K30^5))+(4.9689475953*(10^-11)*(K30^4))-(1.2019118054*(10^-7)*(K30^3))+(1.5650954893*(10^-4)*(K30^2))-(4.8239362033*(10^-2)*(K30))+(5.2084519626) -> 35.019996 | B30: =Properties!D23*'NOx Model (2)'!$F$3 -> 243.3024 | C30: ='NOx Model (2)'!$H$3* ((6.6506859177*(10^-19)*(K30^6)) -(7.8984343104*(10^-15)*(K30^5))+(3.6879849877*(10^-11)*(K30^4))-(8.6386228559*(10^-8)*(K30^3))+(1.1074017861*(10^-4)*(K30^2))-(3.1241611608*(10^-2)*(K30))+(3.3006694533)) -> 213.08135 | D30: =Properties!J23*'NOx Model (2)'!$H$3 -> 213.3054 | E30: ='NOx Model (2)'!$I$3*(6.4958291549*(10^-19)*('NOx Model (1)'!K30^6))-(7.8224528491*(10^-15)*('NOx Model (1)'!K30^5))+(3.7120417697*(10^-11)*('NOx Model (1)'!K30^4))-(8.798317617*(10^-8)*('NOx Model (1)'!K30^3))+(1.0982327235*(10^-4)*('NOx Model (1)'!K30^2))-(3.2606444641*(10^-2)*('NOx Model (1)'!K30))+(3.5786489003) -> 20.525089 | F30: =Properties!P23*'NOx Model (2)'!$I$3 -> 2.6225 | G30: ='NOx Model (2)'!$J$3*(5.9376621671*(10^-19)*('NOx Model (1)'!K30^6))-(7.1020711589*(10^-15)*('NOx Model (1)'!K30^5))+(3.3460896805*(10^-11)*(K30^4))-(7.8909601634*(10^-8)*(K30^3))+(9.8599769212*(10^-5)*(K30^2))-(2.8172899156*(10^-2)*(K30))+(3.05378908) -> 39.893588 | H30: =Properties!V23*'NOx Model (2)'!$J$3 -> 932.48 | I30: =A30+C30+E30+G30 -> 308.52002 | J30: =B30+D30+F30+H30 -> 1391.7103 | K30: 950
A31: ='NOx Model (2)'!$F$3*(8.5770134353*(10^-19)*(K31^6))-(1.0374875556*(10^-14)*(K31^5))+(4.9689475953*(10^-11)*(K31^4))-(1.2019118054*(10^-7)*(K31^3))+(1.5650954893*(10^-4)*(K31^2))-(4.8239362033*(10^-2)*(K31))+(5.2084519626) -> 39.395053 | B31: =Properties!D24*'NOx Model (2)'!$F$3 -> 264.6864 | C31: ='NOx Model (2)'!$H$3* ((6.6506859177*(10^-19)*(K31^6)) -(7.8984343104*(10^-15)*(K31^5))+(3.6879849877*(10^-11)*(K31^4))-(8.6386228559*(10^-8)*(K31^3))+(1.1074017861*(10^-4)*(K31^2))-(3.1241611608*(10^-2)*(K31))+(3.3006694533)) -> 232.19007 | D31: =Properties!J24*'NOx Model (2)'!$H$3 -> 231.5709 | E31: ='NOx Model (2)'!$I$3*(6.4958291549*(10^-19)*('NOx Model (1)'!K31^6))-(7.8224528491*(10^-15)*('NOx Model (1)'!K31^5))+(3.7120417697*(10^-11)*('NOx Model (1)'!K31^4))-(8.798317617*(10^-8)*('NOx Model (1)'!K31^3))+(1.0982327235*(10^-4)*('NOx Model (1)'!K31^2))-(3.2606444641*(10^-2)*('NOx Model (1)'!K31))+(3.5786489003) -> 22.191463 | F31: =Properties!P24*'NOx Model (2)'!$I$3 -> 2.84 | G31: ='NOx Model (2)'!$J$3*(5.9376621671*(10^-19)*('NOx Model (1)'!K31^6))-(7.1020711589*(10^-15)*('NOx Model (1)'!K31^5))+(3.3460896805*(10^-11)*(K31^4))-(7.8909601634*(10^-8)*(K31^3))+(9.8599769212*(10^-5)*(K31^2))-(2.8172899156*(10^-2)*(K31))+(3.05378908) -> 48.836895 | H31: =Properties!V24*'NOx Model (2)'!$J$3 -> 1009.09 | I31: =A31+C31+E31+G31 -> 342.61349 | J31: =B31+D31+F31+H31 -> 1508.1873 | K31: 1000
A32: ='NOx Model (2)'!$F$3*(8.5770134353*(10^-19)*(K32^6))-(1.0374875556*(10^-14)*(K32^5))+(4.9689475953*(10^-11)*(K32^4))-(1.2019118054*(10^-7)*(K32^3))+(1.5650954893*(10^-4)*(K32^2))-(4.8239362033*(10^-2)*(K32))+(5.2084519626) -> 44.232453 | B32: =Properties!D25*'NOx Model (2)'!$F$3 -> 286.308 | C32: ='NOx Model (2)'!$H$3* ((6.6506859177*(10^-19)*(K32^6)) -(7.8984343104*(10^-15)*(K32^5))+(3.6879849877*(10^-11)*(K32^4))-(8.6386228559*(10^-8)*(K32^3))+(1.1074017861*(10^-4)*(K32^2))-(3.1241611608*(10^-2)*(K32))+(3.3006694533)) -> 251.47124 | D32: =Properties!J25*'NOx Model (2)'!$H$3 -> 250.1037 | E32: ='NOx Model (2)'!$I$3*(6.4958291549*(10^-19)*('NOx Model (1)'!K32^6))-(7.8224528491*(10^-15)*('NOx Model (1)'!K32^5))+(3.7120417697*(10^-11)*('NOx Model (1)'!K32^4))-(8.798317617*(10^-8)*('NOx Model (1)'!K32^3))+(1.0982327235*(10^-4)*('NOx Model (1)'!K32^2))-(3.2606444641*(10^-2)*('NOx Model (1)'!K32))+(3.5786489003) -> 23.815776 | F32: =Properties!P25*'NOx Model (2)'!$I$3 -> 3.05875 | G32: ='NOx Model (2)'!$J$3*(5.9376621671*(10^-19)*('NOx Model (1)'!K32^6))-(7.1020711589*(10^-15)*('NOx Model (1)'!K32^5))+(3.3460896805*(10^-11)*(K32^4))-(7.8909601634*(10^-8)*(K32^3))+(9.8599769212*(10^-5)*(K32^2))-(2.8172899156*(10^-2)*(K32))+(3.05378908) -> 59.836515 | H32: =Properties!V25*'NOx Model (2)'!$J$3 -> 1086.17 | I32: =A32+C32+E32+G32 -> 379.35598 | J32: =B32+D32+F32+H32 -> 1625.6405 | K32: 1050
A33: ='NOx Model (2)'!$F$3*(8.5770134353*(10^-19)*(K33^6))-(1.0374875556*(10^-14)*(K33^5))+(4.9689475953*(10^-11)*(K33^4))-(1.2019118054*(10^-7)*(K33^3))+(1.5650954893*(10^-4)*(K33^2))-(4.8239362033*(10^-2)*(K33))+(5.2084519626) -> 49.622972 | B33: =Properties!D26*'NOx Model (2)'!$F$3 -> 308.1672 | C33: ='NOx Model (2)'!$H$3* ((6.6506859177*(10^-19)*(K33^6)) -(7.8984343104*(10^-15)*(K33^5))+(3.6879849877*(10^-11)*(K33^4))-(8.6386228559*(10^-8)*(K33^3))+(1.1074017861*(10^-4)*(K33^2))-(3.1241611608*(10^-2)*(K33))+(3.3006694533)) -> 270.89904 | D33: =Properties!J26*'NOx Model (2)'!$H$3 -> 268.9929 | E33: ='NOx Model (2)'!$I$3*(6.4958291549*(10^-19)*('NOx Model (1)'!K33^6))-(7.8224528491*(10^-15)*('NOx Model (1)'!K33^5))+(3.7120417697*(10^-11)*('NOx Model (1)'!K33^4))-(8.798317617*(10^-8)*('NOx Model (1)'!K33^3))+(1.0982327235*(10^-4)*('NOx Model (1)'!K33^2))-(3.2606444641*(10^-2)*('NOx Model (1)'!K33))+(3.5786489003) -> 25.385824 | F33: =Properties!P26*'NOx Model (2)'!$I$3 -> 3.27875 | G33: ='NOx Model (2)'!$J$3*(5.9376621671*(10^-19)*('NOx Model (1)'!K33^6))-(7.1020711589*(10^-15)*('NOx Model (1)'!K33^5))+(3.3460896805*(10^-11)*(K33^4))-(7.8909601634*(10^-8)*(K33^3))+(9.8599769212*(10^-5)*(K33^2))-(2.8172899156*(10^-2)*(K33))+(3.05378908) -> 73.331758 | H33: =Properties!V26*'NOx Model (2)'!$J$3 -> 1164.19 | I33: =A33+C33+E33+G33 -> 419.2396 | J33: =B33+D33+F33+H33 -> 1744.6289 | K33: 1100
A34: ='NOx Model (2)'!$F$3*(8.5770134353*(10^-19)*(K34^6))-(1.0374875556*(10^-14)*(K34^5))+(4.9689475953*(10^-11)*(K34^4))-(1.2019118054*(10^-7)*(K34^3))+(1.5650954893*(10^-4)*(K34^2))-(4.8239362033*(10^-2)*(K34))+(5.2084519626) -> 55.673535 | B34: =Properties!D27*'NOx Model (2)'!$F$3 -> 330.1848 | C34: ='NOx Model (2)'!$H$3* ((6.6506859177*(10^-19)*(K34^6)) -(7.8984343104*(10^-15)*(K34^5))+(3.6879849877*(10^-11)*(K34^4))-(8.6386228559*(10^-8)*(K34^3))+(1.1074017861*(10^-4)*(K34^2))-(3.1241611608*(10^-2)*(K34))+(3.3006694533)) -> 290.45626 | D34: =Properties!J27*'NOx Model (2)'!$H$3 -> 288.1494 | E34: ='NOx Model (2)'!$I$3*(6.4958291549*(10^-19)*('NOx Model (1)'!K34^6))-(7.8224528491*(10^-15)*('NOx Model (1)'!K34^5))+(3.7120417697*(10^-11)*('NOx Model (1)'!K34^4))-(8.798317617*(10^-8)*('NOx Model (1)'!K34^3))+(1.0982327235*(10^-4)*('NOx Model (1)'!K34^2))-(3.2606444641*(10^-2)*('NOx Model (1)'!K34))+(3.5786489003) -> 26.889014 | F34: =Properties!P27*'NOx Model (2)'!$I$3 -> 3.5 | G34: ='NOx Model (2)'!$J$3*(5.9376621671*(10^-19)*('NOx Model (1)'!K34^6))-(7.1020711589*(10^-15)*('NOx Model (1)'!K34^5))+(3.3460896805*(10^-11)*(K34^4))-(7.8909601634*(10^-8)*(K34^3))+(9.8599769212*(10^-5)*(K34^2))-(2.8172899156*(10^-2)*(K34))+(3.05378908) -> 89.83064 | H34: =Properties!V27*'NOx Model (2)'!$J$3 -> 1242.68 | I34: =A34+C34+E34+G34 -> 462.84944 | J34: =B34+D34+F34+H34 -> 1864.5142 | K34: 1150
A35: ='NOx Model (2)'!$F$3*(8.5770134353*(10^-19)*(K35^6))-(1.0374875556*(10^-14)*(K35^5))+(4.9689475953*(10^-11)*(K35^4))-(1.2019118054*(10^-7)*(K35^3))+(1.5650954893*(10^-4)*(K35^2))-(4.8239362033*(10^-2)*(K35))+(5.2084519626) -> 62.508468 | B35: =Properties!D28*'NOx Model (2)'!$F$3 -> 352.3608 | C35: ='NOx Model (2)'!$H$3* ((6.6506859177*(10^-19)*(K35^6)) -(7.8984343104*(10^-15)*(K35^5))+(3.6879849877*(10^-11)*(K35^4))-(8.6386228559*(10^-8)*(K35^3))+(1.1074017861*(10^-4)*(K35^2))-(3.1241611608*(10^-2)*(K35))+(3.3006694533)) -> 310.13303 | D35: =Properties!J28*'NOx Model (2)'!$H$3 -> 307.5732 | E35: ='NOx Model (2)'!$I$3*(6.4958291549*(10^-19)*('NOx Model (1)'!K35^6))-(7.8224528491*(10^-15)*('NOx Model (1)'!K35^5))+(3.7120417697*(10^-11)*('NOx Model (1)'!K35^4))-(8.798317617*(10^-8)*('NOx Model (1)'!K35^3))+(1.0982327235*(10^-4)*('NOx Model (1)'!K35^2))-(3.2606444641*(10^-2)*('NOx Model (1)'!K35))+(3.5786489003) -> 28.312087 | F35: =Properties!P28*'NOx Model (2)'!$I$3 -> 3.72125 | G35: ='NOx Model (2)'!$J$3*(5.9376621671*(10^-19)*('NOx Model (1)'!K35^6))-(7.1020711589*(10^-15)*('NOx Model (1)'!K35^5))+(3.3460896805*(10^-11)*(K35^4))-(7.8909601634*(10^-8)*(K35^3))+(9.8599769212*(10^-5)*(K35^2))-(2.8172899156*(10^-2)*(K35))+(3.05378908) -> 109.91637 | H35: =Properties!V28*'NOx Model (2)'!$J$3 -> 1321.64 | I35: =A35+C35+E35+G35 -> 510.86995 | J35: =B35+D35+F35+H35 -> 1985.2953 | K35: 1200
A36: ='NOx Model (2)'!$F$3*(8.5770134353*(10^-19)*(K36^6))-(1.0374875556*(10^-14)*(K36^5))+(4.9689475953*(10^-11)*(K36^4))-(1.2019118054*(10^-7)*(K36^3))+(1.5650954893*(10^-4)*(K36^2))-(4.8239362033*(10^-2)*(K36))+(5.2084519626) -> 70.270828 | B36: =Properties!D29*'NOx Model (2)'!$F$3 -> 374.6952 | C36: ='NOx Model (2)'!$H$3* ((6.6506859177*(10^-19)*(K36^6)) -(7.8984343104*(10^-15)*(K36^5))+(3.6879849877*(10^-11)*(K36^4))-(8.6386228559*(10^-8)*(K36^3))+(1.1074017861*(10^-4)*(K36^2))-(3.1241611608*(10^-2)*(K36))+(3.3006694533)) -> 329.92575 | D36: =Properties!J29*'NOx Model (2)'!$H$3 -> 327.1752 | E36: ='NOx Model (2)'!$I$3*(6.4958291549*(10^-19)*('NOx Model (1)'!K36^6))-(7.8224528491*(10^-15)*('NOx Model (1)'!K36^5))+(3.7120417697*(10^-11)*('NOx Model (1)'!K36^4))-(8.798317617*(10^-8)*('NOx Model (1)'!K36^3))+(1.0982327235*(10^-4)*('NOx Model (1)'!K36^2))-(3.2606444641*(10^-2)*('NOx Model (1)'!K36))+(3.5786489003) -> 29.640849 | F36: =Properties!P29*'NOx Model (2)'!$I$3 -> 3.945 | G36: ='NOx Model (2)'!$J$3*(5.9376621671*(10^-19)*('NOx Model (1)'!K36^6))-(7.1020711589*(10^-15)*('NOx Model (1)'!K36^5))+(3.3460896805*(10^-11)*(K36^4))-(7.8909601634*(10^-8)*(K36^3))+(9.8599769212*(10^-5)*(K36^2))-(2.8172899156*(10^-2)*(K36))+(3.05378908) -> 134.25413 | H36: =Properties!V29*'NOx Model (2)'!$J$3 -> 1401.07 | I36: =A36+C36+E36+G36 -> 564.09156 | J36: =B36+D36+F36+H36 -> 2106.8854 | K36: 1250
A37: ='NOx Model (2)'!$F$3*(8.5770134353*(10^-19)*(K37^6))-(1.0374875556*(10^-14)*(K37^5))+(4.9689475953*(10^-11)*(K37^4))-(1.2019118054*(10^-7)*(K37^3))+(1.5650954893*(10^-4)*(K37^2))-(4.8239362033*(10^-2)*(K37))+(5.2084519626) -> 79.123809 | B37: =Properties!D30*'NOx Model (2)'!$F$3 -> 397.188 | C37: ='NOx Model (2)'!$H$3* ((6.6506859177*(10^-19)*(K37^6)) -(7.8984343104*(10^-15)*(K37^5))+(3.6879849877*(10^-11)*(K37^4))-(8.6386228559*(10^-8)*(K37^3))+(1.1074017861*(10^-4)*(K37^2))-(3.1241611608*(10^-2)*(K37))+(3.3006694533)) -> 349.83597 | D37: =Properties!J30*'NOx Model (2)'!$H$3 -> 347.1336 | E37: ='NOx Model (2)'!$I$3*(6.4958291549*(10^-19)*('NOx Model (1)'!K37^6))-(7.8224528491*(10^-15)*('NOx Model (1)'!K37^5))+(3.7120417697*(10^-11)*('NOx Model (1)'!K37^4))-(8.798317617*(10^-8)*('NOx Model (1)'!K37^3))+(1.0982327235*(10^-4)*('NOx Model (1)'!K37^2))-(3.2606444641*(10^-2)*('NOx Model (1)'!K37))+(3.5786489003) -> 30.859895 | F37: =Properties!P30*'NOx Model (2)'!$I$3 -> 4.16875 | G37: ='NOx Model (2)'!$J$3*(5.9376621671*(10^-19)*('NOx Model (1)'!K37^6))-(7.1020711589*(10^-15)*('NOx Model (1)'!K37^5))+(3.3460896805*(10^-11)*(K37^4))-(7.8909601634*(10^-8)*(K37^3))+(9.8599769212*(10^-5)*(K37^2))-(2.8172899156*(10^-2)*(K37))+(3.05378908) -> 163.59823 | H37: =Properties!V30*'NOx Model (2)'!$J$3 -> 1480.97 | I37: =A37+C37+E37+G37 -> 623.4179 | J37: =B37+D37+F37+H37 -> 2229.4604 | K37: 1300
A38: ='NOx Model (2)'!$F$3*(8.5770134353*(10^-19)*(K38^6))-(1.0374875556*(10^-14)*(K38^5))+(4.9689475953*(10^-11)*(K38^4))-(1.2019118054*(10^-7)*(K38^3))+(1.5650954893*(10^-4)*(K38^2))-(4.8239362033*(10^-2)*(K38))+(5.2084519626) -> 89.252227 | B38: =Properties!D31*'NOx Model (2)'!$F$3 -> 419.76 | C38: ='NOx Model (2)'!$H$3* ((6.6506859177*(10^-19)*(K38^6)) -(7.8984343104*(10^-15)*(K38^5))+(3.6879849877*(10^-11)*(K38^4))-(8.6386228559*(10^-8)*(K38^3))+(1.1074017861*(10^-4)*(K38^2))-(3.1241611608*(10^-2)*(K38))+(3.3006694533)) -> 369.8694 | D38: =Properties!J31*'NOx Model (2)'!$H$3 -> 367.3593 | E38: ='NOx Model (2)'!$I$3*(6.4958291549*(10^-19)*('NOx Model (1)'!K38^6))-(7.8224528491*(10^-15)*('NOx Model (1)'!K38^5))+(3.7120417697*(10^-11)*('NOx Model (1)'!K38^4))-(8.798317617*(10^-8)*('NOx Model (1)'!K38^3))+(1.0982327235*(10^-4)*('NOx Model (1)'!K38^2))-(3.2606444641*(10^-2)*('NOx Model (1)'!K38))+(3.5786489003) -> 31.952341 | F38: =Properties!P31*'NOx Model (2)'!$I$3 -> 4.39375 | G38: ='NOx Model (2)'!$J$3*(5.9376621671*(10^-19)*('NOx Model (1)'!K38^6))-(7.1020711589*(10^-15)*('NOx Model (1)'!K38^5))+(3.3460896805*(10^-11)*(K38^4))-(7.8909601634*(10^-8)*(K38^3))+(9.8599769212*(10^-5)*(K38^2))-(2.8172899156*(10^-2)*(K38))+(3.05378908) -> 198.79946 | H38: =Properties!V31*'NOx Model (2)'!$J$3 -> 1561.34 | I38: =A38+C38+E38+G38 -> 689.87343 | J38: =B38+D38+F38+H38 -> 2352.853 | K38: 1350
A39: ='NOx Model (2)'!$F$3*(8.5770134353*(10^-19)*(K39^6))-(1.0374875556*(10^-14)*(K39^5))+(4.9689475953*(10^-11)*(K39^4))-(1.2019118054*(10^-7)*(K39^3))+(1.5650954893*(10^-4)*(K39^2))-(4.8239362033*(10^-2)*(K39))+(5.2084519626) -> 100.86408 | B39: =Properties!D32*'NOx Model (2)'!$F$3 -> 442.5696 | C39: ='NOx Model (2)'!$H$3* ((6.6506859177*(10^-19)*(K39^6)) -(7.8984343104*(10^-15)*(K39^5))+(3.6879849877*(10^-11)*(K39^4))-(8.6386228559*(10^-8)*(K39^3))+(1.1074017861*(10^-4)*(K39^2))-(3.1241611608*(10^-2)*(K39))+(3.3006694533)) -> 390.03495 | D39: =Properties!J32*'NOx Model (2)'!$H$3 -> 387.7632 | E39: ='NOx Model (2)'!$I$3*(6.4958291549*(10^-19)*('NOx Model (1)'!K39^6))-(7.8224528491*(10^-15)*('NOx Model (1)'!K39^5))+(3.7120417697*(10^-11)*('NOx Model (1)'!K39^4))-(8.798317617*(10^-8)*('NOx Model (1)'!K39^3))+(1.0982327235*(10^-4)*('NOx Model (1)'!K39^2))-(3.2606444641*(10^-2)*('NOx Model (1)'!K39))+(3.5786489003) -> 32.899555 | F39: =Properties!P32*'NOx Model (2)'!$I$3 -> 4.61875 | G39: ='NOx Model (2)'!$J$3*(5.9376621671*(10^-19)*('NOx Model (1)'!K39^6))-(7.1020711589*(10^-15)*('NOx Model (1)'!K39^5))+(3.3460896805*(10^-11)*(K39^4))-(7.8909601634*(10^-8)*(K39^3))+(9.8599769212*(10^-5)*(K39^2))-(2.8172899156*(10^-2)*(K39))+(3.05378908) -> 240.81292 | H39: =Properties!V32*'NOx Model (2)'!$J$3 -> 1642.18 | I39: =A39+C39+E39+G39 -> 764.6115 | J39: =B39+D39+F39+H39 -> 2477.1316 | K39: 1400
A40: ='NOx Model (2)'!$F$3*(8.5770134353*(10^-19)*(K40^6))-(1.0374875556*(10^-14)*(K40^5))+(4.9689475953*(10^-11)*(K40^4))-(1.2019118054*(10^-7)*(K40^3))+(1.5650954893*(10^-4)*(K40^2))-(4.8239362033*(10^-2)*(K40))+(5.2084519626) -> 114.19218 | B40: =Properties!D33*'NOx Model (2)'!$F$3 -> 465.4584 | C40: ='NOx Model (2)'!$H$3* ((6.6506859177*(10^-19)*(K40^6)) -(7.8984343104*(10^-15)*(K40^5))+(3.6879849877*(10^-11)*(K40^4))-(8.6386228559*(10^-8)*(K40^3))+(1.1074017861*(10^-4)*(K40^2))-(3.1241611608*(10^-2)*(K40))+(3.3006694533)) -> 410.34389 | D40: =Properties!J33*'NOx Model (2)'!$H$3 -> 408.4344 | E40: ='NOx Model (2)'!$I$3*(6.4958291549*(10^-19)*('NOx Model (1)'!K40^6))-(7.8224528491*(10^-15)*('NOx Model (1)'!K40^5))+(3.7120417697*(10^-11)*('NOx Model (1)'!K40^4))-(8.798317617*(10^-8)*('NOx Model (1)'!K40^3))+(1.0982327235*(10^-4)*('NOx Model (1)'!K40^2))-(3.2606444641*(10^-2)*('NOx Model (1)'!K40))+(3.5786489003) -> 33.680882 | F40: =Properties!P33*'NOx Model (2)'!$I$3 -> 4.84625 | G40: ='NOx Model (2)'!$J$3*(5.9376621671*(10^-19)*('NOx Model (1)'!K40^6))-(7.1020711589*(10^-15)*('NOx Model (1)'!K40^5))+(3.3460896805*(10^-11)*(K40^4))-(7.8909601634*(10^-8)*(K40^3))+(9.8599769212*(10^-5)*(K40^2))-(2.8172899156*(10^-2)*(K40))+(3.05378908) -> 290.706 | H40: =Properties!V33*'NOx Model (2)'!$J$3 -> 1723.49 | I40: =A40+C40+E40+G40 -> 848.92295 | J40: =B40+D40+F40+H40 -> 2602.229 | K40: 1450
...

Sheet NOx Model (2)
A1: NO𝑥 Model
A2: Please Select a Fuel, ɸ & EGR% from the dropdown boxes | B2: Fuel | C2: ɸ | D2: x | E2: CO₂ IF | F2: CO₂ (n1) | G2: H₂O IF | H2: H₂O (n2) | I2: O₂ (n3) | J2: N₂ (n4) | K2: IF Reaction Enthalpy ℎ (MJ/Mol) | L2: Reaction Enthalpy ℎ (MJ/Mol) | N2: Fuel Enthalpy (MJ) | O2: IF NET Enthalpy (MJ) | P2: NET Enthalpy (MJ) | Q2: Moles Number | R2: Alpha | S2: Oxygen Concentration | T2: Nitrogen Concentration | U2: Total Exhaust kmols
B3: Iso-Octane | C3: 0.99 | D3: =IF(B3="Iso-Octane",'NOx Model (1)'!H3,IF(B3="Methanol",'NOx Model (1)'!H4,IF(B3="Ethanol",'NOx Model (1)'!H5,IF(B3="Propane",'NOx Model (1)'!H6,IF(B3="Ethane",'NOx Model (1)'!H7,IF(B3="Hydrogen",'NOx Model (1)'!H8,IF(B3="Acetylene",'NOx Model (1)'!H9))))))) -> 12.5 | E3: =IF(B3="Iso-Octane",'NOx Model (1)'!F3,IF(B3="Methanol",'NOx Model (1)'!F4,IF(B3="Ethanol",'NOx Model (1)'!F5,IF(B3="Propane",'NOx Model (1)'!F6,IF(B3="Ethane",'NOx Model (1)'!F7,IF(B3="Hydrogen",'NOx Model (1)'!F8,IF(B3="Acetylene",'NOx Model (1)'!F9))))))) -> 8 | F3: =E3*C3 -> 7.92 | G3: =IF(B3="Iso-Octane",'NOx Model (1)'!G3,IF(B3="Methanol",'NOx Model (1)'!G4,IF(B3="Ethanol",'NOx Model (1)'!G5,IF(B3="Propane",'NOx Model (1)'!G6,IF(B3="Ethane",'NOx Model (1)'!G7,IF(B3="Hydrogen",'NOx Model (1)'!G8,IF(B3="Acetylene",'NOx Model (1)'!G9))))))) -> 9 | H3: =G3*C3 -> 8.91 | I3: =D3*(1-C3) -> 0.125 | J3: =IF(B3="Iso-Octane",'NOx Model (1)'!I3,IF(B3="Methanol",'NOx Model (1)'!I4,IF(B3="Ethanol",'NOx Model (1)'!I5,IF(B3="Propane",'NOx Model (1)'!I6,IF(B3="Ethane",'NOx Model (1)'!I7,IF(B3="Hydrogen",'NOx Model (1)'!I8,IF(B3="Acetylene",'NOx Model (1)'!I9))))))) -> 47 | K3: =IF(B3="Iso-Octane",'NOx Model (1)'!J3,IF(B3="Methanol",'NOx Model (1)'!J4,IF(B3="Ethanol",'NOx Model (1)'!J5,IF(B3="Propane",'NOx Model (1)'!J6,IF(B3="Ethane",'NOx Model (1)'!J7,IF(B3="Hydrogen",'NOx Model (1)'!J8,IF(B3="Acetylene",'NOx Model (1)'!J9))))))) -> 5324.2 | L3: =K3*C3 -> 5270.958 | M3: =IF(B3="Iso-Octane",'NOx Model (1)'!K3,IF(B3="Methanol",'NOx Model (1)'!K4,IF(B3="Ethanol",'NOx Model (1)'!K5,IF(B3="Propane",'NOx Model (1)'!K6,IF(B3="Ethane",'NOx Model (1)'!K7,IF(B3="Hydrogen",'NOx Model (1)'!K8,IF(B3="Acetylene",'NOx Model (1)'!K9))))))) -> 259.2 | N3: =M3*C3 -> 256.608 | O3: =IF(B3="Iso-Octane",'NOx Model (1)'!L3,IF(B3="Methanol",'NOx Model (1)'!L4,IF(B3="Ethanol",'NOx Model (1)'!L5,IF(B3="Propane",'NOx Model (1)'!L6,IF(B3="Ethane",'NOx Model (1)'!L7,IF(B3="Hydrogen",'NOx Model (1)'!L8,IF(B3="Acetylene",'NOx Model (1)'!L9))))))) -> 5065 | P3: =O3*C3 -> 5014.35 | Q3: ='NOx Model (1)'!M3 -> 6.5681391e-06 | R3: =($Q$3)/($C$3+($D$3*(1+3.76))) -> 1.0858223e-07 | S3: =(I3*R3)/('NOx Model (1)'!$M$24*10^-6) -> 0.00033931947 | T3: =(J3*R3)/('NOx Model (1)'!$M$24*10^-6) -> 0.12758412 | U3: =R3*(F3+H3+I3+J3) -> 6.9443765e-06
A5: Assumptions/Constants | F5: NET Enthalpy | H5: Temperature (K) | L5: Pressure | M5: Temperature | N5: NOx
D6: Above | F6: {=MIN(IF('NOx Model (1)'!$J$14:$J$81>'NOx Model (2)'!$P$3,'NOx Model (1)'!$J$14:$J$81))} -> 5081.6677 | H6: =VLOOKUP($F$6,'NOx Model (1)'!$J$14:$K$81,2,FALSE) -> 2400 | L6: Bar | M6: K | N6: Kmols/m³/° | P6: Kmols/° | Q6: Kmols/Cycle | R6: NOx PPM
A7: Volumetric Efficiency | D7: Below | F7: {=MAX(IF('NOx Model (1)'!$J$14:$J$81<'NOx Model (2)'!$P$3,'NOx Model (1)'!$J$14:$J$81))} -> 4947.8615 | H7: =VLOOKUP($F$7,'NOx Model (1)'!$J$14:$K$81,2,FALSE) -> 2350 | J7: S.O.C | L7: 10 | M7: ='NOx Model (2)'!F9 -> 2374.8451 | N7: =(((4.7*10^13)*($T$3)*(($S$3)^0.5)*EXP(-67837/M7)))/($A$12*6) -> 4.0200865e-06 | P7: =N7*($A$10*10^-6) -> 1.6080346e-10 | Q7: =SUM(P7:P22) -> 1.4599187e-07 | R7: =(Q7/U3)*10^6 -> 21023.034
A8: 0.4 | F8: Initial Flame Temperature (K) | L8: =L7+2 -> 12 | M8: =M7*((L8/L7)^((1.17-1)/1.17)) -> 2438.5982 | N8: =(((4.7*10^13)*($T$3)*(($S$3)^0.5)*EXP(-67837/M8)))/($A$12*6) -> 8.483163e-06 | P8: =N8*($A$10*10^-6) -> 3.3932652e-10
A9: Clearance volume | F9: =((($P$3-$F$7)/($F$6-$F$7))*($H$6-$H$7))+$H$7 -> 2374.8451 | L9: =L8+2 -> 14 | M9: =M8*((L9/L8)^((1.17-1)/1.17)) -> 2493.8341 | N9: =(((4.7*10^13)*($T$3)*(($S$3)^0.5)*EXP(-67837/M9)))/($A$12*6) -> 1.5708857e-05 | P9: =N9*($A$10*10^-6) -> 6.2835426e-10
A10: 40 | L10: =L9+2 -> 16 | M10: =M9*((L10/L9)^((1.17-1)/1.17)) -> 2542.6919 | N10: =(((4.7*10^13)*($T$3)*(($S$3)^0.5)*EXP(-67837/M10)))/($A$12*6) -> 2.6493746e-05 | P10: =N10*($A$10*10^-6) -> 1.0597498e-09
A11: RPM | L11: =L10+2 -> 18 | M11: =M10*((L11/L10)^((1.17-1)/1.17)) -> 2586.5814 | N11: =(((4.7*10^13)*($T$3)*(($S$3)^0.5)*EXP(-67837/M11)))/($A$12*6) -> 4.1662685e-05 | P11: =N11*($A$10*10^-6) -> 1.6665074e-09
A12: 1800 | D12: For Ideal Gas Law | L12: =L11+2 -> 20 | M12: =M11*((L12/L11)^((1.17-1)/1.17)) -> 2626.4835 | N12: =(((4.7*10^13)*($T$3)*(($S$3)^0.5)*EXP(-67837/M12)))/($A$12*6) -> 6.2056451e-05 | P12: =N12*($A$10*10^-6) -> 2.482258e-09
A13: Atmosphere | D13: P | F13: 1 | L13: =L12+2 -> 22 | M13: =M12*((L13/L12)^((1.17-1)/1.17)) -> 2663.1094 | N13: =(((4.7*10^13)*($T$3)*(($S$3)^0.5)*EXP(-67837/M13)))/($A$12*6) -> 8.852269e-05 | P13: =N13*($A$10*10^-6) -> 3.5409076e-09
A14: O2 | B14: 0.21 | D14: V | F14: =1600/4 -> 400 | L14: =L13+2 -> 24 | M14: =M13*((L14/L13)^((1.17-1)/1.17)) -> 2696.9919 | N14: =(((4.7*10^13)*($T$3)*(($S$3)^0.5)*EXP(-67837/M14)))/($A$12*6) -> 0.00012190924 | P14: =N14*($A$10*10^-6) -> 4.8763696e-09
A15: N2 | B15: 0.79 | D15: R | F15: 8314 | L15: =L14+2 -> 26 | M15: =M14*((L15/L14)^((1.17-1)/1.17)) -> 2728.5414 | N15: =(((4.7*10^13)*($T$3)*(($S$3)^0.5)*EXP(-67837/M15)))/($A$12*6) -> 0.00016305919 | P15: =N15*($A$10*10^-6) -> 6.5223676e-09
A16: Atmospheric Composition Ratio | D16: T | F16: =20+273 -> 293 | L16: =L15+2 -> 28 | M16: =M15*((L16/L15)^((1.17-1)/1.17)) -> 2758.0806 | N16: =(((4.7*10^13)*($T$3)*(($S$3)^0.5)*EXP(-67837/M16)))/($A$12*6) -> 0.00021280724 | P16: =N16*($A$10*10^-6) -> 8.5122895e-09
L17: =L16+2 -> 30 | M17: =M16*((L17/L16)^((1.17-1)/1.17)) -> 2785.8684 | N17: =(((4.7*10^13)*($T$3)*(($S$3)^0.5)*EXP(-67837/M17)))/($A$12*6) -> 0.000271977 | P17: =N17*($A$10*10^-6) -> 1.087908e-08
A18: 3.76 | L18: =L17+2 -> 32 | M18: =M17*((L18/L17)^((1.17-1)/1.17)) -> 2812.1154 | N18: =(((4.7*10^13)*($T$3)*(($S$3)^0.5)*EXP(-67837/M18)))/($A$12*6) -> 0.00034137904 | P18: =N18*($A$10*10^-6) -> 1.3655162e-08
L19: =L18+2 -> 34 | M19: =M18*((L19/L18)^((1.17-1)/1.17)) -> 2836.9959 | N19: =(((4.7*10^13)*($T$3)*(($S$3)^0.5)*EXP(-67837/M19)))/($A$12*6) -> 0.00042180948 | P19: =N19*($A$10*10^-6) -> 1.6872379e-08
A20: Molecular Weight | L20: =L19+2 -> 36 | M20: =M19*((L20/L19)^((1.17-1)/1.17)) -> 2860.6555 | N20: =(((4.7*10^13)*($T$3)*(($S$3)^0.5)*EXP(-67837/M20)))/($A$12*6) -> 0.00051404897 | P20: =N20*($A$10*10^-6) -> 2.0561959e-08
A21: Air | B21: =(2*B24)+(2*'NOx Model (1)'!Y10*B25) -> 32.095151 | C21: kg/kmol | L21: =L20+2 -> 38 | M21: =M20*((L21/L20)^((1.17-1)/1.17)) -> 2883.2171 | N21: =(((4.7*10^13)*($T$3)*(($S$3)^0.5)*EXP(-67837/M21)))/($A$12*6) -> 0.00061886206 | P21: =N21*($A$10*10^-6) -> 2.4754482e-08
