Workbook
Name Iso_Octane: EGR!$B$3

Sheet Home Page

Sheet Fuel Blend Calc
A1: Stoichemetric
A2: Iso-octane | H2: Iso-Octane & Methanol Blend
A3: Atmosphere | H3: Atmosphere
A4: O2 | B4: 0.21 | D4: Atmospheric Composition | H4: O2 | I4: 0.21 | K4: Atmospheric Composition
A5: N2 | B5: 0.79 | D5: Ratio | E5: 3.76 | H5: N2 | I5: 0.79 | K5: Ratio | L5: 3.76
A7: HC Fuel Balance | H7: HC Fuel Balance
A8: Where… | B8: x = (2n1+n2)/2 | E8: Molecules | H8: Where… | I8: x = (2n1+n2-O)/2 | L8: Molecules
B9: Molecules | D9: x | E9: =((2*E10)+(E11))/2 -> 12.5 | I9: Molecules | K9: x | L9: =((2*L10+(L11)-I12))/2 -> 14
A10: Carbon (x) | B10: 8 | D10: CO2 (n1) | E10: =B10 -> 8 | H10: Carbon (x) | I10: =B10+B28 -> 9 | K10: CO2 (n1) | L10: =I10 -> 9
A11: Hydrogen (y) | B11: 18 | D11: H20 (n2) | E11: =B11/2 -> 9 | H11: Hydrogen (y) | I11: =B11+B29 -> 22 | K11: H20 (n2) | L11: =I11/2 -> 11
D12: N2 (n3) | E12: =3.76*E9 -> 47 | H12: Oxygen (z) | I12: 1 | K12: N2 (n3) | L12: =L9*3.76 -> 52.64
A13: Air Mass | B13: =(E9*((2*E17)+E5*2*E18)) -> 1716 | C13: Kg | D13: Molecular Weight | H13: Air Mass | I13: =(L9*((2*L17)+L5*2*L18)) -> 1921.92 | J13: Kg | K13: Molecular Weight
A14: Fuel Mass | B14: =(B10*E15)+(B11*E16) -> 114 | C14: Kg | D14: Air | E14: =(2*E17)+(2*E5*E18) -> 137.28 | F14: kg/kmol | H14: Fuel Mass | I14: =(I10*L15)+(I11*L16)+(I12*L17) -> 146 | J14: Kg | K14: Air | L14: =(2*L17)+(2*L5*L18) -> 137.28 | M14: kg/kmol
D15: Carbon | E15: 12 | F15: kg/kmol | K15: Carbon | L15: 12 | M15: kg/kmol
A16: Stoichiometric Air/Fuel Ratio | B16: =B13/B14 -> 15.052632 | D16: Hydrogen | E16: 1 | F16: kg/kmol | H16: Stoichiometric Air/Fuel Ratio | I16: =I13/I14 -> 13.163836 | K16: Hydrogen | L16: 1 | M16: kg/kmol
D17: Oxygen | E17: 16 | F17: kg/kmol | K17: Oxygen | L17: 16 | M17: kg/kmol
D18: Nitrogen | E18: 14 | F18: kg/kmol | K18: Nitrogen | L18: 14 | M18: kg/kmol
A19: Equivalence Ratio | B19: Fuel Ratio | H19: mass of CO2 | I19: =L10*(L15+(2*L17)) -> 396 | J19: kg/kmol
A20: =B16/13.7 -> 1.0987322 | B20: =A20*B16 -> 16.538811 | E20: 259.2 | F20: kJ/mol | H20: CO2 per 1kg of fuel | I20: =I19/I14 -> 2.7123288 | J20: kg | L20: =E20+E38 -> 460.7 | M20: kJ/mol
A21: Methanol | K21: LHV
A22: O2 | B22: 0.21 | D22: Atmospheric Composition | H22: Equivalence Ratio | I22: Fuel Ratio | K22: h | L22: =(L10*393.5)+(L11*241.8) -> 6201.3 | M22: MJ
A23: N2 | B23: 0.79 | D23: Ratio | E23: 3.76 | H23: =I16/13.7 -> 0.96086391 | I23: =H23*I16 -> 12.648655 | K23: Net Enthalpy | L23: =L22-L20 -> 5740.6 | M23: MJ
K24: Calorific Value | L24: =L23/I14 -> 39.319178 | M24: MJ/Kg
A25: HC Fuel Balance | H25: Mass Percentages | I25: Fuel | J25: Air | K25: HHV
A26: Where… | B26: x = (2n1+n2-O)/2 | E26: Molecules | H26: Iso-Octane | I26: =B14/I14 -> 0.78082192 | J26: =B13/I13 -> 0.89285714 | K26: h | L26: =(L10*393.5)+(L11*285.8) -> 6685.3 | M26: MJ
B27: Molecules | D27: x | E27: =((2*E28)+(E29)-B30)/2 -> 1.5 | H27: Methanol | I27: =B32/I14 -> 0.21917808 | J27: =B31/I13 -> 0.10714286 | K27: Net Enthalpy | L27: =L26-L20 -> 6224.6 | M27: MJ
A28: Carbon (x) | B28: 1 | D28: CO2 (n1) | E28: =B28 -> 1 | H28: Total | I28: =I26+I27 -> 1 | J28: =J26+J27 -> 1 | K28: Calorific Value | L28: =L27/I14 -> 42.634247 | M28: MJ/Kg
A29: Hydrogen (y) | B29: 4 | D29: H20 (n2) | E29: =B29/2 -> 2 | H29: Nomenclature
A30: Oxygen (z) | B30: 1 | D30: N2 (n3) | E30: =3.76*E27 -> 5.64 | H30: Enthalpy of formation
A31: Air Mass | B31: =(E27*((2*E35)+E23*2*E36)) -> 205.92 | C31: Kg | D31: Molecular Weight | H31: Enthalpy released from reaction
A32: Fuel Mass | B32: =(B28*E33)+(B29*E34)+(B30*E35) -> 32 | C32: Kg | D32: Air | E32: =(2*E35)+(2*E23*E36) -> 137.28 | F32: kg/kmol
D33: Carbon | E33: 12 | F33: kg/kmol
A34: Stoichiometric Air/Fuel Ratio | B34: =B31/B32 -> 6.435 | D34: Hydrogen | E34: 1 | F34: kg/kmol
D35: Oxygen | E35: 16 | F35: kg/kmol
D36: Nitrogen | E36: 14 | F36: kg/kmol
A37: Equivalence Ratio | B37: Fuel Ratio
A38: =B34/13.7 -> 0.46970803 | B38: =A38*B34 -> 3.0225712 | E38: 201.5 | F38: kJ/mol

Sheet NOx Model (1)
A1: NO𝑥 Model
A2: Fuel | C2: Carbon (x) | D2: Hydrogen (y) | E2: Oxygen (z) | F2: CO₂ (n1) | G2: H₂O (n2) | H2: x | I2: N₂ (n3) | J2: ℎ (MJ/Mol) | L2: NET Enthalpy | M2: Moles Number | O2: ='NOx Model (2)'!B3 -> Iso-Octane
A3: ='Air & Fuel Properties'!C19 -> Iso-Octane | B3: ='Air & Fuel Properties'!B19 -> C8H18 | C3: 8 | D3: 18 | E3: 0 | F3: =C3 -> 8 | G3: =D3/2 -> 9 | H3: =((2*F3+G3)-E3)/2 -> 12.5 | I3: =((2*F3+G3)/2)*3.76 -> 47 | J3: =(F3*$T$19)+(G3*$T$20) -> 5324.2 | K3: ='Air & Fuel Properties'!M19 -> 259.2 | L3: =J3-K3 -> 5065 | M3: =(($Q$23*10^5)*(($Q$24*10^-6)*(0.4))/($Q$25*$Q$26)) -> 6.5681391e-06 | O3: ɸ | P3: 𝜆 | Q3: CO₂ (n1) | R3: H₂0 (n2) | S3: O₂ (n3) | T3: N₂ (n4) | U3: Reaction Enthalpy (MJ) | V3: Fuel Enthalpy (MJ) | W3: NET Enthalpy (MJ) | X3: Alpha | Y3: Oxygen Concentration | Z3: Nitrogen Concentration | AA3: Total Exhaust kmols
A4: ='Air & Fuel Properties'!C24 -> Methanol | B4: ='Air & Fuel Properties'!B24 -> CH4O | C4: 1 | D4: 4 | E4: 1 | F4: =C4 -> 1 | G4: =D4/2 -> 2 | H4: =((2*F4+G4)-E4)/2 -> 1.5 | I4: =((2*F4+G4)/2)*3.76 -> 7.52 | J4: =(F4*$T$19)+(G4*$T$20) -> 877.1 | K4: ='Air & Fuel Properties'!M24 -> 201.5 | L4: =J4-K4 -> 675.6 | M4: =(($Q$23*10^5)*(($Q$24*10^-6)*(0.4))/($Q$25*$Q$26)) -> 6.5681391e-06 | O4: 1 | P4: =1/O4 -> 1 | Q4: ='NOx Model (2)'!$E$3*O4 -> 8 | R4: ='NOx Model (2)'!$G$3*O4 -> 9 | S4: ='NOx Model (2)'!$D$3*($O$4-O4) -> 0 | T4: ='NOx Model (2)'!$J$3 -> 47 | U4: ='NOx Model (2)'!$K$3*O4 -> 5324.2 | V4: ='NOx Model (2)'!$M$3*O4 -> 259.2 | W4: =O4*'NOx Model (2)'!$O$3 -> 5065 | X4: =('NOx Model (1)'!$M$3)/(O4+('NOx Model (2)'!$D$3*(1+3.76))) -> 1.0856428e-07 | Y4: =(S4*X4)/('NOx Model (1)'!$M$24*10^-6) -> 0 | Z4: =(T4*X4)/('NOx Model (1)'!$M$24*10^-6) -> 0.12756303 | AA4: =X4*(Q4+R4+S4+T4) -> 6.9481141e-06
A5: ='Air & Fuel Properties'!C25 -> Ethanol | B5: ='Air & Fuel Properties'!B25 -> C2H6O | C5: 2 | D5: 6 | E5: 1 | F5: =C5 -> 2 | G5: =D5/2 -> 3 | H5: =((2*F5+G5)-E5)/2 -> 3 | I5: =((2*F5+G5)/2)*3.76 -> 13.16 | J5: =(F5*$T$19)+(G5*$T$20) -> 1512.4 | K5: ='Air & Fuel Properties'!M25 -> 235.1 | L5: =J5-K5 -> 1277.3 | M5: =(($Q$23*10^5)*(($Q$24*10^-6)*(0.4))/($Q$25*$Q$26)) -> 6.5681391e-06 | O5: 0.99 | P5: =1/O5 -> 1.010101 | Q5: ='NOx Model (2)'!$E$3*O5 -> 7.92 | R5: ='NOx Model (2)'!$G$3*O5 -> 8.91 | S5: ='NOx Model (2)'!$D$3*($O$4-O5) -> 0.125 | T5: ='NOx Model (2)'!$J$3 -> 47 | U5: ='NOx Model (2)'!$K$3*O5 -> 5270.958 | V5: ='NOx Model (2)'!$M$3*O5 -> 256.608 | W5: =O5*'NOx Model (2)'!$O$3 -> 5014.35 | X5: =('NOx Model (1)'!$M$3)/(O5+('NOx Model (2)'!$D$3*(1+3.76))) -> 1.0858223e-07 | Y5: =(S5*X5)/('NOx Model (1)'!$M$24*10^-6) -> 0.00033931947 | Z5: =(T5*X5)/('NOx Model (1)'!$M$24*10^-6) -> 0.12758412 | AA5: =X5*(Q5+R5+S5+T5) -> 6.9443765e-06
A6: ='Air & Fuel Properties'!C10 -> Propane | B6: ='Air & Fuel Properties'!B10 -> C3H8 | C6: 3 | D6: 8 | E6: 0 | F6: =C6 -> 3 | G6: =D6/2 -> 4 | H6: =((2*F6+G6)-E6)/2 -> 5 | I6: =((2*F6+G6)/2)*3.76 -> 18.8 | J6: =(F6*$T$19)+(G6*$T$20) -> 2147.7 | K6: ='Air & Fuel Properties'!M10 -> 104.7 | L6: =J6-K6 -> 2043 | M6: =(($Q$23*10^5)*(($Q$24*10^-6)*(0.4))/($Q$25*$Q$26)) -> 6.5681391e-06 | O6: 0.98 | P6: =1/O6 -> 1.0204082 | Q6: ='NOx Model (2)'!$E$3*O6 -> 7.84 | R6: ='NOx Model (2)'!$G$3*O6 -> 8.82 | S6: ='NOx Model (2)'!$D$3*($O$4-O6) -> 0.25 | T6: ='NOx Model (2)'!$J$3 -> 47 | U6: ='NOx Model (2)'!$K$3*O6 -> 5217.716 | V6: ='NOx Model (2)'!$M$3*O6 -> 254.016 | W6: =O6*'NOx Model (2)'!$O$3 -> 4963.7 | X6: =('NOx Model (1)'!$M$3)/(O6+('NOx Model (2)'!$D$3*(1+3.76))) -> 1.0860018e-07 | Y6: =(S6*X6)/('NOx Model (1)'!$M$24*10^-6) -> 0.00067875115 | Z6: =(T6*X6)/('NOx Model (1)'!$M$24*10^-6) -> 0.12760522 | AA6: =X6*(Q6+R6+S6+T6) -> 6.9406377e-06
A7: ='Air & Fuel Properties'!C9 -> Ethane | B7: ='Air & Fuel Properties'!B9 -> C2H6 | C7: 2 | D7: 6 | E7: 0 | F7: =C7 -> 2 | G7: =D7/2 -> 3 | H7: =((2*F7+G7)-E7)/2 -> 3.5 | I7: =((2*F7+G7)/2)*3.76 -> 13.16 | J7: =(F7*$T$19)+(G7*$T$20) -> 1512.4 | K7: ='Air & Fuel Properties'!M9 -> 83.8 | L7: =J7-K7 -> 1428.6 | M7: =(($Q$23*10^5)*(($Q$24*10^-6)*(0.4))/($Q$25*$Q$26)) -> 6.5681391e-06 | O7: 0.97 | P7: =1/O7 -> 1.0309278 | Q7: ='NOx Model (2)'!$E$3*O7 -> 7.76 | R7: ='NOx Model (2)'!$G$3*O7 -> 8.73 | S7: ='NOx Model (2)'!$D$3*($O$4-O7) -> 0.375 | T7: ='NOx Model (2)'!$J$3 -> 47 | U7: ='NOx Model (2)'!$K$3*O7 -> 5164.474 | V7: ='NOx Model (2)'!$M$3*O7 -> 251.424 | W7: =O7*'NOx Model (2)'!$O$3 -> 4913.05 | X7: =('NOx Model (1)'!$M$3)/(O7+('NOx Model (2)'!$D$3*(1+3.76))) -> 1.0861814e-07 | Y7: =(S7*X7)/('NOx Model (1)'!$M$24*10^-6) -> 0.0010182951 | Z7: =(T7*X7)/('NOx Model (1)'!$M$24*10^-6) -> 0.12762632 | AA7: =X7*(Q7+R7+S7+T7) -> 6.9368977e-06
A8: ='Air & Fuel Properties'!C26 -> Hydrogen | B8: ='Air & Fuel Properties'!B26 -> H2 | C8: 0 | D8: 2 | E8: 0 | F8: =C8 -> 0 | G8: =D8/2 -> 1 | H8: =((2*F8+G8)-E8)/2 -> 0.5 | I8: =((2*F8+G8)/2)*3.76 -> 1.88 | J8: =(F8*$T$19)+(G8*$T$20) -> 241.8 | K8: ='Air & Fuel Properties'!M26 -> 0 | L8: =J8-K8 -> 241.8 | M8: =(($Q$23*10^5)*(($Q$24*10^-6)*(0.4))/($Q$25*$Q$26)) -> 6.5681391e-06 | O8: 0.96 | P8: =1/O8 -> 1.0416667 | Q8: ='NOx Model (2)'!$E$3*O8 -> 7.68 | R8: ='NOx Model (2)'!$G$3*O8 -> 8.64 | S8: ='NOx Model (2)'!$D$3*($O$4-O8) -> 0.5 | T8: ='NOx Model (2)'!$J$3 -> 47 | U8: ='NOx Model (2)'!$K$3*O8 -> 5111.232 | V8: ='NOx Model (2)'!$M$3*O8 -> 248.832 | W8: =O8*'NOx Model (2)'!$O$3 -> 4862.4 | X8: =('NOx Model (1)'!$M$3)/(O8+('NOx Model (2)'!$D$3*(1+3.76))) -> 1.0863611e-07 | Y8: =(S8*X8)/('NOx Model (1)'!$M$24*10^-6) -> 0.0013579514 | Z8: =(T8*X8)/('NOx Model (1)'!$M$24*10^-6) -> 0.12764743 | AA8: =X8*(Q8+R8+S8+T8) -> 6.9331564e-06
O9: 0.95 | P9: =1/O9 -> 1.0526316 | Q9: ='NOx Model (2)'!$E$3*O9 -> 7.6 | R9: ='NOx Model (2)'!$G$3*O9 -> 8.55 | S9: ='NOx Model (2)'!$D$3*($O$4-O9) -> 0.625 | T9: ='NOx Model (2)'!$J$3 -> 47 | U9: ='NOx Model (2)'!$K$3*O9 -> 5057.99 | V9: ='NOx Model (2)'!$M$3*O9 -> 246.24 | W9: =O9*'NOx Model (2)'!$O$3 -> 4811.75 | X9: =('NOx Model (1)'!$M$3)/(O9+('NOx Model (2)'!$D$3*(1+3.76))) -> 1.0865408e-07 | Y9: =(S9*X9)/('NOx Model (1)'!$M$24*10^-6) -> 0.00169772 | Z9: =(T9*X9)/('NOx Model (1)'!$M$24*10^-6) -> 0.12766854 | AA9: =X9*(Q9+R9+S9+T9) -> 6.9294139e-06
O10: 0.9 | P10: =1/O10 -> 1.1111111 | Q10: ='NOx Model (2)'!$E$3*O10 -> 7.2 | R10: ='NOx Model (2)'!$G$3*O10 -> 8.1 | S10: ='NOx Model (2)'!$D$3*($O$4-O10) -> 1.25 | T10: ='NOx Model (2)'!$J$3 -> 47 | U10: ='NOx Model (2)'!$K$3*O10 -> 4791.78 | V10: ='NOx Model (2)'!$M$3*O10 -> 233.28 | W10: =O10*'NOx Model (2)'!$O$3 -> 4558.5 | X10: =('NOx Model (1)'!$M$3)/(O10+('NOx Model (2)'!$D$3*(1+3.76))) -> 1.0874402e-07 | Y10: =(S10*X10)/('NOx Model (1)'!$M$24*10^-6) -> 0.0033982508 | Z10: =(T10*X10)/('NOx Model (1)'!$M$24*10^-6) -> 0.12777423 | AA10: =X10*(Q10+R10+S10+T10) -> 6.9106828e-06
A11: Enthalpys | O11: 0.85 | P11: =1/O11 -> 1.1764706 | Q11: ='NOx Model (2)'!$E$3*O11 -> 6.8 | R11: ='NOx Model (2)'!$G$3*O11 -> 7.65 | S11: ='NOx Model (2)'!$D$3*($O$4-O11) -> 1.875 | T11: ='NOx Model (2)'!$J$3 -> 47 | U11: ='NOx Model (2)'!$K$3*O11 -> 4525.57 | V11: ='NOx Model (2)'!$M$3*O11 -> 220.32 | W11: =O11*'NOx Model (2)'!$O$3 -> 4305.25 | X11: =('NOx Model (1)'!$M$3)/(O11+('NOx Model (2)'!$D$3*(1+3.76))) -> 1.0883412e-07 | Y11: =(S11*X11)/('NOx Model (1)'!$M$24*10^-6) -> 0.0051015993 | Z11: =(T11*X11)/('NOx Model (1)'!$M$24*10^-6) -> 0.12788009 | AA11: =X11*(Q11+R11+S11+T11) -> 6.8919206e-06
A12: CO2 | C12: H2O | E12: Oxygen | G12: Nitrogen | I12: Total Enthalpy | K12: Temperature | O12: 0.8 | P12: =1/O12 -> 1.25 | Q12: ='NOx Model (2)'!$E$3*O12 -> 6.4 | R12: ='NOx Model (2)'!$G$3*O12 -> 7.2 | S12: ='NOx Model (2)'!$D$3*($O$4-O12) -> 2.5 | T12: ='NOx Model (2)'!$J$3 -> 47 | U12: ='NOx Model (2)'!$K$3*O12 -> 4259.36 | V12: ='NOx Model (2)'!$M$3*O12 -> 207.36 | W12: =O12*'NOx Model (2)'!$O$3 -> 4052 | X12: =('NOx Model (1)'!$M$3)/(O12+('NOx Model (2)'!$D$3*(1+3.76))) -> 1.0892436e-07 | Y12: =(S12*X12)/('NOx Model (1)'!$M$24*10^-6) -> 0.0068077727 | Z12: =(T12*X12)/('NOx Model (1)'!$M$24*10^-6) -> 0.12798613 | AA12: =X12*(Q12+R12+S12+T12) -> 6.8731273e-06
A13: Enthalpy | B13: NET Enthalpy | C13: Enthalpy | D13: NET Enthalpy | E13: Enthalpy | F13: NET Enthalpy | G13: Enthalpy | H13: NET Enthalpy | I13: Enthalpy | J13: NET Enthalpy | K13: K | O13: 0.75 | P13: =1/O13 -> 1.3333333 | Q13: ='NOx Model (2)'!$E$3*O13 -> 6 | R13: ='NOx Model (2)'!$G$3*O13 -> 6.75 | S13: ='NOx Model (2)'!$D$3*($O$4-O13) -> 3.125 | T13: ='NOx Model (2)'!$J$3 -> 47 | U13: ='NOx Model (2)'!$K$3*O13 -> 3993.15 | V13: ='NOx Model (2)'!$M$3*O13 -> 194.4 | W13: =O13*'NOx Model (2)'!$O$3 -> 3798.75 | X13: =('NOx Model (1)'!$M$3)/(O13+('NOx Model (2)'!$D$3*(1+3.76))) -> 1.0901476e-07 | Y13: =(S13*X13)/('NOx Model (1)'!$M$24*10^-6) -> 0.0085167779 | Z13: =(T13*X13)/('NOx Model (1)'!$M$24*10^-6) -> 0.12809234 | AA13: =X13*(Q13+R13+S13+T13) -> 6.8543028e-06
A14: =(8.5770134353*(10^-19)*(K14^6))-(1.0374875556*(10^-14)*(K14^5))+(4.9689475953*(10^-11)*(K14^4))-(1.2019118054*(10^-7)*(K14^3))+(1.5650954893*(10^-4)*(K14^2))-(4.8239362033*(10^-2)*(K14))+(5.2084519626) -> 0.93567016 | B14: =Properties!D7*'NOx Model (2)'!$F$3 -> 27.0864 | C14: =((6.6506859177*(10^-19)*(K14^6)) -(7.8984343104*(10^-15)*(K14^5))+(3.6879849877*(10^-11)*(K14^4))-(8.6386228559*(10^-8)*(K14^3))+(1.1074017861*(10^-4)*(K14^2))-(3.1241611608*(10^-2)*(K14))+(3.3006694533)) -> 0.84738727 | D14: =Properties!J7*'NOx Model (2)'!$H$3 -> 28.7793 | E14: =(6.4958291549*(10^-19)*('NOx Model (1)'!K14^6))-(7.8224528491*(10^-15)*('NOx Model (1)'!K14^5))+(3.7120417697*(10^-11)*('NOx Model (1)'!K14^4))-(8.798317617*(10^-8)*('NOx Model (1)'!K14^3))+(1.0982327235*(10^-4)*('NOx Model (1)'!K14^2))-(3.2606444641*(10^-2)*('NOx Model (1)'!K14))+(3.5786489003) -> 0.80335651 | F14: =Properties!P7*'NOx Model (2)'!$I$3 -> 0.355 | G14: =(5.9376621671*(10^-19)*('NOx Model (1)'!K14^6))-(7.1020711589*(10^-15)*('NOx Model (1)'!K14^5))+(3.3460896805*(10^-11)*(K14^4))-(7.8909601634*(10^-8)*(K14^3))+(9.8599769212*(10^-5)*(K14^2))-(2.8172899156*(10^-2)*(K14))+(3.05378908) -> 0.78322598 | H14: =Properties!V7*'NOx Model (2)'!$J$3 -> 133.48 | I14: =A14+C14+E14+G14 -> 3.3696399 | J14: =B14+D14+F14+H14 -> 189.7007 | K14: 200 | O14: 0.7 | P14: =1/O14 -> 1.4285714 | Q14: ='NOx Model (2)'!$E$3*O14 -> 5.6 | R14: ='NOx Model (2)'!$G$3*O14 -> 6.3 | S14: ='NOx Model (2)'!$D$3*($O$4-O14) -> 3.75 | T14: ='NOx Model (2)'!$J$3 -> 47 | U14: ='NOx Model (2)'!$K$3*O14 -> 3726.94 | V14: ='NOx Model (2)'!$M$3*O14 -> 181.44 | W14: =O14*'NOx Model (2)'!$O$3 -> 3545.5 | X14: =('NOx Model (1)'!$M$3)/(O14+('NOx Model (2)'!$D$3*(1+3.76))) -> 1.091053e-07 | Y14: =(S14*X14)/('NOx Model (1)'!$M$24*10^-6) -> 0.010228622 | Z14: =(T14*X14)/('NOx Model (1)'!$M$24*10^-6) -> 0.12819873 | AA14: =X14*(Q14+R14+S14+T14) -> 6.8354471e-06
A15: ='NOx Model (2)'!$F$3*(8.5770134353*(10^-19)*(K15^6))-(1.0374875556*(10^-14)*(K15^5))+(4.9689475953*(10^-11)*(K15^4))-(1.2019118054*(10^-7)*(K15^3))+(1.5650954893*(10^-4)*(K15^2))-(4.8239362033*(10^-2)*(K15))+(5.2084519626) -> 1.2380973 | B15: =Properties!D8*'NOx Model (2)'!$F$3 -> 13.7808 | C15: ='NOx Model (2)'!$H$3* ((6.6506859177*(10^-19)*(K15^6)) -(7.8984343104*(10^-15)*(K15^5))+(3.6879849877*(10^-11)*(K15^4))-(8.6386228559*(10^-8)*(K15^3))+(1.1074017861*(10^-4)*(K15^2))-(3.1241611608*(10^-2)*(K15))+(3.3006694533)) -> 10.676442 | D15: =Properties!J8*'NOx Model (2)'!$H$3 -> 14.256 | E15: ='NOx Model (2)'!$I$3*(6.4958291549*(10^-19)*('NOx Model (1)'!K15^6))-(7.8224528491*(10^-15)*('NOx Model (1)'!K15^5))+(3.7120417697*(10^-11)*('NOx Model (1)'!K15^4))-(8.798317617*(10^-8)*('NOx Model (1)'!K15^3))+(1.0982327235*(10^-4)*('NOx Model (1)'!K15^2))-(3.2606444641*(10^-2)*('NOx Model (1)'!K15))+(3.5786489003) -> 1.0536375 | F15: =Properties!P8*'NOx Model (2)'!$I$3 -> 0.175 | G15: ='NOx Model (2)'!$J$3*(5.9376621671*(10^-19)*('NOx Model (1)'!K15^6))-(7.1020711589*(10^-15)*('NOx Model (1)'!K15^5))+(3.3460896805*(10^-11)*(K15^4))-(7.8909601634*(10^-8)*(K15^3))+(9.8599769212*(10^-5)*(K15^2))-(2.8172899156*(10^-2)*(K15))+(3.05378908) -> 1.0706716 | H15: =Properties!V8*'NOx Model (2)'!$J$3 -> 65.8 | I15: =A15+C15+E15+G15 -> 14.038848 | J15: =B15+D15+F15+H15 -> 94.0118 | K15: 250 | O15: 0.65 | P15: =1/O15 -> 1.5384615 | Q15: ='NOx Model (2)'!$E$3*O15 -> 5.2 | R15: ='NOx Model (2)'!$G$3*O15 -> 5.85 | S15: ='NOx Model (2)'!$D$3*($O$4-O15) -> 4.375 | T15: ='NOx Model (2)'!$J$3 -> 47 | U15: ='NOx Model (2)'!$K$3*O15 -> 3460.73 | V15: ='NOx Model (2)'!$M$3*O15 -> 168.48 | W15: =O15*'NOx Model (2)'!$O$3 -> 3292.25 | X15: =('NOx Model (1)'!$M$3)/(O15+('NOx Model (2)'!$D$3*(1+3.76))) -> 1.09196e-07 | Y15: =(S15*X15)/('NOx Model (1)'!$M$24*10^-6) -> 0.011943312 | Z15: =(T15*X15)/('NOx Model (1)'!$M$24*10^-6) -> 0.12830529 | AA15: =X15*(Q15+R15+S15+T15) -> 6.81656e-06
A16: ='NOx Model (2)'!$F$3*(8.5770134353*(10^-19)*(K16^6))-(1.0374875556*(10^-14)*(K16^5))+(4.9689475953*(10^-11)*(K16^4))-(1.2019118054*(10^-7)*(K16^3))+(1.5650954893*(10^-4)*(K16^2))-(4.8239362033*(10^-2)*(K16))+(5.2084519626) -> 1.9233399 | B16: =Properties!D9*'NOx Model (2)'!$F$3 -> 0 | C16: ='NOx Model (2)'!$H$3* ((6.6506859177*(10^-19)*(K16^6)) -(7.8984343104*(10^-15)*(K16^5))+(3.6879849877*(10^-11)*(K16^4))-(8.6386228559*(10^-8)*(K16^3))+(1.1074017861*(10^-4)*(K16^2))-(3.1241611608*(10^-2)*(K16))+(3.3006694533)) -> 16.140412 | D16: =Properties!J9*'NOx Model (2)'!$H$3 -> 0 | E16: ='NOx Model (2)'!$I$3*(6.4958291549*(10^-19)*('NOx Model (1)'!K16^6))-(7.8224528491*(10^-15)*('NOx Model (1)'!K16^5))+(3.7120417697*(10^-11)*('NOx Model (1)'!K16^4))-(8.798317617*(10^-8)*('NOx Model (1)'!K16^3))+(1.0982327235*(10^-4)*('NOx Model (1)'!K16^2))-(3.2606444641*(10^-2)*('NOx Model (1)'!K16))+(3.5786489003) -> 1.5607341 | F16: =Properties!P9*'NOx Model (2)'!$I$3 -> 0 | G16: ='NOx Model (2)'!$J$3*(5.9376621671*(10^-19)*('NOx Model (1)'!K16^6))-(7.1020711589*(10^-15)*('NOx Model (1)'!K16^5))+(3.3460896805*(10^-11)*(K16^4))-(7.8909601634*(10^-8)*(K16^3))+(9.8599769212*(10^-5)*(K16^2))-(2.8172899156*(10^-2)*(K16))+(3.05378908) -> 1.5928187 | H16: =Properties!V9*'NOx Model (2)'!$J$3 -> 0 | I16: =A16+C16+E16+G16 -> 21.217304 | J16: =B16+D16+F16+H16 -> 0 | K16: 298 | O16: 0.6 | P16: =1/O16 -> 1.6666667 | Q16: ='NOx Model (2)'!$E$3*O16 -> 4.8 | R16: ='NOx Model (2)'!$G$3*O16 -> 5.4 | S16: ='NOx Model (2)'!$D$3*($O$4-O16) -> 5 | T16: ='NOx Model (2)'!$J$3 -> 47 | U16: ='NOx Model (2)'!$K$3*O16 -> 3194.52 | V16: ='NOx Model (2)'!$M$3*O16 -> 155.52 | W16: =O16*'NOx Model (2)'!$O$3 -> 3039 | X16: =('NOx Model (1)'!$M$3)/(O16+('NOx Model (2)'!$D$3*(1+3.76))) -> 1.0928684e-07 | Y16: =(S16*X16)/('NOx Model (1)'!$M$24*10^-6) -> 0.013660855 | Z16: =(T16*X16)/('NOx Model (1)'!$M$24*10^-6) -> 0.12841204 | AA16: =X16*(Q16+R16+S16+T16) -> 6.7976415e-06
A17: ='NOx Model (2)'!$F$3*(8.5770134353*(10^-19)*(K17^6))-(1.0374875556*(10^-14)*(K17^5))+(4.9689475953*(10^-11)*(K17^4))-(1.2019118054*(10^-7)*(K17^3))+(1.5650954893*(10^-4)*(K17^2))-(4.8239362033*(10^-2)*(K17))+(5.2084519626) -> 1.9595668 | B17: =Properties!D10*'NOx Model (2)'!$F$3 -> 0.5544 | C17: ='NOx Model (2)'!$H$3* ((6.6506859177*(10^-19)*(K17^6)) -(7.8984343104*(10^-15)*(K17^5))+(3.6879849877*(10^-11)*(K17^4))-(8.6386228559*(10^-8)*(K17^3))+(1.1074017861*(10^-4)*(K17^2))-(3.1241611608*(10^-2)*(K17))+(3.3006694533)) -> 16.415715 | D17: =Properties!J10*'NOx Model (2)'!$H$3 -> 0.5346 | E17: ='NOx Model (2)'!$I$3*(6.4958291549*(10^-19)*('NOx Model (1)'!K17^6))-(7.8224528491*(10^-15)*('NOx Model (1)'!K17^5))+(3.7120417697*(10^-11)*('NOx Model (1)'!K17^4))-(8.798317617*(10^-8)*('NOx Model (1)'!K17^3))+(1.0982327235*(10^-4)*('NOx Model (1)'!K17^2))-(3.2606444641*(10^-2)*('NOx Model (1)'!K17))+(3.5786489003) -> 1.5869903 | F17: =Properties!P10*'NOx Model (2)'!$I$3 -> 0.00625 | G17: ='NOx Model (2)'!$J$3*(5.9376621671*(10^-19)*('NOx Model (1)'!K17^6))-(7.1020711589*(10^-15)*('NOx Model (1)'!K17^5))+(3.3460896805*(10^-11)*(K17^4))-(7.8909601634*(10^-8)*(K17^3))+(9.8599769212*(10^-5)*(K17^2))-(2.8172899156*(10^-2)*(K17))+(3.05378908) -> 1.6194588 | H17: =Properties!V10*'NOx Model (2)'!$J$3 -> 2.35 | I17: =A17+C17+E17+G17 -> 21.581731 | J17: =B17+D17+F17+H17 -> 3.44525 | K17: 300
A18: ='NOx Model (2)'!$F$3*(8.5770134353*(10^-19)*(K18^6))-(1.0374875556*(10^-14)*(K18^5))+(4.9689475953*(10^-11)*(K18^4))-(1.2019118054*(10^-7)*(K18^3))+(1.5650954893*(10^-4)*(K18^2))-(4.8239362033*(10^-2)*(K18))+(5.2084519626) -> 3.0475474 | B18: =Properties!D11*'NOx Model (2)'!$F$3 -> 15.7608 | C18: ='NOx Model (2)'!$H$3* ((6.6506859177*(10^-19)*(K18^6)) -(7.8984343104*(10^-15)*(K18^5))+(3.6879849877*(10^-11)*(K18^4))-(8.6386228559*(10^-8)*(K18^3))+(1.1074017861*(10^-4)*(K18^2))-(3.1241611608*(10^-2)*(K18))+(3.3006694533)) -> 24.423508 | D18: =Properties!J11*'NOx Model (2)'!$H$3 -> 15.5925 | E18: ='NOx Model (2)'!$I$3*(6.4958291549*(10^-19)*('NOx Model (1)'!K18^6))-(7.8224528491*(10^-15)*('NOx Model (1)'!K18^5))+(3.7120417697*(10^-11)*('NOx Model (1)'!K18^4))-(8.798317617*(10^-8)*('NOx Model (1)'!K18^3))+(1.0982327235*(10^-4)*('NOx Model (1)'!K18^2))-(3.2606444641*(10^-2)*('NOx Model (1)'!K18))+(3.5786489003) -> 2.363568 | F18: =Properties!P11*'NOx Model (2)'!$I$3 -> 0.19125 | G18: ='NOx Model (2)'!$J$3*(5.9376621671*(10^-19)*('NOx Model (1)'!K18^6))-(7.1020711589*(10^-15)*('NOx Model (1)'!K18^5))+(3.3460896805*(10^-11)*(K18^4))-(7.8909601634*(10^-8)*(K18^3))+(9.8599769212*(10^-5)*(K18^2))-(2.8172899156*(10^-2)*(K18))+(3.05378908) -> 2.4046186 | H18: =Properties!V11*'NOx Model (2)'!$J$3 -> 70.97 | I18: =A18+C18+E18+G18 -> 32.239242 | J18: =B18+D18+F18+H18 -> 102.51455 | K18: 350 | T18: KJ/Mol
A19: ='NOx Model (2)'!$F$3*(8.5770134353*(10^-19)*(K19^6))-(1.0374875556*(10^-14)*(K19^5))+(4.9689475953*(10^-11)*(K19^4))-(1.2019118054*(10^-7)*(K19^3))+(1.5650954893*(10^-4)*(K19^2))-(4.8239362033*(10^-2)*(K19))+(5.2084519626) -> 4.4556354 | B19: =Properties!D12*'NOx Model (2)'!$F$3 -> 31.68 | C19: ='NOx Model (2)'!$H$3* ((6.6506859177*(10^-19)*(K19^6)) -(7.8984343104*(10^-15)*(K19^5))+(3.6879849877*(10^-11)*(K19^4))-(8.6386228559*(10^-8)*(K19^3))+(1.1074017861*(10^-4)*(K19^2))-(3.1241611608*(10^-2)*(K19))+(3.3006694533)) -> 34.389954 | D19: =Properties!J12*'NOx Model (2)'!$H$3 -> 30.8286 | E19: ='NOx Model (2)'!$I$3*(6.4958291549*(10^-19)*('NOx Model (1)'!K19^6))-(7.8224528491*(10^-15)*('NOx Model (1)'!K19^5))+(3.7120417697*(10^-11)*('NOx Model (1)'!K19^4))-(8.798317617*(10^-8)*('NOx Model (1)'!K19^3))+(1.0982327235*(10^-4)*('NOx Model (1)'!K19^2))-(3.2606444641*(10^-2)*('NOx Model (1)'!K19))+(3.5786489003) -> 3.3473847 | F19: =Properties!P12*'NOx Model (2)'!$I$3 -> 0.37875 | G19: ='NOx Model (2)'!$J$3*(5.9376621671*(10^-19)*('NOx Model (1)'!K19^6))-(7.1020711589*(10^-15)*('NOx Model (1)'!K19^5))+(3.3460896805*(10^-11)*(K19^4))-(7.8909601634*(10^-8)*(K19^3))+(9.8599769212*(10^-5)*(K19^2))-(2.8172899156*(10^-2)*(K19))+(3.05378908) -> 3.4085589 | H19: =Properties!V12*'NOx Model (2)'!$J$3 -> 139.59 | I19: =A19+C19+E19+G19 -> 45.601533 | J19: =B19+D19+F19+H19 -> 202.47735 | K19: 400 | M19: Atmosphere | P19: RPM | S19: CO₂ | T19: =-(-393.5) -> 393.5
A20: ='NOx Model (2)'!$F$3*(8.5770134353*(10^-19)*(K20^6))-(1.0374875556*(10^-14)*(K20^5))+(4.9689475953*(10^-11)*(K20^4))-(1.2019118054*(10^-7)*(K20^3))+(1.5650954893*(10^-4)*(K20^2))-(4.8239362033*(10^-2)*(K20))+(5.2084519626) -> 6.1440423 | B20: =Properties!D13*'NOx Model (2)'!$F$3 -> 48.3912 | C20: ='NOx Model (2)'!$H$3* ((6.6506859177*(10^-19)*(K20^6)) -(7.8984343104*(10^-15)*(K20^5))+(3.6879849877*(10^-11)*(K20^4))-(8.6386228559*(10^-8)*(K20^3))+(1.1074017861*(10^-4)*(K20^2))-(3.1241611608*(10^-2)*(K20))+(3.3006694533)) -> 46.037648 | D20: =Properties!J13*'NOx Model (2)'!$H$3 -> 46.2429 | E20: ='NOx Model (2)'!$I$3*(6.4958291549*(10^-19)*('NOx Model (1)'!K20^6))-(7.8224528491*(10^-15)*('NOx Model (1)'!K20^5))+(3.7120417697*(10^-11)*('NOx Model (1)'!K20^4))-(8.798317617*(10^-8)*('NOx Model (1)'!K20^3))+(1.0982327235*(10^-4)*('NOx Model (1)'!K20^2))-(3.2606444641*(10^-2)*('NOx Model (1)'!K20))+(3.5786489003) -> 4.5059917 | F20: =Properties!P13*'NOx Model (2)'!$I$3 -> 0.56875 | G20: ='NOx Model (2)'!$J$3*(5.9376621671*(10^-19)*('NOx Model (1)'!K20^6))-(7.1020711589*(10^-15)*('NOx Model (1)'!K20^5))+(3.3460896805*(10^-11)*(K20^4))-(7.8909601634*(10^-8)*(K20^3))+(9.8599769212*(10^-5)*(K20^2))-(2.8172899156*(10^-2)*(K20))+(3.05378908) -> 4.6245863 | H20: =Properties!V13*'NOx Model (2)'!$J$3 -> 208.68 | I20: =A20+C20+E20+G20 -> 61.312269 | J20: =B20+D20+F20+H20 -> 303.88285 | K20: 450 | M20: O2 | N20: 0.21 | P20: 1800 | S20: H₂O | T20: =-(-241.8) -> 241.8
A21: ='NOx Model (2)'!$F$3*(8.5770134353*(10^-19)*(K21^6))-(1.0374875556*(10^-14)*(K21^5))+(4.9689475953*(10^-11)*(K21^4))-(1.2019118054*(10^-7)*(K21^3))+(1.5650954893*(10^-4)*(K21^2))-(4.8239362033*(10^-2)*(K21))+(5.2084519626) -> 8.0797785 | B21: =Properties!D14*'NOx Model (2)'!$F$3 -> 65.736 | C21: ='NOx Model (2)'!$H$3* ((6.6506859177*(10^-19)*(K21^6)) -(7.8984343104*(10^-15)*(K21^5))+(3.6879849877*(10^-11)*(K21^4))-(8.6386228559*(10^-8)*(K21^3))+(1.1074017861*(10^-4)*(K21^2))-(3.1241611608*(10^-2)*(K21))+(3.3006694533)) -> 59.119507 | D21: =Properties!J14*'NOx Model (2)'!$H$3 -> 61.9245 | E21: ='NOx Model (2)'!$I$3*(6.4958291549*(10^-19)*('NOx Model (1)'!K21^6))-(7.8224528491*(10^-15)*('NOx Model (1)'!K21^5))+(3.7120417697*(10^-11)*('NOx Model (1)'!K21^4))-(8.798317617*(10^-8)*('NOx Model (1)'!K21^3))+(1.0982327235*(10^-4)*('NOx Model (1)'!K21^2))-(3.2606444641*(10^-2)*('NOx Model (1)'!K21))+(3.5786489003) -> 5.8101908 | F21: =Properties!P14*'NOx Model (2)'!$I$3 -> 0.7625 | G21: ='NOx Model (2)'!$J$3*(5.9376621671*(10^-19)*('NOx Model (1)'!K21^6))-(7.1020711589*(10^-15)*('NOx Model (1)'!K21^5))+(3.3460896805*(10^-11)*(K21^4))-(7.8909601634*(10^-8)*(K21^3))+(9.8599769212*(10^-5)*(K21^2))-(2.8172899156*(10^-2)*(K21))+(3.05378908) -> 6.058995 | H21: =Properties!V14*'NOx Model (2)'!$J$3 -> 278.24 | I21: =A21+C21+E21+G21 -> 79.068471 | J21: =B21+D21+F21+H21 -> 406.663 | K21: 500 | M21: N2 | N21: 0.79 | S21: CO | T21: =-(-283) -> 283
A22: ='NOx Model (2)'!$F$3*(8.5770134353*(10^-19)*(K22^6))-(1.0374875556*(10^-14)*(K22^5))+(4.9689475953*(10^-11)*(K22^4))-(1.2019118054*(10^-7)*(K22^3))+(1.5650954893*(10^-4)*(K22^2))-(4.8239362033*(10^-2)*(K22))+(5.2084519626) -> 10.236915 | B22: =Properties!D15*'NOx Model (2)'!$F$3 -> 83.6352 | C22: ='NOx Model (2)'!$H$3* ((6.6506859177*(10^-19)*(K22^6)) -(7.8984343104*(10^-15)*(K22^5))+(3.6879849877*(10^-11)*(K22^4))-(8.6386228559*(10^-8)*(K22^3))+(1.1074017861*(10^-4)*(K22^2))-(3.1241611608*(10^-2)*(K22))+(3.3006694533)) -> 73.416696 | D22: =Properties!J15*'NOx Model (2)'!$H$3 -> 77.7843 | E22: ='NOx Model (2)'!$I$3*(6.4958291549*(10^-19)*('NOx Model (1)'!K22^6))-(7.8224528491*(10^-15)*('NOx Model (1)'!K22^5))+(3.7120417697*(10^-11)*('NOx Model (1)'!K22^4))-(8.798317617*(10^-8)*('NOx Model (1)'!K22^3))+(1.0982327235*(10^-4)*('NOx Model (1)'!K22^2))-(3.2606444641*(10^-2)*('NOx Model (1)'!K22))+(3.5786489003) -> 7.2337493 | F22: =Properties!P15*'NOx Model (2)'!$I$3 -> 0.9575 | G22: ='NOx Model (2)'!$J$3*(5.9376621671*(10^-19)*('NOx Model (1)'!K22^6))-(7.1020711589*(10^-15)*('NOx Model (1)'!K22^5))+(3.3460896805*(10^-11)*(K22^4))-(7.8909601634*(10^-8)*(K22^3))+(9.8599769212*(10^-5)*(K22^2))-(2.8172899156*(10^-2)*(K22))+(3.05378908) -> 7.7334688 | H22: =Properties!V15*'NOx Model (2)'!$J$3 -> 348.27 | I22: =A22+C22+E22+G22 -> 98.620829 | J22: =B22+D22+F22+H22 -> 510.647 | K22: 550 | P22: For Ideal Gas Law | S22: O | T22: 0
A23: ='NOx Model (2)'!$F$3*(8.5770134353*(10^-19)*(K23^6))-(1.0374875556*(10^-14)*(K23^5))+(4.9689475953*(10^-11)*(K23^4))-(1.2019118054*(10^-7)*(K23^3))+(1.5650954893*(10^-4)*(K23^2))-(4.8239362033*(10^-2)*(K23))+(5.2084519626) -> 12.596917 | B23: =Properties!D16*'NOx Model (2)'!$F$3 -> 102.168 | C23: ='NOx Model (2)'!$H$3* ((6.6506859177*(10^-19)*(K23^6)) -(7.8984343104*(10^-15)*(K23^5))+(3.6879849877*(10^-11)*(K23^4))-(8.6386228559*(10^-8)*(K23^3))+(1.1074017861*(10^-4)*(K23^2))-(3.1241611608*(10^-2)*(K23))+(3.3006694533)) -> 88.736625 | D23: =Properties!J16*'NOx Model (2)'!$H$3 -> 93.8223 | E23: ='NOx Model (2)'!$I$3*(6.4958291549*(10^-19)*('NOx Model (1)'!K23^6))-(7.8224528491*(10^-15)*('NOx Model (1)'!K23^5))+(3.7120417697*(10^-11)*('NOx Model (1)'!K23^4))-(8.798317617*(10^-8)*('NOx Model (1)'!K23^3))+(1.0982327235*(10^-4)*('NOx Model (1)'!K23^2))-(3.2606444641*(10^-2)*('NOx Model (1)'!K23))+(3.5786489003) -> 8.7531147 | F23: =Properties!P16*'NOx Model (2)'!$I$3 -> 1.15625 | G23: ='NOx Model (2)'!$J$3*(5.9376621671*(10^-19)*('NOx Model (1)'!K23^6))-(7.1020711589*(10^-15)*('NOx Model (1)'!K23^5))+(3.3460896805*(10^-11)*(K23^4))-(7.8909601634*(10^-8)*(K23^3))+(9.8599769212*(10^-5)*(K23^2))-(2.8172899156*(10^-2)*(K23))+(3.05378908) -> 9.6877973 | H23: =Properties!V16*'NOx Model (2)'!$J$3 -> 418.3 | I23: =A23+C23+E23+G23 -> 119.77445 | J23: =B23+D23+F23+H23 -> 615.44655 | K23: 600 | M23: Clearance Volume | P23: P | Q23: 1 | S23: N | T23: 0
A24: ='NOx Model (2)'!$F$3*(8.5770134353*(10^-19)*(K24^6))-(1.0374875556*(10^-14)*(K24^5))+(4.9689475953*(10^-11)*(K24^4))-(1.2019118054*(10^-7)*(K24^3))+(1.5650954893*(10^-4)*(K24^2))-(4.8239362033*(10^-2)*(K24))+(5.2084519626) -> 15.149063 | B24: =Properties!D17*'NOx Model (2)'!$F$3 -> 121.0968 | C24: ='NOx Model (2)'!$H$3* ((6.6506859177*(10^-19)*(K24^6)) -(7.8984343104*(10^-15)*(K24^5))+(3.6879849877*(10^-11)*(K24^4))-(8.6386228559*(10^-8)*(K24^3))+(1.1074017861*(10^-4)*(K24^2))-(3.1241611608*(10^-2)*(K24))+(3.3006694533)) -> 104.91101 | D24: =Properties!J17*'NOx Model (2)'!$H$3 -> 110.0385 | E24: ='NOx Model (2)'!$I$3*(6.4958291549*(10^-19)*('NOx Model (1)'!K24^6))-(7.8224528491*(10^-15)*('NOx Model (1)'!K24^5))+(3.7120417697*(10^-11)*('NOx Model (1)'!K24^4))-(8.798317617*(10^-8)*('NOx Model (1)'!K24^3))+(1.0982327235*(10^-4)*('NOx Model (1)'!K24^2))-(3.2606444641*(10^-2)*('NOx Model (1)'!K24))+(3.5786489003) -> 10.347131 | F24: =Properties!P17*'NOx Model (2)'!$I$3 -> 1.35875 | G24: ='NOx Model (2)'!$J$3*(5.9376621671*(10^-19)*('NOx Model (1)'!K24^6))-(7.1020711589*(10^-15)*('NOx Model (1)'!K24^5))+(3.3460896805*(10^-11)*(K24^4))-(7.8909601634*(10^-8)*(K24^3))+(9.8599769212*(10^-5)*(K24^2))-(2.8172899156*(10^-2)*(K24))+(3.05378908) -> 11.982906 | H24: =Properties!V17*'NOx Model (2)'!$J$3 -> 489.74 | I24: =A24+C24+E24+G24 -> 142.39011 | J24: =B24+D24+F24+H24 -> 722.23405 | K24: 650 | M24: 40 | P24: V | Q24: =1600/4 -> 400 | S24: The standard enthalpy of formation is zero for elements in their standard states.
A25: ='NOx Model (2)'!$F$3*(8.5770134353*(10^-19)*(K25^6))-(1.0374875556*(10^-14)*(K25^5))+(4.9689475953*(10^-11)*(K25^4))-(1.2019118054*(10^-7)*(K25^3))+(1.5650954893*(10^-4)*(K25^2))-(4.8239362033*(10^-2)*(K25))+(5.2084519626) -> 17.890929 | B25: =Properties!D18*'NOx Model (2)'!$F$3 -> 140.58 | C25: ='NOx Model (2)'!$H$3* ((6.6506859177*(10^-19)*(K25^6)) -(7.8984343104*(10^-15)*(K25^5))+(3.6879849877*(10^-11)*(K25^4))-(8.6386228559*(10^-8)*(K25^3))+(1.1074017861*(10^-4)*(K25^2))-(3.1241611608*(10^-2)*(K25))+(3.3006694533)) -> 121.79399 | D25: =Properties!J18*'NOx Model (2)'!$H$3 -> 126.6111 | E25: ='NOx Model (2)'!$I$3*(6.4958291549*(10^-19)*('NOx Model (1)'!K25^6))-(7.8224528491*(10^-15)*('NOx Model (1)'!K25^5))+(3.7120417697*(10^-11)*('NOx Model (1)'!K25^4))-(8.798317617*(10^-8)*('NOx Model (1)'!K25^3))+(1.0982327235*(10^-4)*('NOx Model (1)'!K25^2))-(3.2606444641*(10^-2)*('NOx Model (1)'!K25))+(3.5786489003) -> 11.996757 | F25: =Properties!P18*'NOx Model (2)'!$I$3 -> 1.5625 | G25: ='NOx Model (2)'!$J$3*(5.9376621671*(10^-19)*('NOx Model (1)'!K25^6))-(7.1020711589*(10^-15)*('NOx Model (1)'!K25^5))+(3.3460896805*(10^-11)*(K25^4))-(7.8909601634*(10^-8)*(K25^3))+(9.8599769212*(10^-5)*(K25^2))-(2.8172899156*(10^-2)*(K25))+(3.05378908) -> 14.704202 | H25: =Properties!V18*'NOx Model (2)'!$J$3 -> 561.18 | I25: =A25+C25+E25+G25 -> 166.38588 | J25: =B25+D25+F25+H25 -> 829.9336 | K25: 700 | P25: R | Q25: 8314
A26: ='NOx Model (2)'!$F$3*(8.5770134353*(10^-19)*(K26^6))-(1.0374875556*(10^-14)*(K26^5))+(4.9689475953*(10^-11)*(K26^4))-(1.2019118054*(10^-7)*(K26^3))+(1.5650954893*(10^-4)*(K26^2))-(4.8239362033*(10^-2)*(K26))+(5.2084519626) -> 20.828959 | B26: =Properties!D19*'NOx Model (2)'!$F$3 -> 160.38 | C26: ='NOx Model (2)'!$H$3* ((6.6506859177*(10^-19)*(K26^6)) -(7.8984343104*(10^-15)*(K26^5))+(3.6879849877*(10^-11)*(K26^4))-(8.6386228559*(10^-8)*(K26^3))+(1.1074017861*(10^-4)*(K26^2))-(3.1241611608*(10^-2)*(K26))+(3.3006694533)) -> 139.26035 | D26: =Properties!J19*'NOx Model (2)'!$H$3 -> 143.3619 | E26: ='NOx Model (2)'!$I$3*(6.4958291549*(10^-19)*('NOx Model (1)'!K26^6))-(7.8224528491*(10^-15)*('NOx Model (1)'!K26^5))+(3.7120417697*(10^-11)*('NOx Model (1)'!K26^4))-(8.798317617*(10^-8)*('NOx Model (1)'!K26^3))+(1.0982327235*(10^-4)*('NOx Model (1)'!K26^2))-(3.2606444641*(10^-2)*('NOx Model (1)'!K26))+(3.5786489003) -> 13.684783 | F26: =Properties!P19*'NOx Model (2)'!$I$3 -> 1.77 | G26: ='NOx Model (2)'!$J$3*(5.9376621671*(10^-19)*('NOx Model (1)'!K26^6))-(7.1020711589*(10^-15)*('NOx Model (1)'!K26^5))+(3.3460896805*(10^-11)*(K26^4))-(7.8909601634*(10^-8)*(K26^3))+(9.8599769212*(10^-5)*(K26^2))-(2.8172899156*(10^-2)*(K26))+(3.05378908) -> 17.965227 | H26: =Properties!V19*'NOx Model (2)'!$J$3 -> 633.56 | I26: =A26+C26+E26+G26 -> 191.73931 | J26: =B26+D26+F26+H26 -> 939.0719 | K26: 750 | M26: Atmospheric Composition Ratio | P26: T | Q26: =20+273 -> 293
A27: ='NOx Model (2)'!$F$3*(8.5770134353*(10^-19)*(K27^6))-(1.0374875556*(10^-14)*(K27^5))+(4.9689475953*(10^-11)*(K27^4))-(1.2019118054*(10^-7)*(K27^3))+(1.5650954893*(10^-4)*(K27^2))-(4.8239362033*(10^-2)*(K27))+(5.2084519626) -> 23.979102 | B27: =Properties!D20*'NOx Model (2)'!$F$3 -> 180.6552 | C27: ='NOx Model (2)'!$H$3* ((6.6506859177*(10^-19)*(K27^6)) -(7.8984343104*(10^-15)*(K27^5))+(3.6879849877*(10^-11)*(K27^4))-(8.6386228559*(10^-8)*(K27^3))+(1.1074017861*(10^-4)*(K27^2))-(3.1241611608*(10^-2)*(K27))+(3.3006694533)) -> 157.20373 | D27: =Properties!J20*'NOx Model (2)'!$H$3 -> 160.38 | E27: ='NOx Model (2)'!$I$3*(6.4958291549*(10^-19)*('NOx Model (1)'!K27^6))-(7.8224528491*(10^-15)*('NOx Model (1)'!K27^5))+(3.7120417697*(10^-11)*('NOx Model (1)'!K27^4))-(8.798317617*(10^-8)*('NOx Model (1)'!K27^3))+(1.0982327235*(10^-4)*('NOx Model (1)'!K27^2))-(3.2606444641*(10^-2)*('NOx Model (1)'!K27))+(3.5786489003) -> 15.395549 | F27: =Properties!P20*'NOx Model (2)'!$I$3 -> 1.98 | G27: ='NOx Model (2)'!$J$3*(5.9376621671*(10^-19)*('NOx Model (1)'!K27^6))-(7.1020711589*(10^-15)*('NOx Model (1)'!K27^5))+(3.3460896805*(10^-11)*(K27^4))-(7.8909601634*(10^-8)*(K27^3))+(9.8599769212*(10^-5)*(K27^2))-(2.8172899156*(10^-2)*(K27))+(3.05378908) -> 21.911638 | H27: =Properties!V20*'NOx Model (2)'!$J$3 -> 706.88 | I27: =A27+C27+E27+G27 -> 218.49002 | J27: =B27+D27+F27+H27 -> 1049.8952 | K27: 800
A28: ='NOx Model (2)'!$F$3*(8.5770134353*(10^-19)*(K28^6))-(1.0374875556*(10^-14)*(K28^5))+(4.9689475953*(10^-11)*(K28^4))-(1.2019118054*(10^-7)*(K28^3))+(1.5650954893*(10^-4)*(K28^2))-(4.8239362033*(10^-2)*(K28))+(5.2084519626) -> 27.367539 | B28: =Properties!D21*'NOx Model (2)'!$F$3 -> 201.2472 | C28: ='NOx Model (2)'!$H$3* ((6.6506859177*(10^-19)*(K28^6)) -(7.8984343104*(10^-15)*(K28^5))+(3.6879849877*(10^-11)*(K28^4))-(8.6386228559*(10^-8)*(K28^3))+(1.1074017861*(10^-4)*(K28^2))-(3.1241611608*(10^-2)*(K28))+(3.3006694533)) -> 175.53503 | D28: =Properties!J21*'NOx Model (2)'!$H$3 -> 177.7545 | E28: ='NOx Model (2)'!$I$3*(6.4958291549*(10^-19)*('NOx Model (1)'!K28^6))-(7.8224528491*(10^-15)*('NOx Model (1)'!K28^5))+(3.7120417697*(10^-11)*('NOx Model (1)'!K28^4))-(8.798317617*(10^-8)*('NOx Model (1)'!K28^3))+(1.0982327235*(10^-4)*('NOx Model (1)'!K28^2))-(3.2606444641*(10^-2)*('NOx Model (1)'!K28))+(3.5786489003) -> 17.114667 | F28: =Properties!P21*'NOx Model (2)'!$I$3 -> 2.19125 | G28: ='NOx Model (2)'!$J$3*(5.9376621671*(10^-19)*('NOx Model (1)'!K28^6))-(7.1020711589*(10^-15)*('NOx Model (1)'!K28^5))+(3.3460896805*(10^-11)*(K28^4))-(7.8909601634*(10^-8)*(K28^3))+(9.8599769212*(10^-5)*(K28^2))-(2.8172899156*(10^-2)*(K28))+(3.05378908) -> 26.725486 | H28: =Properties!V21*'NOx Model (2)'!$J$3 -> 781.14 | I28: =A28+C28+E28+G28 -> 246.74272 | J28: =B28+D28+F28+H28 -> 1162.333 | K28: 850 | M28: 3.76
A29: ='NOx Model (2)'!$F$3*(8.5770134353*(10^-19)*(K29^6))-(1.0374875556*(10^-14)*(K29^5))+(4.9689475953*(10^-11)*(K29^4))-(1.2019118054*(10^-7)*(K29^3))+(1.5650954893*(10^-4)*(K29^2))-(4.8239362033*(10^-2)*(K29))+(5.2084519626) -> 31.031471 | B29: =Properties!D22*'NOx Model (2)'!$F$3 -> 222.156 | C29: ='NOx Model (2)'!$H$3* ((6.6506859177*(10^-19)*(K29^6)) -(7.8984343104*(10^-15)*(K29^5))+(3.6879849877*(10^-11)*(K29^4))-(8.6386228559*(10^-8)*(K29^3))+(1.1074017861*(10^-4)*(K29^2))-(3.1241611608*(10^-2)*(K29))+(3.3006694533)) -> 194.18072 | D29: =Properties!J22*'NOx Model (2)'!$H$3 -> 195.3963 | E29: ='NOx Model (2)'!$I$3*(6.4958291549*(10^-19)*('NOx Model (1)'!K29^6))-(7.8224528491*(10^-15)*('NOx Model (1)'!K29^5))+(3.7120417697*(10^-11)*('NOx Model (1)'!K29^4))-(8.798317617*(10^-8)*('NOx Model (1)'!K29^3))+(1.0982327235*(10^-4)*('NOx Model (1)'!K29^2))-(3.2606444641*(10^-2)*('NOx Model (1)'!K29))+(3.5786489003) -> 18.828742 | F29: =Properties!P22*'NOx Model (2)'!$I$3 -> 2.40625 | G29: ='NOx Model (2)'!$J$3*(5.9376621671*(10^-19)*('NOx Model (1)'!K29^6))-(7.1020711589*(10^-15)*('NOx Model (1)'!K29^5))+(3.3460896805*(10^-11)*(K29^4))-(7.8909601634*(10^-8)*(K29^3))+(9.8599769212*(10^-5)*(K29^2))-(2.8172899156*(10^-2)*(K29))+(3.05378908) -> 32.629816 | H29: =Properties!V22*'NOx Model (2)'!$J$3 -> 856.34 | I29: =A29+C29+E29+G29 -> 276.67074 | J29: =B29+D29+F29+H29 -> 1276.2985 | K29: 900
A30: ='NOx Model (2)'!$F$3*(8.5770134353*(10^-19)*(K30^6))-(1.0374875556*(10^-14)*(K30^5))+(4.9689475953*(10^-11)*(K30^4))-(1.2019118054*(10^-7)*(K30^3))+(1.5650954893*(10^-4)*(K30^2))-(4.8239362033*(10^-2)*(K30))+(5.2084519626) -> 35.019996 | B30: =Properties!D23*'NOx Model (2)'!$F$3 -> 243.3024 | C30: ='NOx Model (2)'!$H$3* ((6.6506859177*(10^-19)*(K30^6)) -(7.8984343104*(10^-15)*(K30^5))+(3.6879849877*(10^-11)*(K30^4))-(8.6386228559*(10^-8)*(K30^3))+(1.1074017861*(10^-4)*(K30^2))-(3.1241611608*(10^-2)*(K30))+(3.3006694533)) -> 213.08135 | D30: =Properties!J23*'NOx Model (2)'!$H$3 -> 213.3054 | E30: ='NOx Model (2)'!$I$3*(6.4958291549*(10^-19)*('NOx Model (1)'!K30^6))-(7.8224528491*(10^-15)*('NOx Model (1)'!K30^5))+(3.7120417697*(10^-11)*('NOx Model (1)'!K30^4))-(8.798317617*(10^-8)*('NOx Model (1)'!K30^3))+(1.0982327235*(10^-4)*('NOx Model (1)'!K30^2))-(3.2606444641*(10^-2)*('NOx Model (1)'!K30))+(3.5786489003) -> 20.525089 | F30: =Properties!P23*'NOx Model (2)'!$I$3 -> 2.6225 | G30: ='NOx Model (2)'!$J$3*(5.9376621671*(10^-19)*('NOx Model (1)'!K30^6))-(7.1020711589*(10^-15)*('NOx Model (1)'!K30^5))+(3.3460896805*(10^-11)*(K30^4))-(7.8909601634*(10^-8)*(K30^3))+(9.8599769212*(10^-5)*(K30^2))-(2.8172899156*(10^-2)*(K30))+(3.05378908) -> 39.893588 | H30: =Properties!V23*'NOx Model (2)'!$J$3 -> 932.48 | I30: =A30+C30+E30+G30 -> 308.52002 | J30: =B30+D30+F30+H30 -> 1391.7103 | K30: 950
A31: ='NOx Model (2)'!$F$3*(8.5770134353*(10^-19)*(K31^6))-(1.0374875556*(10^-14)*(K31^5))+(4.9689475953*(10^-11)*(K31^4))-(1.2019118054*(10^-7)*(K31^3))+(1.5650954893*(10^-4)*(K31^2))-(4.8239362033*(10^-2)*(K31))+(5.2084519626) -> 39.395053 | B31: =Properties!D24*'NOx Model (2)'!$F$3 -> 264.6864 | C31: ='NOx Model (2)'!$H$3* ((6.6506859177*(10^-19)*(K31^6)) -(7.8984343104*(10^-15)*(K31^5))+(3.6879849877*(10^-11)*(K31^4))-(8.6386228559*(10^-8)*(K31^3))+(1.1074017861*(10^-4)*(K31^2))-(3.1241611608*(10^-2)*(K31))+(3.3006694533)) -> 232.19007 | D31: =Properties!J24*'NOx Model (2)'!$H$3 -> 231.5709 | E31: ='NOx Model (2)'!$I$3*(6.4958291549*(10^-19)*('NOx Model (1)'!K31^6))-(7.8224528491*(10^-15)*('NOx Model (1)'!K31^5))+(3.7120417697*(10^-11)*('NOx Model (1)'!K31^4))-(8.798317617*(10^-8)*('NOx Model (1)'!K31^3))+(1.0982327235*(10^-4)*('NOx Model (1)'!K31^2))-(3.2606444641*(10^-2)*('NOx Model (1)'!K31))+(3.5786489003) -> 22.191463 | F31: =Properties!P24*'NOx Model (2)'!$I$3 -> 2.84 | G31: ='NOx Model (2)'!$J$3*(5.9376621671*(10^-19)*('NOx Model (1)'!K31^6))-(7.1020711589*(10^-15)*('NOx Model (1)'!K31^5))+(3.3460896805*(10^-11)*(K31^4))-(7.8909601634*(10^-8)*(K31^3))+(9.8599769212*(10^-5)*(K31^2))-(2.8172899156*(10^-2)*(K31))+(3.05378908) -> 48.836895 | H31: =Properties!V24*'NOx Model (2)'!$J$3 -> 1009.09 | I31: =A31+C31+E31+G31 -> 342.61349 | J31: =B31+D31+F31+H31 -> 1508.1873 | K31: 1000
A32: ='NOx Model (2)'!$F$3*(8.5770134353*(10^-19)*(K32^6))-(1.0374875556*(10^-14)*(K32^5))+(4.9689475953*(10^-11)*(K32^4))-(1.2019118054*(10^-7)*(K32^3))+(1.5650954893*(10^-4)*(K32^2))-(4.8239362033*(10^-2)*(K32))+(5.2084519626) -> 44.232453 | B32: =Properties!D25*'NOx Model (2)'!$F$3 -> 286.308 | C32: ='NOx Model (2)'!$H$3* ((6.6506859177*(10^-19)*(K32^6)) -(7.8984343104*(10^-15)*(K32^5))+(3.6879849877*(10^-11)*(K32^4))-(8.6386228559*(10^-8)*(K32^3))+(1.1074017861*(10^-4)*(K32^2))-(3.1241611608*(10^-2)*(K32))+(3.3006694533)) -> 251.47124 | D32: =Properties!J25*'NOx Model (2)'!$H$3 -> 250.1037 | E32: ='NOx Model (2)'!$I$3*(6.4958291549*(10^-19)*('NOx Model (1)'!K32^6))-(7.8224528491*(10^-15)*('NOx Model (1)'!K32^5))+(3.7120417697*(10^-11)*('NOx Model (1)'!K32^4))-(8.798317617*(10^-8)*('NOx Model (1)'!K32^3))+(1.0982327235*(10^-4)*('NOx Model (1)'!K32^2))-(3.2606444641*(10^-2)*('NOx Model (1)'!K32))+(3.5786489003) -> 23.815776 | F32: =Properties!P25*'NOx Model (2)'!$I$3 -> 3.05875 | G32: ='NOx Model (2)'!$J$3*(5.9376621671*(10^-19)*('NOx Model (1)'!K32^6))-(7.1020711589*(10^-15)*('NOx Model (1)'!K32^5))+(3.3460896805*(10^-11)*(K32^4))-(7.8909601634*(10^-8)*(K32^3))+(9.8599769212*(10^-5)*(K32^2))-(2.8172899156*(10^-2)*(K32))+(3.05378908) -> 59.836515 | H32: =Properties!V25*'NOx Model (2)'!$J$3 -> 1086.17 | I32: =A32+C32+E32+G32 -> 379.35598 | J32: =B32+D32+F32+H32 -> 1625.6405 | K32: 1050
A33: ='NOx Model (2)'!$F$3*(8.5770134353*(10^-19)*(K33^6))-(1.0374875556*(10^-14)*(K33^5))+(4.9689475953*(10^-11)*(K33^4))-(1.2019118054*(10^-7)*(K33^3))+(1.5650954893*(10^-4)*(K33^2))-(4.8239362033*(10^-2)*(K33))+(5.2084519626) -> 49.622972 | B33: =Properties!D26*'NOx Model (2)'!$F$3 -> 308.1672 | C33: ='NOx Model (2)'!$H$3* ((6.6506859177*(10^-19)*(K33^6)) -(7.8984343104*(10^-15)*(K33^5))+(3.6879849877*(10^-11)*(K33^4))-(8.6386228559*(10^-8)*(K33^3))+(1.1074017861*(10^-4)*(K33^2))-(3.1241611608*(10^-2)*(K33))+(3.3006694533)) -> 270.89904 | D33: =Properties!J26*'NOx Model (2)'!$H$3 -> 268.9929 | E33: ='NOx Model (2)'!$I$3*(6.4958291549*(10^-19)*('NOx Model (1)'!K33^6))-(7.8224528491*(10^-15)*('NOx Model (1)'!K33^5))+(3.7120417697*(10^-11)*('NOx Model (1)'!K33^4))-(8.798317617*(10^-8)*('NOx Model (1)'!K33^3))+(1.0982327235*(10^-4)*('NOx Model (1)'!K33^2))-(3.2606444641*(10^-2)*('NOx Model (1)'!K33))+(3.5786489003) -> 25.385824 | F33: =Properties!P26*'NOx Model (2)'!$I$3 -> 3.27875 | G33: ='NOx Model (2)'!$J$3*(5.9376621671*(10^-19)*('NOx Model (1)'!K33^6))-(7.1020711589*(10^-15)*('NOx Model (1)'!K33^5))+(3.3460896805*(10^-11)*(K33^4))-(7.8909601634*(10^-8)*(K33^3))+(9.8599769212*(10^-5)*(K33^2))-(2.8172899156*(10^-2)*(K33))+(3.05378908) -> 73.331758 | H33: =Properties!V26*'NOx Model (2)'!$J$3 -> 1164.19 | I33: =A33+C33+E33+G33 -> 419.2396 | J33: =B33+D33+F33+H33 -> 1744.6289 | K33: 1100
A34: ='NOx Model (2)'!$F$3*(8.5770134353*(10^-19)*(K34^6))-(1.0374875556*(10^-14)*(K34^5))+(4.9689475953*(10^-11)*(K34^4))-(1.2019118054*(10^-7)*(K34^3))+(1.5650954893*(10^-4)*(K34^2))-(4.8239362033*(10^-2)*(K34))+(5.2084519626) -> 55.673535 | B34: =Properties!D27*'NOx Model (2)'!$F$3 -> 330.1848 | C34: ='NOx Model (2)'!$H$3* ((6.6506859177*(10^-19)*(K34^6)) -(7.8984343104*(10^-15)*(K34^5))+(3.6879849877*(10^-11)*(K34^4))-(8.6386228559*(10^-8)*(K34^3))+(1.1074017861*(10^-4)*(K34^2))-(3.1241611608*(10^-2)*(K34))+(3.3006694533)) -> 290.45626 | D34: =Properties!J27*'NOx Model (2)'!$H$3 -> 288.1494 | E34: ='NOx Model (2)'!$I$3*(6.4958291549*(10^-19)*('NOx Model (1)'!K34^6))-(7.8224528491*(10^-15)*('NOx Model (1)'!K34^5))+(3.7120417697*(10^-11)*('NOx Model (1)'!K34^4))-(8.798317617*(10^-8)*('NOx Model (1)'!K34^3))+(1.0982327235*(10^-4)*('NOx Model (1)'!K34^2))-(3.2606444641*(10^-2)*('NOx Model (1)'!K34))+(3.5786489003) -> 26.889014 | F34: =Properties!P27*'NOx Model (2)'!$I$3 -> 3.5 | G34: ='NOx Model (2)'!$J$3*(5.9376621671*(10^-19)*('NOx Model (1)'!K34^6))-(7.1020711589*(10^-15)*('NOx Model (1)'!K34^5))+(3.3460896805*(10^-11)*(K34^4))-(7.8909601634*(10^-8)*(K34^3))+(9.8599769212*(10^-5)*(K34^2))-(2.8172899156*(10^-2)*(K34))+(3.05378908) -> 89.83064 | H34: =Properties!V27*'NOx Model (2)'!$J$3 -> 1242.68 | I34: =A34+C34+E34+G34 -> 462.84944 | J34: =B34+D34+F34+H34 -> 1864.5142 | K34: 1150
A35: ='NOx Model (2)'!$F$3*(8.5770134353*(10^-19)*(K35^6))-(1.0374875556*(10^-14)*(K35^5))+(4.9689475953*(10^-11)*(K35^4))-(1.2019118054*(10^-7)*(K35^3))+(1.5650954893*(10^-4)*(K35^2))-(4.8239362033*(10^-2)*(K35))+(5.2084519626) -> 62.508468 | B35: =Properties!D28*'NOx Model (2)'!$F$3 -> 352.3608 | C35: ='NOx Model (2)'!$H$3* ((6.6506859177*(10^-19)*(K35^6)) -(7.8984343104*(10^-15)*(K35^5))+(3.6879849877*(10^-11)*(K35^4))-(8.6386228559*(10^-8)*(K35^3))+(1.1074017861*(10^-4)*(K35^2))-(3.1241611608*(10^-2)*(K35))+(3.3006694533)) -> 310.13303 | D35: =Properties!J28*'NOx Model (2)'!$H$3 -> 307.5732 | E35: ='NOx Model (2)'!$I$3*(6.4958291549*(10^-19)*('NOx Model (1)'!K35^6))-(7.8224528491*(10^-15)*('NOx Model (1)'!K35^5))+(3.7120417697*(10^-11)*('NOx Model (1)'!K35^4))-(8.798317617*(10^-8)*('NOx Model (1)'!K35^3))+(1.0982327235*(10^-4)*('NOx Model (1)'!K35^2))-(3.2606444641*(10^-2)*('NOx Model (1)'!K35))+(3.5786489003) -> 28.312087 | F35: =Properties!P28*'NOx Model (2)'!$I$3 -> 3.72125 | G35: ='NOx Model (2)'!$J$3*(5.9376621671*(10^-19)*('NOx Model (1)'!K35^6))-(7.1020711589*(10^-15)*('NOx Model (1)'!K35^5))+(3.3460896805*(10^-11)*(K35^4))-(7.8909601634*(10^-8)*(K35^3))+(9.8599769212*(10^-5)*(K35^2))-(2.8172899156*(10^-2)*(K35))+(3.05378908) -> 109.91637 | H35: =Properties!V28*'NOx Model (2)'!$J$3 -> 1321.64 | I35: =A35+C35+E35+G35 -> 510.86995 | J35: =B35+D35+F35+H35 -> 1985.2953 | K35: 1200
A36: ='NOx Model (2)'!$F$3*(8.5770134353*(10^-19)*(K36^6))-(1.0374875556*(10^-14)*(K36^5))+(4.9689475953*(10^-11)*(K36^4))-(1.2019118054*(10^-7)*(K36^3))+(1.5650954893*(10^-4)*(K36^2))-(4.8239362033*(10^-2)*(K36))+(5.2084519626) -> 70.270828 | B36: =Properties!D29*'NOx Model (2)'!$F$3 -> 374.6952 | C36: ='NOx Model (2)'!$H$3* ((6.6506859177*(10^-19)*(K36^6)) -(7.8984343104*(10^-15)*(K36^5))+(3.6879849877*(10^-11)*(K36^4))-(8.6386228559*(10^-8)*(K36^3))+(1.1074017861*(10^-4)*(K36^2))-(3.1241611608*(10^-2)*(K36))+(3.3006694533)) -> 329.92575 | D36: =Properties!J29*'NOx Model (2)'!$H$3 -> 327.1752 | E36: ='NOx Model (2)'!$I$3*(6.4958291549*(10^-19)*('NOx Model (1)'!K36^6))-(7.8224528491*(10^-15)*('NOx Model (1)'!K36^5))+(3.7120417697*(10^-11)*('NOx Model (1)'!K36^4))-(8.798317617*(10^-8)*('NOx Model (1)'!K36^3))+(1.0982327235*(10^-4)*('NOx Model (1)'!K36^2))-(3.2606444641*(10^-2)*('NOx Model (1)'!K36))+(3.5786489003) -> 29.640849 | F36: =Properties!P29*'NOx Model (2)'!$I$3 -> 3.945 | G36: ='NOx Model (2)'!$J$3*(5.9376621671*(10^-19)*('NOx Model (1)'!K36^6))-(7.1020711589*(10^-15)*('NOx Model (1)'!K36^5))+(3.3460896805*(10^-11)*(K36^4))-(7.8909601634*(10^-8)*(K36^3))+(9.8599769212*(10^-5)*(K36^2))-(2.8172899156*(10^-2)*(K36))+(3.05378908) -> 134.25413 | H36: =Properties!V29*'NOx Model (2)'!$J$3 -> 1401.07 | I36: =A36+C36+E36+G36 -> 564.09156 | J36: =B36+D36+F36+H36 -> 2106.8854 | K36: 1250
A37: ='NOx Model (2)'!$F$3*(8.5770134353*(10^-19)*(K37^6))-(1.0374875556*(10^-14)*(K37^5))+(4.9689475953*(10^-11)*(K37^4))-(1.2019118054*(10^-7)*(K37^3))+(1.5650954893*(10^-4)*(K37^2))-(4.8239362033*(10^-2)*(K37))+(5.2084519626) -> 79.123809 | B37: =Properties!D30*'NOx Model (2)'!$F$3 -> 397.188 | C37: ='NOx Model (2)'!$H$3* ((6.6506859177*(10^-19)*(K37^6)) -(7.8984343104*(10^-15)*(K37^5))+(3.6879849877*(10^-11)*(K37^4))-(8.6386228559*(10^-8)*(K37^3))+(1.1074017861*(10^-4)*(K37^2))-(3.1241611608*(10^-2)*(K37))+(3.3006694533)) -> 349.83597 | D37: =Properties!J30*'NOx Model (2)'!$H$3 -> 347.1336 | E37: ='NOx Model (2)'!$I$3*(6.4958291549*(10^-19)*('NOx Model (1)'!K37^6))-(7.8224528491*(10^-15)*('NOx Model (1)'!K37^5))+(3.7120417697*(10^-11)*('NOx Model (1)'!K37^4))-(8.798317617*(10^-8)*('NOx Model (1)'!K37^3))+(1.0982327235*(10^-4)*('NOx Model (1)'!K37^2))-(3.2606444641*(10^-2)*('NOx Model (1)'!K37))+(3.5786489003) -> 30.859895 | F37: =Properties!P30*'NOx Model (2)'!$I$3 -> 4.16875 | G37: ='NOx Model (2)'!$J$3*(5.9376621671*(10^-19)*('NOx Model (1)'!K37^6))-(7.1020711589*(10^-15)*('NOx Model (1)'!K37^5))+(3.3460896805*(10^-11)*(K37^4))-(7.8909601634*(10^-8)*(K37^3))+(9.8599769212*(10^-5)*(K37^2))-(2.8172899156*(10^-2)*(K37))+(3.05378908) -> 163.59823 | H37: =Properties!V30*'NOx Model (2)'!$J$3 -> 1480.97 | I37: =A37+C37+E37+G37 -> 623.4179 | J37: =B37+D37+F37+H37 -> 2229.4604 | K37: 1300
A38: ='NOx Model (2)'!$F$3*(8.5770134353*(10^-19)*(K38^6))-(1.0374875556*(10^-14)*(K38^5))+(4.9689475953*(10^-11)*(K38^4))-(1.2019118054*(10^-7)*(K38^3))+(1.5650954893*(10^-4)*(K38^2))-(4.8239362033*(10^-2)*(K38))+(5.2084519626) -> 89.252227 | B38: =Properties!D31*'NOx Model (2)'!$F$3 -> 419.76 | C38: ='NOx Model (2)'!$H$3* ((6.6506859177*(10^-19)*(K38^6)) -(7.8984343104*(10^-15)*(K38^5))+(3.6879849877*(10^-11)*(K38^4))-(8.6386228559*(10^-8)*(K38^3))+(1.1074017861*(10^-4)*(K38^2))-(3.1241611608*(10^-2)*(K38))+(3.3006694533)) -> 369.8694 | D38: =Properties!J31*'NOx Model (2)'!$H$3 -> 367.3593 | E38: ='NOx Model (2)'!$I$3*(6.4958291549*(10^-19)*('NOx Model (1)'!K38^6))-(7.8224528491*(10^-15)*('NOx Model (1)'!K38^5))+(3.7120417697*(10^-11)*('NOx Model (1)'!K38^4))-(8.798317617*(10^-8)*('NOx Model (1)'!K38^3))+(1.0982327235*(10^-4)*('NOx Model (1)'!K38^2))-(3.2606444641*(10^-2)*('NOx Model (1)'!K38))+(3.5786489003) -> 31.952341 | F38: =Properties!P31*'NOx Model (2)'!$I$3 -> 4.39375 | G38: ='NOx Model (2)'!$J$3*(5.9376621671*(10^-19)*('NOx Model (1)'!K38^6))-(7.1020711589*(10^-15)*('NOx Model (1)'!K38^5))+(3.3460896805*(10^-11)*(K38^4))-(7.8909601634*(10^-8)*(K38^3))+(9.8599769212*(10^-5)*(K38^2))-(2.8172899156*(10^-2)*(K38))+(3.05378908) -> 198.79946 | H38: =Properties!V31*'NOx Model (2)'!$J$3 -> 1561.34 | I38: =A38+C38+E38+G38 -> 689.87343 | J38: =B38+D38+F38+H38 -> 2352.853 | K38: 1350
A39: ='NOx Model (2)'!$F$3*(8.5770134353*(10^-19)*(K39^6))-(1.0374875556*(10^-14)*(K39^5))+(4.9689475953*(10^-11)*(K39^4))-(1.2019118054*(10^-7)*(K39^3))+(1.5650954893*(10^-4)*(K39^2))-(4.8239362033*(10^-2)*(K39))+(5.2084519626) -> 100.86408 | B39: =Properties!D32*'NOx Model (2)'!$F$3 -> 442.5696 | C39: ='NOx Model (2)'!$H$3* ((6.6506859177*(10^-19)*(K39^6)) -(7.8984343104*(10^-15)*(K39^5))+(3.6879849877*(10^-11)*(K39^4))-(8.6386228559*(10^-8)*(K39^3))+(1.1074017861*(10^-4)*(K39^2))-(3.1241611608*(10^-2)*(K39))+(3.3006694533)) -> 390.03495 | D39: =Properties!J32*'NOx Model (2)'!$H$3 -> 387.7632 | E39: ='NOx Model (2)'!$I$3*(6.4958291549*(10^-19)*('NOx Model (1)'!K39^6))-(7.8224528491*(10^-15)*('NOx Model (1)'!K39^5))+(3.7120417697*(10^-11)*('NOx Model (1)'!K39^4))-(8.798317617*(10^-8)*('NOx Model (1)'!K39^3))+(1.0982327235*(10^-4)*('NOx Model (1)'!K39^2))-(3.2606444641*(10^-2)*('NOx Model (1)'!K39))+(3.5786489003) -> 32.899555 | F39: =Properties!P32*'NOx Model (2)'!$I$3 -> 4.61875 | G39: ='NOx Model (2)'!$J$3*(5.9376621671*(10^-19)*('NOx Model (1)'!K39^6))-(7.1020711589*(10^-15)*('NOx Model (1)'!K39^5))+(3.3460896805*(10^-11)*(K39^4))-(7.8909601634*(10^-8)*(K39^3))+(9.8599769212*(10^-5)*(K39^2))-(2.8172899156*(10^-2)*(K39))+(3.05378908) -> 240.81292 | H39: =Properties!V32*'NOx Model (2)'!$J$3 -> 1642.18 | I39: =A39+C39+E39+G39 -> 764.6115 | J39: =B39+D39+F39+H39 -> 2477.1316 | K39: 1400
A40: ='NOx Model (2)'!$F$3*(8.5770134353*(10^-19)*(K40^6))-(1.0374875556*(10^-14)*(K40^5))+(4.9689475953*(10^-11)*(K40^4))-(1.2019118054*(10^-7)*(K40^3))+(1.5650954893*(10^-4)*(K40^2))-(4.8239362033*(10^-2)*(K40))+(5.2084519626) -> 114.19218 | B40: =Properties!D33*'NOx Model (2)'!$F$3 -> 465.4584 | C40: ='NOx Model (2)'!$H$3* ((6.6506859177*(10^-19)*(K40^6)) -(7.8984343104*(10^-15)*(K40^5))+(3.6879849877*(10^-11)*(K40^4))-(8.6386228559*(10^-8)*(K40^3))+(1.1074017861*(10^-4)*(K40^2))-(3.1241611608*(10^-2)*(K40))+(3.3006694533)) -> 410.34389 | D40: =Properties!J33*'NOx Model (2)'!$H$3 -> 408.4344 | E40: ='NOx Model (2)'!$I$3*(6.4958291549*(10^-19)*('NOx Model (1)'!K40^6))-(7.8224528491*(10^-15)*('NOx Model (1)'!K40^5))+(3.7120417697*(10^-11)*('NOx Model (1)'!K40^4))-(8.798317617*(10^-8)*('NOx Model (1)'!K40^3))+(1.0982327235*(10^-4)*('NOx Model (1)'!K40^2))-(3.2606444641*(10^-2)*('NOx Model (1)'!K40))+(3.5786489003) -> 33.680882 | F40: =Properties!P33*'NOx Model (2)'!$I$3 -> 4.84625 | G40: ='NOx Model (2)'!$J$3*(5.9376621671*(10^-19)*('NOx Model (1)'!K40^6))-(7.1020711589*(10^-15)*('NOx Model (1)'!K40^5))+(3.3460896805*(10^-11)*(K40^4))-(7.8909601634*(10^-8)*(K40^3))+(9.8599769212*(10^-5)*(K40^2))-(2.8172899156*(10^-2)*(K40))+(3.05378908) -> 290.706 | H40: =Properties!V33*'NOx Model (2)'!$J$3 -> 1723.49 | I40: =A40+C40+E40+G40 -> 848.92295 | J40: =B40+D40+F40+H40 -> 2602.229 | K40: 1450
... A81: ='NOx Model (2)'!$F$3*(8.5770134353*(10^-19)*(K81^6))-(1.0374875556*(10^-14)*(K81^5))+(4.9689475953*(10^-11)*(K81^4))-(1.2019118054*(10^-7)*(K81^3))+(1.5650954893*(10^-4)*(K81^2))-(4.8239362033*(10^-2)*(K81))+(5.2084519626) -> 11095.192 | B81: =Properties!D74*'NOx Model (2)'!$F$3 -> 1458.1512 | C81: ='NOx Model (2)'!$H$3* ((6.6506859177*(10^-19)*(K81^6)) -(7.8984343104*(10^-15)*(K81^5))+(3.6879849877*(10^-11)*(K81^4))-(8.6386228559*(10^-8)*(K81^3))+(1.1074017861*(10^-4)*(K81^2))-(3.1241611608*(10^-2)*(K81))+(3.3006694533)) -> 1382.4941 | D81: =Properties!J74*'NOx Model (2)'!$H$3 -> 1379.1789 | E81: ='NOx Model (2)'!$I$3*(6.4958291549*(10^-19)*('NOx Model (1)'!K81^6))-(7.8224528491*(10^-15)*('NOx Model (1)'!K81^5))+(3.7120417697*(10^-11)*('NOx Model (1)'!K81^4))-(8.798317617*(10^-8)*('NOx Model (1)'!K81^3))+(1.0982327235*(10^-4)*('NOx Model (1)'!K81^2))-(3.2606444641*(10^-2)*('NOx Model (1)'!K81))+(3.5786489003) -> -926.34048 | F81: =Properties!P74*'NOx Model (2)'!$I$3 -> 14.77125 | G81: ='NOx Model (2)'!$J$3*(5.9376621671*(10^-19)*('NOx Model (1)'!K81^6))-(7.1020711589*(10^-15)*('NOx Model (1)'!K81^5))+(3.3460896805*(10^-11)*(K81^4))-(7.8909601634*(10^-8)*(K81^3))+(9.8599769212*(10^-5)*(K81^2))-(2.8172899156*(10^-2)*(K81))+(3.05378908) -> 50320.633 | H81: =Properties!V74*'NOx Model (2)'!$J$3 -> 5231.57 | I81: =A81+C81+E81+G81 -> 61871.978 | J81: =B81+D81+F81+H81 -> 8083.6714 | K81: 3500

Sheet NOx Model (2)
A1: NO𝑥 Model
A2: Please Select a Fuel, ɸ & EGR% from the dropdown boxes | B2: Fuel | C2: ɸ | D2: x | E2: CO₂ IF | F2: CO₂ (n1) | G2: H₂O IF | H2: H₂O (n2) | I2: O₂ (n3) | J2: N₂ (n4) | K2: IF Reaction Enthalpy ℎ (MJ/Mol) | L2: Reaction Enthalpy ℎ (MJ/Mol) | N2: Fuel Enthalpy (MJ) | O2: IF NET Enthalpy (MJ) | P2: NET Enthalpy (MJ) | Q2: Moles Number | R2: Alpha | S2: Oxygen Concentration | T2: Nitrogen Concentration | U2: Total Exhaust kmols
B3: Iso-Octane | C3: 0.99 | D3: =IF(B3="Iso-Octane",'NOx Model (1)'!H3,IF(B3="Methanol",'NOx Model (1)'!H4,IF(B3="Ethanol",'NOx Model (1)'!H5,IF(B3="Propane",'NOx Model (1)'!H6,IF(B3="Ethane",'NOx Model (1)'!H7,IF(B3="Hydrogen",'NOx Model (1)'!H8,IF(B3="Acetylene",'NOx Model (1)'!H9))))))) -> 12.5 | E3: =IF(B3="Iso-Octane",'NOx Model (1)'!F3,IF(B3="Methanol",'NOx Model (1)'!F4,IF(B3="Ethanol",'NOx Model (1)'!F5,IF(B3="Propane",'NOx Model (1)'!F6,IF(B3="Ethane",'NOx Model (1)'!F7,IF(B3="Hydrogen",'NOx Model (1)'!F8,IF(B3="Acetylene",'NOx Model (1)'!F9))))))) -> 8 | F3: =E3*C3 -> 7.92 | G3: =IF(B3="Iso-Octane",'NOx Model (1)'!G3,IF(B3="Methanol",'NOx Model (1)'!G4,IF(B3="Ethanol",'NOx Model (1)'!G5,IF(B3="Propane",'NOx Model (1)'!G6,IF(B3="Ethane",'NOx Model (1)'!G7,IF(B3="Hydrogen",'NOx Model (1)'!G8,IF(B3="Acetylene",'NOx Model (1)'!G9))))))) -> 9 | H3: =G3*C3 -> 8.91 | I3: =D3*(1-C3) -> 0.125 | J3: =IF(B3="Iso-Octane",'NOx Model (1)'!I3,IF(B3="Methanol",'NOx Model (1)'!I4,IF(B3="Ethanol",'NOx Model (1)'!I5,IF(B3="Propane",'NOx Model (1)'!I6,IF(B3="Ethane",'NOx Model (1)'!I7,IF(B3="Hydrogen",'NOx Model (1)'!I8,IF(B3="Acetylene",'NOx Model (1)'!I9))))))) -> 47 | K3: =IF(B3="Iso-Octane",'NOx Model (1)'!J3,IF(B3="Methanol",'NOx Model (1)'!J4,IF(B3="Ethanol",'NOx Model (1)'!J5,IF(B3="Propane",'NOx Model (1)'!J6,IF(B3="Ethane",'NOx Model (1)'!J7,IF(B3="Hydrogen",'NOx Model (1)'!J8,IF(B3="Acetylene",'NOx Model (1)'!J9))))))) -> 5324.2 | L3: =K3*C3 -> 5270.958 | M3: =IF(B3="Iso-Octane",'NOx Model (1)'!K3,IF(B3="Methanol",'NOx Model (1)'!K4,IF(B3="Ethanol",'NOx Model (1)'!K5,IF(B3="Propane",'NOx Model (1)'!K6,IF(B3="Ethane",'NOx Model (1)'!K7,IF(B3="Hydrogen",'NOx Model (1)'!K8,IF(B3="Acetylene",'NOx Model (1)'!K9))))))) -> 259.2 | N3: =M3*C3 -> 256.608 | O3: =IF(B3="Iso-Octane",'NOx Model (1)'!L3,IF(B3="Methanol",'NOx Model (1)'!L4,IF(B3="Ethanol",'NOx Model (1)'!L5,IF(B3="Propane",'NOx Model (1)'!L6,IF(B3="Ethane",'NOx Model (1)'!L7,IF(B3="Hydrogen",'NOx Model (1)'!L8,IF(B3="Acetylene",'NOx Model (1)'!L9))))))) -> 5065 | P3: =O3*C3 -> 5014.35 | Q3: ='NOx Model (1)'!M3 -> 6.5681391e-06 | R3: =($Q$3)/($C$3+($D$3*(1+3.76))) -> 1.0858223e-07 | S3: =(I3*R3)/('NOx Model (1)'!$M$24*10^-6) -> 0.00033931947 | T3: =(J3*R3)/('NOx Model (1)'!$M$24*10^-6) -> 0.12758412 | U3: =R3*(F3+H3+I3+J3) -> 6.9443765e-06
A5: Assumptions/Constants | F5: NET Enthalpy | H5: Temperature (K) | L5: Pressure | M5: Temperature | N5: NOx
D6: Above | F6: {=MIN(IF('NOx Model (1)'!$J$14:$J$81>'NOx Model (2)'!$P$3,'NOx Model (1)'!$J$14:$J$81))} -> 5081.6677 | H6: =VLOOKUP($F$6,'NOx Model (1)'!$J$14:$K$81,2,FALSE) -> 2400 | L6: Bar | M6: K | N6: Kmols/m³/° | P6: Kmols/° | Q6: Kmols/Cycle | R6: NOx PPM
A7: Volumetric Efficiency | D7: Below | F7: {=MAX(IF('NOx Model (1)'!$J$14:$J$81<'NOx Model (2)'!$P$3,'NOx Model (1)'!$J$14:$J$81))} -> 4947.8615 | H7: =VLOOKUP($F$7,'NOx Model (1)'!$J$14:$K$81,2,FALSE) -> 2350 | J7: S.O.C | L7: 10 | M7: ='NOx Model (2)'!F9 -> 2374.8451 | N7: =(((4.7*10^13)*($T$3)*(($S$3)^0.5)*EXP(-67837/M7)))/($A$12*6) -> 4.0200865e-06 | P7: =N7*($A$10*10^-6) -> 1.6080346e-10 | Q7: =SUM(P7:P22) -> 1.4599187e-07 | R7: =(Q7/U3)*10^6 -> 21023.034
A8: 0.4 | F8: Initial Flame Temperature (K) | L8: =L7+2 -> 12 | M8: =M7*((L8/L7)^((1.17-1)/1.17)) -> 2438.5982 | N8: =(((4.7*10^13)*($T$3)*(($S$3)^0.5)*EXP(-67837/M8)))/($A$12*6) -> 8.483163e-06 | P8: =N8*($A$10*10^-6) -> 3.3932652e-10
A9: Clearance volume | F9: =((($P$3-$F$7)/($F$6-$F$7))*($H$6-$H$7))+$H$7 -> 2374.8451 | L9: =L8+2 -> 14 | M9: =M8*((L9/L8)^((1.17-1)/1.17)) -> 2493.8341 | N9: =(((4.7*10^13)*($T$3)*(($S$3)^0.5)*EXP(-67837/M9)))/($A$12*6) -> 1.5708857e-05 | P9: =N9*($A$10*10^-6) -> 6.2835426e-10
A10: 40 | L10: =L9+2 -> 16 | M10: =M9*((L10/L9)^((1.17-1)/1.17)) -> 2542.6919 | N10: =(((4.7*10^13)*($T$3)*(($S$3)^0.5)*EXP(-67837/M10)))/($A$12*6) -> 2.6493746e-05 | P10: =N10*($A$10*10^-6) -> 1.0597498e-09
A11: RPM | L11: =L10+2 -> 18 | M11: =M10*((L11/L10)^((1.17-1)/1.17)) -> 2586.5814 | N11: =(((4.7*10^13)*($T$3)*(($S$3)^0.5)*EXP(-67837/M11)))/($A$12*6) -> 4.1662685e-05 | P11: =N11*($A$10*10^-6) -> 1.6665074e-09
A12: 1800 | D12: For Ideal Gas Law | L12: =L11+2 -> 20 | M12: =M11*((L12/L11)^((1.17-1)/1.17)) -> 2626.4835 | N12: =(((4.7*10^13)*($T$3)*(($S$3)^0.5)*EXP(-67837/M12)))/($A$12*6) -> 6.2056451e-05 | P12: =N12*($A$10*10^-6) -> 2.482258e-09
A13: Atmosphere | D13: P | F13: 1 | L13: =L12+2 -> 22 | M13: =M12*((L13/L12)^((1.17-1)/1.17)) -> 2663.1094 | N13: =(((4.7*10^13)*($T$3)*(($S$3)^0.5)*EXP(-67837/M13)))/($A$12*6) -> 8.852269e-05 | P13: =N13*($A$10*10^-6) -> 3.5409076e-09
A14: O2 | B14: 0.21 | D14: V | F14: =1600/4 -> 400 | L14: =L13+2 -> 24 | M14: =M13*((L14/L13)^((1.17-1)/1.17)) -> 2696.9919 | N14: =(((4.7*10^13)*($T$3)*(($S$3)^0.5)*EXP(-67837/M14)))/($A$12*6) -> 0.00012190924 | P14: =N14*($A$10*10^-6) -> 4.8763696e-09
A15: N2 | B15: 0.79 | D15: R | F15: 8314 | L15: =L14+2 -> 26 | M15: =M14*((L15/L14)^((1.17-1)/1.17)) -> 2728.5414 | N15: =(((4.7*10^13)*($T$3)*(($S$3)^0.5)*EXP(-67837/M15)))/($A$12*6) -> 0.00016305919 | P15: =N15*($A$10*10^-6) -> 6.5223676e-09
A16: Atmospheric Composition Ratio | D16: T | F16: =20+273 -> 293 | L16: =L15+2 -> 28 | M16: =M15*((L16/L15)^((1.17-1)/1.17)) -> 2758.0806 | N16: =(((4.7*10^13)*($T$3)*(($S$3)^0.5)*EXP(-67837/M16)))/($A$12*6) -> 0.00021280724 | P16: =N16*($A$10*10^-6) -> 8.5122895e-09
L17: =L16+2 -> 30 | M17: =M16*((L17/L16)^((1.17-1)/1.17)) -> 2785.8684 | N17: =(((4.7*10^13)*($T$3)*(($S$3)^0.5)*EXP(-67837/M17)))/($A$12*6) -> 0.000271977 | P17: =N17*($A$10*10^-6) -> 1.087908e-08
A18: 3.76 | L18: =L17+2 -> 32 | M18: =M17*((L18/L17)^((1.17-1)/1.17)) -> 2812.1154 | N18: =(((4.7*10^13)*($T$3)*(($S$3)^0.5)*EXP(-67837/M18)))/($A$12*6) -> 0.00034137904 | P18: =N18*($A$10*10^-6) -> 1.3655162e-08
L19: =L18+2 -> 34 | M19: =M18*((L19/L18)^((1.17-1)/1.17)) -> 2836.9959 | N19: =(((4.7*10^13)*($T$3)*(($S$3)^0.5)*EXP(-67837/M19)))/($A$12*6) -> 0.00042180948 | P19: =N19*($A$10*10^-6) -> 1.6872379e-08
A20: Molecular Weight | L20: =L19+2 -> 36 | M20: =M19*((L20/L19)^((1.17-1)/1.17)) -> 2860.6555 | N20: =(((4.7*10^13)*($T$3)*(($S$3)^0.5)*EXP(-67837/M20)))/($A$12*6) -> 0.00051404897 | P20: =N20*($A$10*10^-6) -> 2.0561959e-08
A21: Air | B21: =(2*B24)+(2*'NOx Model (1)'!Y10*B25) -> 32.095151 | C21: kg/kmol | L21: =L20+2 -> 38 | M21: =M20*((L21/L20)^((1.17-1)/1.17)) -> 2883.2171 | N21: =(((4.7*10^13)*($T$3)*(($S$3)^0.5)*EXP(-67837/M21)))/($A$12*6) -> 0.00061886206 | P21: =N21*($A$10*10^-6) -> 2.4754482e-08
A22: Carbon | B22: 12 | C22: kg/kmol | J22: E.O.C | L22: =L21+2 -> 40 | M22: =M21*((L22/L21)^((1.17-1)/1.17)) -> 2904.7856 | N22: =(((4.7*10^13)*($T$3)*(($S$3)^0.5)*EXP(-67837/M22)))/($A$12*6) -> 0.00073699674 | P22: =N22*($A$10*10^-6) -> 2.947987e-08
A23: Hydrogen | B23: 1 | C23: kg/kmol
A24: Oxygen | B24: 16 | C24: kg/kmol
A25: Nitrogen | B25: 14 | C25: kg/kmol

Sheet NOx PPM
A2: Iso-Octane | D2: Methanol | G2: Ethanol
A3: ɸ | B3: NOx PPM | D3: ɸ | E3: NOx PPM | G3: ɸ | H3: NOx PPM
A4: 0.6 | B4: 10.259908 | D4: 0.6 | E4: 0.09858797 | G4: 0.6 | H4: 0.77404996 | L4: Iso-Octane
A5: 0.65 | B5: 54.639533 | D5: 0.65 | E5: 0.56894568 | G5: 0.65 | H5: 4.3439946 | L5: 0.6 | M5: 0.65 | N5: 0.7 | O5: 0.75 | P5: 0.8 | Q5: 0.85 | R5: 0.9 | S5: 0.95 | T5: 0.96 | U5: 0.97 | V5: 0.98 | W5: 0.99 | X5: 1
A6: 0.7 | B6: 233.76355 | D6: 0.7 | E6: 2.6167442 | G6: 0.7 | H6: 19.456504 | L6: 3039 | M6: 3292.25 | N6: 3545.5 | O6: 3798.75 | P6: 4052 | Q6: 4305.25 | R6: 4558.5 | S6: 4811.75 | T6: 4862.4 | U6: 4913.05 | V6: 4963.7 | W6: 5014.35 | X6: 5065 | Y6: Net Enthalpy
A7: 0.75 | B7: 829.25305 | D7: 0.75 | E7: 9.9050182 | G7: 0.75 | H7: 71.674266 | J7: Pressure (Bar) | K7: 10 | L7: 1700.015 | M7: 1793.8068 | N7: 1885.2734 | O7: 1974.4966 | P7: 2061.6087 | Q7: 2146.7698 | R7: 2229.808 | S7: 2311.1418 | T7: 2327.1378 | U7: 2343.0754 | V7: 2358.9797 | W7: 2374.8451 | X7: 2390.6527
A8: 0.8 | B8: 2493.9189 | D8: 0.8 | E8: 31.455345 | G8: 0.8 | H8: 223.03947 | K8: 12 | L8: 1745.6522 | M8: 1841.9619 | N8: 1935.8839 | O8: 2027.5023 | P8: 2116.953 | Q8: 2204.4002 | R8: 2289.6676 | S8: 2373.1849 | T8: 2389.6103 | U8: 2405.9757 | V8: 2422.3069 | W8: 2438.5982 | X8: 2454.8302
A9: 0.85 | B9: 6430.1264 | D9: 0.85 | E9: 85.118574 | G9: 0.85 | H9: 592.1765 | K9: 14 | L9: 1785.1924 | M9: 1883.6836 | N9: 1979.733 | O9: 2073.4266 | P9: 2164.9034 | Q9: 2254.3314 | R9: 2341.5301 | S9: 2426.9391 | T9: 2443.7366 | U9: 2460.4727 | V9: 2477.1738 | W9: 2493.8341 | X9: 2510.4338
A10: 0.9 | B10: 14045.335 | D10: 0.9 | E10: 194.33822 | G10: 0.9 | H10: 1330.55 | K10: 16 | L10: 1820.1669 | M10: 1920.5876 | N10: 2018.5188 | O10: 2114.0481 | P10: 2207.317 | Q10: 2298.497 | R10: 2387.4041 | S10: 2474.4863 | T10: 2491.6129 | U10: 2508.6769 | V10: 2525.7052 | W10: 2542.6919 | X10: 2559.6168
A11: 0.95 | B11: 24322.703 | D11: 0.95 | E11: 349.67288 | G11: 0.95 | H11: 2362.9749 | K11: 18 | L11: 1851.5849 | M11: 1953.739 | N11: 2053.3605 | O11: 2150.5388 | P11: 2245.4176 | Q11: 2338.1715 | R11: 2428.6132 | S11: 2517.1986 | T11: 2534.6207 | U11: 2551.9793 | V11: 2569.3015 | W11: 2586.5814 | X11: 2603.7985
A12: 0.96 | B12: 25755.994 | D12: 0.96 | E12: 373.11325 | G12: 0.96 | H12: 2514.8877 | K12: 20 | L12: 1880.1485 | M12: 1983.8785 | N12: 2085.0369 | O12: 2183.7142 | P12: 2280.0567 | Q12: 2374.2414 | R12: 2466.0784 | S12: 2556.0303 | T12: 2573.7212 | U12: 2591.3476 | V12: 2608.937 | W12: 2626.4835 | X12: 2643.9662
A13: 0.97 | B13: 26331.335 | D13: 0.97 | E13: 384.29817 | G13: 0.97 | H13: 2583.8347 | K13: 22 | L13: 1906.3668 | M13: 2011.5433 | N13: 2114.1123 | O13: 2214.1657 | P13: 2311.8517 | Q13: 2407.3498 | R13: 2500.4674 | S13: 2591.6737 | T13: 2609.6113 | U13: 2627.4834 | V13: 2645.3182 | W13: 2663.1094 | X13: 2680.8358
A14: 0.98 | B14: 25314.886 | D14: 0.98 | E14: 371.9766 | G14: 0.98 | H14: 2494.4732 | K14: 24 | L14: 1930.6214 | M14: 2037.1361 | N14: 2141.01 | O14: 2242.3364 | P14: 2341.2652 | Q14: 2437.9784 | R14: 2532.2807 | S14: 2624.6474 | T14: 2642.8132 | U14: 2660.9128 | V14: 2678.9744 | W14: 2696.9919 | X14: 2714.9439
A15: 0.99 | B15: 21023.034 | D15: 0.99 | E15: 310.91504 | G15: 0.99 | H15: 2078.3756 | K15: 26 | L15: 1953.2059 | M15: 2060.9665 | N15: 2166.0556 | O15: 2268.5673 | P15: 2368.6534 | Q15: 2466.4979 | R15: 2561.9034 | S15: 2655.3506 | T15: 2673.729 | U15: 2692.0402 | V15: 2710.3131 | W15: 2728.5414 | X15: 2746.7034
A16: 1 | B16: 0 | D16: 1 | E16: 0 | G16: 1 | H16: 0 | K16: 28 | L16: 1974.3513 | M16: 2083.2786 | N16: 2189.5054 | O16: 2293.1268 | P16: 2394.2965 | Q16: 2493.2002 | R16: 2589.6385 | S16: 2684.0975 | T16: 2702.6748 | U16: 2721.1842 | V16: 2739.655 | W16: 2758.0806 | X16: 2776.4393
K17: 30 | L17: 1994.2429 | M17: 2104.2676 | N17: 2211.5647 | O17: 2316.2301 | P17: 2418.419 | Q17: 2518.3193 | R17: 2615.7292 | S17: 2711.1398 | T17: 2729.9043 | U17: 2748.6002 | V17: 2767.2571 | W17: 2785.8684 | X17: 2804.4119
A18: Propane | D18: Ethane | G18: Hydrogen | K18: 32 | L18: 2013.0317 | M18: 2124.093 | N18: 2232.4009 | O18: 2338.0525 | P18: 2441.2042 | Q18: 2542.0456 | R18: 2640.3733 | S18: 2736.6828 | T18: 2755.6241 | U18: 2774.4961 | V18: 2793.3288 | W18: 2812.1154 | X18: 2830.8337
A19: ɸ | B19: NOx PPM | D19: ɸ | E19: NOx PPM | G19: ɸ | H19: NOx PPM | K19: 34 | L19: 2030.8422 | M19: 2142.8862 | N19: 2252.1524 | O19: 2358.7387 | P19: 2462.803 | Q19: 2564.5367 | R19: 2663.7343 | S19: 2760.8959 | T19: 2780.0048 | U19: 2799.0438 | V19: 2818.0431 | W19: 2836.9959 | X19: 2855.8798
A20: 0.6 | B20: 11.248181 | D20: 0.6 | E20: 10.098488 | G20: 0.6 | H20: 124.54653 | K20: 36 | L20: 2047.7787 | M20: 2160.7571 | N20: 2270.9345 | O20: 2378.4097 | P20: 2483.3419 | Q20: 2585.924 | R20: 2685.9489 | S20: 2783.9208 | T20: 2803.189 | U20: 2822.3869 | V20: 2841.5446 | W20: 2860.6555 | X20: 2879.6969
A21: 0.65 | B21: 59.087226 | D21: 0.65 | E21: 52.89958 | G21: 0.65 | H21: 516.85581 | K21: 38 | L21: 2063.9293 | M21: 2177.7987 | N21: 2288.8451 | O21: 2397.1679 | P21: 2502.9277 | Q21: 2606.3188 | R21: 2707.1326 | S21: 2805.8772 | T21: 2825.2974 | U21: 2844.6466 | V21: 2863.9555 | W21: 2883.2171 | X21: 2902.4086
A22: 0.7 | B22: 249.563 | D22: 0.7 | E22: 222.86285 | G22: 0.7 | H22: 1758.4449 | K22: 40 | L22: 2079.3689 | M22: 2194.0902 | N22: 2305.9673 | O22: 2415.1004 | P22: 2521.6514 | Q22: 2625.816 | R22: 2727.3839 | S22: 2826.8672 | T22: 2846.4326 | U22: 2865.9266 | V22: 2885.3799 | W22: 2904.7856 | X22: 2924.1207
A23: 0.75 | B23: 874.7858 | D23: 0.75 | E23: 779.38424 | G23: 0.75 | H23: 5070.235
A24: 0.8 | B24: 2602.4671 | D24: 0.8 | E24: 2312.2695 | G24: 0.8 | H24: 12565.134
A25: 0.85 | B25: 6641.2444 | D25: 0.85 | E25: 5887.0572 | G25: 0.85 | H25: 27142.537
A26: 0.9 | B26: 14369.71 | D26: 0.9 | E26: 12704.955 | G26: 0.9 | H26: 50336.639
A27: 0.95 | B27: 24655.832 | D27: 0.95 | E27: 21764.82 | G27: 0.95 | H27: 74802.774
A28: 0.96 | B28: 26064.562 | D28: 0.96 | E28: 22996.175 | G28: 0.96 | H28: 76959.103
A29: 0.97 | B29: 26602.235 | D29: 0.97 | E29: 23458.255 | G29: 0.97 | H29: 76470.238
A30: 0.98 | B30: 25534.421 | D30: 0.98 | E30: 22498.503 | G30: 0.98 | H30: 71463.491
A31: 0.99 | B31: 21169.931 | D31: 0.99 | E31: 18643.01 | G31: 0.99 | H31: 57690.972
A32: 1 | B32: 0 | D32: 1 | E32: 0 | G32: 1 | H32: 0

Sheet NOx PPM Iso-Octane Graph

Sheet NOx Alternative Fuels Graph
B2: Methanol | L2: Ethanol
B25: Propane | L25: Ethane
H46: Hyrdrogen

Sheet EGR
A1: NO𝑥 Model with EGR
A2: Please Select a Fuel, ɸ & EGR% from the dropdown boxes | B2: Fuel | C2: ɸ | D2: EGR % | E2: x | F2: CO₂ IF | G2: CO₂ (n1) without EGR | H2: CO₂ (n1) with EGR | I2: H₂O IF | J2: H₂O (n2) without EGR | K2: H₂O (n2) with EGR | L2: O₂ (n3) Without EGR | M2: O₂ (n3) with EGR | N2: N₂ (n4) without EGR | O2: N₂ (n4) with EGR | P2: IF Reaction Enthalpy ℎ (MJ/Mol) | Q2: Reaction Enthalpy ℎ (MJ/Mol) | S2: Fuel Enthalpy (MJ) | T2: IF NET Enthalpy (MJ) | U2: NET Enthalpy (MJ) | V2: Moles Number | W2: Alpha | X2: Oxygen Concentration | Y2: Nitrogen Concentration | Z2: Total Exhaust kmols
B3: Iso-Octane | C3: 0.97 | D3: 20 | E3: =IF(B3="Iso-Octane",'NOx Model (1)'!H3,IF(B3="Methanol",'NOx Model (1)'!H4,IF(B3="Ethanol",'NOx Model (1)'!H5,IF(B3="Propane",'NOx Model (1)'!H6,IF(B3="Ethane",'NOx Model (1)'!H7,IF(B3="Hydrogen",'NOx Model (1)'!H8,IF(B3="Acetylene",'NOx Model (1)'!H9))))))) -> 12.5 | F3: =IF(B3="Iso-Octane",'NOx Model (1)'!F3,IF(B3="Methanol",'NOx Model (1)'!F4,IF(B3="Ethanol",'NOx Model (1)'!F5,IF(B3="Propane",'NOx Model (1)'!F6,IF(B3="Ethane",'NOx Model (1)'!F7,IF(B3="Hydrogen",'NOx Model (1)'!F8,IF(B3="Acetylene",'NOx Model (1)'!F9))))))) -> 8 | G3: =F3*C3 -> 7.76 | H3: =G3*A5 -> 9.312 | I3: =IF(B3="Iso-Octane",'NOx Model (1)'!G3,IF(B3="Methanol",'NOx Model (1)'!G4,IF(B3="Ethanol",'NOx Model (1)'!G5,IF(B3="Propane",'NOx Model (1)'!G6,IF(B3="Ethane",'NOx Model (1)'!G7,IF(B3="Hydrogen",'NOx Model (1)'!G8,IF(B3="Acetylene",'NOx Model (1)'!G9))))))) -> 9 | J3: =I3*C3 -> 8.73 | K3: =J3*A5 -> 10.476 | L3: =E3*(1-C3) -> 0.375 | M3: =L3*A5 -> 0.45 | N3: =IF(B3="Iso-Octane",'NOx Model (1)'!I3,IF(B3="Methanol",'NOx Model (1)'!I4,IF(B3="Ethanol",'NOx Model (1)'!I5,IF(B3="Propane",'NOx Model (1)'!I6,IF(B3="Ethane",'NOx Model (1)'!I7,IF(B3="Hydrogen",'NOx Model (1)'!I8,IF(B3="Acetylene",'NOx Model (1)'!I9))))))) -> 47 | O3: =N3*A5 -> 56.4 | P3: =IF(B3="Iso-Octane",'NOx Model (1)'!J3,IF(B3="Methanol",'NOx Model (1)'!J4,IF(B3="Ethanol",'NOx Model (1)'!J5,IF(B3="Propane",'NOx Model (1)'!J6,IF(B3="Ethane",'NOx Model (1)'!J7,IF(B3="Hydrogen",'NOx Model (1)'!J8,IF(B3="Acetylene",'NOx Model (1)'!J9))))))) -> 5324.2 | Q3: =P3*C3 -> 5164.474 | R3: =IF(B3="Iso-Octane",'NOx Model (1)'!K3,IF(B3="Methanol",'NOx Model (1)'!K4,IF(B3="Ethanol",'NOx Model (1)'!K5,IF(B3="Propane",'NOx Model (1)'!K6,IF(B3="Ethane",'NOx Model (1)'!K7,IF(B3="Hydrogen",'NOx Model (1)'!K8,IF(B3="Acetylene",'NOx Model (1)'!K9))))))) -> 259.2 | S3: =R3*C3 -> 251.424 | T3: =IF(B3="Iso-Octane",'NOx Model (1)'!L3,IF(B3="Methanol",'NOx Model (1)'!L4,IF(B3="Ethanol",'NOx Model (1)'!L5,IF(B3="Propane",'NOx Model (1)'!L6,IF(B3="Ethane",'NOx Model (1)'!L7,IF(B3="Hydrogen",'NOx Model (1)'!L8,IF(B3="Acetylene",'NOx Model (1)'!L9))))))) -> 5065 | U3: =T3*C3 -> 4913.05 | V3: =((AG6*10^5)*((AG7*10^-6)*(0.4))/(AG8*AG9)) -> 6.5681391e-06 | W3: =(V3)/(C3+(E3*(1+AA11))) -> 1.0861814e-07 | X3: =(L3*W3)/(Y9*10^-6) -> 0.0010182951 | Y3: =(N3*W3)/(Y9*10^-6) -> 0.12762632 | Z3: =W3*(G3+J3+L3+N3) -> 6.9368977e-06
A5: =IF(D3=0,1,IF(D3=5,1.05,IF(D3=10,1.1,IF(D3=15,1.15,IF(D3=20,1.2,IF(D3=25,1.25,IF(D3=30,1.3,IF(D3=35,1.35,IF(D3=40,1.4,IF(D3=45,1.45,IF(D3=50,1.5))))))))))) -> 1.2 | B5: Enthalpys | Y5: Assumptions/Constants | AC5: Molecular Weight | AF5: For Ideal Gas Law
B6: CO2 | D6: H2O | G6: Oxygen | J6: Nitrogen | L6: Total Enthalpy | N6: Temperature | R6: NET Enthalpy | S6: Temperature (K) | Y6: Volumetric Efficiency | AA6: Atmosphere | AC6: Air | AD6: =(2*AD9)+(2*'NOx Model (1)'!Y6*AD10) -> 32.019005 | AE6: kg/kmol | AF6: P | AG6: 1
B7: Enthalpy | C7: NET Enthalpy | D7: Enthalpy | E7: NET Enthalpy | G7: Enthalpy | H7: NET Enthalpy | J7: Enthalpy | K7: NET Enthalpy | L7: Enthalpy | M7: NET Enthalpy | N7: K | Q7: Above | R7: {=MIN(IF(EGR!$M$8:$M$75>EGR!$U$3,EGR!M8:M75))} -> 4963.7304 | S7: =VLOOKUP($R$7,EGR!$M$8:$N$75,2,FALSE) -> 2050 | Y7: 0.4 | AA7: O2 | AB7: 0.21 | AC7: Carbon | AD7: 12 | AE7: kg/kmol | AF7: V | AG7: =1600/4 -> 400
B8: =IF(EGR!$D$3=0,('NOx Model (1)'!A14*1),IF(EGR!$D$3=5,('NOx Model (1)'!A14*1.05),IF(EGR!$D$3=10,('NOx Model (1)'!A14*1.1),IF(EGR!$D$3=15,('NOx Model (1)'!A14*1.15),IF(EGR!$D$3=20,('NOx Model (1)'!A14*1.2),IF(EGR!$D$3=25,('NOx Model (1)'!A14*1.25),IF(EGR!$D$3=30,('NOx Model (1)'!A14*1.3),IF(EGR!$D$3=35,('NOx Model (1)'!A14*1.35),IF(EGR!$D$3=40,('NOx Model (1)'!A14*1.4),IF(EGR!$D$3=45,('NOx Model (1)'!A14*1.45),IF(EGR!$D$3=50,('NOx Model (1)'!A14*1.5)))))))))))) -> 1.1228042 | C8: =IF(EGR!$D$3=0,(EGR!W78*1),IF(EGR!$D$3=5,(EGR!W78*1.05),IF(EGR!$D$3=10,(EGR!W78*1.1),IF(EGR!$D$3=15,(EGR!W78*1.15),IF(EGR!$D$3=20,(EGR!W78*1.2),IF(EGR!$D$3=25,(EGR!W78*1.25),IF(EGR!$D$3=30,(EGR!W78*1.3),IF(EGR!$D$3=35,(EGR!W78*1.35),IF(EGR!$D$3=40,(EGR!W78*1.4),IF(EGR!$D$3=45,(EGR!W78*1.45),IF(EGR!$D$3=50,(EGR!W78*1.5)))))))))))) -> 31.84704 | D8: =IF(EGR!$D$3=0,('NOx Model (1)'!C14*1),IF(EGR!$D$3=5,('NOx Model (1)'!C14*1.05),IF(EGR!$D$3=10,('NOx Model (1)'!C14*1.1),IF(EGR!$D$3=15,('NOx Model (1)'!C14*1.15),IF(EGR!$D$3=20,('NOx Model (1)'!C14*1.2),IF(EGR!$D$3=25,('NOx Model (1)'!C14*1.25),IF(EGR!$D$3=30,('NOx Model (1)'!C14*1.3),IF(EGR!$D$3=35,('NOx Model (1)'!C14*1.35),IF(EGR!$D$3=40,('NOx Model (1)'!C14*1.4),IF(EGR!$D$3=45,('NOx Model (1)'!C14*1.45),IF(EGR!$D$3=50,('NOx Model (1)'!C14*1.5)))))))))))) -> 1.0168647 | E8: =IF(EGR!$D$3=0,(EGR!Y78*1),IF(EGR!$D$3=5,(EGR!Y78*1.05),IF(EGR!$D$3=10,(EGR!Y78*1.1),IF(EGR!$D$3=15,(EGR!Y78*1.15),IF(EGR!$D$3=20,(EGR!Y78*1.2),IF(EGR!$D$3=25,(EGR!Y78*1.25),IF(EGR!$D$3=30,(EGR!Y78*1.3),IF(EGR!$D$3=35,(EGR!Y78*1.35),IF(EGR!$D$3=40,(EGR!Y78*1.4),IF(EGR!$D$3=45,(EGR!Y78*1.45),IF(EGR!$D$3=50,(EGR!Y78*1.5)))))))))))) -> 33.83748 | G8: =IF(EGR!$D$3=0,('NOx Model (1)'!E14*1),IF(EGR!$D$3=5,('NOx Model (1)'!E14*1.05),IF(EGR!$D$3=10,('NOx Model (1)'!E14*1.1),IF(EGR!$D$3=15,('NOx Model (1)'!E14*1.15),IF(EGR!$D$3=20,('NOx Model (1)'!E14*1.2),IF(EGR!$D$3=25,('NOx Model (1)'!E14*1.25),IF(EGR!$D$3=30,('NOx Model (1)'!E14*1.3),IF(EGR!$D$3=35,('NOx Model (1)'!E14*1.35),IF(EGR!$D$3=40,('NOx Model (1)'!E14*1.4),IF(EGR!$D$3=45,('NOx Model (1)'!E14*1.45),IF(EGR!$D$3=50,('NOx Model (1)'!E14*1.5)))))))))))) -> 0.96402782 | H8: =IF(EGR!$D$3=0,(EGR!AA78*1),IF(EGR!$D$3=5,(EGR!AA78*1.05),IF(EGR!$D$3=10,(EGR!AA78*1.1),IF(EGR!$D$3=15,(EGR!AA78*1.15),IF(EGR!$D$3=20,(EGR!AA78*1.2),IF(EGR!$D$3=25,(EGR!AA78*1.25),IF(EGR!$D$3=30,(EGR!AA78*1.3),IF(EGR!$D$3=35,(EGR!AA78*1.35),IF(EGR!$D$3=40,(EGR!AA78*1.4),IF(EGR!$D$3=45,(EGR!AA78*1.45),IF(EGR!$D$3=50,(EGR!AA78*1.5)))))))))))) -> 1.278 | J8: =IF(EGR!$D$3=0,('NOx Model (1)'!G14*1),IF(EGR!$D$3=5,('NOx Model (1)'!G14*1.05),IF(EGR!$D$3=10,('NOx Model (1)'!G14*1.1),IF(EGR!$D$3=15,('NOx Model (1)'!G14*1.15),IF(EGR!$D$3=20,('NOx Model (1)'!G14*1.2),IF(EGR!$D$3=25,('NOx Model (1)'!G14*1.25),IF(EGR!$D$3=30,('NOx Model (1)'!G14*1.3),IF(EGR!$D$3=35,('NOx Model (1)'!G14*1.35),IF(EGR!$D$3=40,('NOx Model (1)'!G14*1.4),IF(EGR!$D$3=45,('NOx Model (1)'!G14*1.45),IF(EGR!$D$3=50,('NOx Model (1)'!G14*1.5)))))))))))) -> 0.93987117 | K8: =IF(EGR!$D$3=0,(EGR!AC78*1),IF(EGR!$D$3=5,(EGR!AC78*1.05),IF(EGR!$D$3=10,(EGR!AC78*1.1),IF(EGR!$D$3=15,(EGR!AC78*1.15),IF(EGR!$D$3=20,(EGR!AC78*1.2),IF(EGR!$D$3=25,(EGR!AC78*1.25),IF(EGR!$D$3=30,(EGR!AC78*1.3),IF(EGR!$D$3=35,(EGR!AC78*1.35),IF(EGR!$D$3=40,(EGR!AC78*1.4),IF(EGR!$D$3=45,(EGR!AC78*1.45),IF(EGR!$D$3=50,(EGR!AC78*1.5)))))))))))) -> 160.176 | L8: =B8+D8+G8+J8 -> 4.0435679 | M8: =C8+E8+H8+K8 -> 227.13852 | N8: 200 | Q8: Below | R8: {=MAX(IF(EGR!$M$8:$M$75<EGR!$U$3,EGR!$M$8:$M$75))} -> 4806.3143 | S8: =VLOOKUP($R$8,EGR!$M$8:$N$75,2,FALSE) -> 2000 | Y8: Clearance volume | AA8: N2 | AB8: 0.79 | AC8: Hydrogen | AD8: 1 | AE8: kg/kmol | AF8: R | AG8: 8314
B9: =IF(EGR!$D$3=0,('NOx Model (1)'!A15*1),IF(EGR!$D$3=5,('NOx Model (1)'!A15*1.05),IF(EGR!$D$3=10,('NOx Model (1)'!A15*1.1),IF(EGR!$D$3=15,('NOx Model (1)'!A15*1.15),IF(EGR!$D$3=20,('NOx Model (1)'!A15*1.2),IF(EGR!$D$3=25,('NOx Model (1)'!A15*1.25),IF(EGR!$D$3=30,('NOx Model (1)'!A15*1.3),IF(EGR!$D$3=35,('NOx Model (1)'!A15*1.35),IF(EGR!$D$3=40,('NOx Model (1)'!A15*1.4),IF(EGR!$D$3=45,('NOx Model (1)'!A15*1.45),IF(EGR!$D$3=50,('NOx Model (1)'!A15*1.5)))))))))))) -> 1.4857168 | C9: =IF(EGR!$D$3=0,(EGR!W79*1),IF(EGR!$D$3=5,(EGR!W79*1.05),IF(EGR!$D$3=10,(EGR!W79*1.1),IF(EGR!$D$3=15,(EGR!W79*1.15),IF(EGR!$D$3=20,(EGR!W79*1.2),IF(EGR!$D$3=25,(EGR!W79*1.25),IF(EGR!$D$3=30,(EGR!W79*1.3),IF(EGR!$D$3=35,(EGR!W79*1.35),IF(EGR!$D$3=40,(EGR!W79*1.4),IF(EGR!$D$3=45,(EGR!W79*1.45),IF(EGR!$D$3=50,(EGR!W79*1.5)))))))))))) -> 16.20288 | D9: =IF(EGR!$D$3=0,('NOx Model (1)'!C15*1),IF(EGR!$D$3=5,('NOx Model (1)'!C15*1.05),IF(EGR!$D$3=10,('NOx Model (1)'!C15*1.1),IF(EGR!$D$3=15,('NOx Model (1)'!C15*1.15),IF(EGR!$D$3=20,('NOx Model (1)'!C15*1.2),IF(EGR!$D$3=25,('NOx Model (1)'!C15*1.25),IF(EGR!$D$3=30,('NOx Model (1)'!C15*1.3),IF(EGR!$D$3=35,('NOx Model (1)'!C15*1.35),IF(EGR!$D$3=40,('NOx Model (1)'!C15*1.4),IF(EGR!$D$3=45,('NOx Model (1)'!C15*1.45),IF(EGR!$D$3=50,('NOx Model (1)'!C15*1.5)))))))))))) -> 12.81173 | E9: =IF(EGR!$D$3=0,(EGR!Y79*1),IF(EGR!$D$3=5,(EGR!Y79*1.05),IF(EGR!$D$3=10,(EGR!Y79*1.1),IF(EGR!$D$3=15,(EGR!Y79*1.15),IF(EGR!$D$3=20,(EGR!Y79*1.2),IF(EGR!$D$3=25,(EGR!Y79*1.25),IF(EGR!$D$3=30,(EGR!Y79*1.3),IF(EGR!$D$3=35,(EGR!Y79*1.35),IF(EGR!$D$3=40,(EGR!Y79*1.4),IF(EGR!$D$3=45,(EGR!Y79*1.45),IF(EGR!$D$3=50,(EGR!Y79*1.5)))))))))))) -> 16.7616 | G9: =IF(EGR!$D$3=0,('NOx Model (1)'!E15*1),IF(EGR!$D$3=5,('NOx Model (1)'!E15*1.05),IF(EGR!$D$3=10,('NOx Model (1)'!E15*1.1),IF(EGR!$D$3=15,('NOx Model (1)'!E15*1.15),IF(EGR!$D$3=20,('NOx Model (1)'!E15*1.2),IF(EGR!$D$3=25,('NOx Model (1)'!E15*1.25),IF(EGR!$D$3=30,('NOx Model (1)'!E15*1.3),IF(EGR!$D$3=35,('NOx Model (1)'!E15*1.35),IF(EGR!$D$3=40,('NOx Model (1)'!E15*1.4),IF(EGR!$D$3=45,('NOx Model (1)'!E15*1.45),IF(EGR!$D$3=50,('NOx Model (1)'!E15*1.5)))))))))))) -> 1.264365 | H9: =IF(EGR!$D$3=0,(EGR!AA79*1),IF(EGR!$D$3=5,(EGR!AA79*1.05),IF(EGR!$D$3=10,(EGR!AA79*1.1),IF(EGR!$D$3=15,(EGR!AA79*1.15),IF(EGR!$D$3=20,(EGR!AA79*1.2),IF(EGR!$D$3=25,(EGR!AA79*1.25),IF(EGR!$D$3=30,(EGR!AA79*1.3),IF(EGR!$D$3=35,(EGR!AA79*1.35),IF(EGR!$D$3=40,(EGR!AA79*1.4),IF(EGR!$D$3=45,(EGR!AA79*1.45),IF(EGR!$D$3=50,(EGR!AA79*1.5)))))))))))) -> 0.63 | J9: =IF(EGR!$D$3=0,('NOx Model (1)'!G15*1),IF(EGR!$D$3=5,('NOx Model (1)'!G15*1.05),IF(EGR!$D$3=10,('NOx Model (1)'!G15*1.1),IF(EGR!$D$3=15,('NOx Model (1)'!G15*1.15),IF(EGR!$D$3=20,('NOx Model (1)'!G15*1.2),IF(EGR!$D$3=25,('NOx Model (1)'!G15*1.25),IF(EGR!$D$3=30,('NOx Model (1)'!G15*1.3),IF(EGR!$D$3=35,('NOx Model (1)'!G15*1.35),IF(EGR!$D$3=40,('NOx Model (1)'!G15*1.4),IF(EGR!$D$3=45,('NOx Model (1)'!G15*1.45),IF(EGR!$D$3=50,('NOx Model (1)'!G15*1.5)))))))))))) -> 1.2848059 | K9: =IF(EGR!$D$3=0,(EGR!AC79*1),IF(EGR!$D$3=5,(EGR!AC79*1.05),IF(EGR!$D$3=10,(EGR!AC79*1.1),IF(EGR!$D$3=15,(EGR!AC79*1.15),IF(EGR!$D$3=20,(EGR!AC79*1.2),IF(EGR!$D$3=25,(EGR!AC79*1.25),IF(EGR!$D$3=30,(EGR!AC79*1.3),IF(EGR!$D$3=35,(EGR!AC79*1.35),IF(EGR!$D$3=40,(EGR!AC79*1.4),IF(EGR!$D$3=45,(EGR!AC79*1.45),IF(EGR!$D$3=50,(EGR!AC79*1.5)))))))))))) -> 78.96 | L9: =B9+D9+G9+J9 -> 16.846618 | M9: =C9+E9+H9+K9 -> 112.55448 | N9: 250 | R9: Initial Flame Temperature (K) | Y9: 40 | AA9: Atmospheric Composition Ratio | AC9: Oxygen | AD9: 16 | AE9: kg/kmol | AF9: T | AG9: =20+273 -> 293
B10: =IF(EGR!$D$3=0,('NOx Model (1)'!A16*1),IF(EGR!$D$3=5,('NOx Model (1)'!A16*1.05),IF(EGR!$D$3=10,('NOx Model (1)'!A16*1.1),IF(EGR!$D$3=15,('NOx Model (1)'!A16*1.15),IF(EGR!$D$3=20,('NOx Model (1)'!A16*1.2),IF(EGR!$D$3=25,('NOx Model (1)'!A16*1.25),IF(EGR!$D$3=30,('NOx Model (1)'!A16*1.3),IF(EGR!$D$3=35,('NOx Model (1)'!A16*1.35),IF(EGR!$D$3=40,('NOx Model (1)'!A16*1.4),IF(EGR!$D$3=45,('NOx Model (1)'!A16*1.45),IF(EGR!$D$3=50,('NOx Model (1)'!A16*1.5)))))))))))) -> 2.3080079 | C10: =IF(EGR!$D$3=0,(EGR!W80*1),IF(EGR!$D$3=5,(EGR!W80*1.05),IF(EGR!$D$3=10,(EGR!W80*1.1),IF(EGR!$D$3=15,(EGR!W80*1.15),IF(EGR!$D$3=20,(EGR!W80*1.2),IF(EGR!$D$3=25,(EGR!W80*1.25),IF(EGR!$D$3=30,(EGR!W80*1.3),IF(EGR!$D$3=35,(EGR!W80*1.35),IF(EGR!$D$3=40,(EGR!W80*1.4),IF(EGR!$D$3=45,(EGR!W80*1.45),IF(EGR!$D$3=50,(EGR!W80*1.5)))))))))))) -> 0 | D10: =IF(EGR!$D$3=0,('NOx Model (1)'!C16*1),IF(EGR!$D$3=5,('NOx Model (1)'!C16*1.05),IF(EGR!$D$3=10,('NOx Model (1)'!C16*1.1),IF(EGR!$D$3=15,('NOx Model (1)'!C16*1.15),IF(EGR!$D$3=20,('NOx Model (1)'!C16*1.2),IF(EGR!$D$3=25,('NOx Model (1)'!C16*1.25),IF(EGR!$D$3=30,('NOx Model (1)'!C16*1.3),IF(EGR!$D$3=35,('NOx Model (1)'!C16*1.35),IF(EGR!$D$3=40,('NOx Model (1)'!C16*1.4),IF(EGR!$D$3=45,('NOx Model (1)'!C16*1.45),IF(EGR!$D$3=50,('NOx Model (1)'!C16*1.5)))))))))))) -> 19.368494 | E10: =IF(EGR!$D$3=0,(EGR!Y80*1),IF(EGR!$D$3=5,(EGR!Y80*1.05),IF(EGR!$D$3=10,(EGR!Y80*1.1),IF(EGR!$D$3=15,(EGR!Y80*1.15),IF(EGR!$D$3=20,(EGR!Y80*1.2),IF(EGR!$D$3=25,(EGR!Y80*1.25),IF(EGR!$D$3=30,(EGR!Y80*1.3),IF(EGR!$D$3=35,(EGR!Y80*1.35),IF(EGR!$D$3=40,(EGR!Y80*1.4),IF(EGR!$D$3=45,(EGR!Y80*1.45),IF(EGR!$D$3=50,(EGR!Y80*1.5)))))))))))) -> 0 | G10: =IF(EGR!$D$3=0,('NOx Model (1)'!E16*1),IF(EGR!$D$3=5,('NOx Model (1)'!E16*1.05),IF(EGR!$D$3=10,('NOx Model (1)'!E16*1.1),IF(EGR!$D$3=15,('NOx Model (1)'!E16*1.15),IF(EGR!$D$3=20,('NOx Model (1)'!E16*1.2),IF(EGR!$D$3=25,('NOx Model (1)'!E16*1.25),IF(EGR!$D$3=30,('NOx Model (1)'!E16*1.3),IF(EGR!$D$3=35,('NOx Model (1)'!E16*1.35),IF(EGR!$D$3=40,('NOx Model (1)'!E16*1.4),IF(EGR!$D$3=45,('NOx Model (1)'!E16*1.45),IF(EGR!$D$3=50,('NOx Model (1)'!E16*1.5)))))))))))) -> 1.872881 | H10: =IF(EGR!$D$3=0,(EGR!AA80*1),IF(EGR!$D$3=5,(EGR!AA80*1.05),IF(EGR!$D$3=10,(EGR!AA80*1.1),IF(EGR!$D$3=15,(EGR!AA80*1.15),IF(EGR!$D$3=20,(EGR!AA80*1.2),IF(EGR!$D$3=25,(EGR!AA80*1.25),IF(EGR!$D$3=30,(EGR!AA80*1.3),IF(EGR!$D$3=35,(EGR!AA80*1.35),IF(EGR!$D$3=40,(EGR!AA80*1.4),IF(EGR!$D$3=45,(EGR!AA80*1.45),IF(EGR!$D$3=50,(EGR!AA80*1.5)))))))))))) -> 0 | J10: =IF(EGR!$D$3=0,('NOx Model (1)'!G16*1),IF(EGR!$D$3=5,('NOx Model (1)'!G16*1.05),IF(EGR!$D$3=10,('NOx Model (1)'!G16*1.1),IF(EGR!$D$3=15,('NOx Model (1)'!G16*1.15),IF(EGR!$D$3=20,('NOx Model (1)'!G16*1.2),IF(EGR!$D$3=25,('NOx Model (1)'!G16*1.25),IF(EGR!$D$3=30,('NOx Model (1)'!G16*1.3),IF(EGR!$D$3=35,('NOx Model (1)'!G16*1.35),IF(EGR!$D$3=40,('NOx Model (1)'!G16*1.4),IF(EGR!$D$3=45,('NOx Model (1)'!G16*1.45),IF(EGR!$D$3=50,('NOx Model (1)'!G16*1.5)))))))))))) -> 1.9113824 | K10: =IF(EGR!$D$3=0,(EGR!AC80*1),IF(EGR!$D$3=5,(EGR!AC80*1.05),IF(EGR!$D$3=10,(EGR!AC80*1.1),IF(EGR!$D$3=15,(EGR!AC80*1.15),IF(EGR!$D$3=20,(EGR!AC80*1.2),IF(EGR!$D$3=25,(EGR!AC80*1.25),IF(EGR!$D$3=30,(EGR!AC80*1.3),IF(EGR!$D$3=35,(EGR!AC80*1.35),IF(EGR!$D$3=40,(EGR!AC80*1.4),IF(EGR!$D$3=45,(EGR!AC80*1.45),IF(EGR!$D$3=50,(EGR!AC80*1.5)))))))))))) -> 0 | L10: =B10+D10+G10+J10 -> 25.460765 | M10: =C10+E10+H10+K10 -> 0 | N10: 298 | Y10: RPM | AC10: Nitrogen | AD10: 14 | AE10: kg/kmol
B11: =IF(EGR!$D$3=0,('NOx Model (1)'!A17*1),IF(EGR!$D$3=5,('NOx Model (1)'!A17*1.05),IF(EGR!$D$3=10,('NOx Model (1)'!A17*1.1),IF(EGR!$D$3=15,('NOx Model (1)'!A17*1.15),IF(EGR!$D$3=20,('NOx Model (1)'!A17*1.2),IF(EGR!$D$3=25,('NOx Model (1)'!A17*1.25),IF(EGR!$D$3=30,('NOx Model (1)'!A17*1.3),IF(EGR!$D$3=35,('NOx Model (1)'!A17*1.35),IF(EGR!$D$3=40,('NOx Model (1)'!A17*1.4),IF(EGR!$D$3=45,('NOx Model (1)'!A17*1.45),IF(EGR!$D$3=50,('NOx Model (1)'!A17*1.5)))))))))))) -> 2.3514801 | C11: =IF(EGR!$D$3=0,(EGR!W81*1),IF(EGR!$D$3=5,(EGR!W81*1.05),IF(EGR!$D$3=10,(EGR!W81*1.1),IF(EGR!$D$3=15,(EGR!W81*1.15),IF(EGR!$D$3=20,(EGR!W81*1.2),IF(EGR!$D$3=25,(EGR!W81*1.25),IF(EGR!$D$3=30,(EGR!W81*1.3),IF(EGR!$D$3=35,(EGR!W81*1.35),IF(EGR!$D$3=40,(EGR!W81*1.4),IF(EGR!$D$3=45,(EGR!W81*1.45),IF(EGR!$D$3=50,(EGR!W81*1.5)))))))))))) -> 0.65184 | D11: =IF(EGR!$D$3=0,('NOx Model (1)'!C17*1),IF(EGR!$D$3=5,('NOx Model (1)'!C17*1.05),IF(EGR!$D$3=10,('NOx Model (1)'!C17*1.1),IF(EGR!$D$3=15,('NOx Model (1)'!C17*1.15),IF(EGR!$D$3=20,('NOx Model (1)'!C17*1.2),IF(EGR!$D$3=25,('NOx Model (1)'!C17*1.25),IF(EGR!$D$3=30,('NOx Model (1)'!C17*1.3),IF(EGR!$D$3=35,('NOx Model (1)'!C17*1.35),IF(EGR!$D$3=40,('NOx Model (1)'!C17*1.4),IF(EGR!$D$3=45,('NOx Model (1)'!C17*1.45),IF(EGR!$D$3=50,('NOx Model (1)'!C17*1.5)))))))))))) -> 19.698858 | E11: =IF(EGR!$D$3=0,(EGR!Y81*1),IF(EGR!$D$3=5,(EGR!Y81*1.05),IF(EGR!$D$3=10,(EGR!Y81*1.1),IF(EGR!$D$3=15,(EGR!Y81*1.15),IF(EGR!$D$3=20,(EGR!Y81*1.2),IF(EGR!$D$3=25,(EGR!Y81*1.25),IF(EGR!$D$3=30,(EGR!Y81*1.3),IF(EGR!$D$3=35,(EGR!Y81*1.35),IF(EGR!$D$3=40,(EGR!Y81*1.4),IF(EGR!$D$3=45,(EGR!Y81*1.45),IF(EGR!$D$3=50,(EGR!Y81*1.5)))))))))))) -> 0.62856 | G11: =IF(EGR!$D$3=0,('NOx Model (1)'!E17*1),IF(EGR!$D$3=5,('NOx Model (1)'!E17*1.05),IF(EGR!$D$3=10,('NOx Model (1)'!E17*1.1),IF(EGR!$D$3=15,('NOx Model (1)'!E17*1.15),IF(EGR!$D$3=20,('NOx Model (1)'!E17*1.2),IF(EGR!$D$3=25,('NOx Model (1)'!E17*1.25),IF(EGR!$D$3=30,('NOx Model (1)'!E17*1.3),IF(EGR!$D$3=35,('NOx Model (1)'!E17*1.35),IF(EGR!$D$3=40,('NOx Model (1)'!E17*1.4),IF(EGR!$D$3=45,('NOx Model (1)'!E17*1.45),IF(EGR!$D$3=50,('NOx Model (1)'!E17*1.5)))))))))))) -> 1.9043883 | H11: =IF(EGR!$D$3=0,(EGR!AA81*1),IF(EGR!$D$3=5,(EGR!AA81*1.05),IF(EGR!$D$3=10,(EGR!AA81*1.1),IF(EGR!$D$3=15,(EGR!AA81*1.15),IF(EGR!$D$3=20,(EGR!AA81*1.2),IF(EGR!$D$3=25,(EGR!AA81*1.25),IF(EGR!$D$3=30,(EGR!AA81*1.3),IF(EGR!$D$3=35,(EGR!AA81*1.35),IF(EGR!$D$3=40,(EGR!AA81*1.4),IF(EGR!$D$3=45,(EGR!AA81*1.45),IF(EGR!$D$3=50,(EGR!AA81*1.5)))))))))))) -> 0.0225 | J11: =IF(EGR!$D$3=0,('NOx Model (1)'!G17*1),IF(EGR!$D$3=5,('NOx Model (1)'!G17*1.05),IF(EGR!$D$3=10,('NOx Model (1)'!G17*1.1),IF(EGR!$D$3=15,('NOx Model (1)'!G17*1.15),IF(EGR!$D$3=20,('NOx Model (1)'!G17*1.2),IF(EGR!$D$3=25,('NOx Model (1)'!G17*1.25),IF(EGR!$D$3=30,('NOx Model (1)'!G17*1.3),IF(EGR!$D$3=35,('NOx Model (1)'!G17*1.35),IF(EGR!$D$3=40,('NOx Model (1)'!G17*1.4),IF(EGR!$D$3=45,('NOx Model (1)'!G17*1.45),IF(EGR!$D$3=50,('NOx Model (1)'!G17*1.5)))))))))))) -> 1.9433505 | K11: =IF(EGR!$D$3=0,(EGR!AC81*1),IF(EGR!$D$3=5,(EGR!AC81*1.05),IF(EGR!$D$3=10,(EGR!AC81*1.1),IF(EGR!$D$3=15,(EGR!AC81*1.15),IF(EGR!$D$3=20,(EGR!AC81*1.2),IF(EGR!$D$3=25,(EGR!AC81*1.25),IF(EGR!$D$3=30,(EGR!AC81*1.3),IF(EGR!$D$3=35,(EGR!AC81*1.35),IF(EGR!$D$3=40,(EGR!AC81*1.4),IF(EGR!$D$3=45,(EGR!AC81*1.45),IF(EGR!$D$3=50,(EGR!AC81*1.5)))))))))))) -> 2.82 | L11: =B11+D11+G11+J11 -> 25.898077 | M11: =C11+E11+H11+K11 -> 4.1229 | N11: 300 | R11: =((($U$3-$R$8)/($R$7-$R$8))*($S$7-$S$8))+$S$8 -> 2033.9024 | Y11: 1800 | AA11: 3.76
B12: =IF(EGR!$D$3=0,('NOx Model (1)'!A18*1),IF(EGR!$D$3=5,('NOx Model (1)'!A18*1.05),IF(EGR!$D$3=10,('NOx Model (1)'!A18*1.1),IF(EGR!$D$3=15,('NOx Model (1)'!A18*1.15),IF(EGR!$D$3=20,('NOx Model (1)'!A18*1.2),IF(EGR!$D$3=25,('NOx Model (1)'!A18*1.25),IF(EGR!$D$3=30,('NOx Model (1)'!A18*1.3),IF(EGR!$D$3=35,('NOx Model (1)'!A18*1.35),IF(EGR!$D$3=40,('NOx Model (1)'!A18*1.4),IF(EGR!$D$3=45,('NOx Model (1)'!A18*1.45),IF(EGR!$D$3=50,('NOx Model (1)'!A18*1.5)))))))))))) -> 3.6570568 | C12: =IF(EGR!$D$3=0,(EGR!W82*1),IF(EGR!$D$3=5,(EGR!W82*1.05),IF(EGR!$D$3=10,(EGR!W82*1.1),IF(EGR!$D$3=15,(EGR!W82*1.15),IF(EGR!$D$3=20,(EGR!W82*1.2),IF(EGR!$D$3=25,(EGR!W82*1.25),IF(EGR!$D$3=30,(EGR!W82*1.3),IF(EGR!$D$3=35,(EGR!W82*1.35),IF(EGR!$D$3=40,(EGR!W82*1.4),IF(EGR!$D$3=45,(EGR!W82*1.45),IF(EGR!$D$3=50,(EGR!W82*1.5)))))))))))) -> 18.53088 | D12: =IF(EGR!$D$3=0,('NOx Model (1)'!C18*1),IF(EGR!$D$3=5,('NOx Model (1)'!C18*1.05),IF(EGR!$D$3=10,('NOx Model (1)'!C18*1.1),IF(EGR!$D$3=15,('NOx Model (1)'!C18*1.15),IF(EGR!$D$3=20,('NOx Model (1)'!C18*1.2),IF(EGR!$D$3=25,('NOx Model (1)'!C18*1.25),IF(EGR!$D$3=30,('NOx Model (1)'!C18*1.3),IF(EGR!$D$3=35,('NOx Model (1)'!C18*1.35),IF(EGR!$D$3=40,('NOx Model (1)'!C18*1.4),IF(EGR!$D$3=45,('NOx Model (1)'!C18*1.45),IF(EGR!$D$3=50,('NOx Model (1)'!C18*1.5)))))))))))) -> 29.30821 | E12: =IF(EGR!$D$3=0,(EGR!Y82*1),IF(EGR!$D$3=5,(EGR!Y82*1.05),IF(EGR!$D$3=10,(EGR!Y82*1.1),IF(EGR!$D$3=15,(EGR!Y82*1.15),IF(EGR!$D$3=20,(EGR!Y82*1.2),IF(EGR!$D$3=25,(EGR!Y82*1.25),IF(EGR!$D$3=30,(EGR!Y82*1.3),IF(EGR!$D$3=35,(EGR!Y82*1.35),IF(EGR!$D$3=40,(EGR!Y82*1.4),IF(EGR!$D$3=45,(EGR!Y82*1.45),IF(EGR!$D$3=50,(EGR!Y82*1.5)))))))))))) -> 18.333 | G12: =IF(EGR!$D$3=0,('NOx Model (1)'!E18*1),IF(EGR!$D$3=5,('NOx Model (1)'!E18*1.05),IF(EGR!$D$3=10,('NOx Model (1)'!E18*1.1),IF(EGR!$D$3=15,('NOx Model (1)'!E18*1.15),IF(EGR!$D$3=20,('NOx Model (1)'!E18*1.2),IF(EGR!$D$3=25,('NOx Model (1)'!E18*1.25),IF(EGR!$D$3=30,('NOx Model (1)'!E18*1.3),IF(EGR!$D$3=35,('NOx Model (1)'!E18*1.35),IF(EGR!$D$3=40,('NOx Model (1)'!E18*1.4),IF(EGR!$D$3=45,('NOx Model (1)'!E18*1.45),IF(EGR!$D$3=50,('NOx Model (1)'!E18*1.5)))))))))))) -> 2.8362816 | H12: =IF(EGR!$D$3=0,(EGR!AA82*1),IF(EGR!$D$3=5,(EGR!AA82*1.05),IF(EGR!$D$3=10,(EGR!AA82*1.1),IF(EGR!$D$3=15,(EGR!AA82*1.15),IF(EGR!$D$3=20,(EGR!AA82*1.2),IF(EGR!$D$3=25,(EGR!AA82*1.25),IF(EGR!$D$3=30,(EGR!AA82*1.3),IF(EGR!$D$3=35,(EGR!AA82*1.35),IF(EGR!$D$3=40,(EGR!AA82*1.4),IF(EGR!$D$3=45,(EGR!AA82*1.45),IF(EGR!$D$3=50,(EGR!AA82*1.5)))))))))))) -> 0.6885 | J12: =IF(EGR!$D$3=0,('NOx Model (1)'!G18*1),IF(EGR!$D$3=5,('NOx Model (1)'!G18*1.05),IF(EGR!$D$3=10,('NOx Model (1)'!G18*1.1),IF(EGR!$D$3=15,('NOx Model (1)'!G18*1.15),IF(EGR!$D$3=20,('NOx Model (1)'!G18*1.2),IF(EGR!$D$3=25,('NOx Model (1)'!G18*1.25),IF(EGR!$D$3=30,('NOx Model (1)'!G18*1.3),IF(EGR!$D$3=35,('NOx Model (1)'!G18*1.35),IF(EGR!$D$3=40,('NOx Model (1)'!G18*1.4),IF(EGR!$D$3=45,('NOx Model (1)'!G18*1.45),IF(EGR!$D$3=50,('NOx Model (1)'!G18*1.5)))))))))))) -> 2.8855423 | K12: =IF(EGR!$D$3=0,(EGR!AC82*1),IF(EGR!$D$3=5,(EGR!AC82*1.05),IF(EGR!$D$3=10,(EGR!AC82*1.1),IF(EGR!$D$3=15,(EGR!AC82*1.15),IF(EGR!$D$3=20,(EGR!AC82*1.2),IF(EGR!$D$3=25,(EGR!AC82*1.25),IF(EGR!$D$3=30,(EGR!AC82*1.3),IF(EGR!$D$3=35,(EGR!AC82*1.35),IF(EGR!$D$3=40,(EGR!AC82*1.4),IF(EGR!$D$3=45,(EGR!AC82*1.45),IF(EGR!$D$3=50,(EGR!AC82*1.5)))))))))))) -> 85.164 | L12: =B12+D12+G12+J12 -> 38.687091 | M12: =C12+E12+H12+K12 -> 122.71638 | N12: 350
B13: =IF(EGR!$D$3=0,('NOx Model (1)'!A19*1),IF(EGR!$D$3=5,('NOx Model (1)'!A19*1.05),IF(EGR!$D$3=10,('NOx Model (1)'!A19*1.1),IF(EGR!$D$3=15,('NOx Model (1)'!A19*1.15),IF(EGR!$D$3=20,('NOx Model (1)'!A19*1.2),IF(EGR!$D$3=25,('NOx Model (1)'!A19*1.25),IF(EGR!$D$3=30,('NOx Model (1)'!A19*1.3),IF(EGR!$D$3=35,('NOx Model (1)'!A19*1.35),IF(EGR!$D$3=40,('NOx Model (1)'!A19*1.4),IF(EGR!$D$3=45,('NOx Model (1)'!A19*1.45),IF(EGR!$D$3=50,('NOx Model (1)'!A19*1.5)))))))))))) -> 5.3467625 | C13: =IF(EGR!$D$3=0,(EGR!W83*1),IF(EGR!$D$3=5,(EGR!W83*1.05),IF(EGR!$D$3=10,(EGR!W83*1.1),IF(EGR!$D$3=15,(EGR!W83*1.15),IF(EGR!$D$3=20,(EGR!W83*1.2),IF(EGR!$D$3=25,(EGR!W83*1.25),IF(EGR!$D$3=30,(EGR!W83*1.3),IF(EGR!$D$3=35,(EGR!W83*1.35),IF(EGR!$D$3=40,(EGR!W83*1.4),IF(EGR!$D$3=45,(EGR!W83*1.45),IF(EGR!$D$3=50,(EGR!W83*1.5)))))))))))) -> 37.248 | D13: =IF(EGR!$D$3=0,('NOx Model (1)'!C19*1),IF(EGR!$D$3=5,('NOx Model (1)'!C19*1.05),IF(EGR!$D$3=10,('NOx Model (1)'!C19*1.1),IF(EGR!$D$3=15,('NOx Model (1)'!C19*1.15),IF(EGR!$D$3=20,('NOx Model (1)'!C19*1.2),IF(EGR!$D$3=25,('NOx Model (1)'!C19*1.25),IF(EGR!$D$3=30,('NOx Model (1)'!C19*1.3),IF(EGR!$D$3=35,('NOx Model (1)'!C19*1.35),IF(EGR!$D$3=40,('NOx Model (1)'!C19*1.4),IF(EGR!$D$3=45,('NOx Model (1)'!C19*1.45),IF(EGR!$D$3=50,('NOx Model (1)'!C19*1.5)))))))))))) -> 41.267945 | E13: =IF(EGR!$D$3=0,(EGR!Y83*1),IF(EGR!$D$3=5,(EGR!Y83*1.05),IF(EGR!$D$3=10,(EGR!Y83*1.1),IF(EGR!$D$3=15,(EGR!Y83*1.15),IF(EGR!$D$3=20,(EGR!Y83*1.2),IF(EGR!$D$3=25,(EGR!Y83*1.25),IF(EGR!$D$3=30,(EGR!Y83*1.3),IF(EGR!$D$3=35,(EGR!Y83*1.35),IF(EGR!$D$3=40,(EGR!Y83*1.4),IF(EGR!$D$3=45,(EGR!Y83*1.45),IF(EGR!$D$3=50,(EGR!Y83*1.5)))))))))))) -> 36.24696 | G13: =IF(EGR!$D$3=0,('NOx Model (1)'!E19*1),IF(EGR!$D$3=5,('NOx Model (1)'!E19*1.05),IF(EGR!$D$3=10,('NOx Model (1)'!E19*1.1),IF(EGR!$D$3=15,('NOx Model (1)'!E19*1.15),IF(EGR!$D$3=20,('NOx Model (1)'!E19*1.2),IF(EGR!$D$3=25,('NOx Model (1)'!E19*1.25),IF(EGR!$D$3=30,('NOx Model (1)'!E19*1.3),IF(EGR!$D$3=35,('NOx Model (1)'!E19*1.35),IF(EGR!$D$3=40,('NOx Model (1)'!E19*1.4),IF(EGR!$D$3=45,('NOx Model (1)'!E19*1.45),IF(EGR!$D$3=50,('NOx Model (1)'!E19*1.5)))))))))))) -> 4.0168616 | H13: =IF(EGR!$D$3=0,(EGR!AA83*1),IF(EGR!$D$3=5,(EGR!AA83*1.05),IF(EGR!$D$3=10,(EGR!AA83*1.1),IF(EGR!$D$3=15,(EGR!AA83*1.15),IF(EGR!$D$3=20,(EGR!AA83*1.2),IF(EGR!$D$3=25,(EGR!AA83*1.25),IF(EGR!$D$3=30,(EGR!AA83*1.3),IF(EGR!$D$3=35,(EGR!AA83*1.35),IF(EGR!$D$3=40,(EGR!AA83*1.4),IF(EGR!$D$3=45,(EGR!AA83*1.45),IF(EGR!$D$3=50,(EGR!AA83*1.5)))))))))))) -> 1.3635 | J13: =IF(EGR!$D$3=0,('NOx Model (1)'!G19*1),IF(EGR!$D$3=5,('NOx Model (1)'!G19*1.05),IF(EGR!$D$3=10,('NOx Model (1)'!G19*1.1),IF(EGR!$D$3=15,('NOx Model (1)'!G19*1.15),IF(EGR!$D$3=20,('NOx Model (1)'!G19*1.2),IF(EGR!$D$3=25,('NOx Model (1)'!G19*1.25),IF(EGR!$D$3=30,('NOx Model (1)'!G19*1.3),IF(EGR!$D$3=35,('NOx Model (1)'!G19*1.35),IF(EGR!$D$3=40,('NOx Model (1)'!G19*1.4),IF(EGR!$D$3=45,('NOx Model (1)'!G19*1.45),IF(EGR!$D$3=50,('NOx Model (1)'!G19*1.5)))))))))))) -> 4.0902706 | K13: =IF(EGR!$D$3=0,(EGR!AC83*1),IF(EGR!$D$3=5,(EGR!AC83*1.05),IF(EGR!$D$3=10,(EGR!AC83*1.1),IF(EGR!$D$3=15,(EGR!AC83*1.15),IF(EGR!$D$3=20,(EGR!AC83*1.2),IF(EGR!$D$3=25,(EGR!AC83*1.25),IF(EGR!$D$3=30,(EGR!AC83*1.3),IF(EGR!$D$3=35,(EGR!AC83*1.35),IF(EGR!$D$3=40,(EGR!AC83*1.4),IF(EGR!$D$3=45,(EGR!AC83*1.45),IF(EGR!$D$3=50,(EGR!AC83*1.5)))))))))))) -> 167.508 | L13: =B13+D13+G13+J13 -> 54.72184 | M13: =C13+E13+H13+K13 -> 242.36646 | N13: 400 | R13: Pressure | S13: Temperature | U13: NOx
B14: =IF(EGR!$D$3=0,('NOx Model (1)'!A20*1),IF(EGR!$D$3=5,('NOx Model (1)'!A20*1.05),IF(EGR!$D$3=10,('NOx Model (1)'!A20*1.1),IF(EGR!$D$3=15,('NOx Model (1)'!A20*1.15),IF(EGR!$D$3=20,('NOx Model (1)'!A20*1.2),IF(EGR!$D$3=25,('NOx Model (1)'!A20*1.25),IF(EGR!$D$3=30,('NOx Model (1)'!A20*1.3),IF(EGR!$D$3=35,('NOx Model (1)'!A20*1.35),IF(EGR!$D$3=40,('NOx Model (1)'!A20*1.4),IF(EGR!$D$3=45,('NOx Model (1)'!A20*1.45),IF(EGR!$D$3=50,('NOx Model (1)'!A20*1.5)))))))))))) -> 7.3728507 | C14: =IF(EGR!$D$3=0,(EGR!W84*1),IF(EGR!$D$3=5,(EGR!W84*1.05),IF(EGR!$D$3=10,(EGR!W84*1.1),IF(EGR!$D$3=15,(EGR!W84*1.15),IF(EGR!$D$3=20,(EGR!W84*1.2),IF(EGR!$D$3=25,(EGR!W84*1.25),IF(EGR!$D$3=30,(EGR!W84*1.3),IF(EGR!$D$3=35,(EGR!W84*1.35),IF(EGR!$D$3=40,(EGR!W84*1.4),IF(EGR!$D$3=45,(EGR!W84*1.45),IF(EGR!$D$3=50,(EGR!W84*1.5)))))))))))) -> 56.89632 | D14: =IF(EGR!$D$3=0,('NOx Model (1)'!C20*1),IF(EGR!$D$3=5,('NOx Model (1)'!C20*1.05),IF(EGR!$D$3=10,('NOx Model (1)'!C20*1.1),IF(EGR!$D$3=15,('NOx Model (1)'!C20*1.15),IF(EGR!$D$3=20,('NOx Model (1)'!C20*1.2),IF(EGR!$D$3=25,('NOx Model (1)'!C20*1.25),IF(EGR!$D$3=30,('NOx Model (1)'!C20*1.3),IF(EGR!$D$3=35,('NOx Model (1)'!C20*1.35),IF(EGR!$D$3=40,('NOx Model (1)'!C20*1.4),IF(EGR!$D$3=45,('NOx Model (1)'!C20*1.45),IF(EGR!$D$3=50,('NOx Model (1)'!C20*1.5)))))))))))) -> 55.245178 | E14: =IF(EGR!$D$3=0,(EGR!Y84*1),IF(EGR!$D$3=5,(EGR!Y84*1.05),IF(EGR!$D$3=10,(EGR!Y84*1.1),IF(EGR!$D$3=15,(EGR!Y84*1.15),IF(EGR!$D$3=20,(EGR!Y84*1.2),IF(EGR!$D$3=25,(EGR!Y84*1.25),IF(EGR!$D$3=30,(EGR!Y84*1.3),IF(EGR!$D$3=35,(EGR!Y84*1.35),IF(EGR!$D$3=40,(EGR!Y84*1.4),IF(EGR!$D$3=45,(EGR!Y84*1.45),IF(EGR!$D$3=50,(EGR!Y84*1.5)))))))))))) -> 54.37044 | G14: =IF(EGR!$D$3=0,('NOx Model (1)'!E20*1),IF(EGR!$D$3=5,('NOx Model (1)'!E20*1.05),IF(EGR!$D$3=10,('NOx Model (1)'!E20*1.1),IF(EGR!$D$3=15,('NOx Model (1)'!E20*1.15),IF(EGR!$D$3=20,('NOx Model (1)'!E20*1.2),IF(EGR!$D$3=25,('NOx Model (1)'!E20*1.25),IF(EGR!$D$3=30,('NOx Model (1)'!E20*1.3),IF(EGR!$D$3=35,('NOx Model (1)'!E20*1.35),IF(EGR!$D$3=40,('NOx Model (1)'!E20*1.4),IF(EGR!$D$3=45,('NOx Model (1)'!E20*1.45),IF(EGR!$D$3=50,('NOx Model (1)'!E20*1.5)))))))))))) -> 5.40719 | H14: =IF(EGR!$D$3=0,(EGR!AA84*1),IF(EGR!$D$3=5,(EGR!AA84*1.05),IF(EGR!$D$3=10,(EGR!AA84*1.1),IF(EGR!$D$3=15,(EGR!AA84*1.15),IF(EGR!$D$3=20,(EGR!AA84*1.2),IF(EGR!$D$3=25,(EGR!AA84*1.25),IF(EGR!$D$3=30,(EGR!AA84*1.3),IF(EGR!$D$3=35,(EGR!AA84*1.35),IF(EGR!$D$3=40,(EGR!AA84*1.4),IF(EGR!$D$3=45,(EGR!AA84*1.45),IF(EGR!$D$3=50,(EGR!AA84*1.5)))))))))))) -> 2.0475 | J14: =IF(EGR!$D$3=0,('NOx Model (1)'!G20*1),IF(EGR!$D$3=5,('NOx Model (1)'!G20*1.05),IF(EGR!$D$3=10,('NOx Model (1)'!G20*1.1),IF(EGR!$D$3=15,('NOx Model (1)'!G20*1.15),IF(EGR!$D$3=20,('NOx Model (1)'!G20*1.2),IF(EGR!$D$3=25,('NOx Model (1)'!G20*1.25),IF(EGR!$D$3=30,('NOx Model (1)'!G20*1.3),IF(EGR!$D$3=35,('NOx Model (1)'!G20*1.35),IF(EGR!$D$3=40,('NOx Model (1)'!G20*1.4),IF(EGR!$D$3=45,('NOx Model (1)'!G20*1.45),IF(EGR!$D$3=50,('NOx Model (1)'!G20*1.5)))))))))))) -> 5.5495035 | K14: =IF(EGR!$D$3=0,(EGR!AC84*1),IF(EGR!$D$3=5,(EGR!AC84*1.05),IF(EGR!$D$3=10,(EGR!AC84*1.1),IF(EGR!$D$3=15,(EGR!AC84*1.15),IF(EGR!$D$3=20,(EGR!AC84*1.2),IF(EGR!$D$3=25,(EGR!AC84*1.25),IF(EGR!$D$3=30,(EGR!AC84*1.3),IF(EGR!$D$3=35,(EGR!AC84*1.35),IF(EGR!$D$3=40,(EGR!AC84*1.4),IF(EGR!$D$3=45,(EGR!AC84*1.45),IF(EGR!$D$3=50,(EGR!AC84*1.5)))))))))))) -> 250.416 | L14: =B14+D14+G14+J14 -> 73.574722 | M14: =C14+E14+H14+K14 -> 363.73026 | N14: 450 | R14: Bar | S14: K | U14: Kmols/m³/° | V14: Kmols/° | W14: Kmols/Cycle | X14: NOx PPM
B15: =IF(EGR!$D$3=0,('NOx Model (1)'!A21*1),IF(EGR!$D$3=5,('NOx Model (1)'!A21*1.05),IF(EGR!$D$3=10,('NOx Model (1)'!A21*1.1),IF(EGR!$D$3=15,('NOx Model (1)'!A21*1.15),IF(EGR!$D$3=20,('NOx Model (1)'!A21*1.2),IF(EGR!$D$3=25,('NOx Model (1)'!A21*1.25),IF(EGR!$D$3=30,('NOx Model (1)'!A21*1.3),IF(EGR!$D$3=35,('NOx Model (1)'!A21*1.35),IF(EGR!$D$3=40,('NOx Model (1)'!A21*1.4),IF(EGR!$D$3=45,('NOx Model (1)'!A21*1.45),IF(EGR!$D$3=50,('NOx Model (1)'!A21*1.5)))))))))))) -> 9.6957342 | C15: =IF(EGR!$D$3=0,(EGR!W85*1),IF(EGR!$D$3=5,(EGR!W85*1.05),IF(EGR!$D$3=10,(EGR!W85*1.1),IF(EGR!$D$3=15,(EGR!W85*1.15),IF(EGR!$D$3=20,(EGR!W85*1.2),IF(EGR!$D$3=25,(EGR!W85*1.25),IF(EGR!$D$3=30,(EGR!W85*1.3),IF(EGR!$D$3=35,(EGR!W85*1.35),IF(EGR!$D$3=40,(EGR!W85*1.4),IF(EGR!$D$3=45,(EGR!W85*1.45),IF(EGR!$D$3=50,(EGR!W85*1.5)))))))))))) -> 77.2896 | D15: =IF(EGR!$D$3=0,('NOx Model (1)'!C21*1),IF(EGR!$D$3=5,('NOx Model (1)'!C21*1.05),IF(EGR!$D$3=10,('NOx Model (1)'!C21*1.1),IF(EGR!$D$3=15,('NOx Model (1)'!C21*1.15),IF(EGR!$D$3=20,('NOx Model (1)'!C21*1.2),IF(EGR!$D$3=25,('NOx Model (1)'!C21*1.25),IF(EGR!$D$3=30,('NOx Model (1)'!C21*1.3),IF(EGR!$D$3=35,('NOx Model (1)'!C21*1.35),IF(EGR!$D$3=40,('NOx Model (1)'!C21*1.4),IF(EGR!$D$3=45,('NOx Model (1)'!C21*1.45),IF(EGR!$D$3=50,('NOx Model (1)'!C21*1.5)))))))))))) -> 70.943408 | E15: =IF(EGR!$D$3=0,(EGR!Y85*1),IF(EGR!$D$3=5,(EGR!Y85*1.05),IF(EGR!$D$3=10,(EGR!Y85*1.1),IF(EGR!$D$3=15,(EGR!Y85*1.15),IF(EGR!$D$3=20,(EGR!Y85*1.2),IF(EGR!$D$3=25,(EGR!Y85*1.25),IF(EGR!$D$3=30,(EGR!Y85*1.3),IF(EGR!$D$3=35,(EGR!Y85*1.35),IF(EGR!$D$3=40,(EGR!Y85*1.4),IF(EGR!$D$3=45,(EGR!Y85*1.45),IF(EGR!$D$3=50,(EGR!Y85*1.5)))))))))))) -> 72.8082 | G15: =IF(EGR!$D$3=0,('NOx Model (1)'!E21*1),IF(EGR!$D$3=5,('NOx Model (1)'!E21*1.05),IF(EGR!$D$3=10,('NOx Model (1)'!E21*1.1),IF(EGR!$D$3=15,('NOx Model (1)'!E21*1.15),IF(EGR!$D$3=20,('NOx Model (1)'!E21*1.2),IF(EGR!$D$3=25,('NOx Model (1)'!E21*1.25),IF(EGR!$D$3=30,('NOx Model (1)'!E21*1.3),IF(EGR!$D$3=35,('NOx Model (1)'!E21*1.35),IF(EGR!$D$3=40,('NOx Model (1)'!E21*1.4),IF(EGR!$D$3=45,('NOx Model (1)'!E21*1.45),IF(EGR!$D$3=50,('NOx Model (1)'!E21*1.5)))))))))))) -> 6.972229 | H15: =IF(EGR!$D$3=0,(EGR!AA85*1),IF(EGR!$D$3=5,(EGR!AA85*1.05),IF(EGR!$D$3=10,(EGR!AA85*1.1),IF(EGR!$D$3=15,(EGR!AA85*1.15),IF(EGR!$D$3=20,(EGR!AA85*1.2),IF(EGR!$D$3=25,(EGR!AA85*1.25),IF(EGR!$D$3=30,(EGR!AA85*1.3),IF(EGR!$D$3=35,(EGR!AA85*1.35),IF(EGR!$D$3=40,(EGR!AA85*1.4),IF(EGR!$D$3=45,(EGR!AA85*1.45),IF(EGR!$D$3=50,(EGR!AA85*1.5)))))))))))) -> 2.745 | J15: =IF(EGR!$D$3=0,('NOx Model (1)'!G21*1),IF(EGR!$D$3=5,('NOx Model (1)'!G21*1.05),IF(EGR!$D$3=10,('NOx Model (1)'!G21*1.1),IF(EGR!$D$3=15,('NOx Model (1)'!G21*1.15),IF(EGR!$D$3=20,('NOx Model (1)'!G21*1.2),IF(EGR!$D$3=25,('NOx Model (1)'!G21*1.25),IF(EGR!$D$3=30,('NOx Model (1)'!G21*1.3),IF(EGR!$D$3=35,('NOx Model (1)'!G21*1.35),IF(EGR!$D$3=40,('NOx Model (1)'!G21*1.4),IF(EGR!$D$3=45,('NOx Model (1)'!G21*1.45),IF(EGR!$D$3=50,('NOx Model (1)'!G21*1.5)))))))))))) -> 7.270794 | K15: =IF(EGR!$D$3=0,(EGR!AC85*1),IF(EGR!$D$3=5,(EGR!AC85*1.05),IF(EGR!$D$3=10,(EGR!AC85*1.1),IF(EGR!$D$3=15,(EGR!AC85*1.15),IF(EGR!$D$3=20,(EGR!AC85*1.2),IF(EGR!$D$3=25,(EGR!AC85*1.25),IF(EGR!$D$3=30,(EGR!AC85*1.3),IF(EGR!$D$3=35,(EGR!AC85*1.35),IF(EGR!$D$3=40,(EGR!AC85*1.4),IF(EGR!$D$3=45,(EGR!AC85*1.45),IF(EGR!$D$3=50,(EGR!AC85*1.5)))))))))))) -> 333.888 | L15: =B15+D15+G15+J15 -> 94.882166 | M15: =C15+E15+H15+K15 -> 486.7308 | N15: 500 | Q15: S.O.C | R15: 10 | S15: =R11 -> 2033.9024 | U15: =(((4.7*10^13)*($Y$3)*(($X$3)^0.5)*EXP(-67837/S15)))/($Y$11*6) -> 5.8006047e-08 | V15: =U15*($Y$9*10^-6) -> 2.3202419e-12 | W15: =SUM(V15:V30) -> 4.5399389e-09 | X15: =(W15/Z3)*10^6 -> 654.46243
B16: =IF(EGR!$D$3=0,('NOx Model (1)'!A22*1),IF(EGR!$D$3=5,('NOx Model (1)'!A22*1.05),IF(EGR!$D$3=10,('NOx Model (1)'!A22*1.1),IF(EGR!$D$3=15,('NOx Model (1)'!A22*1.15),IF(EGR!$D$3=20,('NOx Model (1)'!A22*1.2),IF(EGR!$D$3=25,('NOx Model (1)'!A22*1.25),IF(EGR!$D$3=30,('NOx Model (1)'!A22*1.3),IF(EGR!$D$3=35,('NOx Model (1)'!A22*1.35),IF(EGR!$D$3=40,('NOx Model (1)'!A22*1.4),IF(EGR!$D$3=45,('NOx Model (1)'!A22*1.45),IF(EGR!$D$3=50,('NOx Model (1)'!A22*1.5)))))))))))) -> 12.284297 | C16: =IF(EGR!$D$3=0,(EGR!W86*1),IF(EGR!$D$3=5,(EGR!W86*1.05),IF(EGR!$D$3=10,(EGR!W86*1.1),IF(EGR!$D$3=15,(EGR!W86*1.15),IF(EGR!$D$3=20,(EGR!W86*1.2),IF(EGR!$D$3=25,(EGR!W86*1.25),IF(EGR!$D$3=30,(EGR!W86*1.3),IF(EGR!$D$3=35,(EGR!W86*1.35),IF(EGR!$D$3=40,(EGR!W86*1.4),IF(EGR!$D$3=45,(EGR!W86*1.45),IF(EGR!$D$3=50,(EGR!W86*1.5)))))))))))) -> 98.33472 | D16: =IF(EGR!$D$3=0,('NOx Model (1)'!C22*1),IF(EGR!$D$3=5,('NOx Model (1)'!C22*1.05),IF(EGR!$D$3=10,('NOx Model (1)'!C22*1.1),IF(EGR!$D$3=15,('NOx Model (1)'!C22*1.15),IF(EGR!$D$3=20,('NOx Model (1)'!C22*1.2),IF(EGR!$D$3=25,('NOx Model (1)'!C22*1.25),IF(EGR!$D$3=30,('NOx Model (1)'!C22*1.3),IF(EGR!$D$3=35,('NOx Model (1)'!C22*1.35),IF(EGR!$D$3=40,('NOx Model (1)'!C22*1.4),IF(EGR!$D$3=45,('NOx Model (1)'!C22*1.45),IF(EGR!$D$3=50,('NOx Model (1)'!C22*1.5)))))))))))) -> 88.100035 | E16: =IF(EGR!$D$3=0,(EGR!Y86*1),IF(EGR!$D$3=5,(EGR!Y86*1.05),IF(EGR!$D$3=10,(EGR!Y86*1.1),IF(EGR!$D$3=15,(EGR!Y86*1.15),IF(EGR!$D$3=20,(EGR!Y86*1.2),IF(EGR!$D$3=25,(EGR!Y86*1.25),IF(EGR!$D$3=30,(EGR!Y86*1.3),IF(EGR!$D$3=35,(EGR!Y86*1.35),IF(EGR!$D$3=40,(EGR!Y86*1.4),IF(EGR!$D$3=45,(EGR!Y86*1.45),IF(EGR!$D$3=50,(EGR!Y86*1.5)))))))))))) -> 91.45548 | G16: =IF(EGR!$D$3=0,('NOx Model (1)'!E22*1),IF(EGR!$D$3=5,('NOx Model (1)'!E22*1.05),IF(EGR!$D$3=10,('NOx Model (1)'!E22*1.1),IF(EGR!$D$3=15,('NOx Model (1)'!E22*1.15),IF(EGR!$D$3=20,('NOx Model (1)'!E22*1.2),IF(EGR!$D$3=25,('NOx Model (1)'!E22*1.25),IF(EGR!$D$3=30,('NOx Model (1)'!E22*1.3),IF(EGR!$D$3=35,('NOx Model (1)'!E22*1.35),IF(EGR!$D$3=40,('NOx Model (1)'!E22*1.4),IF(EGR!$D$3=45,('NOx Model (1)'!E22*1.45),IF(EGR!$D$3=50,('NOx Model (1)'!E22*1.5)))))))))))) -> 8.6804992 | H16: =IF(EGR!$D$3=0,(EGR!AA86*1),IF(EGR!$D$3=5,(EGR!AA86*1.05),IF(EGR!$D$3=10,(EGR!AA86*1.1),IF(EGR!$D$3=15,(EGR!AA86*1.15),IF(EGR!$D$3=20,(EGR!AA86*1.2),IF(EGR!$D$3=25,(EGR!AA86*1.25),IF(EGR!$D$3=30,(EGR!AA86*1.3),IF(EGR!$D$3=35,(EGR!AA86*1.35),IF(EGR!$D$3=40,(EGR!AA86*1.4),IF(EGR!$D$3=45,(EGR!AA86*1.45),IF(EGR!$D$3=50,(EGR!AA86*1.5)))))))))))) -> 3.447 | J16: =IF(EGR!$D$3=0,('NOx Model (1)'!G22*1),IF(EGR!$D$3=5,('NOx Model (1)'!G22*1.05),IF(EGR!$D$3=10,('NOx Model (1)'!G22*1.1),IF(EGR!$D$3=15,('NOx Model (1)'!G22*1.15),IF(EGR!$D$3=20,('NOx Model (1)'!G22*1.2),IF(EGR!$D$3=25,('NOx Model (1)'!G22*1.25),IF(EGR!$D$3=30,('NOx Model (1)'!G22*1.3),IF(EGR!$D$3=35,('NOx Model (1)'!G22*1.35),IF(EGR!$D$3=40,('NOx Model (1)'!G22*1.4),IF(EGR!$D$3=45,('NOx Model (1)'!G22*1.45),IF(EGR!$D$3=50,('NOx Model (1)'!G22*1.5)))))))))))) -> 9.2801625 | K16: =IF(EGR!$D$3=0,(EGR!AC86*1),IF(EGR!$D$3=5,(EGR!AC86*1.05),IF(EGR!$D$3=10,(EGR!AC86*1.1),IF(EGR!$D$3=15,(EGR!AC86*1.15),IF(EGR!$D$3=20,(EGR!AC86*1.2),IF(EGR!$D$3=25,(EGR!AC86*1.25),IF(EGR!$D$3=30,(EGR!AC86*1.3),IF(EGR!$D$3=35,(EGR!AC86*1.35),IF(EGR!$D$3=40,(EGR!AC86*1.4),IF(EGR!$D$3=45,(EGR!AC86*1.45),IF(EGR!$D$3=50,(EGR!AC86*1.5)))))))))))) -> 417.924 | L16: =B16+D16+G16+J16 -> 118.34499 | M16: =C16+E16+H16+K16 -> 611.1612 | N16: 550 | R16: =R15+2 -> 12 | S16: =S15*((R16/R15)^((1.17-1)/1.17)) -> 2088.5029 | U16: =(((4.7*10^13)*($Y$3)*(($X$3)^0.5)*EXP(-67837/S16)))/($Y$11*6) -> 1.3872725e-07 | V16: =U16*($Y$9*10^-6) -> 5.5490901e-12
B17: =IF(EGR!$D$3=0,('NOx Model (1)'!A23*1),IF(EGR!$D$3=5,('NOx Model (1)'!A23*1.05),IF(EGR!$D$3=10,('NOx Model (1)'!A23*1.1),IF(EGR!$D$3=15,('NOx Model (1)'!A23*1.15),IF(EGR!$D$3=20,('NOx Model (1)'!A23*1.2),IF(EGR!$D$3=25,('NOx Model (1)'!A23*1.25),IF(EGR!$D$3=30,('NOx Model (1)'!A23*1.3),IF(EGR!$D$3=35,('NOx Model (1)'!A23*1.35),IF(EGR!$D$3=40,('NOx Model (1)'!A23*1.4),IF(EGR!$D$3=45,('NOx Model (1)'!A23*1.45),IF(EGR!$D$3=50,('NOx Model (1)'!A23*1.5)))))))))))) -> 15.1163 | C17: =IF(EGR!$D$3=0,(EGR!W87*1),IF(EGR!$D$3=5,(EGR!W87*1.05),IF(EGR!$D$3=10,(EGR!W87*1.1),IF(EGR!$D$3=15,(EGR!W87*1.15),IF(EGR!$D$3=20,(EGR!W87*1.2),IF(EGR!$D$3=25,(EGR!W87*1.25),IF(EGR!$D$3=30,(EGR!W87*1.3),IF(EGR!$D$3=35,(EGR!W87*1.35),IF(EGR!$D$3=40,(EGR!W87*1.4),IF(EGR!$D$3=45,(EGR!W87*1.45),IF(EGR!$D$3=50,(EGR!W87*1.5)))))))))))) -> 120.1248 | D17: =IF(EGR!$D$3=0,('NOx Model (1)'!C23*1),IF(EGR!$D$3=5,('NOx Model (1)'!C23*1.05),IF(EGR!$D$3=10,('NOx Model (1)'!C23*1.1),IF(EGR!$D$3=15,('NOx Model (1)'!C23*1.15),IF(EGR!$D$3=20,('NOx Model (1)'!C23*1.2),IF(EGR!$D$3=25,('NOx Model (1)'!C23*1.25),IF(EGR!$D$3=30,('NOx Model (1)'!C23*1.3),IF(EGR!$D$3=35,('NOx Model (1)'!C23*1.35),IF(EGR!$D$3=40,('NOx Model (1)'!C23*1.4),IF(EGR!$D$3=45,('NOx Model (1)'!C23*1.45),IF(EGR!$D$3=50,('NOx Model (1)'!C23*1.5)))))))))))) -> 106.48395 | E17: =IF(EGR!$D$3=0,(EGR!Y87*1),IF(EGR!$D$3=5,(EGR!Y87*1.05),IF(EGR!$D$3=10,(EGR!Y87*1.1),IF(EGR!$D$3=15,(EGR!Y87*1.15),IF(EGR!$D$3=20,(EGR!Y87*1.2),IF(EGR!$D$3=25,(EGR!Y87*1.25),IF(EGR!$D$3=30,(EGR!Y87*1.3),IF(EGR!$D$3=35,(EGR!Y87*1.35),IF(EGR!$D$3=40,(EGR!Y87*1.4),IF(EGR!$D$3=45,(EGR!Y87*1.45),IF(EGR!$D$3=50,(EGR!Y87*1.5)))))))))))) -> 110.31228 | G17: =IF(EGR!$D$3=0,('NOx Model (1)'!E23*1),IF(EGR!$D$3=5,('NOx Model (1)'!E23*1.05),IF(EGR!$D$3=10,('NOx Model (1)'!E23*1.1),IF(EGR!$D$3=15,('NOx Model (1)'!E23*1.15),IF(EGR!$D$3=20,('NOx Model (1)'!E23*1.2),IF(EGR!$D$3=25,('NOx Model (1)'!E23*1.25),IF(EGR!$D$3=30,('NOx Model (1)'!E23*1.3),IF(EGR!$D$3=35,('NOx Model (1)'!E23*1.35),IF(EGR!$D$3=40,('NOx Model (1)'!E23*1.4),IF(EGR!$D$3=45,('NOx Model (1)'!E23*1.45),IF(EGR!$D$3=50,('NOx Model (1)'!E23*1.5)))))))))))) -> 10.503738 | H17: =IF(EGR!$D$3=0,(EGR!AA87*1),IF(EGR!$D$3=5,(EGR!AA87*1.05),IF(EGR!$D$3=10,(EGR!AA87*1.1),IF(EGR!$D$3=15,(EGR!AA87*1.15),IF(EGR!$D$3=20,(EGR!AA87*1.2),IF(EGR!$D$3=25,(EGR!AA87*1.25),IF(EGR!$D$3=30,(EGR!AA87*1.3),IF(EGR!$D$3=35,(EGR!AA87*1.35),IF(EGR!$D$3=40,(EGR!AA87*1.4),IF(EGR!$D$3=45,(EGR!AA87*1.45),IF(EGR!$D$3=50,(EGR!AA87*1.5)))))))))))) -> 4.1625 | J17: =IF(EGR!$D$3=0,('NOx Model (1)'!G23*1),IF(EGR!$D$3=5,('NOx Model (1)'!G23*1.05),IF(EGR!$D$3=10,('NOx Model (1)'!G23*1.1),IF(EGR!$D$3=15,('NOx Model (1)'!G23*1.15),IF(EGR!$D$3=20,('NOx Model (1)'!G23*1.2),IF(EGR!$D$3=25,('NOx Model (1)'!G23*1.25),IF(EGR!$D$3=30,('NOx Model (1)'!G23*1.3),IF(EGR!$D$3=35,('NOx Model (1)'!G23*1.35),IF(EGR!$D$3=40,('NOx Model (1)'!G23*1.4),IF(EGR!$D$3=45,('NOx Model (1)'!G23*1.45),IF(EGR!$D$3=50,('NOx Model (1)'!G23*1.5)))))))))))) -> 11.625357 | K17: =IF(EGR!$D$3=0,(EGR!AC87*1),IF(EGR!$D$3=5,(EGR!AC87*1.05),IF(EGR!$D$3=10,(EGR!AC87*1.1),IF(EGR!$D$3=15,(EGR!AC87*1.15),IF(EGR!$D$3=20,(EGR!AC87*1.2),IF(EGR!$D$3=25,(EGR!AC87*1.25),IF(EGR!$D$3=30,(EGR!AC87*1.3),IF(EGR!$D$3=35,(EGR!AC87*1.35),IF(EGR!$D$3=40,(EGR!AC87*1.4),IF(EGR!$D$3=45,(EGR!AC87*1.45),IF(EGR!$D$3=50,(EGR!AC87*1.5)))))))))))) -> 501.96 | L17: =B17+D17+G17+J17 -> 143.72934 | M17: =C17+E17+H17+K17 -> 736.55958 | N17: 600 | R17: =R16+2 -> 14 | S17: =S16*((R17/R16)^((1.17-1)/1.17)) -> 2135.8089 | U17: =(((4.7*10^13)*($Y$3)*(($X$3)^0.5)*EXP(-67837/S17)))/($Y$11*6) -> 2.8484202e-07 | V17: =U17*($Y$9*10^-6) -> 1.1393681e-11
B18: =IF(EGR!$D$3=0,('NOx Model (1)'!A24*1),IF(EGR!$D$3=5,('NOx Model (1)'!A24*1.05),IF(EGR!$D$3=10,('NOx Model (1)'!A24*1.1),IF(EGR!$D$3=15,('NOx Model (1)'!A24*1.15),IF(EGR!$D$3=20,('NOx Model (1)'!A24*1.2),IF(EGR!$D$3=25,('NOx Model (1)'!A24*1.25),IF(EGR!$D$3=30,('NOx Model (1)'!A24*1.3),IF(EGR!$D$3=35,('NOx Model (1)'!A24*1.35),IF(EGR!$D$3=40,('NOx Model (1)'!A24*1.4),IF(EGR!$D$3=45,('NOx Model (1)'!A24*1.45),IF(EGR!$D$3=50,('NOx Model (1)'!A24*1.5)))))))))))) -> 18.178876 | C18: =IF(EGR!$D$3=0,(EGR!W88*1),IF(EGR!$D$3=5,(EGR!W88*1.05),IF(EGR!$D$3=10,(EGR!W88*1.1),IF(EGR!$D$3=15,(EGR!W88*1.15),IF(EGR!$D$3=20,(EGR!W88*1.2),IF(EGR!$D$3=25,(EGR!W88*1.25),IF(EGR!$D$3=30,(EGR!W88*1.3),IF(EGR!$D$3=35,(EGR!W88*1.35),IF(EGR!$D$3=40,(EGR!W88*1.4),IF(EGR!$D$3=45,(EGR!W88*1.45),IF(EGR!$D$3=50,(EGR!W88*1.5)))))))))))) -> 142.38048 | D18: =IF(EGR!$D$3=0,('NOx Model (1)'!C24*1),IF(EGR!$D$3=5,('NOx Model (1)'!C24*1.05),IF(EGR!$D$3=10,('NOx Model (1)'!C24*1.1),IF(EGR!$D$3=15,('NOx Model (1)'!C24*1.15),IF(EGR!$D$3=20,('NOx Model (1)'!C24*1.2),IF(EGR!$D$3=25,('NOx Model (1)'!C24*1.25),IF(EGR!$D$3=30,('NOx Model (1)'!C24*1.3),IF(EGR!$D$3=35,('NOx Model (1)'!C24*1.35),IF(EGR!$D$3=40,('NOx Model (1)'!C24*1.4),IF(EGR!$D$3=45,('NOx Model (1)'!C24*1.45),IF(EGR!$D$3=50,('NOx Model (1)'!C24*1.5)))))))))))) -> 125.89321 | E18: =IF(EGR!$D$3=0,(EGR!Y88*1),IF(EGR!$D$3=5,(EGR!Y88*1.05),IF(EGR!$D$3=10,(EGR!Y88*1.1),IF(EGR!$D$3=15,(EGR!Y88*1.15),IF(EGR!$D$3=20,(EGR!Y88*1.2),IF(EGR!$D$3=25,(EGR!Y88*1.25),IF(EGR!$D$3=30,(EGR!Y88*1.3),IF(EGR!$D$3=35,(EGR!Y88*1.35),IF(EGR!$D$3=40,(EGR!Y88*1.4),IF(EGR!$D$3=45,(EGR!Y88*1.45),IF(EGR!$D$3=50,(EGR!Y88*1.5)))))))))))) -> 129.3786 | G18: =IF(EGR!$D$3=0,('NOx Model (1)'!E24*1),IF(EGR!$D$3=5,('NOx Model (1)'!E24*1.05),IF(EGR!$D$3=10,('NOx Model (1)'!E24*1.1),IF(EGR!$D$3=15,('NOx Model (1)'!E24*1.15),IF(EGR!$D$3=20,('NOx Model (1)'!E24*1.2),IF(EGR!$D$3=25,('NOx Model (1)'!E24*1.25),IF(EGR!$D$3=30,('NOx Model (1)'!E24*1.3),IF(EGR!$D$3=35,('NOx Model (1)'!E24*1.35),IF(EGR!$D$3=40,('NOx Model (1)'!E24*1.4),IF(EGR!$D$3=45,('NOx Model (1)'!E24*1.45),IF(EGR!$D$3=50,('NOx Model (1)'!E24*1.5)))))))))))) -> 12.416557 | H18: =IF(EGR!$D$3=0,(EGR!AA88*1),IF(EGR!$D$3=5,(EGR!AA88*1.05),IF(EGR!$D$3=10,(EGR!AA88*1.1),IF(EGR!$D$3=15,(EGR!AA88*1.15),IF(EGR!$D$3=20,(EGR!AA88*1.2),IF(EGR!$D$3=25,(EGR!AA88*1.25),IF(EGR!$D$3=30,(EGR!AA88*1.3),IF(EGR!$D$3=35,(EGR!AA88*1.35),IF(EGR!$D$3=40,(EGR!AA88*1.4),IF(EGR!$D$3=45,(EGR!AA88*1.45),IF(EGR!$D$3=50,(EGR!AA88*1.5)))))))))))) -> 4.8915 | J18: =IF(EGR!$D$3=0,('NOx Model (1)'!G24*1),IF(EGR!$D$3=5,('NOx Model (1)'!G24*1.05),IF(EGR!$D$3=10,('NOx Model (1)'!G24*1.1),IF(EGR!$D$3=15,('NOx Model (1)'!G24*1.15),IF(EGR!$D$3=20,('NOx Model (1)'!G24*1.2),IF(EGR!$D$3=25,('NOx Model (1)'!G24*1.25),IF(EGR!$D$3=30,('NOx Model (1)'!G24*1.3),IF(EGR!$D$3=35,('NOx Model (1)'!G24*1.35),IF(EGR!$D$3=40,('NOx Model (1)'!G24*1.4),IF(EGR!$D$3=45,('NOx Model (1)'!G24*1.45),IF(EGR!$D$3=50,('NOx Model (1)'!G24*1.5)))))))))))) -> 14.379487 | K18: =IF(EGR!$D$3=0,(EGR!AC88*1),IF(EGR!$D$3=5,(EGR!AC88*1.05),IF(EGR!$D$3=10,(EGR!AC88*1.1),IF(EGR!$D$3=15,(EGR!AC88*1.15),IF(EGR!$D$3=20,(EGR!AC88*1.2),IF(EGR!$D$3=25,(EGR!AC88*1.25),IF(EGR!$D$3=30,(EGR!AC88*1.3),IF(EGR!$D$3=35,(EGR!AC88*1.35),IF(EGR!$D$3=40,(EGR!AC88*1.4),IF(EGR!$D$3=45,(EGR!AC88*1.45),IF(EGR!$D$3=50,(EGR!AC88*1.5)))))))))))) -> 587.688 | L18: =B18+D18+G18+J18 -> 170.86813 | M18: =C18+E18+H18+K18 -> 864.33858 | N18: 650 | R18: =R17+2 -> 16 | S18: =S17*((R18/R17)^((1.17-1)/1.17)) -> 2177.6525 | U18: =(((4.7*10^13)*($Y$3)*(($X$3)^0.5)*EXP(-67837/S18)))/($Y$11*6) -> 5.2439026e-07 | V18: =U18*($Y$9*10^-6) -> 2.097561e-11
B19: =IF(EGR!$D$3=0,('NOx Model (1)'!A25*1),IF(EGR!$D$3=5,('NOx Model (1)'!A25*1.05),IF(EGR!$D$3=10,('NOx Model (1)'!A25*1.1),IF(EGR!$D$3=15,('NOx Model (1)'!A25*1.15),IF(EGR!$D$3=20,('NOx Model (1)'!A25*1.2),IF(EGR!$D$3=25,('NOx Model (1)'!A25*1.25),IF(EGR!$D$3=30,('NOx Model (1)'!A25*1.3),IF(EGR!$D$3=35,('NOx Model (1)'!A25*1.35),IF(EGR!$D$3=40,('NOx Model (1)'!A25*1.4),IF(EGR!$D$3=45,('NOx Model (1)'!A25*1.45),IF(EGR!$D$3=50,('NOx Model (1)'!A25*1.5)))))))))))) -> 21.469115 | C19: =IF(EGR!$D$3=0,(EGR!W89*1),IF(EGR!$D$3=5,(EGR!W89*1.05),IF(EGR!$D$3=10,(EGR!W89*1.1),IF(EGR!$D$3=15,(EGR!W89*1.15),IF(EGR!$D$3=20,(EGR!W89*1.2),IF(EGR!$D$3=25,(EGR!W89*1.25),IF(EGR!$D$3=30,(EGR!W89*1.3),IF(EGR!$D$3=35,(EGR!W89*1.35),IF(EGR!$D$3=40,(EGR!W89*1.4),IF(EGR!$D$3=45,(EGR!W89*1.45),IF(EGR!$D$3=50,(EGR!W89*1.5)))))))))))) -> 165.288 | D19: =IF(EGR!$D$3=0,('NOx Model (1)'!C25*1),IF(EGR!$D$3=5,('NOx Model (1)'!C25*1.05),IF(EGR!$D$3=10,('NOx Model (1)'!C25*1.1),IF(EGR!$D$3=15,('NOx Model (1)'!C25*1.15),IF(EGR!$D$3=20,('NOx Model (1)'!C25*1.2),IF(EGR!$D$3=25,('NOx Model (1)'!C25*1.25),IF(EGR!$D$3=30,('NOx Model (1)'!C25*1.3),IF(EGR!$D$3=35,('NOx Model (1)'!C25*1.35),IF(EGR!$D$3=40,('NOx Model (1)'!C25*1.4),IF(EGR!$D$3=45,('NOx Model (1)'!C25*1.45),IF(EGR!$D$3=50,('NOx Model (1)'!C25*1.5)))))))))))) -> 146.15279 | E19: =IF(EGR!$D$3=0,(EGR!Y89*1),IF(EGR!$D$3=5,(EGR!Y89*1.05),IF(EGR!$D$3=10,(EGR!Y89*1.1),IF(EGR!$D$3=15,(EGR!Y89*1.15),IF(EGR!$D$3=20,(EGR!Y89*1.2),IF(EGR!$D$3=25,(EGR!Y89*1.25),IF(EGR!$D$3=30,(EGR!Y89*1.3),IF(EGR!$D$3=35,(EGR!Y89*1.35),IF(EGR!$D$3=40,(EGR!Y89*1.4),IF(EGR!$D$3=45,(EGR!Y89*1.45),IF(EGR!$D$3=50,(EGR!Y89*1.5)))))))))))) -> 148.86396 | G19: =IF(EGR!$D$3=0,('NOx Model (1)'!E25*1),IF(EGR!$D$3=5,('NOx Model (1)'!E25*1.05),IF(EGR!$D$3=10,('NOx Model (1)'!E25*1.1),IF(EGR!$D$3=15,('NOx Model (1)'!E25*1.15),IF(EGR!$D$3=20,('NOx Model (1)'!E25*1.2),IF(EGR!$D$3=25,('NOx Model (1)'!E25*1.25),IF(EGR!$D$3=30,('NOx Model (1)'!E25*1.3),IF(EGR!$D$3=35,('NOx Model (1)'!E25*1.35),IF(EGR!$D$3=40,('NOx Model (1)'!E25*1.4),IF(EGR!$D$3=45,('NOx Model (1)'!E25*1.45),IF(EGR!$D$3=50,('NOx Model (1)'!E25*1.5)))))))))))) -> 14.396109 | H19: =IF(EGR!$D$3=0,(EGR!AA89*1),IF(EGR!$D$3=5,(EGR!AA89*1.05),IF(EGR!$D$3=10,(EGR!AA89*1.1),IF(EGR!$D$3=15,(EGR!AA89*1.15),IF(EGR!$D$3=20,(EGR!AA89*1.2),IF(EGR!$D$3=25,(EGR!AA89*1.25),IF(EGR!$D$3=30,(EGR!AA89*1.3),IF(EGR!$D$3=35,(EGR!AA89*1.35),IF(EGR!$D$3=40,(EGR!AA89*1.4),IF(EGR!$D$3=45,(EGR!AA89*1.45),IF(EGR!$D$3=50,(EGR!AA89*1.5)))))))))))) -> 5.625 | J19: =IF(EGR!$D$3=0,('NOx Model (1)'!G25*1),IF(EGR!$D$3=5,('NOx Model (1)'!G25*1.05),IF(EGR!$D$3=10,('NOx Model (1)'!G25*1.1),IF(EGR!$D$3=15,('NOx Model (1)'!G25*1.15),IF(EGR!$D$3=20,('NOx Model (1)'!G25*1.2),IF(EGR!$D$3=25,('NOx Model (1)'!G25*1.25),IF(EGR!$D$3=30,('NOx Model (1)'!G25*1.3),IF(EGR!$D$3=35,('NOx Model (1)'!G25*1.35),IF(EGR!$D$3=40,('NOx Model (1)'!G25*1.4),IF(EGR!$D$3=45,('NOx Model (1)'!G25*1.45),IF(EGR!$D$3=50,('NOx Model (1)'!G25*1.5)))))))))))) -> 17.645042 | K19: =IF(EGR!$D$3=0,(EGR!AC89*1),IF(EGR!$D$3=5,(EGR!AC89*1.05),IF(EGR!$D$3=10,(EGR!AC89*1.1),IF(EGR!$D$3=15,(EGR!AC89*1.15),IF(EGR!$D$3=20,(EGR!AC89*1.2),IF(EGR!$D$3=25,(EGR!AC89*1.25),IF(EGR!$D$3=30,(EGR!AC89*1.3),IF(EGR!$D$3=35,(EGR!AC89*1.35),IF(EGR!$D$3=40,(EGR!AC89*1.4),IF(EGR!$D$3=45,(EGR!AC89*1.45),IF(EGR!$D$3=50,(EGR!AC89*1.5)))))))))))) -> 673.416 | L19: =B19+D19+G19+J19 -> 199.66305 | M19: =C19+E19+H19+K19 -> 993.19296 | N19: 700 | R19: =R18+2 -> 18 | S19: =S18*((R19/R18)^((1.17-1)/1.17)) -> 2215.241 | U19: =(((4.7*10^13)*($Y$3)*(($X$3)^0.5)*EXP(-67837/S19)))/($Y$11*6) -> 8.8964178e-07 | V19: =U19*($Y$9*10^-6) -> 3.5585671e-11
B20: =IF(EGR!$D$3=0,('NOx Model (1)'!A26*1),IF(EGR!$D$3=5,('NOx Model (1)'!A26*1.05),IF(EGR!$D$3=10,('NOx Model (1)'!A26*1.1),IF(EGR!$D$3=15,('NOx Model (1)'!A26*1.15),IF(EGR!$D$3=20,('NOx Model (1)'!A26*1.2),IF(EGR!$D$3=25,('NOx Model (1)'!A26*1.25),IF(EGR!$D$3=30,('NOx Model (1)'!A26*1.3),IF(EGR!$D$3=35,('NOx Model (1)'!A26*1.35),IF(EGR!$D$3=40,('NOx Model (1)'!A26*1.4),IF(EGR!$D$3=45,('NOx Model (1)'!A26*1.45),IF(EGR!$D$3=50,('NOx Model (1)'!A26*1.5)))))))))))) -> 24.99475 | C20: =IF(EGR!$D$3=0,(EGR!W90*1),IF(EGR!$D$3=5,(EGR!W90*1.05),IF(EGR!$D$3=10,(EGR!W90*1.1),IF(EGR!$D$3=15,(EGR!W90*1.15),IF(EGR!$D$3=20,(EGR!W90*1.2),IF(EGR!$D$3=25,(EGR!W90*1.25),IF(EGR!$D$3=30,(EGR!W90*1.3),IF(EGR!$D$3=35,(EGR!W90*1.35),IF(EGR!$D$3=40,(EGR!W90*1.4),IF(EGR!$D$3=45,(EGR!W90*1.45),IF(EGR!$D$3=50,(EGR!W90*1.5)))))))))))) -> 188.568 | D20: =IF(EGR!$D$3=0,('NOx Model (1)'!C26*1),IF(EGR!$D$3=5,('NOx Model (1)'!C26*1.05),IF(EGR!$D$3=10,('NOx Model (1)'!C26*1.1),IF(EGR!$D$3=15,('NOx Model (1)'!C26*1.15),IF(EGR!$D$3=20,('NOx Model (1)'!C26*1.2),IF(EGR!$D$3=25,('NOx Model (1)'!C26*1.25),IF(EGR!$D$3=30,('NOx Model (1)'!C26*1.3),IF(EGR!$D$3=35,('NOx Model (1)'!C26*1.35),IF(EGR!$D$3=40,('NOx Model (1)'!C26*1.4),IF(EGR!$D$3=45,('NOx Model (1)'!C26*1.45),IF(EGR!$D$3=50,('NOx Model (1)'!C26*1.5)))))))))))) -> 167.11242 | E20: =IF(EGR!$D$3=0,(EGR!Y90*1),IF(EGR!$D$3=5,(EGR!Y90*1.05),IF(EGR!$D$3=10,(EGR!Y90*1.1),IF(EGR!$D$3=15,(EGR!Y90*1.15),IF(EGR!$D$3=20,(EGR!Y90*1.2),IF(EGR!$D$3=25,(EGR!Y90*1.25),IF(EGR!$D$3=30,(EGR!Y90*1.3),IF(EGR!$D$3=35,(EGR!Y90*1.35),IF(EGR!$D$3=40,(EGR!Y90*1.4),IF(EGR!$D$3=45,(EGR!Y90*1.45),IF(EGR!$D$3=50,(EGR!Y90*1.5)))))))))))) -> 168.55884 | G20: =IF(EGR!$D$3=0,('NOx Model (1)'!E26*1),IF(EGR!$D$3=5,('NOx Model (1)'!E26*1.05),IF(EGR!$D$3=10,('NOx Model (1)'!E26*1.1),IF(EGR!$D$3=15,('NOx Model (1)'!E26*1.15),IF(EGR!$D$3=20,('NOx Model (1)'!E26*1.2),IF(EGR!$D$3=25,('NOx Model (1)'!E26*1.25),IF(EGR!$D$3=30,('NOx Model (1)'!E26*1.3),IF(EGR!$D$3=35,('NOx Model (1)'!E26*1.35),IF(EGR!$D$3=40,('NOx Model (1)'!E26*1.4),IF(EGR!$D$3=45,('NOx Model (1)'!E26*1.45),IF(EGR!$D$3=50,('NOx Model (1)'!E26*1.5)))))))))))) -> 16.421739 | H20: =IF(EGR!$D$3=0,(EGR!AA90*1),IF(EGR!$D$3=5,(EGR!AA90*1.05),IF(EGR!$D$3=10,(EGR!AA90*1.1),IF(EGR!$D$3=15,(EGR!AA90*1.15),IF(EGR!$D$3=20,(EGR!AA90*1.2),IF(EGR!$D$3=25,(EGR!AA90*1.25),IF(EGR!$D$3=30,(EGR!AA90*1.3),IF(EGR!$D$3=35,(EGR!AA90*1.35),IF(EGR!$D$3=40,(EGR!AA90*1.4),IF(EGR!$D$3=45,(EGR!AA90*1.45),IF(EGR!$D$3=50,(EGR!AA90*1.5)))))))))))) -> 6.372 | J20: =IF(EGR!$D$3=0,('NOx Model (1)'!G26*1),IF(EGR!$D$3=5,('NOx Model (1)'!G26*1.05),IF(EGR!$D$3=10,('NOx Model (1)'!G26*1.1),IF(EGR!$D$3=15,('NOx Model (1)'!G26*1.15),IF(EGR!$D$3=20,('NOx Model (1)'!G26*1.2),IF(EGR!$D$3=25,('NOx Model (1)'!G26*1.25),IF(EGR!$D$3=30,('NOx Model (1)'!G26*1.3),IF(EGR!$D$3=35,('NOx Model (1)'!G26*1.35),IF(EGR!$D$3=40,('NOx Model (1)'!G26*1.4),IF(EGR!$D$3=45,('NOx Model (1)'!G26*1.45),IF(EGR!$D$3=50,('NOx Model (1)'!G26*1.5)))))))))))) -> 21.558273 | K20: =IF(EGR!$D$3=0,(EGR!AC90*1),IF(EGR!$D$3=5,(EGR!AC90*1.05),IF(EGR!$D$3=10,(EGR!AC90*1.1),IF(EGR!$D$3=15,(EGR!AC90*1.15),IF(EGR!$D$3=20,(EGR!AC90*1.2),IF(EGR!$D$3=25,(EGR!AC90*1.25),IF(EGR!$D$3=30,(EGR!AC90*1.3),IF(EGR!$D$3=35,(EGR!AC90*1.35),IF(EGR!$D$3=40,(EGR!AC90*1.4),IF(EGR!$D$3=45,(EGR!AC90*1.45),IF(EGR!$D$3=50,(EGR!AC90*1.5)))))))))))) -> 760.272 | L20: =B20+D20+G20+J20 -> 230.08718 | M20: =C20+E20+H20+K20 -> 1123.7708 | N20: 750 | R20: =R19+2 -> 20 | S20: =S19*((R20/R19)^((1.17-1)/1.17)) -> 2249.4146 | U20: =(((4.7*10^13)*($Y$3)*(($X$3)^0.5)*EXP(-67837/S20)))/($Y$11*6) -> 1.4166464e-06 | V20: =U20*($Y$9*10^-6) -> 5.6665856e-11
B21: =IF(EGR!$D$3=0,('NOx Model (1)'!A27*1),IF(EGR!$D$3=5,('NOx Model (1)'!A27*1.05),IF(EGR!$D$3=10,('NOx Model (1)'!A27*1.1),IF(EGR!$D$3=15,('NOx Model (1)'!A27*1.15),IF(EGR!$D$3=20,('NOx Model (1)'!A27*1.2),IF(EGR!$D$3=25,('NOx Model (1)'!A27*1.25),IF(EGR!$D$3=30,('NOx Model (1)'!A27*1.3),IF(EGR!$D$3=35,('NOx Model (1)'!A27*1.35),IF(EGR!$D$3=40,('NOx Model (1)'!A27*1.4),IF(EGR!$D$3=45,('NOx Model (1)'!A27*1.45),IF(EGR!$D$3=50,('NOx Model (1)'!A27*1.5)))))))))))) -> 28.774923 | C21: =IF(EGR!$D$3=0,(EGR!W91*1),IF(EGR!$D$3=5,(EGR!W91*1.05),IF(EGR!$D$3=10,(EGR!W91*1.1),IF(EGR!$D$3=15,(EGR!W91*1.15),IF(EGR!$D$3=20,(EGR!W91*1.2),IF(EGR!$D$3=25,(EGR!W91*1.25),IF(EGR!$D$3=30,(EGR!W91*1.3),IF(EGR!$D$3=35,(EGR!W91*1.35),IF(EGR!$D$3=40,(EGR!W91*1.4),IF(EGR!$D$3=45,(EGR!W91*1.45),IF(EGR!$D$3=50,(EGR!W91*1.5)))))))))))) -> 212.40672 | D21: =IF(EGR!$D$3=0,('NOx Model (1)'!C27*1),IF(EGR!$D$3=5,('NOx Model (1)'!C27*1.05),IF(EGR!$D$3=10,('NOx Model (1)'!C27*1.1),IF(EGR!$D$3=15,('NOx Model (1)'!C27*1.15),IF(EGR!$D$3=20,('NOx Model (1)'!C27*1.2),IF(EGR!$D$3=25,('NOx Model (1)'!C27*1.25),IF(EGR!$D$3=30,('NOx Model (1)'!C27*1.3),IF(EGR!$D$3=35,('NOx Model (1)'!C27*1.35),IF(EGR!$D$3=40,('NOx Model (1)'!C27*1.4),IF(EGR!$D$3=45,('NOx Model (1)'!C27*1.45),IF(EGR!$D$3=50,('NOx Model (1)'!C27*1.5)))))))))))) -> 188.64448 | E21: =IF(EGR!$D$3=0,(EGR!Y91*1),IF(EGR!$D$3=5,(EGR!Y91*1.05),IF(EGR!$D$3=10,(EGR!Y91*1.1),IF(EGR!$D$3=15,(EGR!Y91*1.15),IF(EGR!$D$3=20,(EGR!Y91*1.2),IF(EGR!$D$3=25,(EGR!Y91*1.25),IF(EGR!$D$3=30,(EGR!Y91*1.3),IF(EGR!$D$3=35,(EGR!Y91*1.35),IF(EGR!$D$3=40,(EGR!Y91*1.4),IF(EGR!$D$3=45,(EGR!Y91*1.45),IF(EGR!$D$3=50,(EGR!Y91*1.5)))))))))))) -> 188.568 | G21: =IF(EGR!$D$3=0,('NOx Model (1)'!E27*1),IF(EGR!$D$3=5,('NOx Model (1)'!E27*1.05),IF(EGR!$D$3=10,('NOx Model (1)'!E27*1.1),IF(EGR!$D$3=15,('NOx Model (1)'!E27*1.15),IF(EGR!$D$3=20,('NOx Model (1)'!E27*1.2),IF(EGR!$D$3=25,('NOx Model (1)'!E27*1.25),IF(EGR!$D$3=30,('NOx Model (1)'!E27*1.3),IF(EGR!$D$3=35,('NOx Model (1)'!E27*1.35),IF(EGR!$D$3=40,('NOx Model (1)'!E27*1.4),IF(EGR!$D$3=45,('NOx Model (1)'!E27*1.45),IF(EGR!$D$3=50,('NOx Model (1)'!E27*1.5)))))))))))) -> 18.474658 | H21: =IF(EGR!$D$3=0,(EGR!AA91*1),IF(EGR!$D$3=5,(EGR!AA91*1.05),IF(EGR!$D$3=10,(EGR!AA91*1.1),IF(EGR!$D$3=15,(EGR!AA91*1.15),IF(EGR!$D$3=20,(EGR!AA91*1.2),IF(EGR!$D$3=25,(EGR!AA91*1.25),IF(EGR!$D$3=30,(EGR!AA91*1.3),IF(EGR!$D$3=35,(EGR!AA91*1.35),IF(EGR!$D$3=40,(EGR!AA91*1.4),IF(EGR!$D$3=45,(EGR!AA91*1.45),IF(EGR!$D$3=50,(EGR!AA91*1.5)))))))))))) -> 7.128 | J21: =IF(EGR!$D$3=0,('NOx Model (1)'!G27*1),IF(EGR!$D$3=5,('NOx Model (1)'!G27*1.05),IF(EGR!$D$3=10,('NOx Model (1)'!G27*1.1),IF(EGR!$D$3=15,('NOx Model (1)'!G27*1.15),IF(EGR!$D$3=20,('NOx Model (1)'!G27*1.2),IF(EGR!$D$3=25,('NOx Model (1)'!G27*1.25),IF(EGR!$D$3=30,('NOx Model (1)'!G27*1.3),IF(EGR!$D$3=35,('NOx Model (1)'!G27*1.35),IF(EGR!$D$3=40,('NOx Model (1)'!G27*1.4),IF(EGR!$D$3=45,('NOx Model (1)'!G27*1.45),IF(EGR!$D$3=50,('NOx Model (1)'!G27*1.5)))))))))))) -> 26.293966 | K21: =IF(EGR!$D$3=0,(EGR!AC91*1),IF(EGR!$D$3=5,(EGR!AC91*1.05),IF(EGR!$D$3=10,(EGR!AC91*1.1),IF(EGR!$D$3=15,(EGR!AC91*1.15),IF(EGR!$D$3=20,(EGR!AC91*1.2),IF(EGR!$D$3=25,(EGR!AC91*1.25),IF(EGR!$D$3=30,(EGR!AC91*1.3),IF(EGR!$D$3=35,(EGR!AC91*1.35),IF(EGR!$D$3=40,(EGR!AC91*1.4),IF(EGR!$D$3=45,(EGR!AC91*1.45),IF(EGR!$D$3=50,(EGR!AC91*1.5)))))))))))) -> 848.256 | L21: =B21+D21+G21+J21 -> 262.18803 | M21: =C21+E21+H21+K21 -> 1256.3587 | N21: 800 | R21: =R20+2 -> 22 | S21: =S20*((R21/R20)^((1.17-1)/1.17)) -> 2280.7823 | U21: =(((4.7*10^13)*($Y$3)*(($X$3)^0.5)*EXP(-67837/S21)))/($Y$11*6) -> 2.1448108e-06 | V21: =U21*($Y$9*10^-6) -> 8.5792433e-11
B22: =IF(EGR!$D$3=0,('NOx Model (1)'!A28*1),IF(EGR!$D$3=5,('NOx Model (1)'!A28*1.05),IF(EGR!$D$3=10,('NOx Model (1)'!A28*1.1),IF(EGR!$D$3=15,('NOx Model (1)'!A28*1.15),IF(EGR!$D$3=20,('NOx Model (1)'!A28*1.2),IF(EGR!$D$3=25,('NOx Model (1)'!A28*1.25),IF(EGR!$D$3=30,('NOx Model (1)'!A28*1.3),IF(EGR!$D$3=35,('NOx Model (1)'!A28*1.35),IF(EGR!$D$3=40,('NOx Model (1)'!A28*1.4),IF(EGR!$D$3=45,('NOx Model (1)'!A28*1.45),IF(EGR!$D$3=50,('NOx Model (1)'!A28*1.5)))))))))))) -> 32.841047 | C22: =IF(EGR!$D$3=0,(EGR!W92*1),IF(EGR!$D$3=5,(EGR!W92*1.05),IF(EGR!$D$3=10,(EGR!W92*1.1),IF(EGR!$D$3=15,(EGR!W92*1.15),IF(EGR!$D$3=20,(EGR!W92*1.2),IF(EGR!$D$3=25,(EGR!W92*1.25),IF(EGR!$D$3=30,(EGR!W92*1.3),IF(EGR!$D$3=35,(EGR!W92*1.35),IF(EGR!$D$3=40,(EGR!W92*1.4),IF(EGR!$D$3=45,(EGR!W92*1.45),IF(EGR!$D$3=50,(EGR!W92*1.5)))))))))))) -> 236.61792 | D22: =IF(EGR!$D$3=0,('NOx Model (1)'!C28*1),IF(EGR!$D$3=5,('NOx Model (1)'!C28*1.05),IF(EGR!$D$3=10,('NOx Model (1)'!C28*1.1),IF(EGR!$D$3=15,('NOx Model (1)'!C28*1.15),IF(EGR!$D$3=20,('NOx Model (1)'!C28*1.2),IF(EGR!$D$3=25,('NOx Model (1)'!C28*1.25),IF(EGR!$D$3=30,('NOx Model (1)'!C28*1.3),IF(EGR!$D$3=35,('NOx Model (1)'!C28*1.35),IF(EGR!$D$3=40,('NOx Model (1)'!C28*1.4),IF(EGR!$D$3=45,('NOx Model (1)'!C28*1.45),IF(EGR!$D$3=50,('NOx Model (1)'!C28*1.5)))))))))))) -> 210.64204 | E22: =IF(EGR!$D$3=0,(EGR!Y92*1),IF(EGR!$D$3=5,(EGR!Y92*1.05),IF(EGR!$D$3=10,(EGR!Y92*1.1),IF(EGR!$D$3=15,(EGR!Y92*1.15),IF(EGR!$D$3=20,(EGR!Y92*1.2),IF(EGR!$D$3=25,(EGR!Y92*1.25),IF(EGR!$D$3=30,(EGR!Y92*1.3),IF(EGR!$D$3=35,(EGR!Y92*1.35),IF(EGR!$D$3=40,(EGR!Y92*1.4),IF(EGR!$D$3=45,(EGR!Y92*1.45),IF(EGR!$D$3=50,(EGR!Y92*1.5)))))))))))) -> 208.9962 | G22: =IF(EGR!$D$3=0,('NOx Model (1)'!E28*1),IF(EGR!$D$3=5,('NOx Model (1)'!E28*1.05),IF(EGR!$D$3=10,('NOx Model (1)'!E28*1.1),IF(EGR!$D$3=15,('NOx Model (1)'!E28*1.15),IF(EGR!$D$3=20,('NOx Model (1)'!E28*1.2),IF(EGR!$D$3=25,('NOx Model (1)'!E28*1.25),IF(EGR!$D$3=30,('NOx Model (1)'!E28*1.3),IF(EGR!$D$3=35,('NOx Model (1)'!E28*1.35),IF(EGR!$D$3=40,('NOx Model (1)'!E28*1.4),IF(EGR!$D$3=45,('NOx Model (1)'!E28*1.45),IF(EGR!$D$3=50,('NOx Model (1)'!E28*1.5)))))))))))) -> 20.5376 | H22: =IF(EGR!$D$3=0,(EGR!AA92*1),IF(EGR!$D$3=5,(EGR!AA92*1.05),IF(EGR!$D$3=10,(EGR!AA92*1.1),IF(EGR!$D$3=15,(EGR!AA92*1.15),IF(EGR!$D$3=20,(EGR!AA92*1.2),IF(EGR!$D$3=25,(EGR!AA92*1.25),IF(EGR!$D$3=30,(EGR!AA92*1.3),IF(EGR!$D$3=35,(EGR!AA92*1.35),IF(EGR!$D$3=40,(EGR!AA92*1.4),IF(EGR!$D$3=45,(EGR!AA92*1.45),IF(EGR!$D$3=50,(EGR!AA92*1.5)))))))))))) -> 7.8885 | J22: =IF(EGR!$D$3=0,('NOx Model (1)'!G28*1),IF(EGR!$D$3=5,('NOx Model (1)'!G28*1.05),IF(EGR!$D$3=10,('NOx Model (1)'!G28*1.1),IF(EGR!$D$3=15,('NOx Model (1)'!G28*1.15),IF(EGR!$D$3=20,('NOx Model (1)'!G28*1.2),IF(EGR!$D$3=25,('NOx Model (1)'!G28*1.25),IF(EGR!$D$3=30,('NOx Model (1)'!G28*1.3),IF(EGR!$D$3=35,('NOx Model (1)'!G28*1.35),IF(EGR!$D$3=40,('NOx Model (1)'!G28*1.4),IF(EGR!$D$3=45,('NOx Model (1)'!G28*1.45),IF(EGR!$D$3=50,('NOx Model (1)'!G28*1.5)))))))))))) -> 32.070583 | K22: =IF(EGR!$D$3=0,(EGR!AC92*1),IF(EGR!$D$3=5,(EGR!AC92*1.05),IF(EGR!$D$3=10,(EGR!AC92*1.1),IF(EGR!$D$3=15,(EGR!AC92*1.15),IF(EGR!$D$3=20,(EGR!AC92*1.2),IF(EGR!$D$3=25,(EGR!AC92*1.25),IF(EGR!$D$3=30,(EGR!AC92*1.3),IF(EGR!$D$3=35,(EGR!AC92*1.35),IF(EGR!$D$3=40,(EGR!AC92*1.4),IF(EGR!$D$3=45,(EGR!AC92*1.45),IF(EGR!$D$3=50,(EGR!AC92*1.5)))))))))))) -> 937.368 | L22: =B22+D22+G22+J22 -> 296.09127 | M22: =C22+E22+H22+K22 -> 1390.8706 | N22: 850 | R22: =R21+2 -> 24 | S22: =S21*((R22/R21)^((1.17-1)/1.17)) -> 2309.8005 | U22: =(((4.7*10^13)*($Y$3)*(($X$3)^0.5)*EXP(-67837/S22)))/($Y$11*6) -> 3.1165101e-06 | V22: =U22*($Y$9*10^-6) -> 1.246604e-10
B23: =IF(EGR!$D$3=0,('NOx Model (1)'!A29*1),IF(EGR!$D$3=5,('NOx Model (1)'!A29*1.05),IF(EGR!$D$3=10,('NOx Model (1)'!A29*1.1),IF(EGR!$D$3=15,('NOx Model (1)'!A29*1.15),IF(EGR!$D$3=20,('NOx Model (1)'!A29*1.2),IF(EGR!$D$3=25,('NOx Model (1)'!A29*1.25),IF(EGR!$D$3=30,('NOx Model (1)'!A29*1.3),IF(EGR!$D$3=35,('NOx Model (1)'!A29*1.35),IF(EGR!$D$3=40,('NOx Model (1)'!A29*1.4),IF(EGR!$D$3=45,('NOx Model (1)'!A29*1.45),IF(EGR!$D$3=50,('NOx Model (1)'!A29*1.5)))))))))))) -> 37.237765 | C23: =IF(EGR!$D$3=0,(EGR!W93*1),IF(EGR!$D$3=5,(EGR!W93*1.05),IF(EGR!$D$3=10,(EGR!W93*1.1),IF(EGR!$D$3=15,(EGR!W93*1.15),IF(EGR!$D$3=20,(EGR!W93*1.2),IF(EGR!$D$3=25,(EGR!W93*1.25),IF(EGR!$D$3=30,(EGR!W93*1.3),IF(EGR!$D$3=35,(EGR!W93*1.35),IF(EGR!$D$3=40,(EGR!W93*1.4),IF(EGR!$D$3=45,(EGR!W93*1.45),IF(EGR!$D$3=50,(EGR!W93*1.5)))))))))))) -> 261.2016 | D23: =IF(EGR!$D$3=0,('NOx Model (1)'!C29*1),IF(EGR!$D$3=5,('NOx Model (1)'!C29*1.05),IF(EGR!$D$3=10,('NOx Model (1)'!C29*1.1),IF(EGR!$D$3=15,('NOx Model (1)'!C29*1.15),IF(EGR!$D$3=20,('NOx Model (1)'!C29*1.2),IF(EGR!$D$3=25,('NOx Model (1)'!C29*1.25),IF(EGR!$D$3=30,('NOx Model (1)'!C29*1.3),IF(EGR!$D$3=35,('NOx Model (1)'!C29*1.35),IF(EGR!$D$3=40,('NOx Model (1)'!C29*1.4),IF(EGR!$D$3=45,('NOx Model (1)'!C29*1.45),IF(EGR!$D$3=50,('NOx Model (1)'!C29*1.5)))))))))))) -> 233.01686 | E23: =IF(EGR!$D$3=0,(EGR!Y93*1),IF(EGR!$D$3=5,(EGR!Y93*1.05),IF(EGR!$D$3=10,(EGR!Y93*1.1),IF(EGR!$D$3=15,(EGR!Y93*1.15),IF(EGR!$D$3=20,(EGR!Y93*1.2),IF(EGR!$D$3=25,(EGR!Y93*1.25),IF(EGR!$D$3=30,(EGR!Y93*1.3),IF(EGR!$D$3=35,(EGR!Y93*1.35),IF(EGR!$D$3=40,(EGR!Y93*1.4),IF(EGR!$D$3=45,(EGR!Y93*1.45),IF(EGR!$D$3=50,(EGR!Y93*1.5)))))))))))) -> 229.73868 | G23: =IF(EGR!$D$3=0,('NOx Model (1)'!E29*1),IF(EGR!$D$3=5,('NOx Model (1)'!E29*1.05),IF(EGR!$D$3=10,('NOx Model (1)'!E29*1.1),IF(EGR!$D$3=15,('NOx Model (1)'!E29*1.15),IF(EGR!$D$3=20,('NOx Model (1)'!E29*1.2),IF(EGR!$D$3=25,('NOx Model (1)'!E29*1.25),IF(EGR!$D$3=30,('NOx Model (1)'!E29*1.3),IF(EGR!$D$3=35,('NOx Model (1)'!E29*1.35),IF(EGR!$D$3=40,('NOx Model (1)'!E29*1.4),IF(EGR!$D$3=45,('NOx Model (1)'!E29*1.45),IF(EGR!$D$3=50,('NOx Model (1)'!E29*1.5)))))))))))) -> 22.59449 | H23: =IF(EGR!$D$3=0,(EGR!AA93*1),IF(EGR!$D$3=5,(EGR!AA93*1.05),IF(EGR!$D$3=10,(EGR!AA93*1.1),IF(EGR!$D$3=15,(EGR!AA93*1.15),IF(EGR!$D$3=20,(EGR!AA93*1.2),IF(EGR!$D$3=25,(EGR!AA93*1.25),IF(EGR!$D$3=30,(EGR!AA93*1.3),IF(EGR!$D$3=35,(EGR!AA93*1.35),IF(EGR!$D$3=40,(EGR!AA93*1.4),IF(EGR!$D$3=45,(EGR!AA93*1.45),IF(EGR!$D$3=50,(EGR!AA93*1.5)))))))))))) -> 8.6625 | J23: =IF(EGR!$D$3=0,('NOx Model (1)'!G29*1),IF(EGR!$D$3=5,('NOx Model (1)'!G29*1.05),IF(EGR!$D$3=10,('NOx Model (1)'!G29*1.1),IF(EGR!$D$3=15,('NOx Model (1)'!G29*1.15),IF(EGR!$D$3=20,('NOx Model (1)'!G29*1.2),IF(EGR!$D$3=25,('NOx Model (1)'!G29*1.25),IF(EGR!$D$3=30,('NOx Model (1)'!G29*1.3),IF(EGR!$D$3=35,('NOx Model (1)'!G29*1.35),IF(EGR!$D$3=40,('NOx Model (1)'!G29*1.4),IF(EGR!$D$3=45,('NOx Model (1)'!G29*1.45),IF(EGR!$D$3=50,('NOx Model (1)'!G29*1.5)))))))))))) -> 39.155779 | K23: =IF(EGR!$D$3=0,(EGR!AC93*1),IF(EGR!$D$3=5,(EGR!AC93*1.05),IF(EGR!$D$3=10,(EGR!AC93*1.1),IF(EGR!$D$3=15,(EGR!AC93*1.15),IF(EGR!$D$3=20,(EGR!AC93*1.2),IF(EGR!$D$3=25,(EGR!AC93*1.25),IF(EGR!$D$3=30,(EGR!AC93*1.3),IF(EGR!$D$3=35,(EGR!AC93*1.35),IF(EGR!$D$3=40,(EGR!AC93*1.4),IF(EGR!$D$3=45,(EGR!AC93*1.45),IF(EGR!$D$3=50,(EGR!AC93*1.5)))))))))))) -> 1027.608 | L23: =B23+D23+G23+J23 -> 332.00489 | M23: =C23+E23+H23+K23 -> 1527.2108 | N23: 900 | R23: =R22+2 -> 26 | S23: =S22*((R23/R22)^((1.17-1)/1.17)) -> 2336.8207 | U23: =(((4.7*10^13)*($Y$3)*(($X$3)^0.5)*EXP(-67837/S23)))/($Y$11*6) -> 4.3767354e-06 | V23: =U23*($Y$9*10^-6) -> 1.7506942e-10
B24: =IF(EGR!$D$3=0,('NOx Model (1)'!A30*1),IF(EGR!$D$3=5,('NOx Model (1)'!A30*1.05),IF(EGR!$D$3=10,('NOx Model (1)'!A30*1.1),IF(EGR!$D$3=15,('NOx Model (1)'!A30*1.15),IF(EGR!$D$3=20,('NOx Model (1)'!A30*1.2),IF(EGR!$D$3=25,('NOx Model (1)'!A30*1.25),IF(EGR!$D$3=30,('NOx Model (1)'!A30*1.3),IF(EGR!$D$3=35,('NOx Model (1)'!A30*1.35),IF(EGR!$D$3=40,('NOx Model (1)'!A30*1.4),IF(EGR!$D$3=45,('NOx Model (1)'!A30*1.45),IF(EGR!$D$3=50,('NOx Model (1)'!A30*1.5)))))))))))) -> 42.023995 | C24: =IF(EGR!$D$3=0,(EGR!W94*1),IF(EGR!$D$3=5,(EGR!W94*1.05),IF(EGR!$D$3=10,(EGR!W94*1.1),IF(EGR!$D$3=15,(EGR!W94*1.15),IF(EGR!$D$3=20,(EGR!W94*1.2),IF(EGR!$D$3=25,(EGR!W94*1.25),IF(EGR!$D$3=30,(EGR!W94*1.3),IF(EGR!$D$3=35,(EGR!W94*1.35),IF(EGR!$D$3=40,(EGR!W94*1.4),IF(EGR!$D$3=45,(EGR!W94*1.45),IF(EGR!$D$3=50,(EGR!W94*1.5)))))))))))) -> 286.06464 | D24: =IF(EGR!$D$3=0,('NOx Model (1)'!C30*1),IF(EGR!$D$3=5,('NOx Model (1)'!C30*1.05),IF(EGR!$D$3=10,('NOx Model (1)'!C30*1.1),IF(EGR!$D$3=15,('NOx Model (1)'!C30*1.15),IF(EGR!$D$3=20,('NOx Model (1)'!C30*1.2),IF(EGR!$D$3=25,('NOx Model (1)'!C30*1.25),IF(EGR!$D$3=30,('NOx Model (1)'!C30*1.3),IF(EGR!$D$3=35,('NOx Model (1)'!C30*1.35),IF(EGR!$D$3=40,('NOx Model (1)'!C30*1.4),IF(EGR!$D$3=45,('NOx Model (1)'!C30*1.45),IF(EGR!$D$3=50,('NOx Model (1)'!C30*1.5)))))))))))) -> 255.69762 | E24: =IF(EGR!$D$3=0,(EGR!Y94*1),IF(EGR!$D$3=5,(EGR!Y94*1.05),IF(EGR!$D$3=10,(EGR!Y94*1.1),IF(EGR!$D$3=15,(EGR!Y94*1.15),IF(EGR!$D$3=20,(EGR!Y94*1.2),IF(EGR!$D$3=25,(EGR!Y94*1.25),IF(EGR!$D$3=30,(EGR!Y94*1.3),IF(EGR!$D$3=35,(EGR!Y94*1.35),IF(EGR!$D$3=40,(EGR!Y94*1.4),IF(EGR!$D$3=45,(EGR!Y94*1.45),IF(EGR!$D$3=50,(EGR!Y94*1.5)))))))))))) -> 250.79544 | G24: =IF(EGR!$D$3=0,('NOx Model (1)'!E30*1),IF(EGR!$D$3=5,('NOx Model (1)'!E30*1.05),IF(EGR!$D$3=10,('NOx Model (1)'!E30*1.1),IF(EGR!$D$3=15,('NOx Model (1)'!E30*1.15),IF(EGR!$D$3=20,('NOx Model (1)'!E30*1.2),IF(EGR!$D$3=25,('NOx Model (1)'!E30*1.25),IF(EGR!$D$3=30,('NOx Model (1)'!E30*1.3),IF(EGR!$D$3=35,('NOx Model (1)'!E30*1.35),IF(EGR!$D$3=40,('NOx Model (1)'!E30*1.4),IF(EGR!$D$3=45,('NOx Model (1)'!E30*1.45),IF(EGR!$D$3=50,('NOx Model (1)'!E30*1.5)))))))))))) -> 24.630107 | H24: =IF(EGR!$D$3=0,(EGR!AA94*1),IF(EGR!$D$3=5,(EGR!AA94*1.05),IF(EGR!$D$3=10,(EGR!AA94*1.1),IF(EGR!$D$3=15,(EGR!AA94*1.15),IF(EGR!$D$3=20,(EGR!AA94*1.2),IF(EGR!$D$3=25,(EGR!AA94*1.25),IF(EGR!$D$3=30,(EGR!AA94*1.3),IF(EGR!$D$3=35,(EGR!AA94*1.35),IF(EGR!$D$3=40,(EGR!AA94*1.4),IF(EGR!$D$3=45,(EGR!AA94*1.45),IF(EGR!$D$3=50,(EGR!AA94*1.5)))))))))))) -> 9.441 | J24: =IF(EGR!$D$3=0,('NOx Model (1)'!G30*1),IF(EGR!$D$3=5,('NOx Model (1)'!G30*1.05),IF(EGR!$D$3=10,('NOx Model (1)'!G30*1.1),IF(EGR!$D$3=15,('NOx Model (1)'!G30*1.15),IF(EGR!$D$3=20,('NOx Model (1)'!G30*1.2),IF(EGR!$D$3=25,('NOx Model (1)'!G30*1.25),IF(EGR!$D$3=30,('NOx Model (1)'!G30*1.3),IF(EGR!$D$3=35,('NOx Model (1)'!G30*1.35),IF(EGR!$D$3=40,('NOx Model (1)'!G30*1.4),IF(EGR!$D$3=45,('NOx Model (1)'!G30*1.45),IF(EGR!$D$3=50,('NOx Model (1)'!G30*1.5)))))))))))) -> 47.872305 | K24: =IF(EGR!$D$3=0,(EGR!AC94*1),IF(EGR!$D$3=5,(EGR!AC94*1.05),IF(EGR!$D$3=10,(EGR!AC94*1.1),IF(EGR!$D$3=15,(EGR!AC94*1.15),IF(EGR!$D$3=20,(EGR!AC94*1.2),IF(EGR!$D$3=25,(EGR!AC94*1.25),IF(EGR!$D$3=30,(EGR!AC94*1.3),IF(EGR!$D$3=35,(EGR!AC94*1.35),IF(EGR!$D$3=40,(EGR!AC94*1.4),IF(EGR!$D$3=45,(EGR!AC94*1.45),IF(EGR!$D$3=50,(EGR!AC94*1.5)))))))))))) -> 1118.976 | L24: =B24+D24+G24+J24 -> 370.22402 | M24: =C24+E24+H24+K24 -> 1665.2771 | N24: 950 | R24: =R23+2 -> 28 | S24: =S23*((R24/R23)^((1.17-1)/1.17)) -> 2362.1191 | U24: =(((4.7*10^13)*($Y$3)*(($X$3)^0.5)*EXP(-67837/S24)))/($Y$11*6) -> 5.9727771e-06 | V24: =U24*($Y$9*10^-6) -> 2.3891108e-10
B25: =IF(EGR!$D$3=0,('NOx Model (1)'!A31*1),IF(EGR!$D$3=5,('NOx Model (1)'!A31*1.05),IF(EGR!$D$3=10,('NOx Model (1)'!A31*1.1),IF(EGR!$D$3=15,('NOx Model (1)'!A31*1.15),IF(EGR!$D$3=20,('NOx Model (1)'!A31*1.2),IF(EGR!$D$3=25,('NOx Model (1)'!A31*1.25),IF(EGR!$D$3=30,('NOx Model (1)'!A31*1.3),IF(EGR!$D$3=35,('NOx Model (1)'!A31*1.35),IF(EGR!$D$3=40,('NOx Model (1)'!A31*1.4),IF(EGR!$D$3=45,('NOx Model (1)'!A31*1.45),IF(EGR!$D$3=50,('NOx Model (1)'!A31*1.5)))))))))))) -> 47.274064 | C25: =IF(EGR!$D$3=0,(EGR!W95*1),IF(EGR!$D$3=5,(EGR!W95*1.05),IF(EGR!$D$3=10,(EGR!W95*1.1),IF(EGR!$D$3=15,(EGR!W95*1.15),IF(EGR!$D$3=20,(EGR!W95*1.2),IF(EGR!$D$3=25,(EGR!W95*1.25),IF(EGR!$D$3=30,(EGR!W95*1.3),IF(EGR!$D$3=35,(EGR!W95*1.35),IF(EGR!$D$3=40,(EGR!W95*1.4),IF(EGR!$D$3=45,(EGR!W95*1.45),IF(EGR!$D$3=50,(EGR!W95*1.5)))))))))))) -> 311.20704 | D25: =IF(EGR!$D$3=0,('NOx Model (1)'!C31*1),IF(EGR!$D$3=5,('NOx Model (1)'!C31*1.05),IF(EGR!$D$3=10,('NOx Model (1)'!C31*1.1),IF(EGR!$D$3=15,('NOx Model (1)'!C31*1.15),IF(EGR!$D$3=20,('NOx Model (1)'!C31*1.2),IF(EGR!$D$3=25,('NOx Model (1)'!C31*1.25),IF(EGR!$D$3=30,('NOx Model (1)'!C31*1.3),IF(EGR!$D$3=35,('NOx Model (1)'!C31*1.35),IF(EGR!$D$3=40,('NOx Model (1)'!C31*1.4),IF(EGR!$D$3=45,('NOx Model (1)'!C31*1.45),IF(EGR!$D$3=50,('NOx Model (1)'!C31*1.5)))))))))))) -> 278.62809 | E25: =IF(EGR!$D$3=0,(EGR!Y95*1),IF(EGR!$D$3=5,(EGR!Y95*1.05),IF(EGR!$D$3=10,(EGR!Y95*1.1),IF(EGR!$D$3=15,(EGR!Y95*1.15),IF(EGR!$D$3=20,(EGR!Y95*1.2),IF(EGR!$D$3=25,(EGR!Y95*1.25),IF(EGR!$D$3=30,(EGR!Y95*1.3),IF(EGR!$D$3=35,(EGR!Y95*1.35),IF(EGR!$D$3=40,(EGR!Y95*1.4),IF(EGR!$D$3=45,(EGR!Y95*1.45),IF(EGR!$D$3=50,(EGR!Y95*1.5)))))))))))) -> 272.27124 | G25: =IF(EGR!$D$3=0,('NOx Model (1)'!E31*1),IF(EGR!$D$3=5,('NOx Model (1)'!E31*1.05),IF(EGR!$D$3=10,('NOx Model (1)'!E31*1.1),IF(EGR!$D$3=15,('NOx Model (1)'!E31*1.15),IF(EGR!$D$3=20,('NOx Model (1)'!E31*1.2),IF(EGR!$D$3=25,('NOx Model (1)'!E31*1.25),IF(EGR!$D$3=30,('NOx Model (1)'!E31*1.3),IF(EGR!$D$3=35,('NOx Model (1)'!E31*1.35),IF(EGR!$D$3=40,('NOx Model (1)'!E31*1.4),IF(EGR!$D$3=45,('NOx Model (1)'!E31*1.45),IF(EGR!$D$3=50,('NOx Model (1)'!E31*1.5)))))))))))) -> 26.629756 | H25: =IF(EGR!$D$3=0,(EGR!AA95*1),IF(EGR!$D$3=5,(EGR!AA95*1.05),IF(EGR!$D$3=10,(EGR!AA95*1.1),IF(EGR!$D$3=15,(EGR!AA95*1.15),IF(EGR!$D$3=20,(EGR!AA95*1.2),IF(EGR!$D$3=25,(EGR!AA95*1.25),IF(EGR!$D$3=30,(EGR!AA95*1.3),IF(EGR!$D$3=35,(EGR!AA95*1.35),IF(EGR!$D$3=40,(EGR!AA95*1.4),IF(EGR!$D$3=45,(EGR!AA95*1.45),IF(EGR!$D$3=50,(EGR!AA95*1.5)))))))))))) -> 10.224 | J25: =IF(EGR!$D$3=0,('NOx Model (1)'!G31*1),IF(EGR!$D$3=5,('NOx Model (1)'!G31*1.05),IF(EGR!$D$3=10,('NOx Model (1)'!G31*1.1),IF(EGR!$D$3=15,('NOx Model (1)'!G31*1.15),IF(EGR!$D$3=20,('NOx Model (1)'!G31*1.2),IF(EGR!$D$3=25,('NOx Model (1)'!G31*1.25),IF(EGR!$D$3=30,('NOx Model (1)'!G31*1.3),IF(EGR!$D$3=35,('NOx Model (1)'!G31*1.35),IF(EGR!$D$3=40,('NOx Model (1)'!G31*1.4),IF(EGR!$D$3=45,('NOx Model (1)'!G31*1.45),IF(EGR!$D$3=50,('NOx Model (1)'!G31*1.5)))))))))))) -> 58.604274 | K25: =IF(EGR!$D$3=0,(EGR!AC95*1),IF(EGR!$D$3=5,(EGR!AC95*1.05),IF(EGR!$D$3=10,(EGR!AC95*1.1),IF(EGR!$D$3=15,(EGR!AC95*1.15),IF(EGR!$D$3=20,(EGR!AC95*1.2),IF(EGR!$D$3=25,(EGR!AC95*1.25),IF(EGR!$D$3=30,(EGR!AC95*1.3),IF(EGR!$D$3=35,(EGR!AC95*1.35),IF(EGR!$D$3=40,(EGR!AC95*1.4),IF(EGR!$D$3=45,(EGR!AC95*1.45),IF(EGR!$D$3=50,(EGR!AC95*1.5)))))))))))) -> 1210.908 | L25: =B25+D25+G25+J25 -> 411.13618 | M25: =C25+E25+H25+K25 -> 1804.6103 | N25: 1000 | R25: =R24+2 -> 30 | S25: =S24*((R25/R24)^((1.17-1)/1.17)) -> 2385.9175 | U25: =(((4.7*10^13)*($Y$3)*(($X$3)^0.5)*EXP(-67837/S25)))/($Y$11*6) -> 7.9539405e-06 | V25: =U25*($Y$9*10^-6) -> 3.1815762e-10
B26: =IF(EGR!$D$3=0,('NOx Model (1)'!A32*1),IF(EGR!$D$3=5,('NOx Model (1)'!A32*1.05),IF(EGR!$D$3=10,('NOx Model (1)'!A32*1.1),IF(EGR!$D$3=15,('NOx Model (1)'!A32*1.15),IF(EGR!$D$3=20,('NOx Model (1)'!A32*1.2),IF(EGR!$D$3=25,('NOx Model (1)'!A32*1.25),IF(EGR!$D$3=30,('NOx Model (1)'!A32*1.3),IF(EGR!$D$3=35,('NOx Model (1)'!A32*1.35),IF(EGR!$D$3=40,('NOx Model (1)'!A32*1.4),IF(EGR!$D$3=45,('NOx Model (1)'!A32*1.45),IF(EGR!$D$3=50,('NOx Model (1)'!A32*1.5)))))))))))) -> 53.078943 | C26: =IF(EGR!$D$3=0,(EGR!W96*1),IF(EGR!$D$3=5,(EGR!W96*1.05),IF(EGR!$D$3=10,(EGR!W96*1.1),IF(EGR!$D$3=15,(EGR!W96*1.15),IF(EGR!$D$3=20,(EGR!W96*1.2),IF(EGR!$D$3=25,(EGR!W96*1.25),IF(EGR!$D$3=30,(EGR!W96*1.3),IF(EGR!$D$3=35,(EGR!W96*1.35),IF(EGR!$D$3=40,(EGR!W96*1.4),IF(EGR!$D$3=45,(EGR!W96*1.45),IF(EGR!$D$3=50,(EGR!W96*1.5)))))))))))) -> 336.6288 | D26: =IF(EGR!$D$3=0,('NOx Model (1)'!C32*1),IF(EGR!$D$3=5,('NOx Model (1)'!C32*1.05),IF(EGR!$D$3=10,('NOx Model (1)'!C32*1.1),IF(EGR!$D$3=15,('NOx Model (1)'!C32*1.15),IF(EGR!$D$3=20,('NOx Model (1)'!C32*1.2),IF(EGR!$D$3=25,('NOx Model (1)'!C32*1.25),IF(EGR!$D$3=30,('NOx Model (1)'!C32*1.3),IF(EGR!$D$3=35,('NOx Model (1)'!C32*1.35),IF(EGR!$D$3=40,('NOx Model (1)'!C32*1.4),IF(EGR!$D$3=45,('NOx Model (1)'!C32*1.45),IF(EGR!$D$3=50,('NOx Model (1)'!C32*1.5)))))))))))) -> 301.76549 | E26: =IF(EGR!$D$3=0,(EGR!Y96*1),IF(EGR!$D$3=5,(EGR!Y96*1.05),IF(EGR!$D$3=10,(EGR!Y96*1.1),IF(EGR!$D$3=15,(EGR!Y96*1.15),IF(EGR!$D$3=20,(EGR!Y96*1.2),IF(EGR!$D$3=25,(EGR!Y96*1.25),IF(EGR!$D$3=30,(EGR!Y96*1.3),IF(EGR!$D$3=35,(EGR!Y96*1.35),IF(EGR!$D$3=40,(EGR!Y96*1.4),IF(EGR!$D$3=45,(EGR!Y96*1.45),IF(EGR!$D$3=50,(EGR!Y96*1.5)))))))))))) -> 294.06132 | G26: =IF(EGR!$D$3=0,('NOx Model (1)'!E32*1),IF(EGR!$D$3=5,('NOx Model (1)'!E32*1.05),IF(EGR!$D$3=10,('NOx Model (1)'!E32*1.1),IF(EGR!$D$3=15,('NOx Model (1)'!E32*1.15),IF(EGR!$D$3=20,('NOx Model (1)'!E32*1.2),IF(EGR!$D$3=25,('NOx Model (1)'!E32*1.25),IF(EGR!$D$3=30,('NOx Model (1)'!E32*1.3),IF(EGR!$D$3=35,('NOx Model (1)'!E32*1.35),IF(EGR!$D$3=40,('NOx Model (1)'!E32*1.4),IF(EGR!$D$3=45,('NOx Model (1)'!E32*1.45),IF(EGR!$D$3=50,('NOx Model (1)'!E32*1.5)))))))))))) -> 28.578931 | H26: =IF(EGR!$D$3=0,(EGR!AA96*1),IF(EGR!$D$3=5,(EGR!AA96*1.05),IF(EGR!$D$3=10,(EGR!AA96*1.1),IF(EGR!$D$3=15,(EGR!AA96*1.15),IF(EGR!$D$3=20,(EGR!AA96*1.2),IF(EGR!$D$3=25,(EGR!AA96*1.25),IF(EGR!$D$3=30,(EGR!AA96*1.3),IF(EGR!$D$3=35,(EGR!AA96*1.35),IF(EGR!$D$3=40,(EGR!AA96*1.4),IF(EGR!$D$3=45,(EGR!AA96*1.45),IF(EGR!$D$3=50,(EGR!AA96*1.5)))))))))))) -> 11.0115 | J26: =IF(EGR!$D$3=0,('NOx Model (1)'!G32*1),IF(EGR!$D$3=5,('NOx Model (1)'!G32*1.05),IF(EGR!$D$3=10,('NOx Model (1)'!G32*1.1),IF(EGR!$D$3=15,('NOx Model (1)'!G32*1.15),IF(EGR!$D$3=20,('NOx Model (1)'!G32*1.2),IF(EGR!$D$3=25,('NOx Model (1)'!G32*1.25),IF(EGR!$D$3=30,('NOx Model (1)'!G32*1.3),IF(EGR!$D$3=35,('NOx Model (1)'!G32*1.35),IF(EGR!$D$3=40,('NOx Model (1)'!G32*1.4),IF(EGR!$D$3=45,('NOx Model (1)'!G32*1.45),IF(EGR!$D$3=50,('NOx Model (1)'!G32*1.5)))))))))))) -> 71.803818 | K26: =IF(EGR!$D$3=0,(EGR!AC96*1),IF(EGR!$D$3=5,(EGR!AC96*1.05),IF(EGR!$D$3=10,(EGR!AC96*1.1),IF(EGR!$D$3=15,(EGR!AC96*1.15),IF(EGR!$D$3=20,(EGR!AC96*1.2),IF(EGR!$D$3=25,(EGR!AC96*1.25),IF(EGR!$D$3=30,(EGR!AC96*1.3),IF(EGR!$D$3=35,(EGR!AC96*1.35),IF(EGR!$D$3=40,(EGR!AC96*1.4),IF(EGR!$D$3=45,(EGR!AC96*1.45),IF(EGR!$D$3=50,(EGR!AC96*1.5)))))))))))) -> 1303.404 | L26: =B26+D26+G26+J26 -> 455.22718 | M26: =C26+E26+H26+K26 -> 1945.1056 | N26: 1050 | R26: =R25+2 -> 32 | S26: =S25*((R26/R25)^((1.17-1)/1.17)) -> 2408.3964 | U26: =(((4.7*10^13)*($Y$3)*(($X$3)^0.5)*EXP(-67837/S26)))/($Y$11*6) -> 1.0371292e-05 | V26: =U26*($Y$9*10^-6) -> 4.1485168e-10
B27: =IF(EGR!$D$3=0,('NOx Model (1)'!A33*1),IF(EGR!$D$3=5,('NOx Model (1)'!A33*1.05),IF(EGR!$D$3=10,('NOx Model (1)'!A33*1.1),IF(EGR!$D$3=15,('NOx Model (1)'!A33*1.15),IF(EGR!$D$3=20,('NOx Model (1)'!A33*1.2),IF(EGR!$D$3=25,('NOx Model (1)'!A33*1.25),IF(EGR!$D$3=30,('NOx Model (1)'!A33*1.3),IF(EGR!$D$3=35,('NOx Model (1)'!A33*1.35),IF(EGR!$D$3=40,('NOx Model (1)'!A33*1.4),IF(EGR!$D$3=45,('NOx Model (1)'!A33*1.45),IF(EGR!$D$3=50,('NOx Model (1)'!A33*1.5)))))))))))) -> 59.547566 | C27: =IF(EGR!$D$3=0,(EGR!W97*1),IF(EGR!$D$3=5,(EGR!W97*1.05),IF(EGR!$D$3=10,(EGR!W97*1.1),IF(EGR!$D$3=15,(EGR!W97*1.15),IF(EGR!$D$3=20,(EGR!W97*1.2),IF(EGR!$D$3=25,(EGR!W97*1.25),IF(EGR!$D$3=30,(EGR!W97*1.3),IF(EGR!$D$3=35,(EGR!W97*1.35),IF(EGR!$D$3=40,(EGR!W97*1.4),IF(EGR!$D$3=45,(EGR!W97*1.45),IF(EGR!$D$3=50,(EGR!W97*1.5)))))))))))) -> 362.32992 | D27: =IF(EGR!$D$3=0,('NOx Model (1)'!C33*1),IF(EGR!$D$3=5,('NOx Model (1)'!C33*1.05),IF(EGR!$D$3=10,('NOx Model (1)'!C33*1.1),IF(EGR!$D$3=15,('NOx Model (1)'!C33*1.15),IF(EGR!$D$3=20,('NOx Model (1)'!C33*1.2),IF(EGR!$D$3=25,('NOx Model (1)'!C33*1.25),IF(EGR!$D$3=30,('NOx Model (1)'!C33*1.3),IF(EGR!$D$3=35,('NOx Model (1)'!C33*1.35),IF(EGR!$D$3=40,('NOx Model (1)'!C33*1.4),IF(EGR!$D$3=45,('NOx Model (1)'!C33*1.45),IF(EGR!$D$3=50,('NOx Model (1)'!C33*1.5)))))))))))) -> 325.07885 | E27: =IF(EGR!$D$3=0,(EGR!Y97*1),IF(EGR!$D$3=5,(EGR!Y97*1.05),IF(EGR!$D$3=10,(EGR!Y97*1.1),IF(EGR!$D$3=15,(EGR!Y97*1.15),IF(EGR!$D$3=20,(EGR!Y97*1.2),IF(EGR!$D$3=25,(EGR!Y97*1.25),IF(EGR!$D$3=30,(EGR!Y97*1.3),IF(EGR!$D$3=35,(EGR!Y97*1.35),IF(EGR!$D$3=40,(EGR!Y97*1.4),IF(EGR!$D$3=45,(EGR!Y97*1.45),IF(EGR!$D$3=50,(EGR!Y97*1.5)))))))))))) -> 316.27044 | G27: =IF(EGR!$D$3=0,('NOx Model (1)'!E33*1),IF(EGR!$D$3=5,('NOx Model (1)'!E33*1.05),IF(EGR!$D$3=10,('NOx Model (1)'!E33*1.1),IF(EGR!$D$3=15,('NOx Model (1)'!E33*1.15),IF(EGR!$D$3=20,('NOx Model (1)'!E33*1.2),IF(EGR!$D$3=25,('NOx Model (1)'!E33*1.25),IF(EGR!$D$3=30,('NOx Model (1)'!E33*1.3),IF(EGR!$D$3=35,('NOx Model (1)'!E33*1.35),IF(EGR!$D$3=40,('NOx Model (1)'!E33*1.4),IF(EGR!$D$3=45,('NOx Model (1)'!E33*1.45),IF(EGR!$D$3=50,('NOx Model (1)'!E33*1.5)))))))))))) -> 30.462989 | H27: =IF(EGR!$D$3=0,(EGR!AA97*1),IF(EGR!$D$3=5,(EGR!AA97*1.05),IF(EGR!$D$3=10,(EGR!AA97*1.1),IF(EGR!$D$3=15,(EGR!AA97*1.15),IF(EGR!$D$3=20,(EGR!AA97*1.2),IF(EGR!$D$3=25,(EGR!AA97*1.25),IF(EGR!$D$3=30,(EGR!AA97*1.3),IF(EGR!$D$3=35,(EGR!AA97*1.35),IF(EGR!$D$3=40,(EGR!AA97*1.4),IF(EGR!$D$3=45,(EGR!AA97*1.45),IF(EGR!$D$3=50,(EGR!AA97*1.5)))))))))))) -> 11.8035 | J27: =IF(EGR!$D$3=0,('NOx Model (1)'!G33*1),IF(EGR!$D$3=5,('NOx Model (1)'!G33*1.05),IF(EGR!$D$3=10,('NOx Model (1)'!G33*1.1),IF(EGR!$D$3=15,('NOx Model (1)'!G33*1.15),IF(EGR!$D$3=20,('NOx Model (1)'!G33*1.2),IF(EGR!$D$3=25,('NOx Model (1)'!G33*1.25),IF(EGR!$D$3=30,('NOx Model (1)'!G33*1.3),IF(EGR!$D$3=35,('NOx Model (1)'!G33*1.35),IF(EGR!$D$3=40,('NOx Model (1)'!G33*1.4),IF(EGR!$D$3=45,('NOx Model (1)'!G33*1.45),IF(EGR!$D$3=50,('NOx Model (1)'!G33*1.5)))))))))))) -> 87.998109 | K27: =IF(EGR!$D$3=0,(EGR!AC97*1),IF(EGR!$D$3=5,(EGR!AC97*1.05),IF(EGR!$D$3=10,(EGR!AC97*1.1),IF(EGR!$D$3=15,(EGR!AC97*1.15),IF(EGR!$D$3=20,(EGR!AC97*1.2),IF(EGR!$D$3=25,(EGR!AC97*1.25),IF(EGR!$D$3=30,(EGR!AC97*1.3),IF(EGR!$D$3=35,(EGR!AC97*1.35),IF(EGR!$D$3=40,(EGR!AC97*1.4),IF(EGR!$D$3=45,(EGR!AC97*1.45),IF(EGR!$D$3=50,(EGR!AC97*1.5)))))))))))) -> 1397.028 | L27: =B27+D27+G27+J27 -> 503.08752 | M27: =C27+E27+H27+K27 -> 2087.4319 | N27: 1100 | R27: =R26+2 -> 34 | S27: =S26*((R27/R26)^((1.17-1)/1.17)) -> 2429.705 | U27: =(((4.7*10^13)*($Y$3)*(($X$3)^0.5)*EXP(-67837/S27)))/($Y$11*6) -> 1.3277432e-05 | V27: =U27*($Y$9*10^-6) -> 5.3109727e-10
... B29: =IF(EGR!$D$3=0,('NOx Model (1)'!A35*1),IF(EGR!$D$3=5,('NOx Model (1)'!A35*1.05),IF(EGR!$D$3=10,('NOx Model (1)'!A35*1.1),IF(EGR!$D$3=15,('NOx Model (1)'!A35*1.15),IF(EGR!$D$3=20,('NOx Model (1)'!A35*1.2),IF(EGR!$D$3=25,('NOx Model (1)'!A35*1.25),IF(EGR!$D$3=30,('NOx Model (1)'!A35*1.3),IF(EGR!$D$3=35,('NOx Model (1)'!A35*1.35),IF(EGR!$D$3=40,('NOx Model (1)'!A35*1.4),IF(EGR!$D$3=45,('NOx Model (1)'!A35*1.45),IF(EGR!$D$3=50,('NOx Model (1)'!A35*1.5)))))))))))) -> 75.010162 | C29: =IF(EGR!$D$3=0,(EGR!W99*1),IF(EGR!$D$3=5,(EGR!W99*1.05),IF(EGR!$D$3=10,(EGR!W99*1.1),IF(EGR!$D$3=15,(EGR!W99*1.15),IF(EGR!$D$3=20,(EGR!W99*1.2),IF(EGR!$D$3=25,(EGR!W99*1.25),IF(EGR!$D$3=30,(EGR!W99*1.3),IF(EGR!$D$3=35,(EGR!W99*1.35),IF(EGR!$D$3=40,(EGR!W99*1.4),IF(EGR!$D$3=45,(EGR!W99*1.45),IF(EGR!$D$3=50,(EGR!W99*1.5)))))))))))) -> 414.29088 | D29: =IF(EGR!$D$3=0,('NOx Model (1)'!C35*1),IF(EGR!$D$3=5,('NOx Model (1)'!C35*1.05),IF(EGR!$D$3=10,('NOx Model (1)'!C35*1.1),IF(EGR!$D$3=15,('NOx Model (1)'!C35*1.15),IF(EGR!$D$3=20,('NOx Model (1)'!C35*1.2),IF(EGR!$D$3=25,('NOx Model (1)'!C35*1.25),IF(EGR!$D$3=30,('NOx Model (1)'!C35*1.3),IF(EGR!$D$3=35,('NOx Model (1)'!C35*1.35),IF(EGR!$D$3=40,('NOx Model (1)'!C35*1.4),IF(EGR!$D$3=45,('NOx Model (1)'!C35*1.45),IF(EGR!$D$3=50,('NOx Model (1)'!C35*1.5)))))))))))) -> 372.15964 | E29: =IF(EGR!$D$3=0,(EGR!Y99*1),IF(EGR!$D$3=5,(EGR!Y99*1.05),IF(EGR!$D$3=10,(EGR!Y99*1.1),IF(EGR!$D$3=15,(EGR!Y99*1.15),IF(EGR!$D$3=20,(EGR!Y99*1.2),IF(EGR!$D$3=25,(EGR!Y99*1.25),IF(EGR!$D$3=30,(EGR!Y99*1.3),IF(EGR!$D$3=35,(EGR!Y99*1.35),IF(EGR!$D$3=40,(EGR!Y99*1.4),IF(EGR!$D$3=45,(EGR!Y99*1.45),IF(EGR!$D$3=50,(EGR!Y99*1.5)))))))))))) -> 361.63152 | G29: =IF(EGR!$D$3=0,('NOx Model (1)'!E35*1),IF(EGR!$D$3=5,('NOx Model (1)'!E35*1.05),IF(EGR!$D$3=10,('NOx Model (1)'!E35*1.1),IF(EGR!$D$3=15,('NOx Model (1)'!E35*1.15),IF(EGR!$D$3=20,('NOx Model (1)'!E35*1.2),IF(EGR!$D$3=25,('NOx Model (1)'!E35*1.25),IF(EGR!$D$3=30,('NOx Model (1)'!E35*1.3),IF(EGR!$D$3=35,('NOx Model (1)'!E35*1.35),IF(EGR!$D$3=40,('NOx Model (1)'!E35*1.4),IF(EGR!$D$3=45,('NOx Model (1)'!E35*1.45),IF(EGR!$D$3=50,('NOx Model (1)'!E35*1.5)))))))))))) -> 33.974504 | H29: =IF(EGR!$D$3=0,(EGR!AA99*1),IF(EGR!$D$3=5,(EGR!AA99*1.05),IF(EGR!$D$3=10,(EGR!AA99*1.1),IF(EGR!$D$3=15,(EGR!AA99*1.15),IF(EGR!$D$3=20,(EGR!AA99*1.2),IF(EGR!$D$3=25,(EGR!AA99*1.25),IF(EGR!$D$3=30,(EGR!AA99*1.3),IF(EGR!$D$3=35,(EGR!AA99*1.35),IF(EGR!$D$3=40,(EGR!AA99*1.4),IF(EGR!$D$3=45,(EGR!AA99*1.45),IF(EGR!$D$3=50,(EGR!AA99*1.5)))))))))))) -> 13.3965 | J29: =IF(EGR!$D$3=0,('NOx Model (1)'!G35*1),IF(EGR!$D$3=5,('NOx Model (1)'!G35*1.05),IF(EGR!$D$3=10,('NOx Model (1)'!G35*1.1),IF(EGR!$D$3=15,('NOx Model (1)'!G35*1.15),IF(EGR!$D$3=20,('NOx Model (1)'!G35*1.2),IF(EGR!$D$3=25,('NOx Model (1)'!G35*1.25),IF(EGR!$D$3=30,('NOx Model (1)'!G35*1.3),IF(EGR!$D$3=35,('NOx Model (1)'!G35*1.35),IF(EGR!$D$3=40,('NOx Model (1)'!G35*1.4),IF(EGR!$D$3=45,('NOx Model (1)'!G35*1.45),IF(EGR!$D$3=50,('NOx Model (1)'!G35*1.5)))))))))))) -> 131.89964 | K29: =IF(EGR!$D$3=0,(EGR!AC99*1),IF(EGR!$D$3=5,(EGR!AC99*1.05),IF(EGR!$D$3=10,(EGR!AC99*1.1),IF(EGR!$D$3=15,(EGR!AC99*1.15),IF(EGR!$D$3=20,(EGR!AC99*1.2),IF(EGR!$D$3=25,(EGR!AC99*1.25),IF(EGR!$D$3=30,(EGR!AC99*1.3),IF(EGR!$D$3=35,(EGR!AC99*1.35),IF(EGR!$D$3=40,(EGR!AC99*1.4),IF(EGR!$D$3=45,(EGR!AC99*1.45),IF(EGR!$D$3=50,(EGR!AC99*1.5)))))))))))) -> 1585.968 | L29: =B29+D29+G29+J29 -> 613.04394 | M29: =C29+E29+H29+K29 -> 2375.2869 | N29: 1200 | R29: =R28+2 -> 38 | S29: =S28*((R29/R28)^((1.17-1)/1.17)) -> 2469.2904 | U29: =(((4.7*10^13)*($Y$3)*(($X$3)^0.5)*EXP(-67837/S29)))/($Y$11*6) -> 2.0772951e-05 | V29: =U29*($Y$9*10^-6) -> 8.3091803e-10
B30: =IF(EGR!$D$3=0,('NOx Model (1)'!A36*1),IF(EGR!$D$3=5,('NOx Model (1)'!A36*1.05),IF(EGR!$D$3=10,('NOx Model (1)'!A36*1.1),IF(EGR!$D$3=15,('NOx Model (1)'!A36*1.15),IF(EGR!$D$3=20,('NOx Model (1)'!A36*1.2),IF(EGR!$D$3=25,('NOx Model (1)'!A36*1.25),IF(EGR!$D$3=30,('NOx Model (1)'!A36*1.3),IF(EGR!$D$3=35,('NOx Model (1)'!A36*1.35),IF(EGR!$D$3=40,('NOx Model (1)'!A36*1.4),IF(EGR!$D$3=45,('NOx Model (1)'!A36*1.45),IF(EGR!$D$3=50,('NOx Model (1)'!A36*1.5)))))))))))) -> 84.324993 | C30: =IF(EGR!$D$3=0,(EGR!W100*1),IF(EGR!$D$3=5,(EGR!W100*1.05),IF(EGR!$D$3=10,(EGR!W100*1.1),IF(EGR!$D$3=15,(EGR!W100*1.15),IF(EGR!$D$3=20,(EGR!W100*1.2),IF(EGR!$D$3=25,(EGR!W100*1.25),IF(EGR!$D$3=30,(EGR!W100*1.3),IF(EGR!$D$3=35,(EGR!W100*1.35),IF(EGR!$D$3=40,(EGR!W100*1.4),IF(EGR!$D$3=45,(EGR!W100*1.45),IF(EGR!$D$3=50,(EGR!W100*1.5)))))))))))) -> 440.55072 | D30: =IF(EGR!$D$3=0,('NOx Model (1)'!C36*1),IF(EGR!$D$3=5,('NOx Model (1)'!C36*1.05),IF(EGR!$D$3=10,('NOx Model (1)'!C36*1.1),IF(EGR!$D$3=15,('NOx Model (1)'!C36*1.15),IF(EGR!$D$3=20,('NOx Model (1)'!C36*1.2),IF(EGR!$D$3=25,('NOx Model (1)'!C36*1.25),IF(EGR!$D$3=30,('NOx Model (1)'!C36*1.3),IF(EGR!$D$3=35,('NOx Model (1)'!C36*1.35),IF(EGR!$D$3=40,('NOx Model (1)'!C36*1.4),IF(EGR!$D$3=45,('NOx Model (1)'!C36*1.45),IF(EGR!$D$3=50,('NOx Model (1)'!C36*1.5)))))))))))) -> 395.9109 | E30: =IF(EGR!$D$3=0,(EGR!Y100*1),IF(EGR!$D$3=5,(EGR!Y100*1.05),IF(EGR!$D$3=10,(EGR!Y100*1.1),IF(EGR!$D$3=15,(EGR!Y100*1.15),IF(EGR!$D$3=20,(EGR!Y100*1.2),IF(EGR!$D$3=25,(EGR!Y100*1.25),IF(EGR!$D$3=30,(EGR!Y100*1.3),IF(EGR!$D$3=35,(EGR!Y100*1.35),IF(EGR!$D$3=40,(EGR!Y100*1.4),IF(EGR!$D$3=45,(EGR!Y100*1.45),IF(EGR!$D$3=50,(EGR!Y100*1.5)))))))))))) -> 384.67872 | G30: =IF(EGR!$D$3=0,('NOx Model (1)'!E36*1),IF(EGR!$D$3=5,('NOx Model (1)'!E36*1.05),IF(EGR!$D$3=10,('NOx Model (1)'!E36*1.1),IF(EGR!$D$3=15,('NOx Model (1)'!E36*1.15),IF(EGR!$D$3=20,('NOx Model (1)'!E36*1.2),IF(EGR!$D$3=25,('NOx Model (1)'!E36*1.25),IF(EGR!$D$3=30,('NOx Model (1)'!E36*1.3),IF(EGR!$D$3=35,('NOx Model (1)'!E36*1.35),IF(EGR!$D$3=40,('NOx Model (1)'!E36*1.4),IF(EGR!$D$3=45,('NOx Model (1)'!E36*1.45),IF(EGR!$D$3=50,('NOx Model (1)'!E36*1.5)))))))))))) -> 35.569018 | H30: =IF(EGR!$D$3=0,(EGR!AA100*1),IF(EGR!$D$3=5,(EGR!AA100*1.05),IF(EGR!$D$3=10,(EGR!AA100*1.1),IF(EGR!$D$3=15,(EGR!AA100*1.15),IF(EGR!$D$3=20,(EGR!AA100*1.2),IF(EGR!$D$3=25,(EGR!AA100*1.25),IF(EGR!$D$3=30,(EGR!AA100*1.3),IF(EGR!$D$3=35,(EGR!AA100*1.35),IF(EGR!$D$3=40,(EGR!AA100*1.4),IF(EGR!$D$3=45,(EGR!AA100*1.45),IF(EGR!$D$3=50,(EGR!AA100*1.5)))))))))))) -> 14.202 | J30: =IF(EGR!$D$3=0,('NOx Model (1)'!G36*1),IF(EGR!$D$3=5,('NOx Model (1)'!G36*1.05),IF(EGR!$D$3=10,('NOx Model (1)'!G36*1.1),IF(EGR!$D$3=15,('NOx Model (1)'!G36*1.15),IF(EGR!$D$3=20,('NOx Model (1)'!G36*1.2),IF(EGR!$D$3=25,('NOx Model (1)'!G36*1.25),IF(EGR!$D$3=30,('NOx Model (1)'!G36*1.3),IF(EGR!$D$3=35,('NOx Model (1)'!G36*1.35),IF(EGR!$D$3=40,('NOx Model (1)'!G36*1.4),IF(EGR!$D$3=45,('NOx Model (1)'!G36*1.45),IF(EGR!$D$3=50,('NOx Model (1)'!G36*1.5)))))))))))) -> 161.10496 | K30: =IF(EGR!$D$3=0,(EGR!AC100*1),IF(EGR!$D$3=5,(EGR!AC100*1.05),IF(EGR!$D$3=10,(EGR!AC100*1.1),IF(EGR!$D$3=15,(EGR!AC100*1.15),IF(EGR!$D$3=20,(EGR!AC100*1.2),IF(EGR!$D$3=25,(EGR!AC100*1.25),IF(EGR!$D$3=30,(EGR!AC100*1.3),IF(EGR!$D$3=35,(EGR!AC100*1.35),IF(EGR!$D$3=40,(EGR!AC100*1.4),IF(EGR!$D$3=45,(EGR!AC100*1.45),IF(EGR!$D$3=50,(EGR!AC100*1.5)))))))))))) -> 1681.284 | L30: =B30+D30+G30+J30 -> 676.90988 | M30: =C30+E30+H30+K30 -> 2520.7154 | N30: 1250 | Q30: E.O.C | R30: =R29+2 -> 40 | S30: =S29*((R30/R29)^((1.17-1)/1.17)) -> 2487.7625 | U30: =(((4.7*10^13)*($Y$3)*(($X$3)^0.5)*EXP(-67837/S30)))/($Y$11*6) -> 2.5473479e-05 | V30: =U30*($Y$9*10^-6) -> 1.0189392e-09
B31: =IF(EGR!$D$3=0,('NOx Model (1)'!A37*1),IF(EGR!$D$3=5,('NOx Model (1)'!A37*1.05),IF(EGR!$D$3=10,('NOx Model (1)'!A37*1.1),IF(EGR!$D$3=15,('NOx Model (1)'!A37*1.15),IF(EGR!$D$3=20,('NOx Model (1)'!A37*1.2),IF(EGR!$D$3=25,('NOx Model (1)'!A37*1.25),IF(EGR!$D$3=30,('NOx Model (1)'!A37*1.3),IF(EGR!$D$3=35,('NOx Model (1)'!A37*1.35),IF(EGR!$D$3=40,('NOx Model (1)'!A37*1.4),IF(EGR!$D$3=45,('NOx Model (1)'!A37*1.45),IF(EGR!$D$3=50,('NOx Model (1)'!A37*1.5)))))))))))) -> 94.94857 | C31: =IF(EGR!$D$3=0,(EGR!W101*1),IF(EGR!$D$3=5,(EGR!W101*1.05),IF(EGR!$D$3=10,(EGR!W101*1.1),IF(EGR!$D$3=15,(EGR!W101*1.15),IF(EGR!$D$3=20,(EGR!W101*1.2),IF(EGR!$D$3=25,(EGR!W101*1.25),IF(EGR!$D$3=30,(EGR!W101*1.3),IF(EGR!$D$3=35,(EGR!W101*1.35),IF(EGR!$D$3=40,(EGR!W101*1.4),IF(EGR!$D$3=45,(EGR!W101*1.45),IF(EGR!$D$3=50,(EGR!W101*1.5)))))))))))) -> 466.9968 | D31: =IF(EGR!$D$3=0,('NOx Model (1)'!C37*1),IF(EGR!$D$3=5,('NOx Model (1)'!C37*1.05),IF(EGR!$D$3=10,('NOx Model (1)'!C37*1.1),IF(EGR!$D$3=15,('NOx Model (1)'!C37*1.15),IF(EGR!$D$3=20,('NOx Model (1)'!C37*1.2),IF(EGR!$D$3=25,('NOx Model (1)'!C37*1.25),IF(EGR!$D$3=30,('NOx Model (1)'!C37*1.3),IF(EGR!$D$3=35,('NOx Model (1)'!C37*1.35),IF(EGR!$D$3=40,('NOx Model (1)'!C37*1.4),IF(EGR!$D$3=45,('NOx Model (1)'!C37*1.45),IF(EGR!$D$3=50,('NOx Model (1)'!C37*1.5)))))))))))) -> 419.80317 | E31: =IF(EGR!$D$3=0,(EGR!Y101*1),IF(EGR!$D$3=5,(EGR!Y101*1.05),IF(EGR!$D$3=10,(EGR!Y101*1.1),IF(EGR!$D$3=15,(EGR!Y101*1.15),IF(EGR!$D$3=20,(EGR!Y101*1.2),IF(EGR!$D$3=25,(EGR!Y101*1.25),IF(EGR!$D$3=30,(EGR!Y101*1.3),IF(EGR!$D$3=35,(EGR!Y101*1.35),IF(EGR!$D$3=40,(EGR!Y101*1.4),IF(EGR!$D$3=45,(EGR!Y101*1.45),IF(EGR!$D$3=50,(EGR!Y101*1.5)))))))))))) -> 408.14496 | G31: =IF(EGR!$D$3=0,('NOx Model (1)'!E37*1),IF(EGR!$D$3=5,('NOx Model (1)'!E37*1.05),IF(EGR!$D$3=10,('NOx Model (1)'!E37*1.1),IF(EGR!$D$3=15,('NOx Model (1)'!E37*1.15),IF(EGR!$D$3=20,('NOx Model (1)'!E37*1.2),IF(EGR!$D$3=25,('NOx Model (1)'!E37*1.25),IF(EGR!$D$3=30,('NOx Model (1)'!E37*1.3),IF(EGR!$D$3=35,('NOx Model (1)'!E37*1.35),IF(EGR!$D$3=40,('NOx Model (1)'!E37*1.4),IF(EGR!$D$3=45,('NOx Model (1)'!E37*1.45),IF(EGR!$D$3=50,('NOx Model (1)'!E37*1.5)))))))))))) -> 37.031874 | H31: =IF(EGR!$D$3=0,(EGR!AA101*1),IF(EGR!$D$3=5,(EGR!AA101*1.05),IF(EGR!$D$3=10,(EGR!AA101*1.1),IF(EGR!$D$3=15,(EGR!AA101*1.15),IF(EGR!$D$3=20,(EGR!AA101*1.2),IF(EGR!$D$3=25,(EGR!AA101*1.25),IF(EGR!$D$3=30,(EGR!AA101*1.3),IF(EGR!$D$3=35,(EGR!AA101*1.35),IF(EGR!$D$3=40,(EGR!AA101*1.4),IF(EGR!$D$3=45,(EGR!AA101*1.45),IF(EGR!$D$3=50,(EGR!AA101*1.5)))))))))))) -> 15.0075 | J31: =IF(EGR!$D$3=0,('NOx Model (1)'!G37*1),IF(EGR!$D$3=5,('NOx Model (1)'!G37*1.05),IF(EGR!$D$3=10,('NOx Model (1)'!G37*1.1),IF(EGR!$D$3=15,('NOx Model (1)'!G37*1.15),IF(EGR!$D$3=20,('NOx Model (1)'!G37*1.2),IF(EGR!$D$3=25,('NOx Model (1)'!G37*1.25),IF(EGR!$D$3=30,('NOx Model (1)'!G37*1.3),IF(EGR!$D$3=35,('NOx Model (1)'!G37*1.35),IF(EGR!$D$3=40,('NOx Model (1)'!G37*1.4),IF(EGR!$D$3=45,('NOx Model (1)'!G37*1.45),IF(EGR!$D$3=50,('NOx Model (1)'!G37*1.5)))))))))))) -> 196.31787 | K31: =IF(EGR!$D$3=0,(EGR!AC101*1),IF(EGR!$D$3=5,(EGR!AC101*1.05),IF(EGR!$D$3=10,(EGR!AC101*1.1),IF(EGR!$D$3=15,(EGR!AC101*1.15),IF(EGR!$D$3=20,(EGR!AC101*1.2),IF(EGR!$D$3=25,(EGR!AC101*1.25),IF(EGR!$D$3=30,(EGR!AC101*1.3),IF(EGR!$D$3=35,(EGR!AC101*1.35),IF(EGR!$D$3=40,(EGR!AC101*1.4),IF(EGR!$D$3=45,(EGR!AC101*1.45),IF(EGR!$D$3=50,(EGR!AC101*1.5)))))))))))) -> 1777.164 | L31: =B31+D31+G31+J31 -> 748.10148 | M31: =C31+E31+H31+K31 -> 2667.3133 | N31: 1300
B32: =IF(EGR!$D$3=0,('NOx Model (1)'!A38*1),IF(EGR!$D$3=5,('NOx Model (1)'!A38*1.05),IF(EGR!$D$3=10,('NOx Model (1)'!A38*1.1),IF(EGR!$D$3=15,('NOx Model (1)'!A38*1.15),IF(EGR!$D$3=20,('NOx Model (1)'!A38*1.2),IF(EGR!$D$3=25,('NOx Model (1)'!A38*1.25),IF(EGR!$D$3=30,('NOx Model (1)'!A38*1.3),IF(EGR!$D$3=35,('NOx Model (1)'!A38*1.35),IF(EGR!$D$3=40,('NOx Model (1)'!A38*1.4),IF(EGR!$D$3=45,('NOx Model (1)'!A38*1.45),IF(EGR!$D$3=50,('NOx Model (1)'!A38*1.5)))))))))))) -> 107.10267 | C32: =IF(EGR!$D$3=0,(EGR!W102*1),IF(EGR!$D$3=5,(EGR!W102*1.05),IF(EGR!$D$3=10,(EGR!W102*1.1),IF(EGR!$D$3=15,(EGR!W102*1.15),IF(EGR!$D$3=20,(EGR!W102*1.2),IF(EGR!$D$3=25,(EGR!W102*1.25),IF(EGR!$D$3=30,(EGR!W102*1.3),IF(EGR!$D$3=35,(EGR!W102*1.35),IF(EGR!$D$3=40,(EGR!W102*1.4),IF(EGR!$D$3=45,(EGR!W102*1.45),IF(EGR!$D$3=50,(EGR!W102*1.5)))))))))))) -> 493.536 | D32: =IF(EGR!$D$3=0,('NOx Model (1)'!C38*1),IF(EGR!$D$3=5,('NOx Model (1)'!C38*1.05),IF(EGR!$D$3=10,('NOx Model (1)'!C38*1.1),IF(EGR!$D$3=15,('NOx Model (1)'!C38*1.15),IF(EGR!$D$3=20,('NOx Model (1)'!C38*1.2),IF(EGR!$D$3=25,('NOx Model (1)'!C38*1.25),IF(EGR!$D$3=30,('NOx Model (1)'!C38*1.3),IF(EGR!$D$3=35,('NOx Model (1)'!C38*1.35),IF(EGR!$D$3=40,('NOx Model (1)'!C38*1.4),IF(EGR!$D$3=45,('NOx Model (1)'!C38*1.45),IF(EGR!$D$3=50,('NOx Model (1)'!C38*1.5)))))))))))) -> 443.84328 | E32: =IF(EGR!$D$3=0,(EGR!Y102*1),IF(EGR!$D$3=5,(EGR!Y102*1.05),IF(EGR!$D$3=10,(EGR!Y102*1.1),IF(EGR!$D$3=15,(EGR!Y102*1.15),IF(EGR!$D$3=20,(EGR!Y102*1.2),IF(EGR!$D$3=25,(EGR!Y102*1.25),IF(EGR!$D$3=30,(EGR!Y102*1.3),IF(EGR!$D$3=35,(EGR!Y102*1.35),IF(EGR!$D$3=40,(EGR!Y102*1.4),IF(EGR!$D$3=45,(EGR!Y102*1.45),IF(EGR!$D$3=50,(EGR!Y102*1.5)))))))))))) -> 431.92548 | G32: =IF(EGR!$D$3=0,('NOx Model (1)'!E38*1),IF(EGR!$D$3=5,('NOx Model (1)'!E38*1.05),IF(EGR!$D$3=10,('NOx Model (1)'!E38*1.1),IF(EGR!$D$3=15,('NOx Model (1)'!E38*1.15),IF(EGR!$D$3=20,('NOx Model (1)'!E38*1.2),IF(EGR!$D$3=25,('NOx Model (1)'!E38*1.25),IF(EGR!$D$3=30,('NOx Model (1)'!E38*1.3),IF(EGR!$D$3=35,('NOx Model (1)'!E38*1.35),IF(EGR!$D$3=40,('NOx Model (1)'!E38*1.4),IF(EGR!$D$3=45,('NOx Model (1)'!E38*1.45),IF(EGR!$D$3=50,('NOx Model (1)'!E38*1.5)))))))))))) -> 38.34281 | H32: =IF(EGR!$D$3=0,(EGR!AA102*1),IF(EGR!$D$3=5,(EGR!AA102*1.05),IF(EGR!$D$3=10,(EGR!AA102*1.1),IF(EGR!$D$3=15,(EGR!AA102*1.15),IF(EGR!$D$3=20,(EGR!AA102*1.2),IF(EGR!$D$3=25,(EGR!AA102*1.25),IF(EGR!$D$3=30,(EGR!AA102*1.3),IF(EGR!$D$3=35,(EGR!AA102*1.35),IF(EGR!$D$3=40,(EGR!AA102*1.4),IF(EGR!$D$3=45,(EGR!AA102*1.45),IF(EGR!$D$3=50,(EGR!AA102*1.5)))))))))))) -> 15.8175 | J32: =IF(EGR!$D$3=0,('NOx Model (1)'!G38*1),IF(EGR!$D$3=5,('NOx Model (1)'!G38*1.05),IF(EGR!$D$3=10,('NOx Model (1)'!G38*1.1),IF(EGR!$D$3=15,('NOx Model (1)'!G38*1.15),IF(EGR!$D$3=20,('NOx Model (1)'!G38*1.2),IF(EGR!$D$3=25,('NOx Model (1)'!G38*1.25),IF(EGR!$D$3=30,('NOx Model (1)'!G38*1.3),IF(EGR!$D$3=35,('NOx Model (1)'!G38*1.35),IF(EGR!$D$3=40,('NOx Model (1)'!G38*1.4),IF(EGR!$D$3=45,('NOx Model (1)'!G38*1.45),IF(EGR!$D$3=50,('NOx Model (1)'!G38*1.5)))))))))))) -> 238.55936 | K32: =IF(EGR!$D$3=0,(EGR!AC102*1),IF(EGR!$D$3=5,(EGR!AC102*1.05),IF(EGR!$D$3=10,(EGR!AC102*1.1),IF(EGR!$D$3=15,(EGR!AC102*1.15),IF(EGR!$D$3=20,(EGR!AC102*1.2),IF(EGR!$D$3=25,(EGR!AC102*1.25),IF(EGR!$D$3=30,(EGR!AC102*1.3),IF(EGR!$D$3=35,(EGR!AC102*1.35),IF(EGR!$D$3=40,(EGR!AC102*1.4),IF(EGR!$D$3=45,(EGR!AC102*1.45),IF(EGR!$D$3=50,(EGR!AC102*1.5)))))))))))) -> 1873.608 | L32: =B32+D32+G32+J32 -> 827.84811 | M32: =C32+E32+H32+K32 -> 2814.887 | N32: 1350
B33: =IF(EGR!$D$3=0,('NOx Model (1)'!A39*1),IF(EGR!$D$3=5,('NOx Model (1)'!A39*1.05),IF(EGR!$D$3=10,('NOx Model (1)'!A39*1.1),IF(EGR!$D$3=15,('NOx Model (1)'!A39*1.15),IF(EGR!$D$3=20,('NOx Model (1)'!A39*1.2),IF(EGR!$D$3=25,('NOx Model (1)'!A39*1.25),IF(EGR!$D$3=30,('NOx Model (1)'!A39*1.3),IF(EGR!$D$3=35,('NOx Model (1)'!A39*1.35),IF(EGR!$D$3=40,('NOx Model (1)'!A39*1.4),IF(EGR!$D$3=45,('NOx Model (1)'!A39*1.45),IF(EGR!$D$3=50,('NOx Model (1)'!A39*1.5)))))))))))) -> 121.0369 | C33: =IF(EGR!$D$3=0,(EGR!W103*1),IF(EGR!$D$3=5,(EGR!W103*1.05),IF(EGR!$D$3=10,(EGR!W103*1.1),IF(EGR!$D$3=15,(EGR!W103*1.15),IF(EGR!$D$3=20,(EGR!W103*1.2),IF(EGR!$D$3=25,(EGR!W103*1.25),IF(EGR!$D$3=30,(EGR!W103*1.3),IF(EGR!$D$3=35,(EGR!W103*1.35),IF(EGR!$D$3=40,(EGR!W103*1.4),IF(EGR!$D$3=45,(EGR!W103*1.45),IF(EGR!$D$3=50,(EGR!W103*1.5)))))))))))) -> 520.35456 | D33: =IF(EGR!$D$3=0,('NOx Model (1)'!C39*1),IF(EGR!$D$3=5,('NOx Model (1)'!C39*1.05),IF(EGR!$D$3=10,('NOx Model (1)'!C39*1.1),IF(EGR!$D$3=15,('NOx Model (1)'!C39*1.15),IF(EGR!$D$3=20,('NOx Model (1)'!C39*1.2),IF(EGR!$D$3=25,('NOx Model (1)'!C39*1.25),IF(EGR!$D$3=30,('NOx Model (1)'!C39*1.3),IF(EGR!$D$3=35,('NOx Model (1)'!C39*1.35),IF(EGR!$D$3=40,('NOx Model (1)'!C39*1.4),IF(EGR!$D$3=45,('NOx Model (1)'!C39*1.45),IF(EGR!$D$3=50,('NOx Model (1)'!C39*1.5)))))))))))) -> 468.04194 | E33: =IF(EGR!$D$3=0,(EGR!Y103*1),IF(EGR!$D$3=5,(EGR!Y103*1.05),IF(EGR!$D$3=10,(EGR!Y103*1.1),IF(EGR!$D$3=15,(EGR!Y103*1.15),IF(EGR!$D$3=20,(EGR!Y103*1.2),IF(EGR!$D$3=25,(EGR!Y103*1.25),IF(EGR!$D$3=30,(EGR!Y103*1.3),IF(EGR!$D$3=35,(EGR!Y103*1.35),IF(EGR!$D$3=40,(EGR!Y103*1.4),IF(EGR!$D$3=45,(EGR!Y103*1.45),IF(EGR!$D$3=50,(EGR!Y103*1.5)))))))))))) -> 455.91552 | G33: =IF(EGR!$D$3=0,('NOx Model (1)'!E39*1),IF(EGR!$D$3=5,('NOx Model (1)'!E39*1.05),IF(EGR!$D$3=10,('NOx Model (1)'!E39*1.1),IF(EGR!$D$3=15,('NOx Model (1)'!E39*1.15),IF(EGR!$D$3=20,('NOx Model (1)'!E39*1.2),IF(EGR!$D$3=25,('NOx Model (1)'!E39*1.25),IF(EGR!$D$3=30,('NOx Model (1)'!E39*1.3),IF(EGR!$D$3=35,('NOx Model (1)'!E39*1.35),IF(EGR!$D$3=40,('NOx Model (1)'!E39*1.4),IF(EGR!$D$3=45,('NOx Model (1)'!E39*1.45),IF(EGR!$D$3=50,('NOx Model (1)'!E39*1.5)))))))))))) -> 39.479466 | H33: =IF(EGR!$D$3=0,(EGR!AA103*1),IF(EGR!$D$3=5,(EGR!AA103*1.05),IF(EGR!$D$3=10,(EGR!AA103*1.1),IF(EGR!$D$3=15,(EGR!AA103*1.15),IF(EGR!$D$3=20,(EGR!AA103*1.2),IF(EGR!$D$3=25,(EGR!AA103*1.25),IF(EGR!$D$3=30,(EGR!AA103*1.3),IF(EGR!$D$3=35,(EGR!AA103*1.35),IF(EGR!$D$3=40,(EGR!AA103*1.4),IF(EGR!$D$3=45,(EGR!AA103*1.45),IF(EGR!$D$3=50,(EGR!AA103*1.5)))))))))))) -> 16.6275 | J33: =IF(EGR!$D$3=0,('NOx Model (1)'!G39*1),IF(EGR!$D$3=5,('NOx Model (1)'!G39*1.05),IF(EGR!$D$3=10,('NOx Model (1)'!G39*1.1),IF(EGR!$D$3=15,('NOx Model (1)'!G39*1.15),IF(EGR!$D$3=20,('NOx Model (1)'!G39*1.2),IF(EGR!$D$3=25,('NOx Model (1)'!G39*1.25),IF(EGR!$D$3=30,('NOx Model (1)'!G39*1.3),IF(EGR!$D$3=35,('NOx Model (1)'!G39*1.35),IF(EGR!$D$3=40,('NOx Model (1)'!G39*1.4),IF(EGR!$D$3=45,('NOx Model (1)'!G39*1.45),IF(EGR!$D$3=50,('NOx Model (1)'!G39*1.5)))))))))))) -> 288.97551 | K33: =IF(EGR!$D$3=0,(EGR!AC103*1),IF(EGR!$D$3=5,(EGR!AC103*1.05),IF(EGR!$D$3=10,(EGR!AC103*1.1),IF(EGR!$D$3=15,(EGR!AC103*1.15),IF(EGR!$D$3=20,(EGR!AC103*1.2),IF(EGR!$D$3=25,(EGR!AC103*1.25),IF(EGR!$D$3=30,(EGR!AC103*1.3),IF(EGR!$D$3=35,(EGR!AC103*1.35),IF(EGR!$D$3=40,(EGR!AC103*1.4),IF(EGR!$D$3=45,(EGR!AC103*1.45),IF(EGR!$D$3=50,(EGR!AC103*1.5)))))))))))) -> 1970.616 | L33: =B33+D33+G33+J33 -> 917.5338 | M33: =C33+E33+H33+K33 -> 2963.5136 | N33: 1400
B34: =IF(EGR!$D$3=0,('NOx Model (1)'!A40*1),IF(EGR!$D$3=5,('NOx Model (1)'!A40*1.05),IF(EGR!$D$3=10,('NOx Model (1)'!A40*1.1),IF(EGR!$D$3=15,('NOx Model (1)'!A40*1.15),IF(EGR!$D$3=20,('NOx Model (1)'!A40*1.2),IF(EGR!$D$3=25,('NOx Model (1)'!A40*1.25),IF(EGR!$D$3=30,('NOx Model (1)'!A40*1.3),IF(EGR!$D$3=35,('NOx Model (1)'!A40*1.35),IF(EGR!$D$3=40,('NOx Model (1)'!A40*1.4),IF(EGR!$D$3=45,('NOx Model (1)'!A40*1.45),IF(EGR!$D$3=50,('NOx Model (1)'!A40*1.5)))))))))))) -> 137.03062 | C34: =IF(EGR!$D$3=0,(EGR!W104*1),IF(EGR!$D$3=5,(EGR!W104*1.05),IF(EGR!$D$3=10,(EGR!W104*1.1),IF(EGR!$D$3=15,(EGR!W104*1.15),IF(EGR!$D$3=20,(EGR!W104*1.2),IF(EGR!$D$3=25,(EGR!W104*1.25),IF(EGR!$D$3=30,(EGR!W104*1.3),IF(EGR!$D$3=35,(EGR!W104*1.35),IF(EGR!$D$3=40,(EGR!W104*1.4),IF(EGR!$D$3=45,(EGR!W104*1.45),IF(EGR!$D$3=50,(EGR!W104*1.5)))))))))))) -> 547.26624 | D34: =IF(EGR!$D$3=0,('NOx Model (1)'!C40*1),IF(EGR!$D$3=5,('NOx Model (1)'!C40*1.05),IF(EGR!$D$3=10,('NOx Model (1)'!C40*1.1),IF(EGR!$D$3=15,('NOx Model (1)'!C40*1.15),IF(EGR!$D$3=20,('NOx Model (1)'!C40*1.2),IF(EGR!$D$3=25,('NOx Model (1)'!C40*1.25),IF(EGR!$D$3=30,('NOx Model (1)'!C40*1.3),IF(EGR!$D$3=35,('NOx Model (1)'!C40*1.35),IF(EGR!$D$3=40,('NOx Model (1)'!C40*1.4),IF(EGR!$D$3=45,('NOx Model (1)'!C40*1.45),IF(EGR!$D$3=50,('NOx Model (1)'!C40*1.5)))))))))))) -> 492.41267 | E34: =IF(EGR!$D$3=0,(EGR!Y104*1),IF(EGR!$D$3=5,(EGR!Y104*1.05),IF(EGR!$D$3=10,(EGR!Y104*1.1),IF(EGR!$D$3=15,(EGR!Y104*1.15),IF(EGR!$D$3=20,(EGR!Y104*1.2),IF(EGR!$D$3=25,(EGR!Y104*1.25),IF(EGR!$D$3=30,(EGR!Y104*1.3),IF(EGR!$D$3=35,(EGR!Y104*1.35),IF(EGR!$D$3=40,(EGR!Y104*1.4),IF(EGR!$D$3=45,(EGR!Y104*1.45),IF(EGR!$D$3=50,(EGR!Y104*1.5)))))))))))) -> 480.21984 | G34: =IF(EGR!$D$3=0,('NOx Model (1)'!E40*1),IF(EGR!$D$3=5,('NOx Model (1)'!E40*1.05),IF(EGR!$D$3=10,('NOx Model (1)'!E40*1.1),IF(EGR!$D$3=15,('NOx Model (1)'!E40*1.15),IF(EGR!$D$3=20,('NOx Model (1)'!E40*1.2),IF(EGR!$D$3=25,('NOx Model (1)'!E40*1.25),IF(EGR!$D$3=30,('NOx Model (1)'!E40*1.3),IF(EGR!$D$3=35,('NOx Model (1)'!E40*1.35),IF(EGR!$D$3=40,('NOx Model (1)'!E40*1.4),IF(EGR!$D$3=45,('NOx Model (1)'!E40*1.45),IF(EGR!$D$3=50,('NOx Model (1)'!E40*1.5)))))))))))) -> 40.417058 | H34: =IF(EGR!$D$3=0,(EGR!AA104*1),IF(EGR!$D$3=5,(EGR!AA104*1.05),IF(EGR!$D$3=10,(EGR!AA104*1.1),IF(EGR!$D$3=15,(EGR!AA104*1.15),IF(EGR!$D$3=20,(EGR!AA104*1.2),IF(EGR!$D$3=25,(EGR!AA104*1.25),IF(EGR!$D$3=30,(EGR!AA104*1.3),IF(EGR!$D$3=35,(EGR!AA104*1.35),IF(EGR!$D$3=40,(EGR!AA104*1.4),IF(EGR!$D$3=45,(EGR!AA104*1.45),IF(EGR!$D$3=50,(EGR!AA104*1.5)))))))))))) -> 17.4465 | J34: =IF(EGR!$D$3=0,('NOx Model (1)'!G40*1),IF(EGR!$D$3=5,('NOx Model (1)'!G40*1.05),IF(EGR!$D$3=10,('NOx Model (1)'!G40*1.1),IF(EGR!$D$3=15,('NOx Model (1)'!G40*1.15),IF(EGR!$D$3=20,('NOx Model (1)'!G40*1.2),IF(EGR!$D$3=25,('NOx Model (1)'!G40*1.25),IF(EGR!$D$3=30,('NOx Model (1)'!G40*1.3),IF(EGR!$D$3=35,('NOx Model (1)'!G40*1.35),IF(EGR!$D$3=40,('NOx Model (1)'!G40*1.4),IF(EGR!$D$3=45,('NOx Model (1)'!G40*1.45),IF(EGR!$D$3=50,('NOx Model (1)'!G40*1.5)))))))))))) -> 348.84719 | K34: =IF(EGR!$D$3=0,(EGR!AC104*1),IF(EGR!$D$3=5,(EGR!AC104*1.05),IF(EGR!$D$3=10,(EGR!AC104*1.1),IF(EGR!$D$3=15,(EGR!AC104*1.15),IF(EGR!$D$3=20,(EGR!AC104*1.2),IF(EGR!$D$3=25,(EGR!AC104*1.25),IF(EGR!$D$3=30,(EGR!AC104*1.3),IF(EGR!$D$3=35,(EGR!AC104*1.35),IF(EGR!$D$3=40,(EGR!AC104*1.4),IF(EGR!$D$3=45,(EGR!AC104*1.45),IF(EGR!$D$3=50,(EGR!AC104*1.5)))))))))))) -> 2068.188 | L34: =B34+D34+G34+J34 -> 1018.7075 | M34: =C34+E34+H34+K34 -> 3113.1206 | N34: 1450
B35: =IF(EGR!$D$3=0,('NOx Model (1)'!A41*1),IF(EGR!$D$3=5,('NOx Model (1)'!A41*1.05),IF(EGR!$D$3=10,('NOx Model (1)'!A41*1.1),IF(EGR!$D$3=15,('NOx Model (1)'!A41*1.15),IF(EGR!$D$3=20,('NOx Model (1)'!A41*1.2),IF(EGR!$D$3=25,('NOx Model (1)'!A41*1.25),IF(EGR!$D$3=30,('NOx Model (1)'!A41*1.3),IF(EGR!$D$3=35,('NOx Model (1)'!A41*1.35),IF(EGR!$D$3=40,('NOx Model (1)'!A41*1.4),IF(EGR!$D$3=45,('NOx Model (1)'!A41*1.45),IF(EGR!$D$3=50,('NOx Model (1)'!A41*1.5)))))))))))) -> 155.39505 | C35: =IF(EGR!$D$3=0,(EGR!W105*1),IF(EGR!$D$3=5,(EGR!W105*1.05),IF(EGR!$D$3=10,(EGR!W105*1.1),IF(EGR!$D$3=15,(EGR!W105*1.15),IF(EGR!$D$3=20,(EGR!W105*1.2),IF(EGR!$D$3=25,(EGR!W105*1.25),IF(EGR!$D$3=30,(EGR!W105*1.3),IF(EGR!$D$3=35,(EGR!W105*1.35),IF(EGR!$D$3=40,(EGR!W105*1.4),IF(EGR!$D$3=45,(EGR!W105*1.45),IF(EGR!$D$3=50,(EGR!W105*1.5)))))))))))) -> 574.36416 | D35: =IF(EGR!$D$3=0,('NOx Model (1)'!C41*1),IF(EGR!$D$3=5,('NOx Model (1)'!C41*1.05),IF(EGR!$D$3=10,('NOx Model (1)'!C41*1.1),IF(EGR!$D$3=15,('NOx Model (1)'!C41*1.15),IF(EGR!$D$3=20,('NOx Model (1)'!C41*1.2),IF(EGR!$D$3=25,('NOx Model (1)'!C41*1.25),IF(EGR!$D$3=30,('NOx Model (1)'!C41*1.3),IF(EGR!$D$3=35,('NOx Model (1)'!C41*1.35),IF(EGR!$D$3=40,('NOx Model (1)'!C41*1.4),IF(EGR!$D$3=45,('NOx Model (1)'!C41*1.45),IF(EGR!$D$3=50,('NOx Model (1)'!C41*1.5)))))))))))) -> 516.97086 | E35: =IF(EGR!$D$3=0,(EGR!Y105*1),IF(EGR!$D$3=5,(EGR!Y105*1.05),IF(EGR!$D$3=10,(EGR!Y105*1.1),IF(EGR!$D$3=15,(EGR!Y105*1.15),IF(EGR!$D$3=20,(EGR!Y105*1.2),IF(EGR!$D$3=25,(EGR!Y105*1.25),IF(EGR!$D$3=30,(EGR!Y105*1.3),IF(EGR!$D$3=35,(EGR!Y105*1.35),IF(EGR!$D$3=40,(EGR!Y105*1.4),IF(EGR!$D$3=45,(EGR!Y105*1.45),IF(EGR!$D$3=50,(EGR!Y105*1.5)))))))))))) -> 504.73368 | G35: =IF(EGR!$D$3=0,('NOx Model (1)'!E41*1),IF(EGR!$D$3=5,('NOx Model (1)'!E41*1.05),IF(EGR!$D$3=10,('NOx Model (1)'!E41*1.1),IF(EGR!$D$3=15,('NOx Model (1)'!E41*1.15),IF(EGR!$D$3=20,('NOx Model (1)'!E41*1.2),IF(EGR!$D$3=25,('NOx Model (1)'!E41*1.25),IF(EGR!$D$3=30,('NOx Model (1)'!E41*1.3),IF(EGR!$D$3=35,('NOx Model (1)'!E41*1.35),IF(EGR!$D$3=40,('NOx Model (1)'!E41*1.4),IF(EGR!$D$3=45,('NOx Model (1)'!E41*1.45),IF(EGR!$D$3=50,('NOx Model (1)'!E41*1.5)))))))))))) -> 41.128059 | H35: =IF(EGR!$D$3=0,(EGR!AA105*1),IF(EGR!$D$3=5,(EGR!AA105*1.05),IF(EGR!$D$3=10,(EGR!AA105*1.1),IF(EGR!$D$3=15,(EGR!AA105*1.15),IF(EGR!$D$3=20,(EGR!AA105*1.2),IF(EGR!$D$3=25,(EGR!AA105*1.25),IF(EGR!$D$3=30,(EGR!AA105*1.3),IF(EGR!$D$3=35,(EGR!AA105*1.35),IF(EGR!$D$3=40,(EGR!AA105*1.4),IF(EGR!$D$3=45,(EGR!AA105*1.45),IF(EGR!$D$3=50,(EGR!AA105*1.5)))))))))))) -> 18.2655 | J35: =IF(EGR!$D$3=0,('NOx Model (1)'!G41*1),IF(EGR!$D$3=5,('NOx Model (1)'!G41*1.05),IF(EGR!$D$3=10,('NOx Model (1)'!G41*1.1),IF(EGR!$D$3=15,('NOx Model (1)'!G41*1.15),IF(EGR!$D$3=20,('NOx Model (1)'!G41*1.2),IF(EGR!$D$3=25,('NOx Model (1)'!G41*1.25),IF(EGR!$D$3=30,('NOx Model (1)'!G41*1.3),IF(EGR!$D$3=35,('NOx Model (1)'!G41*1.35),IF(EGR!$D$3=40,('NOx Model (1)'!G41*1.4),IF(EGR!$D$3=45,('NOx Model (1)'!G41*1.45),IF(EGR!$D$3=50,('NOx Model (1)'!G41*1.5)))))))))))) -> 419.60012 | K35: =IF(EGR!$D$3=0,(EGR!AC105*1),IF(EGR!$D$3=5,(EGR!AC105*1.05),IF(EGR!$D$3=10,(EGR!AC105*1.1),IF(EGR!$D$3=15,(EGR!AC105*1.15),IF(EGR!$D$3=20,(EGR!AC105*1.2),IF(EGR!$D$3=25,(EGR!AC105*1.25),IF(EGR!$D$3=30,(EGR!AC105*1.3),IF(EGR!$D$3=35,(EGR!AC105*1.35),IF(EGR!$D$3=40,(EGR!AC105*1.4),IF(EGR!$D$3=45,(EGR!AC105*1.45),IF(EGR!$D$3=50,(EGR!AC105*1.5)))))))))))) -> 2165.76 | L35: =B35+D35+G35+J35 -> 1133.0941 | M35: =C35+E35+H35+K35 -> 3263.1233 | N35: 1500
B36: =IF(EGR!$D$3=0,('NOx Model (1)'!A42*1),IF(EGR!$D$3=5,('NOx Model (1)'!A42*1.05),IF(EGR!$D$3=10,('NOx Model (1)'!A42*1.1),IF(EGR!$D$3=15,('NOx Model (1)'!A42*1.15),IF(EGR!$D$3=20,('NOx Model (1)'!A42*1.2),IF(EGR!$D$3=25,('NOx Model (1)'!A42*1.25),IF(EGR!$D$3=30,('NOx Model (1)'!A42*1.3),IF(EGR!$D$3=35,('NOx Model (1)'!A42*1.35),IF(EGR!$D$3=40,('NOx Model (1)'!A42*1.4),IF(EGR!$D$3=45,('NOx Model (1)'!A42*1.45),IF(EGR!$D$3=50,('NOx Model (1)'!A42*1.5)))))))))))) -> 176.47539 | C36: =IF(EGR!$D$3=0,(EGR!W106*1),IF(EGR!$D$3=5,(EGR!W106*1.05),IF(EGR!$D$3=10,(EGR!W106*1.1),IF(EGR!$D$3=15,(EGR!W106*1.15),IF(EGR!$D$3=20,(EGR!W106*1.2),IF(EGR!$D$3=25,(EGR!W106*1.25),IF(EGR!$D$3=30,(EGR!W106*1.3),IF(EGR!$D$3=35,(EGR!W106*1.35),IF(EGR!$D$3=40,(EGR!W106*1.4),IF(EGR!$D$3=45,(EGR!W106*1.45),IF(EGR!$D$3=50,(EGR!W106*1.5)))))))))))) -> 601.5552 | D36: =IF(EGR!$D$3=0,('NOx Model (1)'!C42*1),IF(EGR!$D$3=5,('NOx Model (1)'!C42*1.05),IF(EGR!$D$3=10,('NOx Model (1)'!C42*1.1),IF(EGR!$D$3=15,('NOx Model (1)'!C42*1.15),IF(EGR!$D$3=20,('NOx Model (1)'!C42*1.2),IF(EGR!$D$3=25,('NOx Model (1)'!C42*1.25),IF(EGR!$D$3=30,('NOx Model (1)'!C42*1.3),IF(EGR!$D$3=35,('NOx Model (1)'!C42*1.35),IF(EGR!$D$3=40,('NOx Model (1)'!C42*1.4),IF(EGR!$D$3=45,('NOx Model (1)'!C42*1.45),IF(EGR!$D$3=50,('NOx Model (1)'!C42*1.5)))))))))))) -> 541.73282 | E36: =IF(EGR!$D$3=0,(EGR!Y106*1),IF(EGR!$D$3=5,(EGR!Y106*1.05),IF(EGR!$D$3=10,(EGR!Y106*1.1),IF(EGR!$D$3=15,(EGR!Y106*1.15),IF(EGR!$D$3=20,(EGR!Y106*1.2),IF(EGR!$D$3=25,(EGR!Y106*1.25),IF(EGR!$D$3=30,(EGR!Y106*1.3),IF(EGR!$D$3=35,(EGR!Y106*1.35),IF(EGR!$D$3=40,(EGR!Y106*1.4),IF(EGR!$D$3=45,(EGR!Y106*1.45),IF(EGR!$D$3=50,(EGR!Y106*1.5)))))))))))) -> 529.5618 | G36: =IF(EGR!$D$3=0,('NOx Model (1)'!E42*1),IF(EGR!$D$3=5,('NOx Model (1)'!E42*1.05),IF(EGR!$D$3=10,('NOx Model (1)'!E42*1.1),IF(EGR!$D$3=15,('NOx Model (1)'!E42*1.15),IF(EGR!$D$3=20,('NOx Model (1)'!E42*1.2),IF(EGR!$D$3=25,('NOx Model (1)'!E42*1.25),IF(EGR!$D$3=30,('NOx Model (1)'!E42*1.3),IF(EGR!$D$3=35,('NOx Model (1)'!E42*1.35),IF(EGR!$D$3=40,('NOx Model (1)'!E42*1.4),IF(EGR!$D$3=45,('NOx Model (1)'!E42*1.45),IF(EGR!$D$3=50,('NOx Model (1)'!E42*1.5)))))))))))) -> 41.581875 | H36: =IF(EGR!$D$3=0,(EGR!AA106*1),IF(EGR!$D$3=5,(EGR!AA106*1.05),IF(EGR!$D$3=10,(EGR!AA106*1.1),IF(EGR!$D$3=15,(EGR!AA106*1.15),IF(EGR!$D$3=20,(EGR!AA106*1.2),IF(EGR!$D$3=25,(EGR!AA106*1.25),IF(EGR!$D$3=30,(EGR!AA106*1.3),IF(EGR!$D$3=35,(EGR!AA106*1.35),IF(EGR!$D$3=40,(EGR!AA106*1.4),IF(EGR!$D$3=45,(EGR!AA106*1.45),IF(EGR!$D$3=50,(EGR!AA106*1.5)))))))))))) -> 19.089 | J36: =IF(EGR!$D$3=0,('NOx Model (1)'!G42*1),IF(EGR!$D$3=5,('NOx Model (1)'!G42*1.05),IF(EGR!$D$3=10,('NOx Model (1)'!G42*1.1),IF(EGR!$D$3=15,('NOx Model (1)'!G42*1.15),IF(EGR!$D$3=20,('NOx Model (1)'!G42*1.2),IF(EGR!$D$3=25,('NOx Model (1)'!G42*1.25),IF(EGR!$D$3=30,('NOx Model (1)'!G42*1.3),IF(EGR!$D$3=35,('NOx Model (1)'!G42*1.35),IF(EGR!$D$3=40,('NOx Model (1)'!G42*1.4),IF(EGR!$D$3=45,('NOx Model (1)'!G42*1.45),IF(EGR!$D$3=50,('NOx Model (1)'!G42*1.5)))))))))))) -> 502.8152 | K36: =IF(EGR!$D$3=0,(EGR!AC106*1),IF(EGR!$D$3=5,(EGR!AC106*1.05),IF(EGR!$D$3=10,(EGR!AC106*1.1),IF(EGR!$D$3=15,(EGR!AC106*1.15),IF(EGR!$D$3=20,(EGR!AC106*1.2),IF(EGR!$D$3=25,(EGR!AC106*1.25),IF(EGR!$D$3=30,(EGR!AC106*1.3),IF(EGR!$D$3=35,(EGR!AC106*1.35),IF(EGR!$D$3=40,(EGR!AC106*1.4),IF(EGR!$D$3=45,(EGR!AC106*1.45),IF(EGR!$D$3=50,(EGR!AC106*1.5)))))))))))) -> 2264.46 | L36: =B36+D36+G36+J36 -> 1262.6053 | M36: =C36+E36+H36+K36 -> 3414.666 | N36: 1550
B37: =IF(EGR!$D$3=0,('NOx Model (1)'!A43*1),IF(EGR!$D$3=5,('NOx Model (1)'!A43*1.05),IF(EGR!$D$3=10,('NOx Model (1)'!A43*1.1),IF(EGR!$D$3=15,('NOx Model (1)'!A43*1.15),IF(EGR!$D$3=20,('NOx Model (1)'!A43*1.2),IF(EGR!$D$3=25,('NOx Model (1)'!A43*1.25),IF(EGR!$D$3=30,('NOx Model (1)'!A43*1.3),IF(EGR!$D$3=35,('NOx Model (1)'!A43*1.35),IF(EGR!$D$3=40,('NOx Model (1)'!A43*1.4),IF(EGR!$D$3=45,('NOx Model (1)'!A43*1.45),IF(EGR!$D$3=50,('NOx Model (1)'!A43*1.5)))))))))))) -> 200.65305 | C37: =IF(EGR!$D$3=0,(EGR!W107*1),IF(EGR!$D$3=5,(EGR!W107*1.05),IF(EGR!$D$3=10,(EGR!W107*1.1),IF(EGR!$D$3=15,(EGR!W107*1.15),IF(EGR!$D$3=20,(EGR!W107*1.2),IF(EGR!$D$3=25,(EGR!W107*1.25),IF(EGR!$D$3=30,(EGR!W107*1.3),IF(EGR!$D$3=35,(EGR!W107*1.35),IF(EGR!$D$3=40,(EGR!W107*1.4),IF(EGR!$D$3=45,(EGR!W107*1.45),IF(EGR!$D$3=50,(EGR!W107*1.5)))))))))))) -> 628.93248 | D37: =IF(EGR!$D$3=0,('NOx Model (1)'!C43*1),IF(EGR!$D$3=5,('NOx Model (1)'!C43*1.05),IF(EGR!$D$3=10,('NOx Model (1)'!C43*1.1),IF(EGR!$D$3=15,('NOx Model (1)'!C43*1.15),IF(EGR!$D$3=20,('NOx Model (1)'!C43*1.2),IF(EGR!$D$3=25,('NOx Model (1)'!C43*1.25),IF(EGR!$D$3=30,('NOx Model (1)'!C43*1.3),IF(EGR!$D$3=35,('NOx Model (1)'!C43*1.35),IF(EGR!$D$3=40,('NOx Model (1)'!C43*1.4),IF(EGR!$D$3=45,('NOx Model (1)'!C43*1.45),IF(EGR!$D$3=50,('NOx Model (1)'!C43*1.5)))))))))))) -> 566.71506 | E37: =IF(EGR!$D$3=0,(EGR!Y107*1),IF(EGR!$D$3=5,(EGR!Y107*1.05),IF(EGR!$D$3=10,(EGR!Y107*1.1),IF(EGR!$D$3=15,(EGR!Y107*1.15),IF(EGR!$D$3=20,(EGR!Y107*1.2),IF(EGR!$D$3=25,(EGR!Y107*1.25),IF(EGR!$D$3=30,(EGR!Y107*1.3),IF(EGR!$D$3=35,(EGR!Y107*1.35),IF(EGR!$D$3=40,(EGR!Y107*1.4),IF(EGR!$D$3=45,(EGR!Y107*1.45),IF(EGR!$D$3=50,(EGR!Y107*1.5)))))))))))) -> 554.59944 | G37: =IF(EGR!$D$3=0,('NOx Model (1)'!E43*1),IF(EGR!$D$3=5,('NOx Model (1)'!E43*1.05),IF(EGR!$D$3=10,('NOx Model (1)'!E43*1.1),IF(EGR!$D$3=15,('NOx Model (1)'!E43*1.15),IF(EGR!$D$3=20,('NOx Model (1)'!E43*1.2),IF(EGR!$D$3=25,('NOx Model (1)'!E43*1.25),IF(EGR!$D$3=30,('NOx Model (1)'!E43*1.3),IF(EGR!$D$3=35,('NOx Model (1)'!E43*1.35),IF(EGR!$D$3=40,('NOx Model (1)'!E43*1.4),IF(EGR!$D$3=45,('NOx Model (1)'!E43*1.45),IF(EGR!$D$3=50,('NOx Model (1)'!E43*1.5)))))))))))) -> 41.744527 | H37: =IF(EGR!$D$3=0,(EGR!AA107*1),IF(EGR!$D$3=5,(EGR!AA107*1.05),IF(EGR!$D$3=10,(EGR!AA107*1.1),IF(EGR!$D$3=15,(EGR!AA107*1.15),IF(EGR!$D$3=20,(EGR!AA107*1.2),IF(EGR!$D$3=25,(EGR!AA107*1.25),IF(EGR!$D$3=30,(EGR!AA107*1.3),IF(EGR!$D$3=35,(EGR!AA107*1.35),IF(EGR!$D$3=40,(EGR!AA107*1.4),IF(EGR!$D$3=45,(EGR!AA107*1.45),IF(EGR!$D$3=50,(EGR!AA107*1.5)))))))))))) -> 19.9125 | J37: =IF(EGR!$D$3=0,('NOx Model (1)'!G43*1),IF(EGR!$D$3=5,('NOx Model (1)'!G43*1.05),IF(EGR!$D$3=10,('NOx Model (1)'!G43*1.1),IF(EGR!$D$3=15,('NOx Model (1)'!G43*1.15),IF(EGR!$D$3=20,('NOx Model (1)'!G43*1.2),IF(EGR!$D$3=25,('NOx Model (1)'!G43*1.25),IF(EGR!$D$3=30,('NOx Model (1)'!G43*1.3),IF(EGR!$D$3=35,('NOx Model (1)'!G43*1.35),IF(EGR!$D$3=40,('NOx Model (1)'!G43*1.4),IF(EGR!$D$3=45,('NOx Model (1)'!G43*1.45),IF(EGR!$D$3=50,('NOx Model (1)'!G43*1.5)))))))))))) -> 600.23943 | K37: =IF(EGR!$D$3=0,(EGR!AC107*1),IF(EGR!$D$3=5,(EGR!AC107*1.05),IF(EGR!$D$3=10,(EGR!AC107*1.1),IF(EGR!$D$3=15,(EGR!AC107*1.15),IF(EGR!$D$3=20,(EGR!AC107*1.2),IF(EGR!$D$3=25,(EGR!AC107*1.25),IF(EGR!$D$3=30,(EGR!AC107*1.3),IF(EGR!$D$3=35,(EGR!AC107*1.35),IF(EGR!$D$3=40,(EGR!AC107*1.4),IF(EGR!$D$3=45,(EGR!AC107*1.45),IF(EGR!$D$3=50,(EGR!AC107*1.5)))))))))))) -> 2363.16 | L37: =B37+D37+G37+J37 -> 1409.3521 | M37: =C37+E37+H37+K37 -> 3566.6044 | N37: 1600
B38: =IF(EGR!$D$3=0,('NOx Model (1)'!A44*1),IF(EGR!$D$3=5,('NOx Model (1)'!A44*1.05),IF(EGR!$D$3=10,('NOx Model (1)'!A44*1.1),IF(EGR!$D$3=15,('NOx Model (1)'!A44*1.15),IF(EGR!$D$3=20,('NOx Model (1)'!A44*1.2),IF(EGR!$D$3=25,('NOx Model (1)'!A44*1.25),IF(EGR!$D$3=30,('NOx Model (1)'!A44*1.3),IF(EGR!$D$3=35,('NOx Model (1)'!A44*1.35),IF(EGR!$D$3=40,('NOx Model (1)'!A44*1.4),IF(EGR!$D$3=45,('NOx Model (1)'!A44*1.45),IF(EGR!$D$3=50,('NOx Model (1)'!A44*1.5)))))))))))) -> 228.348 | C38: =IF(EGR!$D$3=0,(EGR!W108*1),IF(EGR!$D$3=5,(EGR!W108*1.05),IF(EGR!$D$3=10,(EGR!W108*1.1),IF(EGR!$D$3=15,(EGR!W108*1.15),IF(EGR!$D$3=20,(EGR!W108*1.2),IF(EGR!$D$3=25,(EGR!W108*1.25),IF(EGR!$D$3=30,(EGR!W108*1.3),IF(EGR!$D$3=35,(EGR!W108*1.35),IF(EGR!$D$3=40,(EGR!W108*1.4),IF(EGR!$D$3=45,(EGR!W108*1.45),IF(EGR!$D$3=50,(EGR!W108*1.5)))))))))))) -> 656.30976 | D38: =IF(EGR!$D$3=0,('NOx Model (1)'!C44*1),IF(EGR!$D$3=5,('NOx Model (1)'!C44*1.05),IF(EGR!$D$3=10,('NOx Model (1)'!C44*1.1),IF(EGR!$D$3=15,('NOx Model (1)'!C44*1.15),IF(EGR!$D$3=20,('NOx Model (1)'!C44*1.2),IF(EGR!$D$3=25,('NOx Model (1)'!C44*1.25),IF(EGR!$D$3=30,('NOx Model (1)'!C44*1.3),IF(EGR!$D$3=35,('NOx Model (1)'!C44*1.35),IF(EGR!$D$3=40,('NOx Model (1)'!C44*1.4),IF(EGR!$D$3=45,('NOx Model (1)'!C44*1.45),IF(EGR!$D$3=50,('NOx Model (1)'!C44*1.5)))))))))))) -> 591.93347 | E38: =IF(EGR!$D$3=0,(EGR!Y108*1),IF(EGR!$D$3=5,(EGR!Y108*1.05),IF(EGR!$D$3=10,(EGR!Y108*1.1),IF(EGR!$D$3=15,(EGR!Y108*1.15),IF(EGR!$D$3=20,(EGR!Y108*1.2),IF(EGR!$D$3=25,(EGR!Y108*1.25),IF(EGR!$D$3=30,(EGR!Y108*1.3),IF(EGR!$D$3=35,(EGR!Y108*1.35),IF(EGR!$D$3=40,(EGR!Y108*1.4),IF(EGR!$D$3=45,(EGR!Y108*1.45),IF(EGR!$D$3=50,(EGR!Y108*1.5)))))))))))) -> 579.8466 | G38: =IF(EGR!$D$3=0,('NOx Model (1)'!E44*1),IF(EGR!$D$3=5,('NOx Model (1)'!E44*1.05),IF(EGR!$D$3=10,('NOx Model (1)'!E44*1.1),IF(EGR!$D$3=15,('NOx Model (1)'!E44*1.15),IF(EGR!$D$3=20,('NOx Model (1)'!E44*1.2),IF(EGR!$D$3=25,('NOx Model (1)'!E44*1.25),IF(EGR!$D$3=30,('NOx Model (1)'!E44*1.3),IF(EGR!$D$3=35,('NOx Model (1)'!E44*1.35),IF(EGR!$D$3=40,('NOx Model (1)'!E44*1.4),IF(EGR!$D$3=45,('NOx Model (1)'!E44*1.45),IF(EGR!$D$3=50,('NOx Model (1)'!E44*1.5)))))))))))) -> 41.578331 | H38: =IF(EGR!$D$3=0,(EGR!AA108*1),IF(EGR!$D$3=5,(EGR!AA108*1.05),IF(EGR!$D$3=10,(EGR!AA108*1.1),IF(EGR!$D$3=15,(EGR!AA108*1.15),IF(EGR!$D$3=20,(EGR!AA108*1.2),IF(EGR!$D$3=25,(EGR!AA108*1.25),IF(EGR!$D$3=30,(EGR!AA108*1.3),IF(EGR!$D$3=35,(EGR!AA108*1.35),IF(EGR!$D$3=40,(EGR!AA108*1.4),IF(EGR!$D$3=45,(EGR!AA108*1.45),IF(EGR!$D$3=50,(EGR!AA108*1.5)))))))))))) -> 20.7405 | J38: =IF(EGR!$D$3=0,('NOx Model (1)'!G44*1),IF(EGR!$D$3=5,('NOx Model (1)'!G44*1.05),IF(EGR!$D$3=10,('NOx Model (1)'!G44*1.1),IF(EGR!$D$3=15,('NOx Model (1)'!G44*1.15),IF(EGR!$D$3=20,('NOx Model (1)'!G44*1.2),IF(EGR!$D$3=25,('NOx Model (1)'!G44*1.25),IF(EGR!$D$3=30,('NOx Model (1)'!G44*1.3),IF(EGR!$D$3=35,('NOx Model (1)'!G44*1.35),IF(EGR!$D$3=40,('NOx Model (1)'!G44*1.4),IF(EGR!$D$3=45,('NOx Model (1)'!G44*1.45),IF(EGR!$D$3=50,('NOx Model (1)'!G44*1.5)))))))))))) -> 713.79695 | K38: =IF(EGR!$D$3=0,(EGR!AC108*1),IF(EGR!$D$3=5,(EGR!AC108*1.05),IF(EGR!$D$3=10,(EGR!AC108*1.1),IF(EGR!$D$3=15,(EGR!AC108*1.15),IF(EGR!$D$3=20,(EGR!AC108*1.2),IF(EGR!$D$3=25,(EGR!AC108*1.25),IF(EGR!$D$3=30,(EGR!AC108*1.3),IF(EGR!$D$3=35,(EGR!AC108*1.35),IF(EGR!$D$3=40,(EGR!AC108*1.4),IF(EGR!$D$3=45,(EGR!AC108*1.45),IF(EGR!$D$3=50,(EGR!AC108*1.5)))))))))))) -> 2462.424 | L38: =B38+D38+G38+J38 -> 1575.6568 | M38: =C38+E38+H38+K38 -> 3719.3209 | N38: 1650
B39: =IF(EGR!$D$3=0,('NOx Model (1)'!A45*1),IF(EGR!$D$3=5,('NOx Model (1)'!A45*1.05),IF(EGR!$D$3=10,('NOx Model (1)'!A45*1.1),IF(EGR!$D$3=15,('NOx Model (1)'!A45*1.15),IF(EGR!$D$3=20,('NOx Model (1)'!A45*1.2),IF(EGR!$D$3=25,('NOx Model (1)'!A45*1.25),IF(EGR!$D$3=30,('NOx Model (1)'!A45*1.3),IF(EGR!$D$3=35,('NOx Model (1)'!A45*1.35),IF(EGR!$D$3=40,('NOx Model (1)'!A45*1.4),IF(EGR!$D$3=45,('NOx Model (1)'!A45*1.45),IF(EGR!$D$3=50,('NOx Model (1)'!A45*1.5)))))))))))) -> 260.02118 | C39: =IF(EGR!$D$3=0,(EGR!W109*1),IF(EGR!$D$3=5,(EGR!W109*1.05),IF(EGR!$D$3=10,(EGR!W109*1.1),IF(EGR!$D$3=15,(EGR!W109*1.15),IF(EGR!$D$3=20,(EGR!W109*1.2),IF(EGR!$D$3=25,(EGR!W109*1.25),IF(EGR!$D$3=30,(EGR!W109*1.3),IF(EGR!$D$3=35,(EGR!W109*1.35),IF(EGR!$D$3=40,(EGR!W109*1.4),IF(EGR!$D$3=45,(EGR!W109*1.45),IF(EGR!$D$3=50,(EGR!W109*1.5)))))))))))) -> 683.87328 | D39: =IF(EGR!$D$3=0,('NOx Model (1)'!C45*1),IF(EGR!$D$3=5,('NOx Model (1)'!C45*1.05),IF(EGR!$D$3=10,('NOx Model (1)'!C45*1.1),IF(EGR!$D$3=15,('NOx Model (1)'!C45*1.15),IF(EGR!$D$3=20,('NOx Model (1)'!C45*1.2),IF(EGR!$D$3=25,('NOx Model (1)'!C45*1.25),IF(EGR!$D$3=30,('NOx Model (1)'!C45*1.3),IF(EGR!$D$3=35,('NOx Model (1)'!C45*1.35),IF(EGR!$D$3=40,('NOx Model (1)'!C45*1.4),IF(EGR!$D$3=45,('NOx Model (1)'!C45*1.45),IF(EGR!$D$3=50,('NOx Model (1)'!C45*1.5)))))))))))) -> 617.40276 | E39: =IF(EGR!$D$3=0,(EGR!Y109*1),IF(EGR!$D$3=5,(EGR!Y109*1.05),IF(EGR!$D$3=10,(EGR!Y109*1.1),IF(EGR!$D$3=15,(EGR!Y109*1.15),IF(EGR!$D$3=20,(EGR!Y109*1.2),IF(EGR!$D$3=25,(EGR!Y109*1.25),IF(EGR!$D$3=30,(EGR!Y109*1.3),IF(EGR!$D$3=35,(EGR!Y109*1.35),IF(EGR!$D$3=40,(EGR!Y109*1.4),IF(EGR!$D$3=45,(EGR!Y109*1.45),IF(EGR!$D$3=50,(EGR!Y109*1.5)))))))))))) -> 605.30328 | G39: =IF(EGR!$D$3=0,('NOx Model (1)'!E45*1),IF(EGR!$D$3=5,('NOx Model (1)'!E45*1.05),IF(EGR!$D$3=10,('NOx Model (1)'!E45*1.1),IF(EGR!$D$3=15,('NOx Model (1)'!E45*1.15),IF(EGR!$D$3=20,('NOx Model (1)'!E45*1.2),IF(EGR!$D$3=25,('NOx Model (1)'!E45*1.25),IF(EGR!$D$3=30,('NOx Model (1)'!E45*1.3),IF(EGR!$D$3=35,('NOx Model (1)'!E45*1.35),IF(EGR!$D$3=40,('NOx Model (1)'!E45*1.4),IF(EGR!$D$3=45,('NOx Model (1)'!E45*1.45),IF(EGR!$D$3=50,('NOx Model (1)'!E45*1.5)))))))))))) -> 41.041585 | H39: =IF(EGR!$D$3=0,(EGR!AA109*1),IF(EGR!$D$3=5,(EGR!AA109*1.05),IF(EGR!$D$3=10,(EGR!AA109*1.1),IF(EGR!$D$3=15,(EGR!AA109*1.15),IF(EGR!$D$3=20,(EGR!AA109*1.2),IF(EGR!$D$3=25,(EGR!AA109*1.25),IF(EGR!$D$3=30,(EGR!AA109*1.3),IF(EGR!$D$3=35,(EGR!AA109*1.35),IF(EGR!$D$3=40,(EGR!AA109*1.4),IF(EGR!$D$3=45,(EGR!AA109*1.45),IF(EGR!$D$3=50,(EGR!AA109*1.5)))))))))))) -> 21.573 | J39: =IF(EGR!$D$3=0,('NOx Model (1)'!G45*1),IF(EGR!$D$3=5,('NOx Model (1)'!G45*1.05),IF(EGR!$D$3=10,('NOx Model (1)'!G45*1.1),IF(EGR!$D$3=15,('NOx Model (1)'!G45*1.15),IF(EGR!$D$3=20,('NOx Model (1)'!G45*1.2),IF(EGR!$D$3=25,('NOx Model (1)'!G45*1.25),IF(EGR!$D$3=30,('NOx Model (1)'!G45*1.3),IF(EGR!$D$3=35,('NOx Model (1)'!G45*1.35),IF(EGR!$D$3=40,('NOx Model (1)'!G45*1.4),IF(EGR!$D$3=45,('NOx Model (1)'!G45*1.45),IF(EGR!$D$3=50,('NOx Model (1)'!G45*1.5)))))))))))) -> 845.60071 | K39: =IF(EGR!$D$3=0,(EGR!AC109*1),IF(EGR!$D$3=5,(EGR!AC109*1.05),IF(EGR!$D$3=10,(EGR!AC109*1.1),IF(EGR!$D$3=15,(EGR!AC109*1.15),IF(EGR!$D$3=20,(EGR!AC109*1.2),IF(EGR!$D$3=25,(EGR!AC109*1.25),IF(EGR!$D$3=30,(EGR!AC109*1.3),IF(EGR!$D$3=35,(EGR!AC109*1.35),IF(EGR!$D$3=40,(EGR!AC109*1.4),IF(EGR!$D$3=45,(EGR!AC109*1.45),IF(EGR!$D$3=50,(EGR!AC109*1.5)))))))))))) -> 2561.688 | L39: =B39+D39+G39+J39 -> 1764.0662 | M39: =C39+E39+H39+K39 -> 3872.4376 | N39: 1700
B40: =IF(EGR!$D$3=0,('NOx Model (1)'!A46*1),IF(EGR!$D$3=5,('NOx Model (1)'!A46*1.05),IF(EGR!$D$3=10,('NOx Model (1)'!A46*1.1),IF(EGR!$D$3=15,('NOx Model (1)'!A46*1.15),IF(EGR!$D$3=20,('NOx Model (1)'!A46*1.2),IF(EGR!$D$3=25,('NOx Model (1)'!A46*1.25),IF(EGR!$D$3=30,('NOx Model (1)'!A46*1.3),IF(EGR!$D$3=35,('NOx Model (1)'!A46*1.35),IF(EGR!$D$3=40,('NOx Model (1)'!A46*1.4),IF(EGR!$D$3=45,('NOx Model (1)'!A46*1.45),IF(EGR!$D$3=50,('NOx Model (1)'!A46*1.5)))))))))))) -> 296.17701 | C40: =IF(EGR!$D$3=0,(EGR!W110*1),IF(EGR!$D$3=5,(EGR!W110*1.05),IF(EGR!$D$3=10,(EGR!W110*1.1),IF(EGR!$D$3=15,(EGR!W110*1.15),IF(EGR!$D$3=20,(EGR!W110*1.2),IF(EGR!$D$3=25,(EGR!W110*1.25),IF(EGR!$D$3=30,(EGR!W110*1.3),IF(EGR!$D$3=35,(EGR!W110*1.35),IF(EGR!$D$3=40,(EGR!W110*1.4),IF(EGR!$D$3=45,(EGR!W110*1.45),IF(EGR!$D$3=50,(EGR!W110*1.5)))))))))))) -> 711.52992 | D40: =IF(EGR!$D$3=0,('NOx Model (1)'!C46*1),IF(EGR!$D$3=5,('NOx Model (1)'!C46*1.05),IF(EGR!$D$3=10,('NOx Model (1)'!C46*1.1),IF(EGR!$D$3=15,('NOx Model (1)'!C46*1.15),IF(EGR!$D$3=20,('NOx Model (1)'!C46*1.2),IF(EGR!$D$3=25,('NOx Model (1)'!C46*1.25),IF(EGR!$D$3=30,('NOx Model (1)'!C46*1.3),IF(EGR!$D$3=35,('NOx Model (1)'!C46*1.35),IF(EGR!$D$3=40,('NOx Model (1)'!C46*1.4),IF(EGR!$D$3=45,('NOx Model (1)'!C46*1.45),IF(EGR!$D$3=50,('NOx Model (1)'!C46*1.5)))))))))))) -> 643.13583 | E40: =IF(EGR!$D$3=0,(EGR!Y110*1),IF(EGR!$D$3=5,(EGR!Y110*1.05),IF(EGR!$D$3=10,(EGR!Y110*1.1),IF(EGR!$D$3=15,(EGR!Y110*1.15),IF(EGR!$D$3=20,(EGR!Y110*1.2),IF(EGR!$D$3=25,(EGR!Y110*1.25),IF(EGR!$D$3=30,(EGR!Y110*1.3),IF(EGR!$D$3=35,(EGR!Y110*1.35),IF(EGR!$D$3=40,(EGR!Y110*1.4),IF(EGR!$D$3=45,(EGR!Y110*1.45),IF(EGR!$D$3=50,(EGR!Y110*1.5)))))))))))) -> 631.07424 | G40: =IF(EGR!$D$3=0,('NOx Model (1)'!E46*1),IF(EGR!$D$3=5,('NOx Model (1)'!E46*1.05),IF(EGR!$D$3=10,('NOx Model (1)'!E46*1.1),IF(EGR!$D$3=15,('NOx Model (1)'!E46*1.15),IF(EGR!$D$3=20,('NOx Model (1)'!E46*1.2),IF(EGR!$D$3=25,('NOx Model (1)'!E46*1.25),IF(EGR!$D$3=30,('NOx Model (1)'!E46*1.3),IF(EGR!$D$3=35,('NOx Model (1)'!E46*1.35),IF(EGR!$D$3=40,('NOx Model (1)'!E46*1.4),IF(EGR!$D$3=45,('NOx Model (1)'!E46*1.45),IF(EGR!$D$3=50,('NOx Model (1)'!E46*1.5)))))))))))) -> 40.088247 | H40: =IF(EGR!$D$3=0,(EGR!AA110*1),IF(EGR!$D$3=5,(EGR!AA110*1.05),IF(EGR!$D$3=10,(EGR!AA110*1.1),IF(EGR!$D$3=15,(EGR!AA110*1.15),IF(EGR!$D$3=20,(EGR!AA110*1.2),IF(EGR!$D$3=25,(EGR!AA110*1.25),IF(EGR!$D$3=30,(EGR!AA110*1.3),IF(EGR!$D$3=35,(EGR!AA110*1.35),IF(EGR!$D$3=40,(EGR!AA110*1.4),IF(EGR!$D$3=45,(EGR!AA110*1.45),IF(EGR!$D$3=50,(EGR!AA110*1.5)))))))))))) -> 22.41 | J40: =IF(EGR!$D$3=0,('NOx Model (1)'!G46*1),IF(EGR!$D$3=5,('NOx Model (1)'!G46*1.05),IF(EGR!$D$3=10,('NOx Model (1)'!G46*1.1),IF(EGR!$D$3=15,('NOx Model (1)'!G46*1.15),IF(EGR!$D$3=20,('NOx Model (1)'!G46*1.2),IF(EGR!$D$3=25,('NOx Model (1)'!G46*1.25),IF(EGR!$D$3=30,('NOx Model (1)'!G46*1.3),IF(EGR!$D$3=35,('NOx Model (1)'!G46*1.35),IF(EGR!$D$3=40,('NOx Model (1)'!G46*1.4),IF(EGR!$D$3=45,('NOx Model (1)'!G46*1.45),IF(EGR!$D$3=50,('NOx Model (1)'!G46*1.5)))))))))))) -> 997.96428 | K40: =IF(EGR!$D$3=0,(EGR!AC110*1),IF(EGR!$D$3=5,(EGR!AC110*1.05),IF(EGR!$D$3=10,(EGR!AC110*1.1),IF(EGR!$D$3=15,(EGR!AC110*1.15),IF(EGR!$D$3=20,(EGR!AC110*1.2),IF(EGR!$D$3=25,(EGR!AC110*1.25),IF(EGR!$D$3=30,(EGR!AC110*1.3),IF(EGR!$D$3=35,(EGR!AC110*1.35),IF(EGR!$D$3=40,(EGR!AC110*1.4),IF(EGR!$D$3=45,(EGR!AC110*1.45),IF(EGR!$D$3=50,(EGR!AC110*1.5)))))))))))) -> 2661.516 | L40: =B40+D40+G40+J40 -> 1977.3654 | M40: =C40+E40+H40+K40 -> 4026.5302 | N40: 1750
B41: =IF(EGR!$D$3=0,('NOx Model (1)'!A47*1),IF(EGR!$D$3=5,('NOx Model (1)'!A47*1.05),IF(EGR!$D$3=10,('NOx Model (1)'!A47*1.1),IF(EGR!$D$3=15,('NOx Model (1)'!A47*1.15),IF(EGR!$D$3=20,('NOx Model (1)'!A47*1.2),IF(EGR!$D$3=25,('NOx Model (1)'!A47*1.25),IF(EGR!$D$3=30,('NOx Model (1)'!A47*1.3),IF(EGR!$D$3=35,('NOx Model (1)'!A47*1.35),IF(EGR!$D$3=40,('NOx Model (1)'!A47*1.4),IF(EGR!$D$3=45,('NOx Model (1)'!A47*1.45),IF(EGR!$D$3=50,('NOx Model (1)'!A47*1.5)))))))))))) -> 337.36601 | C41: =IF(EGR!$D$3=0,(EGR!W111*1),IF(EGR!$D$3=5,(EGR!W111*1.05),IF(EGR!$D$3=10,(EGR!W111*1.1),IF(EGR!$D$3=15,(EGR!W111*1.15),IF(EGR!$D$3=20,(EGR!W111*1.2),IF(EGR!$D$3=25,(EGR!W111*1.25),IF(EGR!$D$3=30,(EGR!W111*1.3),IF(EGR!$D$3=35,(EGR!W111*1.35),IF(EGR!$D$3=40,(EGR!W111*1.4),IF(EGR!$D$3=45,(EGR!W111*1.45),IF(EGR!$D$3=50,(EGR!W111*1.5)))))))))))) -> 739.3728 | D41: =IF(EGR!$D$3=0,('NOx Model (1)'!C47*1),IF(EGR!$D$3=5,('NOx Model (1)'!C47*1.05),IF(EGR!$D$3=10,('NOx Model (1)'!C47*1.1),IF(EGR!$D$3=15,('NOx Model (1)'!C47*1.15),IF(EGR!$D$3=20,('NOx Model (1)'!C47*1.2),IF(EGR!$D$3=25,('NOx Model (1)'!C47*1.25),IF(EGR!$D$3=30,('NOx Model (1)'!C47*1.3),IF(EGR!$D$3=35,('NOx Model (1)'!C47*1.35),IF(EGR!$D$3=40,('NOx Model (1)'!C47*1.4),IF(EGR!$D$3=45,('NOx Model (1)'!C47*1.45),IF(EGR!$D$3=50,('NOx Model (1)'!C47*1.5)))))))))))) -> 669.14331 | E41: =IF(EGR!$D$3=0,(EGR!Y111*1),IF(EGR!$D$3=5,(EGR!Y111*1.05),IF(EGR!$D$3=10,(EGR!Y111*1.1),IF(EGR!$D$3=15,(EGR!Y111*1.15),IF(EGR!$D$3=20,(EGR!Y111*1.2),IF(EGR!$D$3=25,(EGR!Y111*1.25),IF(EGR!$D$3=30,(EGR!Y111*1.3),IF(EGR!$D$3=35,(EGR!Y111*1.35),IF(EGR!$D$3=40,(EGR!Y111*1.4),IF(EGR!$D$3=45,(EGR!Y111*1.45),IF(EGR!$D$3=50,(EGR!Y111*1.5)))))))))))) -> 656.94996 | G41: =IF(EGR!$D$3=0,('NOx Model (1)'!E47*1),IF(EGR!$D$3=5,('NOx Model (1)'!E47*1.05),IF(EGR!$D$3=10,('NOx Model (1)'!E47*1.1),IF(EGR!$D$3=15,('NOx Model (1)'!E47*1.15),IF(EGR!$D$3=20,('NOx Model (1)'!E47*1.2),IF(EGR!$D$3=25,('NOx Model (1)'!E47*1.25),IF(EGR!$D$3=30,('NOx Model (1)'!E47*1.3),IF(EGR!$D$3=35,('NOx Model (1)'!E47*1.35),IF(EGR!$D$3=40,('NOx Model (1)'!E47*1.4),IF(EGR!$D$3=45,('NOx Model (1)'!E47*1.45),IF(EGR!$D$3=50,('NOx Model (1)'!E47*1.5)))))))))))) -> 38.667622 | H41: =IF(EGR!$D$3=0,(EGR!AA111*1),IF(EGR!$D$3=5,(EGR!AA111*1.05),IF(EGR!$D$3=10,(EGR!AA111*1.1),IF(EGR!$D$3=15,(EGR!AA111*1.15),IF(EGR!$D$3=20,(EGR!AA111*1.2),IF(EGR!$D$3=25,(EGR!AA111*1.25),IF(EGR!$D$3=30,(EGR!AA111*1.3),IF(EGR!$D$3=35,(EGR!AA111*1.35),IF(EGR!$D$3=40,(EGR!AA111*1.4),IF(EGR!$D$3=45,(EGR!AA111*1.45),IF(EGR!$D$3=50,(EGR!AA111*1.5)))))))))))) -> 23.247 | J41: =IF(EGR!$D$3=0,('NOx Model (1)'!G47*1),IF(EGR!$D$3=5,('NOx Model (1)'!G47*1.05),IF(EGR!$D$3=10,('NOx Model (1)'!G47*1.1),IF(EGR!$D$3=15,('NOx Model (1)'!G47*1.15),IF(EGR!$D$3=20,('NOx Model (1)'!G47*1.2),IF(EGR!$D$3=25,('NOx Model (1)'!G47*1.25),IF(EGR!$D$3=30,('NOx Model (1)'!G47*1.3),IF(EGR!$D$3=35,('NOx Model (1)'!G47*1.35),IF(EGR!$D$3=40,('NOx Model (1)'!G47*1.4),IF(EGR!$D$3=45,('NOx Model (1)'!G47*1.45),IF(EGR!$D$3=50,('NOx Model (1)'!G47*1.5)))))))))))) -> 1173.4143 | K41: =IF(EGR!$D$3=0,(EGR!AC111*1),IF(EGR!$D$3=5,(EGR!AC111*1.05),IF(EGR!$D$3=10,(EGR!AC111*1.1),IF(EGR!$D$3=15,(EGR!AC111*1.15),IF(EGR!$D$3=20,(EGR!AC111*1.2),IF(EGR!$D$3=25,(EGR!AC111*1.25),IF(EGR!$D$3=30,(EGR!AC111*1.3),IF(EGR!$D$3=35,(EGR!AC111*1.35),IF(EGR!$D$3=40,(EGR!AC111*1.4),IF(EGR!$D$3=45,(EGR!AC111*1.45),IF(EGR!$D$3=50,(EGR!AC111*1.5)))))))))))) -> 2761.908 | L41: =B41+D41+G41+J41 -> 2218.5912 | M41: =C41+E41+H41+K41 -> 4181.4778 | N41: 1800
B42: =IF(EGR!$D$3=0,('NOx Model (1)'!A48*1),IF(EGR!$D$3=5,('NOx Model (1)'!A48*1.05),IF(EGR!$D$3=10,('NOx Model (1)'!A48*1.1),IF(EGR!$D$3=15,('NOx Model (1)'!A48*1.15),IF(EGR!$D$3=20,('NOx Model (1)'!A48*1.2),IF(EGR!$D$3=25,('NOx Model (1)'!A48*1.25),IF(EGR!$D$3=30,('NOx Model (1)'!A48*1.3),IF(EGR!$D$3=35,('NOx Model (1)'!A48*1.35),IF(EGR!$D$3=40,('NOx Model (1)'!A48*1.4),IF(EGR!$D$3=45,('NOx Model (1)'!A48*1.45),IF(EGR!$D$3=50,('NOx Model (1)'!A48*1.5)))))))))))) -> 384.18749 | C42: =IF(EGR!$D$3=0,(EGR!W112*1),IF(EGR!$D$3=5,(EGR!W112*1.05),IF(EGR!$D$3=10,(EGR!W112*1.1),IF(EGR!$D$3=15,(EGR!W112*1.15),IF(EGR!$D$3=20,(EGR!W112*1.2),IF(EGR!$D$3=25,(EGR!W112*1.25),IF(EGR!$D$3=30,(EGR!W112*1.3),IF(EGR!$D$3=35,(EGR!W112*1.35),IF(EGR!$D$3=40,(EGR!W112*1.4),IF(EGR!$D$3=45,(EGR!W112*1.45),IF(EGR!$D$3=50,(EGR!W112*1.5)))))))))))) -> 767.21568 | D42: =IF(EGR!$D$3=0,('NOx Model (1)'!C48*1),IF(EGR!$D$3=5,('NOx Model (1)'!C48*1.05),IF(EGR!$D$3=10,('NOx Model (1)'!C48*1.1),IF(EGR!$D$3=15,('NOx Model (1)'!C48*1.15),IF(EGR!$D$3=20,('NOx Model (1)'!C48*1.2),IF(EGR!$D$3=25,('NOx Model (1)'!C48*1.25),IF(EGR!$D$3=30,('NOx Model (1)'!C48*1.3),IF(EGR!$D$3=35,('NOx Model (1)'!C48*1.35),IF(EGR!$D$3=40,('NOx Model (1)'!C48*1.4),IF(EGR!$D$3=45,('NOx Model (1)'!C48*1.45),IF(EGR!$D$3=50,('NOx Model (1)'!C48*1.5)))))))))))) -> 695.43315 | E42: =IF(EGR!$D$3=0,(EGR!Y112*1),IF(EGR!$D$3=5,(EGR!Y112*1.05),IF(EGR!$D$3=10,(EGR!Y112*1.1),IF(EGR!$D$3=15,(EGR!Y112*1.15),IF(EGR!$D$3=20,(EGR!Y112*1.2),IF(EGR!$D$3=25,(EGR!Y112*1.25),IF(EGR!$D$3=30,(EGR!Y112*1.3),IF(EGR!$D$3=35,(EGR!Y112*1.35),IF(EGR!$D$3=40,(EGR!Y112*1.4),IF(EGR!$D$3=45,(EGR!Y112*1.45),IF(EGR!$D$3=50,(EGR!Y112*1.5)))))))))))) -> 683.13996 | G42: =IF(EGR!$D$3=0,('NOx Model (1)'!E48*1),IF(EGR!$D$3=5,('NOx Model (1)'!E48*1.05),IF(EGR!$D$3=10,('NOx Model (1)'!E48*1.1),IF(EGR!$D$3=15,('NOx Model (1)'!E48*1.15),IF(EGR!$D$3=20,('NOx Model (1)'!E48*1.2),IF(EGR!$D$3=25,('NOx Model (1)'!E48*1.25),IF(EGR!$D$3=30,('NOx Model (1)'!E48*1.3),IF(EGR!$D$3=35,('NOx Model (1)'!E48*1.35),IF(EGR!$D$3=40,('NOx Model (1)'!E48*1.4),IF(EGR!$D$3=45,('NOx Model (1)'!E48*1.45),IF(EGR!$D$3=50,('NOx Model (1)'!E48*1.5)))))))))))) -> 36.724049 | H42: =IF(EGR!$D$3=0,(EGR!AA112*1),IF(EGR!$D$3=5,(EGR!AA112*1.05),IF(EGR!$D$3=10,(EGR!AA112*1.1),IF(EGR!$D$3=15,(EGR!AA112*1.15),IF(EGR!$D$3=20,(EGR!AA112*1.2),IF(EGR!$D$3=25,(EGR!AA112*1.25),IF(EGR!$D$3=30,(EGR!AA112*1.3),IF(EGR!$D$3=35,(EGR!AA112*1.35),IF(EGR!$D$3=40,(EGR!AA112*1.4),IF(EGR!$D$3=45,(EGR!AA112*1.45),IF(EGR!$D$3=50,(EGR!AA112*1.5)))))))))))) -> 24.0885 | J42: =IF(EGR!$D$3=0,('NOx Model (1)'!G48*1),IF(EGR!$D$3=5,('NOx Model (1)'!G48*1.05),IF(EGR!$D$3=10,('NOx Model (1)'!G48*1.1),IF(EGR!$D$3=15,('NOx Model (1)'!G48*1.15),IF(EGR!$D$3=20,('NOx Model (1)'!G48*1.2),IF(EGR!$D$3=25,('NOx Model (1)'!G48*1.25),IF(EGR!$D$3=30,('NOx Model (1)'!G48*1.3),IF(EGR!$D$3=35,('NOx Model (1)'!G48*1.35),IF(EGR!$D$3=40,('NOx Model (1)'!G48*1.4),IF(EGR!$D$3=45,('NOx Model (1)'!G48*1.45),IF(EGR!$D$3=50,('NOx Model (1)'!G48*1.5)))))))))))) -> 1374.7029 | K42: =IF(EGR!$D$3=0,(EGR!AC112*1),IF(EGR!$D$3=5,(EGR!AC112*1.05),IF(EGR!$D$3=10,(EGR!AC112*1.1),IF(EGR!$D$3=15,(EGR!AC112*1.15),IF(EGR!$D$3=20,(EGR!AC112*1.2),IF(EGR!$D$3=25,(EGR!AC112*1.25),IF(EGR!$D$3=30,(EGR!AC112*1.3),IF(EGR!$D$3=35,(EGR!AC112*1.35),IF(EGR!$D$3=40,(EGR!AC112*1.4),IF(EGR!$D$3=45,(EGR!AC112*1.45),IF(EGR!$D$3=50,(EGR!AC112*1.5)))))))))))) -> 2862.3 | L42: =B42+D42+G42+J42 -> 2491.0476 | M42: =C42+E42+H42+K42 -> 4336.7441 | N42: 1850
... B69: =IF(EGR!$D$3=0,('NOx Model (1)'!A75*1),IF(EGR!$D$3=5,('NOx Model (1)'!A75*1.05),IF(EGR!$D$3=10,('NOx Model (1)'!A75*1.1),IF(EGR!$D$3=15,('NOx Model (1)'!A75*1.15),IF(EGR!$D$3=20,('NOx Model (1)'!A75*1.2),IF(EGR!$D$3=25,('NOx Model (1)'!A75*1.25),IF(EGR!$D$3=30,('NOx Model (1)'!A75*1.3),IF(EGR!$D$3=35,('NOx Model (1)'!A75*1.35),IF(EGR!$D$3=40,('NOx Model (1)'!A75*1.4),IF(EGR!$D$3=45,('NOx Model (1)'!A75*1.45),IF(EGR!$D$3=50,('NOx Model (1)'!A75*1.5)))))))))))) -> 7845.7041 | C69: =IF(EGR!$D$3=0,(EGR!W139*1),IF(EGR!$D$3=5,(EGR!W139*1.05),IF(EGR!$D$3=10,(EGR!W139*1.1),IF(EGR!$D$3=15,(EGR!W139*1.15),IF(EGR!$D$3=20,(EGR!W139*1.2),IF(EGR!$D$3=25,(EGR!W139*1.25),IF(EGR!$D$3=30,(EGR!W139*1.3),IF(EGR!$D$3=35,(EGR!W139*1.35),IF(EGR!$D$3=40,(EGR!W139*1.4),IF(EGR!$D$3=45,(EGR!W139*1.45),IF(EGR!$D$3=50,(EGR!W139*1.5)))))))))))) -> 1539.6461 | D69: =IF(EGR!$D$3=0,('NOx Model (1)'!C75*1),IF(EGR!$D$3=5,('NOx Model (1)'!C75*1.05),IF(EGR!$D$3=10,('NOx Model (1)'!C75*1.1),IF(EGR!$D$3=15,('NOx Model (1)'!C75*1.15),IF(EGR!$D$3=20,('NOx Model (1)'!C75*1.2),IF(EGR!$D$3=25,('NOx Model (1)'!C75*1.25),IF(EGR!$D$3=30,('NOx Model (1)'!C75*1.3),IF(EGR!$D$3=35,('NOx Model (1)'!C75*1.35),IF(EGR!$D$3=40,('NOx Model (1)'!C75*1.4),IF(EGR!$D$3=45,('NOx Model (1)'!C75*1.45),IF(EGR!$D$3=50,('NOx Model (1)'!C75*1.5)))))))))))) -> 1470.9278 | E69: =IF(EGR!$D$3=0,(EGR!Y139*1),IF(EGR!$D$3=5,(EGR!Y139*1.05),IF(EGR!$D$3=10,(EGR!Y139*1.1),IF(EGR!$D$3=15,(EGR!Y139*1.15),IF(EGR!$D$3=20,(EGR!Y139*1.2),IF(EGR!$D$3=25,(EGR!Y139*1.25),IF(EGR!$D$3=30,(EGR!Y139*1.3),IF(EGR!$D$3=35,(EGR!Y139*1.35),IF(EGR!$D$3=40,(EGR!Y139*1.4),IF(EGR!$D$3=45,(EGR!Y139*1.45),IF(EGR!$D$3=50,(EGR!Y139*1.5)))))))))))) -> 1443.2785 | G69: =IF(EGR!$D$3=0,('NOx Model (1)'!E75*1),IF(EGR!$D$3=5,('NOx Model (1)'!E75*1.05),IF(EGR!$D$3=10,('NOx Model (1)'!E75*1.1),IF(EGR!$D$3=15,('NOx Model (1)'!E75*1.15),IF(EGR!$D$3=20,('NOx Model (1)'!E75*1.2),IF(EGR!$D$3=25,('NOx Model (1)'!E75*1.25),IF(EGR!$D$3=30,('NOx Model (1)'!E75*1.3),IF(EGR!$D$3=35,('NOx Model (1)'!E75*1.35),IF(EGR!$D$3=40,('NOx Model (1)'!E75*1.4),IF(EGR!$D$3=45,('NOx Model (1)'!E75*1.45),IF(EGR!$D$3=50,('NOx Model (1)'!E75*1.5)))))))))))) -> -605.32866 | H69: =IF(EGR!$D$3=0,(EGR!AA139*1),IF(EGR!$D$3=5,(EGR!AA139*1.05),IF(EGR!$D$3=10,(EGR!AA139*1.1),IF(EGR!$D$3=15,(EGR!AA139*1.15),IF(EGR!$D$3=20,(EGR!AA139*1.2),IF(EGR!$D$3=25,(EGR!AA139*1.25),IF(EGR!$D$3=30,(EGR!AA139*1.3),IF(EGR!$D$3=35,(EGR!AA139*1.35),IF(EGR!$D$3=40,(EGR!AA139*1.4),IF(EGR!$D$3=45,(EGR!AA139*1.45),IF(EGR!$D$3=50,(EGR!AA139*1.5)))))))))))) -> 47.7135 | J69: =IF(EGR!$D$3=0,('NOx Model (1)'!G75*1),IF(EGR!$D$3=5,('NOx Model (1)'!G75*1.05),IF(EGR!$D$3=10,('NOx Model (1)'!G75*1.1),IF(EGR!$D$3=15,('NOx Model (1)'!G75*1.15),IF(EGR!$D$3=20,('NOx Model (1)'!G75*1.2),IF(EGR!$D$3=25,('NOx Model (1)'!G75*1.25),IF(EGR!$D$3=30,('NOx Model (1)'!G75*1.3),IF(EGR!$D$3=35,('NOx Model (1)'!G75*1.35),IF(EGR!$D$3=40,('NOx Model (1)'!G75*1.4),IF(EGR!$D$3=45,('NOx Model (1)'!G75*1.45),IF(EGR!$D$3=50,('NOx Model (1)'!G75*1.5)))))))))))) -> 35312.818 | K69: =IF(EGR!$D$3=0,(EGR!AC139*1),IF(EGR!$D$3=5,(EGR!AC139*1.05),IF(EGR!$D$3=10,(EGR!AC139*1.1),IF(EGR!$D$3=15,(EGR!AC139*1.15),IF(EGR!$D$3=20,(EGR!AC139*1.2),IF(EGR!$D$3=25,(EGR!AC139*1.25),IF(EGR!$D$3=30,(EGR!AC139*1.3),IF(EGR!$D$3=35,(EGR!AC139*1.35),IF(EGR!$D$3=40,(EGR!AC139*1.4),IF(EGR!$D$3=45,(EGR!AC139*1.45),IF(EGR!$D$3=50,(EGR!AC139*1.5)))))))))))) -> 5647.896 | L69: =B69+D69+G69+J69 -> 44024.121 | M69: =C69+E69+H69+K69 -> 8678.5341 | N69: 3200
