Workbook
Name _Hlk122105933: 'Resistance to motion'!$J$8
Name _Hlk122186604: 'Resistance to motion'!$J$9

Sheet BMW s1000rr
A1: Make : | B1: BMW
A2: Model : | B2: S 1000 rr
A3: Year : | B3: 2018
A4: Capacity (cc) : | B4: 999
A6: Gearing data | J6: CoG Data | P6: CoG Calculations
A7: Primary | B7: 76 | C7: 46
A8: Final | B8: 17 | C8: 45 | J8: Without rider | K8: Front wheel | L8: Rear wheel | M8: Total weight | P8: Xcog
A9: Tyre | B9: Factory | J9: Level | K9: 106 | L9: 99.6 | M9: =L9+K9 -> 205.6 | N9: kg | P9: Level without rider | Q9: =SUM(L9*K21)/M9 -> 0.69661868 | R9: m
A10: Diam | B10: 0.6408 | J10: Raised | K10: 113.8 | L10: =117.1-K18 -> 91.2 | M10: =K10+L10 -> 205 | N10: kg | P10: Level with Rider | Q10: =SUM(L13*K21)/M13 -> 0.7320392 | R10: m
A11: RPM | B11: 13500
J12: With rider | K12: Front wheel | L12: Rear wheel | M12: Total weight
B13: Output | C13: Input | E13: Speeds | F13: Revs | G13: Next gear rpm | H13: Falls | J13: Level | K13: 134 | L13: 138.95 | M13: =L13+K13 -> 272.95 | N13: kg | P13: Ycog
J14: Raised | K14: 149.7 | L14: =151-K18 -> 125.1 | M14: =K14+L14 -> 274.8 | N14: kg | P14: Level without rider | Q14: =($K$21*($L$9-$L$10))/($M$9*(TAN($K$26)))+($K$24) -> 0.54356453 | R14: m
A15: 1st | B15: 45 | C15: 17 | E15: =(B11*60*(C15/B15)*E29*PI()*(C7/B7)/1000)*(B8/C8) -> 140.85571 | F15: =B$11 -> 13500 | P15: Level with Rider | Q15: =($K$21*($L$13-$L$14))/($M$13*(TAN($K$26)))+($K$24) -> 0.60004344 | R15: m
G16: =F15*(C15/B15)*(B17/C17) -> 10663.636 | H16: =F15-G16 -> 2836.3636
A17: 2nd | B17: 46 | C17: 22 | E17: =(B11*60*(C17/B17)*E29*PI()*(C7/B7)/1000)*(B8/C8) -> 178.32116 | F17: =B$11 -> 13500
G18: =F17*(C17/B17)*(B19/C19) -> 11152.174 | H18: =F17-G18 -> 2347.8261 | J18: Stool Weight | K18: 25.9 | L18: kg | P18: % Front | Q18: % Rear
A19: 3rd | B19: 38 | C19: 22 | E19: =(B11*60*(C19/B19)*E29*PI()*(C7/B7)/1000)*(B8/C8) -> 215.86246 | F19: =B$11 -> 13500 | J19: Rider weight | K19: 67.6 | L19: kg | O19: Without rider | P19: =SUM(($K$21-Q9)/$K$21) -> 0.5155642 | Q19: =SUM(Q9/$K$21) -> 0.4844358
G20: =F19*(C19/B19)*(B21/C21) -> 11723.684 | H20: =F19-G20 -> 1776.3158 | J20: Stool height | K20: 0.351 | L20: m | O20: With Rider | P20: =SUM($K$21-Q10)/$K$21 -> 0.49093241 | Q20: =SUM(Q10/$K$21) -> 0.50906759
A21: 4th | B21: 33 | C21: 22 | E21: =(B11*60*(C21/B21)*E29*PI()*(C7/B7)/1000)*(B8/C8) -> 248.5689 | F21: =B$11 -> 13500 | J21: Wheelbase | K21: 1.438 | L21: m
G22: =F21*(C21/B21)*(B23/C23) -> 12240 | H22: =F21-G22 -> 1260 | J22: Front wheel Rad | K22: =SUM(E30)/2 -> 0.2999 | L22: m
A23: 5th | B23: 34 | C23: 25 | E23: =(B11*60*(C23/B23)*E29*PI()*(C7/B7)/1000)*(B8/C8) -> 274.15687 | F23: =B$11 -> 13500 | J23: Rear wheel Rad | K23: =SUM(E29)/2 -> 0.3204 | L23: m | P23: Chain Length
G24: =F23*(C23/B23)*(B25/C25) -> 12515.985 | H24: =F23-G24 -> 984.01535 | J24: Average wheel Rad | K24: =AVERAGE(K22:K23) -> 0.31015 | L24: m
A25: 6th | B25: 29 | C25: 23 | E25: =(B11*60*(C25/B25)*E29*PI()*(C7/B7)/1000)*(B8/C8) -> 295.71127 | F25: =B$11 -> 13500 | J25: Raised angle | K25: =DEGREES(ASIN(K20/K21)) -> 14.128004 | L25: deg | P25: Chain pitch | Q25: =5/8 -> 0.625
J26: Raised angle | K26: =RADIANS(K25) -> 0.24658018 | L26: rads | P26: Front sprocket | Q26: 17
P27: rear sprocket | Q27: 45
B28: Width | C28: Aspect Ratio | D28: Rim Size | E28: Diameter | F28: Circ | P28: Chain length | Q28: 120
A29: Tyre Rear | B29: 190 | C29: 55 | D29: 17 | E29: =((((((B29/25.4)*(C29/100)+(D29/2))*2)*PI())*25.4)/PI())/1000 -> 0.6408 | F29: =2*PI()*E29/2 -> 2.0131326 | P29: dist front sprock and pivot | Q29: 99 | R29: mm
A30: Tyre front | B30: 120 | C30: 70 | D30: 17 | E30: =((((((B30/25.4)*(C30/100)+(D30/2))*2)*PI())*25.4)/PI())/1000 -> 0.5998 | F30: =2*PI()*E30/2 -> 1.8843273 | J30: Rake and Trail | P30: swing arm length | Q30: 605 | R30: mm
A31: 0 | J31: Fork offest | K31: 32 | L31: mm
A32: =A31+100 -> 100 | J32: Rake angle | K32: 23.6 | L32: deg | M32: =RADIANS(K32) -> 0.4118977 | N32: rad | P32: Swing arm length | Q32: =(0.5*(Q28-0.5*(Q26+Q27))*25.4*Q25-Q29) -> 607.4375 | R32: mm
A33: =A32+100 -> 200 | J33: Wheel radius | K33: =SUM(E30/2)*1000 -> 299.9 | L33: mm
A34: =A33+100 -> 300 | J34: Trail | K34: =(K33*SIN(M32)-K31)/COS(M32) -> 96.102419 | L34: mm
A35: =A34+100 -> 400
A36: =A35+100 -> 500
A37: =A36+100 -> 600
A38: =A37+100 -> 700
A39: =A38+100 -> 800
A40: =A39+100 -> 900
A41: =A40+100 -> 1000
...

Sheet KTM EXC_F 350
A1: Make : | B1: KTM
A2: Model : | B2: EXC-F
A3: Year : | B3: 2022
A4: Capacity (cc) : | B4: 350
A6: Gearing DATA | J6: CoG Data | P6: CoG Calculations
J8: Without rider | K8: Front wheel | L8: Rear wheel | M8: Total weight | P8: Xcog
A9: Primary | B9: 73 | C9: 24 | J9: Level | K9: 55.5 | L9: 57.75 | M9: =L9+K9 -> 113.25 | N9: kg | P9: Level without rider | Q9: =SUM(L9*K21)/M9 -> 0.75572185 | R9: m
A10: Final | B10: 52 | C10: 14 | J10: Raised | K10: 60.85 | L10: =58.8-K18 -> 52.3 | M10: =K10+L10 -> 113.15 | N10: kg | P10: Level with Rider | Q10: =SUM(L13*K21)/M13 -> 0.84532719 | R10: m
A11: Tyre | B11: Maxxis Maxx enduro
A12: Diam | B12: 0.6812 | J12: With rider | K12: Front wheel | L12: Rear wheel | M12: Total weight
A13: RPM | B13: 800 | J13: Level | K13: 86.2 | L13: 114.45 | M13: =L13+K13 -> 200.65 | N13: kg | P13: Ycog
J14: Raised | K14: 107.85 | L14: =99.6-K18 -> 93.1 | M14: =K14+L14 -> 200.95 | N14: kg | P14: Level without rider | Q14: =SUM(($K$21*($L$9-$L$10))/($M$9*(TAN($K$26))))+($K$24) -> 0.59810751 | R14: m
B15: Output | C15: Input | E15: Speeds | F15: Revs | G15: Next gear rpm | H15: Falls | P15: Level with Rider | Q15: =SUM(($K$21*($L$13-$L$14))/($M$13*(TAN($K$26))))+($K$24) -> 0.91129659 | R15: m
A17: 1st | B17: 32 | C17: 14 | E17: =(B13*60*(C17/B17)*E31*PI()*(C9/B9)/1000)*(B10/C10) -> 54.879165 | F17: =B$13 -> 800
G18: =F17*(C17/B17)*(B19/C19) -> 568.75 | H18: =F17-G18 -> 231.25 | J18: Stool Weight | K18: 6.5 | L18: kg | P18: % Front | Q18: % Rear
A19: 2nd | B19: 26 | C19: 16 | E19: =(B13*60*(C19/B19)*E31*PI()*(C9/B9)/1000)*(B10/C10) -> 77.192672 | F19: =B$13 -> 800 | J19: Rider weight | K19: 87.75 | L19: kg | O19: Without rider | P19: =SUM(($K$21-Q9)/$K$21) -> 0.49006623 | Q19: =SUM(Q9/$K$21) -> 0.50993377
G20: =F19*(C19/B19)*(B21/C21) -> 615.38462 | H20: =F19-G20 -> 184.61538 | J20: Stool height | K20: 0.394 | L20: m | O20: With Rider | P20: =SUM($K$21-Q10)/$K$21 -> 0.42960379 | Q20: =SUM(Q10/$K$21) -> 0.57039621
A21: 3rd | B21: 25 | C21: 20 | E21: =(B13*60*(C21/B21)*E31*PI()*(C9/B9)/1000)*(B10/C10) -> 100.35047 | F21: =B$13 -> 800 | J21: Wheelbase | K21: 1.482 | L21: m
G22: =F21*(C21/B21)*(B23/C23) -> 669.09091 | H22: =F21-G22 -> 130.90909 | J22: Front wheel Rad | K22: 0.344 | L22: m
A23: 4th | B23: 23 | C23: 22 | E23: =(B13*60*(C23/B23)*E31*PI()*(C9/B9)/1000)*(B10/C10) -> 119.98426 | F23: =B$13 -> 800 | J23: Rear wheel Rad | K23: 0.335 | L23: m | P23: Chain Length
G24: =F23*(C23/B23)*(B25/C25) -> 673.3913 | H24: =F23-G24 -> 126.6087 | J24: Average wheel Rad | K24: =AVERAGE(K22:K23) -> 0.3395 | L24: m
A25: 5th | B25: 22 | C25: 25 | E25: =(B13*60*(C25/B25)*E31*PI()*(C9/B9)/1000)*(B10/C10) -> 142.54329 | F25: =B$13 -> 800 | J25: Raised angle | K25: =DEGREES(ASIN(K20/K21)) -> 15.417879 | L25: deg | P25: Chain size | Q25: 15.875
G26: =F25*(C25/B25)*(B27/C27) -> 699.3007 | H26: =F25-G26 -> 100.6993 | J26: Raised angle | K26: =RADIANS(K25) -> 0.26909275 | L26: rads | P26: Front sprocket | Q26: 14
A27: 6th | B27: 20 | C27: 26 | E27: =(B13*60*(C27/B27)*E31*PI()*(C9/B9)/1000)*(B10/C10) -> 163.06952 | F27: =B$13 -> 800 | J27: Fork offest | K27: 22 | L27: mm | P27: rear sprocket | Q27: 52
P28: Chain length | Q28: 118
P29: dist front sprock and pivot | Q29: 65 | R29: mm
B30: Width | C30: Aspect Ratio | D30: Rim Size | E30: Diameter | F30: Circ | J30: Rake and Trail | P30: swing arm length | Q30: 610 | R30: mm
A31: Tyre Rear | B31: 140 | C31: 80 | D31: 18 | E31: =((((((B31/25.4)*(C31/100)+(D31/2))*2)*PI())*25.4)/PI())/1000 -> 0.6812 | F31: =2*PI()*E31/2 -> 2.1400529 | J31: Fork offest | K31: 22 | L31: mm
A32: Tyre Front | B32: 100 | C32: 80 | D32: 21 | E32: =((((((B32/25.4)*(C32/100)+(D32/2))*2)*PI())*25.4)/PI())/1000 -> 0.6934 | F32: =2*PI()*E32/2 -> 2.1783803 | J32: Rake angle | K32: 26.5 | L32: deg | M32: =RADIANS(K32) -> 0.46251225 | N32: rad | P32: Swing arm length | Q32: =SUM(0.5*(Q28-0.5*(Q26+Q27))*Q25-Q29) -> 609.6875 | R32: mm
A33: 0 | J33: Wheel radius | K33: =SUM(E32/2)*1000 -> 346.7 | L33: mm
A34: =A33+100 -> 100 | J34: Trail | K34: =(K33*SIN(M32)-K31)/COS(M32) -> 148.27544 | L34: mm
A35: =A34+100 -> 200
A36: =A35+100 -> 300
A37: =A36+100 -> 400
A38: =A37+100 -> 500
A39: =A38+100 -> 600
A40: =A39+100 -> 700
A41: =A40+100 -> 800
A42: =A41+100 -> 900
A43: =A42+100 -> 1000
...

Sheet Power-Torque-speed-Force
A1: Rpm | B1: Power (hp) | C1: Torque (Nm) | D1: Power (Kw) | H1: Road speed 1st (km/h) | I1: Road speed 2nd | J1: Road speed 3rd | K1: Road speed 4th | L1: Road speed 5th | M1: Road speed 6th | O1: Driving force 1st (N) | P1: Driving force 2nd | Q1: Driving force 3rd | R1: Driving force 4th | S1: Driving force 5th | T1: Driving force 6th
A2: 4000 | B2: 20 | C2: =9.5488*(D2*1000)/A2 -> 35.602701 | D2: =SUM(0.7457*B2) -> 14.914 | H2: =SUM(A2*60*('BMW s1000rr'!$C$15/'BMW s1000rr'!$B$15)*'BMW s1000rr'!$E$29*PI()*(('BMW s1000rr'!$C$7/'BMW s1000rr'!$B$7)/1000)*('BMW s1000rr'!$B$8/'BMW s1000rr'!$C$8)) -> 41.735024 | I2: =SUM(A2*60*('BMW s1000rr'!$C$17/'BMW s1000rr'!$B$17)*'BMW s1000rr'!$E$29*PI()*(('BMW s1000rr'!$C$7/'BMW s1000rr'!$B$7)/1000)*'BMW s1000rr'!$B$8/'BMW s1000rr'!$C$8) -> 52.8359 | J2: =SUM(A2*60*('BMW s1000rr'!$C$19/'BMW s1000rr'!$B$19)*'BMW s1000rr'!$E$29*PI()*(('BMW s1000rr'!$C$7/'BMW s1000rr'!$B$7)/1000)*'BMW s1000rr'!$B$8/'BMW s1000rr'!$C$8) -> 63.959248 | K2: =SUM(A2*60*('BMW s1000rr'!$C$21/'BMW s1000rr'!$B$21)*'BMW s1000rr'!$E$29*PI()*(('BMW s1000rr'!$C$7/'BMW s1000rr'!$B$7)/1000)*'BMW s1000rr'!$B$8/'BMW s1000rr'!$C$8) -> 73.650043 | L2: =SUM(A2*60*('BMW s1000rr'!$C$23/'BMW s1000rr'!$B$23)*'BMW s1000rr'!$E$29*PI()*(('BMW s1000rr'!$C$7/'BMW s1000rr'!$B$7)/1000)*'BMW s1000rr'!$B$8/'BMW s1000rr'!$C$8) -> 81.231665 | M2: =SUM(A2*60*('BMW s1000rr'!$C$25/'BMW s1000rr'!$B$25)*'BMW s1000rr'!$E$29*PI()*(('BMW s1000rr'!$C$7/'BMW s1000rr'!$B$7)/1000)*'BMW s1000rr'!$B$8/'BMW s1000rr'!$C$8) -> 87.618155 | O2: =SUM(D2*1000)/(H2*(1000/3600)) -> 1286.4591 | P2: =SUM(D2*1000)/(I2*(1000/3600)) -> 1016.1727 | Q2: =SUM(D2*1000)/(J2*(1000/3600)) -> 839.44702 | R2: =SUM(D2*1000)/(K2*(1000/3600)) -> 728.99346 | S2: =SUM(D2*1000)/(L2*(1000/3600)) -> 660.95407 | T2: =SUM(D2*1000)/(M2*(1000/3600)) -> 612.77711
A3: 4500 | B3: 47 | C3: =9.5488*(D3*1000)/A3 -> 74.370073 | D3: =0.745699872*B3 -> 35.047894 | H3: =SUM(A3*60*('BMW s1000rr'!$C$15/'BMW s1000rr'!$B$15)*'BMW s1000rr'!$E$29*PI()*(('BMW s1000rr'!$C$7/'BMW s1000rr'!$B$7)/1000)*('BMW s1000rr'!$B$8/'BMW s1000rr'!$C$8)) -> 46.951902 | I3: =SUM(A3*60*('BMW s1000rr'!$C$17/'BMW s1000rr'!$B$17)*'BMW s1000rr'!$E$29*PI()*(('BMW s1000rr'!$C$7/'BMW s1000rr'!$B$7)/1000)*'BMW s1000rr'!$B$8/'BMW s1000rr'!$C$8) -> 59.440388 | J3: =SUM(A3*60*('BMW s1000rr'!$C$19/'BMW s1000rr'!$B$19)*'BMW s1000rr'!$E$29*PI()*(('BMW s1000rr'!$C$7/'BMW s1000rr'!$B$7)/1000)*'BMW s1000rr'!$B$8/'BMW s1000rr'!$C$8) -> 71.954154 | K3: =SUM(A3*60*('BMW s1000rr'!$C$21/'BMW s1000rr'!$B$21)*'BMW s1000rr'!$E$29*PI()*(('BMW s1000rr'!$C$7/'BMW s1000rr'!$B$7)/1000)*'BMW s1000rr'!$B$8/'BMW s1000rr'!$C$8) -> 82.856299 | L3: =SUM(A3*60*('BMW s1000rr'!$C$23/'BMW s1000rr'!$B$23)*'BMW s1000rr'!$E$29*PI()*(('BMW s1000rr'!$C$7/'BMW s1000rr'!$B$7)/1000)*'BMW s1000rr'!$B$8/'BMW s1000rr'!$C$8) -> 91.385623 | M3: =SUM(A3*60*('BMW s1000rr'!$C$25/'BMW s1000rr'!$B$25)*'BMW s1000rr'!$E$29*PI()*(('BMW s1000rr'!$C$7/'BMW s1000rr'!$B$7)/1000)*'BMW s1000rr'!$B$8/'BMW s1000rr'!$C$8) -> 98.570424 | O3: =SUM(D3*1000)/(H3*(1000/3600)) -> 2687.2696 | P3: =SUM(D3*1000)/(I3*(1000/3600)) -> 2122.6715 | Q3: =SUM(D3*1000)/(J3*(1000/3600)) -> 1753.5112 | R3: =SUM(D3*1000)/(K3*(1000/3600)) -> 1522.7861 | S3: =SUM(D3*1000)/(L3*(1000/3600)) -> 1380.6594 | T3: =SUM(D3*1000)/(M3*(1000/3600)) -> 1280.0231
A4: 5000 | B4: 62 | C4: =9.5488*(D4*1000)/A4 -> 88.294683 | D4: =0.745699872*B4 -> 46.233392 | H4: =SUM(A4*60*('BMW s1000rr'!$C$15/'BMW s1000rr'!$B$15)*'BMW s1000rr'!$E$29*PI()*(('BMW s1000rr'!$C$7/'BMW s1000rr'!$B$7)/1000)*('BMW s1000rr'!$B$8/'BMW s1000rr'!$C$8)) -> 52.168781 | I4: =SUM(A4*60*('BMW s1000rr'!$C$17/'BMW s1000rr'!$B$17)*'BMW s1000rr'!$E$29*PI()*(('BMW s1000rr'!$C$7/'BMW s1000rr'!$B$7)/1000)*'BMW s1000rr'!$B$8/'BMW s1000rr'!$C$8) -> 66.044876 | J4: =SUM(A4*60*('BMW s1000rr'!$C$19/'BMW s1000rr'!$B$19)*'BMW s1000rr'!$E$29*PI()*(('BMW s1000rr'!$C$7/'BMW s1000rr'!$B$7)/1000)*'BMW s1000rr'!$B$8/'BMW s1000rr'!$C$8) -> 79.94906 | K4: =SUM(A4*60*('BMW s1000rr'!$C$21/'BMW s1000rr'!$B$21)*'BMW s1000rr'!$E$29*PI()*(('BMW s1000rr'!$C$7/'BMW s1000rr'!$B$7)/1000)*'BMW s1000rr'!$B$8/'BMW s1000rr'!$C$8) -> 92.062554 | L4: =SUM(A4*60*('BMW s1000rr'!$C$23/'BMW s1000rr'!$B$23)*'BMW s1000rr'!$E$29*PI()*(('BMW s1000rr'!$C$7/'BMW s1000rr'!$B$7)/1000)*'BMW s1000rr'!$B$8/'BMW s1000rr'!$C$8) -> 101.53958 | M4: =SUM(A4*60*('BMW s1000rr'!$C$25/'BMW s1000rr'!$B$25)*'BMW s1000rr'!$E$29*PI()*(('BMW s1000rr'!$C$7/'BMW s1000rr'!$B$7)/1000)*'BMW s1000rr'!$B$8/'BMW s1000rr'!$C$8) -> 109.52269 | O4: =SUM(D4*1000)/(H4*(1000/3600)) -> 3190.4179 | P4: =SUM(D4*1000)/(I4*(1000/3600)) -> 2520.1079 | Q4: =SUM(D4*1000)/(J4*(1000/3600)) -> 2081.8282 | R4: =SUM(D4*1000)/(K4*(1000/3600)) -> 1807.9035 | S4: =SUM(D4*1000)/(L4*(1000/3600)) -> 1639.1658 | T4: =SUM(D4*1000)/(M4*(1000/3600)) -> 1519.687
A5: 5500 | B5: 73 | C5: =9.5488*(D5*1000)/A5 -> 94.508971 | D5: =0.745699872*B5 -> 54.436091 | H5: =SUM(A5*60*('BMW s1000rr'!$C$15/'BMW s1000rr'!$B$15)*'BMW s1000rr'!$E$29*PI()*(('BMW s1000rr'!$C$7/'BMW s1000rr'!$B$7)/1000)*('BMW s1000rr'!$B$8/'BMW s1000rr'!$C$8)) -> 57.385659 | I5: =SUM(A5*60*('BMW s1000rr'!$C$17/'BMW s1000rr'!$B$17)*'BMW s1000rr'!$E$29*PI()*(('BMW s1000rr'!$C$7/'BMW s1000rr'!$B$7)/1000)*'BMW s1000rr'!$B$8/'BMW s1000rr'!$C$8) -> 72.649363 | J5: =SUM(A5*60*('BMW s1000rr'!$C$19/'BMW s1000rr'!$B$19)*'BMW s1000rr'!$E$29*PI()*(('BMW s1000rr'!$C$7/'BMW s1000rr'!$B$7)/1000)*'BMW s1000rr'!$B$8/'BMW s1000rr'!$C$8) -> 87.943966 | K5: =SUM(A5*60*('BMW s1000rr'!$C$21/'BMW s1000rr'!$B$21)*'BMW s1000rr'!$E$29*PI()*(('BMW s1000rr'!$C$7/'BMW s1000rr'!$B$7)/1000)*'BMW s1000rr'!$B$8/'BMW s1000rr'!$C$8) -> 101.26881 | L5: =SUM(A5*60*('BMW s1000rr'!$C$23/'BMW s1000rr'!$B$23)*'BMW s1000rr'!$E$29*PI()*(('BMW s1000rr'!$C$7/'BMW s1000rr'!$B$7)/1000)*'BMW s1000rr'!$B$8/'BMW s1000rr'!$C$8) -> 111.69354 | M5: =SUM(A5*60*('BMW s1000rr'!$C$25/'BMW s1000rr'!$B$25)*'BMW s1000rr'!$E$29*PI()*(('BMW s1000rr'!$C$7/'BMW s1000rr'!$B$7)/1000)*'BMW s1000rr'!$B$8/'BMW s1000rr'!$C$8) -> 120.47496 | O5: =SUM(D5*1000)/(H5*(1000/3600)) -> 3414.9634 | P5: =SUM(D5*1000)/(I5*(1000/3600)) -> 2697.4762 | Q5: =SUM(D5*1000)/(J5*(1000/3600)) -> 2228.3499 | R5: =SUM(D5*1000)/(K5*(1000/3600)) -> 1935.146 | S5: =SUM(D5*1000)/(L5*(1000/3600)) -> 1754.5323 | T5: =SUM(D5*1000)/(M5*(1000/3600)) -> 1626.6444
A6: 6000 | B6: 82 | C6: =9.5488*(D6*1000)/A6 -> 97.314032 | D6: =0.745699872*B6 -> 61.14739 | H6: =SUM(A6*60*('BMW s1000rr'!$C$15/'BMW s1000rr'!$B$15)*'BMW s1000rr'!$E$29*PI()*(('BMW s1000rr'!$C$7/'BMW s1000rr'!$B$7)/1000)*('BMW s1000rr'!$B$8/'BMW s1000rr'!$C$8)) -> 62.602537 | I6: =SUM(A6*60*('BMW s1000rr'!$C$17/'BMW s1000rr'!$B$17)*'BMW s1000rr'!$E$29*PI()*(('BMW s1000rr'!$C$7/'BMW s1000rr'!$B$7)/1000)*'BMW s1000rr'!$B$8/'BMW s1000rr'!$C$8) -> 79.253851 | J6: =SUM(A6*60*('BMW s1000rr'!$C$19/'BMW s1000rr'!$B$19)*'BMW s1000rr'!$E$29*PI()*(('BMW s1000rr'!$C$7/'BMW s1000rr'!$B$7)/1000)*'BMW s1000rr'!$B$8/'BMW s1000rr'!$C$8) -> 95.938872 | K6: =SUM(A6*60*('BMW s1000rr'!$C$21/'BMW s1000rr'!$B$21)*'BMW s1000rr'!$E$29*PI()*(('BMW s1000rr'!$C$7/'BMW s1000rr'!$B$7)/1000)*'BMW s1000rr'!$B$8/'BMW s1000rr'!$C$8) -> 110.47506 | L6: =SUM(A6*60*('BMW s1000rr'!$C$23/'BMW s1000rr'!$B$23)*'BMW s1000rr'!$E$29*PI()*(('BMW s1000rr'!$C$7/'BMW s1000rr'!$B$7)/1000)*'BMW s1000rr'!$B$8/'BMW s1000rr'!$C$8) -> 121.8475 | M6: =SUM(A6*60*('BMW s1000rr'!$C$25/'BMW s1000rr'!$B$25)*'BMW s1000rr'!$E$29*PI()*(('BMW s1000rr'!$C$7/'BMW s1000rr'!$B$7)/1000)*'BMW s1000rr'!$B$8/'BMW s1000rr'!$C$8) -> 131.42723 | O6: =SUM(D6*1000)/(H6*(1000/3600)) -> 3516.3208 | P6: =SUM(D6*1000)/(I6*(1000/3600)) -> 2777.5383 | Q6: =SUM(D6*1000)/(J6*(1000/3600)) -> 2294.4881 | R6: =SUM(D6*1000)/(K6*(1000/3600)) -> 1992.5818 | S6: =SUM(D6*1000)/(L6*(1000/3600)) -> 1806.6075 | T6: =SUM(D6*1000)/(M6*(1000/3600)) -> 1674.9238
A7: 6500 | B7: 91 | C7: =9.5488*(D7*1000)/A7 -> 99.687545 | D7: =0.745699872*B7 -> 67.858688 | H7: =SUM(A7*60*('BMW s1000rr'!$C$15/'BMW s1000rr'!$B$15)*'BMW s1000rr'!$E$29*PI()*(('BMW s1000rr'!$C$7/'BMW s1000rr'!$B$7)/1000)*('BMW s1000rr'!$B$8/'BMW s1000rr'!$C$8)) -> 67.819415 | I7: =SUM(A7*60*('BMW s1000rr'!$C$17/'BMW s1000rr'!$B$17)*'BMW s1000rr'!$E$29*PI()*(('BMW s1000rr'!$C$7/'BMW s1000rr'!$B$7)/1000)*'BMW s1000rr'!$B$8/'BMW s1000rr'!$C$8) -> 85.858338 | J7: =SUM(A7*60*('BMW s1000rr'!$C$19/'BMW s1000rr'!$B$19)*'BMW s1000rr'!$E$29*PI()*(('BMW s1000rr'!$C$7/'BMW s1000rr'!$B$7)/1000)*'BMW s1000rr'!$B$8/'BMW s1000rr'!$C$8) -> 103.93378 | K7: =SUM(A7*60*('BMW s1000rr'!$C$21/'BMW s1000rr'!$B$21)*'BMW s1000rr'!$E$29*PI()*(('BMW s1000rr'!$C$7/'BMW s1000rr'!$B$7)/1000)*'BMW s1000rr'!$B$8/'BMW s1000rr'!$C$8) -> 119.68132 | L7: =SUM(A7*60*('BMW s1000rr'!$C$23/'BMW s1000rr'!$B$23)*'BMW s1000rr'!$E$29*PI()*(('BMW s1000rr'!$C$7/'BMW s1000rr'!$B$7)/1000)*'BMW s1000rr'!$B$8/'BMW s1000rr'!$C$8) -> 132.00146 | M7: =SUM(A7*60*('BMW s1000rr'!$C$25/'BMW s1000rr'!$B$25)*'BMW s1000rr'!$E$29*PI()*(('BMW s1000rr'!$C$7/'BMW s1000rr'!$B$7)/1000)*'BMW s1000rr'!$B$8/'BMW s1000rr'!$C$8) -> 142.3795 | O7: =SUM(D7*1000)/(H7*(1000/3600)) -> 3602.0847 | P7: =SUM(D7*1000)/(I7*(1000/3600)) -> 2845.2831 | Q7: =SUM(D7*1000)/(J7*(1000/3600)) -> 2350.4512 | R7: =SUM(D7*1000)/(K7*(1000/3600)) -> 2041.1813 | S7: =SUM(D7*1000)/(L7*(1000/3600)) -> 1850.6711 | T7: =SUM(D7*1000)/(M7*(1000/3600)) -> 1715.7756
A8: 7000 | B8: 100 | C8: =9.5488*(D8*1000)/A8 -> 101.72198 | D8: =0.745699872*B8 -> 74.569987 | H8: =SUM(A8*60*('BMW s1000rr'!$C$15/'BMW s1000rr'!$B$15)*'BMW s1000rr'!$E$29*PI()*(('BMW s1000rr'!$C$7/'BMW s1000rr'!$B$7)/1000)*('BMW s1000rr'!$B$8/'BMW s1000rr'!$C$8)) -> 73.036293 | I8: =SUM(A8*60*('BMW s1000rr'!$C$17/'BMW s1000rr'!$B$17)*'BMW s1000rr'!$E$29*PI()*(('BMW s1000rr'!$C$7/'BMW s1000rr'!$B$7)/1000)*'BMW s1000rr'!$B$8/'BMW s1000rr'!$C$8) -> 92.462826 | J8: =SUM(A8*60*('BMW s1000rr'!$C$19/'BMW s1000rr'!$B$19)*'BMW s1000rr'!$E$29*PI()*(('BMW s1000rr'!$C$7/'BMW s1000rr'!$B$7)/1000)*'BMW s1000rr'!$B$8/'BMW s1000rr'!$C$8) -> 111.92868 | K8: =SUM(A8*60*('BMW s1000rr'!$C$21/'BMW s1000rr'!$B$21)*'BMW s1000rr'!$E$29*PI()*(('BMW s1000rr'!$C$7/'BMW s1000rr'!$B$7)/1000)*'BMW s1000rr'!$B$8/'BMW s1000rr'!$C$8) -> 128.88758 | L8: =SUM(A8*60*('BMW s1000rr'!$C$23/'BMW s1000rr'!$B$23)*'BMW s1000rr'!$E$29*PI()*(('BMW s1000rr'!$C$7/'BMW s1000rr'!$B$7)/1000)*'BMW s1000rr'!$B$8/'BMW s1000rr'!$C$8) -> 142.15541 | M8: =SUM(A8*60*('BMW s1000rr'!$C$25/'BMW s1000rr'!$B$25)*'BMW s1000rr'!$E$29*PI()*(('BMW s1000rr'!$C$7/'BMW s1000rr'!$B$7)/1000)*'BMW s1000rr'!$B$8/'BMW s1000rr'!$C$8) -> 153.33177 | O8: =SUM(D8*1000)/(H8*(1000/3600)) -> 3675.5967 | P8: =SUM(D8*1000)/(I8*(1000/3600)) -> 2903.3501 | Q8: =SUM(D8*1000)/(J8*(1000/3600)) -> 2398.4196 | R8: =SUM(D8*1000)/(K8*(1000/3600)) -> 2082.8381 | S8: =SUM(D8*1000)/(L8*(1000/3600)) -> 1888.4399 | T8: =SUM(D8*1000)/(M8*(1000/3600)) -> 1750.7915
A9: 7500 | B9: 110 | C9: =9.5488*(D9*1000)/A9 -> 104.43457 | D9: =0.745699872*B9 -> 82.026986 | H9: =SUM(A9*60*('BMW s1000rr'!$C$15/'BMW s1000rr'!$B$15)*'BMW s1000rr'!$E$29*PI()*(('BMW s1000rr'!$C$7/'BMW s1000rr'!$B$7)/1000)*('BMW s1000rr'!$B$8/'BMW s1000rr'!$C$8)) -> 78.253171 | I9: =SUM(A9*60*('BMW s1000rr'!$C$17/'BMW s1000rr'!$B$17)*'BMW s1000rr'!$E$29*PI()*(('BMW s1000rr'!$C$7/'BMW s1000rr'!$B$7)/1000)*'BMW s1000rr'!$B$8/'BMW s1000rr'!$C$8) -> 99.067313 | J9: =SUM(A9*60*('BMW s1000rr'!$C$19/'BMW s1000rr'!$B$19)*'BMW s1000rr'!$E$29*PI()*(('BMW s1000rr'!$C$7/'BMW s1000rr'!$B$7)/1000)*'BMW s1000rr'!$B$8/'BMW s1000rr'!$C$8) -> 119.92359 | K9: =SUM(A9*60*('BMW s1000rr'!$C$21/'BMW s1000rr'!$B$21)*'BMW s1000rr'!$E$29*PI()*(('BMW s1000rr'!$C$7/'BMW s1000rr'!$B$7)/1000)*'BMW s1000rr'!$B$8/'BMW s1000rr'!$C$8) -> 138.09383 | L9: =SUM(A9*60*('BMW s1000rr'!$C$23/'BMW s1000rr'!$B$23)*'BMW s1000rr'!$E$29*PI()*(('BMW s1000rr'!$C$7/'BMW s1000rr'!$B$7)/1000)*'BMW s1000rr'!$B$8/'BMW s1000rr'!$C$8) -> 152.30937 | M9: =SUM(A9*60*('BMW s1000rr'!$C$25/'BMW s1000rr'!$B$25)*'BMW s1000rr'!$E$29*PI()*(('BMW s1000rr'!$C$7/'BMW s1000rr'!$B$7)/1000)*'BMW s1000rr'!$B$8/'BMW s1000rr'!$C$8) -> 164.28404 | O9: =SUM(D9*1000)/(H9*(1000/3600)) -> 3773.6126 | P9: =SUM(D9*1000)/(I9*(1000/3600)) -> 2980.7728 | Q9: =SUM(D9*1000)/(J9*(1000/3600)) -> 2462.3775 | R9: =SUM(D9*1000)/(K9*(1000/3600)) -> 2138.3805 | S9: =SUM(D9*1000)/(L9*(1000/3600)) -> 1938.7983 | T9: =SUM(D9*1000)/(M9*(1000/3600)) -> 1797.4792
A10: 8000 | B10: 121 | C10: =9.5488*(D10*1000)/A10 -> 107.69815 | D10: =0.745699872*B10 -> 90.229685 | H10: =SUM(A10*60*('BMW s1000rr'!$C$15/'BMW s1000rr'!$B$15)*'BMW s1000rr'!$E$29*PI()*(('BMW s1000rr'!$C$7/'BMW s1000rr'!$B$7)/1000)*('BMW s1000rr'!$B$8/'BMW s1000rr'!$C$8)) -> 83.470049 | I10: =SUM(A10*60*('BMW s1000rr'!$C$17/'BMW s1000rr'!$B$17)*'BMW s1000rr'!$E$29*PI()*(('BMW s1000rr'!$C$7/'BMW s1000rr'!$B$7)/1000)*'BMW s1000rr'!$B$8/'BMW s1000rr'!$C$8) -> 105.6718 | J10: =SUM(A10*60*('BMW s1000rr'!$C$19/'BMW s1000rr'!$B$19)*'BMW s1000rr'!$E$29*PI()*(('BMW s1000rr'!$C$7/'BMW s1000rr'!$B$7)/1000)*'BMW s1000rr'!$B$8/'BMW s1000rr'!$C$8) -> 127.9185 | K10: =SUM(A10*60*('BMW s1000rr'!$C$21/'BMW s1000rr'!$B$21)*'BMW s1000rr'!$E$29*PI()*(('BMW s1000rr'!$C$7/'BMW s1000rr'!$B$7)/1000)*'BMW s1000rr'!$B$8/'BMW s1000rr'!$C$8) -> 147.30009 | L10: =SUM(A10*60*('BMW s1000rr'!$C$23/'BMW s1000rr'!$B$23)*'BMW s1000rr'!$E$29*PI()*(('BMW s1000rr'!$C$7/'BMW s1000rr'!$B$7)/1000)*'BMW s1000rr'!$B$8/'BMW s1000rr'!$C$8) -> 162.46333 | M10: =SUM(A10*60*('BMW s1000rr'!$C$25/'BMW s1000rr'!$B$25)*'BMW s1000rr'!$E$29*PI()*(('BMW s1000rr'!$C$7/'BMW s1000rr'!$B$7)/1000)*'BMW s1000rr'!$B$8/'BMW s1000rr'!$C$8) -> 175.23631 | O10: =SUM(D10*1000)/(H10*(1000/3600)) -> 3891.538 | P10: =SUM(D10*1000)/(I10*(1000/3600)) -> 3073.9219 | Q10: =SUM(D10*1000)/(J10*(1000/3600)) -> 2539.3268 | R10: =SUM(D10*1000)/(K10*(1000/3600)) -> 2205.2048 | S10: =SUM(D10*1000)/(L10*(1000/3600)) -> 1999.3857 | T10: =SUM(D10*1000)/(M10*(1000/3600)) -> 1853.6505
A11: 8500 | B11: 134 | C11: =9.5488*(D11*1000)/A11 -> 112.2532 | D11: =0.745699872*B11 -> 99.923783 | H11: =SUM(A11*60*('BMW s1000rr'!$C$15/'BMW s1000rr'!$B$15)*'BMW s1000rr'!$E$29*PI()*(('BMW s1000rr'!$C$7/'BMW s1000rr'!$B$7)/1000)*('BMW s1000rr'!$B$8/'BMW s1000rr'!$C$8)) -> 88.686927 | I11: =SUM(A11*60*('BMW s1000rr'!$C$17/'BMW s1000rr'!$B$17)*'BMW s1000rr'!$E$29*PI()*(('BMW s1000rr'!$C$7/'BMW s1000rr'!$B$7)/1000)*'BMW s1000rr'!$B$8/'BMW s1000rr'!$C$8) -> 112.27629 | J11: =SUM(A11*60*('BMW s1000rr'!$C$19/'BMW s1000rr'!$B$19)*'BMW s1000rr'!$E$29*PI()*(('BMW s1000rr'!$C$7/'BMW s1000rr'!$B$7)/1000)*'BMW s1000rr'!$B$8/'BMW s1000rr'!$C$8) -> 135.9134 | K11: =SUM(A11*60*('BMW s1000rr'!$C$21/'BMW s1000rr'!$B$21)*'BMW s1000rr'!$E$29*PI()*(('BMW s1000rr'!$C$7/'BMW s1000rr'!$B$7)/1000)*'BMW s1000rr'!$B$8/'BMW s1000rr'!$C$8) -> 156.50634 | L11: =SUM(A11*60*('BMW s1000rr'!$C$23/'BMW s1000rr'!$B$23)*'BMW s1000rr'!$E$29*PI()*(('BMW s1000rr'!$C$7/'BMW s1000rr'!$B$7)/1000)*'BMW s1000rr'!$B$8/'BMW s1000rr'!$C$8) -> 172.61729 | M11: =SUM(A11*60*('BMW s1000rr'!$C$25/'BMW s1000rr'!$B$25)*'BMW s1000rr'!$E$29*PI()*(('BMW s1000rr'!$C$7/'BMW s1000rr'!$B$7)/1000)*'BMW s1000rr'!$B$8/'BMW s1000rr'!$C$8) -> 186.18858 | O11: =SUM(D11*1000)/(H11*(1000/3600)) -> 4056.129 | P11: =SUM(D11*1000)/(I11*(1000/3600)) -> 3203.9322 | Q11: =SUM(D11*1000)/(J11*(1000/3600)) -> 2646.7266 | R11: =SUM(D11*1000)/(K11*(1000/3600)) -> 2298.4731 | S11: =SUM(D11*1000)/(L11*(1000/3600)) -> 2083.949 | T11: =SUM(D11*1000)/(M11*(1000/3600)) -> 1932.0499
A12: 9000 | B12: 145 | C12: =9.5488*(D12*1000)/A12 -> 114.71979 | D12: =0.745699872*B12 -> 108.12648 | H12: =SUM(A12*60*('BMW s1000rr'!$C$15/'BMW s1000rr'!$B$15)*'BMW s1000rr'!$E$29*PI()*(('BMW s1000rr'!$C$7/'BMW s1000rr'!$B$7)/1000)*('BMW s1000rr'!$B$8/'BMW s1000rr'!$C$8)) -> 93.903805 | I12: =SUM(A12*60*('BMW s1000rr'!$C$17/'BMW s1000rr'!$B$17)*'BMW s1000rr'!$E$29*PI()*(('BMW s1000rr'!$C$7/'BMW s1000rr'!$B$7)/1000)*'BMW s1000rr'!$B$8/'BMW s1000rr'!$C$8) -> 118.88078 | J12: =SUM(A12*60*('BMW s1000rr'!$C$19/'BMW s1000rr'!$B$19)*'BMW s1000rr'!$E$29*PI()*(('BMW s1000rr'!$C$7/'BMW s1000rr'!$B$7)/1000)*'BMW s1000rr'!$B$8/'BMW s1000rr'!$C$8) -> 143.90831 | K12: =SUM(A12*60*('BMW s1000rr'!$C$21/'BMW s1000rr'!$B$21)*'BMW s1000rr'!$E$29*PI()*(('BMW s1000rr'!$C$7/'BMW s1000rr'!$B$7)/1000)*'BMW s1000rr'!$B$8/'BMW s1000rr'!$C$8) -> 165.7126 | L12: =SUM(A12*60*('BMW s1000rr'!$C$23/'BMW s1000rr'!$B$23)*'BMW s1000rr'!$E$29*PI()*(('BMW s1000rr'!$C$7/'BMW s1000rr'!$B$7)/1000)*'BMW s1000rr'!$B$8/'BMW s1000rr'!$C$8) -> 182.77125 | M12: =SUM(A12*60*('BMW s1000rr'!$C$25/'BMW s1000rr'!$B$25)*'BMW s1000rr'!$E$29*PI()*(('BMW s1000rr'!$C$7/'BMW s1000rr'!$B$7)/1000)*'BMW s1000rr'!$B$8/'BMW s1000rr'!$C$8) -> 197.14085 | O12: =SUM(D12*1000)/(H12*(1000/3600)) -> 4145.2562 | P12: =SUM(D12*1000)/(I12*(1000/3600)) -> 3274.3337 | Q12: =SUM(D12*1000)/(J12*(1000/3600)) -> 2704.8844 | R12: =SUM(D12*1000)/(K12*(1000/3600)) -> 2348.9785 | S12: =SUM(D12*1000)/(L12*(1000/3600)) -> 2129.7405 | T12: =SUM(D12*1000)/(M12*(1000/3600)) -> 1974.5037
A13: 9500 | B13: 158 | C13: =9.5488*(D13*1000)/A13 -> 118.42581 | D13: =0.745699872*B13 -> 117.82058 | H13: =SUM(A13*60*('BMW s1000rr'!$C$15/'BMW s1000rr'!$B$15)*'BMW s1000rr'!$E$29*PI()*(('BMW s1000rr'!$C$7/'BMW s1000rr'!$B$7)/1000)*('BMW s1000rr'!$B$8/'BMW s1000rr'!$C$8)) -> 99.120683 | I13: =SUM(A13*60*('BMW s1000rr'!$C$17/'BMW s1000rr'!$B$17)*'BMW s1000rr'!$E$29*PI()*(('BMW s1000rr'!$C$7/'BMW s1000rr'!$B$7)/1000)*'BMW s1000rr'!$B$8/'BMW s1000rr'!$C$8) -> 125.48526 | J13: =SUM(A13*60*('BMW s1000rr'!$C$19/'BMW s1000rr'!$B$19)*'BMW s1000rr'!$E$29*PI()*(('BMW s1000rr'!$C$7/'BMW s1000rr'!$B$7)/1000)*'BMW s1000rr'!$B$8/'BMW s1000rr'!$C$8) -> 151.90321 | K13: =SUM(A13*60*('BMW s1000rr'!$C$21/'BMW s1000rr'!$B$21)*'BMW s1000rr'!$E$29*PI()*(('BMW s1000rr'!$C$7/'BMW s1000rr'!$B$7)/1000)*'BMW s1000rr'!$B$8/'BMW s1000rr'!$C$8) -> 174.91885 | L13: =SUM(A13*60*('BMW s1000rr'!$C$23/'BMW s1000rr'!$B$23)*'BMW s1000rr'!$E$29*PI()*(('BMW s1000rr'!$C$7/'BMW s1000rr'!$B$7)/1000)*'BMW s1000rr'!$B$8/'BMW s1000rr'!$C$8) -> 192.9252 | M13: =SUM(A13*60*('BMW s1000rr'!$C$25/'BMW s1000rr'!$B$25)*'BMW s1000rr'!$E$29*PI()*(('BMW s1000rr'!$C$7/'BMW s1000rr'!$B$7)/1000)*'BMW s1000rr'!$B$8/'BMW s1000rr'!$C$8) -> 208.09312 | O13: =SUM(D13*1000)/(H13*(1000/3600)) -> 4279.1683 | P13: =SUM(D13*1000)/(I13*(1000/3600)) -> 3380.1107 | Q13: =SUM(D13*1000)/(J13*(1000/3600)) -> 2792.2654 | R13: =SUM(D13*1000)/(K13*(1000/3600)) -> 2424.8621 | S13: =SUM(D13*1000)/(L13*(1000/3600)) -> 2198.5416 | T13: =SUM(D13*1000)/(M13*(1000/3600)) -> 2038.2898
A14: 10000 | B14: 167 | C14: =9.5488*(D14*1000)/A14 -> 118.913 | D14: =0.745699872*B14 -> 124.53188 | H14: =SUM(A14*60*('BMW s1000rr'!$C$15/'BMW s1000rr'!$B$15)*'BMW s1000rr'!$E$29*PI()*(('BMW s1000rr'!$C$7/'BMW s1000rr'!$B$7)/1000)*('BMW s1000rr'!$B$8/'BMW s1000rr'!$C$8)) -> 104.33756 | I14: =SUM(A14*60*('BMW s1000rr'!$C$17/'BMW s1000rr'!$B$17)*'BMW s1000rr'!$E$29*PI()*(('BMW s1000rr'!$C$7/'BMW s1000rr'!$B$7)/1000)*'BMW s1000rr'!$B$8/'BMW s1000rr'!$C$8) -> 132.08975 | J14: =SUM(A14*60*('BMW s1000rr'!$C$19/'BMW s1000rr'!$B$19)*'BMW s1000rr'!$E$29*PI()*(('BMW s1000rr'!$C$7/'BMW s1000rr'!$B$7)/1000)*'BMW s1000rr'!$B$8/'BMW s1000rr'!$C$8) -> 159.89812 | K14: =SUM(A14*60*('BMW s1000rr'!$C$21/'BMW s1000rr'!$B$21)*'BMW s1000rr'!$E$29*PI()*(('BMW s1000rr'!$C$7/'BMW s1000rr'!$B$7)/1000)*'BMW s1000rr'!$B$8/'BMW s1000rr'!$C$8) -> 184.12511 | L14: =SUM(A14*60*('BMW s1000rr'!$C$23/'BMW s1000rr'!$B$23)*'BMW s1000rr'!$E$29*PI()*(('BMW s1000rr'!$C$7/'BMW s1000rr'!$B$7)/1000)*'BMW s1000rr'!$B$8/'BMW s1000rr'!$C$8) -> 203.07916 | M14: =SUM(A14*60*('BMW s1000rr'!$C$25/'BMW s1000rr'!$B$25)*'BMW s1000rr'!$E$29*PI()*(('BMW s1000rr'!$C$7/'BMW s1000rr'!$B$7)/1000)*'BMW s1000rr'!$B$8/'BMW s1000rr'!$C$8) -> 219.04539 | O14: =SUM(D14*1000)/(H14*(1000/3600)) -> 4296.7725 | P14: =SUM(D14*1000)/(I14*(1000/3600)) -> 3394.0163 | Q14: =SUM(D14*1000)/(J14*(1000/3600)) -> 2803.7526 | R14: =SUM(D14*1000)/(K14*(1000/3600)) -> 2434.8377 | S14: =SUM(D14*1000)/(L14*(1000/3600)) -> 2207.5862 | T14: =SUM(D14*1000)/(M14*(1000/3600)) -> 2046.6752
... A22: 14000 | B22: 192 | C22: =9.5488*(D22*1000)/A22 -> 97.653105 | D22: =0.745699872*B22 -> 143.17438 | H22: =SUM(A22*60*('BMW s1000rr'!$C$15/'BMW s1000rr'!$B$15)*'BMW s1000rr'!$E$29*PI()*(('BMW s1000rr'!$C$7/'BMW s1000rr'!$B$7)/1000)*('BMW s1000rr'!$B$8/'BMW s1000rr'!$C$8)) -> 146.07259 | I22: =SUM(A22*60*('BMW s1000rr'!$C$17/'BMW s1000rr'!$B$17)*'BMW s1000rr'!$E$29*PI()*(('BMW s1000rr'!$C$7/'BMW s1000rr'!$B$7)/1000)*'BMW s1000rr'!$B$8/'BMW s1000rr'!$C$8) -> 184.92565 | J22: =SUM(A22*60*('BMW s1000rr'!$C$19/'BMW s1000rr'!$B$19)*'BMW s1000rr'!$E$29*PI()*(('BMW s1000rr'!$C$7/'BMW s1000rr'!$B$7)/1000)*'BMW s1000rr'!$B$8/'BMW s1000rr'!$C$8) -> 223.85737 | K22: =SUM(A22*60*('BMW s1000rr'!$C$21/'BMW s1000rr'!$B$21)*'BMW s1000rr'!$E$29*PI()*(('BMW s1000rr'!$C$7/'BMW s1000rr'!$B$7)/1000)*'BMW s1000rr'!$B$8/'BMW s1000rr'!$C$8) -> 257.77515 | L22: =SUM(A22*60*('BMW s1000rr'!$C$23/'BMW s1000rr'!$B$23)*'BMW s1000rr'!$E$29*PI()*(('BMW s1000rr'!$C$7/'BMW s1000rr'!$B$7)/1000)*'BMW s1000rr'!$B$8/'BMW s1000rr'!$C$8) -> 284.31083 | M22: =SUM(A22*60*('BMW s1000rr'!$C$25/'BMW s1000rr'!$B$25)*'BMW s1000rr'!$E$29*PI()*(('BMW s1000rr'!$C$7/'BMW s1000rr'!$B$7)/1000)*'BMW s1000rr'!$B$8/'BMW s1000rr'!$C$8) -> 306.66354 | O22: =SUM(D22*1000)/(H22*(1000/3600)) -> 3528.5728 | P22: =SUM(D22*1000)/(I22*(1000/3600)) -> 2787.2161 | Q22: =SUM(D22*1000)/(J22*(1000/3600)) -> 2302.4829 | R22: =SUM(D22*1000)/(K22*(1000/3600)) -> 1999.5246 | S22: =SUM(D22*1000)/(L22*(1000/3600)) -> 1812.9023 | T22: =SUM(D22*1000)/(M22*(1000/3600)) -> 1680.7598
R24: 52.17 | S24: 3190.42
R25: 99.12 | S25: 4279.17
R26: 151.9 | S26: 3181.06

Sheet Resistance to motion
A1: Resistance to motion
B3: Symbol | D3: Unit | F3: Aero drag force | G3: =(0.5*C9*C6*C5*(C7*C7)) -> 1462.7929 | H3: Nm
A4: Mass | B4: M | C4: 273 | D4: kg
A5: Area | B5: A | C5: 0.575813 | D5: m^2 | F5: Rolling resistance (Fw) | G5: =(0.02*C4*C10) -> 53.5626 | H5: Nm
A6: Drag coefficient | C6: 0.6
A7: Velocity | B7: v | C7: =C8*(1000/3600) -> 85.183333 | D7: m/s | F7: Road plane (Fp) | G7: =(C4*C10*(SIN(C12))) -> 186.81691 | H7: Nm
A8: Velocity | B8: v | C8: 306.66 | D8: Km/h
A9: Air density | B9: ρ | C9: 1.167 | D9: kg/m^3
A10: Gravity | B10: g | C10: 9.81 | D10: m/s^2 | F10: Total force (F) | G10: =SUM(G3:G7) -> 1703.1724 | H10: Nm
A11: Angle of raod plane | B11: θ | C11: 4 | D11: °
A12: Angle of raod plane | B12: θ | C12: =RADIANS(C11) -> 0.06981317 | D12: radians | F12: Power (P) | G12: =SUM(G10*C7) -> 145081.9 | H12: watts
G13: =G12/1000 -> 145.0819 | H13: Kw

Sheet Inertia
B2: Aprilia RS250
B3: Wheel Radius | C3: 295 | D3: mm | E3: Run 1 | F3: 50.27 | G3: s | I3: RESULTS
B4: Wheel & Spindle Mass | C4: 12.6 | D4: kg | E4: Run 2 | F4: 49.51 | G4: s | I4: Inertia | K4: 757008.64 | L4: kg.mm2
B5: Spindle Mass | C5: 0.55 | D5: kg | E5: Run 3 | F5: 49.9 | G5: s | I5: Equivalent Mass | K5: 8.7 | L5: kg
B6: Wheel minus spindle mass | C6: 12.05 | D6: kg | E6: Av run time | F6: 49.89 | G6: s | I6: Effective/ Reduced Mass | J6: m* | K6: 20.75 | L6: kg
B7: Spindle Radius | C7: 6 | D7: mm
B8: Start height | C8: 687 | D8: mm
B9: End height | C9: 544 | D9: mm
B10: Height of roll | C10: 143 | D10: mm
B11: Roll distance | C11: 1000 | D11: mm
B12: Gold SV - Wet tyre
B13: Wheel Radius | C13: 317 | D13: mm | E13: Run 1 | F13: 63.09 | G13: s | I13: RESULTS
B14: Wheel & Spindle Mass | C14: 12.35 | D14: kg | E14: Run 2 | F14: 62.67 | G14: s | I14: Inertia | K14: 1159020.6 | L14: kg.mm2
B15: Spindle Mass | C15: 0.55 | D15: kg | E15: Run 3 | F15: 61.38 | G15: s | I15: Equivalent Mass | K15: 11.53 | L15: kg
B16: Wheel minus spindle mass | C16: 11.8 | D16: kg | E16: Av run time | F16: 62.38 | G16: s | I16: Effective/ Reduced Mass | J16: m* | K16: 23.33 | L16: Kg
B17: Spindle Radius | C17: 6 | D17: mm
B18: Start height | C18: 687 | D18: mm
B19: End height | C19: 544 | D19: mm
B20: Height of roll | C20: 143 | D20: mm
B21: Roll distance | C21: 1000 | D21: mm
B22: Black SV - Dry tyre
B23: Wheel Radius | C23: 312 | D23: mm | E23: Run 1 | F23: 58.72 | G23: s | I23: RESULTS
B24: Wheel & Spindle Mass | C24: 11.3 | D24: kg | E24: Run 2 | F24: 59.82 | G24: s | I24: Inertia | K24: 942281.29 | L24: kg.mm2
B25: Spindle Mass | C25: 0.55 | D25: kg | E25: Run 3 | F25: 58.25 | G25: s | I25: Equivalent Mass | K25: 9.68 | L25: kg
B26: Wheel minus spindle mass | C26: 10.75 | D26: kg | E26: Av run time | F26: 58.93 | G26: s | I26: Effective/ Reduced Mass | J26: m* | K26: 20.43 | L26: kg
B27: Spindle Radius | C27: 6 | D27: mm
B28: Start height | C28: 687 | D28: mm
B29: End height | C29: 544 | D29: mm
B30: Height of roll | C30: 143 | D30: mm
B31: Roll distance | C31: 1000 | D31: mm
B32: Motorcross
B33: Wheel Radius | C33: 335 | D33: mm | E33: Run 1 | F33: 56.94 | G33: s | I33: RESULTS
B34: Wheel & Spindle Mass | C34: 12.3 | D34: kg | E34: Run 2 | F34: 57.24 | G34: s | I34: Inertia | J34: I | K34: 960396.28 | L34: kg.mm2
B35: Spindle Mass | C35: 0.55 | D35: kg | E35: Run 3 | F35: 56.54 | G35: s | I35: Equivalent Mass | K35: 8.56 | L35: kg
B36: Wheel minus spindle mass | C36: 11.75 | D36: kg | E36: Av run time | F36: 56.91 | G36: s | I36: Effective/ Reduced Mass | J36: m* | K36: 20.31 | L36: kg
B37: Spindle Radius | C37: 6 | D37: mm
B38: Start height | C38: 687 | D38: mm
B39: End height | C39: 544 | D39: mm
B40: Height of roll | C40: 143 | D40: mm
B41: Roll distance | C41: 1000 | D41: mm
