Workbook
Name H: HML!$C$6
Name L: HML!$E$6
Name M: HML!$D$6
Name SNR: SNR!$C$6

Sheet Introduction
B2: This spreadsheet contains calculators for three different methods of estimating the performance of hearing protection.
B4: Each of the methods requires you to have information about the noise, and about the capabilities of the protector you are assessing.
B6: The HML method can be used if you know both the A-weighted and C-weighted noise levels
B7: The octave band method can be used if you know the noise levels in frequency bands
B8: The SNR method can be used if you know the C-weighted noise levels
B10: All three methods are nearly equivalent in their accuracy in the majority of noise situations.
B12: Each calculator is on a separate 'tab' within the spreadsheet. Click on the tab to go to the appropriate calculator.
B13: You can also move between the tabbed sheets by pressing Ctrl+Page Up or Ctrl+Page Down.
B15: The table below gives an indication of the protector factor that is likely to be suitable for different levels of noise. It based on the single number rating (SNR) value provided with a hearing protection device. The information is intended as a guide rather than a substitute for using one of the three methods, and in particular will not be appropriate if there are significant low frequency components to the noise in question. Examples of noise environments which may contain significant low-frequency components, and for which this table is not suitable, include press shops, generators and generator test bays, plant rooms, boiler houses, concrete shaker tables, moulding presses and punch presses.
C23: A-weighted noise level (dB) | D23: Select a protector with an SNR of …
C24: 85-90 | D24: 20 or less
C25: 90-95 | D25: 20-30
C26: 95-100 | D26: 25-35
C27: 100-105 | D27: 30 or more

Sheet HML
B2: HML Method
B3: You can use this method if you know both the A-weighted and C-weighted noise levels | H3: Enter values in all white cells.
B5: Data on the hearing protector | C5: H | D5: M | E5: L
C6: 29 | D6: 23 | E6: 16
B8: Noise levels
B9: A-weighted noise level, LA | D9: 120 | E9: dB
B10: C-weighted noise level, LC | D10: 100 | E10: dB
B11: Calculated level at the ear according to BS EN ISO 4869-2:1995 (a=1)
C12: =IF(Flags!D25=0,"",ROUND(D9-Flags!C16,0)) -> 64 | D12: dB
B14: HSE recommends allowing 4dB for 'real-world' factors. Assume that this device will give: | C14: =IF(C12="","",C12+4) -> 68 | D14: dB at the ear | F14: Select a protector so that daily exposure is reduced to at least below 85 dB. Ideally, aim for between 80 and 75 at the ear. Avoid protectors resulting in less than 70 dB at the ear - this is 'over-protection' (see BS EN 458:2004).
B17: Colour codes:
B18: Protector gives adequate protection, and does not 'over-protect'
B19: Protector does not give adequate protection, or it 'over-protects'
B23: =Introduction!B12 -> Each calculator is on a separate 'tab' within the spreadsheet. Click on the tab to go to the appropriate calculator.
B24: =Introduction!B13 -> You can also move between the tabbed sheets by pressing Ctrl+Page Up or Ctrl+Page Down.

Sheet Octave Band
B2: Octave band method
B3: You can use this method if you know the noise levels in frequency bands
B5: Octave band centre frequency (Hz) | C5: 63 | D5: 125 | E5: 250 | F5: 500 | G5: 1000 | H5: 2000 | I5: 4000 | J5: 8000 | K5: A-weighted
B7: Data on the hearing protector
B8: Mean attenuation (dB) | C8: 20 | D8: 21.1 | E8: 17.9 | F8: 27 | G8: 26.8 | H8: 30.5 | I8: 38.3 | J8: 36.4
B9: Standard deviation in attenuation (dB) | C9: 0 | D9: 4.3 | E9: 3.1 | F9: 3.8 | G9: 3 | H9: 3 | I9: 3.7 | J9: 5.4
B11: Noise levels (dB) | C11: 3.5 | D11: 7.8 | E11: 14.8 | F11: 23.2 | G11: 23.8 | H11: 27.5 | I11: 34.6 | J11: 31 | K11: =IF('Octave Band'!G11="","",10*LOG(SUM(Flags!C4:J4))) -> 37.558308
B13: Enter values in all white cells. If the hearing protector data is stated in terms of 'Assumed Protection Values', APV or similar, then enter the APV values in the 'Mean' row, and leave the 'Standard deviation' row blank or with zeros.
B15: Calculated level at the ear according to BS EN ISO 4869-2:1995 (a=1)
C16: =IF(Flags!L9=0,"",ROUND(10*LOG(SUM(Flags!C2:J2)),0)) -> 7 | D16: =HML!D12 -> dB
B18: =HML!B14 -> HSE recommends allowing 4dB for 'real-world' factors. Assume that this device will give: | C18: =IF(C16="","",C16+4) -> 11 | D18: =HML!D14 -> dB at the ear | F18: =HML!F14 -> Select a protector so that daily exposure is reduced to at least below 85 dB. Ideally, aim for between 80 and 75 at the ear. Avoid protectors resulting in less than 70 dB at the ear - this is 'over-protection' (see BS EN 458:2004).
B21: Colour codes:
B22: Protector gives adequate protection, and does not 'over-protect'
B23: Protector does not give adequate protection, or it 'over-protects'
B27: =Introduction!B12 -> Each calculator is on a separate 'tab' within the spreadsheet. Click on the tab to go to the appropriate calculator.
B28: =Introduction!B13 -> You can also move between the tabbed sheets by pressing Ctrl+Page Up or Ctrl+Page Down.

Sheet SNR
B2: SNR Method
B3: You can use this method if you know the C-weighted noise levels | G3: Enter values in both white cells.
B5: Data on the hearing protector
B6: SNR | C6: 26
B7: Noise levels
B8: C-weighted noise level, LC | C8: 100 | D8: dB
B9: Calculated level at the ear according to BS EN ISO 4869-2:1995 (a=1)
C10: =IF(Flags!E28=0,"",ROUND(C8-SNR,0)) -> 74 | D10: =HML!D12 -> dB
B12: =HML!B14 -> HSE recommends allowing 4dB for 'real-world' factors. Assume that this device will give: | C12: =IF(C10="","",C10+4) -> 78 | D12: dB at the ear | F12: =HML!F14 -> Select a protector so that daily exposure is reduced to at least below 85 dB. Ideally, aim for between 80 and 75 at the ear. Avoid protectors resulting in less than 70 dB at the ear - this is 'over-protection' (see BS EN 458:2004).
B15: Colour codes:
B16: Protector gives adequate protection, and does not 'over-protect'
B17: Protector does not give adequate protection, or it 'over-protects'
B21: =Introduction!B12 -> Each calculator is on a separate 'tab' within the spreadsheet. Click on the tab to go to the appropriate calculator.
B22: =Introduction!B13 -> You can also move between the tabbed sheets by pressing Ctrl+Page Up or Ctrl+Page Down.

Sheet Flags
C1: =IF('Octave Band'!C11="","",IF('Octave Band'!C8="","",+'Octave Band'!C11-('Octave Band'!C8-'Octave Band'!C9)+C7)) -> -42.7 | D1: ='Octave Band'!D11-('Octave Band'!D8-'Octave Band'!D9)+D7 -> -25.1 | E1: ='Octave Band'!E11-('Octave Band'!E8-'Octave Band'!E9)+E7 -> -8.6 | F1: ='Octave Band'!F11-('Octave Band'!F8-'Octave Band'!F9)+F7 -> -3.2 | G1: ='Octave Band'!G11-('Octave Band'!G8-'Octave Band'!G9)+G7 -> 0 | H1: ='Octave Band'!H11-('Octave Band'!H8-'Octave Band'!H9)+H7 -> 1.1 | I1: ='Octave Band'!I11-('Octave Band'!I8-'Octave Band'!I9)+I7 -> 1 | J1: ='Octave Band'!J11-('Octave Band'!J8-'Octave Band'!J9)+J7 -> -1
C2: =IF(C1="","",10^(C1/10)) -> 5.370318e-05 | D2: =10^(D1/10) -> 0.0030902954 | E2: =10^(E1/10) -> 0.13803843 | F2: =10^(F1/10) -> 0.47863009 | G2: =10^(G1/10) -> 1 | H2: =10^(H1/10) -> 1.2882496 | I2: =10^(I1/10) -> 1.2589254 | J2: =10^(J1/10) -> 0.79432823
C3: =IF('Octave Band'!C11="","",'Octave Band'!C11+C7) -> -22.7 | D3: ='Octave Band'!D11+D7 -> -8.3 | E3: ='Octave Band'!E11+E7 -> 6.2 | F3: ='Octave Band'!F11+F7 -> 20 | G3: ='Octave Band'!G11+G7 -> 23.8 | H3: ='Octave Band'!H11+H7 -> 28.6 | I3: ='Octave Band'!I11+I7 -> 35.6 | J3: ='Octave Band'!J11+J7 -> 30
C4: =IF('Octave Band'!C11="","",10^(C3/10)) -> 0.005370318 | D4: =10^(D3/10) -> 0.14791084 | E4: =10^(E3/10) -> 4.1686938 | F4: =10^(F3/10) -> 100 | G4: =10^(G3/10) -> 239.88329 | H4: =10^(H3/10) -> 724.43596 | I4: =10^(I3/10) -> 3630.7805 | J4: =10^(J3/10) -> 1000
B7: A-weighting | C7: -26.2 | D7: -16.1 | E7: -8.6 | F7: -3.2 | G7: 0 | H7: 1.1 | I7: 1 | J7: -1
B9: OB Formatting flags | C9: =IF('Octave Band'!C11="",0,1) -> 1 | D9: =IF('Octave Band'!D11="",0,1) -> 1 | E9: =IF('Octave Band'!E11="",0,1) -> 1 | F9: =IF('Octave Band'!F11="",0,1) -> 1 | G9: =IF('Octave Band'!G11="",0,1) -> 1 | H9: =IF('Octave Band'!H11="",0,1) -> 1 | I9: =IF('Octave Band'!I11="",0,1) -> 1 | J9: =IF('Octave Band'!J11="",0,1) -> 1 | L9: =PRODUCT(C9:J9,C11:J11) -> 1
C11: =IF('Octave Band'!C8="",0,1) -> 1 | D11: =IF('Octave Band'!D8="",0,1) -> 1 | E11: =IF('Octave Band'!E8="",0,1) -> 1 | F11: =IF('Octave Band'!F8="",0,1) -> 1 | G11: =IF('Octave Band'!G8="",0,1) -> 1 | H11: =IF('Octave Band'!H8="",0,1) -> 1 | I11: =IF('Octave Band'!I8="",0,1) -> 1 | J11: =IF('Octave Band'!J8="",0,1) -> 1
C12: =IF('Octave Band'!C9="",0,1) -> 1 | D12: =IF('Octave Band'!D9="",0,1) -> 1 | E12: =IF('Octave Band'!E9="",0,1) -> 1 | F12: =IF('Octave Band'!F9="",0,1) -> 1 | G12: =IF('Octave Band'!G9="",0,1) -> 1 | H12: =IF('Octave Band'!H9="",0,1) -> 1 | I12: =IF('Octave Band'!I9="",0,1) -> 1 | J12: =IF('Octave Band'!J9="",0,1) -> 1
B16: HML Calculation | C16: =IF((HML!D10-HML!D9)>2,[0]!M-((HML!D10-HML!D9-2)*([0]!M-[0]!L)/8),[0]!M-((HML!D10-HML!D9-2)*([0]!H-[0]!M)/4)) -> 56
B19: HML Formatting flags | C19: =IF([0]!H="",0,1) -> 1 | D19: =IF([0]!M="",0,1) -> 1 | E19: =IF([0]!L="",0,1) -> 1
D21: =IF(HML!D9="",0,1) -> 1
D22: =IF(HML!D10="",0,1) -> 1
D25: =PRODUCT(C19:E19,D21:D22) -> 1
B28: SNR Formatting flags | C28: =IF(SNR!C6="",0,1) -> 1 | D28: =IF(SNR!C8="",0,1) -> 1 | E28: =C28*D28 -> 1
