Workbook
Name Resource: '[1]Data Validation'!$A$2:$A$6
Name Resource: '[2]Data Validation'!$A$2:$A$6
Name Resource: '[2]Data Validation'!$A$2:$A$6
Name Resource: '[3]Data Validation'!$A$2:$A$6
Name Unit: '[1]Data Validation'!$H$2:$H$9
Name Unit: '[2]Data Validation'!$H$2:$H$9
Name Unit: '[2]Data Validation'!$H$2:$H$9
Name Unit: '[3]Data Validation'!$H$2:$H$9

Sheet Cover
F10: Y Fforwm Substructure
E13: Sophie Morgan
F17: Bill of Quantities
E19: 44673

Sheet Form of Tender

Sheet Summary
A1: Ref. | B1: Description | C1: Value
A3: 1 | B3: Preliminaries | C3: =Preliminaries!F38 -> 68592.815
B5: Measured Works:
A6: 2.1 | B6: Piling Mat | C6: =SUM('Measured Works'!F9:F22) -> 10080.548
A7: 2.2 | B7: Piling | C7: =SUM('Measured Works'!F26:F38) -> 620870.16
A8: 2.3 | B8: Pile Caps | C8: =SUM('Measured Works'!F40:F77) -> 47553.766
A9: 2.4 | B9: Stairs | C9: =SUM('Measured Works'!F79:F82) -> 25.2
A10: 2.5 | B10: Lift Pits | C10: =SUM('Measured Works'!F84:F121) -> 4360.5316
A11: 2.6 | B11: Deep Pits | C11: =SUM('Measured Works'!F123:F170) -> 3714.2405
A12: 2.7 | B12: Foul Runs | C12: =SUM('Measured Works'!F172:F193) -> 3866.21
A13: 2.8 | B13: Foul Manholes | C13: =SUM('Measured Works'!F195:F205) -> 3550
A14: 2.9 | B14: Storm Runs | C14: =SUM('Measured Works'!F207:F232) -> 7831.36
A15: 2.1 | B15: Storm Manholes | C15: =SUM('Measured Works'!F234:F246) -> 7371.6
A16: 2.11 | B16: Incoming Services | C16: =SUM('Measured Works'!F248:F259) -> 5251.3
A17: 2.12 | B17: Ground Beams | C17: =SUM('Measured Works'!F261:F293) -> 14763.646
A18: 2.13 | B18: RC Shear Walls | C18: =SUM('Measured Works'!F295:F307) -> 2596.3375
A19: 2.14 | B19: Ground Floor Slab | C19: =SUM('Measured Works'!F309:F361) -> 80108.684
A21: 3 | B21: Risks | C21: =Risks!F25 -> 176250
A23: 4 | B23: Dayworks (Provisional) | C23: =Dayworks!F8 -> 10500
B25: TOTAL | C25: =SUM(C2:C24) -> 1067286.4
B27: Allowances/Assumptions
A28: 1 | B28: Allowed for a piling mat 150mm thick
A29: 2 | B29: Allowed for CBR testing of the piling mat
A30: 3 | B30: Allowed for off-site disposal within 5km of the site
A31: 4 | B31: Assumed the FFL is the same as the existing ground level (7.200m)
A32: 5 | B32: Allowed for entry points into the building
A33: 6 | B33: Allowed for 130m of ducting
A34: 7 | B34: Allowed for 64m of new electircity supply
A35: 8 | B35: Allowed for concrete cube testing
A36: 9 | B36: Allowed for a power floated finish to the GF Slab
A37: 10 | B37: Allowed for a GRP lift pit liner
A38: 11 | B38: Assumed the staircase have a width of 900mm
A39: 12 | B39: Allowed for DPM to the GF Slab
... A57: 30 | B57: Allowed for a 150mm bed and covering to all drainage pipes
B60: Drawings
A61: 183 | B61: Library Building Sub-structure Section Rev C6
A62: 182 | B62: Library Building Ground Floor Layout rev C5
A63: 181 | B63: Library Building Foundation Layout Rev C7
A64: 180 | B64: Library Building Piling Layout Rev C4
A65: CG1000 | B65: Existing and Proposed Drainage

Sheet Preliminaries
B1: Description | C1: Qty | D1: Unit | E1: Rate | F1: Value
B2: All works based on scope in the following documents issued on DD MMM YYYY:
B4: 9. MAIN CONTRACTOR'S PRELIMINARIES
B5: 9.2.2 Site Establishment
B7: Office Cabin - 32ft x 10ft (30m2) | C7: 14 | D7: wk | E7: =44.5 -> 44.5 | F7: =C7*E7 -> 623
B9: 2 No Safestore - 20ft x 8ft (15m2) | C9: 14 | D9: wk | E9: =24*2 -> 48 | F9: =C9*E9 -> 672
B11: Toilets - fitted to mains; three pan unit | C11: 14 | D11: wk | E11: 215 | F11: =C11*E11 -> 3010
B13: Signs and notices | C13: 14 | D13: wk | E13: 68 | F13: =C13*E13 -> 952
B15: Fire extinguishers | C15: 14 | D15: wk | E15: 10.8 | F15: =C15*E15 -> 151.2
B17: Kitchen with cooker, fridge, sink, water heater; 32ft x 10ft | C17: 14 | D17: wk | E17: 200 | F17: =C17*E17 -> 2800
B19: Mess room with wash basin, water heater, setaing; 16ft x 7ft | C19: 14 | D19: wk | E19: 120 | F19: =C19*E19 -> 1680
B21: Haulage to and from site; site office, storage sheds, toilets | C21: 1 | D21: item | E21: 6000 | F21: =C21*E21 -> 6000
B23: Labour Costs
B25: Site Manager | C25: 14 | D25: wk | E25: =50000/52 -> 961.53846 | F25: =C25*E25 -> 13461.538
B27: Site supervisor | C27: 14 | D27: wk | E27: =35000/52 -> 673.07692 | F27: =C27*E27 -> 9423.0769
B29: Engineer | C29: 14 | D29: wk | E29: 1680 | F29: =C29*E29 -> 23520
B31: Security | C31: 14 | D31: wk | E31: 150 | F31: =C31*E31 -> 2100
B33: Fencing
B35: Heras fencing | C35: 14 | D35: wk | E35: 300 | F35: =C35*E35 -> 4200
B38: Total Sum | F38: =SUM(F3:F37) -> 68592.815

Sheet Measured Works
B1: Description | C1: Qty | D1: Unit | E1: Rate | F1: Value
B2: All works based on scope in the following documents issued on DD MMM YYYY:
B4: 1.1.2 Specialist Foundations
B5: PILING MAT
B6: Enabling Works
B7: Filling to excavation with imported materials
B8: Supply and lay imported hardcore into oversite to form piling mat; by machine; compacting in layers; average 150mm thick
B9: MOT Type 1 | C9: =1128*0.15 -> 169.2 | D9: m3 | E9: 16 | F9: =C9*E9 -> 2707.2
B11: Surface treatments
B12: Surface compaction of filling | C12: =1128 -> 1128 | D12: m2 | E12: 2.8 | F12: =C12*E12 -> 3158.4
B14: Allowance for testing of the subgrade strength
B15: CBR testing | C15: 1 | D15: Nr | E15: 545 | F15: =C15*E15 -> 545
B17: Machine excavation
B18: Excavation to remove piling mat, depth not exceeding:
B19: 1.00m | C19: =C9 -> 169.2 | D19: m3 | E19: 6 | F19: =C19*E19 -> 1015.2
B21: Off-site disposal of piling mat
B22: Removed, including providing a suitable tip | C22: =C19 -> 169.2 | D22: m3 | E22: 15.69 | F22: =C22*E22 -> 2654.748
B24: PILING
B25: Provision of 1nr pile rig; including bringing to and removing from site;
B26: Maintenance, erection and dismantling at each pile position | C26: 1 | D26: item | E26: 23000 | F26: =C26*E26 -> 23000
B28: Steel tube piles
B29: Supply and install steel tube piles; including a minimum of 1.5m concrete infill at the top of the pile, with the remaining 4.5m being a gravel infill; cart away inactive spoil; 6m in length; approximately 7m deep
B30: Max 63kg/m; 250/244mm dia. Steel tube piles | C30: 96 | D30: Nr | E30: 6190 | F30: =C30*E30 -> 594240
B32: Pile testing
B33: Integrity testing; minimum 20 per visit | C33: 96 | D33: Nr | E33: 19.3 | F33: =C33*E33 -> 1852.8
B35: Off site disposal of material arising from piling works
B36: Removed, including providing a suitable tip:
B37: Machine loading | C37: =1.18*96 -> 113.28 | D37: m3 | E37: 15.69 | F37: =C37*E37 -> 1777.3632
B39: PILE CAPS
B40: EXCAVATING AND FILLING
B41: Machine excavation
B42: Pit excavation to receive foundation bases, depth not exceeding:
B43: 2.00m | C43: 176.4 | D43: m3 | E43: 8 | F43: =C43*E43 -> 1411.2
B45: Working space allowance to excavations; by machine
B46: Excavate working space for pile caps, backfilling with excavated materiall;
B47: 500-700mm | C47: 130.2 | D47: m3 | E47: 8 | F47: =C47*E47 -> 1041.6
B49: Surface treatments
B50: Compacting bottoms of foundation bases | C50: 302.6 | D50: m2 | E50: 2.8 | F50: =C50*E50 -> 847.28
B52: Off site disposal of material arising from earthworks
B53: Removed, including providing a suitable tip:
...

Sheet Risks
B1: Description | C1: Qty | D1: Unit | E1: Rate | F1: Value
B2: All works based on scope in the following documents issued on DD MMM YYYY:
B4: RISKS
B5: SITE CLEARANCE - HAZARDOUS WASTE
B6: EXCAVATION AND FILLING
B7: Machine excavation
B8: Excavation to remove 1.8m of hazardous waste; depth not exceeding:
B9: 2.00m | C9: =1128*1.8 -> 2030.4 | D9: m3 | E9: 8 | F9: =C9*E9 -> 16243.2
B11: Disposal of materials arising
B12: Removed, including providing a suitable tip | C12: =C9 -> 2030.4 | D12: m3 | E12: 65 | F12: =C12*E12 -> 131976
B14: Filling to excavation with imported materials
B15: Filled into oversite; by machine; compacting in layers; 1500mm thick
B16: 6F5 | C16: =1128*1.5 -> 1692 | D16: m3 | E16: 11.5 | F16: =C16*E16 -> 19458
B18: Filled into oversite; by machine; compacting in layers; 300mm thick
B19: MOT Type 1 | C19: =1128*0.3 -> 338.4 | D19: m3 | E19: 16 | F19: =C19*E19 -> 5414.4
B21: Surface treatments
B22: Surface compaction of filling | C22: 1128 | D22: m2 | E22: 2.8 | F22: =C22*E22 -> 3158.4
B25: TOTAL SUM | F25: =SUM(F8:F24) -> 176250

Sheet Dayworks
B1: Description | C1: Qty | D1: Unit | E1: Rate | F1: Value
B2: All works based on scope in the following documents issued on DD MMM YYYY:
B4: Roadsweeping | C4: 14 | D4: day | E4: =55*8 -> 440 | F4: =C4*E4 -> 6160
B6: Wheel washing | C6: 28 | D6: days | E6: 155 | F6: =C6*E6 -> 4340
B8: TOTAL SUM | F8: =SUM(F4:F6) -> 10500

Sheet Take Off
A1: TIM | B1: DIM | C1: SQ | D1: DESCRIPTION | E1: TIM | F1: DIM | G1: SQ | H1: DESCRIPTION
D2: PILING MAT
D3: Piling Mat - 1,128m2 | H3: Total Pile Cap Excavation
B4: 1128 | G4: =C16+C23+C30+C38+C44+C49 -> 182.4715 | H4: m3
B5: 0.15 | C5: =B4*B5 -> 169.2 | D5: Area of MOT Type 1
D6: PILING | H6: Working Space
D7: Disposal of excavated material
B8: 1.18 | D8: 3.14*0.25²*6 = 1.18m3 per pile | H8: 500mm
B9: 96 | C9: =B8*B9 -> 113.28 | D9: m3
D10: PILE CAPS | H10: Single Pile Caps - 750x750x750
D11: Exacavtion | G11: 0.75
D12: Single Pile Caps - 750x750x750 | G12: 0.5
D13: 750mm depth + 50mm blinding | G13: =G11+G12 -> 1.25 | H13: m each side
A14: 4/ | B14: 0.75
B15: 0.75 | F15: 1.25
B16: 0.8 | C16: =(B14*B15*B16)*4 -> 1.8 | D16: m3 | F16: 4 | G16: =F15*F16 -> 5 | H16: m total
D18: Double Pile Caps (Standard) | E18: 4 | F18: 5
D19: 1300x750x750 | F19: 0.5
D20: 750mm depth + 50mm blinding | F20: 0.8 | G20: =(F18*F19*F20)*4 -> 8 | H20: m3
A21: 8/ | B21: 1.3
B22: 0.75 | H22: Double Pile Caps (Standard)
B23: 0.8 | C23: =(B21*B22*B23)*8 -> 6.24 | D23: m3 | H23: 1300x750x750
E24: 2/ | G24: 1.3
D25: Double Pile Caps (Type A) | G25: 0.5
D26: 1300x1100x750 | G26: =(G24+G25)*2 -> 3.6 | H26: m
D27: 750mm depth + 50mm blinding
A28: 11/ | B28: 1.3 | E28: 2/ | G28: 0.75
B29: 1.1 | G29: 0.5
B30: 0.8 | C30: =(B28*B29*B30)*11 -> 12.584 | D30: m3 | G30: =(G28+G29)*2 -> 2.5 | H30: m
D32: Triple Pile Caps - 1.24m2 x 0.75mm | G32: =G26 -> 3.6
D33: Area | G33: =G30 -> 2.5
D34: 0.448 x 1.3 = 0.5824 | G34: =G32+G33 -> 6.1 | H34: m total
D35: ((0.341+1.3)/2)*0.802 = 0.658041
D36: Total area of each triple = 1.24m2 | E36: 8/ | F36: 6.1
A37: 10/ | B37: 1.24 | F37: 0.5
B38: 0.8 | C38: =(B37*B38)*10 -> 9.92 | D38: m3 | F38: 0.8 | G38: =(F36*F37*F38)*8 -> 19.52 | H38: m3
D40: Pile Cap Under Lift Pits | H40: Double Pile Caps (Type A)
D41: 7900x6580x1200 | H41: 1300x1100x750
B42: 7.9 | E42: 2/ | G42: 1.3
B43: 6.58 | G43: 0.5
...
