Workbook

Sheet Given Data 
B4: Regened Data/ Test Specification
B5: Maximum Engine Speed (RPM) | C5: 6500 | E5: Gear | F5: Input | G5: Output | H5: Gear Ratio | I5: Overall Ratio
B6: Maximum Engine Torque (Nm) | C6: 22 | E6: 1st | F6: 11 | G6: 29 | H6: 2.6363636 | I6: 22.729221
B7: Maximum Power Develop by Engine (W) | C7: 14967.333 | E7: 2nd | F7: 15 | G7: 29 | H7: 1.9333333 | I7: 16.668095
B8: Maximum Power Developed by Engine (HP) | C8: 20.06345 | E8: 3rd | F8: 21 | G8: 31 | H8: 1.4761905 | I8: 12.726871
B9: Effective Frontal Area (m2) | C9: 1.151 | E9: Final Drive | F9: 15 | G9: 51 | H9: 3.4
B10: Front Wheel Radius (mm) | C10: 304.8 | E10: Primary Drive | F10: 28 | G10: 71 | H10: 2.5357143
B11: Rear Wheel Radius (mm) | C11: 254
B12: Front Wheel Radius (m) | C12: 0.3048
B13: Rear Wheel Radius (m) | C13: 0.254 | E13: Torque Nm | F13: 500 | G13: 1000 | H13: 1500 | I13: 2000 | J13: 2500 | K13: 3000 | L13: 3500 | M13: 4000 | N13: 4500 | O13: 5000 | P13: 5500 | Q13: 6000 | R13: 6500 | S13: 7000
B14: Driver + Passenger Weight (kg) | C14: 144 | E14: RPM
B15: Fuel + Oil Weight (kg) | C15: 16.11 | E15: 22 | F15: 0 | G15: 0 | H15: 0 | I15: 0 | J15: 0 | K15: 0 | L15: 0 | M15: 0 | N15: 0 | O15: 477.263 | P15: 457.65679 | Q15: 0 | R15: 0 | S15: 0
B16: Kerb Weight (kg) | C16: 345 | E16: 21 | F16: 0 | G16: 0 | H16: 0 | I16: 0 | J16: 0 | K16: 0 | L16: 0 | M16: 0 | N16: 483 | O16: 470.50444 | P16: 443.88071 | Q16: 477 | R16: 0 | S16: 0
B17: Total Weight (kg) | C17: 521.71 | E17: 20 | F17: 0 | G17: 0 | H17: 0 | I17: 0 | J17: 0 | K17: 0 | L17: 0 | M17: 479.7 | N17: 491.6236 | O17: 461.71575 | P17: 414.10462 | Q17: 469.19732 | R17: 0 | S17: 0
E18: 19 | F18: 0 | G18: 0 | H18: 0 | I18: 0 | J18: 0 | K18: 487 | L18: 478.3 | M18: 482.76 | N18: 476.51549 | O18: 443.04624 | P18: 392.32854 | Q18: 457.16662 | R18: 504.47247 | S18: 0
B19: Drag Coefficient | C19: 0.7 | E19: 18 | F19: 0 | G19: 0 | H19: 0 | I19: 0 | J19: 0 | K19: 494.6 | L19: 487.6 | M19: 483.62212 | N19: 467.51182 | O19: 427.32635 | P19: 370.55246 | Q19: 440.18261 | R19: 492.04619 | S19: 585.75415
B20: Air Density (kg/m3) | C20: 1.167 | E20: 17 | F20: 0 | G20: 0 | H20: 0 | I20: 0 | J20: 503.2 | K20: 499.2 | L20: 496.26476 | M20: 486.36708 | N20: 453.02166 | O20: 396.46991 | P20: 359.66441 | Q20: 404.08191 | R20: 484.72802 | S20: 571.22172
B21: Rolling Coefficient (μR) Asphalt | C21: 0.02 | E21: 16 | F21: 0 | G21: 0 | H21: 0 | I21: 0 | J21: 511.2 | K21: 502.55077 | L21: 499.78608 | M21: 489.11204 | N21: 444.16346 | O21: 368.92715 | P21: 348.77637 | Q21: 315.9812 | R21: 480.25628 | S21: 560.48452
B22: Rolling Coefficient (μR) Gravel | C22: 0.02 | E22: 15 | F22: 0 | G22: 0 | H22: 0 | I22: 597.6 | J22: 516.02897 | K22: 506.4151 | L22: 490.87116 | M22: 491.857 | N22: 439.4457 | O22: 349.54388 | P22: 315.1385 | Q22: 304.3559 | R22: 440.60398 | S22: 512.49828
B23: Rolling Coefficient (μR) Sand | C23: 0.08 | E23: 14 | F23: 0 | G23: 0 | H23: 0 | I23: 617.6 | J23: 519.93068 | K23: 510.27942 | L23: 481.95623 | M23: 474.1423 | N23: 406.02647 | O23: 338.1606 | P23: 297.2242 | Q23: 298.88214 | R23: 426.97377 | S23: 505.44295
B24: Rolling Coefficient (μR) Field | C24: 0.1 | E24: 13 | F24: 0 | G24: 0 | H24: 0 | I24: 631.4 | J24: 537.83024 | K24: 514.14375 | L24: 473.0413 | M24: 456.4276 | N24: 383.4689 | O24: 340.77733 | P24: 313.44812 | Q24: 323.99476 | R24: 377.79009 | S24: 550.08629
E25: 12 | F25: 0 | G25: 0 | H25: 647.6 | I25: 650.99204 | J25: 555.72979 | K25: 520.46754 | L25: 490.2231 | M25: 459.51858 | N25: 398.81407 | O25: 352.96777 | P25: 326.03757 | Q25: 319.10738 | R25: 394.6064 | S25: 535.15262
B26: Wheelbase (mm) | C26: 1940 | E26: 11 | F26: 0 | G26: 0 | H26: 661.4 | I26: 671.42151 | J26: 574.81351 | K26: 548.0705 | L26: 508.72062 | M26: 471.7546 | N26: 434.78857 | O26: 361.56046 | P26: 343.64462 | Q26: 314.22 | R26: 498.42272 | S26: 540.20721
B27: Height of COG from Ground (mm) | C27: 488 | E27: 10 | F27: 0 | G27: 0 | H27: 677.3 | I27: 679.66155 | J27: 593.89724 | K27: 578.13292 | L27: 521.56827 | M27: 495.94176 | N27: 470.31525 | O27: 373.21543 | P27: 359.74288 | Q27: 309.33261 | R27: 504.50472 | S27: 535.95524
B28: Distance of COG from Front Wheel Center (mm) | C28: 1070 | E28: 9 | F28: 0 | G28: 0 | H28: 683 | I28: 679.68857 | J28: 604.92833 | K28: 590.1681 | L28: 575.40786 | M28: 533.46044 | N28: 491.51302 | O28: 394.87041 | P28: 401.34726 | Q28: 419.30302 | R28: 510.58671 | S28: 552.98511
B29: Distance of COG from Rear Wheel Center (mm) | C29: 870 | E29: 8 | F29: 0 | G29: 693.5 | H29: 685.91174 | I29: 688.48829 | J29: 626.96707 | K29: 605.44585 | L29: 583.92463 | M29: 536.69451 | N29: 489.46439 | O29: 416.52538 | P29: 430.19859 | Q29: 494.14017 | R29: 563.03506 | S29: 628.62775
B30: Angle of Buggy Lifted (Degree) | C30: 18 | E30: 7 | F30: 0 | G30: 698.4 | H30: 698.97725 | I30: 787.57302 | J30: 661.67563 | K30: 626.82615 | L30: 615.56795 | M30: 583.19464 | N30: 525.11244 | O30: 459.2047 | P30: 464.79868 | Q30: 539.13705 | R30: 595.78196 | S30: 664.22251
B31: Angle of Buggy Lifted (Radians) | C31: 0.314159 | E31: 6 | F31: 840.7 | G31: 704.5 | H31: 738.17377 | I31: 787.4403 | J31: 683.96983 | K31: 635.84712 | L31: 647.21127 | M31: 603.98588 | N31: 560.7605 | O31: 501.88402 | P31: 488.66659 | Q31: 587.82742 | R31: 605.09522 | S31: 676.95837
B32: tan(18°) | C32: 0.32491 | E32: 5 | F32: 962.5 | G32: 709.89367 | H32: 750.50545 | I32: 795.34446 | J32: 726.49149 | K32: 707.63852 | L32: 688.78555 | M32: 651.64145 | N32: 620.2848 | O32: 588.92816 | P32: 571.62166 | Q32: 626.15539 | R32: 678.7958 | S32: 732.69842
B33: Load on Rear Wheel (kg) | C33: 207 | E33: 4 | F33: 1046.5 | G33: 741.90531 | H33: 770.04352 | I33: 824.23018 | J33: 776.62339 | K33: 756.8318 | L33: 717.30149 | M33: 699.29701 | N33: 679.80911 | O33: 660.32121 | P33: 654.57674 | Q33: 694.73211 | R33: 736.7163 | S33: 777.48127
B34: Load on Rear Wheel while Lifted (kg) | C34: 193 | E34: 3 | F34: 1089.4 | G34: 883.70676 | H34: 899.42299 | I34: 862.21869 | J34: 826.75529 | K34: 806.02508 | L34: 754.57173 | M34: 746.95257 | N34: 739.33341 | O34: 731.71426 | P34: 724.0951 | Q34: 763.30882 | R34: 779.98624 | S34: 811.68785
B35: YCOG | C35: 769.73798 | E35: 2 | F35: 1114.3308 | G35: 995.51124 | H35: 973.49813 | I35: 928.55602 | J35: 906.88719 | K35: 855.21836 | L35: 833.54953 | M35: 845.6519 | N35: 828.30575 | O35: 810.9596 | P35: 793.61346 | Q35: 811.39197 | R35: 823.25617 | S35: 839.06325
B36: XCOG | C36: 521.69675 | E36: 1 | F36: 1242.2208 | G36: 1167.3097 | H36: 1097.1272 | I36: 1024.8934 | J36: 1050.5262 | K36: 966.15913 | L36: 951.79202 | M36: 944.35123 | N36: 917.27809 | O36: 890.20495 | P36: 863.13182 | Q36: 859.47512 | R36: 851.87555 | S36: 846.90456
E37: 0 | F37: 1570.853 | G37: 1518.6451 | H37: 1348.4371 | I37: 1257.2292 | J37: 1246.0212 | K37: 1112.0778 | L37: 1068.1343 | M37: 1024.1909 | N37: 987.14043 | O37: 950.3403 | P37: 913.54017 | Q37: 907.55827 | R37: 880.49492 | S37: 862.48587
B38: Tires Mass (kg) | C38: 10.2 | E38: RPM | F38: 500 | G38: 1000 | H38: 1500 | I38: 2000 | J38: 2500 | K38: 3000 | L38: 3500 | M38: 4000 | N38: 4500 | O38: 5000 | P38: 5500 | Q38: 6000 | R38: 6500 | S38: 7000
B39: Wheels Mass (kg) | C39: 6.4
B40: Total Assembly Mass (kg) | C40: 16.6
B41: Radius of Gyration Front Wheel (Kfront) | C41: 0.27432
B42: Radius of Gyration Rear Wheel at 6500rpm 1st Gear | C42: 0.2286
B43: Inertia of Front Wheel | C43: 1.2491743
...

Sheet Sheet1
C1: Time (s) | D1: Velocity (mph) | E1: Velocity (m/s) | F1: Velocity (km/h) | G1: Ditsance (m) | H1: Displacement (m) | I1: Acceleration (m/s^2) | J1: Gear | K1: Equivalent mass (kg) | L1: Rolling Resistance | M1: Gradient resistance | N1: Areo grag resistance | O1: Acceleration resistance | P1: Total resistive force | Q1: Traction Effort (N) | R1: Torque @ wheel (Nm) | S1: Engine Torque (Nm) | T1: Power (kW) | U1: RPM | V1: Round Torque (Nm) | W1: Round RPM | X1: Energy (kWh) | Y1: BSFC | Z1: Fuel Burn (g) | AA1: Total fuel consumed (g) | AB1: Average power (KW) | AC1: Workdone (kJ)
B2: Asphalt start | C2: 0 | D2: 0 | E2: =D2/2.2394 -> 0 | F2: =E2*3.6 -> 0 | G2: 0 | H2: 0 | I2: 0 | J2: 0 | K2: 521.71 | L2: 0 | M2: 0 | N2: 0 | O2: 0 | P2: =L2+M2+N2+O2 -> 0 | Q2: =IF(P2>=0,P2,IF(P2<0,-P2)) -> 0 | R2: =Q2*'Given Data '!C$13 -> 0 | S2: 0 | T2: =Q2*G2 -> 0 | U2: 0 | V2: =ROUND(S2,0) -> 0 | W2: =MROUND(U2,500) -> 0 | X2: =T2/3600 -> 0 | Y2: 0 | Z2: =Y2*X2 -> 0 | AA2: 0 | AB2: 0 | AC2: =(P2*G2)/1000 -> 0
C3: =C2+1 -> 1 | D3: 6 | E3: =D3/2.23694 -> 2.6822356 | F3: =E3*3.6 -> 9.656048 | G3: =(E3+E2)/2+G2 -> 1.3411178 | H3: =(E3+E2)/2 -> 1.3411178 | I3: =(H3-E2*1)*2 -> 2.6822356 | J3: =IF(D3<=10,1,IF(AND(D3>10,D3<=20),2,IF(D3>20,3))) -> 1 | K3: =IF(J3=1,'Given Data '!C$46,IF(J3=2,'Given Data '!C$47,IF(J3=3,'Given Data '!C$48))) -> 593.80838 | L3: ='Given Data '!C$17*'Given Data '!C$21*8.91 -> 92.968722 | M3: 0 | N3: =0.5*'Given Data '!C$19*'Given Data '!C$9*'Given Data '!C$20*Sheet1!E3^2 -> 3.3822683 | O3: =K3*I3 -> 1592.7339 | P3: =L3+M3+N3+O3 -> 1689.0849 | Q3: =IF(P3>=0,P3,IF(P3<0,-P3)) -> 1689.0849 | R3: =Q3*'Given Data '!C$13 -> 429.02757 | S3: =R3/(IF(J3=1,'Given Data '!I$6,IF(J3=2,'Given Data '!I$7,IF(J3=3,'Given Data '!I$8)))) -> 18.875595 | T3: =(Q3*H3)/1000 -> 2.2652618 | U3: =60*T3*1000/(2*PI()*S3) -> 1146.0119 | V3: =ROUND(S3,0) -> 19 | W3: =MROUND(U3,500) -> 1000 | X3: =T3/3600 -> 0.0006292394 | Y3: =INDEX('Given Data '!F$15:S$37,MATCH(Sheet1!V3,'Given Data '!E$15:E$37),MATCH(Sheet1!W3,'Given Data '!F$38:S$38)) -> 1518.6451 | Z3: =Y3*X3 -> 0.9555913 | AA3: =AA2+Z3 -> 0.9555913 | AB3: =AVERAGE(T$2:T$218) -> 3.4833445 | AC3: =(P3*G3)/1000 -> 2.2652618
C4: =C3+1 -> 2 | D4: 7 | E4: =D4/2.23694 -> 3.1292748 | F4: =E4*3.6 -> 11.265389 | G4: =(E4+E3)/2+G3 -> 4.246873 | H4: =(E4+E3)/2 -> 2.9057552 | I4: =(H4-E3*1)*2 -> 0.44703926 | J4: =IF(D4<=10,1,IF(AND(D4>10,D4<=20),2,IF(D4>20,3))) -> 1 | K4: =IF(J4=1,'Given Data '!C$46,IF(J4=2,'Given Data '!C$47,IF(J4=3,'Given Data '!C$48))) -> 593.80838 | L4: ='Given Data '!C$17*'Given Data '!C$21*8.91 -> 92.968722 | M4: 0 | N4: =0.5*'Given Data '!C$19*'Given Data '!C$9*'Given Data '!C$20*Sheet1!E4^2 -> 4.6036429 | O4: =K4*I4 -> 265.45566 | P4: =L4+M4+N4+O4 -> 363.02802 | Q4: =IF(P4>=0,P4,IF(P4<0,-P4)) -> 363.02802 | R4: =Q4*'Given Data '!C$13 -> 92.209117 | S4: =R4/(IF(J4=1,'Given Data '!I$6,IF(J4=2,'Given Data '!I$7,IF(J4=3,'Given Data '!I$8)))) -> 4.0568534 | T4: =(Q4*H4)/1000 -> 1.0548706 | U4: =60*T4*1000/(2*PI()*S4) -> 2483.0258 | V4: =ROUND(S4,0) -> 4 | W4: =MROUND(U4,500) -> 2500 | X4: =T4/3600 -> 0.0002930196 | Y4: =INDEX('Given Data '!F$15:S$37,MATCH(Sheet1!V4,'Given Data '!E$15:E$37,0),MATCH(Sheet1!W4,'Given Data '!F$38:S$38,0)) -> 776.62339 | Z4: =Y4*X4 -> 0.22756587 | AA4: =AA3+Z4 -> 1.1831572 | AB4: =AVERAGE(T$2:T$218) -> 3.4833445 | AC4: =(P4*G4)/1000 -> 1.5417339
C5: =C4+1 -> 3 | D5: 8.5 | E5: =D5/2.23694 -> 3.7998337 | F5: =E5*3.6 -> 13.679401 | G5: =(E5+E4)/2+G4 -> 7.7114272 | H5: =(E5+E4)/2 -> 3.4645543 | I5: =(H5-E4*1)*2 -> 0.67055889 | J5: =IF(D5<=10,1,IF(AND(D5>10,D5<=20),2,IF(D5>20,3))) -> 1 | K5: =IF(J5=1,'Given Data '!C$46,IF(J5=2,'Given Data '!C$47,IF(J5=3,'Given Data '!C$48))) -> 593.80838 | L5: ='Given Data '!C$17*'Given Data '!C$21*8.91 -> 92.968722 | M5: 0 | N5: =0.5*'Given Data '!C$19*'Given Data '!C$9*'Given Data '!C$20*Sheet1!E5^2 -> 6.7880246 | O5: =K5*I5 -> 398.18348 | P5: =L5+M5+N5+O5 -> 497.94023 | Q5: =IF(P5>=0,P5,IF(P5<0,-P5)) -> 497.94023 | R5: =Q5*'Given Data '!C$13 -> 126.47682 | S5: =R5/(IF(J5=1,'Given Data '!I$6,IF(J5=2,'Given Data '!I$7,IF(J5=3,'Given Data '!I$8)))) -> 5.5645031 | T5: =(Q5*H5)/1000 -> 1.7251409 | U5: =60*T5*1000/(2*PI()*S5) -> 2960.5308 | V5: =ROUND(S5,0) -> 6 | W5: =MROUND(U5,500) -> 3000 | X5: =T5/3600 -> 0.00047920582 | Y5: =INDEX('Given Data '!F$15:S$37,MATCH(Sheet1!V5,'Given Data '!E$15:E$37,0),MATCH(Sheet1!W5,'Given Data '!F$38:S$38,0)) -> 635.84712 | Z5: =Y5*X5 -> 0.30470164 | AA5: =AA4+Z5 -> 1.4878588 | AB5: =AVERAGE(T$2:T$218) -> 3.4833445 | AC5: =(P5*G5)/1000 -> 3.8398298
C6: =C5+1 -> 4 | D6: 10 | E6: =D6/2.23694 -> 4.4703926 | F6: =E6*3.6 -> 16.093413 | G6: =(E6+E5)/2+G5 -> 11.84654 | H6: =(E6+E5)/2 -> 4.1351131 | I6: =(H6-E5*1)*2 -> 0.67055889 | J6: =IF(D6<=10,1,IF(AND(D6>10,D6<=20),2,IF(D6>20,3))) -> 1 | K6: =IF(J6=1,'Given Data '!C$46,IF(J6=2,'Given Data '!C$47,IF(J6=3,'Given Data '!C$48))) -> 593.80838 | L6: ='Given Data '!C$17*'Given Data '!C$21*8.91 -> 92.968722 | M6: 0 | N6: =0.5*'Given Data '!C$19*'Given Data '!C$9*'Given Data '!C$20*Sheet1!E6^2 -> 9.3951897 | O6: =K6*I6 -> 398.18348 | P6: =L6+M6+N6+O6 -> 500.5474 | Q6: =IF(P6>=0,P6,IF(P6<0,-P6)) -> 500.5474 | R6: =Q6*'Given Data '!C$13 -> 127.13904 | S6: =R6/(IF(J6=1,'Given Data '!I$6,IF(J6=2,'Given Data '!I$7,IF(J6=3,'Given Data '!I$8)))) -> 5.5936382 | T6: =(Q6*H6)/1000 -> 2.0698201 | U6: =60*T6*1000/(2*PI()*S6) -> 3533.5367 | V6: =ROUND(S6,0) -> 6 | W6: =MROUND(U6,500) -> 3500 | X6: =T6/3600 -> 0.00057495003 | Y6: =INDEX('Given Data '!F$15:S$37,MATCH(Sheet1!V6,'Given Data '!E$15:E$37,0),MATCH(Sheet1!W6,'Given Data '!F$38:S$38,0)) -> 647.21127 | Z6: =Y6*X6 -> 0.37211414 | AA6: =AA5+Z6 -> 1.859973 | AB6: =AVERAGE(T$2:T$218) -> 3.4833445 | AC6: =(P6*G6)/1000 -> 5.9297549
C7: =C6+1 -> 5 | D7: 10.2 | E7: =D7/2.23694 -> 4.5598004 | F7: =E7*3.6 -> 16.415282 | G7: =(E7+E6)/2+G6 -> 16.361637 | H7: =(E7+E6)/2 -> 4.5150965 | I7: =(H7-E6*1)*2 -> 0.089407852 | J7: =IF(D7<=10,1,IF(AND(D7>10,D7<=20),2,IF(D7>20,3))) -> 2 | K7: =IF(J7=1,'Given Data '!C$46,IF(J7=2,'Given Data '!C$47,IF(J7=3,'Given Data '!C$48))) -> 585.34306 | L7: ='Given Data '!C$17*'Given Data '!C$21*8.91 -> 92.968722 | M7: 0 | N7: =0.5*'Given Data '!C$19*'Given Data '!C$9*'Given Data '!C$20*Sheet1!E7^2 -> 9.7747554 | O7: =K7*I7 -> 52.334266 | P7: =L7+M7+N7+O7 -> 155.07774 | Q7: =IF(P7>=0,P7,IF(P7<0,-P7)) -> 155.07774 | R7: =Q7*'Given Data '!C$13 -> 39.389747 | S7: =R7/(IF(J7=1,'Given Data '!I$6,IF(J7=2,'Given Data '!I$7,IF(J7=3,'Given Data '!I$8)))) -> 2.3631822 | T7: =(Q7*H7)/1000 -> 0.70019098 | U7: =60*T7*1000/(2*PI()*S7) -> 2829.3761 | V7: =ROUND(S7,0) -> 2 | W7: =MROUND(U7,500) -> 3000 | X7: =T7/3600 -> 0.00019449749 | Y7: =INDEX('Given Data '!F$15:S$37,MATCH(Sheet1!V7,'Given Data '!E$15:E$37,0),MATCH(Sheet1!W7,'Given Data '!F$38:S$38,0)) -> 855.21836 | Z7: =Y7*X7 -> 0.16633783 | AA7: =AA6+Z7 -> 2.0263108 | AB7: =AVERAGE(T$2:T$218) -> 3.4833445 | AC7: =(P7*G7)/1000 -> 2.5373257
C8: =C7+1 -> 6 | D8: 12 | E8: =D8/2.23694 -> 5.3644711 | F8: =E8*3.6 -> 19.312096 | G8: =(E8+E7)/2+G7 -> 21.323773 | H8: =(E8+E7)/2 -> 4.9621358 | I8: =(H8-E7*1)*2 -> 0.80467067 | J8: =IF(D8<=10,1,IF(AND(D8>10,D8<=20),2,IF(D8>20,3))) -> 2 | K8: =IF(J8=1,'Given Data '!C$46,IF(J8=2,'Given Data '!C$47,IF(J8=3,'Given Data '!C$48))) -> 585.34306 | L8: ='Given Data '!C$17*'Given Data '!C$21*8.91 -> 92.968722 | M8: 0 | N8: =0.5*'Given Data '!C$19*'Given Data '!C$9*'Given Data '!C$20*Sheet1!E8^2 -> 13.529073 | O8: =K8*I8 -> 471.00839 | P8: =L8+M8+N8+O8 -> 577.50619 | Q8: =IF(P8>=0,P8,IF(P8<0,-P8)) -> 577.50619 | R8: =Q8*'Given Data '!C$13 -> 146.68657 | S8: =R8/(IF(J8=1,'Given Data '!I$6,IF(J8=2,'Given Data '!I$7,IF(J8=3,'Given Data '!I$8)))) -> 8.80044 | T8: =(Q8*H8)/1000 -> 2.8656641 | U8: =60*T8*1000/(2*PI()*S8) -> 3109.5123 | V8: =ROUND(S8,0) -> 9 | W8: =MROUND(U8,500) -> 3000 | X8: =T8/3600 -> 0.00079601781 | Y8: =INDEX('Given Data '!F$15:S$37,MATCH(Sheet1!V8,'Given Data '!E$15:E$37,0),MATCH(Sheet1!W8,'Given Data '!F$38:S$38,0)) -> 590.1681 | Z8: =Y8*X8 -> 0.46978432 | AA8: =AA7+Z8 -> 2.4960951 | AB8: =AVERAGE(T$2:T$218) -> 3.4833445 | AC8: =(P8*G8)/1000 -> 12.314611
C9: =C8+1 -> 7 | D9: 14 | E9: =D9/2.23694 -> 6.2585496 | F9: =E9*3.6 -> 22.530779 | G9: =(E9+E8)/2+G8 -> 27.135283 | H9: =(E9+E8)/2 -> 5.8115104 | I9: =(H9-E8*1)*2 -> 0.89407852 | J9: =IF(D9<=10,1,IF(AND(D9>10,D9<=20),2,IF(D9>20,3))) -> 2 | K9: =IF(J9=1,'Given Data '!C$46,IF(J9=2,'Given Data '!C$47,IF(J9=3,'Given Data '!C$48))) -> 585.34306 | L9: ='Given Data '!C$17*'Given Data '!C$21*8.91 -> 92.968722 | M9: 0 | N9: =0.5*'Given Data '!C$19*'Given Data '!C$9*'Given Data '!C$20*Sheet1!E9^2 -> 18.414572 | O9: =K9*I9 -> 523.34266 | P9: =L9+M9+N9+O9 -> 634.72595 | Q9: =IF(P9>=0,P9,IF(P9<0,-P9)) -> 634.72595 | R9: =Q9*'Given Data '!C$13 -> 161.22039 | S9: =R9/(IF(J9=1,'Given Data '!I$6,IF(J9=2,'Given Data '!I$7,IF(J9=3,'Given Data '!I$8)))) -> 9.6723945 | T9: =(Q9*H9)/1000 -> 3.6887165 | U9: =60*T9*1000/(2*PI()*S9) -> 3641.7712 | V9: =ROUND(S9,0) -> 10 | W9: =MROUND(U9,500) -> 3500 | X9: =T9/3600 -> 0.0010246435 | Y9: =INDEX('Given Data '!F$15:S$37,MATCH(Sheet1!V9,'Given Data '!E$15:E$37,0),MATCH(Sheet1!W9,'Given Data '!F$38:S$38,0)) -> 521.56827 | Z9: =Y9*X9 -> 0.53442152 | AA9: =AA8+Z9 -> 3.0305166 | AB9: =AVERAGE(T$2:T$218) -> 3.4833445 | AC9: =(P9*G9)/1000 -> 17.223468
C10: =C9+1 -> 8 | D10: 15 | E10: =D10/2.23694 -> 6.7055889 | F10: =E10*3.6 -> 24.14012 | G10: =(E10+E9)/2+G9 -> 33.617352 | H10: =(E10+E9)/2 -> 6.4820693 | I10: =(H10-E9*1)*2 -> 0.44703926 | J10: =IF(D10<=10,1,IF(AND(D10>10,D10<=20),2,IF(D10>20,3))) -> 2 | K10: =IF(J10=1,'Given Data '!C$46,IF(J10=2,'Given Data '!C$47,IF(J10=3,'Given Data '!C$48))) -> 585.34306 | L10: ='Given Data '!C$17*'Given Data '!C$21*8.91 -> 92.968722 | M10: 0 | N10: =0.5*'Given Data '!C$19*'Given Data '!C$9*'Given Data '!C$20*Sheet1!E10^2 -> 21.139177 | O10: =K10*I10 -> 261.67133 | P10: =L10+M10+N10+O10 -> 375.77923 | Q10: =IF(P10>=0,P10,IF(P10<0,-P10)) -> 375.77923 | R10: =Q10*'Given Data '!C$13 -> 95.447924 | S10: =R10/(IF(J10=1,'Given Data '!I$6,IF(J10=2,'Given Data '!I$7,IF(J10=3,'Given Data '!I$8)))) -> 5.7263846 | T10: =(Q10*H10)/1000 -> 2.435827 | U10: =60*T10*1000/(2*PI()*S10) -> 4061.9756 | V10: =ROUND(S10,0) -> 6 | W10: =MROUND(U10,500) -> 4000 | X10: =T10/3600 -> 0.00067661861 | Y10: =INDEX('Given Data '!F$15:S$37,MATCH(Sheet1!V10,'Given Data '!E$15:E$37,0),MATCH(Sheet1!W10,'Given Data '!F$38:S$38,0)) -> 603.98588 | Z10: =Y10*X10 -> 0.40866809 | AA10: =AA9+Z10 -> 3.4391847 | AB10: =AVERAGE(T$2:T$218) -> 3.4833445 | AC10: =(P10*G10)/1000 -> 12.632703
C11: =C10+1 -> 9 | D11: 16.5 | E11: =D11/2.23694 -> 7.3761478 | F11: =E11*3.6 -> 26.554132 | G11: =(E11+E10)/2+G10 -> 40.658221 | H11: =(E11+E10)/2 -> 7.0408683 | I11: =(H11-E10*1)*2 -> 0.67055889 | J11: =IF(D11<=10,1,IF(AND(D11>10,D11<=20),2,IF(D11>20,3))) -> 2 | K11: =IF(J11=1,'Given Data '!C$46,IF(J11=2,'Given Data '!C$47,IF(J11=3,'Given Data '!C$48))) -> 585.34306 | L11: ='Given Data '!C$17*'Given Data '!C$21*8.91 -> 92.968722 | M11: 0 | N11: =0.5*'Given Data '!C$19*'Given Data '!C$9*'Given Data '!C$20*Sheet1!E11^2 -> 25.578404 | O11: =K11*I11 -> 392.50699 | P11: =L11+M11+N11+O11 -> 511.05412 | Q11: =IF(P11>=0,P11,IF(P11<0,-P11)) -> 511.05412 | R11: =Q11*'Given Data '!C$13 -> 129.80775 | S11: =R11/(IF(J11=1,'Given Data '!I$6,IF(J11=2,'Given Data '!I$7,IF(J11=3,'Given Data '!I$8)))) -> 7.7877973 | T11: =(Q11*H11)/1000 -> 3.5982648 | U11: =60*T11*1000/(2*PI()*S11) -> 4412.1459 | V11: =ROUND(S11,0) -> 8 | W11: =MROUND(U11,500) -> 4500 | X11: =T11/3600 -> 0.00099951799 | Y11: =INDEX('Given Data '!F$15:S$37,MATCH(Sheet1!V11,'Given Data '!E$15:E$37,0),MATCH(Sheet1!W11,'Given Data '!F$38:S$38,0)) -> 489.46439 | Z11: =Y11*X11 -> 0.48922847 | AA11: =AA10+Z11 -> 3.9284132 | AB11: =AVERAGE(T$2:T$218) -> 3.4833445 | AC11: =(P11*G11)/1000 -> 20.778551
C12: =C11+1 -> 10 | D12: 18 | E12: =D12/2.23694 -> 8.0467067 | F12: =E12*3.6 -> 28.968144 | G12: =(E12+E11)/2+G11 -> 48.369648 | H12: =(E12+E11)/2 -> 7.7114272 | I12: =(H12-E11*1)*2 -> 0.67055889 | J12: =IF(D12<=10,1,IF(AND(D12>10,D12<=20),2,IF(D12>20,3))) -> 2 | K12: =IF(J12=1,'Given Data '!C$46,IF(J12=2,'Given Data '!C$47,IF(J12=3,'Given Data '!C$48))) -> 585.34306 | L12: ='Given Data '!C$17*'Given Data '!C$21*8.91 -> 92.968722 | M12: 0 | N12: =0.5*'Given Data '!C$19*'Given Data '!C$9*'Given Data '!C$20*Sheet1!E12^2 -> 30.440415 | O12: =K12*I12 -> 392.50699 | P12: =L12+M12+N12+O12 -> 515.91613 | Q12: =IF(P12>=0,P12,IF(P12<0,-P12)) -> 515.91613 | R12: =Q12*'Given Data '!C$13 -> 131.0427 | S12: =R12/(IF(J12=1,'Given Data '!I$6,IF(J12=2,'Given Data '!I$7,IF(J12=3,'Given Data '!I$8)))) -> 7.861888 | T12: =(Q12*H12)/1000 -> 3.9784497 | U12: =60*T12*1000/(2*PI()*S12) -> 4832.3502 | V12: =ROUND(S12,0) -> 8 | W12: =MROUND(U12,500) -> 5000 | X12: =T12/3600 -> 0.0011051249 | Y12: =INDEX('Given Data '!F$15:S$37,MATCH(Sheet1!V12,'Given Data '!E$15:E$37,0),MATCH(Sheet1!W12,'Given Data '!F$38:S$38,0)) -> 416.52538 | Z12: =Y12*X12 -> 0.46031258 | AA12: =AA11+Z12 -> 4.3887258 | AB12: =AVERAGE(T$2:T$218) -> 3.4833445 | AC12: =(P12*G12)/1000 -> 24.954682
C13: =C12+1 -> 11 | D13: 20 | E13: =D13/2.23694 -> 8.9407852 | F13: =E13*3.6 -> 32.186827 | G13: =(E13+E12)/2+G12 -> 56.863394 | H13: =(E13+E12)/2 -> 8.4937459 | I13: =(H13-E12*1)*2 -> 0.89407852 | J13: =IF(D13<=10,1,IF(AND(D13>10,D13<=20),2,IF(D13>20,3))) -> 2 | K13: =IF(J13=1,'Given Data '!C$46,IF(J13=2,'Given Data '!C$47,IF(J13=3,'Given Data '!C$48))) -> 585.34306 | L13: ='Given Data '!C$17*'Given Data '!C$21*8.91 -> 92.968722 | M13: 0 | N13: =0.5*'Given Data '!C$19*'Given Data '!C$9*'Given Data '!C$20*Sheet1!E13^2 -> 37.580759 | O13: =K13*I13 -> 523.34266 | P13: =L13+M13+N13+O13 -> 653.89214 | Q13: =IF(P13>=0,P13,IF(P13<0,-P13)) -> 653.89214 | R13: =Q13*'Given Data '!C$13 -> 166.0886 | S13: =R13/(IF(J13=1,'Given Data '!I$6,IF(J13=2,'Given Data '!I$7,IF(J13=3,'Given Data '!I$8)))) -> 9.9644621 | T13: =(Q13*H13)/1000 -> 5.5539937 | U13: =60*T13*1000/(2*PI()*S13) -> 5322.5887 | V13: =ROUND(S13,0) -> 10 | W13: =MROUND(U13,500) -> 5500 | X13: =T13/3600 -> 0.001542776 | Y13: =INDEX('Given Data '!F$15:S$37,MATCH(Sheet1!V13,'Given Data '!E$15:E$37,0),MATCH(Sheet1!W13,'Given Data '!F$38:S$38,0)) -> 359.74288 | Z13: =Y13*X13 -> 0.5550027 | AA13: =AA12+Z13 -> 4.9437285 | AB13: =AVERAGE(T$2:T$218) -> 3.4833445 | AC13: =(P13*G13)/1000 -> 37.182526
C14: =C13+1 -> 12 | D14: 20.2 | E14: =D14/2.23694 -> 9.030193 | F14: =E14*3.6 -> 32.508695 | G14: =(E14+E13)/2+G13 -> 65.848883 | H14: =(E14+E13)/2 -> 8.9854891 | I14: =(H14-E13*1)*2 -> 0.089407852 | J14: =IF(D14<=10,1,IF(AND(D14>10,D14<=20),2,IF(D14>20,3))) -> 3 | K14: =IF(J14=1,'Given Data '!C$46,IF(J14=2,'Given Data '!C$47,IF(J14=3,'Given Data '!C$48))) -> 581.23604 | L14: ='Given Data '!C$17*'Given Data '!C$21*8.91 -> 92.968722 | M14: 0 | N14: =0.5*'Given Data '!C$19*'Given Data '!C$9*'Given Data '!C$20*Sheet1!E14^2 -> 38.336132 | O14: =K14*I14 -> 51.967066 | P14: =L14+M14+N14+O14 -> 183.27192 | Q14: =IF(P14>=0,P14,IF(P14<0,-P14)) -> 183.27192 | R14: =Q14*'Given Data '!C$13 -> 46.551068 | S14: =R14/(IF(J14=1,'Given Data '!I$6,IF(J14=2,'Given Data '!I$7,IF(J14=3,'Given Data '!I$8)))) -> 3.6576994 | T14: =(Q14*H14)/1000 -> 1.6467878 | U14: =60*T14*1000/(2*PI()*S14) -> 4299.3324 | V14: =ROUND(S14,0) -> 4 | W14: =MROUND(U14,500) -> 4500 | X14: =T14/3600 -> 0.00045744107 | Y14: =INDEX('Given Data '!F$15:S$37,MATCH(Sheet1!V14,'Given Data '!E$15:E$37,0),MATCH(Sheet1!W14,'Given Data '!F$38:S$38,0)) -> 679.80911 | Z14: =Y14*X14 -> 0.3109726 | AA14: =AA13+Z14 -> 5.2547011 | AB14: =AVERAGE(T$2:T$218) -> 3.4833445 | AC14: =(P14*G14)/1000 -> 12.068251
C15: =C14+1 -> 13 | D15: 21.5 | E15: =D15/2.23694 -> 9.6113441 | F15: =E15*3.6 -> 34.600839 | G15: =(E15+E14)/2+G14 -> 75.169651 | H15: =(E15+E14)/2 -> 9.3207685 | I15: =(H15-E14*1)*2 -> 0.58115104 | J15: =IF(D15<=10,1,IF(AND(D15>10,D15<=20),2,IF(D15>20,3))) -> 3 | K15: =IF(J15=1,'Given Data '!C$46,IF(J15=2,'Given Data '!C$47,IF(J15=3,'Given Data '!C$48))) -> 581.23604 | L15: ='Given Data '!C$17*'Given Data '!C$21*8.91 -> 92.968722 | M15: 0 | N15: =0.5*'Given Data '!C$19*'Given Data '!C$9*'Given Data '!C$20*Sheet1!E15^2 -> 43.429264 | O15: =K15*I15 -> 337.78593 | P15: =L15+M15+N15+O15 -> 474.18391 | Q15: =IF(P15>=0,P15,IF(P15<0,-P15)) -> 474.18391 | R15: =Q15*'Given Data '!C$13 -> 120.44271 | S15: =R15/(IF(J15=1,'Given Data '!I$6,IF(J15=2,'Given Data '!I$7,IF(J15=3,'Given Data '!I$8)))) -> 9.463655 | T15: =(Q15*H15)/1000 -> 4.4197585 | U15: =60*T15*1000/(2*PI()*S15) -> 4459.7552 | V15: =ROUND(S15,0) -> 9 | W15: =MROUND(U15,500) -> 4500 | X15: =T15/3600 -> 0.0012277107 | Y15: =INDEX('Given Data '!F$15:S$37,MATCH(Sheet1!V15,'Given Data '!E$15:E$37,0),MATCH(Sheet1!W15,'Given Data '!F$38:S$38,0)) -> 491.51302 | Z15: =Y15*X15 -> 0.6034358 | AA15: =AA14+Z15 -> 5.8581368 | AB15: =AVERAGE(T$2:T$218) -> 3.4833445 | AC15: =(P15*G15)/1000 -> 35.64424
... C29: =C28+1 -> 27 | D29: 15 | E29: =D29/2.23694 -> 6.7055889 | F29: =E29*3.6 -> 24.14012 | G29: =(E29+E28)/2+G28 -> 221.15032 | H29: =(E29+E28)/2 -> 7.0408683 | I29: =(H29-E28*1)*2 -> -0.67055889 | J29: =IF(D29<=10,1,IF(AND(D29>10,D29<=20),2,IF(D29>20,3))) -> 2 | K29: =IF(J29=1,'Given Data '!C$46,IF(J29=2,'Given Data '!C$47,IF(J29=3,'Given Data '!C$48))) -> 585.34306 | L29: ='Given Data '!C$17*'Given Data '!C$21*8.91 -> 92.968722 | M29: 0 | N29: =0.5*'Given Data '!C$19*'Given Data '!C$9*'Given Data '!C$20*Sheet1!E29^2 -> 21.139177 | O29: =K29*I29 -> -392.50699 | P29: =L29+M29+N29+O29 -> -278.3991 | Q29: =IF(P29>=0,P29,IF(P29<0,-P29)) -> 278.3991 | R29: =Q29*'Given Data '!C$13 -> 70.71337 | S29: =R29/(IF(J29=1,'Given Data '!I$6,IF(J29=2,'Given Data '!I$7,IF(J29=3,'Given Data '!I$8)))) -> 4.2424386 | T29: =(Q29*H29)/1000 -> 1.9601714 | U29: =60*T29*1000/(2*PI()*S29) -> 4412.1459 | V29: =ROUND(S29,0) -> 4 | W29: =MROUND(U29,500) -> 4500 | X29: =T29/3600 -> 0.00054449205 | Y29: =INDEX('Given Data '!F$15:S$37,MATCH(Sheet1!V29,'Given Data '!E$15:E$37,0),MATCH(Sheet1!W29,'Given Data '!F$38:S$38,0)) -> 679.80911 | Z29: =Y29*X29 -> 0.37015065 | AA29: =AA28+Z29 -> 13.586699 | AB29: =AVERAGE(T$2:T$218) -> 3.4833445 | AC29: =(P29*G29)/1000 -> -61.568049
B30: T1 start | C30: =C29+1 -> 28 | D30: 13 | E30: =D30/2.23694 -> 5.8115104 | F30: =E30*3.6 -> 20.921437 | G30: =(E30+E29)/2+G29 -> 227.40887 | H30: =(E30+E29)/2 -> 6.2585496 | I30: =(H30-E29*1)*2 -> -0.89407852 | J30: =IF(D30<=10,1,IF(AND(D30>10,D30<=20),2,IF(D30>20,3))) -> 2 | K30: =IF(J30=1,'Given Data '!C$46,IF(J30=2,'Given Data '!C$47,IF(J30=3,'Given Data '!C$48))) -> 585.34306 | L30: ='Given Data '!C$17*'Given Data '!C$21*8.91 -> 92.968722 | M30: 0 | N30: =0.5*'Given Data '!C$19*'Given Data '!C$9*'Given Data '!C$20*Sheet1!E30^2 -> 15.877871 | O30: =K30*I30 -> -523.34266 | P30: =L30+M30+N30+O30 -> -414.49607 | Q30: =IF(P30>=0,P30,IF(P30<0,-P30)) -> 414.49607 | R30: =Q30*'Given Data '!C$13 -> 105.282 | S30: =R30/(IF(J30=1,'Given Data '!I$6,IF(J30=2,'Given Data '!I$7,IF(J30=3,'Given Data '!I$8)))) -> 6.3163787 | T30: =(Q30*H30)/1000 -> 2.5941442 | U30: =60*T30*1000/(2*PI()*S30) -> 3921.9074 | V30: =ROUND(S30,0) -> 6 | W30: =MROUND(U30,500) -> 4000 | X30: =T30/3600 -> 0.00072059561 | Y30: =INDEX('Given Data '!F$15:S$37,MATCH(Sheet1!V30,'Given Data '!E$15:E$37,0),MATCH(Sheet1!W30,'Given Data '!F$38:S$38,0)) -> 603.98588 | Z30: =Y30*X30 -> 0.43522958 | AA30: =AA29+Z30 -> 14.021928 | AB30: =AVERAGE(T$2:T$218) -> 3.4833445 | AC30: =(P30*G30)/1000 -> -94.260083
C31: =C30+1 -> 29 | D31: 13 | E31: =D31/2.23694 -> 5.8115104 | F31: =E31*3.6 -> 20.921437 | G31: =(E31+E30)/2+G30 -> 233.22038 | H31: =(E31+E30)/2 -> 5.8115104 | I31: =(H31-E30*1)*2 -> 0 | J31: =IF(D31<=10,1,IF(AND(D31>10,D31<=20),2,IF(D31>20,3))) -> 2 | K31: =IF(J31=1,'Given Data '!C$46,IF(J31=2,'Given Data '!C$47,IF(J31=3,'Given Data '!C$48))) -> 585.34306 | L31: ='Given Data '!C$17*'Given Data '!C$21*8.91 -> 92.968722 | M31: 0 | N31: =0.5*'Given Data '!C$19*'Given Data '!C$9*'Given Data '!C$20*Sheet1!E31^2 -> 15.877871 | O31: =K31*I31 -> 0 | P31: =L31+M31+N31+O31 -> 108.84659 | Q31: =IF(P31>=0,P31,IF(P31<0,-P31)) -> 108.84659 | R31: =Q31*'Given Data '!C$13 -> 27.647035 | S31: =R31/(IF(J31=1,'Given Data '!I$6,IF(J31=2,'Given Data '!I$7,IF(J31=3,'Given Data '!I$8)))) -> 1.6586799 | T31: =(Q31*H31)/1000 -> 0.6325631 | U31: =60*T31*1000/(2*PI()*S31) -> 3641.7712 | V31: =ROUND(S31,0) -> 2 | W31: =MROUND(U31,500) -> 3500 | X31: =T31/3600 -> 0.00017571197 | Y31: =INDEX('Given Data '!F$15:S$37,MATCH(Sheet1!V31,'Given Data '!E$15:E$37,0),MATCH(Sheet1!W31,'Given Data '!F$38:S$38,0)) -> 833.54953 | Z31: =Y31*X31 -> 0.14646463 | AA31: =AA30+Z31 -> 14.168393 | AB31: =AVERAGE(T$2:T$218) -> 3.4833445 | AC31: =(P31*G31)/1000 -> 25.385244
C32: =C31+1 -> 30 | D32: 13 | E32: =D32/2.23694 -> 5.8115104 | F32: =E32*3.6 -> 20.921437 | G32: =(E32+E31)/2+G31 -> 239.03189 | H32: =(E32+E31)/2 -> 5.8115104 | I32: =(H32-E31*1)*2 -> 0 | J32: =IF(D32<=10,1,IF(AND(D32>10,D32<=20),2,IF(D32>20,3))) -> 2 | K32: =IF(J32=1,'Given Data '!C$46,IF(J32=2,'Given Data '!C$47,IF(J32=3,'Given Data '!C$48))) -> 585.34306 | L32: ='Given Data '!C$17*'Given Data '!C$21*8.91 -> 92.968722 | M32: 0 | N32: =0.5*'Given Data '!C$19*'Given Data '!C$9*'Given Data '!C$20*Sheet1!E32^2 -> 15.877871 | O32: =K32*I32 -> 0 | P32: =L32+M32+N32+O32 -> 108.84659 | Q32: =IF(P32>=0,P32,IF(P32<0,-P32)) -> 108.84659 | R32: =Q32*'Given Data '!C$13 -> 27.647035 | S32: =R32/(IF(J32=1,'Given Data '!I$6,IF(J32=2,'Given Data '!I$7,IF(J32=3,'Given Data '!I$8)))) -> 1.6586799 | T32: =(Q32*H32)/1000 -> 0.6325631 | U32: =60*T32*1000/(2*PI()*S32) -> 3641.7712 | V32: =ROUND(S32,0) -> 2 | W32: =MROUND(U32,500) -> 3500 | X32: =T32/3600 -> 0.00017571197 | Y32: =INDEX('Given Data '!F$15:S$37,MATCH(Sheet1!V32,'Given Data '!E$15:E$37,0),MATCH(Sheet1!W32,'Given Data '!F$38:S$38,0)) -> 833.54953 | Z32: =Y32*X32 -> 0.14646463 | AA32: =AA31+Z32 -> 14.314858 | AB32: =AVERAGE(T$2:T$218) -> 3.4833445 | AC32: =(P32*G32)/1000 -> 26.017807
C33: =C32+1 -> 31 | D33: 13 | E33: =D33/2.23694 -> 5.8115104 | F33: =E33*3.6 -> 20.921437 | G33: =(E33+E32)/2+G32 -> 244.8434 | H33: =(E33+E32)/2 -> 5.8115104 | I33: =(H33-E32*1)*2 -> 0 | J33: =IF(D33<=10,1,IF(AND(D33>10,D33<=20),2,IF(D33>20,3))) -> 2 | K33: =IF(J33=1,'Given Data '!C$46,IF(J33=2,'Given Data '!C$47,IF(J33=3,'Given Data '!C$48))) -> 585.34306 | L33: ='Given Data '!C$17*'Given Data '!C$21*8.91 -> 92.968722 | M33: 0 | N33: =0.5*'Given Data '!C$19*'Given Data '!C$9*'Given Data '!C$20*Sheet1!E33^2 -> 15.877871 | O33: =K33*I33 -> 0 | P33: =L33+M33+N33+O33 -> 108.84659 | Q33: =IF(P33>=0,P33,IF(P33<0,-P33)) -> 108.84659 | R33: =Q33*'Given Data '!C$13 -> 27.647035 | S33: =R33/(IF(J33=1,'Given Data '!I$6,IF(J33=2,'Given Data '!I$7,IF(J33=3,'Given Data '!I$8)))) -> 1.6586799 | T33: =(Q33*H33)/1000 -> 0.6325631 | U33: =60*T33*1000/(2*PI()*S33) -> 3641.7712 | V33: =ROUND(S33,0) -> 2 | W33: =MROUND(U33,500) -> 3500 | X33: =T33/3600 -> 0.00017571197 | Y33: =INDEX('Given Data '!F$15:S$37,MATCH(Sheet1!V33,'Given Data '!E$15:E$37,0),MATCH(Sheet1!W33,'Given Data '!F$38:S$38,0)) -> 833.54953 | Z33: =Y33*X33 -> 0.14646463 | AA33: =AA32+Z33 -> 14.461322 | AB33: =AVERAGE(T$2:T$218) -> 3.4833445 | AC33: =(P33*G33)/1000 -> 26.65037
C34: =C33+1 -> 32 | D34: 13 | E34: =D34/2.23694 -> 5.8115104 | F34: =E34*3.6 -> 20.921437 | G34: =(E34+E33)/2+G33 -> 250.65491 | H34: =(E34+E33)/2 -> 5.8115104 | I34: =(H34-E33*1)*2 -> 0 | J34: =IF(D34<=10,1,IF(AND(D34>10,D34<=20),2,IF(D34>20,3))) -> 2 | K34: =IF(J34=1,'Given Data '!C$46,IF(J34=2,'Given Data '!C$47,IF(J34=3,'Given Data '!C$48))) -> 585.34306 | L34: ='Given Data '!C$17*'Given Data '!C$21*8.91 -> 92.968722 | M34: 0 | N34: =0.5*'Given Data '!C$19*'Given Data '!C$9*'Given Data '!C$20*Sheet1!E34^2 -> 15.877871 | O34: =K34*I34 -> 0 | P34: =L34+M34+N34+O34 -> 108.84659 | Q34: =IF(P34>=0,P34,IF(P34<0,-P34)) -> 108.84659 | R34: =Q34*'Given Data '!C$13 -> 27.647035 | S34: =R34/(IF(J34=1,'Given Data '!I$6,IF(J34=2,'Given Data '!I$7,IF(J34=3,'Given Data '!I$8)))) -> 1.6586799 | T34: =(Q34*H34)/1000 -> 0.6325631 | U34: =60*T34*1000/(2*PI()*S34) -> 3641.7712 | V34: =ROUND(S34,0) -> 2 | W34: =MROUND(U34,500) -> 3500 | X34: =T34/3600 -> 0.00017571197 | Y34: =INDEX('Given Data '!F$15:S$37,MATCH(Sheet1!V34,'Given Data '!E$15:E$37,0),MATCH(Sheet1!W34,'Given Data '!F$38:S$38,0)) -> 833.54953 | Z34: =Y34*X34 -> 0.14646463 | AA34: =AA33+Z34 -> 14.607787 | AB34: =AVERAGE(T$2:T$218) -> 3.4833445 | AC34: =(P34*G34)/1000 -> 27.282933
C35: =C34+1 -> 33 | D35: 13 | E35: =D35/2.23694 -> 5.8115104 | F35: =E35*3.6 -> 20.921437 | G35: =(E35+E34)/2+G34 -> 256.46642 | H35: =(E35+E34)/2 -> 5.8115104 | I35: =(H35-E34*1)*2 -> 0 | J35: =IF(D35<=10,1,IF(AND(D35>10,D35<=20),2,IF(D35>20,3))) -> 2 | K35: =IF(J35=1,'Given Data '!C$46,IF(J35=2,'Given Data '!C$47,IF(J35=3,'Given Data '!C$48))) -> 585.34306 | L35: ='Given Data '!C$17*'Given Data '!C$21*8.91 -> 92.968722 | M35: 0 | N35: =0.5*'Given Data '!C$19*'Given Data '!C$9*'Given Data '!C$20*Sheet1!E35^2 -> 15.877871 | O35: =K35*I35 -> 0 | P35: =L35+M35+N35+O35 -> 108.84659 | Q35: =IF(P35>=0,P35,IF(P35<0,-P35)) -> 108.84659 | R35: =Q35*'Given Data '!C$13 -> 27.647035 | S35: =R35/(IF(J35=1,'Given Data '!I$6,IF(J35=2,'Given Data '!I$7,IF(J35=3,'Given Data '!I$8)))) -> 1.6586799 | T35: =(Q35*H35)/1000 -> 0.6325631 | U35: =60*T35*1000/(2*PI()*S35) -> 3641.7712 | V35: =ROUND(S35,0) -> 2 | W35: =MROUND(U35,500) -> 3500 | X35: =T35/3600 -> 0.00017571197 | Y35: =INDEX('Given Data '!F$15:S$37,MATCH(Sheet1!V35,'Given Data '!E$15:E$37,0),MATCH(Sheet1!W35,'Given Data '!F$38:S$38,0)) -> 833.54953 | Z35: =Y35*X35 -> 0.14646463 | AA35: =AA34+Z35 -> 14.754252 | AB35: =AVERAGE(T$2:T$218) -> 3.4833445 | AC35: =(P35*G35)/1000 -> 27.915496
B36: T1 finish | C36: =C35+1 -> 34 | D36: 13 | E36: =D36/2.23694 -> 5.8115104 | F36: =E36*3.6 -> 20.921437 | G36: =(E36+E35)/2+G35 -> 262.27793 | H36: =(E36+E35)/2 -> 5.8115104 | I36: =(H36-E35*1)*2 -> 0 | J36: =IF(D36<=10,1,IF(AND(D36>10,D36<=20),2,IF(D36>20,3))) -> 2 | K36: =IF(J36=1,'Given Data '!C$46,IF(J36=2,'Given Data '!C$47,IF(J36=3,'Given Data '!C$48))) -> 585.34306 | L36: ='Given Data '!C$17*'Given Data '!C$21*8.91 -> 92.968722 | M36: 0 | N36: =0.5*'Given Data '!C$19*'Given Data '!C$9*'Given Data '!C$20*Sheet1!E36^2 -> 15.877871 | O36: =K36*I36 -> 0 | P36: =L36+M36+N36+O36 -> 108.84659 | Q36: =IF(P36>=0,P36,IF(P36<0,-P36)) -> 108.84659 | R36: =Q36*'Given Data '!C$13 -> 27.647035 | S36: =R36/(IF(J36=1,'Given Data '!I$6,IF(J36=2,'Given Data '!I$7,IF(J36=3,'Given Data '!I$8)))) -> 1.6586799 | T36: =(Q36*H36)/1000 -> 0.6325631 | U36: =60*T36*1000/(2*PI()*S36) -> 3641.7712 | V36: =ROUND(S36,0) -> 2 | W36: =MROUND(U36,500) -> 3500 | X36: =T36/3600 -> 0.00017571197 | Y36: =INDEX('Given Data '!F$15:S$37,MATCH(Sheet1!V36,'Given Data '!E$15:E$37,0),MATCH(Sheet1!W36,'Given Data '!F$38:S$38,0)) -> 833.54953 | Z36: =Y36*X36 -> 0.14646463 | AA36: =AA35+Z36 -> 14.900716 | AB36: =AVERAGE(T$2:T$218) -> 3.4833445 | AC36: =(P36*G36)/1000 -> 28.548059
C37: =C36+1 -> 35 | D37: 15 | E37: =D37/2.23694 -> 6.7055889 | F37: =E37*3.6 -> 24.14012 | G37: =(E37+E36)/2+G36 -> 268.53648 | H37: =(E37+E36)/2 -> 6.2585496 | I37: =(H37-E36*1)*2 -> 0.89407852 | J37: =IF(D37<=10,1,IF(AND(D37>10,D37<=20),2,IF(D37>20,3))) -> 2 | K37: =IF(J37=1,'Given Data '!C$46,IF(J37=2,'Given Data '!C$47,IF(J37=3,'Given Data '!C$48))) -> 585.34306 | L37: ='Given Data '!C$17*'Given Data '!C$21*8.91 -> 92.968722 | M37: 0 | N37: =0.5*'Given Data '!C$19*'Given Data '!C$9*'Given Data '!C$20*Sheet1!E37^2 -> 21.139177 | O37: =K37*I37 -> 523.34266 | P37: =L37+M37+N37+O37 -> 637.45056 | Q37: =IF(P37>=0,P37,IF(P37<0,-P37)) -> 637.45056 | R37: =Q37*'Given Data '!C$13 -> 161.91244 | S37: =R37/(IF(J37=1,'Given Data '!I$6,IF(J37=2,'Given Data '!I$7,IF(J37=3,'Given Data '!I$8)))) -> 9.7139139 | T37: =(Q37*H37)/1000 -> 3.989516 | U37: =60*T37*1000/(2*PI()*S37) -> 3921.9074 | V37: =ROUND(S37,0) -> 10 | W37: =MROUND(U37,500) -> 4000 | X37: =T37/3600 -> 0.0011081989 | Y37: =INDEX('Given Data '!F$15:S$37,MATCH(Sheet1!V37,'Given Data '!E$15:E$37,0),MATCH(Sheet1!W37,'Given Data '!F$38:S$38,0)) -> 495.94176 | Z37: =Y37*X37 -> 0.54960211 | AA37: =AA36+Z37 -> 15.450318 | AB37: =AVERAGE(T$2:T$218) -> 3.4833445 | AC37: =(P37*G37)/1000 -> 171.17873
C38: =C37+1 -> 36 | D38: 16 | E38: =D38/2.23694 -> 7.1526281 | F38: =E38*3.6 -> 25.749461 | G38: =(E38+E37)/2+G37 -> 275.46559 | H38: =(E38+E37)/2 -> 6.9291085 | I38: =(H38-E37*1)*2 -> 0.44703926 | J38: =IF(D38<=10,1,IF(AND(D38>10,D38<=20),2,IF(D38>20,3))) -> 2 | K38: =IF(J38=1,'Given Data '!C$46,IF(J38=2,'Given Data '!C$47,IF(J38=3,'Given Data '!C$48))) -> 585.34306 | L38: ='Given Data '!C$17*'Given Data '!C$21*8.91 -> 92.968722 | M38: 0 | N38: =0.5*'Given Data '!C$19*'Given Data '!C$9*'Given Data '!C$20*Sheet1!E38^2 -> 24.051686 | O38: =K38*I38 -> 261.67133 | P38: =L38+M38+N38+O38 -> 378.69174 | Q38: =IF(P38>=0,P38,IF(P38<0,-P38)) -> 378.69174 | R38: =Q38*'Given Data '!C$13 -> 96.187701 | S38: =R38/(IF(J38=1,'Given Data '!I$6,IF(J38=2,'Given Data '!I$7,IF(J38=3,'Given Data '!I$8)))) -> 5.7707674 | T38: =(Q38*H38)/1000 -> 2.6239961 | U38: =60*T38*1000/(2*PI()*S38) -> 4342.1118 | V38: =ROUND(S38,0) -> 6 | W38: =MROUND(U38,500) -> 4500 | X38: =T38/3600 -> 0.00072888782 | Y38: =INDEX('Given Data '!F$15:S$37,MATCH(Sheet1!V38,'Given Data '!E$15:E$37,0),MATCH(Sheet1!W38,'Given Data '!F$38:S$38,0)) -> 560.7605 | Z38: =Y38*X38 -> 0.40873149 | AA38: =AA37+Z38 -> 15.85905 | AB38: =AVERAGE(T$2:T$218) -> 3.4833445 | AC38: =(P38*G38)/1000 -> 104.31654
C39: =C38+1 -> 37 | D39: 15 | E39: =D39/2.23694 -> 6.7055889 | F39: =E39*3.6 -> 24.14012 | G39: =(E39+E38)/2+G38 -> 282.3947 | H39: =(E39+E38)/2 -> 6.9291085 | I39: =(H39-E38*1)*2 -> -0.44703926 | J39: =IF(D39<=10,1,IF(AND(D39>10,D39<=20),2,IF(D39>20,3))) -> 2 | K39: =IF(J39=1,'Given Data '!C$46,IF(J39=2,'Given Data '!C$47,IF(J39=3,'Given Data '!C$48))) -> 585.34306 | L39: ='Given Data '!C$17*'Given Data '!C$21*8.91 -> 92.968722 | M39: 0 | N39: =0.5*'Given Data '!C$19*'Given Data '!C$9*'Given Data '!C$20*Sheet1!E39^2 -> 21.139177 | O39: =K39*I39 -> -261.67133 | P39: =L39+M39+N39+O39 -> -147.56343 | Q39: =IF(P39>=0,P39,IF(P39<0,-P39)) -> 147.56343 | R39: =Q39*'Given Data '!C$13 -> 37.481111 | S39: =R39/(IF(J39=1,'Given Data '!I$6,IF(J39=2,'Given Data '!I$7,IF(J39=3,'Given Data '!I$8)))) -> 2.2486739 | T39: =(Q39*H39)/1000 -> 1.022483 | U39: =60*T39*1000/(2*PI()*S39) -> 4342.1118 | V39: =ROUND(S39,0) -> 2 | W39: =MROUND(U39,500) -> 4500 | X39: =T39/3600 -> 0.00028402306 | Y39: =INDEX('Given Data '!F$15:S$37,MATCH(Sheet1!V39,'Given Data '!E$15:E$37,0),MATCH(Sheet1!W39,'Given Data '!F$38:S$38,0)) -> 828.30575 | Z39: =Y39*X39 -> 0.23525794 | AA39: =AA38+Z39 -> 16.094308 | AB39: =AVERAGE(T$2:T$218) -> 3.4833445 | AC39: =(P39*G39)/1000 -> -41.671131
C40: =C39+1 -> 38 | D40: 14 | E40: =D40/2.23694 -> 6.2585496 | F40: =E40*3.6 -> 22.530779 | G40: =(E40+E39)/2+G39 -> 288.87677 | H40: =(E40+E39)/2 -> 6.4820693 | I40: =(H40-E39*1)*2 -> -0.44703926 | J40: =IF(D40<=10,1,IF(AND(D40>10,D40<=20),2,IF(D40>20,3))) -> 2 | K40: =IF(J40=1,'Given Data '!C$46,IF(J40=2,'Given Data '!C$47,IF(J40=3,'Given Data '!C$48))) -> 585.34306 | L40: ='Given Data '!C$17*'Given Data '!C$21*8.91 -> 92.968722 | M40: 0 | N40: =0.5*'Given Data '!C$19*'Given Data '!C$9*'Given Data '!C$20*Sheet1!E40^2 -> 18.414572 | O40: =K40*I40 -> -261.67133 | P40: =L40+M40+N40+O40 -> -150.28804 | Q40: =IF(P40>=0,P40,IF(P40<0,-P40)) -> 150.28804 | R40: =Q40*'Given Data '!C$13 -> 38.173161 | S40: =R40/(IF(J40=1,'Given Data '!I$6,IF(J40=2,'Given Data '!I$7,IF(J40=3,'Given Data '!I$8)))) -> 2.2901934 | T40: =(Q40*H40)/1000 -> 0.97417746 | U40: =60*T40*1000/(2*PI()*S40) -> 4061.9756 | V40: =ROUND(S40,0) -> 2 | W40: =MROUND(U40,500) -> 4000 | X40: =T40/3600 -> 0.00027060485 | Y40: =INDEX('Given Data '!F$15:S$37,MATCH(Sheet1!V40,'Given Data '!E$15:E$37,0),MATCH(Sheet1!W40,'Given Data '!F$38:S$38,0)) -> 845.6519 | Z40: =Y40*X40 -> 0.2288375 | AA40: =AA39+Z40 -> 16.323145 | AB40: =AVERAGE(T$2:T$218) -> 3.4833445 | AC40: =(P40*G40)/1000 -> -43.414722
C41: =C40+1 -> 39 | D41: 13 | E41: =D41/2.23694 -> 5.8115104 | F41: =E41*3.6 -> 20.921437 | G41: =(E41+E40)/2+G40 -> 294.9118 | H41: =(E41+E40)/2 -> 6.03503 | I41: =(H41-E40*1)*2 -> -0.44703926 | J41: =IF(D41<=10,1,IF(AND(D41>10,D41<=20),2,IF(D41>20,3))) -> 2 | K41: =IF(J41=1,'Given Data '!C$46,IF(J41=2,'Given Data '!C$47,IF(J41=3,'Given Data '!C$48))) -> 585.34306 | L41: ='Given Data '!C$17*'Given Data '!C$21*8.91 -> 92.968722 | M41: 0 | N41: =0.5*'Given Data '!C$19*'Given Data '!C$9*'Given Data '!C$20*Sheet1!E41^2 -> 15.877871 | O41: =K41*I41 -> -261.67133 | P41: =L41+M41+N41+O41 -> -152.82474 | Q41: =IF(P41>=0,P41,IF(P41<0,-P41)) -> 152.82474 | R41: =Q41*'Given Data '!C$13 -> 38.817483 | S41: =R41/(IF(J41=1,'Given Data '!I$6,IF(J41=2,'Given Data '!I$7,IF(J41=3,'Given Data '!I$8)))) -> 2.3288494 | T41: =(Q41*H41)/1000 -> 0.92230187 | U41: =60*T41*1000/(2*PI()*S41) -> 3781.8393 | V41: =ROUND(S41,0) -> 2 | W41: =MROUND(U41,500) -> 4000 | X41: =T41/3600 -> 0.00025619496 | Y41: =INDEX('Given Data '!F$15:S$37,MATCH(Sheet1!V41,'Given Data '!E$15:E$37,0),MATCH(Sheet1!W41,'Given Data '!F$38:S$38,0)) -> 845.6519 | Z41: =Y41*X41 -> 0.21665176 | AA41: =AA40+Z41 -> 16.539797 | AB41: =AVERAGE(T$2:T$218) -> 3.4833445 | AC41: =(P41*G41)/1000 -> -45.069818
B42: T2 start | C42: =C41+1 -> 40 | D42: 13 | E42: =D42/2.23694 -> 5.8115104 | F42: =E42*3.6 -> 20.921437 | G42: =(E42+E41)/2+G41 -> 300.72331 | H42: =(E42+E41)/2 -> 5.8115104 | I42: =(H42-E41*1)*2 -> 0 | J42: =IF(D42<=10,1,IF(AND(D42>10,D42<=20),2,IF(D42>20,3))) -> 2 | K42: =IF(J42=1,'Given Data '!C$46,IF(J42=2,'Given Data '!C$47,IF(J42=3,'Given Data '!C$48))) -> 585.34306 | L42: ='Given Data '!C$17*'Given Data '!C$21*8.91 -> 92.968722 | M42: 0 | N42: =0.5*'Given Data '!C$19*'Given Data '!C$9*'Given Data '!C$20*Sheet1!E42^2 -> 15.877871 | O42: =K42*I42 -> 0 | P42: =L42+M42+N42+O42 -> 108.84659 | Q42: =IF(P42>=0,P42,IF(P42<0,-P42)) -> 108.84659 | R42: =Q42*'Given Data '!C$13 -> 27.647035 | S42: =R42/(IF(J42=1,'Given Data '!I$6,IF(J42=2,'Given Data '!I$7,IF(J42=3,'Given Data '!I$8)))) -> 1.6586799 | T42: =(Q42*H42)/1000 -> 0.6325631 | U42: =60*T42*1000/(2*PI()*S42) -> 3641.7712 | V42: =ROUND(S42,0) -> 2 | W42: =MROUND(U42,500) -> 3500 | X42: =T42/3600 -> 0.00017571197 | Y42: =INDEX('Given Data '!F$15:S$37,MATCH(Sheet1!V42,'Given Data '!E$15:E$37,0),MATCH(Sheet1!W42,'Given Data '!F$38:S$38,0)) -> 833.54953 | Z42: =Y42*X42 -> 0.14646463 | AA42: =AA41+Z42 -> 16.686262 | AB42: =AVERAGE(T$2:T$218) -> 3.4833445 | AC42: =(P42*G42)/1000 -> 32.732708
C43: =C42+1 -> 41 | D43: 13 | E43: =D43/2.23694 -> 5.8115104 | F43: =E43*3.6 -> 20.921437 | G43: =(E43+E42)/2+G42 -> 306.53482 | H43: =(E43+E42)/2 -> 5.8115104 | I43: =(H43-E42*1)*2 -> 0 | J43: =IF(D43<=10,1,IF(AND(D43>10,D43<=20),2,IF(D43>20,3))) -> 2 | K43: =IF(J43=1,'Given Data '!C$46,IF(J43=2,'Given Data '!C$47,IF(J43=3,'Given Data '!C$48))) -> 585.34306 | L43: ='Given Data '!C$17*'Given Data '!C$21*8.91 -> 92.968722 | M43: 0 | N43: =0.5*'Given Data '!C$19*'Given Data '!C$9*'Given Data '!C$20*Sheet1!E43^2 -> 15.877871 | O43: =K43*I43 -> 0 | P43: =L43+M43+N43+O43 -> 108.84659 | Q43: =IF(P43>=0,P43,IF(P43<0,-P43)) -> 108.84659 | R43: =Q43*'Given Data '!C$13 -> 27.647035 | S43: =R43/(IF(J43=1,'Given Data '!I$6,IF(J43=2,'Given Data '!I$7,IF(J43=3,'Given Data '!I$8)))) -> 1.6586799 | T43: =(Q43*H43)/1000 -> 0.6325631 | U43: =60*T43*1000/(2*PI()*S43) -> 3641.7712 | V43: =ROUND(S43,0) -> 2 | W43: =MROUND(U43,500) -> 3500 | X43: =T43/3600 -> 0.00017571197 | Y43: =INDEX('Given Data '!F$15:S$37,MATCH(Sheet1!V43,'Given Data '!E$15:E$37,0),MATCH(Sheet1!W43,'Given Data '!F$38:S$38,0)) -> 833.54953 | Z43: =Y43*X43 -> 0.14646463 | AA43: =AA42+Z43 -> 16.832726 | AB43: =AVERAGE(T$2:T$218) -> 3.4833445 | AC43: =(P43*G43)/1000 -> 33.365271
C44: =C43+1 -> 42 | D44: 13 | E44: =D44/2.23694 -> 5.8115104 | F44: =E44*3.6 -> 20.921437 | G44: =(E44+E43)/2+G43 -> 312.34633 | H44: =(E44+E43)/2 -> 5.8115104 | I44: =(H44-E43*1)*2 -> 0 | J44: =IF(D44<=10,1,IF(AND(D44>10,D44<=20),2,IF(D44>20,3))) -> 2 | K44: =IF(J44=1,'Given Data '!C$46,IF(J44=2,'Given Data '!C$47,IF(J44=3,'Given Data '!C$48))) -> 585.34306 | L44: ='Given Data '!C$17*'Given Data '!C$21*8.91 -> 92.968722 | M44: 0 | N44: =0.5*'Given Data '!C$19*'Given Data '!C$9*'Given Data '!C$20*Sheet1!E44^2 -> 15.877871 | O44: =K44*I44 -> 0 | P44: =L44+M44+N44+O44 -> 108.84659 | Q44: =IF(P44>=0,P44,IF(P44<0,-P44)) -> 108.84659 | R44: =Q44*'Given Data '!C$13 -> 27.647035 | S44: =R44/(IF(J44=1,'Given Data '!I$6,IF(J44=2,'Given Data '!I$7,IF(J44=3,'Given Data '!I$8)))) -> 1.6586799 | T44: =(Q44*H44)/1000 -> 0.6325631 | U44: =60*T44*1000/(2*PI()*S44) -> 3641.7712 | V44: =ROUND(S44,0) -> 2 | W44: =MROUND(U44,500) -> 3500 | X44: =T44/3600 -> 0.00017571197 | Y44: =INDEX('Given Data '!F$15:S$37,MATCH(Sheet1!V44,'Given Data '!E$15:E$37,0),MATCH(Sheet1!W44,'Given Data '!F$38:S$38,0)) -> 833.54953 | Z44: =Y44*X44 -> 0.14646463 | AA44: =AA43+Z44 -> 16.979191 | AB44: =AVERAGE(T$2:T$218) -> 3.4833445 | AC44: =(P44*G44)/1000 -> 33.997834
C45: =C44+1 -> 43 | D45: 13 | E45: =D45/2.23694 -> 5.8115104 | F45: =E45*3.6 -> 20.921437 | G45: =(E45+E44)/2+G44 -> 318.15784 | H45: =(E45+E44)/2 -> 5.8115104 | I45: =(H45-E44*1)*2 -> 0 | J45: =IF(D45<=10,1,IF(AND(D45>10,D45<=20),2,IF(D45>20,3))) -> 2 | K45: =IF(J45=1,'Given Data '!C$46,IF(J45=2,'Given Data '!C$47,IF(J45=3,'Given Data '!C$48))) -> 585.34306 | L45: ='Given Data '!C$17*'Given Data '!C$21*8.91 -> 92.968722 | M45: 0 | N45: =0.5*'Given Data '!C$19*'Given Data '!C$9*'Given Data '!C$20*Sheet1!E45^2 -> 15.877871 | O45: =K45*I45 -> 0 | P45: =L45+M45+N45+O45 -> 108.84659 | Q45: =IF(P45>=0,P45,IF(P45<0,-P45)) -> 108.84659 | R45: =Q45*'Given Data '!C$13 -> 27.647035 | S45: =R45/(IF(J45=1,'Given Data '!I$6,IF(J45=2,'Given Data '!I$7,IF(J45=3,'Given Data '!I$8)))) -> 1.6586799 | T45: =(Q45*H45)/1000 -> 0.6325631 | U45: =60*T45*1000/(2*PI()*S45) -> 3641.7712 | V45: =ROUND(S45,0) -> 2 | W45: =MROUND(U45,500) -> 3500 | X45: =T45/3600 -> 0.00017571197 | Y45: =INDEX('Given Data '!F$15:S$37,MATCH(Sheet1!V45,'Given Data '!E$15:E$37,0),MATCH(Sheet1!W45,'Given Data '!F$38:S$38,0)) -> 833.54953 | Z45: =Y45*X45 -> 0.14646463 | AA45: =AA44+Z45 -> 17.125656 | AB45: =AVERAGE(T$2:T$218) -> 3.4833445 | AC45: =(P45*G45)/1000 -> 34.630397
C46: =C45+1 -> 44 | D46: 13 | E46: =D46/2.23694 -> 5.8115104 | F46: =E46*3.6 -> 20.921437 | G46: =(E46+E45)/2+G45 -> 323.96935 | H46: =(E46+E45)/2 -> 5.8115104 | I46: =(H46-E45*1)*2 -> 0 | J46: =IF(D46<=10,1,IF(AND(D46>10,D46<=20),2,IF(D46>20,3))) -> 2 | K46: =IF(J46=1,'Given Data '!C$46,IF(J46=2,'Given Data '!C$47,IF(J46=3,'Given Data '!C$48))) -> 585.34306 | L46: ='Given Data '!C$17*'Given Data '!C$21*8.91 -> 92.968722 | M46: 0 | N46: =0.5*'Given Data '!C$19*'Given Data '!C$9*'Given Data '!C$20*Sheet1!E46^2 -> 15.877871 | O46: =K46*I46 -> 0 | P46: =L46+M46+N46+O46 -> 108.84659 | Q46: =IF(P46>=0,P46,IF(P46<0,-P46)) -> 108.84659 | R46: =Q46*'Given Data '!C$13 -> 27.647035 | S46: =R46/(IF(J46=1,'Given Data '!I$6,IF(J46=2,'Given Data '!I$7,IF(J46=3,'Given Data '!I$8)))) -> 1.6586799 | T46: =(Q46*H46)/1000 -> 0.6325631 | U46: =60*T46*1000/(2*PI()*S46) -> 3641.7712 | V46: =ROUND(S46,0) -> 2 | W46: =MROUND(U46,500) -> 3500 | X46: =T46/3600 -> 0.00017571197 | Y46: =INDEX('Given Data '!F$15:S$37,MATCH(Sheet1!V46,'Given Data '!E$15:E$37,0),MATCH(Sheet1!W46,'Given Data '!F$38:S$38,0)) -> 833.54953 | Z46: =Y46*X46 -> 0.14646463 | AA46: =AA45+Z46 -> 17.27212 | AB46: =AVERAGE(T$2:T$218) -> 3.4833445 | AC46: =(P46*G46)/1000 -> 35.26296
C47: =C46+1 -> 45 | D47: 13 | E47: =D47/2.23694 -> 5.8115104 | F47: =E47*3.6 -> 20.921437 | G47: =(E47+E46)/2+G46 -> 329.78086 | H47: =(E47+E46)/2 -> 5.8115104 | I47: =(H47-E46*1)*2 -> 0 | J47: =IF(D47<=10,1,IF(AND(D47>10,D47<=20),2,IF(D47>20,3))) -> 2 | K47: =IF(J47=1,'Given Data '!C$46,IF(J47=2,'Given Data '!C$47,IF(J47=3,'Given Data '!C$48))) -> 585.34306 | L47: ='Given Data '!C$17*'Given Data '!C$21*8.91 -> 92.968722 | M47: 0 | N47: =0.5*'Given Data '!C$19*'Given Data '!C$9*'Given Data '!C$20*Sheet1!E47^2 -> 15.877871 | O47: =K47*I47 -> 0 | P47: =L47+M47+N47+O47 -> 108.84659 | Q47: =IF(P47>=0,P47,IF(P47<0,-P47)) -> 108.84659 | R47: =Q47*'Given Data '!C$13 -> 27.647035 | S47: =R47/(IF(J47=1,'Given Data '!I$6,IF(J47=2,'Given Data '!I$7,IF(J47=3,'Given Data '!I$8)))) -> 1.6586799 | T47: =(Q47*H47)/1000 -> 0.6325631 | U47: =60*T47*1000/(2*PI()*S47) -> 3641.7712 | V47: =ROUND(S47,0) -> 2 | W47: =MROUND(U47,500) -> 3500 | X47: =T47/3600 -> 0.00017571197 | Y47: =INDEX('Given Data '!F$15:S$37,MATCH(Sheet1!V47,'Given Data '!E$15:E$37,0),MATCH(Sheet1!W47,'Given Data '!F$38:S$38,0)) -> 833.54953 | Z47: =Y47*X47 -> 0.14646463 | AA47: =AA46+Z47 -> 17.418585 | AB47: =AVERAGE(T$2:T$218) -> 3.4833445 | AC47: =(P47*G47)/1000 -> 35.895523
C48: =C47+1 -> 46 | D48: 13 | E48: =D48/2.23694 -> 5.8115104 | F48: =E48*3.6 -> 20.921437 | G48: =(E48+E47)/2+G47 -> 335.59237 | H48: =(E48+E47)/2 -> 5.8115104 | I48: =(H48-E47*1)*2 -> 0 | J48: =IF(D48<=10,1,IF(AND(D48>10,D48<=20),2,IF(D48>20,3))) -> 2 | K48: =IF(J48=1,'Given Data '!C$46,IF(J48=2,'Given Data '!C$47,IF(J48=3,'Given Data '!C$48))) -> 585.34306 | L48: ='Given Data '!C$17*'Given Data '!C$21*8.91 -> 92.968722 | M48: 0 | N48: =0.5*'Given Data '!C$19*'Given Data '!C$9*'Given Data '!C$20*Sheet1!E48^2 -> 15.877871 | O48: =K48*I48 -> 0 | P48: =L48+M48+N48+O48 -> 108.84659 | Q48: =IF(P48>=0,P48,IF(P48<0,-P48)) -> 108.84659 | R48: =Q48*'Given Data '!C$13 -> 27.647035 | S48: =R48/(IF(J48=1,'Given Data '!I$6,IF(J48=2,'Given Data '!I$7,IF(J48=3,'Given Data '!I$8)))) -> 1.6586799 | T48: =(Q48*H48)/1000 -> 0.6325631 | U48: =60*T48*1000/(2*PI()*S48) -> 3641.7712 | V48: =ROUND(S48,0) -> 2 | W48: =MROUND(U48,500) -> 3500 | X48: =T48/3600 -> 0.00017571197 | Y48: =INDEX('Given Data '!F$15:S$37,MATCH(Sheet1!V48,'Given Data '!E$15:E$37,0),MATCH(Sheet1!W48,'Given Data '!F$38:S$38,0)) -> 833.54953 | Z48: =Y48*X48 -> 0.14646463 | AA48: =AA47+Z48 -> 17.565049 | AB48: =AVERAGE(T$2:T$218) -> 3.4833445 | AC48: =(P48*G48)/1000 -> 36.528086
C49: =C48+1 -> 47 | D49: 13 | E49: =D49/2.23694 -> 5.8115104 | F49: =E49*3.6 -> 20.921437 | G49: =(E49+E48)/2+G48 -> 341.40388 | H49: =(E49+E48)/2 -> 5.8115104 | I49: =(H49-E48*1)*2 -> 0 | J49: =IF(D49<=10,1,IF(AND(D49>10,D49<=20),2,IF(D49>20,3))) -> 2 | K49: =IF(J49=1,'Given Data '!C$46,IF(J49=2,'Given Data '!C$47,IF(J49=3,'Given Data '!C$48))) -> 585.34306 | L49: ='Given Data '!C$17*'Given Data '!C$21*8.91 -> 92.968722 | M49: 0 | N49: =0.5*'Given Data '!C$19*'Given Data '!C$9*'Given Data '!C$20*Sheet1!E49^2 -> 15.877871 | O49: =K49*I49 -> 0 | P49: =L49+M49+N49+O49 -> 108.84659 | Q49: =IF(P49>=0,P49,IF(P49<0,-P49)) -> 108.84659 | R49: =Q49*'Given Data '!C$13 -> 27.647035 | S49: =R49/(IF(J49=1,'Given Data '!I$6,IF(J49=2,'Given Data '!I$7,IF(J49=3,'Given Data '!I$8)))) -> 1.6586799 | T49: =(Q49*H49)/1000 -> 0.6325631 | U49: =60*T49*1000/(2*PI()*S49) -> 3641.7712 | V49: =ROUND(S49,0) -> 2 | W49: =MROUND(U49,500) -> 3500 | X49: =T49/3600 -> 0.00017571197 | Y49: =INDEX('Given Data '!F$15:S$37,MATCH(Sheet1!V49,'Given Data '!E$15:E$37,0),MATCH(Sheet1!W49,'Given Data '!F$38:S$38,0)) -> 833.54953 | Z49: =Y49*X49 -> 0.14646463 | AA49: =AA48+Z49 -> 17.711514 | AB49: =AVERAGE(T$2:T$218) -> 3.4833445 | AC49: =(P49*G49)/1000 -> 37.160649
C50: =C49+1 -> 48 | D50: 13 | E50: =D50/2.23694 -> 5.8115104 | F50: =E50*3.6 -> 20.921437 | G50: =(E50+E49)/2+G49 -> 347.21539 | H50: =(E50+E49)/2 -> 5.8115104 | I50: =(H50-E49*1)*2 -> 0 | J50: =IF(D50<=10,1,IF(AND(D50>10,D50<=20),2,IF(D50>20,3))) -> 2 | K50: =IF(J50=1,'Given Data '!C$46,IF(J50=2,'Given Data '!C$47,IF(J50=3,'Given Data '!C$48))) -> 585.34306 | L50: ='Given Data '!C$17*'Given Data '!C$21*8.91 -> 92.968722 | M50: 0 | N50: =0.5*'Given Data '!C$19*'Given Data '!C$9*'Given Data '!C$20*Sheet1!E50^2 -> 15.877871 | O50: =K50*I50 -> 0 | P50: =L50+M50+N50+O50 -> 108.84659 | Q50: =IF(P50>=0,P50,IF(P50<0,-P50)) -> 108.84659 | R50: =Q50*'Given Data '!C$13 -> 27.647035 | S50: =R50/(IF(J50=1,'Given Data '!I$6,IF(J50=2,'Given Data '!I$7,IF(J50=3,'Given Data '!I$8)))) -> 1.6586799 | T50: =(Q50*H50)/1000 -> 0.6325631 | U50: =60*T50*1000/(2*PI()*S50) -> 3641.7712 | V50: =ROUND(S50,0) -> 2 | W50: =MROUND(U50,500) -> 3500 | X50: =T50/3600 -> 0.00017571197 | Y50: =INDEX('Given Data '!F$15:S$37,MATCH(Sheet1!V50,'Given Data '!E$15:E$37,0),MATCH(Sheet1!W50,'Given Data '!F$38:S$38,0)) -> 833.54953 | Z50: =Y50*X50 -> 0.14646463 | AA50: =AA49+Z50 -> 17.857979 | AB50: =AVERAGE(T$2:T$218) -> 3.4833445 | AC50: =(P50*G50)/1000 -> 37.793212
C51: =C50+1 -> 49 | D51: 13 | E51: =D51/2.23694 -> 5.8115104 | F51: =E51*3.6 -> 20.921437 | G51: =(E51+E50)/2+G50 -> 353.0269 | H51: =(E51+E50)/2 -> 5.8115104 | I51: =(H51-E50*1)*2 -> 0 | J51: =IF(D51<=10,1,IF(AND(D51>10,D51<=20),2,IF(D51>20,3))) -> 2 | K51: =IF(J51=1,'Given Data '!C$46,IF(J51=2,'Given Data '!C$47,IF(J51=3,'Given Data '!C$48))) -> 585.34306 | L51: ='Given Data '!C$17*'Given Data '!C$21*8.91 -> 92.968722 | M51: 0 | N51: =0.5*'Given Data '!C$19*'Given Data '!C$9*'Given Data '!C$20*Sheet1!E51^2 -> 15.877871 | O51: =K51*I51 -> 0 | P51: =L51+M51+N51+O51 -> 108.84659 | Q51: =IF(P51>=0,P51,IF(P51<0,-P51)) -> 108.84659 | R51: =Q51*'Given Data '!C$13 -> 27.647035 | S51: =R51/(IF(J51=1,'Given Data '!I$6,IF(J51=2,'Given Data '!I$7,IF(J51=3,'Given Data '!I$8)))) -> 1.6586799 | T51: =(Q51*H51)/1000 -> 0.6325631 | U51: =60*T51*1000/(2*PI()*S51) -> 3641.7712 | V51: =ROUND(S51,0) -> 2 | W51: =MROUND(U51,500) -> 3500 | X51: =T51/3600 -> 0.00017571197 | Y51: =INDEX('Given Data '!F$15:S$37,MATCH(Sheet1!V51,'Given Data '!E$15:E$37,0),MATCH(Sheet1!W51,'Given Data '!F$38:S$38,0)) -> 833.54953 | Z51: =Y51*X51 -> 0.14646463 | AA51: =AA50+Z51 -> 18.004443 | AB51: =AVERAGE(T$2:T$218) -> 3.4833445 | AC51: =(P51*G51)/1000 -> 38.425775
C52: =C51+1 -> 50 | D52: 13 | E52: =D52/2.23694 -> 5.8115104 | F52: =E52*3.6 -> 20.921437 | G52: =(E52+E51)/2+G51 -> 358.83841 | H52: =(E52+E51)/2 -> 5.8115104 | I52: =(H52-E51*1)*2 -> 0 | J52: =IF(D52<=10,1,IF(AND(D52>10,D52<=20),2,IF(D52>20,3))) -> 2 | K52: =IF(J52=1,'Given Data '!C$46,IF(J52=2,'Given Data '!C$47,IF(J52=3,'Given Data '!C$48))) -> 585.34306 | L52: ='Given Data '!C$17*'Given Data '!C$21*8.91 -> 92.968722 | M52: 0 | N52: =0.5*'Given Data '!C$19*'Given Data '!C$9*'Given Data '!C$20*Sheet1!E52^2 -> 15.877871 | O52: =K52*I52 -> 0 | P52: =L52+M52+N52+O52 -> 108.84659 | Q52: =IF(P52>=0,P52,IF(P52<0,-P52)) -> 108.84659 | R52: =Q52*'Given Data '!C$13 -> 27.647035 | S52: =R52/(IF(J52=1,'Given Data '!I$6,IF(J52=2,'Given Data '!I$7,IF(J52=3,'Given Data '!I$8)))) -> 1.6586799 | T52: =(Q52*H52)/1000 -> 0.6325631 | U52: =60*T52*1000/(2*PI()*S52) -> 3641.7712 | V52: =ROUND(S52,0) -> 2 | W52: =MROUND(U52,500) -> 3500 | X52: =T52/3600 -> 0.00017571197 | Y52: =INDEX('Given Data '!F$15:S$37,MATCH(Sheet1!V52,'Given Data '!E$15:E$37,0),MATCH(Sheet1!W52,'Given Data '!F$38:S$38,0)) -> 833.54953 | Z52: =Y52*X52 -> 0.14646463 | AA52: =AA51+Z52 -> 18.150908 | AB52: =AVERAGE(T$2:T$218) -> 3.4833445 | AC52: =(P52*G52)/1000 -> 39.058339
B53: T2 finish | C53: =C52+1 -> 51 | D53: 13 | E53: =D53/2.23694 -> 5.8115104 | F53: =E53*3.6 -> 20.921437 | G53: =(E53+E52)/2+G52 -> 364.64992 | H53: =(E53+E52)/2 -> 5.8115104 | I53: =(H53-E52*1)*2 -> 0 | J53: =IF(D53<=10,1,IF(AND(D53>10,D53<=20),2,IF(D53>20,3))) -> 2 | K53: =IF(J53=1,'Given Data '!C$46,IF(J53=2,'Given Data '!C$47,IF(J53=3,'Given Data '!C$48))) -> 585.34306 | L53: ='Given Data '!C$17*'Given Data '!C$21*8.91 -> 92.968722 | M53: 0 | N53: =0.5*'Given Data '!C$19*'Given Data '!C$9*'Given Data '!C$20*Sheet1!E53^2 -> 15.877871 | O53: =K53*I53 -> 0 | P53: =L53+M53+N53+O53 -> 108.84659 | Q53: =IF(P53>=0,P53,IF(P53<0,-P53)) -> 108.84659 | R53: =Q53*'Given Data '!C$13 -> 27.647035 | S53: =R53/(IF(J53=1,'Given Data '!I$6,IF(J53=2,'Given Data '!I$7,IF(J53=3,'Given Data '!I$8)))) -> 1.6586799 | T53: =(Q53*H53)/1000 -> 0.6325631 | U53: =60*T53*1000/(2*PI()*S53) -> 3641.7712 | V53: =ROUND(S53,0) -> 2 | W53: =MROUND(U53,500) -> 3500 | X53: =T53/3600 -> 0.00017571197 | Y53: =INDEX('Given Data '!F$15:S$37,MATCH(Sheet1!V53,'Given Data '!E$15:E$37,0),MATCH(Sheet1!W53,'Given Data '!F$38:S$38,0)) -> 833.54953 | Z53: =Y53*X53 -> 0.14646463 | AA53: =AA52+Z53 -> 18.297373 | AB53: =AVERAGE(T$2:T$218) -> 3.4833445 | AC53: =(P53*G53)/1000 -> 39.690902
...
