Workbook

Sheet Given Data 
B4: Regened Data/ Test Specification
B5: Maximum Engine Speed (RPM) | C5: 6500 | E5: Gear | F5: Input | G5: Output | H5: Gear Ratio | I5: Overall Ratio
B6: Maximum Engine Torque (Nm) | C6: 22 | E6: 1st | F6: 11 | G6: 29 | H6: 2.6363636 | I6: 22.729221
B7: Maximum Power Develop by Engine (W) | C7: 14967.333 | E7: 2nd | F7: 15 | G7: 29 | H7: 1.9333333 | I7: 16.668095
B8: Maximum Power Developed by Engine (HP) | C8: 20.06345 | E8: 3rd | F8: 21 | G8: 31 | H8: 1.4761905 | I8: 12.726871
B9: Effective Frontal Area (m2) | C9: 1.151 | E9: Final Drive | F9: 15 | G9: 51 | H9: 3.4
B10: Front Wheel Radius (mm) | C10: 304.8 | E10: Primary Drive | F10: 28 | G10: 71 | H10: 2.5357143
B11: Rear Wheel Radius (mm) | C11: 254
B12: Front Wheel Radius (m) | C12: 0.3048
B13: Rear Wheel Radius (m) | C13: 0.254 | E13: Torque Nm | F13: 500 | G13: 1000 | H13: 1500 | I13: 2000 | J13: 2500 | K13: 3000 | L13: 3500 | M13: 4000 | N13: 4500 | O13: 5000 | P13: 5500 | Q13: 6000 | R13: 6500 | S13: 7000
B14: Driver + Passenger Weight (kg) | C14: 144 | E14: RPM
B15: Fuel + Oil Weight (kg) | C15: 16.11 | E15: 22 | F15: 0 | G15: 0 | H15: 0 | I15: 0 | J15: 0 | K15: 0 | L15: 0 | M15: 0 | N15: 0 | O15: 477.263 | P15: 457.65679 | Q15: 0 | R15: 0 | S15: 0
B16: Kerb Weight (kg) | C16: 345 | E16: 21 | F16: 0 | G16: 0 | H16: 0 | I16: 0 | J16: 0 | K16: 0 | L16: 0 | M16: 0 | N16: 483 | O16: 470.50444 | P16: 443.88071 | Q16: 477 | R16: 0 | S16: 0
B17: Total Weight (kg) | C17: 521.71 | E17: 20 | F17: 0 | G17: 0 | H17: 0 | I17: 0 | J17: 0 | K17: 0 | L17: 0 | M17: 479.7 | N17: 491.6236 | O17: 461.71575 | P17: 414.10462 | Q17: 469.19732 | R17: 0 | S17: 0
E18: 19 | F18: 0 | G18: 0 | H18: 0 | I18: 0 | J18: 0 | K18: 487 | L18: 478.3 | M18: 482.76 | N18: 476.51549 | O18: 443.04624 | P18: 392.32854 | Q18: 457.16662 | R18: 504.47247 | S18: 0
B19: Drag Coefficient | C19: 0.7 | E19: 18 | F19: 0 | G19: 0 | H19: 0 | I19: 0 | J19: 0 | K19: 494.6 | L19: 487.6 | M19: 483.62212 | N19: 467.51182 | O19: 427.32635 | P19: 370.55246 | Q19: 440.18261 | R19: 492.04619 | S19: 585.75415
B20: Air Density (kg/m3) | C20: 1.167 | E20: 17 | F20: 0 | G20: 0 | H20: 0 | I20: 0 | J20: 503.2 | K20: 499.2 | L20: 496.26476 | M20: 486.36708 | N20: 453.02166 | O20: 396.46991 | P20: 359.66441 | Q20: 404.08191 | R20: 484.72802 | S20: 571.22172
B21: Rolling Coefficient (μR) Asphalt | C21: 0.02 | E21: 16 | F21: 0 | G21: 0 | H21: 0 | I21: 0 | J21: 511.2 | K21: 502.55077 | L21: 499.78608 | M21: 489.11204 | N21: 444.16346 | O21: 368.92715 | P21: 348.77637 | Q21: 315.9812 | R21: 480.25628 | S21: 560.48452
B22: Rolling Coefficient (μR) Gravel | C22: 0.02 | E22: 15 | F22: 0 | G22: 0 | H22: 0 | I22: 597.6 | J22: 516.02897 | K22: 506.4151 | L22: 490.87116 | M22: 491.857 | N22: 439.4457 | O22: 349.54388 | P22: 315.1385 | Q22: 304.3559 | R22: 440.60398 | S22: 512.49828
B23: Rolling Coefficient (μR) Sand | C23: 0.08 | E23: 14 | F23: 0 | G23: 0 | H23: 0 | I23: 617.6 | J23: 519.93068 | K23: 510.27942 | L23: 481.95623 | M23: 474.1423 | N23: 406.02647 | O23: 338.1606 | P23: 297.2242 | Q23: 298.88214 | R23: 426.97377 | S23: 505.44295
B24: Rolling Coefficient (μR) Field | C24: 0.1 | E24: 13 | F24: 0 | G24: 0 | H24: 0 | I24: 631.4 | J24: 537.83024 | K24: 514.14375 | L24: 473.0413 | M24: 456.4276 | N24: 383.4689 | O24: 340.77733 | P24: 313.44812 | Q24: 323.99476 | R24: 377.79009 | S24: 550.08629
E25: 12 | F25: 0 | G25: 0 | H25: 647.6 | I25: 650.99204 | J25: 555.72979 | K25: 520.46754 | L25: 490.2231 | M25: 459.51858 | N25: 398.81407 | O25: 352.96777 | P25: 326.03757 | Q25: 319.10738 | R25: 394.6064 | S25: 535.15262
B26: Wheelbase (mm) | C26: 1940 | E26: 11 | F26: 0 | G26: 0 | H26: 661.4 | I26: 671.42151 | J26: 574.81351 | K26: 548.0705 | L26: 508.72062 | M26: 471.7546 | N26: 434.78857 | O26: 361.56046 | P26: 343.64462 | Q26: 314.22 | R26: 498.42272 | S26: 540.20721
B27: Height of COG from Ground (mm) | C27: 488 | E27: 10 | F27: 0 | G27: 0 | H27: 677.3 | I27: 679.66155 | J27: 593.89724 | K27: 578.13292 | L27: 521.56827 | M27: 495.94176 | N27: 470.31525 | O27: 373.21543 | P27: 359.74288 | Q27: 309.33261 | R27: 504.50472 | S27: 535.95524
B28: Distance of COG from Front Wheel Center (mm) | C28: 1070 | E28: 9 | F28: 0 | G28: 0 | H28: 683 | I28: 679.68857 | J28: 604.92833 | K28: 590.1681 | L28: 575.40786 | M28: 533.46044 | N28: 491.51302 | O28: 394.87041 | P28: 401.34726 | Q28: 419.30302 | R28: 510.58671 | S28: 552.98511
B29: Distance of COG from Rear Wheel Center (mm) | C29: 870 | E29: 8 | F29: 0 | G29: 693.5 | H29: 685.91174 | I29: 688.48829 | J29: 626.96707 | K29: 605.44585 | L29: 583.92463 | M29: 536.69451 | N29: 489.46439 | O29: 416.52538 | P29: 430.19859 | Q29: 494.14017 | R29: 563.03506 | S29: 628.62775
B30: Angle of Buggy Lifted (Degree) | C30: 18 | E30: 7 | F30: 0 | G30: 698.4 | H30: 698.97725 | I30: 787.57302 | J30: 661.67563 | K30: 626.82615 | L30: 615.56795 | M30: 583.19464 | N30: 525.11244 | O30: 459.2047 | P30: 464.79868 | Q30: 539.13705 | R30: 595.78196 | S30: 664.22251
B31: Angle of Buggy Lifted (Radians) | C31: 0.314159 | E31: 6 | F31: 840.7 | G31: 704.5 | H31: 738.17377 | I31: 787.4403 | J31: 683.96983 | K31: 635.84712 | L31: 647.21127 | M31: 603.98588 | N31: 560.7605 | O31: 501.88402 | P31: 488.66659 | Q31: 587.82742 | R31: 605.09522 | S31: 676.95837
B32: tan(18°) | C32: 0.32491 | E32: 5 | F32: 962.5 | G32: 709.89367 | H32: 750.50545 | I32: 795.34446 | J32: 726.49149 | K32: 707.63852 | L32: 688.78555 | M32: 651.64145 | N32: 620.2848 | O32: 588.92816 | P32: 571.62166 | Q32: 626.15539 | R32: 678.7958 | S32: 732.69842
B33: Load on Rear Wheel (kg) | C33: 207 | E33: 4 | F33: 1046.5 | G33: 741.90531 | H33: 770.04352 | I33: 824.23018 | J33: 776.62339 | K33: 756.8318 | L33: 717.30149 | M33: 699.29701 | N33: 679.80911 | O33: 660.32121 | P33: 654.57674 | Q33: 694.73211 | R33: 736.7163 | S33: 777.48127
B34: Load on Rear Wheel while Lifted (kg) | C34: 193 | E34: 3 | F34: 1089.4 | G34: 883.70676 | H34: 899.42299 | I34: 862.21869 | J34: 826.75529 | K34: 806.02508 | L34: 754.57173 | M34: 746.95257 | N34: 739.33341 | O34: 731.71426 | P34: 724.0951 | Q34: 763.30882 | R34: 779.98624 | S34: 811.68785
B35: YCOG | C35: 769.73798 | E35: 2 | F35: 1114.3308 | G35: 995.51124 | H35: 973.49813 | I35: 928.55602 | J35: 906.88719 | K35: 855.21836 | L35: 833.54953 | M35: 845.6519 | N35: 828.30575 | O35: 810.9596 | P35: 793.61346 | Q35: 811.39197 | R35: 823.25617 | S35: 839.06325
B36: XCOG | C36: 521.69675 | E36: 1 | F36: 1242.2208 | G36: 1167.3097 | H36: 1097.1272 | I36: 1024.8934 | J36: 1050.5262 | K36: 966.15913 | L36: 951.79202 | M36: 944.35123 | N36: 917.27809 | O36: 890.20495 | P36: 863.13182 | Q36: 859.47512 | R36: 851.87555 | S36: 846.90456
E37: 0 | F37: 1570.853 | G37: 1518.6451 | H37: 1348.4371 | I37: 1257.2292 | J37: 1246.0212 | K37: 1112.0778 | L37: 1068.1343 | M37: 1024.1909 | N37: 987.14043 | O37: 950.3403 | P37: 913.54017 | Q37: 907.55827 | R37: 880.49492 | S37: 862.48587
B38: Tires Mass (kg) | C38: 10.2 | E38: RPM | F38: 500 | G38: 1000 | H38: 1500 | I38: 2000 | J38: 2500 | K38: 3000 | L38: 3500 | M38: 4000 | N38: 4500 | O38: 5000 | P38: 5500 | Q38: 6000 | R38: 6500 | S38: 7000
B39: Wheels Mass (kg) | C39: 6.4
B40: Total Assembly Mass (kg) | C40: 16.6
B41: Radius of Gyration Front Wheel (Kfront) | C41: 0.27432
B42: Radius of Gyration Rear Wheel at 6500rpm 1st Gear | C42: 0.2286
B43: Inertia of Front Wheel | C43: 1.2491743
B44: Inertia of Rear Wheel | C44: 0.86748214
B45: Inertia of Engine | C45: 0.17
B46: Reduced Mass in Gear 1 | C46: 593.80838
B47: Reduced Mass in Gear 2 | C47: 585.34306
B48: Reduced Mass in Gear 3 | C48: 581.23604

Sheet Sheet1
C1: Time (s) | D1: Velocity (mph) | E1: Velocity (m/s) | F1: Velocity (km/h) | G1: Ditsance (m) | H1: Displacement (m) | I1: Acceleration (m/s^2) | J1: Gear | K1: Equivalent mass (kg) | L1: Rolling Resistance | M1: Gradient resistance | N1: Areo grag resistance | O1: Acceleration resistance | P1: Total resistive force | Q1: Traction Effort (N) | R1: Torque @ wheel (Nm) | S1: Engine Torque (Nm) | T1: Power (kW) | U1: RPM | V1: Round Torque (Nm) | W1: Round RPM | X1: Energy (kWh) | Y1: BSFC | Z1: Fuel Burn (g) | AA1: Total fuel consumed (g) | AB1: Average power (KW) | AC1: Workdone (kJ)
B2: Asphalt start | C2: 0 | D2: 0 | E2: =D2/2.2394 -> 0 | F2: =E2*3.6 -> 0 | G2: 0 | H2: 0 | I2: 0 | J2: 0 | K2: 521.71 | L2: 0 | M2: 0 | N2: 0 | O2: 0 | P2: =L2+M2+N2+O2 -> 0 | Q2: =IF(P2>=0,P2,IF(P2<0,-P2)) -> 0 | R2: =Q2*'Given Data '!C$13 -> 0 | S2: 0 | T2: =Q2*G2 -> 0 | U2: 0 | V2: =ROUND(S2,0) -> 0 | W2: =MROUND(U2,500) -> 0 | X2: =T2/3600 -> 0 | Y2: 0 | Z2: =Y2*X2 -> 0 | AA2: 0 | AB2: 0 | AC2: =(P2*G2)/1000 -> 0
C3: =C2+1 -> 1 | D3: 6 | E3: =D3/2.23694 -> 2.6822356 | F3: =E3*3.6 -> 9.656048 | G3: =(E3+E2)/2+G2 -> 1.3411178 | H3: =(E3+E2)/2 -> 1.3411178 | I3: =(H3-E2*1)*2 -> 2.6822356 | J3: =IF(D3<=10,1,IF(AND(D3>10,D3<=20),2,IF(D3>20,3))) -> 1 | K3: =IF(J3=1,'Given Data '!C$46,IF(J3=2,'Given Data '!C$47,IF(J3=3,'Given Data '!C$48))) -> 593.80838 | L3: ='Given Data '!C$17*'Given Data '!C$21*8.91 -> 92.968722 | M3: 0 | N3: =0.5*'Given Data '!C$19*'Given Data '!C$9*'Given Data '!C$20*Sheet1!E3^2 -> 3.3822683 | O3: =K3*I3 -> 1592.7339 | P3: =L3+M3+N3+O3 -> 1689.0849 | Q3: =IF(P3>=0,P3,IF(P3<0,-P3)) -> 1689.0849 | R3: =Q3*'Given Data '!C$13 -> 429.02757 | S3: =R3/(IF(J3=1,'Given Data '!I$6,IF(J3=2,'Given Data '!I$7,IF(J3=3,'Given Data '!I$8)))) -> 18.875595 | T3: =(Q3*H3)/1000 -> 2.2652618 | U3: =60*T3*1000/(2*PI()*S3) -> 1146.0119 | V3: =ROUND(S3,0) -> 19 | W3: =MROUND(U3,500) -> 1000 | X3: =T3/3600 -> 0.0006292394 | Y3: =INDEX('Given Data '!F$15:S$37,MATCH(Sheet1!V3,'Given Data '!E$15:E$37),MATCH(Sheet1!W3,'Given Data '!F$38:S$38)) -> 1518.6451 | Z3: =Y3*X3 -> 0.9555913 | AA3: =AA2+Z3 -> 0.9555913 | AB3: =AVERAGE(T$2:T$218) -> 3.4833445 | AC3: =(P3*G3)/1000 -> 2.2652618
C4: =C3+1 -> 2 | D4: 7 | E4: =D4/2.23694 -> 3.1292748 | F4: =E4*3.6 -> 11.265389 | G4: =(E4+E3)/2+G3 -> 4.246873 | H4: =(E4+E3)/2 -> 2.9057552 | I4: =(H4-E3*1)*2 -> 0.44703926 | J4: =IF(D4<=10,1,IF(AND(D4>10,D4<=20),2,IF(D4>20,3))) -> 1 | K4: =IF(J4=1,'Given Data '!C$46,IF(J4=2,'Given Data '!C$47,IF(J4=3,'Given Data '!C$48))) -> 593.80838 | L4: ='Given Data '!C$17*'Given Data '!C$21*8.91 -> 92.968722 | M4: 0 | N4: =0.5*'Given Data '!C$19*'Given Data '!C$9*'Given Data '!C$20*Sheet1!E4^2 -> 4.6036429 | O4: =K4*I4 -> 265.45566 | P4: =L4+M4+N4+O4 -> 363.02802 | Q4: =IF(P4>=0,P4,IF(P4<0,-P4)) -> 363.02802 | R4: =Q4*'Given Data '!C$13 -> 92.209117 | S4: =R4/(IF(J4=1,'Given Data '!I$6,IF(J4=2,'Given Data '!I$7,IF(J4=3,'Given Data '!I$8)))) -> 4.0568534 | T4: =(Q4*H4)/1000 -> 1.0548706 | U4: =60*T4*1000/(2*PI()*S4) -> 2483.0258 | V4: =ROUND(S4,0) -> 4 | W4: =MROUND(U4,500) -> 2500 | X4: =T4/3600 -> 0.0002930196 | Y4: =INDEX('Given Data '!F$15:S$37,MATCH(Sheet1!V4,'Given Data '!E$15:E$37,0),MATCH(Sheet1!W4,'Given Data '!F$38:S$38,0)) -> 776.62339 | Z4: =Y4*X4 -> 0.22756587 | AA4: =AA3+Z4 -> 1.1831572 | AB4: =AVERAGE(T$2:T$218) -> 3.4833445 | AC4: =(P4*G4)/1000 -> 1.5417339
C5: =C4+1 -> 3 | D5: 8.5 | E5: =D5/2.23694 -> 3.7998337 | F5: =E5*3.6 -> 13.679401 | G5: =(E5+E4)/2+G4 -> 7.7114272 | H5: =(E5+E4)/2 -> 3.4645543 | I5: =(H5-E4*1)*2 -> 0.67055889 | J5: =IF(D5<=10,1,IF(AND(D5>10,D5<=20),2,IF(D5>20,3))) -> 1 | K5: =IF(J5=1,'Given Data '!C$46,IF(J5=2,'Given Data '!C$47,IF(J5=3,'Given Data '!C$48))) -> 593.80838 | L5: ='Given Data '!C$17*'Given Data '!C$21*8.91 -> 92.968722 | M5: 0 | N5: =0.5*'Given Data '!C$19*'Given Data '!C$9*'Given Data '!C$20*Sheet1!E5^2 -> 6.7880246 | O5: =K5*I5 -> 398.18348 | P5: =L5+M5+N5+O5 -> 497.94023 | Q5: =IF(P5>=0,P5,IF(P5<0,-P5)) -> 497.94023 | R5: =Q5*'Given Data '!C$13 -> 126.47682 | S5: =R5/(IF(J5=1,'Given Data '!I$6,IF(J5=2,'Given Data '!I$7,IF(J5=3,'Given Data '!I$8)))) -> 5.5645031 | T5: =(Q5*H5)/1000 -> 1.7251409 | U5: =60*T5*1000/(2*PI()*S5) -> 2960.5308 | V5: =ROUND(S5,0) -> 6 | W5: =MROUND(U5,500) -> 3000 | X5: =T5/3600 -> 0.00047920582 | Y5: =INDEX('Given Data '!F$15:S$37,MATCH(Sheet1!V5,'Given Data '!E$15:E$37,0),MATCH(Sheet1!W5,'Given Data '!F$38:S$38,0)) -> 635.84712 | Z5: =Y5*X5 -> 0.30470164 | AA5: =AA4+Z5 -> 1.4878588 | AB5: =AVERAGE(T$2:T$218) -> 3.4833445 | AC5: =(P5*G5)/1000 -> 3.8398298
C6: =C5+1 -> 4 | D6: 10 | E6: =D6/2.23694 -> 4.4703926 | F6: =E6*3.6 -> 16.093413 | G6: =(E6+E5)/2+G5 -> 11.84654 | H6: =(E6+E5)/2 -> 4.1351131 | I6: =(H6-E5*1)*2 -> 0.67055889 | J6: =IF(D6<=10,1,IF(AND(D6>10,D6<=20),2,IF(D6>20,3))) -> 1 | K6: =IF(J6=1,'Given Data '!C$46,IF(J6=2,'Given Data '!C$47,IF(J6=3,'Given Data '!C$48))) -> 593.80838 | L6: ='Given Data '!C$17*'Given Data '!C$21*8.91 -> 92.968722 | M6: 0 | N6: =0.5*'Given Data '!C$19*'Given Data '!C$9*'Given Data '!C$20*Sheet1!E6^2 -> 9.3951897 | O6: =K6*I6 -> 398.18348 | P6: =L6+M6+N6+O6 -> 500.5474 | Q6: =IF(P6>=0,P6,IF(P6<0,-P6)) -> 500.5474 | R6: =Q6*'Given Data '!C$13 -> 127.13904 | S6: =R6/(IF(J6=1,'Given Data '!I$6,IF(J6=2,'Given Data '!I$7,IF(J6=3,'Given Data '!I$8)))) -> 5.5936382 | T6: =(Q6*H6)/1000 -> 2.0698201 | U6: =60*T6*1000/(2*PI()*S6) -> 3533.5367 | V6: =ROUND(S6,0) -> 6 | W6: =MROUND(U6,500) -> 3500 | X6: =T6/3600 -> 0.00057495003 | Y6: =INDEX('Given Data '!F$15:S$37,MATCH(Sheet1!V6,'Given Data '!E$15:E$37,0),MATCH(Sheet1!W6,'Given Data '!F$38:S$38,0)) -> 647.21127 | Z6: =Y6*X6 -> 0.37211414 | AA6: =AA5+Z6 -> 1.859973 | AB6: =AVERAGE(T$2:T$218) -> 3.4833445 | AC6: =(P6*G6)/1000 -> 5.9297549
C7: =C6+1 -> 5 | D7: 10.2 | E7: =D7/2.23694 -> 4.5598004 | F7: =E7*3.6 -> 16.415282 | G7: =(E7+E6)/2+G6 -> 16.361637 | H7: =(E7+E6)/2 -> 4.5150965 | I7: =(H7-E6*1)*2 -> 0.089407852 | J7: =IF(D7<=10,1,IF(AND(D7>10,D7<=20),2,IF(D7>20,3))) -> 2 | K7: =IF(J7=1,'Given Data '!C$46,IF(J7=2,'Given Data '!C$47,IF(J7=3,'Given Data '!C$48))) -> 585.34306 | L7: ='Given Data '!C$17*'Given Data '!C$21*8.91 -> 92.968722 | M7: 0 | N7: =0.5*'Given Data '!C$19*'Given Data '!C$9*'Given Data '!C$20*Sheet1!E7^2 -> 9.7747554 | O7: =K7*I7 -> 52.334266 | P7: =L7+M7+N7+O7 -> 155.07774 | Q7: =IF(P7>=0,P7,IF(P7<0,-P7)) -> 155.07774 | R7: =Q7*'Given Data '!C$13 -> 39.389747 | S7: =R7/(IF(J7=1,'Given Data '!I$6,IF(J7=2,'Given Data '!I$7,IF(J7=3,'Given Data '!I$8)))) -> 2.3631822 | T7: =(Q7*H7)/1000 -> 0.70019098 | U7: =60*T7*1000/(2*PI()*S7) -> 2829.3761 | V7: =ROUND(S7,0) -> 2 | W7: =MROUND(U7,500) -> 3000 | X7: =T7/3600 -> 0.00019449749 | Y7: =INDEX('Given Data '!F$15:S$37,MATCH(Sheet1!V7,'Given Data '!E$15:E$37,0),MATCH(Sheet1!W7,'Given Data '!F$38:S$38,0)) -> 855.21836 | Z7: =Y7*X7 -> 0.16633783 | AA7: =AA6+Z7 -> 2.0263108 | AB7: =AVERAGE(T$2:T$218) -> 3.4833445 | AC7: =(P7*G7)/1000 -> 2.5373257
C8: =C7+1 -> 6 | D8: 12 | E8: =D8/2.23694 -> 5.3644711 | F8: =E8*3.6 -> 19.312096 | G8: =(E8+E7)/2+G7 -> 21.323773 | H8: =(E8+E7)/2 -> 4.9621358 | I8: =(H8-E7*1)*2 -> 0.80467067 | J8: =IF(D8<=10,1,IF(AND(D8>10,D8<=20),2,IF(D8>20,3))) -> 2 | K8: =IF(J8=1,'Given Data '!C$46,IF(J8=2,'Given Data '!C$47,IF(J8=3,'Given Data '!C$48))) -> 585.34306 | L8: ='Given Data '!C$17*'Given Data '!C$21*8.91 -> 92.968722 | M8: 0 | N8: =0.5*'Given Data '!C$19*'Given Data '!C$9*'Given Data '!C$20*Sheet1!E8^2 -> 13.529073 | O8: =K8*I8 -> 471.00839 | P8: =L8+M8+N8+O8 -> 577.50619 | Q8: =IF(P8>=0,P8,IF(P8<0,-P8)) -> 577.50619 | R8: =Q8*'Given Data '!C$13 -> 146.68657 | S8: =R8/(IF(J8=1,'Given Data '!I$6,IF(J8=2,'Given Data '!I$7,IF(J8=3,'Given Data '!I$8)))) -> 8.80044 | T8: =(Q8*H8)/1000 -> 2.8656641 | U8: =60*T8*1000/(2*PI()*S8) -> 3109.5123 | V8: =ROUND(S8,0) -> 9 | W8: =MROUND(U8,500) -> 3000 | X8: =T8/3600 -> 0.00079601781 | Y8: =INDEX('Given Data '!F$15:S$37,MATCH(Sheet1!V8,'Given Data '!E$15:E$37,0),MATCH(Sheet1!W8,'Given Data '!F$38:S$38,0)) -> 590.1681 | Z8: =Y8*X8 -> 0.46978432 | AA8: =AA7+Z8 -> 2.4960951 | AB8: =AVERAGE(T$2:T$218) -> 3.4833445 | AC8: =(P8*G8)/1000 -> 12.314611
C9: =C8+1 -> 7 | D9: 14 | E9: =D9/2.23694 -> 6.2585496 | F9: =E9*3.6 -> 22.530779 | G9: =(E9+E8)/2+G8 -> 27.135283 | H9: =(E9+E8)/2 -> 5.8115104 | I9: =(H9-E8*1)*2 -> 0.89407852 | J9: =IF(D9<=10,1,IF(AND(D9>10,D9<=20),2,IF(D9>20,3))) -> 2 | K9: =IF(J9=1,'Given Data '!C$46,IF(J9=2,'Given Data '!C$47,IF(J9=3,'Given Data '!C$48))) -> 585.34306 | L9: ='Given Data '!C$17*'Given Data '!C$21*8.91 -> 92.968722 | M9: 0 | N9: =0.5*'Given Data '!C$19*'Given Data '!C$9*'Given Data '!C$20*Sheet1!E9^2 -> 18.414572 | O9: =K9*I9 -> 523.34266 | P9: =L9+M9+N9+O9 -> 634.72595 | Q9: =IF(P9>=0,P9,IF(P9<0,-P9)) -> 634.72595 | R9: =Q9*'Given Data '!C$13 -> 161.22039 | S9: =R9/(IF(J9=1,'Given Data '!I$6,IF(J9=2,'Given Data '!I$7,IF(J9=3,'Given Data '!I$8)))) -> 9.6723945 | T9: =(Q9*H9)/1000 -> 3.6887165 | U9: =60*T9*1000/(2*PI()*S9) -> 3641.7712 | V9: =ROUND(S9,0) -> 10 | W9: =MROUND(U9,500) -> 3500 | X9: =T9/3600 -> 0.0010246435 | Y9: =INDEX('Given Data '!F$15:S$37,MATCH(Sheet1!V9,'Given Data '!E$15:E$37,0),MATCH(Sheet1!W9,'Given Data '!F$38:S$38,0)) -> 521.56827 | Z9: =Y9*X9 -> 0.53442152 | AA9: =AA8+Z9 -> 3.0305166 | AB9: =AVERAGE(T$2:T$218) -> 3.4833445 | AC9: =(P9*G9)/1000 -> 17.223468
C10: =C9+1 -> 8 | D10: 15 | E10: =D10/2.23694 -> 6.7055889 | F10: =E10*3.6 -> 24.14012 | G10: =(E10+E9)/2+G9 -> 33.617352 | H10: =(E10+E9)/2 -> 6.4820693 | I10: =(H10-E9*1)*2 -> 0.44703926 | J10: =IF(D10<=10,1,IF(AND(D10>10,D10<=20),2,IF(D10>20,3))) -> 2 | K10: =IF(J10=1,'Given Data '!C$46,IF(J10=2,'Given Data '!C$47,IF(J10=3,'Given Data '!C$48))) -> 585.34306 | L10: ='Given Data '!C$17*'Given Data '!C$21*8.91 -> 92.968722 | M10: 0 | N10: =0.5*'Given Data '!C$19*'Given Data '!C$9*'Given Data '!C$20*Sheet1!E10^2 -> 21.139177 | O10: =K10*I10 -> 261.67133 | P10: =L10+M10+N10+O10 -> 375.77923 | Q10: =IF(P10>=0,P10,IF(P10<0,-P10)) -> 375.77923 | R10: =Q10*'Given Data '!C$13 -> 95.447924 | S10: =R10/(IF(J10=1,'Given Data '!I$6,IF(J10=2,'Given Data '!I$7,IF(J10=3,'Given Data '!I$8)))) -> 5.7263846 | T10: =(Q10*H10)/1000 -> 2.435827 | U10: =60*T10*1000/(2*PI()*S10) -> 4061.9756 | V10: =ROUND(S10,0) -> 6 | W10: =MROUND(U10,500) -> 4000 | X10: =T10/3600 -> 0.00067661861 | Y10: =INDEX('Given Data '!F$15:S$37,MATCH(Sheet1!V10,'Given Data '!E$15:E$37,0),MATCH(Sheet1!W10,'Given Data '!F$38:S$38,0)) -> 603.98588 | Z10: =Y10*X10 -> 0.40866809 | AA10: =AA9+Z10 -> 3.4391847 | AB10: =AVERAGE(T$2:T$218) -> 3.4833445 | AC10: =(P10*G10)/1000 -> 12.632703
C11: =C10+1 -> 9 | D11: 16.5 | E11: =D11/2.23694 -> 7.3761478 | F11: =E11*3.6 -> 26.554132 | G11: =(E11+E10)/2+G10 -> 40.658221 | H11: =(E11+E10)/2 -> 7.0408683 | I11: =(H11-E10*1)*2 -> 0.67055889 | J11: =IF(D11<=10,1,IF(AND(D11>10,D11<=20),2,IF(D11>20,3))) -> 2 | K11: =IF(J11=1,'Given Data '!C$46,IF(J11=2,'Given Data '!C$47,IF(J11=3,'Given Data '!C$48))) -> 585.34306 | L11: ='Given Data '!C$17*'Given Data '!C$21*8.91 -> 92.968722 | M11: 0 | N11: =0.5*'Given Data '!C$19*'Given Data '!C$9*'Given Data '!C$20*Sheet1!E11^2 -> 25.578404 | O11: =K11*I11 -> 392.50699 | P11: =L11+M11+N11+O11 -> 511.05412 | Q11: =IF(P11>=0,P11,IF(P11<0,-P11)) -> 511.05412 | R11: =Q11*'Given Data '!C$13 -> 129.80775 | S11: =R11/(IF(J11=1,'Given Data '!I$6,IF(J11=2,'Given Data '!I$7,IF(J11=3,'Given Data '!I$8)))) -> 7.7877973 | T11: =(Q11*H11)/1000 -> 3.5982648 | U11: =60*T11*1000/(2*PI()*S11) -> 4412.1459 | V11: =ROUND(S11,0) -> 8 | W11: =MROUND(U11,500) -> 4500 | X11: =T11/3600 -> 0.00099951799 | Y11: =INDEX('Given Data '!F$15:S$37,MATCH(Sheet1!V11,'Given Data '!E$15:E$37,0),MATCH(Sheet1!W11,'Given Data '!F$38:S$38,0)) -> 489.46439 | Z11: =Y11*X11 -> 0.48922847 | AA11: =AA10+Z11 -> 3.9284132 | AB11: =AVERAGE(T$2:T$218) -> 3.4833445 | AC11: =(P11*G11)/1000 -> 20.778551
C12: =C11+1 -> 10 | D12: 18 | E12: =D12/2.23694 -> 8.0467067 | F12: =E12*3.6 -> 28.968144 | G12: =(E12+E11)/2+G11 -> 48.369648 | H12: =(E12+E11)/2 -> 7.7114272 | I12: =(H12-E11*1)*2 -> 0.67055889 | J12: =IF(D12<=10,1,IF(AND(D12>10,D12<=20),2,IF(D12>20,3))) -> 2 | K12: =IF(J12=1,'Given Data '!C$46,IF(J12=2,'Given Data '!C$47,IF(J12=3,'Given Data '!C$48))) -> 585.34306 | L12: ='Given Data '!C$17*'Given Data '!C$21*8.91 -> 92.968722 | M12: 0 | N12: =0.5*'Given Data '!C$19*'Given Data '!C$9*'Given Data '!C$20*Sheet1!E12^2 -> 30.440415 | O12: =K12*I12 -> 392.50699 | P12: =L12+M12+N12+O12 -> 515.91613 | Q12: =IF(P12>=0,P12,IF(P12<0,-P12)) -> 515.91613 | R12: =Q12*'Given Data '!C$13 -> 131.0427 | S12: =R12/(IF(J12=1,'Given Data '!I$6,IF(J12=2,'Given Data '!I$7,IF(J12=3,'Given Data '!I$8)))) -> 7.861888 | T12: =(Q12*H12)/1000 -> 3.9784497 | U12: =60*T12*1000/(2*PI()*S12) -> 4832.3502 | V12: =ROUND(S12,0) -> 8 | W12: =MROUND(U12,500) -> 5000 | X12: =T12/3600 -> 0.0011051249 | Y12: =INDEX('Given Data '!F$15:S$37,MATCH(Sheet1!V12,'Given Data '!E$15:E$37,0),MATCH(Sheet1!W12,'Given Data '!F$38:S$38,0)) -> 416.52538 | Z12: =Y12*X12 -> 0.46031258 | AA12: =AA11+Z12 -> 4.3887258 | AB12: =AVERAGE(T$2:T$218) -> 3.4833445 | AC12: =(P12*G12)/1000 -> 24.954682
C13: =C12+1 -> 11 | D13: 20 | E13: =D13/2.23694 -> 8.9407852 | F13: =E13*3.6 -> 32.186827 | G13: =(E13+E12)/2+G12 -> 56.863394 | H13: =(E13+E12)/2 -> 8.4937459 | I13: =(H13-E12*1)*2 -> 0.89407852 | J13: =IF(D13<=10,1,IF(AND(D13>10,D13<=20),2,IF(D13>20,3))) -> 2 | K13: =IF(J13=1,'Given Data '!C$46,IF(J13=2,'Given Data '!C$47,IF(J13=3,'Given Data '!C$48))) -> 585.34306 | L13: ='Given Data '!C$17*'Given Data '!C$21*8.91 -> 92.968722 | M13: 0 | N13: =0.5*'Given Data '!C$19*'Given Data '!C$9*'Given Data '!C$20*Sheet1!E13^2 -> 37.580759 | O13: =K13*I13 -> 523.34266 | P13: =L13+M13+N13+O13 -> 653.89214 | Q13: =IF(P13>=0,P13,IF(P13<0,-P13)) -> 653.89214 | R13: =Q13*'Given Data '!C$13 -> 166.0886 | S13: =R13/(IF(J13=1,'Given Data '!I$6,IF(J13=2,'Given Data '!I$7,IF(J13=3,'Given Data '!I$8)))) -> 9.9644621 | T13: =(Q13*H13)/1000 -> 5.5539937 | U13: =60*T13*1000/(2*PI()*S13) -> 5322.5887 | V13: =ROUND(S13,0) -> 10 | W13: =MROUND(U13,500) -> 5500 | X13: =T13/3600 -> 0.001542776 | Y13: =INDEX('Given Data '!F$15:S$37,MATCH(Sheet1!V13,'Given Data '!E$15:E$37,0),MATCH(Sheet1!W13,'Given Data '!F$38:S$38,0)) -> 359.74288 | Z13: =Y13*X13 -> 0.5550027 | AA13: =AA12+Z13 -> 4.9437285 | AB13: =AVERAGE(T$2:T$218) -> 3.4833445 | AC13: =(P13*G13)/1000 -> 37.182526
C14: =C13+1 -> 12 | D14: 20.2 | E14: =D14/2.23694 -> 9.030193 | F14: =E14*3.6 -> 32.508695 | G14: =(E14+E13)/2+G13 -> 65.848883 | H14: =(E14+E13)/2 -> 8.9854891 | I14: =(H14-E13*1)*2 -> 0.089407852 | J14: =IF(D14<=10,1,IF(AND(D14>10,D14<=20),2,IF(D14>20,3))) -> 3 | K14: =IF(J14=1,'Given Data '!C$46,IF(J14=2,'Given Data '!C$47,IF(J14=3,'Given Data '!C$48))) -> 581.23604 | L14: ='Given Data '!C$17*'Given Data '!C$21*8.91 -> 92.968722 | M14: 0 | N14: =0.5*'Given Data '!C$19*'Given Data '!C$9*'Given Data '!C$20*Sheet1!E14^2 -> 38.336132 | O14: =K14*I14 -> 51.967066 | P14: =L14+M14+N14+O14 -> 183.27192 | Q14: =IF(P14>=0,P14,IF(P14<0,-P14)) -> 183.27192 | R14: =Q14*'Given Data '!C$13 -> 46.551068 | S14: =R14/(IF(J14=1,'Given Data '!I$6,IF(J14=2,'Given Data '!I$7,IF(J14=3,'Given Data '!I$8)))) -> 3.6576994 | T14: =(Q14*H14)/1000 -> 1.6467878 | U14: =60*T14*1000/(2*PI()*S14) -> 4299.3324 | V14: =ROUND(S14,0) -> 4 | W14: =MROUND(U14,500) -> 4500 | X14: =T14/3600 -> 0.00045744107 | Y14: =INDEX('Given Data '!F$15:S$37,MATCH(Sheet1!V14,'Given Data '!E$15:E$37,0),MATCH(Sheet1!W14,'Given Data '!F$38:S$38,0)) -> 679.80911 | Z14: =Y14*X14 -> 0.3109726 | AA14: =AA13+Z14 -> 5.2547011 | AB14: =AVERAGE(T$2:T$218) -> 3.4833445 | AC14: =(P14*G14)/1000 -> 12.068251
C15: =C14+1 -> 13 | D15: 21.5 | E15: =D15/2.23694 -> 9.6113441 | F15: =E15*3.6 -> 34.600839 | G15: =(E15+E14)/2+G14 -> 75.169651 | H15: =(E15+E14)/2 -> 9.3207685 | I15: =(H15-E14*1)*2 -> 0.58115104 | J15: =IF(D15<=10,1,IF(AND(D15>10,D15<=20),2,IF(D15>20,3))) -> 3 | K15: =IF(J15=1,'Given Data '!C$46,IF(J15=2,'Given Data '!C$47,IF(J15=3,'Given Data '!C$48))) -> 581.23604 | L15: ='Given Data '!C$17*'Given Data '!C$21*8.91 -> 92.968722 | M15: 0 | N15: =0.5*'Given Data '!C$19*'Given Data '!C$9*'Given Data '!C$20*Sheet1!E15^2 -> 43.429264 | O15: =K15*I15 -> 337.78593 | P15: =L15+M15+N15+O15 -> 474.18391 | Q15: =IF(P15>=0,P15,IF(P15<0,-P15)) -> 474.18391 | R15: =Q15*'Given Data '!C$13 -> 120.44271 | S15: =R15/(IF(J15=1,'Given Data '!I$6,IF(J15=2,'Given Data '!I$7,IF(J15=3,'Given Data '!I$8)))) -> 9.463655 | T15: =(Q15*H15)/1000 -> 4.4197585 | U15: =60*T15*1000/(2*PI()*S15) -> 4459.7552 | V15: =ROUND(S15,0) -> 9 | W15: =MROUND(U15,500) -> 4500 | X15: =T15/3600 -> 0.0012277107 | Y15: =INDEX('Given Data '!F$15:S$37,MATCH(Sheet1!V15,'Given Data '!E$15:E$37,0),MATCH(Sheet1!W15,'Given Data '!F$38:S$38,0)) -> 491.51302 | Z15: =Y15*X15 -> 0.6034358 | AA15: =AA14+Z15 -> 5.8581368 | AB15: =AVERAGE(T$2:T$218) -> 3.4833445 | AC15: =(P15*G15)/1000 -> 35.64424
... C29: =C28+1 -> 27 | D29: 15 | E29: =D29/2.23694 -> 6.7055889 | F29: =E29*3.6 -> 24.14012 | G29: =(E29+E28)/2+G28 -> 221.15032 | H29: =(E29+E28)/2 -> 7.0408683 | I29: =(H29-E28*1)*2 -> -0.67055889 | J29: =IF(D29<=10,1,IF(AND(D29>10,D29<=20),2,IF(D29>20,3))) -> 2 | K29: =IF(J29=1,'Given Data '!C$46,IF(J29=2,'Given Data '!C$47,IF(J29=3,'Given Data '!C$48))) -> 585.34306 | L29: ='Given Data '!C$17*'Given Data '!C$21*8.91 -> 92.968722 | M29: 0 | N29: =0.5*'Given Data '!C$19*'Given Data '!C$9*'Given Data '!C$20*Sheet1!E29^2 -> 21.139177 | O29: =K29*I29 -> -392.50699 | P29: =L29+M29+N29+O29 -> -278.3991 | Q29: =IF(P29>=0,P29,IF(P29<0,-P29)) -> 278.3991 | R29: =Q29*'Given Data '!C$13 -> 70.71337 | S29: =R29/(IF(J29=1,'Given Data '!I$6,IF(J29=2,'Given Data '!I$7,IF(J29=3,'Given Data '!I$8)))) -> 4.2424386 | T29: =(Q29*H29)/1000 -> 1.9601714 | U29: =60*T29*1000/(2*PI()*S29) -> 4412.1459 | V29: =ROUND(S29,0) -> 4 | W29: =MROUND(U29,500) -> 4500 | X29: =T29/3600 -> 0.00054449205 | Y29: =INDEX('Given Data '!F$15:S$37,MATCH(Sheet1!V29,'Given Data '!E$15:E$37,0),MATCH(Sheet1!W29,'Given Data '!F$38:S$38,0)) -> 679.80911 | Z29: =Y29*X29 -> 0.37015065 | AA29: =AA28+Z29 -> 13.586699 | AB29: =AVERAGE(T$2:T$218) -> 3.4833445 | AC29: =(P29*G29)/1000 -> -61.568049
B30: T1 start | C30: =C29+1 -> 28 | D30: 13 | E30: =D30/2.23694 -> 5.8115104 | F30: =E30*3.6 -> 20.921437 | G30: =(E30+E29)/2+G29 -> 227.40887 | H30: =(E30+E29)/2 -> 6.2585496 | I30: =(H30-E29*1)*2 -> -0.89407852 | J30: =IF(D30<=10,1,IF(AND(D30>10,D30<=20),2,IF(D30>20,3))) -> 2 | K30: =IF(J30=1,'Given Data '!C$46,IF(J30=2,'Given Data '!C$47,IF(J30=3,'Given Data '!C$48))) -> 585.34306 | L30: ='Given Data '!C$17*'Given Data '!C$21*8.91 -> 92.968722 | M30: 0 | N30: =0.5*'Given Data '!C$19*'Given Data '!C$9*'Given Data '!C$20*Sheet1!E30^2 -> 15.877871 | O30: =K30*I30 -> -523.34266 | P30: =L30+M30+N30+O30 -> -414.49607 | Q30: =IF(P30>=0,P30,IF(P30<0,-P30)) -> 414.49607 | R30: =Q30*'Given Data '!C$13 -> 105.282 | S30: =R30/(IF(J30=1,'Given Data '!I$6,IF(J30=2,'Given Data '!I$7,IF(J30=3,'Given Data '!I$8)))) -> 6.3163787 | T30: =(Q30*H30)/1000 -> 2.5941442 | U30: =60*T30*1000/(2*PI()*S30) -> 3921.9074 | V30: =ROUND(S30,0) -> 6 | W30: =MROUND(U30,500) -> 4000 | X30: =T30/3600 -> 0.00072059561 | Y30: =INDEX('Given Data '!F$15:S$37,MATCH(Sheet1!V30,'Given Data '!E$15:E$37,0),MATCH(Sheet1!W30,'Given Data '!F$38:S$38,0)) -> 603.98588 | Z30: =Y30*X30 -> 0.43522958 | AA30: =AA29+Z30 -> 14.021928 | AB30: =AVERAGE(T$2:T$218) -> 3.4833445 | AC30: =(P30*G30)/1000 -> -94.260083
C31: =C30+1 -> 29 | D31: 13 | E31: =D31/2.23694 -> 5.8115104 | F31: =E31*3.6 -> 20.921437 | G31: =(E31+E30)/2+G30 -> 233.22038 | H31: =(E31+E30)/2 -> 5.8115104 | I31: =(H31-E30*1)*2 -> 0 | J31: =IF(D31<=10,1,IF(AND(D31>10,D31<=20),2,IF(D31>20,3))) -> 2 | K31: =IF(J31=1,'Given Data '!C$46,IF(J31=2,'Given Data '!C$47,IF(J31=3,'Given Data '!C$48))) -> 585.34306 | L31: ='Given Data '!C$17*'Given Data '!C$21*8.91 -> 92.968722 | M31: 0 | N31: =0.5*'Given Data '!C$19*'Given Data '!C$9*'Given Data '!C$20*Sheet1!E31^2 -> 15.877871 | O31: =K31*I31 -> 0 | P31: =L31+M31+N31+O31 -> 108.84659 | Q31: =IF(P31>=0,P31,IF(P31<0,-P31)) -> 108.84659 | R31: =Q31*'Given Data '!C$13 -> 27.647035 | S31: =R31/(IF(J31=1,'Given Data '!I$6,IF(J31=2,'Given Data '!I$7,IF(J31=3,'Given Data '!I$8)))) -> 1.6586799 | T31: =(Q31*H31)/1000 -> 0.6325631 | U31: =60*T31*1000/(2*PI()*S31) -> 3641.7712 | V31: =ROUND(S31,0) -> 2 | W31: =MROUND(U31,500) -> 3500 | X31: =T31/3600 -> 0.00017571197 | Y31: =INDEX('Given Data '!F$15:S$37,MATCH(Sheet1!V31,'Given Data '!E$15:E$37,0),MATCH(Sheet1!W31,'Given Data '!F$38:S$38,0)) -> 833.54953 | Z31: =Y31*X31 -> 0.14646463 | AA31: =AA30+Z31 -> 14.168393 | AB31: =AVERAGE(T$2:T$218) -> 3.4833445 | AC31: =(P31*G31)/1000 -> 25.385244
C32: =C31+1 -> 30 | D32: 13 | E32: =D32/2.23694 -> 5.8115104 | F32: =E32*3.6 -> 20.921437 | G32: =(E32+E31)/2+G31 -> 239.03189 | H32: =(E32+E31)/2 -> 5.8115104 | I32: =(H32-E31*1)*2 -> 0 | J32: =IF(D32<=10,1,IF(AND(D32>10,D32<=20),2,IF(D32>20,3))) -> 2 | K32: =IF(J32=1,'Given Data '!C$46,IF(J32=2,'Given Data '!C$47,IF(J32=3,'Given Data '!C$48))) -> 585.34306 | L32: ='Given Data '!C$17*'Given Data '!C$21*8.91 -> 92.968722 | M32: 0 | N32: =0.5*'Given Data '!C$19*'Given Data '!C$9*'Given Data '!C$20*Sheet1!E32^2 -> 15.877871 | O32: =K32*I32 -> 0 | P32: =L32+M32+N32+O32 -> 108.84659 | Q32: =IF(P32>=0,P32,IF(P32<0,-P32)) -> 108.84659 | R32: =Q32*'Given Data '!C$13 -> 27.647035 | S32: =R32/(IF(J32=1,'Given Data '!I$6,IF(J32=2,'Given Data '!I$7,IF(J32=3,'Given Data '!I$8)))) -> 1.6586799 | T32: =(Q32*H32)/1000 -> 0.6325631 | U32: =60*T32*1000/(2*PI()*S32) -> 3641.7712 | V32: =ROUND(S32,0) -> 2 | W32: =MROUND(U32,500) -> 3500 | X32: =T32/3600 -> 0.00017571197 | Y32: =INDEX('Given Data '!F$15:S$37,MATCH(Sheet1!V32,'Given Data '!E$15:E$37,0),MATCH(Sheet1!W32,'Given Data '!F$38:S$38,0)) -> 833.54953 | Z32: =Y32*X32 -> 0.14646463 | AA32: =AA31+Z32 -> 14.314858 | AB32: =AVERAGE(T$2:T$218) -> 3.4833445 | AC32: =(P32*G32)/1000 -> 26.017807
C33: =C32+1 -> 31 | D33: 13 | E33: =D33/2.23694 -> 5.8115104 | F33: =E33*3.6 -> 20.921437 | G33: =(E33+E32)/2+G32 -> 244.8434 | H33: =(E33+E32)/2 -> 5.8115104 | I33: =(H33-E32*1)*2 -> 0 | J33: =IF(D33<=10,1,IF(AND(D33>10,D33<=20),2,IF(D33>20,3))) -> 2 | K33: =IF(J33=1,'Given Data '!C$46,IF(J33=2,'Given Data '!C$47,IF(J33=3,'Given Data '!C$48))) -> 585.34306 | L33: ='Given Data '!C$17*'Given Data '!C$21*8.91 -> 92.968722 | M33: 0 | N33: =0.5*'Given Data '!C$19*'Given Data '!C$9*'Given Data '!C$20*Sheet1!E33^2 -> 15.877871 | O33: =K33*I33 -> 0 | P33: =L33+M33+N33+O33 -> 108.84659 | Q33: =IF(P33>=0,P33,IF(P33<0,-P33)) -> 108.84659 | R33: =Q33*'Given Data '!C$13 -> 27.647035 | S33: =R33/(IF(J33=1,'Given Data '!I$6,IF(J33=2,'Given Data '!I$7,IF(J33=3,'Given Data '!I$8)))) -> 1.6586799 | T33: =(Q33*H33)/1000 -> 0.6325631 | U33: =60*T33*1000/(2*PI()*S33) -> 3641.7712 | V33: =ROUND(S33,0) -> 2 | W33: =MROUND(U33,500) -> 3500 | X33: =T33/3600 -> 0.00017571197 | Y33: =INDEX('Given Data '!F$15:S$37,MATCH(Sheet1!V33,'Given Data '!E$15:E$37,0),MATCH(Sheet1!W33,'Given Data '!F$38:S$38,0)) -> 833.54953 | Z33: =Y33*X33 -> 0.14646463 | AA33: =AA32+Z33 -> 14.461322 | AB33: =AVERAGE(T$2:T$218) -> 3.4833445 | AC33: =(P33*G33)/1000 -> 26.65037
C34: =C33+1 -> 32 | D34: 13 | E34: =D34/2.23694 -> 5.8115104 | F34: =E34*3.6 -> 20.921437 | G34: =(E34+E33)/2+G33 -> 250.65491 | H34: =(E34+E33)/2 -> 5.8115104 | I34: =(H34-E33*1)*2 -> 0 | J34: =IF(D34<=10,1,IF(AND(D34>10,D34<=20),2,IF(D34>20,3))) -> 2 | K34: =IF(J34=1,'Given Data '!C$46,IF(J34=2,'Given Data '!C$47,IF(J34=3,'Given Data '!C$48))) -> 585.34306 | L34: ='Given Data '!C$17*'Given Data '!C$21*8.91 -> 92.968722 | M34: 0 | N34: =0.5*'Given Data '!C$19*'Given Data '!C$9*'Given Data '!C$20*Sheet1!E34^2 -> 15.877871 | O34: =K34*I34 -> 0 | P34: =L34+M34+N34+O34 -> 108.84659 | Q34: =IF(P34>=0,P34,IF(P34<0,-P34)) -> 108.84659 | R34: =Q34*'Given Data '!C$13 -> 27.647035 | S34: =R34/(IF(J34=1,'Given Data '!I$6,IF(J34=2,'Given Data '!I$7,IF(J34=3,'Given Data '!I$8)))) -> 1.6586799 | T34: =(Q34*H34)/1000 -> 0.6325631 | U34: =60*T34*1000/(2*PI()*S34) -> 3641.7712 | V34: =ROUND(S34,0) -> 2 | W34: =MROUND(U34,500) -> 3500 | X34: =T34/3600 -> 0.00017571197 | Y34: =INDEX('Given Data '!F$15:S$37,MATCH(Sheet1!V34,'Given Data '!E$15:E$37,0),MATCH(Sheet1!W34,'Given Data '!F$38:S$38,0)) -> 833.54953 | Z34: =Y34*X34 -> 0.14646463 | AA34: =AA33+Z34 -> 14.607787 | AB34: =AVERAGE(T$2:T$218) -> 3.4833445 | AC34: =(P34*G34)/1000 -> 27.282933
C35: =C34+1 -> 33 | D35: 13 | E35: =D35/2.23694 -> 5.8115104 | F35: =E35*3.6 -> 20.921437 | G35: =(E35+E34)/2+G34 -> 256.46642 | H35: =(E35+E34)/2 -> 5.8115104 | I35: =(H35-E34*1)*2 -> 0 | J35: =IF(D35<=10,1,IF(AND(D35>10,D35<=20),2,IF(D35>20,3))) -> 2 | K35: =IF(J35=1,'Given Data '!C$46,IF(J35=2,'Given Data '!C$47,IF(J35=3,'Given Data '!C$48))) -> 585.34306 | L35: ='Given Data '!C$17*'Given Data '!C$21*8.91 -> 92.968722 | M35: 0 | N35: =0.5*'Given Data '!C$19*'Given Data '!C$9*'Given Data '!C$20*Sheet1!E35^2 -> 15.877871 | O35: =K35*I35 -> 0 | P35: =L35+M35+N35+O35 -> 108.84659 | Q35: =IF(P35>=0,P35,IF(P35<0,-P35)) -> 108.84659 | R35: =Q35*'Given Data '!C$13 -> 27.647035 | S35: =R35/(IF(J35=1,'Given Data '!I$6,IF(J35=2,'Given Data '!I$7,IF(J35=3,'Given Data '!I$8)))) -> 1.6586799 | T35: =(Q35*H35)/1000 -> 0.6325631 | U35: =60*T35*1000/(2*PI()*S35) -> 3641.7712 | V35: =ROUND(S35,0) -> 2 | W35: =MROUND(U35,500) -> 3500 | X35: =T35/3600 -> 0.00017571197 | Y35: =INDEX('Given Data '!F$15:S$37,MATCH(Sheet1!V35,'Given Data '!E$15:E$37,0),MATCH(Sheet1!W35,'Given Data '!F$38:S$38,0)) -> 833.54953 | Z35: =Y35*X35 -> 0.14646463 | AA35: =AA34+Z35 -> 14.754252 | AB35: =AVERAGE(T$2:T$218) -> 3.4833445 | AC35: =(P35*G35)/1000 -> 27.915496
B36: T1 finish | C36: =C35+1 -> 34 | D36: 13 | E36: =D36/2.23694 -> 5.8115104 | F36: =E36*3.6 -> 20.921437 | G36: =(E36+E35)/2+G35 -> 262.27793 | H36: =(E36+E35)/2 -> 5.8115104 | I36: =(H36-E35*1)*2 -> 0 | J36: =IF(D36<=10,1,IF(AND(D36>10,D36<=20),2,IF(D36>20,3))) -> 2 | K36: =IF(J36=1,'Given Data '!C$46,IF(J36=2,'Given Data '!C$47,IF(J36=3,'Given Data '!C$48))) -> 585.34306 | L36: ='Given Data '!C$17*'Given Data '!C$21*8.91 -> 92.968722 | M36: 0 | N36: =0.5*'Given Data '!C$19*'Given Data '!C$9*'Given Data '!C$20*Sheet1!E36^2 -> 15.877871 | O36: =K36*I36 -> 0 | P36: =L36+M36+N36+O36 -> 108.84659 | Q36: =IF(P36>=0,P36,IF(P36<0,-P36)) -> 108.84659 | R36: =Q36*'Given Data '!C$13 -> 27.647035 | S36: =R36/(IF(J36=1,'Given Data '!I$6,IF(J36=2,'Given Data '!I$7,IF(J36=3,'Given Data '!I$8)))) -> 1.6586799 | T36: =(Q36*H36)/1000 -> 0.6325631 | U36: =60*T36*1000/(2*PI()*S36) -> 3641.7712 | V36: =ROUND(S36,0) -> 2 | W36: =MROUND(U36,500) -> 3500 | X36: =T36/3600 -> 0.00017571197 | Y36: =INDEX('Given Data '!F$15:S$37,MATCH(Sheet1!V36,'Given Data '!E$15:E$37,0),MATCH(Sheet1!W36,'Given Data '!F$38:S$38,0)) -> 833.54953 | Z36: =Y36*X36 -> 0.14646463 | AA36: =AA35+Z36 -> 14.900716 | AB36: =AVERAGE(T$2:T$218) -> 3.4833445 | AC36: =(P36*G36)/1000 -> 28.548059
C37: =C36+1 -> 35 | D37: 15 | E37: =D37/2.23694 -> 6.7055889 | F37: =E37*3.6 -> 24.14012 | G37: =(E37+E36)/2+G36 -> 268.53648 | H37: =(E37+E36)/2 -> 6.2585496 | I37: =(H37-E36*1)*2 -> 0.89407852 | J37: =IF(D37<=10,1,IF(AND(D37>10,D37<=20),2,IF(D37>20,3))) -> 2 | K37: =IF(J37=1,'Given Data '!C$46,IF(J37=2,'Given Data '!C$47,IF(J37=3,'Given Data '!C$48))) -> 585.34306 | L37: ='Given Data '!C$17*'Given Data '!C$21*8.91 -> 92.968722 | M37: 0 | N37: =0.5*'Given Data '!C$19*'Given Data '!C$9*'Given Data '!C$20*Sheet1!E37^2 -> 21.139177 | O37: =K37*I37 -> 523.34266 | P37: =L37+M37+N37+O37 -> 637.45056 | Q37: =IF(P37>=0,P37,IF(P37<0,-P37)) -> 637.45056 | R37: =Q37*'Given Data '!C$13 -> 161.91244 | S37: =R37/(IF(J37=1,'Given Data '!I$6,IF(J37=2,'Given Data '!I$7,IF(J37=3,'Given Data '!I$8)))) -> 9.7139139 | T37: =(Q37*H37)/1000 -> 3.989516 | U37: =60*T37*1000/(2*PI()*S37) -> 3921.9074 | V37: =ROUND(S37,0) -> 10 | W37: =MROUND(U37,500) -> 4000 | X37: =T37/3600 -> 0.0011081989 | Y37: =INDEX('Given Data '!F$15:S$37,MATCH(Sheet1!V37,'Given Data '!E$15:E$37,0),MATCH(Sheet1!W37,'Given Data '!F$38:S$38,0)) -> 495.94176 | Z37: =Y37*X37 -> 0.54960211 | AA37: =AA36+Z37 -> 15.450318 | AB37: =AVERAGE(T$2:T$218) -> 3.4833445 | AC37: =(P37*G37)/1000 -> 171.17873
C38: =C37+1 -> 36 | D38: 16 | E38: =D38/2.23694 -> 7.1526281 | F38: =E38*3.6 -> 25.749461 | G38: =(E38+E37)/2+G37 -> 275.46559 | H38: =(E38+E37)/2 -> 6.9291085 | I38: =(H38-E37*1)*2 -> 0.44703926 | J38: =IF(D38<=10,1,IF(AND(D38>10,D38<=20),2,IF(D38>20,3))) -> 2 | K38: =IF(J38=1,'Given Data '!C$46,IF(J38=2,'Given Data '!C$47,IF(J38=3,'Given Data '!C$48))) -> 585.34306 | L38: ='Given Data '!C$17*'Given Data '!C$21*8.91 -> 92.968722 | M38: 0 | N38: =0.5*'Given Data '!C$19*'Given Data '!C$9*'Given Data '!C$20*Sheet1!E38^2 -> 24.051686 | O38: =K38*I38 -> 261.67133 | P38: =L38+M38+N38+O38 -> 378.69174 | Q38: =IF(P38>=0,P38,IF(P38<0,-P38)) -> 378.69174 | R38: =Q38*'Given Data '!C$13 -> 96.187701 | S38: =R38/(IF(J38=1,'Given Data '!I$6,IF(J38=2,'Given Data '!I$7,IF(J38=3,'Given Data '!I$8)))) -> 5.7707674 | T38: =(Q38*H38)/1000 -> 2.6239961 | U38: =60*T38*1000/(2*PI()*S38) -> 4342.1118 | V38: =ROUND(S38,0) -> 6 | W38: =MROUND(U38,500) -> 4500 | X38: =T38/3600 -> 0.00072888782 | Y38: =INDEX('Given Data '!F$15:S$37,MATCH(Sheet1!V38,'Given Data '!E$15:E$37,0),MATCH(Sheet1!W38,'Given Data '!F$38:S$38,0)) -> 560.7605 | Z38: =Y38*X38 -> 0.40873149 | AA38: =AA37+Z38 -> 15.85905 | AB38: =AVERAGE(T$2:T$218) -> 3.4833445 | AC38: =(P38*G38)/1000 -> 104.31654
C39: =C38+1 -> 37 | D39: 15 | E39: =D39/2.23694 -> 6.7055889 | F39: =E39*3.6 -> 24.14012 | G39: =(E39+E38)/2+G38 -> 282.3947 | H39: =(E39+E38)/2 -> 6.9291085 | I39: =(H39-E38*1)*2 -> -0.44703926 | J39: =IF(D39<=10,1,IF(AND(D39>10,D39<=20),2,IF(D39>20,3))) -> 2 | K39: =IF(J39=1,'Given Data '!C$46,IF(J39=2,'Given Data '!C$47,IF(J39=3,'Given Data '!C$48))) -> 585.34306 | L39: ='Given Data '!C$17*'Given Data '!C$21*8.91 -> 92.968722 | M39: 0 | N39: =0.5*'Given Data '!C$19*'Given Data '!C$9*'Given Data '!C$20*Sheet1!E39^2 -> 21.139177 | O39: =K39*I39 -> -261.67133 | P39: =L39+M39+N39+O39 -> -147.56343 | Q39: =IF(P39>=0,P39,IF(P39<0,-P39)) -> 147.56343 | R39: =Q39*'Given Data '!C$13 -> 37.481111 | S39: =R39/(IF(J39=1,'Given Data '!I$6,IF(J39=2,'Given Data '!I$7,IF(J39=3,'Given Data '!I$8)))) -> 2.2486739 | T39: =(Q39*H39)/1000 -> 1.022483 | U39: =60*T39*1000/(2*PI()*S39) -> 4342.1118 | V39: =ROUND(S39,0) -> 2 | W39: =MROUND(U39,500) -> 4500 | X39: =T39/3600 -> 0.00028402306 | Y39: =INDEX('Given Data '!F$15:S$37,MATCH(Sheet1!V39,'Given Data '!E$15:E$37,0),MATCH(Sheet1!W39,'Given Data '!F$38:S$38,0)) -> 828.30575 | Z39: =Y39*X39 -> 0.23525794 | AA39: =AA38+Z39 -> 16.094308 | AB39: =AVERAGE(T$2:T$218) -> 3.4833445 | AC39: =(P39*G39)/1000 -> -41.671131
C40: =C39+1 -> 38 | D40: 14 | E40: =D40/2.23694 -> 6.2585496 | F40: =E40*3.6 -> 22.530779 | G40: =(E40+E39)/2+G39 -> 288.87677 | H40: =(E40+E39)/2 -> 6.4820693 | I40: =(H40-E39*1)*2 -> -0.44703926 | J40: =IF(D40<=10,1,IF(AND(D40>10,D40<=20),2,IF(D40>20,3))) -> 2 | K40: =IF(J40=1,'Given Data '!C$46,IF(J40=2,'Given Data '!C$47,IF(J40=3,'Given Data '!C$48))) -> 585.34306 | L40: ='Given Data '!C$17*'Given Data '!C$21*8.91 -> 92.968722 | M40: 0 | N40: =0.5*'Given Data '!C$19*'Given Data '!C$9*'Given Data '!C$20*Sheet1!E40^2 -> 18.414572 | O40: =K40*I40 -> -261.67133 | P40: =L40+M40+N40+O40 -> -150.28804 | Q40: =IF(P40>=0,P40,IF(P40<0,-P40)) -> 150.28804 | R40: =Q40*'Given Data '!C$13 -> 38.173161 | S40: =R40/(IF(J40=1,'Given Data '!I$6,IF(J40=2,'Given Data '!I$7,IF(J40=3,'Given Data '!I$8)))) -> 2.2901934 | T40: =(Q40*H40)/1000 -> 0.97417746 | U40: =60*T40*1000/(2*PI()*S40) -> 4061.9756 | V40: =ROUND(S40,0) -> 2 | W40: =MROUND(U40,500) -> 4000 | X40: =T40/3600 -> 0.00027060485 | Y40: =INDEX('Given Data '!F$15:S$37,MATCH(Sheet1!V40,'Given Data '!E$15:E$37,0),MATCH(Sheet1!W40,'Given Data '!F$38:S$38,0)) -> 845.6519 | Z40: =Y40*X40 -> 0.2288375 | AA40: =AA39+Z40 -> 16.323145 | AB40: =AVERAGE(T$2:T$218) -> 3.4833445 | AC40: =(P40*G40)/1000 -> -43.414722
C41: =C40+1 -> 39 | D41: 13 | E41: =D41/2.23694 -> 5.8115104 | F41: =E41*3.6 -> 20.921437 | G41: =(E41+E40)/2+G40 -> 294.9118 | H41: =(E41+E40)/2 -> 6.03503 | I41: =(H41-E40*1)*2 -> -0.44703926 | J41: =IF(D41<=10,1,IF(AND(D41>10,D41<=20),2,IF(D41>20,3))) -> 2 | K41: =IF(J41=1,'Given Data '!C$46,IF(J41=2,'Given Data '!C$47,IF(J41=3,'Given Data '!C$48))) -> 585.34306 | L41: ='Given Data '!C$17*'Given Data '!C$21*8.91 -> 92.968722 | M41: 0 | N41: =0.5*'Given Data '!C$19*'Given Data '!C$9*'Given Data '!C$20*Sheet1!E41^2 -> 15.877871 | O41: =K41*I41 -> -261.67133 | P41: =L41+M41+N41+O41 -> -152.82474 | Q41: =IF(P41>=0,P41,IF(P41<0,-P41)) -> 152.82474 | R41: =Q41*'Given Data '!C$13 -> 38.817483 | S41: =R41/(IF(J41=1,'Given Data '!I$6,IF(J41=2,'Given Data '!I$7,IF(J41=3,'Given Data '!I$8)))) -> 2.3288494 | T41: =(Q41*H41)/1000 -> 0.92230187 | U41: =60*T41*1000/(2*PI()*S41) -> 3781.8393 | V41: =ROUND(S41,0) -> 2 | W41: =MROUND(U41,500) -> 4000 | X41: =T41/3600 -> 0.00025619496 | Y41: =INDEX('Given Data '!F$15:S$37,MATCH(Sheet1!V41,'Given Data '!E$15:E$37,0),MATCH(Sheet1!W41,'Given Data '!F$38:S$38,0)) -> 845.6519 | Z41: =Y41*X41 -> 0.21665176 | AA41: =AA40+Z41 -> 16.539797 | AB41: =AVERAGE(T$2:T$218) -> 3.4833445 | AC41: =(P41*G41)/1000 -> -45.069818
B42: T2 start | C42: =C41+1 -> 40 | D42: 13 | E42: =D42/2.23694 -> 5.8115104 | F42: =E42*3.6 -> 20.921437 | G42: =(E42+E41)/2+G41 -> 300.72331 | H42: =(E42+E41)/2 -> 5.8115104 | I42: =(H42-E41*1)*2 -> 0 | J42: =IF(D42<=10,1,IF(AND(D42>10,D42<=20),2,IF(D42>20,3))) -> 2 | K42: =IF(J42=1,'Given Data '!C$46,IF(J42=2,'Given Data '!C$47,IF(J42=3,'Given Data '!C$48))) -> 585.34306 | L42: ='Given Data '!C$17*'Given Data '!C$21*8.91 -> 92.968722 | M42: 0 | N42: =0.5*'Given Data '!C$19*'Given Data '!C$9*'Given Data '!C$20*Sheet1!E42^2 -> 15.877871 | O42: =K42*I42 -> 0 | P42: =L42+M42+N42+O42 -> 108.84659 | Q42: =IF(P42>=0,P42,IF(P42<0,-P42)) -> 108.84659 | R42: =Q42*'Given Data '!C$13 -> 27.647035 | S42: =R42/(IF(J42=1,'Given Data '!I$6,IF(J42=2,'Given Data '!I$7,IF(J42=3,'Given Data '!I$8)))) -> 1.6586799 | T42: =(Q42*H42)/1000 -> 0.6325631 | U42: =60*T42*1000/(2*PI()*S42) -> 3641.7712 | V42: =ROUND(S42,0) -> 2 | W42: =MROUND(U42,500) -> 3500 | X42: =T42/3600 -> 0.00017571197 | Y42: =INDEX('Given Data '!F$15:S$37,MATCH(Sheet1!V42,'Given Data '!E$15:E$37,0),MATCH(Sheet1!W42,'Given Data '!F$38:S$38,0)) -> 833.54953 | Z42: =Y42*X42 -> 0.14646463 | AA42: =AA41+Z42 -> 16.686262 | AB42: =AVERAGE(T$2:T$218) -> 3.4833445 | AC42: =(P42*G42)/1000 -> 32.732708
C43: =C42+1 -> 41 | D43: 13 | E43: =D43/2.23694 -> 5.8115104 | F43: =E43*3.6 -> 20.921437 | G43: =(E43+E42)/2+G42 -> 306.53482 | H43: =(E43+E42)/2 -> 5.8115104 | I43: =(H43-E42*1)*2 -> 0 | J43: =IF(D43<=10,1,IF(AND(D43>10,D43<=20),2,IF(D43>20,3))) -> 2 | K43: =IF(J43=1,'Given Data '!C$46,IF(J43=2,'Given Data '!C$47,IF(J43=3,'Given Data '!C$48))) -> 585.34306 | L43: ='Given Data '!C$17*'Given Data '!C$21*8.91 -> 92.968722 | M43: 0 | N43: =0.5*'Given Data '!C$19*'Given Data '!C$9*'Given Data '!C$20*Sheet1!E43^2 -> 15.877871 | O43: =K43*I43 -> 0 | P43: =L43+M43+N43+O43 -> 108.84659 | Q43: =IF(P43>=0,P43,IF(P43<0,-P43)) -> 108.84659 | R43: =Q43*'Given Data '!C$13 -> 27.647035 | S43: =R43/(IF(J43=1,'Given Data '!I$6,IF(J43=2,'Given Data '!I$7,IF(J43=3,'Given Data '!I$8)))) -> 1.6586799 | T43: =(Q43*H43)/1000 -> 0.6325631 | U43: =60*T43*1000/(2*PI()*S43) -> 3641.7712 | V43: =ROUND(S43,0) -> 2 | W43: =MROUND(U43,500) -> 3500 | X43: =T43/3600 -> 0.00017571197 | Y43: =INDEX('Given Data '!F$15:S$37,MATCH(Sheet1!V43,'Given Data '!E$15:E$37,0),MATCH(Sheet1!W43,'Given Data '!F$38:S$38,0)) -> 833.54953 | Z43: =Y43*X43 -> 0.14646463 | AA43: =AA42+Z43 -> 16.832726 | AB43: =AVERAGE(T$2:T$218) -> 3.4833445 | AC43: =(P43*G43)/1000 -> 33.365271
C44: =C43+1 -> 42 | D44: 13 | E44: =D44/2.23694 -> 5.8115104 | F44: =E44*3.6 -> 20.921437 | G44: =(E44+E43)/2+G43 -> 312.34633 | H44: =(E44+E43)/2 -> 5.8115104 | I44: =(H44-E43*1)*2 -> 0 | J44: =IF(D44<=10,1,IF(AND(D44>10,D44<=20),2,IF(D44>20,3))) -> 2 | K44: =IF(J44=1,'Given Data '!C$46,IF(J44=2,'Given Data '!C$47,IF(J44=3,'Given Data '!C$48))) -> 585.34306 | L44: ='Given Data '!C$17*'Given Data '!C$21*8.91 -> 92.968722 | M44: 0 | N44: =0.5*'Given Data '!C$19*'Given Data '!C$9*'Given Data '!C$20*Sheet1!E44^2 -> 15.877871 | O44: =K44*I44 -> 0 | P44: =L44+M44+N44+O44 -> 108.84659 | Q44: =IF(P44>=0,P44,IF(P44<0,-P44)) -> 108.84659 | R44: =Q44*'Given Data '!C$13 -> 27.647035 | S44: =R44/(IF(J44=1,'Given Data '!I$6,IF(J44=2,'Given Data '!I$7,IF(J44=3,'Given Data '!I$8)))) -> 1.6586799 | T44: =(Q44*H44)/1000 -> 0.6325631 | U44: =60*T44*1000/(2*PI()*S44) -> 3641.7712 | V44: =ROUND(S44,0) -> 2 | W44: =MROUND(U44,500) -> 3500 | X44: =T44/3600 -> 0.00017571197 | Y44: =INDEX('Given Data '!F$15:S$37,MATCH(Sheet1!V44,'Given Data '!E$15:E$37,0),MATCH(Sheet1!W44,'Given Data '!F$38:S$38,0)) -> 833.54953 | Z44: =Y44*X44 -> 0.14646463 | AA44: =AA43+Z44 -> 16.979191 | AB44: =AVERAGE(T$2:T$218) -> 3.4833445 | AC44: =(P44*G44)/1000 -> 33.997834
C45: =C44+1 -> 43 | D45: 13 | E45: =D45/2.23694 -> 5.8115104 | F45: =E45*3.6 -> 20.921437 | G45: =(E45+E44)/2+G44 -> 318.15784 | H45: =(E45+E44)/2 -> 5.8115104 | I45: =(H45-E44*1)*2 -> 0 | J45: =IF(D45<=10,1,IF(AND(D45>10,D45<=20),2,IF(D45>20,3))) -> 2 | K45: =IF(J45=1,'Given Data '!C$46,IF(J45=2,'Given Data '!C$47,IF(J45=3,'Given Data '!C$48))) -> 585.34306 | L45: ='Given Data '!C$17*'Given Data '!C$21*8.91 -> 92.968722 | M45: 0 | N45: =0.5*'Given Data '!C$19*'Given Data '!C$9*'Given Data '!C$20*Sheet1!E45^2 -> 15.877871 | O45: =K45*I45 -> 0 | P45: =L45+M45+N45+O45 -> 108.84659 | Q45: =IF(P45>=0,P45,IF(P45<0,-P45)) -> 108.84659 | R45: =Q45*'Given Data '!C$13 -> 27.647035 | S45: =R45/(IF(J45=1,'Given Data '!I$6,IF(J45=2,'Given Data '!I$7,IF(J45=3,'Given Data '!I$8)))) -> 1.6586799 | T45: =(Q45*H45)/1000 -> 0.6325631 | U45: =60*T45*1000/(2*PI()*S45) -> 3641.7712 | V45: =ROUND(S45,0) -> 2 | W45: =MROUND(U45,500) -> 3500 | X45: =T45/3600 -> 0.00017571197 | Y45: =INDEX('Given Data '!F$15:S$37,MATCH(Sheet1!V45,'Given Data '!E$15:E$37,0),MATCH(Sheet1!W45,'Given Data '!F$38:S$38,0)) -> 833.54953 | Z45: =Y45*X45 -> 0.14646463 | AA45: =AA44+Z45 -> 17.125656 | AB45: =AVERAGE(T$2:T$218) -> 3.4833445 | AC45: =(P45*G45)/1000 -> 34.630397
C46: =C45+1 -> 44 | D46: 13 | E46: =D46/2.23694 -> 5.8115104 | F46: =E46*3.6 -> 20.921437 | G46: =(E46+E45)/2+G45 -> 323.96935 | H46: =(E46+E45)/2 -> 5.8115104 | I46: =(H46-E45*1)*2 -> 0 | J46: =IF(D46<=10,1,IF(AND(D46>10,D46<=20),2,IF(D46>20,3))) -> 2 | K46: =IF(J46=1,'Given Data '!C$46,IF(J46=2,'Given Data '!C$47,IF(J46=3,'Given Data '!C$48))) -> 585.34306 | L46: ='Given Data '!C$17*'Given Data '!C$21*8.91 -> 92.968722 | M46: 0 | N46: =0.5*'Given Data '!C$19*'Given Data '!C$9*'Given Data '!C$20*Sheet1!E46^2 -> 15.877871 | O46: =K46*I46 -> 0 | P46: =L46+M46+N46+O46 -> 108.84659 | Q46: =IF(P46>=0,P46,IF(P46<0,-P46)) -> 108.84659 | R46: =Q46*'Given Data '!C$13 -> 27.647035 | S46: =R46/(IF(J46=1,'Given Data '!I$6,IF(J46=2,'Given Data '!I$7,IF(J46=3,'Given Data '!I$8)))) -> 1.6586799 | T46: =(Q46*H46)/1000 -> 0.6325631 | U46: =60*T46*1000/(2*PI()*S46) -> 3641.7712 | V46: =ROUND(S46,0) -> 2 | W46: =MROUND(U46,500) -> 3500 | X46: =T46/3600 -> 0.00017571197 | Y46: =INDEX('Given Data '!F$15:S$37,MATCH(Sheet1!V46,'Given Data '!E$15:E$37,0),MATCH(Sheet1!W46,'Given Data '!F$38:S$38,0)) -> 833.54953 | Z46: =Y46*X46 -> 0.14646463 | AA46: =AA45+Z46 -> 17.27212 | AB46: =AVERAGE(T$2:T$218) -> 3.4833445 | AC46: =(P46*G46)/1000 -> 35.26296
C47: =C46+1 -> 45 | D47: 13 | E47: =D47/2.23694 -> 5.8115104 | F47: =E47*3.6 -> 20.921437 | G47: =(E47+E46)/2+G46 -> 329.78086 | H47: =(E47+E46)/2 -> 5.8115104 | I47: =(H47-E46*1)*2 -> 0 | J47: =IF(D47<=10,1,IF(AND(D47>10,D47<=20),2,IF(D47>20,3))) -> 2 | K47: =IF(J47=1,'Given Data '!C$46,IF(J47=2,'Given Data '!C$47,IF(J47=3,'Given Data '!C$48))) -> 585.34306 | L47: ='Given Data '!C$17*'Given Data '!C$21*8.91 -> 92.968722 | M47: 0 | N47: =0.5*'Given Data '!C$19*'Given Data '!C$9*'Given Data '!C$20*Sheet1!E47^2 -> 15.877871 | O47: =K47*I47 -> 0 | P47: =L47+M47+N47+O47 -> 108.84659 | Q47: =IF(P47>=0,P47,IF(P47<0,-P47)) -> 108.84659 | R47: =Q47*'Given Data '!C$13 -> 27.647035 | S47: =R47/(IF(J47=1,'Given Data '!I$6,IF(J47=2,'Given Data '!I$7,IF(J47=3,'Given Data '!I$8)))) -> 1.6586799 | T47: =(Q47*H47)/1000 -> 0.6325631 | U47: =60*T47*1000/(2*PI()*S47) -> 3641.7712 | V47: =ROUND(S47,0) -> 2 | W47: =MROUND(U47,500) -> 3500 | X47: =T47/3600 -> 0.00017571197 | Y47: =INDEX('Given Data '!F$15:S$37,MATCH(Sheet1!V47,'Given Data '!E$15:E$37,0),MATCH(Sheet1!W47,'Given Data '!F$38:S$38,0)) -> 833.54953 | Z47: =Y47*X47 -> 0.14646463 | AA47: =AA46+Z47 -> 17.418585 | AB47: =AVERAGE(T$2:T$218) -> 3.4833445 | AC47: =(P47*G47)/1000 -> 35.895523
C48: =C47+1 -> 46 | D48: 13 | E48: =D48/2.23694 -> 5.8115104 | F48: =E48*3.6 -> 20.921437 | G48: =(E48+E47)/2+G47 -> 335.59237 | H48: =(E48+E47)/2 -> 5.8115104 | I48: =(H48-E47*1)*2 -> 0 | J48: =IF(D48<=10,1,IF(AND(D48>10,D48<=20),2,IF(D48>20,3))) -> 2 | K48: =IF(J48=1,'Given Data '!C$46,IF(J48=2,'Given Data '!C$47,IF(J48=3,'Given Data '!C$48))) -> 585.34306 | L48: ='Given Data '!C$17*'Given Data '!C$21*8.91 -> 92.968722 | M48: 0 | N48: =0.5*'Given Data '!C$19*'Given Data '!C$9*'Given Data '!C$20*Sheet1!E48^2 -> 15.877871 | O48: =K48*I48 -> 0 | P48: =L48+M48+N48+O48 -> 108.84659 | Q48: =IF(P48>=0,P48,IF(P48<0,-P48)) -> 108.84659 | R48: =Q48*'Given Data '!C$13 -> 27.647035 | S48: =R48/(IF(J48=1,'Given Data '!I$6,IF(J48=2,'Given Data '!I$7,IF(J48=3,'Given Data '!I$8)))) -> 1.6586799 | T48: =(Q48*H48)/1000 -> 0.6325631 | U48: =60*T48*1000/(2*PI()*S48) -> 3641.7712 | V48: =ROUND(S48,0) -> 2 | W48: =MROUND(U48,500) -> 3500 | X48: =T48/3600 -> 0.00017571197 | Y48: =INDEX('Given Data '!F$15:S$37,MATCH(Sheet1!V48,'Given Data '!E$15:E$37,0),MATCH(Sheet1!W48,'Given Data '!F$38:S$38,0)) -> 833.54953 | Z48: =Y48*X48 -> 0.14646463 | AA48: =AA47+Z48 -> 17.565049 | AB48: =AVERAGE(T$2:T$218) -> 3.4833445 | AC48: =(P48*G48)/1000 -> 36.528086
C49: =C48+1 -> 47 | D49: 13 | E49: =D49/2.23694 -> 5.8115104 | F49: =E49*3.6 -> 20.921437 | G49: =(E49+E48)/2+G48 -> 341.40388 | H49: =(E49+E48)/2 -> 5.8115104 | I49: =(H49-E48*1)*2 -> 0 | J49: =IF(D49<=10,1,IF(AND(D49>10,D49<=20),2,IF(D49>20,3))) -> 2 | K49: =IF(J49=1,'Given Data '!C$46,IF(J49=2,'Given Data '!C$47,IF(J49=3,'Given Data '!C$48))) -> 585.34306 | L49: ='Given Data '!C$17*'Given Data '!C$21*8.91 -> 92.968722 | M49: 0 | N49: =0.5*'Given Data '!C$19*'Given Data '!C$9*'Given Data '!C$20*Sheet1!E49^2 -> 15.877871 | O49: =K49*I49 -> 0 | P49: =L49+M49+N49+O49 -> 108.84659 | Q49: =IF(P49>=0,P49,IF(P49<0,-P49)) -> 108.84659 | R49: =Q49*'Given Data '!C$13 -> 27.647035 | S49: =R49/(IF(J49=1,'Given Data '!I$6,IF(J49=2,'Given Data '!I$7,IF(J49=3,'Given Data '!I$8)))) -> 1.6586799 | T49: =(Q49*H49)/1000 -> 0.6325631 | U49: =60*T49*1000/(2*PI()*S49) -> 3641.7712 | V49: =ROUND(S49,0) -> 2 | W49: =MROUND(U49,500) -> 3500 | X49: =T49/3600 -> 0.00017571197 | Y49: =INDEX('Given Data '!F$15:S$37,MATCH(Sheet1!V49,'Given Data '!E$15:E$37,0),MATCH(Sheet1!W49,'Given Data '!F$38:S$38,0)) -> 833.54953 | Z49: =Y49*X49 -> 0.14646463 | AA49: =AA48+Z49 -> 17.711514 | AB49: =AVERAGE(T$2:T$218) -> 3.4833445 | AC49: =(P49*G49)/1000 -> 37.160649
C50: =C49+1 -> 48 | D50: 13 | E50: =D50/2.23694 -> 5.8115104 | F50: =E50*3.6 -> 20.921437 | G50: =(E50+E49)/2+G49 -> 347.21539 | H50: =(E50+E49)/2 -> 5.8115104 | I50: =(H50-E49*1)*2 -> 0 | J50: =IF(D50<=10,1,IF(AND(D50>10,D50<=20),2,IF(D50>20,3))) -> 2 | K50: =IF(J50=1,'Given Data '!C$46,IF(J50=2,'Given Data '!C$47,IF(J50=3,'Given Data '!C$48))) -> 585.34306 | L50: ='Given Data '!C$17*'Given Data '!C$21*8.91 -> 92.968722 | M50: 0 | N50: =0.5*'Given Data '!C$19*'Given Data '!C$9*'Given Data '!C$20*Sheet1!E50^2 -> 15.877871 | O50: =K50*I50 -> 0 | P50: =L50+M50+N50+O50 -> 108.84659 | Q50: =IF(P50>=0,P50,IF(P50<0,-P50)) -> 108.84659 | R50: =Q50*'Given Data '!C$13 -> 27.647035 | S50: =R50/(IF(J50=1,'Given Data '!I$6,IF(J50=2,'Given Data '!I$7,IF(J50=3,'Given Data '!I$8)))) -> 1.6586799 | T50: =(Q50*H50)/1000 -> 0.6325631 | U50: =60*T50*1000/(2*PI()*S50) -> 3641.7712 | V50: =ROUND(S50,0) -> 2 | W50: =MROUND(U50,500) -> 3500 | X50: =T50/3600 -> 0.00017571197 | Y50: =INDEX('Given Data '!F$15:S$37,MATCH(Sheet1!V50,'Given Data '!E$15:E$37,0),MATCH(Sheet1!W50,'Given Data '!F$38:S$38,0)) -> 833.54953 | Z50: =Y50*X50 -> 0.14646463 | AA50: =AA49+Z50 -> 17.857979 | AB50: =AVERAGE(T$2:T$218) -> 3.4833445 | AC50: =(P50*G50)/1000 -> 37.793212
C51: =C50+1 -> 49 | D51: 13 | E51: =D51/2.23694 -> 5.8115104 | F51: =E51*3.6 -> 20.921437 | G51: =(E51+E50)/2+G50 -> 353.0269 | H51: =(E51+E50)/2 -> 5.8115104 | I51: =(H51-E50*1)*2 -> 0 | J51: =IF(D51<=10,1,IF(AND(D51>10,D51<=20),2,IF(D51>20,3))) -> 2 | K51: =IF(J51=1,'Given Data '!C$46,IF(J51=2,'Given Data '!C$47,IF(J51=3,'Given Data '!C$48))) -> 585.34306 | L51: ='Given Data '!C$17*'Given Data '!C$21*8.91 -> 92.968722 | M51: 0 | N51: =0.5*'Given Data '!C$19*'Given Data '!C$9*'Given Data '!C$20*Sheet1!E51^2 -> 15.877871 | O51: =K51*I51 -> 0 | P51: =L51+M51+N51+O51 -> 108.84659 | Q51: =IF(P51>=0,P51,IF(P51<0,-P51)) -> 108.84659 | R51: =Q51*'Given Data '!C$13 -> 27.647035 | S51: =R51/(IF(J51=1,'Given Data '!I$6,IF(J51=2,'Given Data '!I$7,IF(J51=3,'Given Data '!I$8)))) -> 1.6586799 | T51: =(Q51*H51)/1000 -> 0.6325631 | U51: =60*T51*1000/(2*PI()*S51) -> 3641.7712 | V51: =ROUND(S51,0) -> 2 | W51: =MROUND(U51,500) -> 3500 | X51: =T51/3600 -> 0.00017571197 | Y51: =INDEX('Given Data '!F$15:S$37,MATCH(Sheet1!V51,'Given Data '!E$15:E$37,0),MATCH(Sheet1!W51,'Given Data '!F$38:S$38,0)) -> 833.54953 | Z51: =Y51*X51 -> 0.14646463 | AA51: =AA50+Z51 -> 18.004443 | AB51: =AVERAGE(T$2:T$218) -> 3.4833445 | AC51: =(P51*G51)/1000 -> 38.425775
C52: =C51+1 -> 50 | D52: 13 | E52: =D52/2.23694 -> 5.8115104 | F52: =E52*3.6 -> 20.921437 | G52: =(E52+E51)/2+G51 -> 358.83841 | H52: =(E52+E51)/2 -> 5.8115104 | I52: =(H52-E51*1)*2 -> 0 | J52: =IF(D52<=10,1,IF(AND(D52>10,D52<=20),2,IF(D52>20,3))) -> 2 | K52: =IF(J52=1,'Given Data '!C$46,IF(J52=2,'Given Data '!C$47,IF(J52=3,'Given Data '!C$48))) -> 585.34306 | L52: ='Given Data '!C$17*'Given Data '!C$21*8.91 -> 92.968722 | M52: 0 | N52: =0.5*'Given Data '!C$19*'Given Data '!C$9*'Given Data '!C$20*Sheet1!E52^2 -> 15.877871 | O52: =K52*I52 -> 0 | P52: =L52+M52+N52+O52 -> 108.84659 | Q52: =IF(P52>=0,P52,IF(P52<0,-P52)) -> 108.84659 | R52: =Q52*'Given Data '!C$13 -> 27.647035 | S52: =R52/(IF(J52=1,'Given Data '!I$6,IF(J52=2,'Given Data '!I$7,IF(J52=3,'Given Data '!I$8)))) -> 1.6586799 | T52: =(Q52*H52)/1000 -> 0.6325631 | U52: =60*T52*1000/(2*PI()*S52) -> 3641.7712 | V52: =ROUND(S52,0) -> 2 | W52: =MROUND(U52,500) -> 3500 | X52: =T52/3600 -> 0.00017571197 | Y52: =INDEX('Given Data '!F$15:S$37,MATCH(Sheet1!V52,'Given Data '!E$15:E$37,0),MATCH(Sheet1!W52,'Given Data '!F$38:S$38,0)) -> 833.54953 | Z52: =Y52*X52 -> 0.14646463 | AA52: =AA51+Z52 -> 18.150908 | AB52: =AVERAGE(T$2:T$218) -> 3.4833445 | AC52: =(P52*G52)/1000 -> 39.058339
B53: T2 finish | C53: =C52+1 -> 51 | D53: 13 | E53: =D53/2.23694 -> 5.8115104 | F53: =E53*3.6 -> 20.921437 | G53: =(E53+E52)/2+G52 -> 364.64992 | H53: =(E53+E52)/2 -> 5.8115104 | I53: =(H53-E52*1)*2 -> 0 | J53: =IF(D53<=10,1,IF(AND(D53>10,D53<=20),2,IF(D53>20,3))) -> 2 | K53: =IF(J53=1,'Given Data '!C$46,IF(J53=2,'Given Data '!C$47,IF(J53=3,'Given Data '!C$48))) -> 585.34306 | L53: ='Given Data '!C$17*'Given Data '!C$21*8.91 -> 92.968722 | M53: 0 | N53: =0.5*'Given Data '!C$19*'Given Data '!C$9*'Given Data '!C$20*Sheet1!E53^2 -> 15.877871 | O53: =K53*I53 -> 0 | P53: =L53+M53+N53+O53 -> 108.84659 | Q53: =IF(P53>=0,P53,IF(P53<0,-P53)) -> 108.84659 | R53: =Q53*'Given Data '!C$13 -> 27.647035 | S53: =R53/(IF(J53=1,'Given Data '!I$6,IF(J53=2,'Given Data '!I$7,IF(J53=3,'Given Data '!I$8)))) -> 1.6586799 | T53: =(Q53*H53)/1000 -> 0.6325631 | U53: =60*T53*1000/(2*PI()*S53) -> 3641.7712 | V53: =ROUND(S53,0) -> 2 | W53: =MROUND(U53,500) -> 3500 | X53: =T53/3600 -> 0.00017571197 | Y53: =INDEX('Given Data '!F$15:S$37,MATCH(Sheet1!V53,'Given Data '!E$15:E$37,0),MATCH(Sheet1!W53,'Given Data '!F$38:S$38,0)) -> 833.54953 | Z53: =Y53*X53 -> 0.14646463 | AA53: =AA52+Z53 -> 18.297373 | AB53: =AVERAGE(T$2:T$218) -> 3.4833445 | AC53: =(P53*G53)/1000 -> 39.690902
C54: =C53+1 -> 52 | D54: 14 | E54: =D54/2.23694 -> 6.2585496 | F54: =E54*3.6 -> 22.530779 | G54: =(E54+E53)/2+G53 -> 370.68495 | H54: =(E54+E53)/2 -> 6.03503 | I54: =(H54-E53*1)*2 -> 0.44703926 | J54: =IF(D54<=10,1,IF(AND(D54>10,D54<=20),2,IF(D54>20,3))) -> 2 | K54: =IF(J54=1,'Given Data '!C$46,IF(J54=2,'Given Data '!C$47,IF(J54=3,'Given Data '!C$48))) -> 585.34306 | L54: ='Given Data '!C$17*'Given Data '!C$21*8.91 -> 92.968722 | M54: 0 | N54: =0.5*'Given Data '!C$19*'Given Data '!C$9*'Given Data '!C$20*Sheet1!E54^2 -> 18.414572 | O54: =K54*I54 -> 261.67133 | P54: =L54+M54+N54+O54 -> 373.05462 | Q54: =IF(P54>=0,P54,IF(P54<0,-P54)) -> 373.05462 | R54: =Q54*'Given Data '!C$13 -> 94.755874 | S54: =R54/(IF(J54=1,'Given Data '!I$6,IF(J54=2,'Given Data '!I$7,IF(J54=3,'Given Data '!I$8)))) -> 5.6848652 | T54: =(Q54*H54)/1000 -> 2.2513958 | U54: =60*T54*1000/(2*PI()*S54) -> 3781.8393 | V54: =ROUND(S54,0) -> 6 | W54: =MROUND(U54,500) -> 4000 | X54: =T54/3600 -> 0.00062538773 | Y54: =INDEX('Given Data '!F$15:S$37,MATCH(Sheet1!V54,'Given Data '!E$15:E$37,0),MATCH(Sheet1!W54,'Given Data '!F$38:S$38,0)) -> 603.98588 | Z54: =Y54*X54 -> 0.37772536 | AA54: =AA53+Z54 -> 18.675098 | AB54: =AVERAGE(T$2:T$218) -> 3.4833445 | AC54: =(P54*G54)/1000 -> 138.28574
C55: =C54+1 -> 53 | D55: 16 | E55: =D55/2.23694 -> 7.1526281 | F55: =E55*3.6 -> 25.749461 | G55: =(E55+E54)/2+G54 -> 377.39054 | H55: =(E55+E54)/2 -> 6.7055889 | I55: =(H55-E54*1)*2 -> 0.89407852 | J55: =IF(D55<=10,1,IF(AND(D55>10,D55<=20),2,IF(D55>20,3))) -> 2 | K55: =IF(J55=1,'Given Data '!C$46,IF(J55=2,'Given Data '!C$47,IF(J55=3,'Given Data '!C$48))) -> 585.34306 | L55: ='Given Data '!C$17*'Given Data '!C$21*8.91 -> 92.968722 | M55: 0 | N55: =0.5*'Given Data '!C$19*'Given Data '!C$9*'Given Data '!C$20*Sheet1!E55^2 -> 24.051686 | O55: =K55*I55 -> 523.34266 | P55: =L55+M55+N55+O55 -> 640.36307 | Q55: =IF(P55>=0,P55,IF(P55<0,-P55)) -> 640.36307 | R55: =Q55*'Given Data '!C$13 -> 162.65222 | S55: =R55/(IF(J55=1,'Given Data '!I$6,IF(J55=2,'Given Data '!I$7,IF(J55=3,'Given Data '!I$8)))) -> 9.7582967 | T55: =(Q55*H55)/1000 -> 4.2940115 | U55: =60*T55*1000/(2*PI()*S55) -> 4202.0437 | V55: =ROUND(S55,0) -> 10 | W55: =MROUND(U55,500) -> 4000 | X55: =T55/3600 -> 0.001192781 | Y55: =INDEX('Given Data '!F$15:S$37,MATCH(Sheet1!V55,'Given Data '!E$15:E$37,0),MATCH(Sheet1!W55,'Given Data '!F$38:S$38,0)) -> 495.94176 | Z55: =Y55*X55 -> 0.5915499 | AA55: =AA54+Z55 -> 19.266648 | AB55: =AVERAGE(T$2:T$218) -> 3.4833445 | AC55: =(P55*G55)/1000 -> 241.66697
C56: =C55+1 -> 54 | D56: 18 | E56: =D56/2.23694 -> 8.0467067 | F56: =E56*3.6 -> 28.968144 | G56: =(E56+E55)/2+G55 -> 384.99021 | H56: =(E56+E55)/2 -> 7.5996674 | I56: =(H56-E55*1)*2 -> 0.89407852 | J56: =IF(D56<=10,1,IF(AND(D56>10,D56<=20),2,IF(D56>20,3))) -> 2 | K56: =IF(J56=1,'Given Data '!C$46,IF(J56=2,'Given Data '!C$47,IF(J56=3,'Given Data '!C$48))) -> 585.34306 | L56: ='Given Data '!C$17*'Given Data '!C$21*8.91 -> 92.968722 | M56: 0 | N56: =0.5*'Given Data '!C$19*'Given Data '!C$9*'Given Data '!C$20*Sheet1!E56^2 -> 30.440415 | O56: =K56*I56 -> 523.34266 | P56: =L56+M56+N56+O56 -> 646.7518 | Q56: =IF(P56>=0,P56,IF(P56<0,-P56)) -> 646.7518 | R56: =Q56*'Given Data '!C$13 -> 164.27496 | S56: =R56/(IF(J56=1,'Given Data '!I$6,IF(J56=2,'Given Data '!I$7,IF(J56=3,'Given Data '!I$8)))) -> 9.8556526 | T56: =(Q56*H56)/1000 -> 4.9150985 | U56: =60*T56*1000/(2*PI()*S56) -> 4762.3162 | V56: =ROUND(S56,0) -> 10 | W56: =MROUND(U56,500) -> 5000 | X56: =T56/3600 -> 0.0013653052 | Y56: =INDEX('Given Data '!F$15:S$37,MATCH(Sheet1!V56,'Given Data '!E$15:E$37,0),MATCH(Sheet1!W56,'Given Data '!F$38:S$38,0)) -> 373.21543 | Z56: =Y56*X56 -> 0.50955295 | AA56: =AA55+Z56 -> 19.776201 | AB56: =AVERAGE(T$2:T$218) -> 3.4833445 | AC56: =(P56*G56)/1000 -> 248.99311
C57: =C56+1 -> 55 | D57: 19 | E57: =D57/2.23694 -> 8.4937459 | F57: =E57*3.6 -> 30.577485 | G57: =(E57+E56)/2+G56 -> 393.26044 | H57: =(E57+E56)/2 -> 8.2702263 | I57: =(H57-E56*1)*2 -> 0.44703926 | J57: =IF(D57<=10,1,IF(AND(D57>10,D57<=20),2,IF(D57>20,3))) -> 2 | K57: =IF(J57=1,'Given Data '!C$46,IF(J57=2,'Given Data '!C$47,IF(J57=3,'Given Data '!C$48))) -> 585.34306 | L57: ='Given Data '!C$17*'Given Data '!C$21*8.91 -> 92.968722 | M57: 0 | N57: =0.5*'Given Data '!C$19*'Given Data '!C$9*'Given Data '!C$20*Sheet1!E57^2 -> 33.916635 | O57: =K57*I57 -> 261.67133 | P57: =L57+M57+N57+O57 -> 388.55669 | Q57: =IF(P57>=0,P57,IF(P57<0,-P57)) -> 388.55669 | R57: =Q57*'Given Data '!C$13 -> 98.693398 | S57: =R57/(IF(J57=1,'Given Data '!I$6,IF(J57=2,'Given Data '!I$7,IF(J57=3,'Given Data '!I$8)))) -> 5.9210964 | T57: =(Q57*H57)/1000 -> 3.2134517 | U57: =60*T57*1000/(2*PI()*S57) -> 5182.5205 | V57: =ROUND(S57,0) -> 6 | W57: =MROUND(U57,500) -> 5000 | X57: =T57/3600 -> 0.00089262548 | Y57: =INDEX('Given Data '!F$15:S$37,MATCH(Sheet1!V57,'Given Data '!E$15:E$37,0),MATCH(Sheet1!W57,'Given Data '!F$38:S$38,0)) -> 501.88402 | Z57: =Y57*X57 -> 0.44799446 | AA57: =AA56+Z57 -> 20.224195 | AB57: =AVERAGE(T$2:T$218) -> 3.4833445 | AC57: =(P57*G57)/1000 -> 152.80397
C58: =C57+1 -> 56 | D58: 20 | E58: =D58/2.23694 -> 8.9407852 | F58: =E58*3.6 -> 32.186827 | G58: =(E58+E57)/2+G57 -> 401.9777 | H58: =(E58+E57)/2 -> 8.7172656 | I58: =(H58-E57*1)*2 -> 0.44703926 | J58: =IF(D58<=10,1,IF(AND(D58>10,D58<=20),2,IF(D58>20,3))) -> 2 | K58: =IF(J58=1,'Given Data '!C$46,IF(J58=2,'Given Data '!C$47,IF(J58=3,'Given Data '!C$48))) -> 585.34306 | L58: ='Given Data '!C$17*'Given Data '!C$21*8.91 -> 92.968722 | M58: 0 | N58: =0.5*'Given Data '!C$19*'Given Data '!C$9*'Given Data '!C$20*Sheet1!E58^2 -> 37.580759 | O58: =K58*I58 -> 261.67133 | P58: =L58+M58+N58+O58 -> 392.22081 | Q58: =IF(P58>=0,P58,IF(P58<0,-P58)) -> 392.22081 | R58: =Q58*'Given Data '!C$13 -> 99.624086 | S58: =R58/(IF(J58=1,'Given Data '!I$6,IF(J58=2,'Given Data '!I$7,IF(J58=3,'Given Data '!I$8)))) -> 5.9769328 | T58: =(Q58*H58)/1000 -> 3.419093 | U58: =60*T58*1000/(2*PI()*S58) -> 5462.6568 | V58: =ROUND(S58,0) -> 6 | W58: =MROUND(U58,500) -> 5500 | X58: =T58/3600 -> 0.00094974804 | Y58: =INDEX('Given Data '!F$15:S$37,MATCH(Sheet1!V58,'Given Data '!E$15:E$37,0),MATCH(Sheet1!W58,'Given Data '!F$38:S$38,0)) -> 488.66659 | Z58: =Y58*X58 -> 0.46411014 | AA58: =AA57+Z58 -> 20.688305 | AB58: =AVERAGE(T$2:T$218) -> 3.4833445 | AC58: =(P58*G58)/1000 -> 157.66402
C59: =C58+1 -> 57 | D59: 20.2 | E59: =D59/2.23694 -> 9.030193 | F59: =E59*3.6 -> 32.508695 | G59: =(E59+E58)/2+G58 -> 410.96319 | H59: =(E59+E58)/2 -> 8.9854891 | I59: =(H59-E58*1)*2 -> 0.089407852 | J59: =IF(D59<=10,1,IF(AND(D59>10,D59<=20),2,IF(D59>20,3))) -> 3 | K59: =IF(J59=1,'Given Data '!C$46,IF(J59=2,'Given Data '!C$47,IF(J59=3,'Given Data '!C$48))) -> 581.23604 | L59: ='Given Data '!C$17*'Given Data '!C$21*8.91 -> 92.968722 | M59: 0 | N59: =0.5*'Given Data '!C$19*'Given Data '!C$9*'Given Data '!C$20*Sheet1!E59^2 -> 38.336132 | O59: =K59*I59 -> 51.967066 | P59: =L59+M59+N59+O59 -> 183.27192 | Q59: =IF(P59>=0,P59,IF(P59<0,-P59)) -> 183.27192 | R59: =Q59*'Given Data '!C$13 -> 46.551068 | S59: =R59/(IF(J59=1,'Given Data '!I$6,IF(J59=2,'Given Data '!I$7,IF(J59=3,'Given Data '!I$8)))) -> 3.6576994 | T59: =(Q59*H59)/1000 -> 1.6467878 | U59: =60*T59*1000/(2*PI()*S59) -> 4299.3324 | V59: =ROUND(S59,0) -> 4 | W59: =MROUND(U59,500) -> 4500 | X59: =T59/3600 -> 0.00045744107 | Y59: =INDEX('Given Data '!F$15:S$37,MATCH(Sheet1!V59,'Given Data '!E$15:E$37,0),MATCH(Sheet1!W59,'Given Data '!F$38:S$38,0)) -> 679.80911 | Z59: =Y59*X59 -> 0.3109726 | AA59: =AA58+Z59 -> 20.999278 | AB59: =AVERAGE(T$2:T$218) -> 3.4833445 | AC59: =(P59*G59)/1000 -> 75.318013
C60: =C59+1 -> 58 | D60: 21.5 | E60: =D60/2.23694 -> 9.6113441 | F60: =E60*3.6 -> 34.600839 | G60: =(E60+E59)/2+G59 -> 420.28396 | H60: =(E60+E59)/2 -> 9.3207685 | I60: =(H60-E59*1)*2 -> 0.58115104 | J60: =IF(D60<=10,1,IF(AND(D60>10,D60<=20),2,IF(D60>20,3))) -> 3 | K60: =IF(J60=1,'Given Data '!C$46,IF(J60=2,'Given Data '!C$47,IF(J60=3,'Given Data '!C$48))) -> 581.23604 | L60: ='Given Data '!C$17*'Given Data '!C$21*8.91 -> 92.968722 | M60: 0 | N60: =0.5*'Given Data '!C$19*'Given Data '!C$9*'Given Data '!C$20*Sheet1!E60^2 -> 43.429264 | O60: =K60*I60 -> 337.78593 | P60: =L60+M60+N60+O60 -> 474.18391 | Q60: =IF(P60>=0,P60,IF(P60<0,-P60)) -> 474.18391 | R60: =Q60*'Given Data '!C$13 -> 120.44271 | S60: =R60/(IF(J60=1,'Given Data '!I$6,IF(J60=2,'Given Data '!I$7,IF(J60=3,'Given Data '!I$8)))) -> 9.463655 | T60: =(Q60*H60)/1000 -> 4.4197585 | U60: =60*T60*1000/(2*PI()*S60) -> 4459.7552 | V60: =ROUND(S60,0) -> 9 | W60: =MROUND(U60,500) -> 4500 | X60: =T60/3600 -> 0.0012277107 | Y60: =INDEX('Given Data '!F$15:S$37,MATCH(Sheet1!V60,'Given Data '!E$15:E$37,0),MATCH(Sheet1!W60,'Given Data '!F$38:S$38,0)) -> 491.51302 | Z60: =Y60*X60 -> 0.6034358 | AA60: =AA59+Z60 -> 21.602714 | AB60: =AVERAGE(T$2:T$218) -> 3.4833445 | AC60: =(P60*G60)/1000 -> 199.29189
C61: =C60+1 -> 59 | D61: 23 | E61: =D61/2.23694 -> 10.281903 | F61: =E61*3.6 -> 37.014851 | G61: =(E61+E60)/2+G60 -> 430.23058 | H61: =(E61+E60)/2 -> 9.9466235 | I61: =(H61-E60*1)*2 -> 0.67055889 | J61: =IF(D61<=10,1,IF(AND(D61>10,D61<=20),2,IF(D61>20,3))) -> 3 | K61: =IF(J61=1,'Given Data '!C$46,IF(J61=2,'Given Data '!C$47,IF(J61=3,'Given Data '!C$48))) -> 581.23604 | L61: ='Given Data '!C$17*'Given Data '!C$21*8.91 -> 92.968722 | M61: 0 | N61: =0.5*'Given Data '!C$19*'Given Data '!C$9*'Given Data '!C$20*Sheet1!E61^2 -> 49.700553 | O61: =K61*I61 -> 389.75299 | P61: =L61+M61+N61+O61 -> 532.42227 | Q61: =IF(P61>=0,P61,IF(P61<0,-P61)) -> 532.42227 | R61: =Q61*'Given Data '!C$13 -> 135.23526 | S61: =R61/(IF(J61=1,'Given Data '!I$6,IF(J61=2,'Given Data '!I$7,IF(J61=3,'Given Data '!I$8)))) -> 10.625963 | T61: =(Q61*H61)/1000 -> 5.2958039 | U61: =60*T61*1000/(2*PI()*S61) -> 4759.2112 | V61: =ROUND(S61,0) -> 11 | W61: =MROUND(U61,500) -> 5000 | X61: =T61/3600 -> 0.0014710566 | Y61: =INDEX('Given Data '!F$15:S$37,MATCH(Sheet1!V61,'Given Data '!E$15:E$37,0),MATCH(Sheet1!W61,'Given Data '!F$38:S$38,0)) -> 361.56046 | Z61: =Y61*X61 -> 0.53187591 | AA61: =AA60+Z61 -> 22.13459 | AB61: =AVERAGE(T$2:T$218) -> 3.4833445 | AC61: =(P61*G61)/1000 -> 229.06434
C62: =C61+1 -> 60 | D62: 25 | E62: =D62/2.23694 -> 11.175981 | F62: =E62*3.6 -> 40.233533 | G62: =(E62+E61)/2+G61 -> 440.95953 | H62: =(E62+E61)/2 -> 10.728942 | I62: =(H62-E61*1)*2 -> 0.89407852 | J62: =IF(D62<=10,1,IF(AND(D62>10,D62<=20),2,IF(D62>20,3))) -> 3 | K62: =IF(J62=1,'Given Data '!C$46,IF(J62=2,'Given Data '!C$47,IF(J62=3,'Given Data '!C$48))) -> 581.23604 | L62: ='Given Data '!C$17*'Given Data '!C$21*8.91 -> 92.968722 | M62: 0 | N62: =0.5*'Given Data '!C$19*'Given Data '!C$9*'Given Data '!C$20*Sheet1!E62^2 -> 58.719936 | O62: =K62*I62 -> 519.67066 | P62: =L62+M62+N62+O62 -> 671.35932 | Q62: =IF(P62>=0,P62,IF(P62<0,-P62)) -> 671.35932 | R62: =Q62*'Given Data '!C$13 -> 170.52527 | S62: =R62/(IF(J62=1,'Given Data '!I$6,IF(J62=2,'Given Data '!I$7,IF(J62=3,'Given Data '!I$8)))) -> 13.398837 | T62: =(Q62*H62)/1000 -> 7.2029753 | U62: =60*T62*1000/(2*PI()*S62) -> 5133.5312 | V62: =ROUND(S62,0) -> 13 | W62: =MROUND(U62,500) -> 5000 | X62: =T62/3600 -> 0.0020008265 | Y62: =INDEX('Given Data '!F$15:S$37,MATCH(Sheet1!V62,'Given Data '!E$15:E$37,0),MATCH(Sheet1!W62,'Given Data '!F$38:S$38,0)) -> 340.77733 | Z62: =Y62*X62 -> 0.6818363 | AA62: =AA61+Z62 -> 22.816426 | AB62: =AVERAGE(T$2:T$218) -> 3.4833445 | AC62: =(P62*G62)/1000 -> 296.04228
C63: =C62+1 -> 61 | D63: 26 | E63: =D63/2.23694 -> 11.623021 | F63: =E63*3.6 -> 41.842875 | G63: =(E63+E62)/2+G62 -> 452.35903 | H63: =(E63+E62)/2 -> 11.399501 | I63: =(H63-E62*1)*2 -> 0.44703926 | J63: =IF(D63<=10,1,IF(AND(D63>10,D63<=20),2,IF(D63>20,3))) -> 3 | K63: =IF(J63=1,'Given Data '!C$46,IF(J63=2,'Given Data '!C$47,IF(J63=3,'Given Data '!C$48))) -> 581.23604 | L63: ='Given Data '!C$17*'Given Data '!C$21*8.91 -> 92.968722 | M63: 0 | N63: =0.5*'Given Data '!C$19*'Given Data '!C$9*'Given Data '!C$20*Sheet1!E63^2 -> 63.511482 | O63: =K63*I63 -> 259.83533 | P63: =L63+M63+N63+O63 -> 416.31553 | Q63: =IF(P63>=0,P63,IF(P63<0,-P63)) -> 416.31553 | R63: =Q63*'Given Data '!C$13 -> 105.74415 | S63: =R63/(IF(J63=1,'Given Data '!I$6,IF(J63=2,'Given Data '!I$7,IF(J63=3,'Given Data '!I$8)))) -> 8.308731 | T63: =(Q63*H63)/1000 -> 4.7457894 | U63: =60*T63*1000/(2*PI()*S63) -> 5454.3769 | V63: =ROUND(S63,0) -> 8 | W63: =MROUND(U63,500) -> 5500 | X63: =T63/3600 -> 0.0013182748 | Y63: =INDEX('Given Data '!F$15:S$37,MATCH(Sheet1!V63,'Given Data '!E$15:E$37,0),MATCH(Sheet1!W63,'Given Data '!F$38:S$38,0)) -> 430.19859 | Z63: =Y63*X63 -> 0.56711997 | AA63: =AA62+Z63 -> 23.383546 | AB63: =AVERAGE(T$2:T$218) -> 3.4833445 | AC63: =(P63*G63)/1000 -> 188.32409
C64: =C63+1 -> 62 | D64: 28 | E64: =D64/2.23694 -> 12.517099 | F64: =E64*3.6 -> 45.061557 | G64: =(E64+E63)/2+G63 -> 464.42909 | H64: =(E64+E63)/2 -> 12.07006 | I64: =(H64-E63*1)*2 -> 0.89407852 | J64: =IF(D64<=10,1,IF(AND(D64>10,D64<=20),2,IF(D64>20,3))) -> 3 | K64: =IF(J64=1,'Given Data '!C$46,IF(J64=2,'Given Data '!C$47,IF(J64=3,'Given Data '!C$48))) -> 581.23604 | L64: ='Given Data '!C$17*'Given Data '!C$21*8.91 -> 92.968722 | M64: 0 | N64: =0.5*'Given Data '!C$19*'Given Data '!C$9*'Given Data '!C$20*Sheet1!E64^2 -> 73.658287 | O64: =K64*I64 -> 519.67066 | P64: =L64+M64+N64+O64 -> 686.29767 | Q64: =IF(P64>=0,P64,IF(P64<0,-P64)) -> 686.29767 | R64: =Q64*'Given Data '!C$13 -> 174.31961 | S64: =R64/(IF(J64=1,'Given Data '!I$6,IF(J64=2,'Given Data '!I$7,IF(J64=3,'Given Data '!I$8)))) -> 13.696973 | T64: =(Q64*H64)/1000 -> 8.283654 | U64: =60*T64*1000/(2*PI()*S64) -> 5775.2226 | V64: =ROUND(S64,0) -> 14 | W64: =MROUND(U64,500) -> 6000 | X64: =T64/3600 -> 0.002301015 | Y64: =INDEX('Given Data '!F$15:S$37,MATCH(Sheet1!V64,'Given Data '!E$15:E$37,0),MATCH(Sheet1!W64,'Given Data '!F$38:S$38,0)) -> 298.88214 | Z64: =Y64*X64 -> 0.6877323 | AA64: =AA63+Z64 -> 24.071278 | AB64: =AVERAGE(T$2:T$218) -> 3.4833445 | AC64: =(P64*G64)/1000 -> 318.7366
C65: =C64+1 -> 63 | D65: 28 | E65: =D65/2.23694 -> 12.517099 | F65: =E65*3.6 -> 45.061557 | G65: =(E65+E64)/2+G64 -> 476.94619 | H65: =(E65+E64)/2 -> 12.517099 | I65: =(H65-E64*1)*2 -> 0 | J65: =IF(D65<=10,1,IF(AND(D65>10,D65<=20),2,IF(D65>20,3))) -> 3 | K65: =IF(J65=1,'Given Data '!C$46,IF(J65=2,'Given Data '!C$47,IF(J65=3,'Given Data '!C$48))) -> 581.23604 | L65: ='Given Data '!C$17*'Given Data '!C$21*8.91 -> 92.968722 | M65: 0 | N65: =0.5*'Given Data '!C$19*'Given Data '!C$9*'Given Data '!C$20*Sheet1!E65^2 -> 73.658287 | O65: =K65*I65 -> 0 | P65: =L65+M65+N65+O65 -> 166.62701 | Q65: =IF(P65>=0,P65,IF(P65<0,-P65)) -> 166.62701 | R65: =Q65*'Given Data '!C$13 -> 42.32326 | S65: =R65/(IF(J65=1,'Given Data '!I$6,IF(J65=2,'Given Data '!I$7,IF(J65=3,'Given Data '!I$8)))) -> 3.3255041 | T65: =(Q65*H65)/1000 -> 2.0856868 | U65: =60*T65*1000/(2*PI()*S65) -> 5989.1197 | V65: =ROUND(S65,0) -> 3 | W65: =MROUND(U65,500) -> 6000 | X65: =T65/3600 -> 0.00057935745 | Y65: =INDEX('Given Data '!F$15:S$37,MATCH(Sheet1!V65,'Given Data '!E$15:E$37,0),MATCH(Sheet1!W65,'Given Data '!F$38:S$38,0)) -> 763.30882 | Z65: =Y65*X65 -> 0.44222865 | AA65: =AA64+Z65 -> 24.513507 | AB65: =AVERAGE(T$2:T$218) -> 3.4833445 | AC65: =(P65*G65)/1000 -> 79.472116
... C70: =C69+1 -> 68 | D70: 19.8 | E70: =D70/2.23694 -> 8.8513773 | F70: =E70*3.6 -> 31.864958 | G70: =(E70+E69)/2+G69 -> 528.75804 | H70: =(E70+E69)/2 -> 8.8960813 | I70: =(H70-E69*1)*2 -> -0.089407852 | J70: =IF(D70<=10,1,IF(AND(D70>10,D70<=20),2,IF(D70>20,3))) -> 2 | K70: =IF(J70=1,'Given Data '!C$46,IF(J70=2,'Given Data '!C$47,IF(J70=3,'Given Data '!C$48))) -> 585.34306 | L70: ='Given Data '!C$17*'Given Data '!C$21*8.91 -> 92.968722 | M70: 0 | N70: =0.5*'Given Data '!C$19*'Given Data '!C$9*'Given Data '!C$20*Sheet1!E70^2 -> 36.832902 | O70: =K70*I70 -> -52.334266 | P70: =L70+M70+N70+O70 -> 77.467358 | Q70: =IF(P70>=0,P70,IF(P70<0,-P70)) -> 77.467358 | R70: =Q70*'Given Data '!C$13 -> 19.676709 | S70: =R70/(IF(J70=1,'Given Data '!I$6,IF(J70=2,'Given Data '!I$7,IF(J70=3,'Given Data '!I$8)))) -> 1.1805013 | T70: =(Q70*H70)/1000 -> 0.68915591 | U70: =60*T70*1000/(2*PI()*S70) -> 5574.7113 | V70: =ROUND(S70,0) -> 1 | W70: =MROUND(U70,500) -> 5500 | X70: =T70/3600 -> 0.0001914322 | Y70: =INDEX('Given Data '!F$15:S$37,MATCH(Sheet1!V70,'Given Data '!E$15:E$37,0),MATCH(Sheet1!W70,'Given Data '!F$38:S$38,0)) -> 863.13182 | Z70: =Y70*X70 -> 0.16523122 | AA70: =AA69+Z70 -> 26.928498 | AB70: =AVERAGE(T$2:T$218) -> 3.4833445 | AC70: =(P70*G70)/1000 -> 40.961488
B71: T2 start | C71: =C70+1 -> 69 | D71: 18 | E71: =D71/2.23694 -> 8.0467067 | F71: =E71*3.6 -> 28.968144 | G71: =(E71+E70)/2+G70 -> 537.20708 | H71: =(E71+E70)/2 -> 8.449042 | I71: =(H71-E70*1)*2 -> -0.80467067 | J71: =IF(D71<=10,1,IF(AND(D71>10,D71<=20),2,IF(D71>20,3))) -> 2 | K71: =IF(J71=1,'Given Data '!C$46,IF(J71=2,'Given Data '!C$47,IF(J71=3,'Given Data '!C$48))) -> 585.34306 | L71: ='Given Data '!C$17*'Given Data '!C$21*8.91 -> 92.968722 | M71: 0 | N71: =0.5*'Given Data '!C$19*'Given Data '!C$9*'Given Data '!C$20*Sheet1!E71^2 -> 30.440415 | O71: =K71*I71 -> -471.00839 | P71: =L71+M71+N71+O71 -> -347.59926 | Q71: =IF(P71>=0,P71,IF(P71<0,-P71)) -> 347.59926 | R71: =Q71*'Given Data '!C$13 -> 88.290211 | S71: =R71/(IF(J71=1,'Given Data '!I$6,IF(J71=2,'Given Data '!I$7,IF(J71=3,'Given Data '!I$8)))) -> 5.2969586 | T71: =(Q71*H71)/1000 -> 2.9368807 | U71: =60*T71*1000/(2*PI()*S71) -> 5294.575 | V71: =ROUND(S71,0) -> 5 | W71: =MROUND(U71,500) -> 5500 | X71: =T71/3600 -> 0.0008158002 | Y71: =INDEX('Given Data '!F$15:S$37,MATCH(Sheet1!V71,'Given Data '!E$15:E$37,0),MATCH(Sheet1!W71,'Given Data '!F$38:S$38,0)) -> 571.62166 | Z71: =Y71*X71 -> 0.46632907 | AA71: =AA70+Z71 -> 27.394827 | AB71: =AVERAGE(T$2:T$218) -> 3.4833445 | AC71: =(P71*G71)/1000 -> -186.73278
C72: =C71+1 -> 70 | D72: 18 | E72: =D72/2.23694 -> 8.0467067 | F72: =E72*3.6 -> 28.968144 | G72: =(E72+E71)/2+G71 -> 545.25378 | H72: =(E72+E71)/2 -> 8.0467067 | I72: =(H72-E71*1)*2 -> 0 | J72: =IF(D72<=10,1,IF(AND(D72>10,D72<=20),2,IF(D72>20,3))) -> 2 | K72: =IF(J72=1,'Given Data '!C$46,IF(J72=2,'Given Data '!C$47,IF(J72=3,'Given Data '!C$48))) -> 585.34306 | L72: ='Given Data '!C$17*'Given Data '!C$21*8.91 -> 92.968722 | M72: 0 | N72: =0.5*'Given Data '!C$19*'Given Data '!C$9*'Given Data '!C$20*Sheet1!E72^2 -> 30.440415 | O72: =K72*I72 -> 0 | P72: =L72+M72+N72+O72 -> 123.40914 | Q72: =IF(P72>=0,P72,IF(P72<0,-P72)) -> 123.40914 | R72: =Q72*'Given Data '!C$13 -> 31.345921 | S72: =R72/(IF(J72=1,'Given Data '!I$6,IF(J72=2,'Given Data '!I$7,IF(J72=3,'Given Data '!I$8)))) -> 1.880594 | T72: =(Q72*H72)/1000 -> 0.99303712 | U72: =60*T72*1000/(2*PI()*S72) -> 5042.4524 | V72: =ROUND(S72,0) -> 2 | W72: =MROUND(U72,500) -> 5000 | X72: =T72/3600 -> 0.00027584364 | Y72: =INDEX('Given Data '!F$15:S$37,MATCH(Sheet1!V72,'Given Data '!E$15:E$37,0),MATCH(Sheet1!W72,'Given Data '!F$38:S$38,0)) -> 810.9596 | Z72: =Y72*X72 -> 0.22369805 | AA72: =AA71+Z72 -> 27.618525 | AB72: =AVERAGE(T$2:T$218) -> 3.4833445 | AC72: =(P72*G72)/1000 -> 67.289299
C73: =C72+1 -> 71 | D73: 18 | E73: =D73/2.23694 -> 8.0467067 | F73: =E73*3.6 -> 28.968144 | G73: =(E73+E72)/2+G72 -> 553.30049 | H73: =(E73+E72)/2 -> 8.0467067 | I73: =(H73-E72*1)*2 -> 0 | J73: =IF(D73<=10,1,IF(AND(D73>10,D73<=20),2,IF(D73>20,3))) -> 2 | K73: =IF(J73=1,'Given Data '!C$46,IF(J73=2,'Given Data '!C$47,IF(J73=3,'Given Data '!C$48))) -> 585.34306 | L73: ='Given Data '!C$17*'Given Data '!C$21*8.91 -> 92.968722 | M73: 0 | N73: =0.5*'Given Data '!C$19*'Given Data '!C$9*'Given Data '!C$20*Sheet1!E73^2 -> 30.440415 | O73: =K73*I73 -> 0 | P73: =L73+M73+N73+O73 -> 123.40914 | Q73: =IF(P73>=0,P73,IF(P73<0,-P73)) -> 123.40914 | R73: =Q73*'Given Data '!C$13 -> 31.345921 | S73: =R73/(IF(J73=1,'Given Data '!I$6,IF(J73=2,'Given Data '!I$7,IF(J73=3,'Given Data '!I$8)))) -> 1.880594 | T73: =(Q73*H73)/1000 -> 0.99303712 | U73: =60*T73*1000/(2*PI()*S73) -> 5042.4524 | V73: =ROUND(S73,0) -> 2 | W73: =MROUND(U73,500) -> 5000 | X73: =T73/3600 -> 0.00027584364 | Y73: =INDEX('Given Data '!F$15:S$37,MATCH(Sheet1!V73,'Given Data '!E$15:E$37,0),MATCH(Sheet1!W73,'Given Data '!F$38:S$38,0)) -> 810.9596 | Z73: =Y73*X73 -> 0.22369805 | AA73: =AA72+Z73 -> 27.842223 | AB73: =AVERAGE(T$2:T$218) -> 3.4833445 | AC73: =(P73*G73)/1000 -> 68.282336
C74: =C73+1 -> 72 | D74: 18 | E74: =D74/2.23694 -> 8.0467067 | F74: =E74*3.6 -> 28.968144 | G74: =(E74+E73)/2+G73 -> 561.3472 | H74: =(E74+E73)/2 -> 8.0467067 | I74: =(H74-E73*1)*2 -> 0 | J74: =IF(D74<=10,1,IF(AND(D74>10,D74<=20),2,IF(D74>20,3))) -> 2 | K74: =IF(J74=1,'Given Data '!C$46,IF(J74=2,'Given Data '!C$47,IF(J74=3,'Given Data '!C$48))) -> 585.34306 | L74: ='Given Data '!C$17*'Given Data '!C$21*8.91 -> 92.968722 | M74: 0 | N74: =0.5*'Given Data '!C$19*'Given Data '!C$9*'Given Data '!C$20*Sheet1!E74^2 -> 30.440415 | O74: =K74*I74 -> 0 | P74: =L74+M74+N74+O74 -> 123.40914 | Q74: =IF(P74>=0,P74,IF(P74<0,-P74)) -> 123.40914 | R74: =Q74*'Given Data '!C$13 -> 31.345921 | S74: =R74/(IF(J74=1,'Given Data '!I$6,IF(J74=2,'Given Data '!I$7,IF(J74=3,'Given Data '!I$8)))) -> 1.880594 | T74: =(Q74*H74)/1000 -> 0.99303712 | U74: =60*T74*1000/(2*PI()*S74) -> 5042.4524 | V74: =ROUND(S74,0) -> 2 | W74: =MROUND(U74,500) -> 5000 | X74: =T74/3600 -> 0.00027584364 | Y74: =INDEX('Given Data '!F$15:S$37,MATCH(Sheet1!V74,'Given Data '!E$15:E$37,0),MATCH(Sheet1!W74,'Given Data '!F$38:S$38,0)) -> 810.9596 | Z74: =Y74*X74 -> 0.22369805 | AA74: =AA73+Z74 -> 28.065921 | AB74: =AVERAGE(T$2:T$218) -> 3.4833445 | AC74: =(P74*G74)/1000 -> 69.275373
C75: =C74+1 -> 73 | D75: 18 | E75: =D75/2.23694 -> 8.0467067 | F75: =E75*3.6 -> 28.968144 | G75: =(E75+E74)/2+G74 -> 569.3939 | H75: =(E75+E74)/2 -> 8.0467067 | I75: =(H75-E74*1)*2 -> 0 | J75: =IF(D75<=10,1,IF(AND(D75>10,D75<=20),2,IF(D75>20,3))) -> 2 | K75: =IF(J75=1,'Given Data '!C$46,IF(J75=2,'Given Data '!C$47,IF(J75=3,'Given Data '!C$48))) -> 585.34306 | L75: ='Given Data '!C$17*'Given Data '!C$21*8.91 -> 92.968722 | M75: 0 | N75: =0.5*'Given Data '!C$19*'Given Data '!C$9*'Given Data '!C$20*Sheet1!E75^2 -> 30.440415 | O75: =K75*I75 -> 0 | P75: =L75+M75+N75+O75 -> 123.40914 | Q75: =IF(P75>=0,P75,IF(P75<0,-P75)) -> 123.40914 | R75: =Q75*'Given Data '!C$13 -> 31.345921 | S75: =R75/(IF(J75=1,'Given Data '!I$6,IF(J75=2,'Given Data '!I$7,IF(J75=3,'Given Data '!I$8)))) -> 1.880594 | T75: =(Q75*H75)/1000 -> 0.99303712 | U75: =60*T75*1000/(2*PI()*S75) -> 5042.4524 | V75: =ROUND(S75,0) -> 2 | W75: =MROUND(U75,500) -> 5000 | X75: =T75/3600 -> 0.00027584364 | Y75: =INDEX('Given Data '!F$15:S$37,MATCH(Sheet1!V75,'Given Data '!E$15:E$37,0),MATCH(Sheet1!W75,'Given Data '!F$38:S$38,0)) -> 810.9596 | Z75: =Y75*X75 -> 0.22369805 | AA75: =AA74+Z75 -> 28.28962 | AB75: =AVERAGE(T$2:T$218) -> 3.4833445 | AC75: =(P75*G75)/1000 -> 70.26841
C76: =C75+1 -> 74 | D76: 18 | E76: =D76/2.23694 -> 8.0467067 | F76: =E76*3.6 -> 28.968144 | G76: =(E76+E75)/2+G75 -> 577.44061 | H76: =(E76+E75)/2 -> 8.0467067 | I76: =(H76-E75*1)*2 -> 0 | J76: =IF(D76<=10,1,IF(AND(D76>10,D76<=20),2,IF(D76>20,3))) -> 2 | K76: =IF(J76=1,'Given Data '!C$46,IF(J76=2,'Given Data '!C$47,IF(J76=3,'Given Data '!C$48))) -> 585.34306 | L76: ='Given Data '!C$17*'Given Data '!C$21*8.91 -> 92.968722 | M76: 0 | N76: =0.5*'Given Data '!C$19*'Given Data '!C$9*'Given Data '!C$20*Sheet1!E76^2 -> 30.440415 | O76: =K76*I76 -> 0 | P76: =L76+M76+N76+O76 -> 123.40914 | Q76: =IF(P76>=0,P76,IF(P76<0,-P76)) -> 123.40914 | R76: =Q76*'Given Data '!C$13 -> 31.345921 | S76: =R76/(IF(J76=1,'Given Data '!I$6,IF(J76=2,'Given Data '!I$7,IF(J76=3,'Given Data '!I$8)))) -> 1.880594 | T76: =(Q76*H76)/1000 -> 0.99303712 | U76: =60*T76*1000/(2*PI()*S76) -> 5042.4524 | V76: =ROUND(S76,0) -> 2 | W76: =MROUND(U76,500) -> 5000 | X76: =T76/3600 -> 0.00027584364 | Y76: =INDEX('Given Data '!F$15:S$37,MATCH(Sheet1!V76,'Given Data '!E$15:E$37,0),MATCH(Sheet1!W76,'Given Data '!F$38:S$38,0)) -> 810.9596 | Z76: =Y76*X76 -> 0.22369805 | AA76: =AA75+Z76 -> 28.513318 | AB76: =AVERAGE(T$2:T$218) -> 3.4833445 | AC76: =(P76*G76)/1000 -> 71.261447
C77: =C76+1 -> 75 | D77: 18 | E77: =D77/2.23694 -> 8.0467067 | F77: =E77*3.6 -> 28.968144 | G77: =(E77+E76)/2+G76 -> 585.48732 | H77: =(E77+E76)/2 -> 8.0467067 | I77: =(H77-E76*1)*2 -> 0 | J77: =IF(D77<=10,1,IF(AND(D77>10,D77<=20),2,IF(D77>20,3))) -> 2 | K77: =IF(J77=1,'Given Data '!C$46,IF(J77=2,'Given Data '!C$47,IF(J77=3,'Given Data '!C$48))) -> 585.34306 | L77: ='Given Data '!C$17*'Given Data '!C$21*8.91 -> 92.968722 | M77: 0 | N77: =0.5*'Given Data '!C$19*'Given Data '!C$9*'Given Data '!C$20*Sheet1!E77^2 -> 30.440415 | O77: =K77*I77 -> 0 | P77: =L77+M77+N77+O77 -> 123.40914 | Q77: =IF(P77>=0,P77,IF(P77<0,-P77)) -> 123.40914 | R77: =Q77*'Given Data '!C$13 -> 31.345921 | S77: =R77/(IF(J77=1,'Given Data '!I$6,IF(J77=2,'Given Data '!I$7,IF(J77=3,'Given Data '!I$8)))) -> 1.880594 | T77: =(Q77*H77)/1000 -> 0.99303712 | U77: =60*T77*1000/(2*PI()*S77) -> 5042.4524 | V77: =ROUND(S77,0) -> 2 | W77: =MROUND(U77,500) -> 5000 | X77: =T77/3600 -> 0.00027584364 | Y77: =INDEX('Given Data '!F$15:S$37,MATCH(Sheet1!V77,'Given Data '!E$15:E$37,0),MATCH(Sheet1!W77,'Given Data '!F$38:S$38,0)) -> 810.9596 | Z77: =Y77*X77 -> 0.22369805 | AA77: =AA76+Z77 -> 28.737016 | AB77: =AVERAGE(T$2:T$218) -> 3.4833445 | AC77: =(P77*G77)/1000 -> 72.254484
B78: T2 finish | C78: =C77+1 -> 76 | D78: 18 | E78: =D78/2.23694 -> 8.0467067 | F78: =E78*3.6 -> 28.968144 | G78: =(E78+E77)/2+G77 -> 593.53402 | H78: =(E78+E77)/2 -> 8.0467067 | I78: =(H78-E77*1)*2 -> 0 | J78: =IF(D78<=10,1,IF(AND(D78>10,D78<=20),2,IF(D78>20,3))) -> 2 | K78: =IF(J78=1,'Given Data '!C$46,IF(J78=2,'Given Data '!C$47,IF(J78=3,'Given Data '!C$48))) -> 585.34306 | L78: ='Given Data '!C$17*'Given Data '!C$21*8.91 -> 92.968722 | M78: 0 | N78: =0.5*'Given Data '!C$19*'Given Data '!C$9*'Given Data '!C$20*Sheet1!E78^2 -> 30.440415 | O78: =K78*I78 -> 0 | P78: =L78+M78+N78+O78 -> 123.40914 | Q78: =IF(P78>=0,P78,IF(P78<0,-P78)) -> 123.40914 | R78: =Q78*'Given Data '!C$13 -> 31.345921 | S78: =R78/(IF(J78=1,'Given Data '!I$6,IF(J78=2,'Given Data '!I$7,IF(J78=3,'Given Data '!I$8)))) -> 1.880594 | T78: =(Q78*H78)/1000 -> 0.99303712 | U78: =60*T78*1000/(2*PI()*S78) -> 5042.4524 | V78: =ROUND(S78,0) -> 2 | W78: =MROUND(U78,500) -> 5000 | X78: =T78/3600 -> 0.00027584364 | Y78: =INDEX('Given Data '!F$15:S$37,MATCH(Sheet1!V78,'Given Data '!E$15:E$37,0),MATCH(Sheet1!W78,'Given Data '!F$38:S$38,0)) -> 810.9596 | Z78: =Y78*X78 -> 0.22369805 | AA78: =AA77+Z78 -> 28.960714 | AB78: =AVERAGE(T$2:T$218) -> 3.4833445 | AC78: =(P78*G78)/1000 -> 73.247521
C79: =C78+1 -> 77 | D79: 20 | E79: =D79/2.23694 -> 8.9407852 | F79: =E79*3.6 -> 32.186827 | G79: =(E79+E78)/2+G78 -> 602.02777 | H79: =(E79+E78)/2 -> 8.4937459 | I79: =(H79-E78*1)*2 -> 0.89407852 | J79: =IF(D79<=10,1,IF(AND(D79>10,D79<=20),2,IF(D79>20,3))) -> 2 | K79: =IF(J79=1,'Given Data '!C$46,IF(J79=2,'Given Data '!C$47,IF(J79=3,'Given Data '!C$48))) -> 585.34306 | L79: ='Given Data '!C$17*'Given Data '!C$21*8.91 -> 92.968722 | M79: 0 | N79: =0.5*'Given Data '!C$19*'Given Data '!C$9*'Given Data '!C$20*Sheet1!E79^2 -> 37.580759 | O79: =K79*I79 -> 523.34266 | P79: =L79+M79+N79+O79 -> 653.89214 | Q79: =IF(P79>=0,P79,IF(P79<0,-P79)) -> 653.89214 | R79: =Q79*'Given Data '!C$13 -> 166.0886 | S79: =R79/(IF(J79=1,'Given Data '!I$6,IF(J79=2,'Given Data '!I$7,IF(J79=3,'Given Data '!I$8)))) -> 9.9644621 | T79: =(Q79*H79)/1000 -> 5.5539937 | U79: =60*T79*1000/(2*PI()*S79) -> 5322.5887 | V79: =ROUND(S79,0) -> 10 | W79: =MROUND(U79,500) -> 5500 | X79: =T79/3600 -> 0.001542776 | Y79: =INDEX('Given Data '!F$15:S$37,MATCH(Sheet1!V79,'Given Data '!E$15:E$37,0),MATCH(Sheet1!W79,'Given Data '!F$38:S$38,0)) -> 359.74288 | Z79: =Y79*X79 -> 0.5550027 | AA79: =AA78+Z79 -> 29.515716 | AB79: =AVERAGE(T$2:T$218) -> 3.4833445 | AC79: =(P79*G79)/1000 -> 393.66123
C80: =C79+1 -> 78 | D80: 20.2 | E80: =D80/2.23694 -> 9.030193 | F80: =E80*3.6 -> 32.508695 | G80: =(E80+E79)/2+G79 -> 611.01326 | H80: =(E80+E79)/2 -> 8.9854891 | I80: =(H80-E79*1)*2 -> 0.089407852 | J80: =IF(D80<=10,1,IF(AND(D80>10,D80<=20),2,IF(D80>20,3))) -> 3 | K80: =IF(J80=1,'Given Data '!C$46,IF(J80=2,'Given Data '!C$47,IF(J80=3,'Given Data '!C$48))) -> 581.23604 | L80: ='Given Data '!C$17*'Given Data '!C$21*8.91 -> 92.968722 | M80: 0 | N80: =0.5*'Given Data '!C$19*'Given Data '!C$9*'Given Data '!C$20*Sheet1!E80^2 -> 38.336132 | O80: =K80*I80 -> 51.967066 | P80: =L80+M80+N80+O80 -> 183.27192 | Q80: =IF(P80>=0,P80,IF(P80<0,-P80)) -> 183.27192 | R80: =Q80*'Given Data '!C$13 -> 46.551068 | S80: =R80/(IF(J80=1,'Given Data '!I$6,IF(J80=2,'Given Data '!I$7,IF(J80=3,'Given Data '!I$8)))) -> 3.6576994 | T80: =(Q80*H80)/1000 -> 1.6467878 | U80: =60*T80*1000/(2*PI()*S80) -> 4299.3324 | V80: =ROUND(S80,0) -> 4 | W80: =MROUND(U80,500) -> 4500 | X80: =T80/3600 -> 0.00045744107 | Y80: =INDEX('Given Data '!F$15:S$37,MATCH(Sheet1!V80,'Given Data '!E$15:E$37,0),MATCH(Sheet1!W80,'Given Data '!F$38:S$38,0)) -> 679.80911 | Z80: =Y80*X80 -> 0.3109726 | AA80: =AA79+Z80 -> 29.826689 | AB80: =AVERAGE(T$2:T$218) -> 3.4833445 | AC80: =(P80*G80)/1000 -> 111.98157
C81: =C80+1 -> 79 | D81: 22 | E81: =D81/2.23694 -> 9.8348637 | F81: =E81*3.6 -> 35.405509 | G81: =(E81+E80)/2+G80 -> 620.44579 | H81: =(E81+E80)/2 -> 9.4325284 | I81: =(H81-E80*1)*2 -> 0.80467067 | J81: =IF(D81<=10,1,IF(AND(D81>10,D81<=20),2,IF(D81>20,3))) -> 3 | K81: =IF(J81=1,'Given Data '!C$46,IF(J81=2,'Given Data '!C$47,IF(J81=3,'Given Data '!C$48))) -> 581.23604 | L81: ='Given Data '!C$17*'Given Data '!C$21*8.91 -> 92.968722 | M81: 0 | N81: =0.5*'Given Data '!C$19*'Given Data '!C$9*'Given Data '!C$20*Sheet1!E81^2 -> 45.472718 | O81: =K81*I81 -> 467.70359 | P81: =L81+M81+N81+O81 -> 606.14503 | Q81: =IF(P81>=0,P81,IF(P81<0,-P81)) -> 606.14503 | R81: =Q81*'Given Data '!C$13 -> 153.96084 | S81: =R81/(IF(J81=1,'Given Data '!I$6,IF(J81=2,'Given Data '!I$7,IF(J81=3,'Given Data '!I$8)))) -> 12.097305 | T81: =(Q81*H81)/1000 -> 5.7174802 | U81: =60*T81*1000/(2*PI()*S81) -> 4513.2295 | V81: =ROUND(S81,0) -> 12 | W81: =MROUND(U81,500) -> 4500 | X81: =T81/3600 -> 0.0015881889 | Y81: =INDEX('Given Data '!F$15:S$37,MATCH(Sheet1!V81,'Given Data '!E$15:E$37,0),MATCH(Sheet1!W81,'Given Data '!F$38:S$38,0)) -> 398.81407 | Z81: =Y81*X81 -> 0.63339209 | AA81: =AA80+Z81 -> 30.460081 | AB81: =AVERAGE(T$2:T$218) -> 3.4833445 | AC81: =(P81*G81)/1000 -> 376.08013
C82: =C81+1 -> 80 | D82: 24 | E82: =D82/2.23694 -> 10.728942 | F82: =E82*3.6 -> 38.624192 | G82: =(E82+E81)/2+G81 -> 630.72769 | H82: =(E82+E81)/2 -> 10.281903 | I82: =(H82-E81*1)*2 -> 0.89407852 | J82: =IF(D82<=10,1,IF(AND(D82>10,D82<=20),2,IF(D82>20,3))) -> 3 | K82: =IF(J82=1,'Given Data '!C$46,IF(J82=2,'Given Data '!C$47,IF(J82=3,'Given Data '!C$48))) -> 581.23604 | L82: ='Given Data '!C$17*'Given Data '!C$21*8.91 -> 92.968722 | M82: 0 | N82: =0.5*'Given Data '!C$19*'Given Data '!C$9*'Given Data '!C$20*Sheet1!E82^2 -> 54.116293 | O82: =K82*I82 -> 519.67066 | P82: =L82+M82+N82+O82 -> 666.75567 | Q82: =IF(P82>=0,P82,IF(P82<0,-P82)) -> 666.75567 | R82: =Q82*'Given Data '!C$13 -> 169.35594 | S82: =R82/(IF(J82=1,'Given Data '!I$6,IF(J82=2,'Given Data '!I$7,IF(J82=3,'Given Data '!I$8)))) -> 13.306958 | T82: =(Q82*H82)/1000 -> 6.8555171 | U82: =60*T82*1000/(2*PI()*S82) -> 4919.6341 | V82: =ROUND(S82,0) -> 13 | W82: =MROUND(U82,500) -> 5000 | X82: =T82/3600 -> 0.0019043103 | Y82: =INDEX('Given Data '!F$15:S$37,MATCH(Sheet1!V82,'Given Data '!E$15:E$37,0),MATCH(Sheet1!W82,'Given Data '!F$38:S$38,0)) -> 340.77733 | Z82: =Y82*X82 -> 0.64894578 | AA82: =AA81+Z82 -> 31.109027 | AB82: =AVERAGE(T$2:T$218) -> 3.4833445 | AC82: =(P82*G82)/1000 -> 420.54127
C83: =C82+1 -> 81 | D83: 26 | E83: =D83/2.23694 -> 11.623021 | F83: =E83*3.6 -> 41.842875 | G83: =(E83+E82)/2+G82 -> 641.90367 | H83: =(E83+E82)/2 -> 11.175981 | I83: =(H83-E82*1)*2 -> 0.89407852 | J83: =IF(D83<=10,1,IF(AND(D83>10,D83<=20),2,IF(D83>20,3))) -> 3 | K83: =IF(J83=1,'Given Data '!C$46,IF(J83=2,'Given Data '!C$47,IF(J83=3,'Given Data '!C$48))) -> 581.23604 | L83: ='Given Data '!C$17*'Given Data '!C$21*8.91 -> 92.968722 | M83: 0 | N83: =0.5*'Given Data '!C$19*'Given Data '!C$9*'Given Data '!C$20*Sheet1!E83^2 -> 63.511482 | O83: =K83*I83 -> 519.67066 | P83: =L83+M83+N83+O83 -> 676.15086 | Q83: =IF(P83>=0,P83,IF(P83<0,-P83)) -> 676.15086 | R83: =Q83*'Given Data '!C$13 -> 171.74232 | S83: =R83/(IF(J83=1,'Given Data '!I$6,IF(J83=2,'Given Data '!I$7,IF(J83=3,'Given Data '!I$8)))) -> 13.494466 | T83: =(Q83*H83)/1000 -> 7.5566495 | U83: =60*T83*1000/(2*PI()*S83) -> 5347.4283 | V83: =ROUND(S83,0) -> 13 | W83: =MROUND(U83,500) -> 5500 | X83: =T83/3600 -> 0.0020990693 | Y83: =INDEX('Given Data '!F$15:S$37,MATCH(Sheet1!V83,'Given Data '!E$15:E$37,0),MATCH(Sheet1!W83,'Given Data '!F$38:S$38,0)) -> 313.44812 | Z83: =Y83*X83 -> 0.65794933 | AA83: =AA82+Z83 -> 31.766976 | AB83: =AVERAGE(T$2:T$218) -> 3.4833445 | AC83: =(P83*G83)/1000 -> 434.02372
C84: =C83+1 -> 82 | D84: 28 | E84: =D84/2.23694 -> 12.517099 | F84: =E84*3.6 -> 45.061557 | G84: =(E84+E83)/2+G83 -> 653.97373 | H84: =(E84+E83)/2 -> 12.07006 | I84: =(H84-E83*1)*2 -> 0.89407852 | J84: =IF(D84<=10,1,IF(AND(D84>10,D84<=20),2,IF(D84>20,3))) -> 3 | K84: =IF(J84=1,'Given Data '!C$46,IF(J84=2,'Given Data '!C$47,IF(J84=3,'Given Data '!C$48))) -> 581.23604 | L84: ='Given Data '!C$17*'Given Data '!C$21*8.91 -> 92.968722 | M84: 0 | N84: =0.5*'Given Data '!C$19*'Given Data '!C$9*'Given Data '!C$20*Sheet1!E84^2 -> 73.658287 | O84: =K84*I84 -> 519.67066 | P84: =L84+M84+N84+O84 -> 686.29767 | Q84: =IF(P84>=0,P84,IF(P84<0,-P84)) -> 686.29767 | R84: =Q84*'Given Data '!C$13 -> 174.31961 | S84: =R84/(IF(J84=1,'Given Data '!I$6,IF(J84=2,'Given Data '!I$7,IF(J84=3,'Given Data '!I$8)))) -> 13.696973 | T84: =(Q84*H84)/1000 -> 8.283654 | U84: =60*T84*1000/(2*PI()*S84) -> 5775.2226 | V84: =ROUND(S84,0) -> 14 | W84: =MROUND(U84,500) -> 6000 | X84: =T84/3600 -> 0.002301015 | Y84: =INDEX('Given Data '!F$15:S$37,MATCH(Sheet1!V84,'Given Data '!E$15:E$37,0),MATCH(Sheet1!W84,'Given Data '!F$38:S$38,0)) -> 298.88214 | Z84: =Y84*X84 -> 0.6877323 | AA84: =AA83+Z84 -> 32.454708 | AB84: =AVERAGE(T$2:T$218) -> 3.4833445 | AC84: =(P84*G84)/1000 -> 448.82065
C85: =C84+1 -> 83 | D85: 29 | E85: =D85/2.23694 -> 12.964139 | F85: =E85*3.6 -> 46.670899 | G85: =(E85+E84)/2+G84 -> 666.71435 | H85: =(E85+E84)/2 -> 12.740619 | I85: =(H85-E84*1)*2 -> 0.44703926 | J85: =IF(D85<=10,1,IF(AND(D85>10,D85<=20),2,IF(D85>20,3))) -> 3 | K85: =IF(J85=1,'Given Data '!C$46,IF(J85=2,'Given Data '!C$47,IF(J85=3,'Given Data '!C$48))) -> 581.23604 | L85: ='Given Data '!C$17*'Given Data '!C$21*8.91 -> 92.968722 | M85: 0 | N85: =0.5*'Given Data '!C$19*'Given Data '!C$9*'Given Data '!C$20*Sheet1!E85^2 -> 79.013545 | O85: =K85*I85 -> 259.83533 | P85: =L85+M85+N85+O85 -> 431.8176 | Q85: =IF(P85>=0,P85,IF(P85<0,-P85)) -> 431.8176 | R85: =Q85*'Given Data '!C$13 -> 109.68167 | S85: =R85/(IF(J85=1,'Given Data '!I$6,IF(J85=2,'Given Data '!I$7,IF(J85=3,'Given Data '!I$8)))) -> 8.6181177 | T85: =(Q85*H85)/1000 -> 5.5016234 | U85: =60*T85*1000/(2*PI()*S85) -> 6096.0683 | V85: =ROUND(S85,0) -> 9 | W85: =MROUND(U85,500) -> 6000 | X85: =T85/3600 -> 0.0015282287 | Y85: =INDEX('Given Data '!F$15:S$37,MATCH(Sheet1!V85,'Given Data '!E$15:E$37,0),MATCH(Sheet1!W85,'Given Data '!F$38:S$38,0)) -> 419.30302 | Z85: =Y85*X85 -> 0.64079092 | AA85: =AA84+Z85 -> 33.095499 | AB85: =AVERAGE(T$2:T$218) -> 3.4833445 | AC85: =(P85*G85)/1000 -> 287.89899
C86: =C85+1 -> 84 | D86: 27 | E86: =D86/2.23694 -> 12.07006 | F86: =E86*3.6 -> 43.452216 | G86: =(E86+E85)/2+G85 -> 679.23145 | H86: =(E86+E85)/2 -> 12.517099 | I86: =(H86-E85*1)*2 -> -0.89407852 | J86: =IF(D86<=10,1,IF(AND(D86>10,D86<=20),2,IF(D86>20,3))) -> 3 | K86: =IF(J86=1,'Given Data '!C$46,IF(J86=2,'Given Data '!C$47,IF(J86=3,'Given Data '!C$48))) -> 581.23604 | L86: ='Given Data '!C$17*'Given Data '!C$21*8.91 -> 92.968722 | M86: 0 | N86: =0.5*'Given Data '!C$19*'Given Data '!C$9*'Given Data '!C$20*Sheet1!E86^2 -> 68.490933 | O86: =K86*I86 -> -519.67066 | P86: =L86+M86+N86+O86 -> -358.211 | Q86: =IF(P86>=0,P86,IF(P86<0,-P86)) -> 358.211 | R86: =Q86*'Given Data '!C$13 -> 90.985595 | S86: =R86/(IF(J86=1,'Given Data '!I$6,IF(J86=2,'Given Data '!I$7,IF(J86=3,'Given Data '!I$8)))) -> 7.149094 | T86: =(Q86*H86)/1000 -> 4.4837627 | U86: =60*T86*1000/(2*PI()*S86) -> 5989.1197 | V86: =ROUND(S86,0) -> 7 | W86: =MROUND(U86,500) -> 6000 | X86: =T86/3600 -> 0.0012454896 | Y86: =INDEX('Given Data '!F$15:S$37,MATCH(Sheet1!V86,'Given Data '!E$15:E$37,0),MATCH(Sheet1!W86,'Given Data '!F$38:S$38,0)) -> 539.13705 | Z86: =Y86*X86 -> 0.67148961 | AA86: =AA85+Z86 -> 33.766989 | AB86: =AVERAGE(T$2:T$218) -> 3.4833445 | AC86: =(P86*G86)/1000 -> -243.30818
C87: =C86+1 -> 85 | D87: 25 | E87: =D87/2.23694 -> 11.175981 | F87: =E87*3.6 -> 40.233533 | G87: =(E87+E86)/2+G86 -> 690.85447 | H87: =(E87+E86)/2 -> 11.623021 | I87: =(H87-E86*1)*2 -> -0.89407852 | J87: =IF(D87<=10,1,IF(AND(D87>10,D87<=20),2,IF(D87>20,3))) -> 3 | K87: =IF(J87=1,'Given Data '!C$46,IF(J87=2,'Given Data '!C$47,IF(J87=3,'Given Data '!C$48))) -> 581.23604 | L87: ='Given Data '!C$17*'Given Data '!C$21*8.91 -> 92.968722 | M87: 0 | N87: =0.5*'Given Data '!C$19*'Given Data '!C$9*'Given Data '!C$20*Sheet1!E87^2 -> 58.719936 | O87: =K87*I87 -> -519.67066 | P87: =L87+M87+N87+O87 -> -367.982 | Q87: =IF(P87>=0,P87,IF(P87<0,-P87)) -> 367.982 | R87: =Q87*'Given Data '!C$13 -> 93.467428 | S87: =R87/(IF(J87=1,'Given Data '!I$6,IF(J87=2,'Given Data '!I$7,IF(J87=3,'Given Data '!I$8)))) -> 7.3441013 | T87: =(Q87*H87)/1000 -> 4.2770624 | U87: =60*T87*1000/(2*PI()*S87) -> 5561.3255 | V87: =ROUND(S87,0) -> 7 | W87: =MROUND(U87,500) -> 5500 | X87: =T87/3600 -> 0.0011880729 | Y87: =INDEX('Given Data '!F$15:S$37,MATCH(Sheet1!V87,'Given Data '!E$15:E$37,0),MATCH(Sheet1!W87,'Given Data '!F$38:S$38,0)) -> 464.79868 | Z87: =Y87*X87 -> 0.55221471 | AA87: =AA86+Z87 -> 34.319204 | AB87: =AVERAGE(T$2:T$218) -> 3.4833445 | AC87: =(P87*G87)/1000 -> -254.22201
C88: =C87+1 -> 86 | D88: 23 | E88: =D88/2.23694 -> 10.281903 | F88: =E88*3.6 -> 37.014851 | G88: =(E88+E87)/2+G87 -> 701.58341 | H88: =(E88+E87)/2 -> 10.728942 | I88: =(H88-E87*1)*2 -> -0.89407852 | J88: =IF(D88<=10,1,IF(AND(D88>10,D88<=20),2,IF(D88>20,3))) -> 3 | K88: =IF(J88=1,'Given Data '!C$46,IF(J88=2,'Given Data '!C$47,IF(J88=3,'Given Data '!C$48))) -> 581.23604 | L88: ='Given Data '!C$17*'Given Data '!C$21*8.91 -> 92.968722 | M88: 0 | N88: =0.5*'Given Data '!C$19*'Given Data '!C$9*'Given Data '!C$20*Sheet1!E88^2 -> 49.700553 | O88: =K88*I88 -> -519.67066 | P88: =L88+M88+N88+O88 -> -377.00138 | Q88: =IF(P88>=0,P88,IF(P88<0,-P88)) -> 377.00138 | R88: =Q88*'Given Data '!C$13 -> 95.758351 | S88: =R88/(IF(J88=1,'Given Data '!I$6,IF(J88=2,'Given Data '!I$7,IF(J88=3,'Given Data '!I$8)))) -> 7.5241081 | T88: =(Q88*H88)/1000 -> 4.044826 | U88: =60*T88*1000/(2*PI()*S88) -> 5133.5312 | V88: =ROUND(S88,0) -> 8 | W88: =MROUND(U88,500) -> 5000 | X88: =T88/3600 -> 0.0011235628 | Y88: =INDEX('Given Data '!F$15:S$37,MATCH(Sheet1!V88,'Given Data '!E$15:E$37,0),MATCH(Sheet1!W88,'Given Data '!F$38:S$38,0)) -> 416.52538 | Z88: =Y88*X88 -> 0.46799242 | AA88: =AA87+Z88 -> 34.787196 | AB88: =AVERAGE(T$2:T$218) -> 3.4833445 | AC88: =(P88*G88)/1000 -> -264.49792
C89: =C88+1 -> 87 | D89: 21 | E89: =D89/2.23694 -> 9.3878244 | F89: =E89*3.6 -> 33.796168 | G89: =(E89+E88)/2+G88 -> 711.41828 | H89: =(E89+E88)/2 -> 9.8348637 | I89: =(H89-E88*1)*2 -> -0.89407852 | J89: =IF(D89<=10,1,IF(AND(D89>10,D89<=20),2,IF(D89>20,3))) -> 3 | K89: =IF(J89=1,'Given Data '!C$46,IF(J89=2,'Given Data '!C$47,IF(J89=3,'Given Data '!C$48))) -> 581.23604 | L89: ='Given Data '!C$17*'Given Data '!C$21*8.91 -> 92.968722 | M89: 0 | N89: =0.5*'Given Data '!C$19*'Given Data '!C$9*'Given Data '!C$20*Sheet1!E89^2 -> 41.432787 | O89: =K89*I89 -> -519.67066 | P89: =L89+M89+N89+O89 -> -385.26915 | Q89: =IF(P89>=0,P89,IF(P89<0,-P89)) -> 385.26915 | R89: =Q89*'Given Data '!C$13 -> 97.858364 | S89: =R89/(IF(J89=1,'Given Data '!I$6,IF(J89=2,'Given Data '!I$7,IF(J89=3,'Given Data '!I$8)))) -> 7.6891143 | T89: =(Q89*H89)/1000 -> 3.7890696 | U89: =60*T89*1000/(2*PI()*S89) -> 4705.7369 | V89: =ROUND(S89,0) -> 8 | W89: =MROUND(U89,500) -> 4500 | X89: =T89/3600 -> 0.0010525193 | Y89: =INDEX('Given Data '!F$15:S$37,MATCH(Sheet1!V89,'Given Data '!E$15:E$37,0),MATCH(Sheet1!W89,'Given Data '!F$38:S$38,0)) -> 489.46439 | Z89: =Y89*X89 -> 0.51517073 | AA89: =AA88+Z89 -> 35.302367 | AB89: =AVERAGE(T$2:T$218) -> 3.4833445 | AC89: =(P89*G89)/1000 -> -274.08751
C90: =C89+1 -> 88 | D90: 20 | E90: =D90/2.23694 -> 8.9407852 | F90: =E90*3.6 -> 32.186827 | G90: =(E90+E89)/2+G89 -> 720.58258 | H90: =(E90+E89)/2 -> 9.1643048 | I90: =(H90-E89*1)*2 -> -0.44703926 | J90: =IF(D90<=10,1,IF(AND(D90>10,D90<=20),2,IF(D90>20,3))) -> 2 | K90: =IF(J90=1,'Given Data '!C$46,IF(J90=2,'Given Data '!C$47,IF(J90=3,'Given Data '!C$48))) -> 585.34306 | L90: ='Given Data '!C$17*'Given Data '!C$21*8.91 -> 92.968722 | M90: 0 | N90: =0.5*'Given Data '!C$19*'Given Data '!C$9*'Given Data '!C$20*Sheet1!E90^2 -> 37.580759 | O90: =K90*I90 -> -261.67133 | P90: =L90+M90+N90+O90 -> -131.12185 | Q90: =IF(P90>=0,P90,IF(P90<0,-P90)) -> 131.12185 | R90: =Q90*'Given Data '!C$13 -> 33.30495 | S90: =R90/(IF(J90=1,'Given Data '!I$6,IF(J90=2,'Given Data '!I$7,IF(J90=3,'Given Data '!I$8)))) -> 1.9981257 | T90: =(Q90*H90)/1000 -> 1.2016406 | U90: =60*T90*1000/(2*PI()*S90) -> 5742.793 | V90: =ROUND(S90,0) -> 2 | W90: =MROUND(U90,500) -> 5500 | X90: =T90/3600 -> 0.00033378905 | Y90: =INDEX('Given Data '!F$15:S$37,MATCH(Sheet1!V90,'Given Data '!E$15:E$37,0),MATCH(Sheet1!W90,'Given Data '!F$38:S$38,0)) -> 793.61346 | Z90: =Y90*X90 -> 0.26489948 | AA90: =AA89+Z90 -> 35.567266 | AB90: =AVERAGE(T$2:T$218) -> 3.4833445 | AC90: =(P90*G90)/1000 -> -94.48412
C91: =C90+1 -> 89 | D91: 19.8 | E91: =D91/2.23694 -> 8.8513773 | F91: =E91*3.6 -> 31.864958 | G91: =(E91+E90)/2+G90 -> 729.47866 | H91: =(E91+E90)/2 -> 8.8960813 | I91: =(H91-E90*1)*2 -> -0.089407852 | J91: =IF(D91<=10,1,IF(AND(D91>10,D91<=20),2,IF(D91>20,3))) -> 2 | K91: =IF(J91=1,'Given Data '!C$46,IF(J91=2,'Given Data '!C$47,IF(J91=3,'Given Data '!C$48))) -> 585.34306 | L91: ='Given Data '!C$17*'Given Data '!C$21*8.91 -> 92.968722 | M91: 0 | N91: =0.5*'Given Data '!C$19*'Given Data '!C$9*'Given Data '!C$20*Sheet1!E91^2 -> 36.832902 | O91: =K91*I91 -> -52.334266 | P91: =L91+M91+N91+O91 -> 77.467358 | Q91: =IF(P91>=0,P91,IF(P91<0,-P91)) -> 77.467358 | R91: =Q91*'Given Data '!C$13 -> 19.676709 | S91: =R91/(IF(J91=1,'Given Data '!I$6,IF(J91=2,'Given Data '!I$7,IF(J91=3,'Given Data '!I$8)))) -> 1.1805013 | T91: =(Q91*H91)/1000 -> 0.68915591 | U91: =60*T91*1000/(2*PI()*S91) -> 5574.7113 | V91: =ROUND(S91,0) -> 1 | W91: =MROUND(U91,500) -> 5500 | X91: =T91/3600 -> 0.0001914322 | Y91: =INDEX('Given Data '!F$15:S$37,MATCH(Sheet1!V91,'Given Data '!E$15:E$37,0),MATCH(Sheet1!W91,'Given Data '!F$38:S$38,0)) -> 863.13182 | Z91: =Y91*X91 -> 0.16523122 | AA91: =AA90+Z91 -> 35.732498 | AB91: =AVERAGE(T$2:T$218) -> 3.4833445 | AC91: =(P91*G91)/1000 -> 56.510785
B92: T3 start | C92: =C91+1 -> 90 | D92: 17 | E92: =D92/2.23694 -> 7.5996674 | F92: =E92*3.6 -> 27.358803 | G92: =(E92+E91)/2+G91 -> 737.70419 | H92: =(E92+E91)/2 -> 8.2255224 | I92: =(H92-E91*1)*2 -> -1.2517099 | J92: =IF(D92<=10,1,IF(AND(D92>10,D92<=20),2,IF(D92>20,3))) -> 2 | K92: =IF(J92=1,'Given Data '!C$46,IF(J92=2,'Given Data '!C$47,IF(J92=3,'Given Data '!C$48))) -> 585.34306 | L92: ='Given Data '!C$17*'Given Data '!C$21*8.91 -> 92.968722 | M92: 0 | N92: =0.5*'Given Data '!C$19*'Given Data '!C$9*'Given Data '!C$20*Sheet1!E92^2 -> 27.152098 | O92: =K92*I92 -> -732.67972 | P92: =L92+M92+N92+O92 -> -612.5589 | Q92: =IF(P92>=0,P92,IF(P92<0,-P92)) -> 612.5589 | R92: =Q92*'Given Data '!C$13 -> 155.58996 | S92: =R92/(IF(J92=1,'Given Data '!I$6,IF(J92=2,'Given Data '!I$7,IF(J92=3,'Given Data '!I$8)))) -> 9.3345976 | T92: =(Q92*H92)/1000 -> 5.038617 | U92: =60*T92*1000/(2*PI()*S92) -> 5154.5069 | V92: =ROUND(S92,0) -> 9 | W92: =MROUND(U92,500) -> 5000 | X92: =T92/3600 -> 0.0013996158 | Y92: =INDEX('Given Data '!F$15:S$37,MATCH(Sheet1!V92,'Given Data '!E$15:E$37,0),MATCH(Sheet1!W92,'Given Data '!F$38:S$38,0)) -> 394.87041 | Z92: =Y92*X92 -> 0.55266687 | AA92: =AA91+Z92 -> 36.285164 | AB92: =AVERAGE(T$2:T$218) -> 3.4833445 | AC92: =(P92*G92)/1000 -> -451.88727
C93: =C92+1 -> 91 | D93: 17 | E93: =D93/2.23694 -> 7.5996674 | F93: =E93*3.6 -> 27.358803 | G93: =(E93+E92)/2+G92 -> 745.30385 | H93: =(E93+E92)/2 -> 7.5996674 | I93: =(H93-E92*1)*2 -> 0 | J93: =IF(D93<=10,1,IF(AND(D93>10,D93<=20),2,IF(D93>20,3))) -> 2 | K93: =IF(J93=1,'Given Data '!C$46,IF(J93=2,'Given Data '!C$47,IF(J93=3,'Given Data '!C$48))) -> 585.34306 | L93: ='Given Data '!C$17*'Given Data '!C$21*8.91 -> 92.968722 | M93: 0 | N93: =0.5*'Given Data '!C$19*'Given Data '!C$9*'Given Data '!C$20*Sheet1!E93^2 -> 27.152098 | O93: =K93*I93 -> 0 | P93: =L93+M93+N93+O93 -> 120.12082 | Q93: =IF(P93>=0,P93,IF(P93<0,-P93)) -> 120.12082 | R93: =Q93*'Given Data '!C$13 -> 30.510688 | S93: =R93/(IF(J93=1,'Given Data '!I$6,IF(J93=2,'Given Data '!I$7,IF(J93=3,'Given Data '!I$8)))) -> 1.8304844 | T93: =(Q93*H93)/1000 -> 0.91287828 | U93: =60*T93*1000/(2*PI()*S93) -> 4762.3162 | V93: =ROUND(S93,0) -> 2 | W93: =MROUND(U93,500) -> 5000 | X93: =T93/3600 -> 0.0002535773 | Y93: =INDEX('Given Data '!F$15:S$37,MATCH(Sheet1!V93,'Given Data '!E$15:E$37,0),MATCH(Sheet1!W93,'Given Data '!F$38:S$38,0)) -> 810.9596 | Z93: =Y93*X93 -> 0.20564095 | AA93: =AA92+Z93 -> 36.490805 | AB93: =AVERAGE(T$2:T$218) -> 3.4833445 | AC93: =(P93*G93)/1000 -> 89.52651
C94: =C93+1 -> 92 | D94: 17 | E94: =D94/2.23694 -> 7.5996674 | F94: =E94*3.6 -> 27.358803 | G94: =(E94+E93)/2+G93 -> 752.90352 | H94: =(E94+E93)/2 -> 7.5996674 | I94: =(H94-E93*1)*2 -> 0 | J94: =IF(D94<=10,1,IF(AND(D94>10,D94<=20),2,IF(D94>20,3))) -> 2 | K94: =IF(J94=1,'Given Data '!C$46,IF(J94=2,'Given Data '!C$47,IF(J94=3,'Given Data '!C$48))) -> 585.34306 | L94: ='Given Data '!C$17*'Given Data '!C$21*8.91 -> 92.968722 | M94: 0 | N94: =0.5*'Given Data '!C$19*'Given Data '!C$9*'Given Data '!C$20*Sheet1!E94^2 -> 27.152098 | O94: =K94*I94 -> 0 | P94: =L94+M94+N94+O94 -> 120.12082 | Q94: =IF(P94>=0,P94,IF(P94<0,-P94)) -> 120.12082 | R94: =Q94*'Given Data '!C$13 -> 30.510688 | S94: =R94/(IF(J94=1,'Given Data '!I$6,IF(J94=2,'Given Data '!I$7,IF(J94=3,'Given Data '!I$8)))) -> 1.8304844 | T94: =(Q94*H94)/1000 -> 0.91287828 | U94: =60*T94*1000/(2*PI()*S94) -> 4762.3162 | V94: =ROUND(S94,0) -> 2 | W94: =MROUND(U94,500) -> 5000 | X94: =T94/3600 -> 0.0002535773 | Y94: =INDEX('Given Data '!F$15:S$37,MATCH(Sheet1!V94,'Given Data '!E$15:E$37,0),MATCH(Sheet1!W94,'Given Data '!F$38:S$38,0)) -> 810.9596 | Z94: =Y94*X94 -> 0.20564095 | AA94: =AA93+Z94 -> 36.696446 | AB94: =AVERAGE(T$2:T$218) -> 3.4833445 | AC94: =(P94*G94)/1000 -> 90.439388
C95: =C94+1 -> 93 | D95: 17 | E95: =D95/2.23694 -> 7.5996674 | F95: =E95*3.6 -> 27.358803 | G95: =(E95+E94)/2+G94 -> 760.50319 | H95: =(E95+E94)/2 -> 7.5996674 | I95: =(H95-E94*1)*2 -> 0 | J95: =IF(D95<=10,1,IF(AND(D95>10,D95<=20),2,IF(D95>20,3))) -> 2 | K95: =IF(J95=1,'Given Data '!C$46,IF(J95=2,'Given Data '!C$47,IF(J95=3,'Given Data '!C$48))) -> 585.34306 | L95: ='Given Data '!C$17*'Given Data '!C$21*8.91 -> 92.968722 | M95: 0 | N95: =0.5*'Given Data '!C$19*'Given Data '!C$9*'Given Data '!C$20*Sheet1!E95^2 -> 27.152098 | O95: =K95*I95 -> 0 | P95: =L95+M95+N95+O95 -> 120.12082 | Q95: =IF(P95>=0,P95,IF(P95<0,-P95)) -> 120.12082 | R95: =Q95*'Given Data '!C$13 -> 30.510688 | S95: =R95/(IF(J95=1,'Given Data '!I$6,IF(J95=2,'Given Data '!I$7,IF(J95=3,'Given Data '!I$8)))) -> 1.8304844 | T95: =(Q95*H95)/1000 -> 0.91287828 | U95: =60*T95*1000/(2*PI()*S95) -> 4762.3162 | V95: =ROUND(S95,0) -> 2 | W95: =MROUND(U95,500) -> 5000 | X95: =T95/3600 -> 0.0002535773 | Y95: =INDEX('Given Data '!F$15:S$37,MATCH(Sheet1!V95,'Given Data '!E$15:E$37,0),MATCH(Sheet1!W95,'Given Data '!F$38:S$38,0)) -> 810.9596 | Z95: =Y95*X95 -> 0.20564095 | AA95: =AA94+Z95 -> 36.902087 | AB95: =AVERAGE(T$2:T$218) -> 3.4833445 | AC95: =(P95*G95)/1000 -> 91.352267
C96: =C95+1 -> 94 | D96: 17 | E96: =D96/2.23694 -> 7.5996674 | F96: =E96*3.6 -> 27.358803 | G96: =(E96+E95)/2+G95 -> 768.10285 | H96: =(E96+E95)/2 -> 7.5996674 | I96: =(H96-E95*1)*2 -> 0 | J96: =IF(D96<=10,1,IF(AND(D96>10,D96<=20),2,IF(D96>20,3))) -> 2 | K96: =IF(J96=1,'Given Data '!C$46,IF(J96=2,'Given Data '!C$47,IF(J96=3,'Given Data '!C$48))) -> 585.34306 | L96: ='Given Data '!C$17*'Given Data '!C$21*8.91 -> 92.968722 | M96: 0 | N96: =0.5*'Given Data '!C$19*'Given Data '!C$9*'Given Data '!C$20*Sheet1!E96^2 -> 27.152098 | O96: =K96*I96 -> 0 | P96: =L96+M96+N96+O96 -> 120.12082 | Q96: =IF(P96>=0,P96,IF(P96<0,-P96)) -> 120.12082 | R96: =Q96*'Given Data '!C$13 -> 30.510688 | S96: =R96/(IF(J96=1,'Given Data '!I$6,IF(J96=2,'Given Data '!I$7,IF(J96=3,'Given Data '!I$8)))) -> 1.8304844 | T96: =(Q96*H96)/1000 -> 0.91287828 | U96: =60*T96*1000/(2*PI()*S96) -> 4762.3162 | V96: =ROUND(S96,0) -> 2 | W96: =MROUND(U96,500) -> 5000 | X96: =T96/3600 -> 0.0002535773 | Y96: =INDEX('Given Data '!F$15:S$37,MATCH(Sheet1!V96,'Given Data '!E$15:E$37,0),MATCH(Sheet1!W96,'Given Data '!F$38:S$38,0)) -> 810.9596 | Z96: =Y96*X96 -> 0.20564095 | AA96: =AA95+Z96 -> 37.107728 | AB96: =AVERAGE(T$2:T$218) -> 3.4833445 | AC96: =(P96*G96)/1000 -> 92.265145
C97: =C96+1 -> 95 | D97: 17 | E97: =D97/2.23694 -> 7.5996674 | F97: =E97*3.6 -> 27.358803 | G97: =(E97+E96)/2+G96 -> 775.70252 | H97: =(E97+E96)/2 -> 7.5996674 | I97: =(H97-E96*1)*2 -> 0 | J97: =IF(D97<=10,1,IF(AND(D97>10,D97<=20),2,IF(D97>20,3))) -> 2 | K97: =IF(J97=1,'Given Data '!C$46,IF(J97=2,'Given Data '!C$47,IF(J97=3,'Given Data '!C$48))) -> 585.34306 | L97: ='Given Data '!C$17*'Given Data '!C$21*8.91 -> 92.968722 | M97: 0 | N97: =0.5*'Given Data '!C$19*'Given Data '!C$9*'Given Data '!C$20*Sheet1!E97^2 -> 27.152098 | O97: =K97*I97 -> 0 | P97: =L97+M97+N97+O97 -> 120.12082 | Q97: =IF(P97>=0,P97,IF(P97<0,-P97)) -> 120.12082 | R97: =Q97*'Given Data '!C$13 -> 30.510688 | S97: =R97/(IF(J97=1,'Given Data '!I$6,IF(J97=2,'Given Data '!I$7,IF(J97=3,'Given Data '!I$8)))) -> 1.8304844 | T97: =(Q97*H97)/1000 -> 0.91287828 | U97: =60*T97*1000/(2*PI()*S97) -> 4762.3162 | V97: =ROUND(S97,0) -> 2 | W97: =MROUND(U97,500) -> 5000 | X97: =T97/3600 -> 0.0002535773 | Y97: =INDEX('Given Data '!F$15:S$37,MATCH(Sheet1!V97,'Given Data '!E$15:E$37,0),MATCH(Sheet1!W97,'Given Data '!F$38:S$38,0)) -> 810.9596 | Z97: =Y97*X97 -> 0.20564095 | AA97: =AA96+Z97 -> 37.313369 | AB97: =AVERAGE(T$2:T$218) -> 3.4833445 | AC97: =(P97*G97)/1000 -> 93.178023
C98: =C97+1 -> 96 | D98: 17 | E98: =D98/2.23694 -> 7.5996674 | F98: =E98*3.6 -> 27.358803 | G98: =(E98+E97)/2+G97 -> 783.30219 | H98: =(E98+E97)/2 -> 7.5996674 | I98: =(H98-E97*1)*2 -> 0 | J98: =IF(D98<=10,1,IF(AND(D98>10,D98<=20),2,IF(D98>20,3))) -> 2 | K98: =IF(J98=1,'Given Data '!C$46,IF(J98=2,'Given Data '!C$47,IF(J98=3,'Given Data '!C$48))) -> 585.34306 | L98: ='Given Data '!C$17*'Given Data '!C$21*8.91 -> 92.968722 | M98: 0 | N98: =0.5*'Given Data '!C$19*'Given Data '!C$9*'Given Data '!C$20*Sheet1!E98^2 -> 27.152098 | O98: =K98*I98 -> 0 | P98: =L98+M98+N98+O98 -> 120.12082 | Q98: =IF(P98>=0,P98,IF(P98<0,-P98)) -> 120.12082 | R98: =Q98*'Given Data '!C$13 -> 30.510688 | S98: =R98/(IF(J98=1,'Given Data '!I$6,IF(J98=2,'Given Data '!I$7,IF(J98=3,'Given Data '!I$8)))) -> 1.8304844 | T98: =(Q98*H98)/1000 -> 0.91287828 | U98: =60*T98*1000/(2*PI()*S98) -> 4762.3162 | V98: =ROUND(S98,0) -> 2 | W98: =MROUND(U98,500) -> 5000 | X98: =T98/3600 -> 0.0002535773 | Y98: =INDEX('Given Data '!F$15:S$37,MATCH(Sheet1!V98,'Given Data '!E$15:E$37,0),MATCH(Sheet1!W98,'Given Data '!F$38:S$38,0)) -> 810.9596 | Z98: =Y98*X98 -> 0.20564095 | AA98: =AA97+Z98 -> 37.51901 | AB98: =AVERAGE(T$2:T$218) -> 3.4833445 | AC98: =(P98*G98)/1000 -> 94.090901
C99: =C98+1 -> 97 | D99: 17 | E99: =D99/2.23694 -> 7.5996674 | F99: =E99*3.6 -> 27.358803 | G99: =(E99+E98)/2+G98 -> 790.90186 | H99: =(E99+E98)/2 -> 7.5996674 | I99: =(H99-E98*1)*2 -> 0 | J99: =IF(D99<=10,1,IF(AND(D99>10,D99<=20),2,IF(D99>20,3))) -> 2 | K99: =IF(J99=1,'Given Data '!C$46,IF(J99=2,'Given Data '!C$47,IF(J99=3,'Given Data '!C$48))) -> 585.34306 | L99: ='Given Data '!C$17*'Given Data '!C$21*8.91 -> 92.968722 | M99: 0 | N99: =0.5*'Given Data '!C$19*'Given Data '!C$9*'Given Data '!C$20*Sheet1!E99^2 -> 27.152098 | O99: =K99*I99 -> 0 | P99: =L99+M99+N99+O99 -> 120.12082 | Q99: =IF(P99>=0,P99,IF(P99<0,-P99)) -> 120.12082 | R99: =Q99*'Given Data '!C$13 -> 30.510688 | S99: =R99/(IF(J99=1,'Given Data '!I$6,IF(J99=2,'Given Data '!I$7,IF(J99=3,'Given Data '!I$8)))) -> 1.8304844 | T99: =(Q99*H99)/1000 -> 0.91287828 | U99: =60*T99*1000/(2*PI()*S99) -> 4762.3162 | V99: =ROUND(S99,0) -> 2 | W99: =MROUND(U99,500) -> 5000 | X99: =T99/3600 -> 0.0002535773 | Y99: =INDEX('Given Data '!F$15:S$37,MATCH(Sheet1!V99,'Given Data '!E$15:E$37,0),MATCH(Sheet1!W99,'Given Data '!F$38:S$38,0)) -> 810.9596 | Z99: =Y99*X99 -> 0.20564095 | AA99: =AA98+Z99 -> 37.724651 | AB99: =AVERAGE(T$2:T$218) -> 3.4833445 | AC99: =(P99*G99)/1000 -> 95.00378
C100: =C99+1 -> 98 | D100: 17 | E100: =D100/2.23694 -> 7.5996674 | F100: =E100*3.6 -> 27.358803 | G100: =(E100+E99)/2+G99 -> 798.50152 | H100: =(E100+E99)/2 -> 7.5996674 | I100: =(H100-E99*1)*2 -> 0 | J100: =IF(D100<=10,1,IF(AND(D100>10,D100<=20),2,IF(D100>20,3))) -> 2 | K100: =IF(J100=1,'Given Data '!C$46,IF(J100=2,'Given Data '!C$47,IF(J100=3,'Given Data '!C$48))) -> 585.34306 | L100: ='Given Data '!C$17*'Given Data '!C$21*8.91 -> 92.968722 | M100: 0 | N100: =0.5*'Given Data '!C$19*'Given Data '!C$9*'Given Data '!C$20*Sheet1!E100^2 -> 27.152098 | O100: =K100*I100 -> 0 | P100: =L100+M100+N100+O100 -> 120.12082 | Q100: =IF(P100>=0,P100,IF(P100<0,-P100)) -> 120.12082 | R100: =Q100*'Given Data '!C$13 -> 30.510688 | S100: =R100/(IF(J100=1,'Given Data '!I$6,IF(J100=2,'Given Data '!I$7,IF(J100=3,'Given Data '!I$8)))) -> 1.8304844 | T100: =(Q100*H100)/1000 -> 0.91287828 | U100: =60*T100*1000/(2*PI()*S100) -> 4762.3162 | V100: =ROUND(S100,0) -> 2 | W100: =MROUND(U100,500) -> 5000 | X100: =T100/3600 -> 0.0002535773 | Y100: =INDEX('Given Data '!F$15:S$37,MATCH(Sheet1!V100,'Given Data '!E$15:E$37,0),MATCH(Sheet1!W100,'Given Data '!F$38:S$38,0)) -> 810.9596 | Z100: =Y100*X100 -> 0.20564095 | AA100: =AA99+Z100 -> 37.930292 | AB100: =AVERAGE(T$2:T$218) -> 3.4833445 | AC100: =(P100*G100)/1000 -> 95.916658
B101: T3 finish | C101: =C100+1 -> 99 | D101: 17 | E101: =D101/2.23694 -> 7.5996674 | F101: =E101*3.6 -> 27.358803 | G101: =(E101+E100)/2+G100 -> 806.10119 | H101: =(E101+E100)/2 -> 7.5996674 | I101: =(H101-E100*1)*2 -> 0 | J101: =IF(D101<=10,1,IF(AND(D101>10,D101<=20),2,IF(D101>20,3))) -> 2 | K101: =IF(J101=1,'Given Data '!C$46,IF(J101=2,'Given Data '!C$47,IF(J101=3,'Given Data '!C$48))) -> 585.34306 | L101: ='Given Data '!C$17*'Given Data '!C$21*8.91 -> 92.968722 | M101: 0 | N101: =0.5*'Given Data '!C$19*'Given Data '!C$9*'Given Data '!C$20*Sheet1!E101^2 -> 27.152098 | O101: =K101*I101 -> 0 | P101: =L101+M101+N101+O101 -> 120.12082 | Q101: =IF(P101>=0,P101,IF(P101<0,-P101)) -> 120.12082 | R101: =Q101*'Given Data '!C$13 -> 30.510688 | S101: =R101/(IF(J101=1,'Given Data '!I$6,IF(J101=2,'Given Data '!I$7,IF(J101=3,'Given Data '!I$8)))) -> 1.8304844 | T101: =(Q101*H101)/1000 -> 0.91287828 | U101: =60*T101*1000/(2*PI()*S101) -> 4762.3162 | V101: =ROUND(S101,0) -> 2 | W101: =MROUND(U101,500) -> 5000 | X101: =T101/3600 -> 0.0002535773 | Y101: =INDEX('Given Data '!F$15:S$37,MATCH(Sheet1!V101,'Given Data '!E$15:E$37,0),MATCH(Sheet1!W101,'Given Data '!F$38:S$38,0)) -> 810.9596 | Z101: =Y101*X101 -> 0.20564095 | AA101: =AA100+Z101 -> 38.135933 | AB101: =AVERAGE(T$2:T$218) -> 3.4833445 | AC101: =(P101*G101)/1000 -> 96.829536
C102: =C101+1 -> 100 | D102: 18 | E102: =D102/2.23694 -> 8.0467067 | F102: =E102*3.6 -> 28.968144 | G102: =(E102+E101)/2+G101 -> 813.92438 | H102: =(E102+E101)/2 -> 7.823187 | I102: =(H102-E101*1)*2 -> 0.44703926 | J102: =IF(D102<=10,1,IF(AND(D102>10,D102<=20),2,IF(D102>20,3))) -> 2 | K102: =IF(J102=1,'Given Data '!C$46,IF(J102=2,'Given Data '!C$47,IF(J102=3,'Given Data '!C$48))) -> 585.34306 | L102: ='Given Data '!C$17*'Given Data '!C$21*8.91 -> 92.968722 | M102: 0 | N102: =0.5*'Given Data '!C$19*'Given Data '!C$9*'Given Data '!C$20*Sheet1!E102^2 -> 30.440415 | O102: =K102*I102 -> 261.67133 | P102: =L102+M102+N102+O102 -> 385.08047 | Q102: =IF(P102>=0,P102,IF(P102<0,-P102)) -> 385.08047 | R102: =Q102*'Given Data '!C$13 -> 97.810438 | S102: =R102/(IF(J102=1,'Given Data '!I$6,IF(J102=2,'Given Data '!I$7,IF(J102=3,'Given Data '!I$8)))) -> 5.8681233 | T102: =(Q102*H102)/1000 -> 3.0125565 | U102: =60*T102*1000/(2*PI()*S102) -> 4902.3843 | V102: =ROUND(S102,0) -> 6 | W102: =MROUND(U102,500) -> 5000 | X102: =T102/3600 -> 0.00083682125 | Y102: =INDEX('Given Data '!F$15:S$37,MATCH(Sheet1!V102,'Given Data '!E$15:E$37,0),MATCH(Sheet1!W102,'Given Data '!F$38:S$38,0)) -> 501.88402 | Z102: =Y102*X102 -> 0.41998721 | AA102: =AA101+Z102 -> 38.55592 | AB102: =AVERAGE(T$2:T$218) -> 3.4833445 | AC102: =(P102*G102)/1000 -> 313.42638
C103: =C102+1 -> 101 | D103: 20 | E103: =D103/2.23694 -> 8.9407852 | F103: =E103*3.6 -> 32.186827 | G103: =(E103+E102)/2+G102 -> 822.41812 | H103: =(E103+E102)/2 -> 8.4937459 | I103: =(H103-E102*1)*2 -> 0.89407852 | J103: =IF(D103<=10,1,IF(AND(D103>10,D103<=20),2,IF(D103>20,3))) -> 2 | K103: =IF(J103=1,'Given Data '!C$46,IF(J103=2,'Given Data '!C$47,IF(J103=3,'Given Data '!C$48))) -> 585.34306 | L103: ='Given Data '!C$17*'Given Data '!C$21*8.91 -> 92.968722 | M103: 0 | N103: =0.5*'Given Data '!C$19*'Given Data '!C$9*'Given Data '!C$20*Sheet1!E103^2 -> 37.580759 | O103: =K103*I103 -> 523.34266 | P103: =L103+M103+N103+O103 -> 653.89214 | Q103: =IF(P103>=0,P103,IF(P103<0,-P103)) -> 653.89214 | R103: =Q103*'Given Data '!C$13 -> 166.0886 | S103: =R103/(IF(J103=1,'Given Data '!I$6,IF(J103=2,'Given Data '!I$7,IF(J103=3,'Given Data '!I$8)))) -> 9.9644621 | T103: =(Q103*H103)/1000 -> 5.5539937 | U103: =60*T103*1000/(2*PI()*S103) -> 5322.5887 | V103: =ROUND(S103,0) -> 10 | W103: =MROUND(U103,500) -> 5500 | X103: =T103/3600 -> 0.001542776 | Y103: =INDEX('Given Data '!F$15:S$37,MATCH(Sheet1!V103,'Given Data '!E$15:E$37,0),MATCH(Sheet1!W103,'Given Data '!F$38:S$38,0)) -> 359.74288 | Z103: =Y103*X103 -> 0.5550027 | AA103: =AA102+Z103 -> 39.110923 | AB103: =AVERAGE(T$2:T$218) -> 3.4833445 | AC103: =(P103*G103)/1000 -> 537.77275
C104: =C103+1 -> 102 | D104: 20.2 | E104: =D104/2.23694 -> 9.030193 | F104: =E104*3.6 -> 32.508695 | G104: =(E104+E103)/2+G103 -> 831.40361 | H104: =(E104+E103)/2 -> 8.9854891 | I104: =(H104-E103*1)*2 -> 0.089407852 | J104: =IF(D104<=10,1,IF(AND(D104>10,D104<=20),2,IF(D104>20,3))) -> 3 | K104: =IF(J104=1,'Given Data '!C$46,IF(J104=2,'Given Data '!C$47,IF(J104=3,'Given Data '!C$48))) -> 581.23604 | L104: ='Given Data '!C$17*'Given Data '!C$21*8.91 -> 92.968722 | M104: 0 | N104: =0.5*'Given Data '!C$19*'Given Data '!C$9*'Given Data '!C$20*Sheet1!E104^2 -> 38.336132 | O104: =K104*I104 -> 51.967066 | P104: =L104+M104+N104+O104 -> 183.27192 | Q104: =IF(P104>=0,P104,IF(P104<0,-P104)) -> 183.27192 | R104: =Q104*'Given Data '!C$13 -> 46.551068 | S104: =R104/(IF(J104=1,'Given Data '!I$6,IF(J104=2,'Given Data '!I$7,IF(J104=3,'Given Data '!I$8)))) -> 3.6576994 | T104: =(Q104*H104)/1000 -> 1.6467878 | U104: =60*T104*1000/(2*PI()*S104) -> 4299.3324 | V104: =ROUND(S104,0) -> 4 | W104: =MROUND(U104,500) -> 4500 | X104: =T104/3600 -> 0.00045744107 | Y104: =INDEX('Given Data '!F$15:S$37,MATCH(Sheet1!V104,'Given Data '!E$15:E$37,0),MATCH(Sheet1!W104,'Given Data '!F$38:S$38,0)) -> 679.80911 | Z104: =Y104*X104 -> 0.3109726 | AA104: =AA103+Z104 -> 39.421895 | AB104: =AVERAGE(T$2:T$218) -> 3.4833445 | AC104: =(P104*G104)/1000 -> 152.37294
C105: =C104+1 -> 103 | D105: 21.5 | E105: =D105/2.23694 -> 9.6113441 | F105: =E105*3.6 -> 34.600839 | G105: =(E105+E104)/2+G104 -> 840.72438 | H105: =(E105+E104)/2 -> 9.3207685 | I105: =(H105-E104*1)*2 -> 0.58115104 | J105: =IF(D105<=10,1,IF(AND(D105>10,D105<=20),2,IF(D105>20,3))) -> 3 | K105: =IF(J105=1,'Given Data '!C$46,IF(J105=2,'Given Data '!C$47,IF(J105=3,'Given Data '!C$48))) -> 581.23604 | L105: ='Given Data '!C$17*'Given Data '!C$21*8.91 -> 92.968722 | M105: 0 | N105: =0.5*'Given Data '!C$19*'Given Data '!C$9*'Given Data '!C$20*Sheet1!E105^2 -> 43.429264 | O105: =K105*I105 -> 337.78593 | P105: =L105+M105+N105+O105 -> 474.18391 | Q105: =IF(P105>=0,P105,IF(P105<0,-P105)) -> 474.18391 | R105: =Q105*'Given Data '!C$13 -> 120.44271 | S105: =R105/(IF(J105=1,'Given Data '!I$6,IF(J105=2,'Given Data '!I$7,IF(J105=3,'Given Data '!I$8)))) -> 9.463655 | T105: =(Q105*H105)/1000 -> 4.4197585 | U105: =60*T105*1000/(2*PI()*S105) -> 4459.7552 | V105: =ROUND(S105,0) -> 9 | W105: =MROUND(U105,500) -> 4500 | X105: =T105/3600 -> 0.0012277107 | Y105: =INDEX('Given Data '!F$15:S$37,MATCH(Sheet1!V105,'Given Data '!E$15:E$37,0),MATCH(Sheet1!W105,'Given Data '!F$38:S$38,0)) -> 491.51302 | Z105: =Y105*X105 -> 0.6034358 | AA105: =AA104+Z105 -> 40.025331 | AB105: =AVERAGE(T$2:T$218) -> 3.4833445 | AC105: =(P105*G105)/1000 -> 398.65798
C106: =C105+1 -> 104 | D106: 22.8 | E106: =D106/2.23694 -> 10.192495 | F106: =E106*3.6 -> 36.692982 | G106: =(E106+E105)/2+G105 -> 850.6263 | H106: =(E106+E105)/2 -> 9.9019196 | I106: =(H106-E105*1)*2 -> 0.58115104 | J106: =IF(D106<=10,1,IF(AND(D106>10,D106<=20),2,IF(D106>20,3))) -> 3 | K106: =IF(J106=1,'Given Data '!C$46,IF(J106=2,'Given Data '!C$47,IF(J106=3,'Given Data '!C$48))) -> 581.23604 | L106: ='Given Data '!C$17*'Given Data '!C$21*8.91 -> 92.968722 | M106: 0 | N106: =0.5*'Given Data '!C$19*'Given Data '!C$9*'Given Data '!C$20*Sheet1!E106^2 -> 48.839954 | O106: =K106*I106 -> 337.78593 | P106: =L106+M106+N106+O106 -> 479.5946 | Q106: =IF(P106>=0,P106,IF(P106<0,-P106)) -> 479.5946 | R106: =Q106*'Given Data '!C$13 -> 121.81703 | S106: =R106/(IF(J106=1,'Given Data '!I$6,IF(J106=2,'Given Data '!I$7,IF(J106=3,'Given Data '!I$8)))) -> 9.5716403 | T106: =(Q106*H106)/1000 -> 4.7489072 | U106: =60*T106*1000/(2*PI()*S106) -> 4737.8215 | V106: =ROUND(S106,0) -> 10 | W106: =MROUND(U106,500) -> 4500 | X106: =T106/3600 -> 0.0013191409 | Y106: =INDEX('Given Data '!F$15:S$37,MATCH(Sheet1!V106,'Given Data '!E$15:E$37,0),MATCH(Sheet1!W106,'Given Data '!F$38:S$38,0)) -> 470.31525 | Z106: =Y106*X106 -> 0.62041208 | AA106: =AA105+Z106 -> 40.645743 | AB106: =AVERAGE(T$2:T$218) -> 3.4833445 | AC106: =(P106*G106)/1000 -> 407.95578
C107: =C106+1 -> 105 | D107: 23.9 | E107: =D107/2.23694 -> 10.684238 | F107: =E107*3.6 -> 38.463258 | G107: =(E107+E106)/2+G106 -> 861.06467 | H107: =(E107+E106)/2 -> 10.438367 | I107: =(H107-E106*1)*2 -> 0.49174318 | J107: =IF(D107<=10,1,IF(AND(D107>10,D107<=20),2,IF(D107>20,3))) -> 3 | K107: =IF(J107=1,'Given Data '!C$46,IF(J107=2,'Given Data '!C$47,IF(J107=3,'Given Data '!C$48))) -> 581.23604 | L107: ='Given Data '!C$17*'Given Data '!C$21*8.91 -> 92.968722 | M107: 0 | N107: =0.5*'Given Data '!C$19*'Given Data '!C$9*'Given Data '!C$20*Sheet1!E107^2 -> 53.666263 | O107: =K107*I107 -> 285.81886 | P107: =L107+M107+N107+O107 -> 432.45385 | Q107: =IF(P107>=0,P107,IF(P107<0,-P107)) -> 432.45385 | R107: =Q107*'Given Data '!C$13 -> 109.84328 | S107: =R107/(IF(J107=1,'Given Data '!I$6,IF(J107=2,'Given Data '!I$7,IF(J107=3,'Given Data '!I$8)))) -> 8.6308158 | T107: =(Q107*H107)/1000 -> 4.5141118 | U107: =60*T107*1000/(2*PI()*S107) -> 4994.4981 | V107: =ROUND(S107,0) -> 9 | W107: =MROUND(U107,500) -> 5000 | X107: =T107/3600 -> 0.00125392 | Y107: =INDEX('Given Data '!F$15:S$37,MATCH(Sheet1!V107,'Given Data '!E$15:E$37,0),MATCH(Sheet1!W107,'Given Data '!F$38:S$38,0)) -> 394.87041 | Z107: =Y107*X107 -> 0.49513588 | AA107: =AA106+Z107 -> 41.140879 | AB107: =AVERAGE(T$2:T$218) -> 3.4833445 | AC107: =(P107*G107)/1000 -> 372.37073
C108: =C107+1 -> 106 | D108: 25 | E108: =D108/2.23694 -> 11.175981 | F108: =E108*3.6 -> 40.233533 | G108: =(E108+E107)/2+G107 -> 871.99478 | H108: =(E108+E107)/2 -> 10.93011 | I108: =(H108-E107*1)*2 -> 0.49174318 | J108: =IF(D108<=10,1,IF(AND(D108>10,D108<=20),2,IF(D108>20,3))) -> 3 | K108: =IF(J108=1,'Given Data '!C$46,IF(J108=2,'Given Data '!C$47,IF(J108=3,'Given Data '!C$48))) -> 581.23604 | L108: ='Given Data '!C$17*'Given Data '!C$21*8.91 -> 92.968722 | M108: 0 | N108: =0.5*'Given Data '!C$19*'Given Data '!C$9*'Given Data '!C$20*Sheet1!E108^2 -> 58.719936 | O108: =K108*I108 -> 285.81886 | P108: =L108+M108+N108+O108 -> 437.50752 | Q108: =IF(P108>=0,P108,IF(P108<0,-P108)) -> 437.50752 | R108: =Q108*'Given Data '!C$13 -> 111.12691 | S108: =R108/(IF(J108=1,'Given Data '!I$6,IF(J108=2,'Given Data '!I$7,IF(J108=3,'Given Data '!I$8)))) -> 8.7316759 | T108: =(Q108*H108)/1000 -> 4.7820053 | U108: =60*T108*1000/(2*PI()*S108) -> 5229.7849 | V108: =ROUND(S108,0) -> 9 | W108: =MROUND(U108,500) -> 5000 | X108: =T108/3600 -> 0.0013283348 | Y108: =INDEX('Given Data '!F$15:S$37,MATCH(Sheet1!V108,'Given Data '!E$15:E$37,0),MATCH(Sheet1!W108,'Given Data '!F$38:S$38,0)) -> 394.87041 | Z108: =Y108*X108 -> 0.5245201 | AA108: =AA107+Z108 -> 41.665399 | AB108: =AVERAGE(T$2:T$218) -> 3.4833445 | AC108: =(P108*G108)/1000 -> 381.50427
C109: =C108+1 -> 107 | D109: 27 | E109: =D109/2.23694 -> 12.07006 | F109: =E109*3.6 -> 43.452216 | G109: =(E109+E108)/2+G108 -> 883.6178 | H109: =(E109+E108)/2 -> 11.623021 | I109: =(H109-E108*1)*2 -> 0.89407852 | J109: =IF(D109<=10,1,IF(AND(D109>10,D109<=20),2,IF(D109>20,3))) -> 3 | K109: =IF(J109=1,'Given Data '!C$46,IF(J109=2,'Given Data '!C$47,IF(J109=3,'Given Data '!C$48))) -> 581.23604 | L109: ='Given Data '!C$17*'Given Data '!C$21*8.91 -> 92.968722 | M109: 0 | N109: =0.5*'Given Data '!C$19*'Given Data '!C$9*'Given Data '!C$20*Sheet1!E109^2 -> 68.490933 | O109: =K109*I109 -> 519.67066 | P109: =L109+M109+N109+O109 -> 681.13031 | Q109: =IF(P109>=0,P109,IF(P109<0,-P109)) -> 681.13031 | R109: =Q109*'Given Data '!C$13 -> 173.0071 | S109: =R109/(IF(J109=1,'Given Data '!I$6,IF(J109=2,'Given Data '!I$7,IF(J109=3,'Given Data '!I$8)))) -> 13.593844 | T109: =(Q109*H109)/1000 -> 7.9167917 | U109: =60*T109*1000/(2*PI()*S109) -> 5561.3255 | V109: =ROUND(S109,0) -> 14 | W109: =MROUND(U109,500) -> 5500 | X109: =T109/3600 -> 0.0021991088 | Y109: =INDEX('Given Data '!F$15:S$37,MATCH(Sheet1!V109,'Given Data '!E$15:E$37,0),MATCH(Sheet1!W109,'Given Data '!F$38:S$38,0)) -> 297.2242 | Z109: =Y109*X109 -> 0.65362837 | AA109: =AA108+Z109 -> 42.319028 | AB109: =AVERAGE(T$2:T$218) -> 3.4833445 | AC109: =(P109*G109)/1000 -> 601.85887
C110: =C109+1 -> 108 | D110: 29 | E110: =D110/2.23694 -> 12.964139 | F110: =E110*3.6 -> 46.670899 | G110: =(E110+E109)/2+G109 -> 896.1349 | H110: =(E110+E109)/2 -> 12.517099 | I110: =(H110-E109*1)*2 -> 0.89407852 | J110: =IF(D110<=10,1,IF(AND(D110>10,D110<=20),2,IF(D110>20,3))) -> 3 | K110: =IF(J110=1,'Given Data '!C$46,IF(J110=2,'Given Data '!C$47,IF(J110=3,'Given Data '!C$48))) -> 581.23604 | L110: ='Given Data '!C$17*'Given Data '!C$21*8.91 -> 92.968722 | M110: 0 | N110: =0.5*'Given Data '!C$19*'Given Data '!C$9*'Given Data '!C$20*Sheet1!E110^2 -> 79.013545 | O110: =K110*I110 -> 519.67066 | P110: =L110+M110+N110+O110 -> 691.65293 | Q110: =IF(P110>=0,P110,IF(P110<0,-P110)) -> 691.65293 | R110: =Q110*'Given Data '!C$13 -> 175.67984 | S110: =R110/(IF(J110=1,'Given Data '!I$6,IF(J110=2,'Given Data '!I$7,IF(J110=3,'Given Data '!I$8)))) -> 13.803852 | T110: =(Q110*H110)/1000 -> 8.6574883 | U110: =60*T110*1000/(2*PI()*S110) -> 5989.1197 | V110: =ROUND(S110,0) -> 14 | W110: =MROUND(U110,500) -> 6000 | X110: =T110/3600 -> 0.0024048579 | Y110: =INDEX('Given Data '!F$15:S$37,MATCH(Sheet1!V110,'Given Data '!E$15:E$37,0),MATCH(Sheet1!W110,'Given Data '!F$38:S$38,0)) -> 298.88214 | Z110: =Y110*X110 -> 0.71876908 | AA110: =AA109+Z110 -> 43.037797 | AB110: =AVERAGE(T$2:T$218) -> 3.4833445 | AC110: =(P110*G110)/1000 -> 619.81432
B111: Slop 1 up | C111: =C110+1 -> 109 | D111: 28 | E111: =D111/2.23694 -> 12.517099 | F111: =E111*3.6 -> 45.061557 | G111: =(E111+E110)/2+G110 -> 908.87552 | H111: =(E111+E110)/2 -> 12.740619 | I111: =(H111-E110*1)*2 -> -0.44703926 | J111: =IF(D111<=10,1,IF(AND(D111>10,D111<=20),2,IF(D111>20,3))) -> 3 | K111: =IF(J111=1,'Given Data '!C$46,IF(J111=2,'Given Data '!C$47,IF(J111=3,'Given Data '!C$48))) -> 581.23604 | L111: ='Given Data '!C$17*'Given Data '!C$21*8.91 -> 92.968722 | M111: ='Given Data '!C$17*9.81*0.1333 -> 682.22608 | N111: =0.5*'Given Data '!C$19*'Given Data '!C$9*'Given Data '!C$20*Sheet1!E111^2 -> 73.658287 | O111: =K111*I111 -> -259.83533 | P111: =L111+M111+N111+O111 -> 589.01776 | Q111: =IF(P111>=0,P111,IF(P111<0,-P111)) -> 589.01776 | R111: =Q111*'Given Data '!C$13 -> 149.61051 | S111: =R111/(IF(J111=1,'Given Data '!I$6,IF(J111=2,'Given Data '!I$7,IF(J111=3,'Given Data '!I$8)))) -> 11.755483 | T111: =(Q111*H111)/1000 -> 7.5044508 | U111: =60*T111*1000/(2*PI()*S111) -> 6096.0683 | V111: =ROUND(S111,0) -> 12 | W111: =MROUND(U111,500) -> 6000 | X111: =T111/3600 -> 0.0020845697 | Y111: =INDEX('Given Data '!F$15:S$37,MATCH(Sheet1!V111,'Given Data '!E$15:E$37,0),MATCH(Sheet1!W111,'Given Data '!F$38:S$38,0)) -> 319.10738 | Z111: =Y111*X111 -> 0.66520156 | AA111: =AA110+Z111 -> 43.702998 | AB111: =AVERAGE(T$2:T$218) -> 3.4833445 | AC111: =(P111*G111)/1000 -> 535.34382
B112: Slop 1 up | C112: =C111+1 -> 110 | D112: 27 | E112: =D112/2.23694 -> 12.07006 | F112: =E112*3.6 -> 43.452216 | G112: =(E112+E111)/2+G111 -> 921.1691 | H112: =(E112+E111)/2 -> 12.29358 | I112: =(H112-E111*1)*2 -> -0.44703926 | J112: =IF(D112<=10,1,IF(AND(D112>10,D112<=20),2,IF(D112>20,3))) -> 3 | K112: =IF(J112=1,'Given Data '!C$46,IF(J112=2,'Given Data '!C$47,IF(J112=3,'Given Data '!C$48))) -> 581.23604 | L112: ='Given Data '!C$17*'Given Data '!C$21*8.91 -> 92.968722 | M112: ='Given Data '!C$17*9.81*0.1333 -> 682.22608 | N112: =0.5*'Given Data '!C$19*'Given Data '!C$9*'Given Data '!C$20*Sheet1!E112^2 -> 68.490933 | O112: =K112*I112 -> -259.83533 | P112: =L112+M112+N112+O112 -> 583.85041 | Q112: =IF(P112>=0,P112,IF(P112<0,-P112)) -> 583.85041 | R112: =Q112*'Given Data '!C$13 -> 148.298 | S112: =R112/(IF(J112=1,'Given Data '!I$6,IF(J112=2,'Given Data '!I$7,IF(J112=3,'Given Data '!I$8)))) -> 11.652354 | T112: =(Q112*H112)/1000 -> 7.1776115 | U112: =60*T112*1000/(2*PI()*S112) -> 5882.1712 | V112: =ROUND(S112,0) -> 12 | W112: =MROUND(U112,500) -> 6000 | X112: =T112/3600 -> 0.001993781 | Y112: =INDEX('Given Data '!F$15:S$37,MATCH(Sheet1!V112,'Given Data '!E$15:E$37,0),MATCH(Sheet1!W112,'Given Data '!F$38:S$38,0)) -> 319.10738 | Z112: =Y112*X112 -> 0.63623022 | AA112: =AA111+Z112 -> 44.339229 | AB112: =AVERAGE(T$2:T$218) -> 3.4833445 | AC112: =(P112*G112)/1000 -> 537.82495
B113: Slop 1 up | C113: =C112+1 -> 111 | D113: 26 | E113: =D113/2.23694 -> 11.623021 | F113: =E113*3.6 -> 41.842875 | G113: =(E113+E112)/2+G112 -> 933.01564 | H113: =(E113+E112)/2 -> 11.84654 | I113: =(H113-E112*1)*2 -> -0.44703926 | J113: =IF(D113<=10,1,IF(AND(D113>10,D113<=20),2,IF(D113>20,3))) -> 3 | K113: =IF(J113=1,'Given Data '!C$46,IF(J113=2,'Given Data '!C$47,IF(J113=3,'Given Data '!C$48))) -> 581.23604 | L113: ='Given Data '!C$17*'Given Data '!C$21*8.91 -> 92.968722 | M113: ='Given Data '!C$17*9.81*0.1333 -> 682.22608 | N113: =0.5*'Given Data '!C$19*'Given Data '!C$9*'Given Data '!C$20*Sheet1!E113^2 -> 63.511482 | O113: =K113*I113 -> -259.83533 | P113: =L113+M113+N113+O113 -> 578.87096 | Q113: =IF(P113>=0,P113,IF(P113<0,-P113)) -> 578.87096 | R113: =Q113*'Given Data '!C$13 -> 147.03322 | S113: =R113/(IF(J113=1,'Given Data '!I$6,IF(J113=2,'Given Data '!I$7,IF(J113=3,'Given Data '!I$8)))) -> 11.552975 | T113: =(Q113*H113)/1000 -> 6.8576181 | U113: =60*T113*1000/(2*PI()*S113) -> 5668.274 | V113: =ROUND(S113,0) -> 12 | W113: =MROUND(U113,500) -> 5500 | X113: =T113/3600 -> 0.0019048939 | Y113: =INDEX('Given Data '!F$15:S$37,MATCH(Sheet1!V113,'Given Data '!E$15:E$37,0),MATCH(Sheet1!W113,'Given Data '!F$38:S$38,0)) -> 326.03757 | Z113: =Y113*X113 -> 0.62106699 | AA113: =AA112+Z113 -> 44.960296 | AB113: =AVERAGE(T$2:T$218) -> 3.4833445 | AC113: =(P113*G113)/1000 -> 540.09565
B114: Slop 1 up | C114: =C113+1 -> 112 | D114: 24.5 | E114: =D114/2.23694 -> 10.952462 | F114: =E114*3.6 -> 39.428863 | G114: =(E114+E113)/2+G113 -> 944.30338 | H114: =(E114+E113)/2 -> 11.287741 | I114: =(H114-E113*1)*2 -> -0.67055889 | J114: =IF(D114<=10,1,IF(AND(D114>10,D114<=20),2,IF(D114>20,3))) -> 3 | K114: =IF(J114=1,'Given Data '!C$46,IF(J114=2,'Given Data '!C$47,IF(J114=3,'Given Data '!C$48))) -> 581.23604 | L114: ='Given Data '!C$17*'Given Data '!C$21*8.91 -> 92.968722 | M114: ='Given Data '!C$17*9.81*0.1333 -> 682.22608 | N114: =0.5*'Given Data '!C$19*'Given Data '!C$9*'Given Data '!C$20*Sheet1!E114^2 -> 56.394626 | O114: =K114*I114 -> -389.75299 | P114: =L114+M114+N114+O114 -> 441.83644 | Q114: =IF(P114>=0,P114,IF(P114<0,-P114)) -> 441.83644 | R114: =Q114*'Given Data '!C$13 -> 112.22645 | S114: =R114/(IF(J114=1,'Given Data '!I$6,IF(J114=2,'Given Data '!I$7,IF(J114=3,'Given Data '!I$8)))) -> 8.8180714 | T114: =(Q114*H114)/1000 -> 4.9873354 | U114: =60*T114*1000/(2*PI()*S114) -> 5400.9026 | V114: =ROUND(S114,0) -> 9 | W114: =MROUND(U114,500) -> 5500 | X114: =T114/3600 -> 0.0013853709 | Y114: =INDEX('Given Data '!F$15:S$37,MATCH(Sheet1!V114,'Given Data '!E$15:E$37,0),MATCH(Sheet1!W114,'Given Data '!F$38:S$38,0)) -> 401.34726 | Z114: =Y114*X114 -> 0.55601484 | AA114: =AA113+Z114 -> 45.51631 | AB114: =AVERAGE(T$2:T$218) -> 3.4833445 | AC114: =(P114*G114)/1000 -> 417.22764
B115: Slop 1 up | C115: =C114+1 -> 113 | D115: 23 | E115: =D115/2.23694 -> 10.281903 | F115: =E115*3.6 -> 37.014851 | G115: =(E115+E114)/2+G114 -> 954.92056 | H115: =(E115+E114)/2 -> 10.617182 | I115: =(H115-E114*1)*2 -> -0.67055889 | J115: =IF(D115<=10,1,IF(AND(D115>10,D115<=20),2,IF(D115>20,3))) -> 3 | K115: =IF(J115=1,'Given Data '!C$46,IF(J115=2,'Given Data '!C$47,IF(J115=3,'Given Data '!C$48))) -> 581.23604 | L115: ='Given Data '!C$17*'Given Data '!C$21*8.91 -> 92.968722 | M115: ='Given Data '!C$17*9.81*0.1333 -> 682.22608 | N115: =0.5*'Given Data '!C$19*'Given Data '!C$9*'Given Data '!C$20*Sheet1!E115^2 -> 49.700553 | O115: =K115*I115 -> -389.75299 | P115: =L115+M115+N115+O115 -> 435.14236 | Q115: =IF(P115>=0,P115,IF(P115<0,-P115)) -> 435.14236 | R115: =Q115*'Given Data '!C$13 -> 110.52616 | S115: =R115/(IF(J115=1,'Given Data '!I$6,IF(J115=2,'Given Data '!I$7,IF(J115=3,'Given Data '!I$8)))) -> 8.6844726 | T115: =(Q115*H115)/1000 -> 4.6199858 | U115: =60*T115*1000/(2*PI()*S115) -> 5080.0569 | V115: =ROUND(S115,0) -> 9 | W115: =MROUND(U115,500) -> 5000 | X115: =T115/3600 -> 0.0012833294 | Y115: =INDEX('Given Data '!F$15:S$37,MATCH(Sheet1!V115,'Given Data '!E$15:E$37,0),MATCH(Sheet1!W115,'Given Data '!F$38:S$38,0)) -> 394.87041 | Z115: =Y115*X115 -> 0.5067488 | AA115: =AA114+Z115 -> 46.023059 | AB115: =AVERAGE(T$2:T$218) -> 3.4833445 | AC115: =(P115*G115)/1000 -> 415.52639
B116: Slop 1 up | C116: =C115+1 -> 114 | D116: 21 | E116: =D116/2.23694 -> 9.3878244 | F116: =E116*3.6 -> 33.796168 | G116: =(E116+E115)/2+G115 -> 964.75542 | H116: =(E116+E115)/2 -> 9.8348637 | I116: =(H116-E115*1)*2 -> -0.89407852 | J116: =IF(D116<=10,1,IF(AND(D116>10,D116<=20),2,IF(D116>20,3))) -> 3 | K116: =IF(J116=1,'Given Data '!C$46,IF(J116=2,'Given Data '!C$47,IF(J116=3,'Given Data '!C$48))) -> 581.23604 | L116: ='Given Data '!C$17*'Given Data '!C$21*8.91 -> 92.968722 | M116: ='Given Data '!C$17*9.81*0.1333 -> 682.22608 | N116: =0.5*'Given Data '!C$19*'Given Data '!C$9*'Given Data '!C$20*Sheet1!E116^2 -> 41.432787 | O116: =K116*I116 -> -519.67066 | P116: =L116+M116+N116+O116 -> 296.95693 | Q116: =IF(P116>=0,P116,IF(P116<0,-P116)) -> 296.95693 | R116: =Q116*'Given Data '!C$13 -> 75.427061 | S116: =R116/(IF(J116=1,'Given Data '!I$6,IF(J116=2,'Given Data '!I$7,IF(J116=3,'Given Data '!I$8)))) -> 5.9265991 | T116: =(Q116*H116)/1000 -> 2.9205309 | U116: =60*T116*1000/(2*PI()*S116) -> 4705.7369 | V116: =ROUND(S116,0) -> 6 | W116: =MROUND(U116,500) -> 4500 | X116: =T116/3600 -> 0.0008112586 | Y116: =INDEX('Given Data '!F$15:S$37,MATCH(Sheet1!V116,'Given Data '!E$15:E$37,0),MATCH(Sheet1!W116,'Given Data '!F$38:S$38,0)) -> 560.7605 | Z116: =Y116*X116 -> 0.45492177 | AA116: =AA115+Z116 -> 46.477981 | AB116: =AVERAGE(T$2:T$218) -> 3.4833445 | AC116: =(P116*G116)/1000 -> 286.49081
B117: Slop 1 up | C117: =C116+1 -> 115 | D117: 21 | E117: =D117/2.23694 -> 9.3878244 | F117: =E117*3.6 -> 33.796168 | G117: =(E117+E116)/2+G116 -> 974.14325 | H117: =(E117+E116)/2 -> 9.3878244 | I117: =(H117-E116*1)*2 -> 0 | J117: =IF(D117<=10,1,IF(AND(D117>10,D117<=20),2,IF(D117>20,3))) -> 3 | K117: =IF(J117=1,'Given Data '!C$46,IF(J117=2,'Given Data '!C$47,IF(J117=3,'Given Data '!C$48))) -> 581.23604 | L117: ='Given Data '!C$17*'Given Data '!C$21*8.91 -> 92.968722 | M117: ='Given Data '!C$17*9.81*0.1333 -> 682.22608 | N117: =0.5*'Given Data '!C$19*'Given Data '!C$9*'Given Data '!C$20*Sheet1!E117^2 -> 41.432787 | O117: =K117*I117 -> 0 | P117: =L117+M117+N117+O117 -> 816.62759 | Q117: =IF(P117>=0,P117,IF(P117<0,-P117)) -> 816.62759 | R117: =Q117*'Given Data '!C$13 -> 207.42341 | S117: =R117/(IF(J117=1,'Given Data '!I$6,IF(J117=2,'Given Data '!I$7,IF(J117=3,'Given Data '!I$8)))) -> 16.298068 | T117: =(Q117*H117)/1000 -> 7.6663564 | U117: =60*T117*1000/(2*PI()*S117) -> 4491.8398 | V117: =ROUND(S117,0) -> 16 | W117: =MROUND(U117,500) -> 4500 | X117: =T117/3600 -> 0.0021295435 | Y117: =INDEX('Given Data '!F$15:S$37,MATCH(Sheet1!V117,'Given Data '!E$15:E$37,0),MATCH(Sheet1!W117,'Given Data '!F$38:S$38,0)) -> 444.16346 | Z117: =Y117*X117 -> 0.94586539 | AA117: =AA116+Z117 -> 47.423846 | AB117: =AVERAGE(T$2:T$218) -> 3.4833445 | AC117: =(P117*G117)/1000 -> 795.51225
...
