Workbook

Sheet Kawasaki ZX750 CoG
E2: Kawasaki ZX750 | F2: 1996
B3: Level | D3: With Rider | E3: Level W/Rider Lifted | F3: Lifted W/rider
B4: Front Wheel (kg) | C4: 105.85 | D4: 150.4 | E4: 114.85 | F4: 175.7
B5: Rear Weel (kg) | C5: 91.25 | D5: 164.6 | E5: 82.2 | F5: 135.5
I6: Rake | J6: 24.5
B7: Wheelbase (mm) | C7: 1.445 | F7: Weight of Motorcycle | G7: 197.1 | I7: Trail | J7: 0.095
B8: Rw rad (mm) | C8: 0.303 | F8: Rider Weight (kg) | G8: 119.5
B9: Fw rad (mm) | C9: 0.284 | F9: Total Weight (kg) | G9: 316.6
B10: Rav (mm) | C10: 0.435
B11: Stool Height (mm) | C11: 0.4 | F11: Stool Weight | G11: 5
B12: Lifted Angle (Degrees) | C12: =DEGREES(ASIN(C11/C7)) -> 16.070301
B14: Without Rider
B15: YcoG | C15: =(C7*(C5-E5))/(G7*TAN(RADIANS(C12)))+C10 -> 0.66531708 | D15: Load Transfer Front (%) | E15: =((C7-C16)/C7)*100 -> 53.703704 | F15: With Rider Front (%) | G15: =((C7-C20)/C7)*100 -> 48.010107
B16: XcoG | C16: =C5*C7/G7 -> 0.66898148 | D16: Load Transfer Rear (%) | E16: =((C16)/C7)*100 -> 46.296296 | F16: With Rider Rear (%) | G16: =(C20)/C7*100 -> 51.989893
B18: With Rider
B19: YcoG | C19: =(C7*(D5-F5))/(G9*TAN(RADIANS(C12)))+C10 -> 0.89604813
B20: XcoG | C20: =(D5*C7)/G9 -> 0.75125395
C22: x | D22: y
B23: Front Wheel | C23: 0 | D23: =C9 -> 0.284
B24: Rear Wheel | C24: =C7 -> 1.445 | D24: =C8 -> 0.303
D26: X | E26: Y
A27: Rear | B27: 0 | C27: =RADIANS(B27) -> 0 | D27: =($D$24*SIN(C27))+$C$24 -> 1.445 | E27: =($D$24*COS(C27))+$D$24 -> 0.606
B28: 1 | C28: =RADIANS(B28) -> 0.017453293 | D28: =($D$24*SIN(C28))+$C$24 -> 1.4502881 | E28: =($D$24*COS(C28))+$D$24 -> 0.60595385
B29: 2 | C29: =RADIANS(B29) -> 0.034906585 | D29: =($D$24*SIN(C29))+$C$24 -> 1.4555745 | E29: =($D$24*COS(C29))+$D$24 -> 0.60581542
B30: 3 | C30: =RADIANS(B30) -> 0.052359878 | D30: =($D$24*SIN(C30))+$C$24 -> 1.4608578 | E30: =($D$24*COS(C30))+$D$24 -> 0.60558475
B31: 4 | C31: =RADIANS(B31) -> 0.06981317 | D31: =($D$24*SIN(C31))+$C$24 -> 1.4661362 | E31: =($D$24*COS(C31))+$D$24 -> 0.60526191
B32: 5 | C32: =RADIANS(B32) -> 0.087266463 | D32: =($D$24*SIN(C32))+$C$24 -> 1.4714082 | E32: =($D$24*COS(C32))+$D$24 -> 0.60484699
B33: 6 | C33: =RADIANS(B33) -> 0.10471976 | D33: =($D$24*SIN(C33))+$C$24 -> 1.4766721 | E33: =($D$24*COS(C33))+$D$24 -> 0.60434013
B34: 7 | C34: =RADIANS(B34) -> 0.12217305 | D34: =($D$24*SIN(C34))+$C$24 -> 1.4819264 | E34: =($D$24*COS(C34))+$D$24 -> 0.60374148
B35: 8 | C35: =RADIANS(B35) -> 0.13962634 | D35: =($D$24*SIN(C35))+$C$24 -> 1.4871694 | E35: =($D$24*COS(C35))+$D$24 -> 0.60305122
B36: 9 | C36: =RADIANS(B36) -> 0.15707963 | D36: =($D$24*SIN(C36))+$C$24 -> 1.4923996 | E36: =($D$24*COS(C36))+$D$24 -> 0.60226957
B37: 10 | C37: =RADIANS(B37) -> 0.17453293 | D37: =($D$24*SIN(C37))+$C$24 -> 1.4976154 | E37: =($D$24*COS(C37))+$D$24 -> 0.60139675
B38: 11 | C38: =RADIANS(B38) -> 0.19198622 | D38: =($D$24*SIN(C38))+$C$24 -> 1.5028151 | E38: =($D$24*COS(C38))+$D$24 -> 0.60043304
B39: 12 | C39: =RADIANS(B39) -> 0.20943951 | D39: =($D$24*SIN(C39))+$C$24 -> 1.5079972 | E39: =($D$24*COS(C39))+$D$24 -> 0.59937872
... B41: 14 | C41: =RADIANS(B41) -> 0.2443461 | D41: =($D$24*SIN(C41))+$C$24 -> 1.5183023 | E41: =($D$24*COS(C41))+$D$24 -> 0.59699961
B42: 15 | C42: =RADIANS(B42) -> 0.26179939 | D42: =($D$24*SIN(C42))+$C$24 -> 1.5234222 | E42: =($D$24*COS(C42))+$D$24 -> 0.59567553 | G42: Front | I42: X | J42: Y
B43: 16 | C43: =RADIANS(B43) -> 0.27925268 | D43: =($D$24*SIN(C43))+$C$24 -> 1.5285181 | E43: =($D$24*COS(C43))+$D$24 -> 0.59426229 | G43: 0 | H43: =RADIANS(G43) -> 0 | I43: =($D$23*SIN(H43))+$C$23 -> 0 | J43: =($D$23*COS(H43))+$D$23 -> 0.568
B44: 17 | C44: =RADIANS(B44) -> 0.29670597 | D44: =($D$24*SIN(C44))+$C$24 -> 1.5335886 | E44: =($D$24*COS(C44))+$D$24 -> 0.59276034 | G44: 1 | H44: =RADIANS(G44) -> 0.017453293 | I44: =($D$23*SIN(H44))+$C$23 -> 0.0049564834 | J44: =($D$23*COS(H44))+$D$23 -> 0.56795675
B45: 18 | C45: =RADIANS(B45) -> 0.31415927 | D45: =($D$24*SIN(C45))+$C$24 -> 1.5386321 | E45: =($D$24*COS(C45))+$D$24 -> 0.59117012 | G45: 2 | H45: =RADIANS(G45) -> 0.034906585 | I45: =($D$23*SIN(H45))+$C$23 -> 0.0099114571 | J45: =($D$23*COS(H45))+$D$23 -> 0.56782699
B46: 19 | C46: =RADIANS(B46) -> 0.33161256 | D46: =($D$24*SIN(C46))+$C$24 -> 1.5436472 | E46: =($D$24*COS(C46))+$D$24 -> 0.58949213 | G46: 3 | H46: =RADIANS(G46) -> 0.052359878 | I46: =($D$23*SIN(H46))+$C$23 -> 0.014863412 | J46: =($D$23*COS(H46))+$D$23 -> 0.56761079
...

Sheet Aprilla RS250 CoG
E2: Aprilla 250
B3: Level | D3: With Rider | E3: Level W/Rider Lifted | F3: Lifted W/rider
B4: Front Wheel (kg) | C4: 71.5 | D4: 99.1 | E4: 79.35 | F4: 119.7 | I4: Rake (degrees) | J4: 25
B5: Rear Weel (kg) | C5: 66.95 | D5: 115.45 | E5: 59.05 | F5: 94.85 | I5: Trail (mm) | J5: 0.085
B7: Wheelbase (mm) | C7: 1.35 | F7: Weight of Motorcycle | G7: 138.45
B8: Rw rad (mm) | C8: 0.305 | F8: Rider Weight (kg) | G8: 76.6
B9: Fw rad (mm) | C9: 0.292 | F9: Total Weight (kg) | G9: 215.05
B10: Rav (mm) | C10: 0.295
B11: Stool Height (mm) | C11: 0.4 | F11: Stool Weight | G11: 5
B12: Lifted Angle (Degrees) | C12: =DEGREES(ASIN(C11/C7)) -> 17.235285
B14: Without Rider
B15: YcoG | C15: =(C7*(C5-E5))/(G7*TAN(RADIANS(C12)))+C10 -> 0.54330687 | D15: Load Transfer Front (%) | E15: =((C7-C16)/C7)*100 -> 51.643192 | F15: With Rider Front (%) | G15: =((C7-C20)/C7)*100 -> 46.314811
B16: XcoG | C16: =C5*C7/G7 -> 0.6528169 | D16: Load Transfer Rear (%) | E16: =((C16)/C7)*100 -> 48.356808 | F16: With Rider Rear (%) | G16: =(C20)/C7*100 -> 53.685189
B18: With Rider
B19: YcoG | C19: =(C7*(D5-F5))/(G9*TAN(RADIANS(C12)))+C10 -> 0.71185247
B20: XcoG | C20: =(D5*C7)/G9 -> 0.72475006
C22: x | D22: y
B23: Front Wheel | C23: 0 | D23: =C9 -> 0.292
B24: Rear Wheel | C24: =C7 -> 1.35 | D24: =C8 -> 0.305
B26: Rear | D26: X | E26: Y
B27: 0 | C27: =RADIANS(B27) -> 0 | D27: =($D$24*SIN(C27))+$C$24 -> 1.35 | E27: =($D$24*COS(C27))+$D$24 -> 0.61
B28: 1 | C28: =RADIANS(B28) -> 0.017453293 | D28: =($D$24*SIN(C28))+$C$24 -> 1.355323 | E28: =($D$24*COS(C28))+$D$24 -> 0.60995355
B29: 2 | C29: =RADIANS(B29) -> 0.034906585 | D29: =($D$24*SIN(C29))+$C$24 -> 1.3606443 | E29: =($D$24*COS(C29))+$D$24 -> 0.6098142
B30: 3 | C30: =RADIANS(B30) -> 0.052359878 | D30: =($D$24*SIN(C30))+$C$24 -> 1.3659625 | E30: =($D$24*COS(C30))+$D$24 -> 0.60958201
B31: 4 | C31: =RADIANS(B31) -> 0.06981317 | D31: =($D$24*SIN(C31))+$C$24 -> 1.3712757 | E31: =($D$24*COS(C31))+$D$24 -> 0.60925704
B32: 5 | C32: =RADIANS(B32) -> 0.087266463 | D32: =($D$24*SIN(C32))+$C$24 -> 1.3765825 | E32: =($D$24*COS(C32))+$D$24 -> 0.60883938
B33: 6 | C33: =RADIANS(B33) -> 0.10471976 | D33: =($D$24*SIN(C33))+$C$24 -> 1.3818812 | E33: =($D$24*COS(C33))+$D$24 -> 0.60832918
B34: 7 | C34: =RADIANS(B34) -> 0.12217305 | D34: =($D$24*SIN(C34))+$C$24 -> 1.3871701 | E34: =($D$24*COS(C34))+$D$24 -> 0.60772658
B35: 8 | C35: =RADIANS(B35) -> 0.13962634 | D35: =($D$24*SIN(C35))+$C$24 -> 1.3924478 | E35: =($D$24*COS(C35))+$D$24 -> 0.60703176
B36: 9 | C36: =RADIANS(B36) -> 0.15707963 | D36: =($D$24*SIN(C36))+$C$24 -> 1.3977125 | E36: =($D$24*COS(C36))+$D$24 -> 0.60624494
B37: 10 | C37: =RADIANS(B37) -> 0.17453293 | D37: =($D$24*SIN(C37))+$C$24 -> 1.4029627 | E37: =($D$24*COS(C37))+$D$24 -> 0.60536636
B38: 11 | C38: =RADIANS(B38) -> 0.19198622 | D38: =($D$24*SIN(C38))+$C$24 -> 1.4081967 | E38: =($D$24*COS(C38))+$D$24 -> 0.60439629
... B41: 14 | C41: =RADIANS(B41) -> 0.2443461 | D41: =($D$24*SIN(C41))+$C$24 -> 1.4237862 | E41: =($D$24*COS(C41))+$D$24 -> 0.6009402
B42: 15 | C42: =RADIANS(B42) -> 0.26179939 | D42: =($D$24*SIN(C42))+$C$24 -> 1.4289398 | E42: =($D$24*COS(C42))+$D$24 -> 0.59960738 | G42: Front | I42: X | J42: Y
B43: 16 | C43: =RADIANS(B43) -> 0.27925268 | D43: =($D$24*SIN(C43))+$C$24 -> 1.4340694 | E43: =($D$24*COS(C43))+$D$24 -> 0.59818482 | G43: 0 | H43: =RADIANS(G43) -> 0 | I43: =($D$23*SIN(H43))+$C$23 -> 0 | J43: =($D$23*COS(H43))+$D$23 -> 0.584 | M43: x value: | N43: y value:
B44: 17 | C44: =RADIANS(B44) -> 0.29670597 | D44: =($D$24*SIN(C44))+$C$24 -> 1.4391734 | E44: =($D$24*COS(C44))+$D$24 -> 0.59667295 | G44: 1 | H44: =RADIANS(G44) -> 0.017453293 | I44: =($D$23*SIN(H44))+$C$23 -> 0.0050961027 | J44: =($D$23*COS(H44))+$D$23 -> 0.58395553
B45: 18 | C45: =RADIANS(B45) -> 0.31415927 | D45: =($D$24*SIN(C45))+$C$24 -> 1.4442502 | E45: =($D$24*COS(C45))+$D$24 -> 0.59507224 | G45: 2 | H45: =RADIANS(G45) -> 0.034906585 | I45: =($D$23*SIN(H45))+$C$23 -> 0.010190653 | J45: =($D$23*COS(H45))+$D$23 -> 0.58382212
B46: 19 | C46: =RADIANS(B46) -> 0.33161256 | D46: =($D$24*SIN(C46))+$C$24 -> 1.4492983 | E46: =($D$24*COS(C46))+$D$24 -> 0.59338317 | G46: 3 | H46: =RADIANS(G46) -> 0.052359878 | I46: =($D$23*SIN(H46))+$C$23 -> 0.015282099 | J46: =($D$23*COS(H46))+$D$23 -> 0.58359982
B47: 20 | C47: =RADIANS(B47) -> 0.34906585 | D47: =($D$24*SIN(C47))+$C$24 -> 1.4543161 | E47: =($D$24*COS(C47))+$D$24 -> 0.59160625 | G47: 4 | H47: =RADIANS(G47) -> 0.06981317 | I47: =($D$23*SIN(H47))+$C$23 -> 0.02036889 | J47: =($D$23*COS(H47))+$D$23 -> 0.5832887
B48: 21 | C48: =RADIANS(B48) -> 0.36651914 | D48: =($D$24*SIN(C48))+$C$24 -> 1.4593022 | E48: =($D$24*COS(C48))+$D$24 -> 0.58974203 | G48: 5 | H48: =RADIANS(G48) -> 0.087266463 | I48: =($D$23*SIN(H48))+$C$23 -> 0.025449477 | J48: =($D$23*COS(H48))+$D$23 -> 0.58288885
...

Sheet Kawasaki ZX750-J
B2: Gearbox
B3: Primary | C3: 56 | D3: 97
B4: FINAL | C4: 16 | D4: 46
B5: Diam | D5: 0.6298 | E5: m
B6: RPM | C6: 11000 | H6: Chain Length
B7: Ratios | E7: speeds | H7: Chain Size | I7: Front Sprocket | J7: Rear Sprocket | K7: Chain | L7: Distance from front sprocket & pivot | M7: Swing Arm Length
H8: =5/8 -> 0.625 | I8: 16 | J8: 46 | K8: 114 | L8: 90 | M8: =0.5*(K8-0.5*(I8+J8))*25.4*H8-L8 -> 568.8125
B9: 1st | C9: 13 | D9: 38 | E9: =(($C$6*60*(C9/D9)*($C$3/$D$3)*$D$5*PI())/1000)*$C$4/$D$4 -> 89.708721
B11: 2nd | C11: 16 | D11: 34 | E11: =(($C$6*60*(C11/D11)*($C$3/$D$3)*$D$5*PI())/1000)*$C$4/$D$4 -> 123.40023
B13: 3rd | C13: 21 | D13: 35 | E13: =(($C$6*60*(C13/D13)*($C$3/$D$3)*$D$5*PI())/1000)*$C$4/$D$4 -> 157.33529
B15: 4th | C15: 21 | D15: 29 | E15: =(($C$6*60*(C15/D15)*($C$3/$D$3)*$D$5*PI())/1000)*$C$4/$D$4 -> 189.88742
B17: 5th | C17: 23 | D17: 28 | E17: =(($C$6*60*(C17/D17)*($C$3/$D$3)*$D$5*PI())/1000)*$C$4/$D$4 -> 215.39951
B19: 6th | C19: 24 | D19: 26 | E19: =(($C$6*60*(C19/D19)*($C$3/$D$3)*$D$5*PI())/1000)*$C$4/$D$4 -> 242.0543

Sheet Aprilla RS 250 
B2: Gearbox
B3: Primary | C3: 23 | D3: 59
B4: FINAL | C4: 14 | D4: 42
B5: Diam | D5: 0.6118 | E5: m
B6: RPM | C6: 11900
B7: Ratios | E7: speeds
B9: 1st | C9: 11 | D9: 27 | E9: =(($C$6*60*(C9/D9)*($C$3/$D$3)*$D$5*PI())/1000)*$C$4/$D$4 -> 72.650908
B11: 2nd | C11: 16 | D11: 26 | E11: =(($C$6*60*(C11/D11)*($C$3/$D$3)*$D$5*PI())/1000)*$C$4/$D$4 -> 109.73843
B13: 3rd | C13: 17 | D13: 21 | E13: =(($C$6*60*(C13/D13)*($C$3/$D$3)*$D$5*PI())/1000)*$C$4/$D$4 -> 144.3583
B15: 4th | C15: 22 | D15: 23 | E15: =(($C$6*60*(C15/D15)*($C$3/$D$3)*$D$5*PI())/1000)*$C$4/$D$4 -> 170.5717
B17: 5th | C17: 24 | D17: 22 | E17: =(($C$6*60*(C17/D17)*($C$3/$D$3)*$D$5*PI())/1000)*$C$4/$D$4 -> 194.53632
B19: 6th | C19: 25 | D19: 21 | E19: =(($C$6*60*(C19/D19)*($C$3/$D$3)*$D$5*PI())/1000)*$C$4/$D$4 -> 212.29161

Sheet Kawasaki ZX750-J Power Torque
B2: RPM | C2: TORQUE | D2: BHP | F2: RAW
B3: {=--_xlfn.CHOOSECOLS(_xlfn.TEXTSPLIT(F3, ";"), {1,3,4})} -> 3550 | C3: 26.774 | D3: 12.037 | F3: 3550.00;13.048;26.774;12.037;1.361;;;;;;;;;;;;;;;;;0.921;8.356;0.002;-0.002;;;;;;;;;;;;;;;;;;;;;;;;;;;;;;;;;;;;;;;;;
B4: {=--_xlfn.CHOOSECOLS(_xlfn.TEXTSPLIT(F4, ";"), {1,3,4})} -> 3555 | C4: 26.942 | D4: 12.138 | F4: 3555.00;13.149;26.942;12.138;1.363;;;;;;;;;;;;;;;;;0.919;8.356;0.002;-0.002;;;;;;;;;;;;;;;;;;;;;;;;;;;;;;;;;;;;;;;;;
B5: {=--_xlfn.CHOOSECOLS(_xlfn.TEXTSPLIT(F5, ";"), {1,3,4})} -> 3560 | C5: 27.109 | D5: 12.239 | F5: 3560.00;13.249;27.109;12.239;1.365;;;;;;;;;;;;;;;;;0.917;8.356;0.002;-0.002;;;;;;;;;;;;;;;;;;;;;;;;;;;;;;;;;;;;;;;;;
B6: {=--_xlfn.CHOOSECOLS(_xlfn.TEXTSPLIT(F6, ";"), {1,3,4})} -> 3565 | C6: 27.276 | D6: 12.34 | F6: 3565.00;13.349;27.276;12.340;1.367;;;;;;;;;;;;;;;;;0.915;8.356;0.002;-0.002;;;;;;;;;;;;;;;;;;;;;;;;;;;;;;;;;;;;;;;;;
B7: {=--_xlfn.CHOOSECOLS(_xlfn.TEXTSPLIT(F7, ";"), {1,3,4})} -> 3570 | C7: 27.443 | D7: 12.441 | F7: 3570.00;13.449;27.443;12.441;1.369;;;;;;;;;;;;;;;;;0.914;8.357;0.002;-0.002;;;;;;;;;;;;;;;;;;;;;;;;;;;;;;;;;;;;;;;;;
B8: {=--_xlfn.CHOOSECOLS(_xlfn.TEXTSPLIT(F8, ";"), {1,3,4})} -> 3575 | C8: 27.609 | D8: 12.542 | F8: 3575.00;13.550;27.609;12.542;1.371;;;;;;;;;;;;;;;;;0.912;8.357;0.002;-0.002;;;;;;;;;;;;;;;;;;;;;;;;;;;;;;;;;;;;;;;;;
B9: {=--_xlfn.CHOOSECOLS(_xlfn.TEXTSPLIT(F9, ";"), {1,3,4})} -> 3580 | C9: 27.774 | D9: 12.643 | F9: 3580.00;13.650;27.774;12.643;1.373;;;;;;;;;;;;;;;;;0.910;8.357;0.002;-0.002;;;;;;;;;;;;;;;;;;;;;;;;;;;;;;;;;;;;;;;;;
B10: {=--_xlfn.CHOOSECOLS(_xlfn.TEXTSPLIT(F10, ";"), {1,3,4})} -> 3585 | C10: 27.939 | D10: 12.744 | F10: 3585.00;13.750;27.939;12.744;1.375;;;;;;;;;;;;;;;;;0.908;8.357;0.002;-0.002;;;;;;;;;;;;;;;;;;;;;;;;;;;;;;;;;;;;;;;;;
B11: {=--_xlfn.CHOOSECOLS(_xlfn.TEXTSPLIT(F11, ";"), {1,3,4})} -> 3590 | C11: 28.104 | D11: 12.845 | F11: 3590.00;13.850;28.104;12.845;1.377;;;;;;;;;;;;;;;;;0.906;8.357;0.002;-0.002;;;;;;;;;;;;;;;;;;;;;;;;;;;;;;;;;;;;;;;;;
B12: {=--_xlfn.CHOOSECOLS(_xlfn.TEXTSPLIT(F12, ";"), {1,3,4})} -> 3595 | C12: 28.268 | D12: 12.946 | F12: 3595.00;13.951;28.268;12.946;1.379;;;;;;;;;;;;;;;;;0.905;8.357;0.002;-0.002;;;;;;;;;;;;;;;;;;;;;;;;;;;;;;;;;;;;;;;;;
B13: {=--_xlfn.CHOOSECOLS(_xlfn.TEXTSPLIT(F13, ";"), {1,3,4})} -> 3600 | C13: 28.431 | D13: 13.047 | F13: 3600.00;14.051;28.431;13.047;1.380;;;;;;;;;;;;;;;;;0.903;8.357;0.002;-0.002;;;;;;;;;;;;;;;;;;;;;;;;;;;;;;;;;;;;;;;;;
B14: {=--_xlfn.CHOOSECOLS(_xlfn.TEXTSPLIT(F14, ";"), {1,3,4})} -> 3605 | C14: 28.595 | D14: 13.148 | F14: 3605.00;14.151;28.595;13.148;1.382;;;;;;;;;;;;;;;;;0.901;8.358;0.002;-0.002;;;;;;;;;;;;;;;;;;;;;;;;;;;;;;;;;;;;;;;;;
... B1418: {=--_xlfn.CHOOSECOLS(_xlfn.TEXTSPLIT(F1418, ";"), {1,3,4})} -> 10625 | C1418: 65.842 | D1418: 91.309 | F1418: 10625.00;96.038;65.842;91.309;7.272;;;;;;;;;;;;;;;;;0.895;8.357;0.002;-0.002;;;;;;;;;;;;;;;;;;;;;;;;;;;;;;;;;;;;;;;;;
F1419: 10630.00;96.048;65.819;91.313;7.278;;;;;;;;;;;;;;;;;0.898;8.357;0.002;-0.002;;;;;;;;;;;;;;;;;;;;;;;;;;;;;;;;;;;;;;;;;

Sheet Aprilla RS250 Power Torque
A2: TORQUE | B2: RPM | C2: BHP
A3: 21.4 | B3: 3000 | C3: 9
A4: 21.6 | B4: 3500 | C4: 10.59
A5: 20.6 | B5: 4000 | C5: 11.57
A6: 21.4 | B6: 4500 | C6: 13.52
A7: 23.5 | B7: 5000 | C7: 16.51
A8: 26.4 | B8: 5500 | C8: 20.37
A9: 26.1 | B9: 6000 | C9: 22.02
A10: 25.7 | B10: 6500 | C10: 23.43
A11: 26.3 | B11: 7000 | C11: 25.87
A12: 30.2 | B12: 7500 | C12: 31.84
A13: 34 | B13: 8000 | C13: 38.21
A14: 37.4 | B14: 8500 | C14: 44.68
... A20: 38.3 | B20: 11500 | C20: 61.9
B21: 12000

Sheet Kawasaki ZX750-J Gear Resistanc
B2: Mass (kg) | C2: Frontal Area (m^2) | D2: CD | E2: Rho (Kg m^3 | H2: Roadspeed 1st (kph) | I2: Roadspeed 2nd (kph) | J2: Roadspeed 3rd (kph) | K2: Roadspeed 4th (kph) | L2: Roadspeed 5th (kph) | M2: Roadspeed 6th (kph) | O2: Driving Force 1st | P2: Driving Force 2nd | Q2: Driving Force 3rd | R2: Driving Force 4th | S2: Driving Force 5th | T2: Driving Force 6th
B3: ='Kawasaki ZX750 CoG'!G9 -> 316.6 | C3: 0.28 | D3: 0.6 | E3: 1.167 | H3: =((('Kawasaki ZX750-J Power Torque'!B3*60*('Kawasaki ZX750-J'!$C$9/'Kawasaki ZX750-J'!$D$9)*('Kawasaki ZX750-J'!$C$3/'Kawasaki ZX750-J'!$D$3)*'Kawasaki ZX750-J'!$D$5*PI()/1000)*'Kawasaki ZX750-J'!$C$4/'Kawasaki ZX750-J'!$D$4)) -> 28.951451 | I3: =((('Kawasaki ZX750-J Power Torque'!B3*60*('Kawasaki ZX750-J'!$C$11/'Kawasaki ZX750-J'!$D$11)*('Kawasaki ZX750-J'!$C$3/'Kawasaki ZX750-J'!$D$3)*'Kawasaki ZX750-J'!$D$5*PI()/1000)*'Kawasaki ZX750-J'!$C$4/'Kawasaki ZX750-J'!$D$4)) -> 39.82462 | J3: =((('Kawasaki ZX750-J Power Torque'!B3*60*('Kawasaki ZX750-J'!$C$13/'Kawasaki ZX750-J'!$D$13)*('Kawasaki ZX750-J'!$C$3/'Kawasaki ZX750-J'!$D$3)*'Kawasaki ZX750-J'!$D$5*PI()/1000)*'Kawasaki ZX750-J'!$C$4/'Kawasaki ZX750-J'!$D$4)) -> 50.776391 | K3: =((('Kawasaki ZX750-J Power Torque'!B3*60*('Kawasaki ZX750-J'!$C$15/'Kawasaki ZX750-J'!$D$15)*('Kawasaki ZX750-J'!$C$3/'Kawasaki ZX750-J'!$D$3)*'Kawasaki ZX750-J'!$D$5*PI()/1000)*'Kawasaki ZX750-J'!$C$4/'Kawasaki ZX750-J'!$D$4)) -> 61.281851 | L3: =((('Kawasaki ZX750-J Power Torque'!B3*60*('Kawasaki ZX750-J'!$C$17/'Kawasaki ZX750-J'!$D$17)*('Kawasaki ZX750-J'!$C$3/'Kawasaki ZX750-J'!$D$3)*'Kawasaki ZX750-J'!$D$5*PI()/1000)*'Kawasaki ZX750-J'!$C$4/'Kawasaki ZX750-J'!$D$4)) -> 69.515297 | M3: =((('Kawasaki ZX750-J Power Torque'!B3*60*('Kawasaki ZX750-J'!$C$19/'Kawasaki ZX750-J'!$D$19)*('Kawasaki ZX750-J'!$C$3/'Kawasaki ZX750-J'!$D$3)*'Kawasaki ZX750-J'!$D$5*PI()/1000)*'Kawasaki ZX750-J'!$C$4/'Kawasaki ZX750-J'!$D$4)) -> 78.117524 | O3: =($F6*1000)/(H3*(1000/3600)) -> 1116.1295 | P3: =($F6*1000)/(I3*(1000/3600)) -> 811.39675 | Q3: =($F6*1000)/(J3*(1000/3600)) -> 636.38961 | R3: =($F6*1000)/(K3*(1000/3600)) -> 527.29425 | S3: =($F6*1000)/(L3*(1000/3600)) -> 464.8411 | T3: =($F6*1000)/(M3*(1000/3600)) -> 413.65324
H4: =((('Kawasaki ZX750-J Power Torque'!B4*60*('Kawasaki ZX750-J'!$C$9/'Kawasaki ZX750-J'!$D$9)*('Kawasaki ZX750-J'!$C$3/'Kawasaki ZX750-J'!$D$3)*'Kawasaki ZX750-J'!$D$5*PI()/1000)*'Kawasaki ZX750-J'!$C$4/'Kawasaki ZX750-J'!$D$4)) -> 28.992227 | I4: =((('Kawasaki ZX750-J Power Torque'!B4*60*('Kawasaki ZX750-J'!$C$11/'Kawasaki ZX750-J'!$D$11)*('Kawasaki ZX750-J'!$C$3/'Kawasaki ZX750-J'!$D$3)*'Kawasaki ZX750-J'!$D$5*PI()/1000)*'Kawasaki ZX750-J'!$C$4/'Kawasaki ZX750-J'!$D$4)) -> 39.880711 | J4: =((('Kawasaki ZX750-J Power Torque'!B4*60*('Kawasaki ZX750-J'!$C$13/'Kawasaki ZX750-J'!$D$13)*('Kawasaki ZX750-J'!$C$3/'Kawasaki ZX750-J'!$D$3)*'Kawasaki ZX750-J'!$D$5*PI()/1000)*'Kawasaki ZX750-J'!$C$4/'Kawasaki ZX750-J'!$D$4)) -> 50.847907 | K4: =((('Kawasaki ZX750-J Power Torque'!B4*60*('Kawasaki ZX750-J'!$C$15/'Kawasaki ZX750-J'!$D$15)*('Kawasaki ZX750-J'!$C$3/'Kawasaki ZX750-J'!$D$3)*'Kawasaki ZX750-J'!$D$5*PI()/1000)*'Kawasaki ZX750-J'!$C$4/'Kawasaki ZX750-J'!$D$4)) -> 61.368163 | L4: =((('Kawasaki ZX750-J Power Torque'!B4*60*('Kawasaki ZX750-J'!$C$17/'Kawasaki ZX750-J'!$D$17)*('Kawasaki ZX750-J'!$C$3/'Kawasaki ZX750-J'!$D$3)*'Kawasaki ZX750-J'!$D$5*PI()/1000)*'Kawasaki ZX750-J'!$C$4/'Kawasaki ZX750-J'!$D$4)) -> 69.613206 | M4: =((('Kawasaki ZX750-J Power Torque'!B4*60*('Kawasaki ZX750-J'!$C$19/'Kawasaki ZX750-J'!$D$19)*('Kawasaki ZX750-J'!$C$3/'Kawasaki ZX750-J'!$D$3)*'Kawasaki ZX750-J'!$D$5*PI()/1000)*'Kawasaki ZX750-J'!$C$4/'Kawasaki ZX750-J'!$D$4)) -> 78.227549 | O4: =($F7*1000)/(H4*(1000/3600)) -> 1123.9117 | P4: =($F7*1000)/(I4*(1000/3600)) -> 817.05423 | Q4: =($F7*1000)/(J4*(1000/3600)) -> 640.82685 | R4: =($F7*1000)/(K4*(1000/3600)) -> 530.97082 | S4: =($F7*1000)/(L4*(1000/3600)) -> 468.08222 | T4: =($F7*1000)/(M4*(1000/3600)) -> 416.53745
B5: Kph | C5: m/s | D5: Resistance | F5: Power (Kw) | H5: =((('Kawasaki ZX750-J Power Torque'!B5*60*('Kawasaki ZX750-J'!$C$9/'Kawasaki ZX750-J'!$D$9)*('Kawasaki ZX750-J'!$C$3/'Kawasaki ZX750-J'!$D$3)*'Kawasaki ZX750-J'!$D$5*PI()/1000)*'Kawasaki ZX750-J'!$C$4/'Kawasaki ZX750-J'!$D$4)) -> 29.033004 | I5: =((('Kawasaki ZX750-J Power Torque'!B5*60*('Kawasaki ZX750-J'!$C$11/'Kawasaki ZX750-J'!$D$11)*('Kawasaki ZX750-J'!$C$3/'Kawasaki ZX750-J'!$D$3)*'Kawasaki ZX750-J'!$D$5*PI()/1000)*'Kawasaki ZX750-J'!$C$4/'Kawasaki ZX750-J'!$D$4)) -> 39.936802 | J5: =((('Kawasaki ZX750-J Power Torque'!B5*60*('Kawasaki ZX750-J'!$C$13/'Kawasaki ZX750-J'!$D$13)*('Kawasaki ZX750-J'!$C$3/'Kawasaki ZX750-J'!$D$3)*'Kawasaki ZX750-J'!$D$5*PI()/1000)*'Kawasaki ZX750-J'!$C$4/'Kawasaki ZX750-J'!$D$4)) -> 50.919423 | K5: =((('Kawasaki ZX750-J Power Torque'!B5*60*('Kawasaki ZX750-J'!$C$15/'Kawasaki ZX750-J'!$D$15)*('Kawasaki ZX750-J'!$C$3/'Kawasaki ZX750-J'!$D$3)*'Kawasaki ZX750-J'!$D$5*PI()/1000)*'Kawasaki ZX750-J'!$C$4/'Kawasaki ZX750-J'!$D$4)) -> 61.454476 | L5: =((('Kawasaki ZX750-J Power Torque'!B5*60*('Kawasaki ZX750-J'!$C$17/'Kawasaki ZX750-J'!$D$17)*('Kawasaki ZX750-J'!$C$3/'Kawasaki ZX750-J'!$D$3)*'Kawasaki ZX750-J'!$D$5*PI()/1000)*'Kawasaki ZX750-J'!$C$4/'Kawasaki ZX750-J'!$D$4)) -> 69.711114 | M5: =((('Kawasaki ZX750-J Power Torque'!B5*60*('Kawasaki ZX750-J'!$C$19/'Kawasaki ZX750-J'!$D$19)*('Kawasaki ZX750-J'!$C$3/'Kawasaki ZX750-J'!$D$3)*'Kawasaki ZX750-J'!$D$5*PI()/1000)*'Kawasaki ZX750-J'!$C$4/'Kawasaki ZX750-J'!$D$4)) -> 78.337573 | O5: =($F8*1000)/(H5*(1000/3600)) -> 1131.6721 | P5: =($F8*1000)/(I5*(1000/3600)) -> 822.69582 | Q5: =($F8*1000)/(J5*(1000/3600)) -> 645.25163 | R5: =($F8*1000)/(K5*(1000/3600)) -> 534.63706 | S5: =($F8*1000)/(L5*(1000/3600)) -> 471.31423 | T5: =($F8*1000)/(M5*(1000/3600)) -> 419.41356
B6: 0 | C6: =B6*1000/3600 -> 0 | D6: =(0.5*$E$3*$D$3*$C$3*C6^2)+(0.02*$B$3*9.81) -> 62.11692 | F6: =0.7457*'Kawasaki ZX750-J Power Torque'!D3 -> 8.9759909 | H6: =((('Kawasaki ZX750-J Power Torque'!B6*60*('Kawasaki ZX750-J'!$C$9/'Kawasaki ZX750-J'!$D$9)*('Kawasaki ZX750-J'!$C$3/'Kawasaki ZX750-J'!$D$3)*'Kawasaki ZX750-J'!$D$5*PI()/1000)*'Kawasaki ZX750-J'!$C$4/'Kawasaki ZX750-J'!$D$4)) -> 29.073781 | I6: =((('Kawasaki ZX750-J Power Torque'!B6*60*('Kawasaki ZX750-J'!$C$11/'Kawasaki ZX750-J'!$D$11)*('Kawasaki ZX750-J'!$C$3/'Kawasaki ZX750-J'!$D$3)*'Kawasaki ZX750-J'!$D$5*PI()/1000)*'Kawasaki ZX750-J'!$C$4/'Kawasaki ZX750-J'!$D$4)) -> 39.992893 | J6: =((('Kawasaki ZX750-J Power Torque'!B6*60*('Kawasaki ZX750-J'!$C$13/'Kawasaki ZX750-J'!$D$13)*('Kawasaki ZX750-J'!$C$3/'Kawasaki ZX750-J'!$D$3)*'Kawasaki ZX750-J'!$D$5*PI()/1000)*'Kawasaki ZX750-J'!$C$4/'Kawasaki ZX750-J'!$D$4)) -> 50.990939 | K6: =((('Kawasaki ZX750-J Power Torque'!B6*60*('Kawasaki ZX750-J'!$C$15/'Kawasaki ZX750-J'!$D$15)*('Kawasaki ZX750-J'!$C$3/'Kawasaki ZX750-J'!$D$3)*'Kawasaki ZX750-J'!$D$5*PI()/1000)*'Kawasaki ZX750-J'!$C$4/'Kawasaki ZX750-J'!$D$4)) -> 61.540788 | L6: =((('Kawasaki ZX750-J Power Torque'!B6*60*('Kawasaki ZX750-J'!$C$17/'Kawasaki ZX750-J'!$D$17)*('Kawasaki ZX750-J'!$C$3/'Kawasaki ZX750-J'!$D$3)*'Kawasaki ZX750-J'!$D$5*PI()/1000)*'Kawasaki ZX750-J'!$C$4/'Kawasaki ZX750-J'!$D$4)) -> 69.809023 | M6: =((('Kawasaki ZX750-J Power Torque'!B6*60*('Kawasaki ZX750-J'!$C$19/'Kawasaki ZX750-J'!$D$19)*('Kawasaki ZX750-J'!$C$3/'Kawasaki ZX750-J'!$D$3)*'Kawasaki ZX750-J'!$D$5*PI()/1000)*'Kawasaki ZX750-J'!$C$4/'Kawasaki ZX750-J'!$D$4)) -> 78.447598 | O6: =($F9*1000)/(H6*(1000/3600)) -> 1139.4107 | P6: =($F9*1000)/(I6*(1000/3600)) -> 828.32159 | Q6: =($F9*1000)/(J6*(1000/3600)) -> 649.66399 | R6: =($F9*1000)/(K6*(1000/3600)) -> 538.29302 | S6: =($F9*1000)/(L6*(1000/3600)) -> 474.53718 | T6: =($F9*1000)/(M6*(1000/3600)) -> 422.28159
B7: 1 | C7: =B7*1000/3600 -> 0.27777778 | D7: =(0.5*$E$3*$D$3*$C$3*C7^2)+(0.02*$B$3*9.81) -> 62.124484 | F7: =0.7457*'Kawasaki ZX750-J Power Torque'!D4 -> 9.0513066 | H7: =((('Kawasaki ZX750-J Power Torque'!B7*60*('Kawasaki ZX750-J'!$C$9/'Kawasaki ZX750-J'!$D$9)*('Kawasaki ZX750-J'!$C$3/'Kawasaki ZX750-J'!$D$3)*'Kawasaki ZX750-J'!$D$5*PI()/1000)*'Kawasaki ZX750-J'!$C$4/'Kawasaki ZX750-J'!$D$4)) -> 29.114558 | I7: =((('Kawasaki ZX750-J Power Torque'!B7*60*('Kawasaki ZX750-J'!$C$11/'Kawasaki ZX750-J'!$D$11)*('Kawasaki ZX750-J'!$C$3/'Kawasaki ZX750-J'!$D$3)*'Kawasaki ZX750-J'!$D$5*PI()/1000)*'Kawasaki ZX750-J'!$C$4/'Kawasaki ZX750-J'!$D$4)) -> 40.048984 | J7: =((('Kawasaki ZX750-J Power Torque'!B7*60*('Kawasaki ZX750-J'!$C$13/'Kawasaki ZX750-J'!$D$13)*('Kawasaki ZX750-J'!$C$3/'Kawasaki ZX750-J'!$D$3)*'Kawasaki ZX750-J'!$D$5*PI()/1000)*'Kawasaki ZX750-J'!$C$4/'Kawasaki ZX750-J'!$D$4)) -> 51.062455 | K7: =((('Kawasaki ZX750-J Power Torque'!B7*60*('Kawasaki ZX750-J'!$C$15/'Kawasaki ZX750-J'!$D$15)*('Kawasaki ZX750-J'!$C$3/'Kawasaki ZX750-J'!$D$3)*'Kawasaki ZX750-J'!$D$5*PI()/1000)*'Kawasaki ZX750-J'!$C$4/'Kawasaki ZX750-J'!$D$4)) -> 61.627101 | L7: =((('Kawasaki ZX750-J Power Torque'!B7*60*('Kawasaki ZX750-J'!$C$17/'Kawasaki ZX750-J'!$D$17)*('Kawasaki ZX750-J'!$C$3/'Kawasaki ZX750-J'!$D$3)*'Kawasaki ZX750-J'!$D$5*PI()/1000)*'Kawasaki ZX750-J'!$C$4/'Kawasaki ZX750-J'!$D$4)) -> 69.906932 | M7: =((('Kawasaki ZX750-J Power Torque'!B7*60*('Kawasaki ZX750-J'!$C$19/'Kawasaki ZX750-J'!$D$19)*('Kawasaki ZX750-J'!$C$3/'Kawasaki ZX750-J'!$D$3)*'Kawasaki ZX750-J'!$D$5*PI()/1000)*'Kawasaki ZX750-J'!$C$4/'Kawasaki ZX750-J'!$D$4)) -> 78.557623 | O7: =($F10*1000)/(H7*(1000/3600)) -> 1147.1276 | P7: =($F10*1000)/(I7*(1000/3600)) -> 833.9316 | Q7: =($F10*1000)/(J7*(1000/3600)) -> 654.064 | R7: =($F10*1000)/(K7*(1000/3600)) -> 541.93874 | S7: =($F10*1000)/(L7*(1000/3600)) -> 477.75109 | T7: =($F10*1000)/(M7*(1000/3600)) -> 425.1416
B8: 2 | C8: =B8*1000/3600 -> 0.55555556 | D8: =(0.5*$E$3*$D$3*$C$3*C8^2)+(0.02*$B$3*9.81) -> 62.147176 | F8: =0.7457*'Kawasaki ZX750-J Power Torque'!D5 -> 9.1266223 | H8: =((('Kawasaki ZX750-J Power Torque'!B8*60*('Kawasaki ZX750-J'!$C$9/'Kawasaki ZX750-J'!$D$9)*('Kawasaki ZX750-J'!$C$3/'Kawasaki ZX750-J'!$D$3)*'Kawasaki ZX750-J'!$D$5*PI()/1000)*'Kawasaki ZX750-J'!$C$4/'Kawasaki ZX750-J'!$D$4)) -> 29.155334 | I8: =((('Kawasaki ZX750-J Power Torque'!B8*60*('Kawasaki ZX750-J'!$C$11/'Kawasaki ZX750-J'!$D$11)*('Kawasaki ZX750-J'!$C$3/'Kawasaki ZX750-J'!$D$3)*'Kawasaki ZX750-J'!$D$5*PI()/1000)*'Kawasaki ZX750-J'!$C$4/'Kawasaki ZX750-J'!$D$4)) -> 40.105075 | J8: =((('Kawasaki ZX750-J Power Torque'!B8*60*('Kawasaki ZX750-J'!$C$13/'Kawasaki ZX750-J'!$D$13)*('Kawasaki ZX750-J'!$C$3/'Kawasaki ZX750-J'!$D$3)*'Kawasaki ZX750-J'!$D$5*PI()/1000)*'Kawasaki ZX750-J'!$C$4/'Kawasaki ZX750-J'!$D$4)) -> 51.133971 | K8: =((('Kawasaki ZX750-J Power Torque'!B8*60*('Kawasaki ZX750-J'!$C$15/'Kawasaki ZX750-J'!$D$15)*('Kawasaki ZX750-J'!$C$3/'Kawasaki ZX750-J'!$D$3)*'Kawasaki ZX750-J'!$D$5*PI()/1000)*'Kawasaki ZX750-J'!$C$4/'Kawasaki ZX750-J'!$D$4)) -> 61.713413 | L8: =((('Kawasaki ZX750-J Power Torque'!B8*60*('Kawasaki ZX750-J'!$C$17/'Kawasaki ZX750-J'!$D$17)*('Kawasaki ZX750-J'!$C$3/'Kawasaki ZX750-J'!$D$3)*'Kawasaki ZX750-J'!$D$5*PI()/1000)*'Kawasaki ZX750-J'!$C$4/'Kawasaki ZX750-J'!$D$4)) -> 70.004841 | M8: =((('Kawasaki ZX750-J Power Torque'!B8*60*('Kawasaki ZX750-J'!$C$19/'Kawasaki ZX750-J'!$D$19)*('Kawasaki ZX750-J'!$C$3/'Kawasaki ZX750-J'!$D$3)*'Kawasaki ZX750-J'!$D$5*PI()/1000)*'Kawasaki ZX750-J'!$C$4/'Kawasaki ZX750-J'!$D$4)) -> 78.667647 | O8: =($F11*1000)/(H8*(1000/3600)) -> 1154.823 | P8: =($F11*1000)/(I8*(1000/3600)) -> 839.52591 | Q8: =($F11*1000)/(J8*(1000/3600)) -> 658.4517 | R8: =($F11*1000)/(K8*(1000/3600)) -> 545.57426 | S8: =($F11*1000)/(L8*(1000/3600)) -> 480.95602 | T8: =($F11*1000)/(M8*(1000/3600)) -> 427.9936
B9: 3 | C9: =B9*1000/3600 -> 0.83333333 | D9: =(0.5*$E$3*$D$3*$C$3*C9^2)+(0.02*$B$3*9.81) -> 62.184995 | F9: =0.7457*'Kawasaki ZX750-J Power Torque'!D6 -> 9.201938 | H9: =((('Kawasaki ZX750-J Power Torque'!B9*60*('Kawasaki ZX750-J'!$C$9/'Kawasaki ZX750-J'!$D$9)*('Kawasaki ZX750-J'!$C$3/'Kawasaki ZX750-J'!$D$3)*'Kawasaki ZX750-J'!$D$5*PI()/1000)*'Kawasaki ZX750-J'!$C$4/'Kawasaki ZX750-J'!$D$4)) -> 29.196111 | I9: =((('Kawasaki ZX750-J Power Torque'!B9*60*('Kawasaki ZX750-J'!$C$11/'Kawasaki ZX750-J'!$D$11)*('Kawasaki ZX750-J'!$C$3/'Kawasaki ZX750-J'!$D$3)*'Kawasaki ZX750-J'!$D$5*PI()/1000)*'Kawasaki ZX750-J'!$C$4/'Kawasaki ZX750-J'!$D$4)) -> 40.161166 | J9: =((('Kawasaki ZX750-J Power Torque'!B9*60*('Kawasaki ZX750-J'!$C$13/'Kawasaki ZX750-J'!$D$13)*('Kawasaki ZX750-J'!$C$3/'Kawasaki ZX750-J'!$D$3)*'Kawasaki ZX750-J'!$D$5*PI()/1000)*'Kawasaki ZX750-J'!$C$4/'Kawasaki ZX750-J'!$D$4)) -> 51.205487 | K9: =((('Kawasaki ZX750-J Power Torque'!B9*60*('Kawasaki ZX750-J'!$C$15/'Kawasaki ZX750-J'!$D$15)*('Kawasaki ZX750-J'!$C$3/'Kawasaki ZX750-J'!$D$3)*'Kawasaki ZX750-J'!$D$5*PI()/1000)*'Kawasaki ZX750-J'!$C$4/'Kawasaki ZX750-J'!$D$4)) -> 61.799726 | L9: =((('Kawasaki ZX750-J Power Torque'!B9*60*('Kawasaki ZX750-J'!$C$17/'Kawasaki ZX750-J'!$D$17)*('Kawasaki ZX750-J'!$C$3/'Kawasaki ZX750-J'!$D$3)*'Kawasaki ZX750-J'!$D$5*PI()/1000)*'Kawasaki ZX750-J'!$C$4/'Kawasaki ZX750-J'!$D$4)) -> 70.10275 | M9: =((('Kawasaki ZX750-J Power Torque'!B9*60*('Kawasaki ZX750-J'!$C$19/'Kawasaki ZX750-J'!$D$19)*('Kawasaki ZX750-J'!$C$3/'Kawasaki ZX750-J'!$D$3)*'Kawasaki ZX750-J'!$D$5*PI()/1000)*'Kawasaki ZX750-J'!$C$4/'Kawasaki ZX750-J'!$D$4)) -> 78.777672 | O9: =($F12*1000)/(H9*(1000/3600)) -> 1162.4968 | P9: =($F12*1000)/(I9*(1000/3600)) -> 845.1046 | Q9: =($F12*1000)/(J9*(1000/3600)) -> 662.82714 | R9: =($F12*1000)/(K9*(1000/3600)) -> 549.19963 | S9: =($F12*1000)/(L9*(1000/3600)) -> 484.152 | T9: =($F12*1000)/(M9*(1000/3600)) -> 430.83764
B10: 4 | C10: =B10*1000/3600 -> 1.1111111 | D10: =(0.5*$E$3*$D$3*$C$3*C10^2)+(0.02*$B$3*9.81) -> 62.237942 | F10: =0.7457*'Kawasaki ZX750-J Power Torque'!D7 -> 9.2772537 | H10: =((('Kawasaki ZX750-J Power Torque'!B10*60*('Kawasaki ZX750-J'!$C$9/'Kawasaki ZX750-J'!$D$9)*('Kawasaki ZX750-J'!$C$3/'Kawasaki ZX750-J'!$D$3)*'Kawasaki ZX750-J'!$D$5*PI()/1000)*'Kawasaki ZX750-J'!$C$4/'Kawasaki ZX750-J'!$D$4)) -> 29.236888 | I10: =((('Kawasaki ZX750-J Power Torque'!B10*60*('Kawasaki ZX750-J'!$C$11/'Kawasaki ZX750-J'!$D$11)*('Kawasaki ZX750-J'!$C$3/'Kawasaki ZX750-J'!$D$3)*'Kawasaki ZX750-J'!$D$5*PI()/1000)*'Kawasaki ZX750-J'!$C$4/'Kawasaki ZX750-J'!$D$4)) -> 40.217257 | J10: =((('Kawasaki ZX750-J Power Torque'!B10*60*('Kawasaki ZX750-J'!$C$13/'Kawasaki ZX750-J'!$D$13)*('Kawasaki ZX750-J'!$C$3/'Kawasaki ZX750-J'!$D$3)*'Kawasaki ZX750-J'!$D$5*PI()/1000)*'Kawasaki ZX750-J'!$C$4/'Kawasaki ZX750-J'!$D$4)) -> 51.277003 | K10: =((('Kawasaki ZX750-J Power Torque'!B10*60*('Kawasaki ZX750-J'!$C$15/'Kawasaki ZX750-J'!$D$15)*('Kawasaki ZX750-J'!$C$3/'Kawasaki ZX750-J'!$D$3)*'Kawasaki ZX750-J'!$D$5*PI()/1000)*'Kawasaki ZX750-J'!$C$4/'Kawasaki ZX750-J'!$D$4)) -> 61.886038 | L10: =((('Kawasaki ZX750-J Power Torque'!B10*60*('Kawasaki ZX750-J'!$C$17/'Kawasaki ZX750-J'!$D$17)*('Kawasaki ZX750-J'!$C$3/'Kawasaki ZX750-J'!$D$3)*'Kawasaki ZX750-J'!$D$5*PI()/1000)*'Kawasaki ZX750-J'!$C$4/'Kawasaki ZX750-J'!$D$4)) -> 70.200659 | M10: =((('Kawasaki ZX750-J Power Torque'!B10*60*('Kawasaki ZX750-J'!$C$19/'Kawasaki ZX750-J'!$D$19)*('Kawasaki ZX750-J'!$C$3/'Kawasaki ZX750-J'!$D$3)*'Kawasaki ZX750-J'!$D$5*PI()/1000)*'Kawasaki ZX750-J'!$C$4/'Kawasaki ZX750-J'!$D$4)) -> 78.887697 | O10: =($F13*1000)/(H10*(1000/3600)) -> 1170.1493 | P10: =($F13*1000)/(I10*(1000/3600)) -> 850.66773 | Q10: =($F13*1000)/(J10*(1000/3600)) -> 667.19038 | R10: =($F13*1000)/(K10*(1000/3600)) -> 552.81488 | S10: =($F13*1000)/(L10*(1000/3600)) -> 487.33906 | T10: =($F13*1000)/(M10*(1000/3600)) -> 433.67374
B11: 5 | C11: =B11*1000/3600 -> 1.3888889 | D11: =(0.5*$E$3*$D$3*$C$3*C11^2)+(0.02*$B$3*9.81) -> 62.306017 | F11: =0.7457*'Kawasaki ZX750-J Power Torque'!D8 -> 9.3525694 | H11: =((('Kawasaki ZX750-J Power Torque'!B11*60*('Kawasaki ZX750-J'!$C$9/'Kawasaki ZX750-J'!$D$9)*('Kawasaki ZX750-J'!$C$3/'Kawasaki ZX750-J'!$D$3)*'Kawasaki ZX750-J'!$D$5*PI()/1000)*'Kawasaki ZX750-J'!$C$4/'Kawasaki ZX750-J'!$D$4)) -> 29.277664 | I11: =((('Kawasaki ZX750-J Power Torque'!B11*60*('Kawasaki ZX750-J'!$C$11/'Kawasaki ZX750-J'!$D$11)*('Kawasaki ZX750-J'!$C$3/'Kawasaki ZX750-J'!$D$3)*'Kawasaki ZX750-J'!$D$5*PI()/1000)*'Kawasaki ZX750-J'!$C$4/'Kawasaki ZX750-J'!$D$4)) -> 40.273348 | J11: =((('Kawasaki ZX750-J Power Torque'!B11*60*('Kawasaki ZX750-J'!$C$13/'Kawasaki ZX750-J'!$D$13)*('Kawasaki ZX750-J'!$C$3/'Kawasaki ZX750-J'!$D$3)*'Kawasaki ZX750-J'!$D$5*PI()/1000)*'Kawasaki ZX750-J'!$C$4/'Kawasaki ZX750-J'!$D$4)) -> 51.348519 | K11: =((('Kawasaki ZX750-J Power Torque'!B11*60*('Kawasaki ZX750-J'!$C$15/'Kawasaki ZX750-J'!$D$15)*('Kawasaki ZX750-J'!$C$3/'Kawasaki ZX750-J'!$D$3)*'Kawasaki ZX750-J'!$D$5*PI()/1000)*'Kawasaki ZX750-J'!$C$4/'Kawasaki ZX750-J'!$D$4)) -> 61.972351 | L11: =((('Kawasaki ZX750-J Power Torque'!B11*60*('Kawasaki ZX750-J'!$C$17/'Kawasaki ZX750-J'!$D$17)*('Kawasaki ZX750-J'!$C$3/'Kawasaki ZX750-J'!$D$3)*'Kawasaki ZX750-J'!$D$5*PI()/1000)*'Kawasaki ZX750-J'!$C$4/'Kawasaki ZX750-J'!$D$4)) -> 70.298568 | M11: =((('Kawasaki ZX750-J Power Torque'!B11*60*('Kawasaki ZX750-J'!$C$19/'Kawasaki ZX750-J'!$D$19)*('Kawasaki ZX750-J'!$C$3/'Kawasaki ZX750-J'!$D$3)*'Kawasaki ZX750-J'!$D$5*PI()/1000)*'Kawasaki ZX750-J'!$C$4/'Kawasaki ZX750-J'!$D$4)) -> 78.997722 | O11: =($F14*1000)/(H11*(1000/3600)) -> 1177.7804 | P11: =($F14*1000)/(I11*(1000/3600)) -> 856.21536 | Q11: =($F14*1000)/(J11*(1000/3600)) -> 671.54146 | R11: =($F14*1000)/(K11*(1000/3600)) -> 556.42007 | S11: =($F14*1000)/(L11*(1000/3600)) -> 490.51724 | T11: =($F14*1000)/(M11*(1000/3600)) -> 436.50195
B12: 6 | C12: =B12*1000/3600 -> 1.6666667 | D12: =(0.5*$E$3*$D$3*$C$3*C12^2)+(0.02*$B$3*9.81) -> 62.38922 | F12: =0.7457*'Kawasaki ZX750-J Power Torque'!D9 -> 9.4278851 | H12: =((('Kawasaki ZX750-J Power Torque'!B12*60*('Kawasaki ZX750-J'!$C$9/'Kawasaki ZX750-J'!$D$9)*('Kawasaki ZX750-J'!$C$3/'Kawasaki ZX750-J'!$D$3)*'Kawasaki ZX750-J'!$D$5*PI()/1000)*'Kawasaki ZX750-J'!$C$4/'Kawasaki ZX750-J'!$D$4)) -> 29.318441 | I12: =((('Kawasaki ZX750-J Power Torque'!B12*60*('Kawasaki ZX750-J'!$C$11/'Kawasaki ZX750-J'!$D$11)*('Kawasaki ZX750-J'!$C$3/'Kawasaki ZX750-J'!$D$3)*'Kawasaki ZX750-J'!$D$5*PI()/1000)*'Kawasaki ZX750-J'!$C$4/'Kawasaki ZX750-J'!$D$4)) -> 40.329439 | J12: =((('Kawasaki ZX750-J Power Torque'!B12*60*('Kawasaki ZX750-J'!$C$13/'Kawasaki ZX750-J'!$D$13)*('Kawasaki ZX750-J'!$C$3/'Kawasaki ZX750-J'!$D$3)*'Kawasaki ZX750-J'!$D$5*PI()/1000)*'Kawasaki ZX750-J'!$C$4/'Kawasaki ZX750-J'!$D$4)) -> 51.420035 | K12: =((('Kawasaki ZX750-J Power Torque'!B12*60*('Kawasaki ZX750-J'!$C$15/'Kawasaki ZX750-J'!$D$15)*('Kawasaki ZX750-J'!$C$3/'Kawasaki ZX750-J'!$D$3)*'Kawasaki ZX750-J'!$D$5*PI()/1000)*'Kawasaki ZX750-J'!$C$4/'Kawasaki ZX750-J'!$D$4)) -> 62.058663 | L12: =((('Kawasaki ZX750-J Power Torque'!B12*60*('Kawasaki ZX750-J'!$C$17/'Kawasaki ZX750-J'!$D$17)*('Kawasaki ZX750-J'!$C$3/'Kawasaki ZX750-J'!$D$3)*'Kawasaki ZX750-J'!$D$5*PI()/1000)*'Kawasaki ZX750-J'!$C$4/'Kawasaki ZX750-J'!$D$4)) -> 70.396477 | M12: =((('Kawasaki ZX750-J Power Torque'!B12*60*('Kawasaki ZX750-J'!$C$19/'Kawasaki ZX750-J'!$D$19)*('Kawasaki ZX750-J'!$C$3/'Kawasaki ZX750-J'!$D$3)*'Kawasaki ZX750-J'!$D$5*PI()/1000)*'Kawasaki ZX750-J'!$C$4/'Kawasaki ZX750-J'!$D$4)) -> 79.107746 | O12: =($F15*1000)/(H12*(1000/3600)) -> 1185.3903 | P12: =($F15*1000)/(I12*(1000/3600)) -> 861.74756 | Q12: =($F15*1000)/(J12*(1000/3600)) -> 675.88044 | R12: =($F15*1000)/(K12*(1000/3600)) -> 560.01522 | S12: =($F15*1000)/(L12*(1000/3600)) -> 493.68658 | T12: =($F15*1000)/(M12*(1000/3600)) -> 439.32229
B13: 7 | C13: =B13*1000/3600 -> 1.9444444 | D13: =(0.5*$E$3*$D$3*$C$3*C13^2)+(0.02*$B$3*9.81) -> 62.487551 | F13: =0.7457*'Kawasaki ZX750-J Power Torque'!D10 -> 9.5032008 | H13: =((('Kawasaki ZX750-J Power Torque'!B13*60*('Kawasaki ZX750-J'!$C$9/'Kawasaki ZX750-J'!$D$9)*('Kawasaki ZX750-J'!$C$3/'Kawasaki ZX750-J'!$D$3)*'Kawasaki ZX750-J'!$D$5*PI()/1000)*'Kawasaki ZX750-J'!$C$4/'Kawasaki ZX750-J'!$D$4)) -> 29.359218 | I13: =((('Kawasaki ZX750-J Power Torque'!B13*60*('Kawasaki ZX750-J'!$C$11/'Kawasaki ZX750-J'!$D$11)*('Kawasaki ZX750-J'!$C$3/'Kawasaki ZX750-J'!$D$3)*'Kawasaki ZX750-J'!$D$5*PI()/1000)*'Kawasaki ZX750-J'!$C$4/'Kawasaki ZX750-J'!$D$4)) -> 40.38553 | J13: =((('Kawasaki ZX750-J Power Torque'!B13*60*('Kawasaki ZX750-J'!$C$13/'Kawasaki ZX750-J'!$D$13)*('Kawasaki ZX750-J'!$C$3/'Kawasaki ZX750-J'!$D$3)*'Kawasaki ZX750-J'!$D$5*PI()/1000)*'Kawasaki ZX750-J'!$C$4/'Kawasaki ZX750-J'!$D$4)) -> 51.491551 | K13: =((('Kawasaki ZX750-J Power Torque'!B13*60*('Kawasaki ZX750-J'!$C$15/'Kawasaki ZX750-J'!$D$15)*('Kawasaki ZX750-J'!$C$3/'Kawasaki ZX750-J'!$D$3)*'Kawasaki ZX750-J'!$D$5*PI()/1000)*'Kawasaki ZX750-J'!$C$4/'Kawasaki ZX750-J'!$D$4)) -> 62.144975 | L13: =((('Kawasaki ZX750-J Power Torque'!B13*60*('Kawasaki ZX750-J'!$C$17/'Kawasaki ZX750-J'!$D$17)*('Kawasaki ZX750-J'!$C$3/'Kawasaki ZX750-J'!$D$3)*'Kawasaki ZX750-J'!$D$5*PI()/1000)*'Kawasaki ZX750-J'!$C$4/'Kawasaki ZX750-J'!$D$4)) -> 70.494385 | M13: =((('Kawasaki ZX750-J Power Torque'!B13*60*('Kawasaki ZX750-J'!$C$19/'Kawasaki ZX750-J'!$D$19)*('Kawasaki ZX750-J'!$C$3/'Kawasaki ZX750-J'!$D$3)*'Kawasaki ZX750-J'!$D$5*PI()/1000)*'Kawasaki ZX750-J'!$C$4/'Kawasaki ZX750-J'!$D$4)) -> 79.217771 | O13: =($F16*1000)/(H13*(1000/3600)) -> 1192.9791 | P13: =($F16*1000)/(I13*(1000/3600)) -> 867.26439 | Q13: =($F16*1000)/(J13*(1000/3600)) -> 680.20737 | R13: =($F16*1000)/(K13*(1000/3600)) -> 563.60039 | S13: =($F16*1000)/(L13*(1000/3600)) -> 496.84712 | T13: =($F16*1000)/(M13*(1000/3600)) -> 442.13479
B14: 8 | C14: =B14*1000/3600 -> 2.2222222 | D14: =(0.5*$E$3*$D$3*$C$3*C14^2)+(0.02*$B$3*9.81) -> 62.601009 | F14: =0.7457*'Kawasaki ZX750-J Power Torque'!D11 -> 9.5785165 | H14: =((('Kawasaki ZX750-J Power Torque'!B14*60*('Kawasaki ZX750-J'!$C$9/'Kawasaki ZX750-J'!$D$9)*('Kawasaki ZX750-J'!$C$3/'Kawasaki ZX750-J'!$D$3)*'Kawasaki ZX750-J'!$D$5*PI()/1000)*'Kawasaki ZX750-J'!$C$4/'Kawasaki ZX750-J'!$D$4)) -> 29.399994 | I14: =((('Kawasaki ZX750-J Power Torque'!B14*60*('Kawasaki ZX750-J'!$C$11/'Kawasaki ZX750-J'!$D$11)*('Kawasaki ZX750-J'!$C$3/'Kawasaki ZX750-J'!$D$3)*'Kawasaki ZX750-J'!$D$5*PI()/1000)*'Kawasaki ZX750-J'!$C$4/'Kawasaki ZX750-J'!$D$4)) -> 40.441621 | J14: =((('Kawasaki ZX750-J Power Torque'!B14*60*('Kawasaki ZX750-J'!$C$13/'Kawasaki ZX750-J'!$D$13)*('Kawasaki ZX750-J'!$C$3/'Kawasaki ZX750-J'!$D$3)*'Kawasaki ZX750-J'!$D$5*PI()/1000)*'Kawasaki ZX750-J'!$C$4/'Kawasaki ZX750-J'!$D$4)) -> 51.563067 | K14: =((('Kawasaki ZX750-J Power Torque'!B14*60*('Kawasaki ZX750-J'!$C$15/'Kawasaki ZX750-J'!$D$15)*('Kawasaki ZX750-J'!$C$3/'Kawasaki ZX750-J'!$D$3)*'Kawasaki ZX750-J'!$D$5*PI()/1000)*'Kawasaki ZX750-J'!$C$4/'Kawasaki ZX750-J'!$D$4)) -> 62.231288 | L14: =((('Kawasaki ZX750-J Power Torque'!B14*60*('Kawasaki ZX750-J'!$C$17/'Kawasaki ZX750-J'!$D$17)*('Kawasaki ZX750-J'!$C$3/'Kawasaki ZX750-J'!$D$3)*'Kawasaki ZX750-J'!$D$5*PI()/1000)*'Kawasaki ZX750-J'!$C$4/'Kawasaki ZX750-J'!$D$4)) -> 70.592294 | M14: =((('Kawasaki ZX750-J Power Torque'!B14*60*('Kawasaki ZX750-J'!$C$19/'Kawasaki ZX750-J'!$D$19)*('Kawasaki ZX750-J'!$C$3/'Kawasaki ZX750-J'!$D$3)*'Kawasaki ZX750-J'!$D$5*PI()/1000)*'Kawasaki ZX750-J'!$C$4/'Kawasaki ZX750-J'!$D$4)) -> 79.327796 | O14: =($F17*1000)/(H14*(1000/3600)) -> 1200.5468 | P14: =($F17*1000)/(I14*(1000/3600)) -> 872.76592 | Q14: =($F17*1000)/(J14*(1000/3600)) -> 684.52229 | R14: =($F17*1000)/(K14*(1000/3600)) -> 567.17561 | S14: =($F17*1000)/(L14*(1000/3600)) -> 499.99889 | T14: =($F17*1000)/(M14*(1000/3600)) -> 444.93949
B15: 9 | C15: =B15*1000/3600 -> 2.5 | D15: =(0.5*$E$3*$D$3*$C$3*C15^2)+(0.02*$B$3*9.81) -> 62.729595 | F15: =0.7457*'Kawasaki ZX750-J Power Torque'!D12 -> 9.6538322 | H15: =((('Kawasaki ZX750-J Power Torque'!B15*60*('Kawasaki ZX750-J'!$C$9/'Kawasaki ZX750-J'!$D$9)*('Kawasaki ZX750-J'!$C$3/'Kawasaki ZX750-J'!$D$3)*'Kawasaki ZX750-J'!$D$5*PI()/1000)*'Kawasaki ZX750-J'!$C$4/'Kawasaki ZX750-J'!$D$4)) -> 29.440771 | I15: =((('Kawasaki ZX750-J Power Torque'!B15*60*('Kawasaki ZX750-J'!$C$11/'Kawasaki ZX750-J'!$D$11)*('Kawasaki ZX750-J'!$C$3/'Kawasaki ZX750-J'!$D$3)*'Kawasaki ZX750-J'!$D$5*PI()/1000)*'Kawasaki ZX750-J'!$C$4/'Kawasaki ZX750-J'!$D$4)) -> 40.497712 | J15: =((('Kawasaki ZX750-J Power Torque'!B15*60*('Kawasaki ZX750-J'!$C$13/'Kawasaki ZX750-J'!$D$13)*('Kawasaki ZX750-J'!$C$3/'Kawasaki ZX750-J'!$D$3)*'Kawasaki ZX750-J'!$D$5*PI()/1000)*'Kawasaki ZX750-J'!$C$4/'Kawasaki ZX750-J'!$D$4)) -> 51.634583 | K15: =((('Kawasaki ZX750-J Power Torque'!B15*60*('Kawasaki ZX750-J'!$C$15/'Kawasaki ZX750-J'!$D$15)*('Kawasaki ZX750-J'!$C$3/'Kawasaki ZX750-J'!$D$3)*'Kawasaki ZX750-J'!$D$5*PI()/1000)*'Kawasaki ZX750-J'!$C$4/'Kawasaki ZX750-J'!$D$4)) -> 62.3176 | L15: =((('Kawasaki ZX750-J Power Torque'!B15*60*('Kawasaki ZX750-J'!$C$17/'Kawasaki ZX750-J'!$D$17)*('Kawasaki ZX750-J'!$C$3/'Kawasaki ZX750-J'!$D$3)*'Kawasaki ZX750-J'!$D$5*PI()/1000)*'Kawasaki ZX750-J'!$C$4/'Kawasaki ZX750-J'!$D$4)) -> 70.690203 | M15: =((('Kawasaki ZX750-J Power Torque'!B15*60*('Kawasaki ZX750-J'!$C$19/'Kawasaki ZX750-J'!$D$19)*('Kawasaki ZX750-J'!$C$3/'Kawasaki ZX750-J'!$D$3)*'Kawasaki ZX750-J'!$D$5*PI()/1000)*'Kawasaki ZX750-J'!$C$4/'Kawasaki ZX750-J'!$D$4)) -> 79.43782 | O15: =($F18*1000)/(H15*(1000/3600)) -> 1208.1847 | P15: =($F18*1000)/(I15*(1000/3600)) -> 878.3185 | Q15: =($F18*1000)/(J15*(1000/3600)) -> 688.87726 | R15: =($F18*1000)/(K15*(1000/3600)) -> 570.78401 | S15: =($F18*1000)/(L15*(1000/3600)) -> 503.17991 | T15: =($F18*1000)/(M15*(1000/3600)) -> 447.77022
B16: 10 | C16: =B16*1000/3600 -> 2.7777778 | D16: =(0.5*$E$3*$D$3*$C$3*C16^2)+(0.02*$B$3*9.81) -> 62.873309 | F16: =0.7457*'Kawasaki ZX750-J Power Torque'!D13 -> 9.7291479 | H16: =((('Kawasaki ZX750-J Power Torque'!B16*60*('Kawasaki ZX750-J'!$C$9/'Kawasaki ZX750-J'!$D$9)*('Kawasaki ZX750-J'!$C$3/'Kawasaki ZX750-J'!$D$3)*'Kawasaki ZX750-J'!$D$5*PI()/1000)*'Kawasaki ZX750-J'!$C$4/'Kawasaki ZX750-J'!$D$4)) -> 29.481548 | I16: =((('Kawasaki ZX750-J Power Torque'!B16*60*('Kawasaki ZX750-J'!$C$11/'Kawasaki ZX750-J'!$D$11)*('Kawasaki ZX750-J'!$C$3/'Kawasaki ZX750-J'!$D$3)*'Kawasaki ZX750-J'!$D$5*PI()/1000)*'Kawasaki ZX750-J'!$C$4/'Kawasaki ZX750-J'!$D$4)) -> 40.553803 | J16: =((('Kawasaki ZX750-J Power Torque'!B16*60*('Kawasaki ZX750-J'!$C$13/'Kawasaki ZX750-J'!$D$13)*('Kawasaki ZX750-J'!$C$3/'Kawasaki ZX750-J'!$D$3)*'Kawasaki ZX750-J'!$D$5*PI()/1000)*'Kawasaki ZX750-J'!$C$4/'Kawasaki ZX750-J'!$D$4)) -> 51.706099 | K16: =((('Kawasaki ZX750-J Power Torque'!B16*60*('Kawasaki ZX750-J'!$C$15/'Kawasaki ZX750-J'!$D$15)*('Kawasaki ZX750-J'!$C$3/'Kawasaki ZX750-J'!$D$3)*'Kawasaki ZX750-J'!$D$5*PI()/1000)*'Kawasaki ZX750-J'!$C$4/'Kawasaki ZX750-J'!$D$4)) -> 62.403913 | L16: =((('Kawasaki ZX750-J Power Torque'!B16*60*('Kawasaki ZX750-J'!$C$17/'Kawasaki ZX750-J'!$D$17)*('Kawasaki ZX750-J'!$C$3/'Kawasaki ZX750-J'!$D$3)*'Kawasaki ZX750-J'!$D$5*PI()/1000)*'Kawasaki ZX750-J'!$C$4/'Kawasaki ZX750-J'!$D$4)) -> 70.788112 | M16: =((('Kawasaki ZX750-J Power Torque'!B16*60*('Kawasaki ZX750-J'!$C$19/'Kawasaki ZX750-J'!$D$19)*('Kawasaki ZX750-J'!$C$3/'Kawasaki ZX750-J'!$D$3)*'Kawasaki ZX750-J'!$D$5*PI()/1000)*'Kawasaki ZX750-J'!$C$4/'Kawasaki ZX750-J'!$D$4)) -> 79.547845 | O16: =($F19*1000)/(H16*(1000/3600)) -> 1215.7105 | P16: =($F19*1000)/(I16*(1000/3600)) -> 883.78952 | Q16: =($F19*1000)/(J16*(1000/3600)) -> 693.16825 | R16: =($F19*1000)/(K16*(1000/3600)) -> 574.33941 | S16: =($F19*1000)/(L16*(1000/3600)) -> 506.3142 | T16: =($F19*1000)/(M16*(1000/3600)) -> 450.55937
B17: 11 | C17: =B17*1000/3600 -> 3.0555556 | D17: =(0.5*$E$3*$D$3*$C$3*C17^2)+(0.02*$B$3*9.81) -> 63.032151 | F17: =0.7457*'Kawasaki ZX750-J Power Torque'!D14 -> 9.8044636 | H17: =((('Kawasaki ZX750-J Power Torque'!B17*60*('Kawasaki ZX750-J'!$C$9/'Kawasaki ZX750-J'!$D$9)*('Kawasaki ZX750-J'!$C$3/'Kawasaki ZX750-J'!$D$3)*'Kawasaki ZX750-J'!$D$5*PI()/1000)*'Kawasaki ZX750-J'!$C$4/'Kawasaki ZX750-J'!$D$4)) -> 29.522324 | I17: =((('Kawasaki ZX750-J Power Torque'!B17*60*('Kawasaki ZX750-J'!$C$11/'Kawasaki ZX750-J'!$D$11)*('Kawasaki ZX750-J'!$C$3/'Kawasaki ZX750-J'!$D$3)*'Kawasaki ZX750-J'!$D$5*PI()/1000)*'Kawasaki ZX750-J'!$C$4/'Kawasaki ZX750-J'!$D$4)) -> 40.609894 | J17: =((('Kawasaki ZX750-J Power Torque'!B17*60*('Kawasaki ZX750-J'!$C$13/'Kawasaki ZX750-J'!$D$13)*('Kawasaki ZX750-J'!$C$3/'Kawasaki ZX750-J'!$D$3)*'Kawasaki ZX750-J'!$D$5*PI()/1000)*'Kawasaki ZX750-J'!$C$4/'Kawasaki ZX750-J'!$D$4)) -> 51.777615 | K17: =((('Kawasaki ZX750-J Power Torque'!B17*60*('Kawasaki ZX750-J'!$C$15/'Kawasaki ZX750-J'!$D$15)*('Kawasaki ZX750-J'!$C$3/'Kawasaki ZX750-J'!$D$3)*'Kawasaki ZX750-J'!$D$5*PI()/1000)*'Kawasaki ZX750-J'!$C$4/'Kawasaki ZX750-J'!$D$4)) -> 62.490225 | L17: =((('Kawasaki ZX750-J Power Torque'!B17*60*('Kawasaki ZX750-J'!$C$17/'Kawasaki ZX750-J'!$D$17)*('Kawasaki ZX750-J'!$C$3/'Kawasaki ZX750-J'!$D$3)*'Kawasaki ZX750-J'!$D$5*PI()/1000)*'Kawasaki ZX750-J'!$C$4/'Kawasaki ZX750-J'!$D$4)) -> 70.886021 | M17: =((('Kawasaki ZX750-J Power Torque'!B17*60*('Kawasaki ZX750-J'!$C$19/'Kawasaki ZX750-J'!$D$19)*('Kawasaki ZX750-J'!$C$3/'Kawasaki ZX750-J'!$D$3)*'Kawasaki ZX750-J'!$D$5*PI()/1000)*'Kawasaki ZX750-J'!$C$4/'Kawasaki ZX750-J'!$D$4)) -> 79.65787 | O17: =($F20*1000)/(H17*(1000/3600)) -> 1223.3064 | P17: =($F20*1000)/(I17*(1000/3600)) -> 889.31154 | Q17: =($F20*1000)/(J17*(1000/3600)) -> 697.49925 | R17: =($F20*1000)/(K17*(1000/3600)) -> 577.92795 | S17: =($F20*1000)/(L17*(1000/3600)) -> 509.47771 | T17: =($F20*1000)/(M17*(1000/3600)) -> 453.37451
... B256: 250 | C256: =B256*1000/3600 -> 69.444444 | D256: =(0.5*$E$3*$D$3*$C$3*C256^2)+(0.02*$B$3*9.81) -> 534.85998 | F256: =0.7457*'Kawasaki ZX750-J Power Torque'!D253 -> 26.587188 | H256: =((('Kawasaki ZX750-J Power Torque'!B256*60*('Kawasaki ZX750-J'!$C$9/'Kawasaki ZX750-J'!$D$9)*('Kawasaki ZX750-J'!$C$3/'Kawasaki ZX750-J'!$D$3)*'Kawasaki ZX750-J'!$D$5*PI()/1000)*'Kawasaki ZX750-J'!$C$4/'Kawasaki ZX750-J'!$D$4)) -> 39.267954 | I256: =((('Kawasaki ZX750-J Power Torque'!B256*60*('Kawasaki ZX750-J'!$C$11/'Kawasaki ZX750-J'!$D$11)*('Kawasaki ZX750-J'!$C$3/'Kawasaki ZX750-J'!$D$3)*'Kawasaki ZX750-J'!$D$5*PI()/1000)*'Kawasaki ZX750-J'!$C$4/'Kawasaki ZX750-J'!$D$4)) -> 54.015647 | J256: =((('Kawasaki ZX750-J Power Torque'!B256*60*('Kawasaki ZX750-J'!$C$13/'Kawasaki ZX750-J'!$D$13)*('Kawasaki ZX750-J'!$C$3/'Kawasaki ZX750-J'!$D$3)*'Kawasaki ZX750-J'!$D$5*PI()/1000)*'Kawasaki ZX750-J'!$C$4/'Kawasaki ZX750-J'!$D$4)) -> 68.86995 | K256: =((('Kawasaki ZX750-J Power Torque'!B256*60*('Kawasaki ZX750-J'!$C$15/'Kawasaki ZX750-J'!$D$15)*('Kawasaki ZX750-J'!$C$3/'Kawasaki ZX750-J'!$D$3)*'Kawasaki ZX750-J'!$D$5*PI()/1000)*'Kawasaki ZX750-J'!$C$4/'Kawasaki ZX750-J'!$D$4)) -> 83.118905 | L256: =((('Kawasaki ZX750-J Power Torque'!B256*60*('Kawasaki ZX750-J'!$C$17/'Kawasaki ZX750-J'!$D$17)*('Kawasaki ZX750-J'!$C$3/'Kawasaki ZX750-J'!$D$3)*'Kawasaki ZX750-J'!$D$5*PI()/1000)*'Kawasaki ZX750-J'!$C$4/'Kawasaki ZX750-J'!$D$4)) -> 94.28624 | M256: =((('Kawasaki ZX750-J Power Torque'!B256*60*('Kawasaki ZX750-J'!$C$19/'Kawasaki ZX750-J'!$D$19)*('Kawasaki ZX750-J'!$C$3/'Kawasaki ZX750-J'!$D$3)*'Kawasaki ZX750-J'!$D$5*PI()/1000)*'Kawasaki ZX750-J'!$C$4/'Kawasaki ZX750-J'!$D$4)) -> 105.95377 | O256: =($F259*1000)/(H256*(1000/3600)) -> 2451.5382 | P256: =($F259*1000)/(I256*(1000/3600)) -> 1782.2037 | Q256: =($F259*1000)/(J256*(1000/3600)) -> 1397.8068 | R256: =($F259*1000)/(K256*(1000/3600)) -> 1158.1828 | S256: =($F259*1000)/(L256*(1000/3600)) -> 1021.0067 | T256: =($F259*1000)/(M256*(1000/3600)) -> 908.57445
F257: =0.7457*'Kawasaki ZX750-J Power Torque'!D254 -> 26.638641 | H257: =((('Kawasaki ZX750-J Power Torque'!B257*60*('Kawasaki ZX750-J'!$C$9/'Kawasaki ZX750-J'!$D$9)*('Kawasaki ZX750-J'!$C$3/'Kawasaki ZX750-J'!$D$3)*'Kawasaki ZX750-J'!$D$5*PI()/1000)*'Kawasaki ZX750-J'!$C$4/'Kawasaki ZX750-J'!$D$4)) -> 39.30873 | I257: =((('Kawasaki ZX750-J Power Torque'!B257*60*('Kawasaki ZX750-J'!$C$11/'Kawasaki ZX750-J'!$D$11)*('Kawasaki ZX750-J'!$C$3/'Kawasaki ZX750-J'!$D$3)*'Kawasaki ZX750-J'!$D$5*PI()/1000)*'Kawasaki ZX750-J'!$C$4/'Kawasaki ZX750-J'!$D$4)) -> 54.071738 | J257: =((('Kawasaki ZX750-J Power Torque'!B257*60*('Kawasaki ZX750-J'!$C$13/'Kawasaki ZX750-J'!$D$13)*('Kawasaki ZX750-J'!$C$3/'Kawasaki ZX750-J'!$D$3)*'Kawasaki ZX750-J'!$D$5*PI()/1000)*'Kawasaki ZX750-J'!$C$4/'Kawasaki ZX750-J'!$D$4)) -> 68.941466 | K257: =((('Kawasaki ZX750-J Power Torque'!B257*60*('Kawasaki ZX750-J'!$C$15/'Kawasaki ZX750-J'!$D$15)*('Kawasaki ZX750-J'!$C$3/'Kawasaki ZX750-J'!$D$3)*'Kawasaki ZX750-J'!$D$5*PI()/1000)*'Kawasaki ZX750-J'!$C$4/'Kawasaki ZX750-J'!$D$4)) -> 83.205217 | L257: =((('Kawasaki ZX750-J Power Torque'!B257*60*('Kawasaki ZX750-J'!$C$17/'Kawasaki ZX750-J'!$D$17)*('Kawasaki ZX750-J'!$C$3/'Kawasaki ZX750-J'!$D$3)*'Kawasaki ZX750-J'!$D$5*PI()/1000)*'Kawasaki ZX750-J'!$C$4/'Kawasaki ZX750-J'!$D$4)) -> 94.384149 | M257: =((('Kawasaki ZX750-J Power Torque'!B257*60*('Kawasaki ZX750-J'!$C$19/'Kawasaki ZX750-J'!$D$19)*('Kawasaki ZX750-J'!$C$3/'Kawasaki ZX750-J'!$D$3)*'Kawasaki ZX750-J'!$D$5*PI()/1000)*'Kawasaki ZX750-J'!$C$4/'Kawasaki ZX750-J'!$D$4)) -> 106.06379 | O257: =($F260*1000)/(H257*(1000/3600)) -> 2453.639 | P257: =($F260*1000)/(I257*(1000/3600)) -> 1783.731 | Q257: =($F260*1000)/(J257*(1000/3600)) -> 1399.0047 | R257: =($F260*1000)/(K257*(1000/3600)) -> 1159.1753 | S257: =($F260*1000)/(L257*(1000/3600)) -> 1021.8817 | T257: =($F260*1000)/(M257*(1000/3600)) -> 909.35306
F258: =0.7457*'Kawasaki ZX750-J Power Torque'!D255 -> 26.689349 | H258: =((('Kawasaki ZX750-J Power Torque'!B258*60*('Kawasaki ZX750-J'!$C$9/'Kawasaki ZX750-J'!$D$9)*('Kawasaki ZX750-J'!$C$3/'Kawasaki ZX750-J'!$D$3)*'Kawasaki ZX750-J'!$D$5*PI()/1000)*'Kawasaki ZX750-J'!$C$4/'Kawasaki ZX750-J'!$D$4)) -> 39.349507 | I258: =((('Kawasaki ZX750-J Power Torque'!B258*60*('Kawasaki ZX750-J'!$C$11/'Kawasaki ZX750-J'!$D$11)*('Kawasaki ZX750-J'!$C$3/'Kawasaki ZX750-J'!$D$3)*'Kawasaki ZX750-J'!$D$5*PI()/1000)*'Kawasaki ZX750-J'!$C$4/'Kawasaki ZX750-J'!$D$4)) -> 54.127829 | J258: =((('Kawasaki ZX750-J Power Torque'!B258*60*('Kawasaki ZX750-J'!$C$13/'Kawasaki ZX750-J'!$D$13)*('Kawasaki ZX750-J'!$C$3/'Kawasaki ZX750-J'!$D$3)*'Kawasaki ZX750-J'!$D$5*PI()/1000)*'Kawasaki ZX750-J'!$C$4/'Kawasaki ZX750-J'!$D$4)) -> 69.012982 | K258: =((('Kawasaki ZX750-J Power Torque'!B258*60*('Kawasaki ZX750-J'!$C$15/'Kawasaki ZX750-J'!$D$15)*('Kawasaki ZX750-J'!$C$3/'Kawasaki ZX750-J'!$D$3)*'Kawasaki ZX750-J'!$D$5*PI()/1000)*'Kawasaki ZX750-J'!$C$4/'Kawasaki ZX750-J'!$D$4)) -> 83.29153 | L258: =((('Kawasaki ZX750-J Power Torque'!B258*60*('Kawasaki ZX750-J'!$C$17/'Kawasaki ZX750-J'!$D$17)*('Kawasaki ZX750-J'!$C$3/'Kawasaki ZX750-J'!$D$3)*'Kawasaki ZX750-J'!$D$5*PI()/1000)*'Kawasaki ZX750-J'!$C$4/'Kawasaki ZX750-J'!$D$4)) -> 94.482058 | M258: =((('Kawasaki ZX750-J Power Torque'!B258*60*('Kawasaki ZX750-J'!$C$19/'Kawasaki ZX750-J'!$D$19)*('Kawasaki ZX750-J'!$C$3/'Kawasaki ZX750-J'!$D$3)*'Kawasaki ZX750-J'!$D$5*PI()/1000)*'Kawasaki ZX750-J'!$C$4/'Kawasaki ZX750-J'!$D$4)) -> 106.17382 | O258: =($F261*1000)/(H258*(1000/3600)) -> 2455.8037 | P258: =($F261*1000)/(I258*(1000/3600)) -> 1785.3047 | Q258: =($F261*1000)/(J258*(1000/3600)) -> 1400.239 | R258: =($F261*1000)/(K258*(1000/3600)) -> 1160.198 | S258: =($F261*1000)/(L258*(1000/3600)) -> 1022.7832 | T258: =($F261*1000)/(M258*(1000/3600)) -> 910.15533
F259: =0.7457*'Kawasaki ZX750-J Power Torque'!D256 -> 26.740802 | H259: =((('Kawasaki ZX750-J Power Torque'!B259*60*('Kawasaki ZX750-J'!$C$9/'Kawasaki ZX750-J'!$D$9)*('Kawasaki ZX750-J'!$C$3/'Kawasaki ZX750-J'!$D$3)*'Kawasaki ZX750-J'!$D$5*PI()/1000)*'Kawasaki ZX750-J'!$C$4/'Kawasaki ZX750-J'!$D$4)) -> 39.390284 | I259: =((('Kawasaki ZX750-J Power Torque'!B259*60*('Kawasaki ZX750-J'!$C$11/'Kawasaki ZX750-J'!$D$11)*('Kawasaki ZX750-J'!$C$3/'Kawasaki ZX750-J'!$D$3)*'Kawasaki ZX750-J'!$D$5*PI()/1000)*'Kawasaki ZX750-J'!$C$4/'Kawasaki ZX750-J'!$D$4)) -> 54.18392 | J259: =((('Kawasaki ZX750-J Power Torque'!B259*60*('Kawasaki ZX750-J'!$C$13/'Kawasaki ZX750-J'!$D$13)*('Kawasaki ZX750-J'!$C$3/'Kawasaki ZX750-J'!$D$3)*'Kawasaki ZX750-J'!$D$5*PI()/1000)*'Kawasaki ZX750-J'!$C$4/'Kawasaki ZX750-J'!$D$4)) -> 69.084498 | K259: =((('Kawasaki ZX750-J Power Torque'!B259*60*('Kawasaki ZX750-J'!$C$15/'Kawasaki ZX750-J'!$D$15)*('Kawasaki ZX750-J'!$C$3/'Kawasaki ZX750-J'!$D$3)*'Kawasaki ZX750-J'!$D$5*PI()/1000)*'Kawasaki ZX750-J'!$C$4/'Kawasaki ZX750-J'!$D$4)) -> 83.377842 | L259: =((('Kawasaki ZX750-J Power Torque'!B259*60*('Kawasaki ZX750-J'!$C$17/'Kawasaki ZX750-J'!$D$17)*('Kawasaki ZX750-J'!$C$3/'Kawasaki ZX750-J'!$D$3)*'Kawasaki ZX750-J'!$D$5*PI()/1000)*'Kawasaki ZX750-J'!$C$4/'Kawasaki ZX750-J'!$D$4)) -> 94.579967 | M259: =((('Kawasaki ZX750-J Power Torque'!B259*60*('Kawasaki ZX750-J'!$C$19/'Kawasaki ZX750-J'!$D$19)*('Kawasaki ZX750-J'!$C$3/'Kawasaki ZX750-J'!$D$3)*'Kawasaki ZX750-J'!$D$5*PI()/1000)*'Kawasaki ZX750-J'!$C$4/'Kawasaki ZX750-J'!$D$4)) -> 106.28384 | O259: =($F262*1000)/(H259*(1000/3600)) -> 2457.8958 | P259: =($F262*1000)/(I259*(1000/3600)) -> 1786.8256 | Q259: =($F262*1000)/(J259*(1000/3600)) -> 1401.4318 | R259: =($F262*1000)/(K259*(1000/3600)) -> 1161.1864 | S259: =($F262*1000)/(L259*(1000/3600)) -> 1023.6546 | T259: =($F262*1000)/(M259*(1000/3600)) -> 910.93069
F260: =0.7457*'Kawasaki ZX750-J Power Torque'!D257 -> 26.79151 | H260: =((('Kawasaki ZX750-J Power Torque'!B260*60*('Kawasaki ZX750-J'!$C$9/'Kawasaki ZX750-J'!$D$9)*('Kawasaki ZX750-J'!$C$3/'Kawasaki ZX750-J'!$D$3)*'Kawasaki ZX750-J'!$D$5*PI()/1000)*'Kawasaki ZX750-J'!$C$4/'Kawasaki ZX750-J'!$D$4)) -> 39.43106 | I260: =((('Kawasaki ZX750-J Power Torque'!B260*60*('Kawasaki ZX750-J'!$C$11/'Kawasaki ZX750-J'!$D$11)*('Kawasaki ZX750-J'!$C$3/'Kawasaki ZX750-J'!$D$3)*'Kawasaki ZX750-J'!$D$5*PI()/1000)*'Kawasaki ZX750-J'!$C$4/'Kawasaki ZX750-J'!$D$4)) -> 54.240011 | J260: =((('Kawasaki ZX750-J Power Torque'!B260*60*('Kawasaki ZX750-J'!$C$13/'Kawasaki ZX750-J'!$D$13)*('Kawasaki ZX750-J'!$C$3/'Kawasaki ZX750-J'!$D$3)*'Kawasaki ZX750-J'!$D$5*PI()/1000)*'Kawasaki ZX750-J'!$C$4/'Kawasaki ZX750-J'!$D$4)) -> 69.156014 | K260: =((('Kawasaki ZX750-J Power Torque'!B260*60*('Kawasaki ZX750-J'!$C$15/'Kawasaki ZX750-J'!$D$15)*('Kawasaki ZX750-J'!$C$3/'Kawasaki ZX750-J'!$D$3)*'Kawasaki ZX750-J'!$D$5*PI()/1000)*'Kawasaki ZX750-J'!$C$4/'Kawasaki ZX750-J'!$D$4)) -> 83.464155 | L260: =((('Kawasaki ZX750-J Power Torque'!B260*60*('Kawasaki ZX750-J'!$C$17/'Kawasaki ZX750-J'!$D$17)*('Kawasaki ZX750-J'!$C$3/'Kawasaki ZX750-J'!$D$3)*'Kawasaki ZX750-J'!$D$5*PI()/1000)*'Kawasaki ZX750-J'!$C$4/'Kawasaki ZX750-J'!$D$4)) -> 94.677876 | M260: =((('Kawasaki ZX750-J Power Torque'!B260*60*('Kawasaki ZX750-J'!$C$19/'Kawasaki ZX750-J'!$D$19)*('Kawasaki ZX750-J'!$C$3/'Kawasaki ZX750-J'!$D$3)*'Kawasaki ZX750-J'!$D$5*PI()/1000)*'Kawasaki ZX750-J'!$C$4/'Kawasaki ZX750-J'!$D$4)) -> 106.39387 | O260: =($F263*1000)/(H260*(1000/3600)) -> 2459.9836 | P260: =($F263*1000)/(I260*(1000/3600)) -> 1788.3433 | Q260: =($F263*1000)/(J260*(1000/3600)) -> 1402.6222 | R260: =($F263*1000)/(K260*(1000/3600)) -> 1162.1727 | S260: =($F263*1000)/(L260*(1000/3600)) -> 1024.5241 | T260: =($F263*1000)/(M260*(1000/3600)) -> 911.70444
F261: =0.7457*'Kawasaki ZX750-J Power Torque'!D258 -> 26.842963 | H261: =((('Kawasaki ZX750-J Power Torque'!B261*60*('Kawasaki ZX750-J'!$C$9/'Kawasaki ZX750-J'!$D$9)*('Kawasaki ZX750-J'!$C$3/'Kawasaki ZX750-J'!$D$3)*'Kawasaki ZX750-J'!$D$5*PI()/1000)*'Kawasaki ZX750-J'!$C$4/'Kawasaki ZX750-J'!$D$4)) -> 39.471837 | I261: =((('Kawasaki ZX750-J Power Torque'!B261*60*('Kawasaki ZX750-J'!$C$11/'Kawasaki ZX750-J'!$D$11)*('Kawasaki ZX750-J'!$C$3/'Kawasaki ZX750-J'!$D$3)*'Kawasaki ZX750-J'!$D$5*PI()/1000)*'Kawasaki ZX750-J'!$C$4/'Kawasaki ZX750-J'!$D$4)) -> 54.296102 | J261: =((('Kawasaki ZX750-J Power Torque'!B261*60*('Kawasaki ZX750-J'!$C$13/'Kawasaki ZX750-J'!$D$13)*('Kawasaki ZX750-J'!$C$3/'Kawasaki ZX750-J'!$D$3)*'Kawasaki ZX750-J'!$D$5*PI()/1000)*'Kawasaki ZX750-J'!$C$4/'Kawasaki ZX750-J'!$D$4)) -> 69.22753 | K261: =((('Kawasaki ZX750-J Power Torque'!B261*60*('Kawasaki ZX750-J'!$C$15/'Kawasaki ZX750-J'!$D$15)*('Kawasaki ZX750-J'!$C$3/'Kawasaki ZX750-J'!$D$3)*'Kawasaki ZX750-J'!$D$5*PI()/1000)*'Kawasaki ZX750-J'!$C$4/'Kawasaki ZX750-J'!$D$4)) -> 83.550467 | L261: =((('Kawasaki ZX750-J Power Torque'!B261*60*('Kawasaki ZX750-J'!$C$17/'Kawasaki ZX750-J'!$D$17)*('Kawasaki ZX750-J'!$C$3/'Kawasaki ZX750-J'!$D$3)*'Kawasaki ZX750-J'!$D$5*PI()/1000)*'Kawasaki ZX750-J'!$C$4/'Kawasaki ZX750-J'!$D$4)) -> 94.775785 | M261: =((('Kawasaki ZX750-J Power Torque'!B261*60*('Kawasaki ZX750-J'!$C$19/'Kawasaki ZX750-J'!$D$19)*('Kawasaki ZX750-J'!$C$3/'Kawasaki ZX750-J'!$D$3)*'Kawasaki ZX750-J'!$D$5*PI()/1000)*'Kawasaki ZX750-J'!$C$4/'Kawasaki ZX750-J'!$D$4)) -> 106.50389 | O261: =($F264*1000)/(H261*(1000/3600)) -> 2462.135 | P261: =($F264*1000)/(I261*(1000/3600)) -> 1789.9074 | Q261: =($F264*1000)/(J261*(1000/3600)) -> 1403.8489 | R261: =($F264*1000)/(K261*(1000/3600)) -> 1163.1891 | S261: =($F264*1000)/(L261*(1000/3600)) -> 1025.4201 | T261: =($F264*1000)/(M261*(1000/3600)) -> 912.5018
F262: =0.7457*'Kawasaki ZX750-J Power Torque'!D259 -> 26.89367 | H262: =((('Kawasaki ZX750-J Power Torque'!B262*60*('Kawasaki ZX750-J'!$C$9/'Kawasaki ZX750-J'!$D$9)*('Kawasaki ZX750-J'!$C$3/'Kawasaki ZX750-J'!$D$3)*'Kawasaki ZX750-J'!$D$5*PI()/1000)*'Kawasaki ZX750-J'!$C$4/'Kawasaki ZX750-J'!$D$4)) -> 39.512614 | I262: =((('Kawasaki ZX750-J Power Torque'!B262*60*('Kawasaki ZX750-J'!$C$11/'Kawasaki ZX750-J'!$D$11)*('Kawasaki ZX750-J'!$C$3/'Kawasaki ZX750-J'!$D$3)*'Kawasaki ZX750-J'!$D$5*PI()/1000)*'Kawasaki ZX750-J'!$C$4/'Kawasaki ZX750-J'!$D$4)) -> 54.352193 | J262: =((('Kawasaki ZX750-J Power Torque'!B262*60*('Kawasaki ZX750-J'!$C$13/'Kawasaki ZX750-J'!$D$13)*('Kawasaki ZX750-J'!$C$3/'Kawasaki ZX750-J'!$D$3)*'Kawasaki ZX750-J'!$D$5*PI()/1000)*'Kawasaki ZX750-J'!$C$4/'Kawasaki ZX750-J'!$D$4)) -> 69.299046 | K262: =((('Kawasaki ZX750-J Power Torque'!B262*60*('Kawasaki ZX750-J'!$C$15/'Kawasaki ZX750-J'!$D$15)*('Kawasaki ZX750-J'!$C$3/'Kawasaki ZX750-J'!$D$3)*'Kawasaki ZX750-J'!$D$5*PI()/1000)*'Kawasaki ZX750-J'!$C$4/'Kawasaki ZX750-J'!$D$4)) -> 83.636779 | L262: =((('Kawasaki ZX750-J Power Torque'!B262*60*('Kawasaki ZX750-J'!$C$17/'Kawasaki ZX750-J'!$D$17)*('Kawasaki ZX750-J'!$C$3/'Kawasaki ZX750-J'!$D$3)*'Kawasaki ZX750-J'!$D$5*PI()/1000)*'Kawasaki ZX750-J'!$C$4/'Kawasaki ZX750-J'!$D$4)) -> 94.873694 | M262: =((('Kawasaki ZX750-J Power Torque'!B262*60*('Kawasaki ZX750-J'!$C$19/'Kawasaki ZX750-J'!$D$19)*('Kawasaki ZX750-J'!$C$3/'Kawasaki ZX750-J'!$D$3)*'Kawasaki ZX750-J'!$D$5*PI()/1000)*'Kawasaki ZX750-J'!$C$4/'Kawasaki ZX750-J'!$D$4)) -> 106.61392 | O262: =($F265*1000)/(H262*(1000/3600)) -> 2464.282 | P262: =($F265*1000)/(I262*(1000/3600)) -> 1791.4682 | Q262: =($F265*1000)/(J262*(1000/3600)) -> 1405.0731 | R262: =($F265*1000)/(K262*(1000/3600)) -> 1164.2034 | S262: =($F265*1000)/(L262*(1000/3600)) -> 1026.3143 | T262: =($F265*1000)/(M262*(1000/3600)) -> 913.29751
F263: =0.7457*'Kawasaki ZX750-J Power Torque'!D260 -> 26.944378 | H263: =((('Kawasaki ZX750-J Power Torque'!B263*60*('Kawasaki ZX750-J'!$C$9/'Kawasaki ZX750-J'!$D$9)*('Kawasaki ZX750-J'!$C$3/'Kawasaki ZX750-J'!$D$3)*'Kawasaki ZX750-J'!$D$5*PI()/1000)*'Kawasaki ZX750-J'!$C$4/'Kawasaki ZX750-J'!$D$4)) -> 39.553391 | I263: =((('Kawasaki ZX750-J Power Torque'!B263*60*('Kawasaki ZX750-J'!$C$11/'Kawasaki ZX750-J'!$D$11)*('Kawasaki ZX750-J'!$C$3/'Kawasaki ZX750-J'!$D$3)*'Kawasaki ZX750-J'!$D$5*PI()/1000)*'Kawasaki ZX750-J'!$C$4/'Kawasaki ZX750-J'!$D$4)) -> 54.408284 | J263: =((('Kawasaki ZX750-J Power Torque'!B263*60*('Kawasaki ZX750-J'!$C$13/'Kawasaki ZX750-J'!$D$13)*('Kawasaki ZX750-J'!$C$3/'Kawasaki ZX750-J'!$D$3)*'Kawasaki ZX750-J'!$D$5*PI()/1000)*'Kawasaki ZX750-J'!$C$4/'Kawasaki ZX750-J'!$D$4)) -> 69.370562 | K263: =((('Kawasaki ZX750-J Power Torque'!B263*60*('Kawasaki ZX750-J'!$C$15/'Kawasaki ZX750-J'!$D$15)*('Kawasaki ZX750-J'!$C$3/'Kawasaki ZX750-J'!$D$3)*'Kawasaki ZX750-J'!$D$5*PI()/1000)*'Kawasaki ZX750-J'!$C$4/'Kawasaki ZX750-J'!$D$4)) -> 83.723092 | L263: =((('Kawasaki ZX750-J Power Torque'!B263*60*('Kawasaki ZX750-J'!$C$17/'Kawasaki ZX750-J'!$D$17)*('Kawasaki ZX750-J'!$C$3/'Kawasaki ZX750-J'!$D$3)*'Kawasaki ZX750-J'!$D$5*PI()/1000)*'Kawasaki ZX750-J'!$C$4/'Kawasaki ZX750-J'!$D$4)) -> 94.971603 | M263: =((('Kawasaki ZX750-J Power Torque'!B263*60*('Kawasaki ZX750-J'!$C$19/'Kawasaki ZX750-J'!$D$19)*('Kawasaki ZX750-J'!$C$3/'Kawasaki ZX750-J'!$D$3)*'Kawasaki ZX750-J'!$D$5*PI()/1000)*'Kawasaki ZX750-J'!$C$4/'Kawasaki ZX750-J'!$D$4)) -> 106.72394 | O263: =($F266*1000)/(H263*(1000/3600)) -> 2466.4925 | P263: =($F266*1000)/(I263*(1000/3600)) -> 1793.0751 | Q263: =($F266*1000)/(J263*(1000/3600)) -> 1406.3334 | R263: =($F266*1000)/(K263*(1000/3600)) -> 1165.2477 | S263: =($F266*1000)/(L263*(1000/3600)) -> 1027.2349 | T263: =($F266*1000)/(M263*(1000/3600)) -> 914.11674
