Workbook

Sheet Summary
B1: UWTSD Library Bill of Quantities
B3: Final proposal
B4: Jacob Thomas
B5: 44669
B7: Summary
B8: Item Reference | C8: Section | D8: Value
B9: 5 | C9: Earthworks | D9: ='Bill of Quantities'!J61 -> 217536.89
B10: 7 | C10: Piling | D10: ='Bill of Quantities'!J88 -> 50402.032
B11: 11 | C11: Cast in-situ concrete | D11: ='Bill of Quantities'!J142 -> 169549.71
B12: 35 | C12: External works | D12: ='Bill of Quantities'!J159 -> 36136.395
B13: Cost Index | D13: 1.267
B14: Location Factor | D14: 0.85
B15: Total | D15: =SUM(D9:D12)*D13*D14 -> 510070.48

Sheet Bill of Quantities
B1: Project Information
C2: Details | D2: Information requirements | H2: Notes
B3: Project name | C3: University of Wales Trinity Saint David | D3: ABCA6001
B5: Project nature | C5: Lecture facility and library.
B7: Location | C7: Swansea Marina | D7: SA18EW | H7: Access to site is good with space for manouvring vehicles.
C8: South Wales | H8: Site is situated a short distance from a no through road with minimal
C9: United Kindom | H9: traffic.
B11: Contract length | C11: 3 years
B13: Principle Contractor | C13: Sandex Construction | D13: 32 Bay View Road
D14: Llanelli.
D15: SA31 1GH
B16: Project Manager | C16: Mark Davies
B18: Quantity Surveyor | C18: Sarah Lewis
B20: Site | C20: Docks area consiting of made ground. | D20: Site investigation needs updating. | H20: Minor demolition works required. Services adjacent to site.
C21: Previous industrial site. | D21: No hazardous material present. | H21: Further investigation required.
B24: Tender Drawings | C24: 16109-181-C7 Foundation Layout | D24: Unavailablity of drawings such as SK005 - | H24: Further measurements will be undertaken upon
C25: 16109-180-C4 Piling Layout | D25: Enabling works | H25: receiving updated drawings.
B32: UWTSD Library Bill of Quantities | D32: * All rates are taken from SPONS Civil Engineering and Highway Works Price Book 2020 *
B35: Item ref | C35: Description | G35: Quantity | H35: Unit | I35: Rate | J35: Total | L35: Page References
B36: 5 | C36: Earthworks
C37: Excavation starting at original ground level.
C39: Locating underground live services
B40: 5.1.1.2 | C40: Maximum depth 2.5m in existing pipe surrounds
C41: Electric, gas. | G41: 23 | H41: m³ | I41: 54.51 | J41: =G41*I41 -> 1253.73 | L41: Page 192
B42: 5.1.2.1 | C42: Trial holes measured by depth. 3-5m deep. | G42: 6 | H42: m | I42: 1107.71 | J42: =G42*I42 -> 6646.26 | L42: Page170
B44: 5.5.3.2.1 | C44: Break out surface tarmacadam and concrete NE 250mm thick. | G44: =1800*0.25 -> 450 | H44: m³ | I44: 34.2 | J44: =G44*I44 -> 15390 | L44: Page 188
C45: Excavator with hydraulic breaker attachemnt.
B46: 5.6.2.1.1 | C46: Excavate to reduce levels - including bulking. | G46: =(Takeoff!H61)*1.3 -> 3024.45 | H46: m³ | I46: 4.25 | J46: =G46*I46 -> 12853.913 | L46: Page 190
C47: Disposal of excavated non-hazardous material to a stockpile on site N/E 100m | G47: =G46 -> 3024.45 | H47: m³ | I47: 7.08 | J47: =G47*I47 -> 21413.106 | L47: Page 191 & 193
C48: Rock and artificial hard material.
B49: 5.7.2.3. | C49: E.O breaking up concrete foundations from existing structure. | G49: 35 | H49: m³ | I49: 50 | J49: =G49*I49 -> 1750 | L49: Page 35
B50: 5.7.3.1 | C50: E.O excavating alongside existing underground services - loose material. | G50: 25 | H50: m³ | I50: 35.29 | J50: =G50*I50 -> 882.25 | L50: Page 192
C51: Water mains 40m. North-West of site.
B53: 5.9.2.1 | C53: Disposal of non-hazardous excavated material to a licence tip. | G53: =G46-G57 -> 2771.55 | H53: m³ | I53: 53.52 | J53: =G53*I53 -> 148333.36 | L53: Page 194
C54: Disposal of hazardous excavated material to a licence tip - Provisional sum | G54: 0 | H54: m³ | I54: 160.53 | J54: =G54*I54 -> 0 | L54: Page 194
C55: Loading - Hydraulic backacter. Bucket capacity NE 1.00m³ | G55: =G53 -> 2771.55 | H55: m³ | I55: 2.11 | J55: =G55*I55 -> 5847.9705 | L55: Page 190
B57: 5.11.1.1.1 | C57: As dug hardcore to be backfilled to bring exterior to formation level; | G57: =(843*0.3) -> 252.9 | H57: m³ | I57: =5.48+3.66 -> 9.14 | J57: =G57*I57 -> 2311.506 | L57: Page 191 & 193
C58: Load material into dumper and transportation of material.
B59: 5.11.1.1.1.4 | C59: Compaction of fill material. | G59: =G57 -> 252.9 | H59: m³ | I59: 3.38 | J59: =G59*I59 -> 854.802 | L59: Page 428
B61: TOTAL | J61: =SUM(J36:J60) -> 217536.89
...

Sheet Notes & Assumptions
B1: Assumptions
A2: 1 | B2: Subcontractor works carried out only. No principle contractor roles.
A3: 2 | B3: Site area to be 60m x 30m.
A4: 3 | B4: Existing ground to consist of tarmacadam surface course with made ground substratum. All ground to be uncontaminated.
A5: 4 | B5: Existing ground to contain substructure elements of previous developments - 35m³.
A6: 5 | B6: Excavation across interior of building to understide of bottom of lift pit approx. Excavation to external area to be 0.5m.
A7: 6 | B7: FFL is the same as OGL.
A8: 7 | B8: Internal backfill to be 1700mm of clean stone. External backfill to be 300mm of hardcore to underside of paving subbase.
A9: 8 | B9: Each pile length to consist of 1.5m of concrete and the rest of the length Pea sand gravel infill
A10: 9 | B10: Sand and stone made ground with assumed bulking factor of 1.3.
A11: 10 | B11: Revolving door slab diameter 3900mm
A12: 11 | B12: Excavating alongside existing underground services - 25m³
A13: 12 | B13: Piling mat 45m x 10m x 400mm depth.
... A23: 22 | B23: Staircase is 1.2m wide with 3 dowel bars per staircase.
B26: Notes
A27: 1 | B27: Building area 951m²
A28: 2 | B28: Pile radius 244mm. SA = 0.0707m² per pile
A29: 3 | B29: Blinding 50mm thick to underside of pile caps and ground beams.
A30: 4 | B30: No allowance made for drainage or drainage arisings.
A31: 5 | B31: No allowance made for services or services arisings.
A32: 6 | B32: No allowance made for water attenuation.
A33: 7 | B33: All concrete grade C32/40 UNO.
A34: 8 | B34: Tender indecies sourced from Spons Architects 2020. Page 44.
A35: 9 | B35: Location factor sourced from Spons Architects 2020. Page 46.

Sheet Qualifications
B1: UWTSD Library Inclusions and Exclusions
B2: PRELIMINARIES
B3: Out of Hours Working or Overtime | C3: Only normal working hours are allowed within the tender submission (Monday - Friday 7:30am - 5:00pm) any works requested outside of these hours are subject to variation. | D3: Not Included
B4: Heras Fencing to Site Boundary | C4: Not included within tender. | D4: Not Included
B5: Principal Contractor Role | C5: Principle contractor costs are not included within Bill of Quantities. Any requests to take on principle contractor roles will be priced as a VO. | D5: Not Included
B6: Testing, survey and 3rd Party Warranty | C6: Testing of any nature unless stated in Bill of Quantitites. | D6: Not Included
B7: Security | C7: All site security to be provided by Principal Contractor. | D7: Not Included
B8: Skips / General Waste | C8: General waste skips are to be provided by Principal Contractor. | D8: Not Included
B9: Setting Up Wheel Wash or Jet Wash Station | C9: No costs are included in rate build up in Bill of Quantities. | D9: Not Included
B10: Road Sweeping | C10: No allowance for road sweeps to the site is included Bill of Quantities. Any road sweeping provided will be subject to a VO. | D10: Not Included
B11: Dust Suppression | C11: No allowance for dust suppression to the site is included Bill of Quantities. Any dust suppression provided will be subject to a VO. | D11: Not Included
B13: SITE PREPARATION
B14: Locating, Diverting or Lowering of Existing Services | C14: Not included within Bill of Quantities as none present on site. Any additional work to locate services will be priced as a VO. | D14: Not Included
B15: Asbestos Removal | C15: Not included within Bill of Quantities. Asbestos removal will be priced as a VO. | D15: Not Included
B16: Demolition (inc Hardstandings) | C16: Only allowed for where specifically listed in the tender submission. If the work is not itemised in tender it is to be priced as a VO. | D16: Included
B17: Disposal of Contaminated Material | C17: Only allowed for in tender where specifically listed in the tender submission. Provisional sum provided. Subject to remeasure. | D17: Included
B18: Remediation | C18: Only allowed for where specifically listed in the tender submission. If the work is not itemised in tender it is to be priced as a VO. | D18: Not Included
B19: Removal of Trees/Vegetation | C19: Not included within Bill of Quantities. Tree removal will be priced as a VO. | D19: Not Included
B20: Topsoil Strip | C20: No allowance for topsoil strip to the site is included Bill of Quantities. Any topsoil strip provided will be subject to a VO. | D20: Not Included
B21: Compound Setup | C21: No allowance for compound setup to the site is included Bill of Quantities. Any compound setup provided will be subject to a VO. | D21: Not Included
B22: Haul Roads / Pedestrian Walkways | C22: No allowance for haul roads and/or pedestrian walkways. All traffic management and segregation to be provided under the Principal Contractor responsibilities.Any haul roads / pedestrian walkways provided will be subject to a VO. | D22: Not Included
B24: Substructure
B25: Piling Mat | C25: If a piling mat is included in the tender, the tender submission will qualify the thickness of the piling mat allowed for in the tender and the area. | D25: Included
B26: Piling | C26: Piling works are included within Bill of Quantities. Any additional work outside of the tender measure will be priced as a VO. | D26: Included
B27: Ground Beam / Pile Cap | C27: Ground Beam and pile caps are included within Bill of Quantities. Any additional work outside of the tender measure will be priced as a VO. These activities will be subject to remeasure. | D27: Included
B28: Raft Foundations | C28: Raft foundations are not included within the scope of works. | D28: N/A
B29: Breaking Out Rock or Obstructions from Excavations | C29: Breaking out concrete from existing substructures are included in Bill of Quantities. All breaking out rock and obstructions are remeasureable, the provisional allowance is to be omitted and the measure inserted into the contract. | D29: Included
B30: Abnormal Foundations/Trenchfill | C30: Foundation abnormals include additional excavation, concrete & blockwork, blinding, reinforcement, & formwork. | D30: Included
B31: Water Proofing | C31: Waterproofing is only included where measured and defined in the tender submission and in accordance with the engineering information at the time of tender. | D31: Included
B32: Gas Membrane Works | C32: Floor construction, including gas membranes and ventilation included within Bill of Quantities. | D32: Included
B33: Scaffold Base | C33: Scaffolding bases are not included in the tender submission. Any request to install scaffhold bases will be priced as a VO. | D33: Not Included
B34: Drainage | C34: No drainage or attenuation included within Bill of Quantities. | D34: Not Included
B35: Importation of Topsoil/Spread & level topsoil | C35: Importation of topsoil and seeding only included where itemised in the bill of quantities and to the depth stated. Any additional topsoil will be priced as a VO. | D35: Included

Sheet Takeoff
B1: Site area
D2: 60
D3: 30 | E3: =D2*D3 -> 1800 | F3: m²
B5: Floor area
D6: 3.95
D7: 2.35
D8: 3.95
D9: 6.3
D10: 6.3
D11: 6.3
D12: 6.3
D13: 6.3
D14: 5.818 | E14: =SUM(D6:D14) -> 47.568
D16: 6.3
D17: 3.75 | J17: =67.7*2 -> 135.4
D18: 3.75
D19: 6.3 | E19: =SUM(D16:D19) -> 20.1
D22: 20.1
D23: 47.6 | E23: =D22*D23 -> 956.76 | F23: m²
C28: / | D28: 7.5 | G28: Less Entrance voids
D29: 2 | E29: =(D28*D29)*2 -> 30 | F29: m²
C31: / | D31: 3.14 | G31: Add revolving door slabs | I31: r=1.95 | J31: 2nr
D32: 1.95² | E32: =12*2 -> 24 | F32: m² | L32: =E23-E29+E32 -> 950.76 | M32: m² | N32: Total floor area including revolving door slab area.
D33: 24
D34: 0.15 | E34: =D33*D34 -> 3.6 | F34: m³
C36: / | D36: 951
D37: 0.15 | E37: =D36*D37 -> 142.65 | F37: m³ | G37: RC Slab
C39: / | D39: 951
D40: 0.15 | E40: =D39*D40 -> 142.65 | F40: m³ | G40: Stondust blinding type 1 | J40: Floor area
J41: Total concrete | L41: =E37 -> 142.65 | M41: m³
B43: Excavation
C45: Internal | D45: 951
D46: 2 | E46: =D45*D46 -> 1902 | F46: m³
C48: External | D48: =1800-D45 -> 849
D49: 0.5 | E49: =D48*D49 -> 424.5 | F49: m³
C53: lift pit | D53: 7.9
D54: 6.575
D55: 1.25 | E55: =D55*D54*D53 -> 64.928125 | F55: m³
J56: =E55+E59 -> 119.24063 | K56: m³ | L56: not included in clean stone backfill to account for concrete area stairs and lift pit.
C57: Stairs pit | D57: 7.9
...
