Workbook

Sheet Data
C2: Resolution £m | K2: Ratios
B3: Year | C3: 2018 | D3: 2019 | E3: 2020 | F3: 2021 | G3: 2022 | J3: Year | K3: 2018 | L3: 2019 | M3: 2020 | N3: 2021 | O3: 2022
B4: Revenue | C4: 1096.5 | D4: 997.3 | E4: 611.8 | F4: 1095.3 | G4: 1381.5 | J4: Gross Margin | K4: =(C4+C7) -> 435.8 | L4: =(D4+D7) -> 354.6 | M4: =(E4+E7) -> 111.1 | N4: =(F4+F7) -> 343.7 | O4: =(G4+G7) -> 450.7
B5: Other Expense / Income | C5: 20 | D5: -19 | J5: Gross Margin % | K5: =(K4/C4) -> 0.39744642 | L5: =(L4/D4) -> 0.35556001 | M5: =(M4/E4) -> 0.18159529 | N5: =(N4/F4) -> 0.31379531 | O5: =(O4/G4) -> 0.32623959 | P5: =AVERAGE(K5:O5) -> 0.31492733
B6: Income (Subsidary) | J6: Operating Profit | K6: =(C9) -> 72.8 | L6: =D9+D10 -> -36.7 | M6: =E9+E10 -> -322.9 | N6: =F9+F10 -> -76.5 | O6: =G9+G10 -> -141.8
B7: Cost Of Goods Sold (COGS) | C7: -660.7 | D7: -642.7 | E7: -500.7 | F7: -751.6 | G7: -930.8 | J7: Operating Profit % | K7: =(K6/C4) -> 0.066393069 | L7: =(L6/D4) -> -0.036799358 | M7: =(M6/E4) -> -0.52778686 | N7: =(N6/F4) -> -0.069843878 | O7: =(O6/G4) -> -0.10264206 | P7: =AVERAGE(K7:O7) -> -0.13413582
B8: Selling, General and Administrative expenses (SG&A) | C8: =-89.8+-293.2 -> -383 | D8: -330.2 | E8: -336 | F8: -418 | G8: -568.6 | J8: Net income | K8: =(C15) -> -57.1 | L8: =(D15) -> -104.4 | M8: =(E15) -> -410.5 | N8: =(F15) -> -189.3 | O8: =(G15) -> -527.7
B9: Operating Profit | C9: =(C4+C5+C7+C8) -> 72.8 | D9: =(D4+D5+D7+D8) -> 5.4 | E9: =(E4+E5+E7+E8) -> -224.9 | F9: =(F4+F5+F7+F8) -> -74.3 | G9: =(G4+G5+G7+G8) -> -117.9 | J9: Net Income % | K9: =(K8/C4) -> -0.052074783 | L9: =(L8/D4) -> -0.10468264 | M9: =(M8/E4) -> -0.67097091 | N9: =(N8/F4) -> -0.17282936 | O9: =(O8/G4) -> -0.38197611 | P9: =AVERAGE(K9:O9) -> -0.27650676
B10: Adjusted operating items | D10: -42.1 | E10: -98 | F10: -2.2 | G10: -23.9 | J10: Total assets | K10: =(C20) -> 2061.2 | L10: =(D20) -> 2231.1 | M10: =(E20) -> 2794.8 | N10: =(F20) -> 2842.5 | O10: =(G20) -> 3104.3
B11: Finance income | C11: 4.2 | J11: Return on assets | K11: =(K8/K10) -> -0.027702309 | L11: =(L8/L10) -> -0.046793062 | M11: =(M8/M10) -> -0.14687992 | N11: =(N8/N10) -> -0.066596306 | O11: =(O8/O10) -> -0.16999001 | P11: =AVERAGE(K11:O11) -> -0.091592322
B12: Finance expense | C12: -145.2 | D12: -67.6 | E12: -143.1 | F12: -137.3 | G12: -353.2 | J12: Shareholder's equity | K12: =(C32) -> 449.4 | L12: =(D32) -> 358.9 | M12: =(E32) -> 804.1 | N12: =(F32) -> 660.4 | O12: =(G32) -> 772.5
B13: Adjusted operating profit / loss | C13: =(C9+C11+C12) -> -68.2 | D13: =(D9+D10+D12) -> -104.3 | E13: =(E9+E10+E12) -> -466 | F13: =(F9+F10+F12) -> -213.8 | G13: =(G9+G10+G12) -> -495 | J13: Return on Shareholder's equity | K13: =(K8/K12) -> -0.1270583 | L13: =(L8/L12) -> -0.29088883 | M13: =(M8/M12) -> -0.51050864 | N13: =(N8/N12) -> -0.28664446 | O13: =(O8/O12) -> -0.6831068 | P13: =AVERAGE(K13:O13) -> -0.3796414
B14: Interest & Tax | C14: 11.1 | D14: -0.1 | E14: 55.5 | F14: 24.5 | G14: -32.7
B15: Loss / Profit | C15: =C13+C14 -> -57.1 | D15: =D13+D14 -> -104.4 | E15: =E13+E14 -> -410.5 | F15: =F13+F14 -> -189.3 | G15: =G13+G14 -> -527.7 | J15: Liquidity Ratios
B16: Other comprehensive income | C16: =(5.4+-0.9+0.7+-23.5) -> -18.3 | D16: =(-1.4+0.2+-2.7+9+15.6+-3.4) -> 17.3 | E16: -32.8 | F16: =(3.8+-1+6+2.3+-0.3+-4.3+1.2) -> 7.7 | G16: =(6.8+-1.7+3.8+-6.1+2.9+0.8) -> 6.5 | J16: Current ratio | K16: =(-C19/C21) -> 0.6764778 | L16: =(-D19/D21) -> 0.66126777 | M16: =-(E19/E21) -> 1.1004578 | N16: =-(F19/F21) -> 0.95879364 | O16: =-(G19/G21) -> 1.080142 | P16: =AVERAGE(K16:O16) -> 0.8954278
B17: Total comprehensive income | C17: =(C15+C16) -> -75.4 | D17: =(D15+D16) -> -87.1 | E17: =(E15+E16) -> -443.3 | F17: =(F15+F16) -> -181.6 | G17: =(G15+G16) -> -521.2 | J17: Stock / Inventries | K17: =(C25) -> 165.3 | L17: =(D25) -> 200.7 | M17: =(E25) -> 207.4 | N17: =(F25) -> 196.8 | O17: =(G25) -> 286.2
B18: Non-Current Fixed Assets | C18: 1509.6 | D18: 1663.6 | E18: 1905.3 | F18: 1974.6 | G18: 1978.9 | J18: Quick ration (Acid Test Ratio) | K18: =(C19-K17)/-C21 -> 0.47375521 | L18: =(D19-L17)/-D21 -> 0.4274062 | M18: =(E19-M17)/-E21 -> 0.84386985 | N18: =(F19-N17)/-F21 -> 0.74138312 | O18: =(G19-O17)/-G21 -> 0.80545158 | P18: =AVERAGE(K18:O18) -> 0.65837319
B19: Current Assets | C19: 551.6 | D19: 567.5 | E19: 889.5 | F19: 867.9 | G19: 1125.4 | J19: Cash and cash equivalents | K19: =(C26) -> 144.6 | L19: =(D26) -> 107.9 | M19: =(E26) -> 489.4 | N19: =(F26) -> 418.9 | O19: =(G26) -> 583.3
B20: Total Assets | C20: =(C18+C19) -> 2061.2 | D20: =(D18+D19) -> 2231.1 | E20: =(E18+E19) -> 2794.8 | F20: =(F18+F19) -> 2842.5 | G20: =(G18+G19) -> 3104.3 | J20: Cash ratio | K20: =-(K19/C21) -> 0.17733628 | L20: =-(L19/D21) -> 0.12572827 | M20: =(-M19/E21) -> 0.60546827 | N20: =(-N19/F21) -> 0.46277066 | O20: =-(O19/G21) -> 0.5598426 | P20: =AVERAGE(K20:O20) -> 0.38622921
B21: Current Liabilities | C21: -815.4 | D21: -858.2 | E21: -808.3 | F21: -905.2 | G21: -1041.9
B22: Long Term Liabilities | C22: -796.4 | D22: -1014 | E22: -1182.4 | F22: -1276.9 | G22: -1289.9
B23: Total Liabilities | C23: =(C21+C22) -> -1611.8 | D23: =(D21+D22) -> -1872.2 | E23: =(E21+E22) -> -1990.7 | F23: =(F21+F22) -> -2182.1 | G23: =(G21+G22) -> -2331.8 | J23: Activity ratios
B24: Assets Less Liabilities | C24: =(C20+C23) -> 449.4 | D24: =(D20+D23) -> 358.9 | E24: =(E20+E23) -> 804.1 | F24: =(F20+F23) -> 660.4 | G24: =(G20+G23) -> 772.5 | J24: Trade and other recievables | K24: =(C27) -> 241.6 | L24: =(D27) -> 251.5 | M24: =(E27) -> 178.8 | N24: =(F27) -> 245.5 | O24: =(G27) -> 252
B25: Inventries | C25: 165.3 | D25: 200.7 | E25: 207.4 | F25: 196.8 | G25: 286.2 | J25: Days sales outstanding | K25: =K24/(C4/365) -> 80.423165 | L25: =L24/(D4/365) -> 92.046024 | M25: =M24/(E4/365) -> 106.67212 | N25: =N24/(F4/365) -> 81.810919 | O25: =O24/(G4/365) -> 66.579805
B26: Cash and cash equivalents | C26: 144.6 | D26: 107.9 | E26: 489.4 | F26: 418.9 | G26: 583.3 | J26: Inventory turnover | K26: =-C7/C25 -> 3.9969752 | L26: =-D7/((D25+C25)/2) -> 3.5120219 | M26: =-E7/((E25+D25)/2) -> 2.4538103 | N26: =-F7/((F25+E25)/2) -> 3.718951 | O26: =(-G7/G25) -> 3.2522711
B27: Trade and other recievables | C27: 241.6 | D27: =(1.8+249.7) -> 251.5 | E27: =(0.9+177.9) -> 178.8 | F27: =(2.1+243.4) -> 245.5 | G27: =(6.3+245.7) -> 252 | J27: Trade and other payables | K27: =(C28) -> 708.3 | L27: =(D28) -> 711.5 | M27: =(E28) -> 586.4 | N27: =(F28) -> 730.8 | O27: =(G28) -> 885.4
B28: Trade and other payables | C28: =(696.1+12.2) -> 708.3 | D28: =(702.1+9.4) -> 711.5 | E28: =(578.9+7.5) -> 586.4 | F28: =(721+9.8) -> 730.8 | G28: =(876.3+9.1) -> 885.4 | J28: Days payable outstanding | K28: =-K27/(C7/365) -> 391.29635 | L28: =-L27/(D7/365) -> 404.07266 | M28: =-M27/(E7/365) -> 427.47354 | N28: =-N27/(F7/365) -> 354.89888 | O28: =-O27/(G7/365) -> 347.19703
B29: Ordinary Shares | C29: =(2.1+352.3+6.6+2.3+-23.5) -> 339.8 | D29: =(2.1+352.3+6.6+-0.4+-2.3) -> 358.3 | E29: =(11.5+1108.2+144+9.3+6.6+0.4+10.9) -> 1290.9 | F29: =(11.6+1123.4+143.9+9.3+6.6+2.7+6.7) -> 1304.2 | G29: =(69.9+1697.4+143.9+9.3+6.6+6.5+4.3) -> 1937.9
B30: Retained Earnings | C30: 99.4 | D30: -13.5 | E30: -503.1 | F30: -662.4 | G30: -1184.9
B31: Non-controlling interests | C31: 10.2 | D31: 14.1 | E31: 16.3 | F31: 18.6 | G31: 19.5
B32: Shareholder's Equity | C32: =(C29+C30+C31) -> 449.4 | D32: =(D29+D30+D31) -> 358.9 | E32: =(E29+E30+E31) -> 804.1 | F32: =(F29+F30+F31) -> 660.4 | G32: =(G29+G30+G31) -> 772.5 | J32: Financial ratios
J33: Gearing ratio | K33: =-C22/(-C22+C32) -> 0.63926794 | L33: =-D22/(-D22+D32) -> 0.73858256 | M33: =-E22/(-E22+E32) -> 0.59521772 | N33: =-F22/(-F22+F32) -> 0.6591132 | O33: =-G22/(-G22+G32) -> 0.62543638
J34: Debt / Equity ratio | K34: =-C23/C32 -> 3.5865599 | L34: =-D23/D32 -> 5.2164948 | M34: =-E23/E32 -> 2.4756871 | N34: =-F23/F32 -> 3.3042096 | O34: =-G23/G32 -> 3.0185113
J35: Long term debt / Equity ratio | K35: =-C22/C32 -> 1.7721406 | L35: =-D22/D32 -> 2.8252995 | M35: =-E22/E32 -> 1.4704639 | N35: =-F22/F32 -> 1.9335251 | O35: =-G22/G32 -> 1.6697735
J36: Interest paid (no tax) | K36: 42.2 | L36: 52 | M36: 82.3 | N36: 118 | O36: 141.2
J37: Intrest coverage | K37: =(C9/K36) -> 1.7251185 | L37: =(D9/L36) -> 0.10384615 | M37: =(-E9/M36) -> 2.7326853 | N37: =(-F9/N36) -> 0.62966102 | O37: =(-G9/O36) -> 0.83498584
J39: Investor ratios
J40: Profit after tax | K40: =C17 -> -75.4 | L40: =D17 -> -87.1 | M40: =E17 -> -443.3 | N40: =F17 -> -181.6 | O40: =G17 -> -521.2
J41: Number of ordinary shares | K41: 202.1 | L41: 228 | M41: 77.2 | N41: 115.5 | O41: 424.7
J42: Earnings per ordinary share | K42: =(K40/K41) -> -0.37308263 | L42: =(L40/L41) -> -0.38201754 | M42: =(M40/M41) -> -5.742228 | N42: =(N40/N41) -> -1.5722944 | O42: =(O40/O41) -> -1.2272192
...

Sheet Price per Earnigs Ratio
B2: Year | C2: 2018 | D2: 2019 | E2: 2020 | F2: 2021 | G2: 2022
B3: Mercedes Price per Earnings Ratio | C3: 6.67 | D3: 22.2 | E3: 17 | F3: 3.14 | G3: 5.04
B4: Ferrari Preice per Earnings Ratio | C4: 19.72 | D4: 38.66 | E4: 59.44 | F4: 47.99 | G4: 39.53
B5: Aston Martin Price per Earnings Ratio | C5: -5.9602122 | D5: -4.1205511 | E5: -1.8138958 | F5: -3.6365639 | G5: -1.4821566 | H5: =AVERAGE(C5:G5) -> -3.4026759

Sheet Earnings Ordinary Share Ratio
B2: Year | C2: 2018 | D2: 2019 | E2: 2020 | F2: 2021 | G2: 2022
B3: Mercedes Earnings per Ordinary share Ratio | C3: No readily avaiable data
B4: Ferrari Earnings per Ordinary Share Ratio | C4: No readily avaiable data
B5: Aston Martin Earnings per Ordinary share Ratio | C5: -0.37308263 | D5: -0.38201754 | E5: -5.742228 | F5: -1.5722944 | G5: -1.2272192 | H5: =AVERAGE(C5:G5) -> -1.8593683

Sheet Interest Coverage Ratio
B2: Year | C2: 2018 | D2: 2019 | E2: 2020 | F2: 2021 | G2: 2022
B3: Mercedes Interest Coverage Ratio | C3: 14.4 | D3: 3.7 | E3: 23.3 | F3: 40.9 | G3: 48.1
B4: Average Ferrari Interest Coverage Ratio | C4: 14 | D4: 14 | E4: 14 | F4: 14.4 | G4: 14.4
B5: Aston Martin Interest Coverage Ratio | C5: 1.7251185 | D5: 0.10384615 | E5: 2.7326853 | F5: 0.62966102 | G5: 0.83498584 | H5: =AVERAGE(C5:G5) -> 1.2052594

Sheet Long Term Debt  Equity Ratio
B2: Year | C2: 2018 | D2: 2019 | E2: 2020 | F2: 2021 | G2: 2022
B3: Average Mercedes Long term Debt / Equity Ratio | C3: No data readily available
B4: Average ferrari Long term Debt / Equity Ratio | C4: No data readily available
B5: Aston Martin Long term Debt / Equity Ratio | C5: 1.7721406 | D5: 2.8252995 | E5: 1.4704639 | F5: 1.9335251 | G5: 1.6697735 | H5: =AVERAGE(C5:G5) -> 1.9342405

Sheet Debt  Equity Ratio
B2: Year | C2: 2018 | D2: 2019 | E2: 2020 | F2: 2021 | G2: 2022
B3: Average Mercedes Equity / Debt Ratio | C3: No data readily available
B4: Average Ferrari Equity / Debt Ratio | C4: No data readily available
B5: Aston Martin Equity / Debt Ratio | C5: 3.5865599 | D5: 5.2164948 | E5: 2.4756871 | F5: 3.3042096 | G5: 3.0185113 | H5: =AVERAGE(C5:G5) -> 3.5202925

Sheet Gearing Ratio
B2: Year | C2: 2018 | D2: 2019 | E2: 2020 | F2: 2021 | G2: 2022
B3: Average Mercedes Gearing Ratio | C3: No data readily available
B4: Average Ferrari Gearing Ratio | C4: No data readily available
B5: Aston Martin Gearing Ratio | C5: 0.63926794 | D5: 0.73858256 | E5: 0.59521772 | F5: 0.6591132 | G5: 0.62543638 | H5: =AVERAGE(C5:G5) -> 0.65152356

Sheet Days Payable Outstanding
B2: Year | C2: 2018 | D2: 2019 | E2: 2020 | F2: 2021 | G2: 2022
B3: Average Mercedes Days Payable Oustanding Ratio | C3: 41 | D3: 41 | E3: 41 | F3: 41 | G3: 41
B4: Average Ferrari Days Payable Outstanding Ratio | C4: 144 | D4: 144 | E4: 144 | F4: 144 | G4: 144
B5: Aston Martin Days Payable Outstanding Ratio | C5: 391.29635 | D5: 404.07266 | E5: 427.47354 | F5: 354.89888 | G5: 347.19703 | H5: =AVERAGE(C5:G5) -> 384.98769

Sheet Inventory Turnover
B2: Year | C2: 2018 | D2: 2019 | E2: 2020 | F2: 2021 | G2: 2022
B3: Average Mercedes Inventory Turnover Ratio | C3: 3.8 | D3: 3.8 | E3: 3.8 | F3: 3.8 | G3: 3.8
B4: Average Ferrari Inventory Turnover Ratio | C4: 4.2 | D4: 4.2 | E4: 4.2 | F4: 4.2 | G4: 4.2
B5: Aston Martin Inventroy Turnover Ratio | C5: 3.9969752 | D5: 3.5120219 | E5: 2.4538103 | F5: 3.718951 | G5: 3.2522711 | H5: =AVERAGE(C5:G5) -> 3.3868059

Sheet Days Sales Outstanding
B2: Year | C2: 2018 | D2: 2019 | E2: 2020 | F2: 2021 | G2: 2022
B3: Mercedes Days sales Outstanding Ratio | C3: 22 | D3: 23 | E3: 31 | F3: 23 | G3: 17
B4: Average Ferrari Days Sales Outstanding Ratio | C4: 87 | D4: 87 | E4: 87 | F4: 87 | G4: 87
B5: Aston Martin Days Sales Outstanding Ratio | C5: 80.423165 | D5: 92.046024 | E5: 106.67212 | F5: 81.810919 | G5: 66.579805

Sheet Cash Ratio
B2: Year | C2: 2018 | D2: 2019 | E2: 2020 | F2: 2021 | G2: 2022
B3: Average Mercedes Cash Ratio | C3: =6354/26612 -> 0.23876447 | D3: =18833/105802 -> 0.17800231 | E3: =23048/99809 -> 0.23092106 | F3: =23130/87675 -> 0.26381523 | G3: =23182/88403 -> 0.26223092
B4: Ferrari Cash Ratio | C4: =(753.4/781) -> 0.96466069 | D4: =871.4/805 -> 1.0824845 | E4: =1200/834 -> 1.4388489 | F4: =1300/1077 -> 1.2070566 | G4: =1400/1013 -> 1.3820336
B5: Aston Martin Cash Ratio | C5: 0.17733628 | D5: 0.12572827 | E5: 0.60546827 | F5: 0.46277066 | G5: 0.5598426

Sheet Quick Ratio
B2: Year | C2: 2018 | D2: 2019 | E2: 2020 | F2: 2021 | G2: 2022
B3: Average Mercedes Quick Ratio | C3: 0.3 | D3: 0.3 | E3: 0.3 | F3: 0.3 | G3: 0.3
B4: Ferrari Quick Ratio | C4: 3.15 | D4: 3.09 | E4: 3.58 | F4: 3.1 | G4: 3.41
B5: Aston Martin Quick Ratio | C5: 0.47375521 | D5: 0.4274062 | E5: 0.84386985 | F5: 0.74138312 | G5: 0.80545158

Sheet Current Ratio
B2: Year | C2: 2018 | D2: 2019 | E2: 2020 | F2: 2021 | G2: 2022
B3: Average Mercedes Current Ratio | C3: 1.2 | D3: 1.2 | E3: 1.2 | F3: 1.2 | G3: 1.2
B4: Ferrari Current Ratio | C4: 3.75 | D4: 3.68 | E4: 4.22 | F4: 3.69 | G4: 4.11
B5: Aston Martin Current Ratio | C5: 0.6764778 | D5: 0.66126777 | E5: 1.1004578 | F5: 0.95879364 | G5: 1.080142

Sheet Gross Profit Margin Ratio
B2: Year | C2: 2018 | D2: 2019 | E2: 2020 | F2: 2021 | G2: 2022
B3: Average Mercedes Gross Profit Margin % | C3: 0.185 | D3: 0.185 | E3: 0.185 | F3: 0.185 | G3: 0.185
B4: Average Ferrari Gross Profit Margin % | C4: 0.51 | D4: 0.51 | E4: 0.51 | F4: 0.51 | G4: 0.51
B5: Aston Martin Gross Profit Margin % | C5: 0.39744642 | D5: 0.35556001 | E5: 0.18159529 | F5: 0.31379531 | G5: 0.32623959 | I5: =AVERAGE(C5:G5) -> 0.31492733

Sheet Operati Profit Margin Ratio
B2: Year | C2: 2018 | D2: 2019 | E2: 2020 | F2: 2021 | G2: 2022
B3: Average Mercedes Gross Profit Margin % | C3: 0.0633 | D3: 0.0222 | E3: 0.0411 | F3: 0.1181 | G3: 0.1353
B4: Average Ferrari Gross Profit Margin % | C4: 0.2348 | D4: 0.2324 | E4: 0.1928 | F4: 0.244 | G4: 0.2311
B5: Aston Martin Gross Profit Margin % | C5: 0.066393069 | D5: -0.036799358 | E5: -0.52778686 | F5: -0.069843878 | G5: -0.10264206 | I5: =AVERAGE(C5:G5) -> -0.13413582
B8: Revenue | C8: 1096.5 | D8: 997.3 | E8: 611.8 | F8: 1095.3 | G8: 1381.5
B9: Other Expense / Income | C9: 20 | D9: -19
B10: Income (Subsidary)
B11: Cost Of Goods Sold (COGS) | C11: 660.7 | D11: 642.7 | E11: 500.7 | F11: 751.6 | G11: 930.8
B12: Selling, General and Administrative expenses (SG&A) | C12: =89.8+293.2 -> 383 | D12: 330.2 | E12: 336 | F12: 418 | G12: 568.6
B13: Operating Profit | C13: =C8-(C11+C12)+C9 -> 72.8 | D13: =(D8-(D11+D12-D9))-42.1 -> -36.7 | E13: =(E8-(E12+E11))-98 -> -322.9 | F13: =(F8-(F11+F12))-2.2 -> -76.5 | G13: =(G8-(G11+G12))-23.9 -> -141.8

Sheet Net Profit Margin Ratio
B2: Year | C2: 2018 | D2: 2019 | E2: 2020 | F2: 2021 | G2: 2022
B3: Average Mercedes Net Profit Margin % | C3: 0.0437 | D3: 0.0424 | E3: 0.0138 | F3: 0.0499 | G3: 0.0967 | I3: Mercedes-Benz Group AG Net Profit Margin 2010-2023 | MBGAF | MacroTrends
B4: Average Ferrari Net Profit Margin % | C4: 0.2293 | D4: 0.1846 | E4: 0.1759 | F4: 0.1946 | G4: 0.1829 | I4: Ferrari Net Profit Margin 2015-2023 | RACE | MacroTrends
B5: Aston Martin Net Profit Margin % | C5: -0.052074783 | D5: -0.10468264 | E5: -0.67097091 | F5: -0.17282936 | G5: -0.38197611

Sheet Return On Assets Ratio
B2: Year | C2: 2018 | D2: 2019 | E2: 2020 | F2: 2021 | G2: 2022
B3: Mercedes Return On Assets Margin % | C3: 0.0558 | D3: 0.0967 | E3: 0.1048 | F3: 0.1238 | G3: 0.146
B4: Ferrari Return On Assets Margin % | C4: 0.1709 | D4: 0.1376 | E4: 0.1039 | F4: 0.1283 | G4: 0.1234
B5: Aston Martin Return On Assets Margin % | C5: -0.027702309 | D5: -0.046793062 | E5: -0.14687992 | F5: -0.066596306 | G5: -0.16999001

Sheet Return On Shareholders Equity r
B2: Year | C2: 2018 | D2: 2019 | E2: 2020 | F2: 2021 | G2: 2022
B3: Mercedes Return On Shareholder's equity % | C3: 0.1437 | D3: 0.1257 | E3: 0.099 | F3: 0.22 | G3: 0.168
B4: Ferrari Return On Shareholder's equity % | C4: 0.7067 | D4: 0.4828 | E4: 0.3972 | F4: 0.4054 | G4: 0.385
B5: Aston Martin Return On Shreholder's equity % | C5: -0.1270583 | D5: -0.29088883 | E5: -0.51050864 | F5: -0.28664446 | G5: -0.6831068

Sheet Graphs
F1: 2018 | G1: 2019 | H1: 2020 | I1: 2021 | J1: 2022
A2: Revenue | F2: 949497000 | G2: 864400000 | H2: 531000
F17: 2018 | G17: 2019 | H17: 2020 | I17: 2021 | J17: 2022
F18: =Data!C7 * 1000 -> -660700 | G18: =Data!D7 * 1000 -> -642700 | H18: =Data!E7 * 1000 -> -500700 | I18: =Data!F7 * 1000 -> -751600 | J18: =Data!G7 * 1000 -> -930800
A19: Cost Of Goods Sold (COGS) | F19: =SQRT(F18*F18) -> 660700 | G19: =SQRT(G18*G18) -> 642700 | H19: =SQRT(H18*H18) -> 500700 | I19: =SQRT(I18*I18) -> 751600 | J19: =SQRT(J18*J18) -> 930800
F34: 2018 | G34: 2019 | H34: 2020 | I34: 2021 | J34: 2022
A35: Shareholder's Equity | F35: 348640 | G35: 136900 | H35: -140000
A51: Liabilities | F51: 2018 | G51: 2019 | H51: 2020 | I51: 2021 | J51: 2022
A52: Current Liabilities | F52: -1107160 | G52: -1465400 | H52: -1726900
A53: Long Term Liabilities | F53: -89208 | G53: -158700 | H53: -725500
A54: Total Liabilities | F54: =(F52+F53) -> -1196368 | G54: =(G52+G53) -> -1624100 | H54: =(H52+H53) -> -2452400
