Workbook

Sheet Experiment 1
A1: Weight (g) | B1: Length (mm) | C1: Engineering strain | D1: True strain | E1: Cross sectional area | F1: Force (N) | G1: Engineering stress | H1: True stress | I1: Energy
A2: 0 | B2: 84 | C2: 0 | D2: 0 | E2: 4.72 | F2: 0 | G2: 0 | H2: 0
A3: 219 | B3: 105 | C3: =(B3-B$2)/B$2 -> 0.25 | D3: =LN(B3/B$2) -> 0.22314355 | E3: =E2*B2/B3 -> 3.776 | F3: =A3*9.81/1000 -> 2.14839 | G3: =F3/E$2 -> 0.45516737 | H3: =F3/E3 -> 0.56895922 | I3: =((F3+F2)/2)*(B3-B2)*10^-3 -> 0.022558095
A4: =A3+122 -> 341 | B4: 111 | C4: =(B4-B$2)/B$2 -> 0.32142857 | D4: =LN(B4/B$2) -> 0.2787134 | E4: =E3*B3/B4 -> 3.5718919 | F4: =A4*9.81/1000 -> 3.34521 | G4: =F4/E$2 -> 0.70873093 | H4: =F4/E4 -> 0.9365373 | I4: =((F4+F3)/2)*(B4-B3)*10^-3 -> 0.0164808
A5: =A4+122 -> 463 | B5: 132 | C5: =(B5-B$2)/B$2 -> 0.57142857 | D5: =LN(B5/B$2) -> 0.45198512 | E5: =E4*B4/B5 -> 3.0036364 | F5: =A5*9.81/1000 -> 4.54203 | G5: =F5/E$2 -> 0.96229449 | H5: =F5/E5 -> 1.5121771 | I5: =((F5+F4)/2)*(B5-B4)*10^-3 -> 0.08281602
A6: =A5+121 -> 584 | B6: 146 | C6: =(B6-B$2)/B$2 -> 0.73809524 | D6: =LN(B6/B$2) -> 0.55278982 | E6: =E5*B5/B6 -> 2.7156164 | F6: =A6*9.81/1000 -> 5.72904 | G6: =F6/E$2 -> 1.2137797 | H6: =F6/E6 -> 2.1096646 | I6: =((F6+F5)/2)*(B6-B5)*10^-3 -> 0.07189749
A7: =A6+111 -> 695 | B7: 160 | C7: =(B7-B$2)/B$2 -> 0.9047619 | D7: =LN(B7/B$2) -> 0.64435702 | E7: =E6*B6/B7 -> 2.478 | F7: =A7*9.81/1000 -> 6.81795 | G7: =F7/E$2 -> 1.4444809 | H7: =F7/E7 -> 2.7513923 | I7: =((F7+F6)/2)*(B7-B6)*10^-3 -> 0.08782893
A8: =A7+122 -> 817 | B8: 182 | C8: =(B8-B$2)/B$2 -> 1.1666667 | D8: =LN(B8/B$2) -> 0.77318989 | E8: =E7*B7/B8 -> 2.1784615 | F8: =A8*9.81/1000 -> 8.01477 | G8: =F8/E$2 -> 1.6980445 | H8: =F8/E8 -> 3.6790964 | I8: =((F8+F7)/2)*(B8-B7)*10^-3 -> 0.16315992
A9: =A8+122 -> 939 | B9: 210 | C9: =(B9-B$2)/B$2 -> 1.5 | D9: =LN(B9/B$2) -> 0.91629073 | E9: =E8*B8/B9 -> 1.888 | F9: =A9*9.81/1000 -> 9.21159 | G9: =F9/E$2 -> 1.9516081 | H9: =F9/E9 -> 4.8790201 | I9: =((F9+F8)/2)*(B9-B8)*10^-3 -> 0.24116904
A10: =A9+122 -> 1061 | B10: 237 | C10: =(B10-B$2)/B$2 -> 1.8214286 | D10: =LN(B10/B$2) -> 1.0372433 | E10: =E9*B9/B10 -> 1.6729114 | F10: =A10*9.81/1000 -> 10.40841 | G10: =F10/E$2 -> 2.2051716 | H10: =F10/E10 -> 6.2217342 | I10: =((F10+F9)/2)*(B10-B9)*10^-3 -> 0.26487
A11: =A10+109 -> 1170 | B11: 258 | C11: =(B11-B$2)/B$2 -> 2.0714286 | D11: =LN(B11/B$2) -> 1.1221428 | E11: =E10*B10/B11 -> 1.5367442 | F11: =A11*9.81/1000 -> 11.4777 | G11: =F11/E$2 -> 2.4317161 | H11: =F11/E11 -> 7.4688423 | I11: =((F11+F10)/2)*(B11-B10)*10^-3 -> 0.22980416
A12: =A11+123 -> 1293 | B12: 296 | C12: =(B12-B$2)/B$2 -> 2.5238095 | D12: =LN(B12/B$2) -> 1.2595427 | E12: =E11*B11/B12 -> 1.3394595 | F12: =A12*9.81/1000 -> 12.68433 | G12: =F12/E$2 -> 2.6873581 | H12: =F12/E12 -> 9.4697379 | I12: =((F12+F11)/2)*(B12-B11)*10^-3 -> 0.45907857
A13: =A12+121 -> 1414 | B13: 307 | C13: =(B13-B$2)/B$2 -> 2.6547619 | D13: =LN(B13/B$2) -> 1.2960309 | E13: =E12*B12/B13 -> 1.2914658 | F13: =A13*9.81/1000 -> 13.87134 | G13: =F13/E$2 -> 2.9388432 | H13: =F13/E13 -> 10.740772 | I13: =((F13+F12)/2)*(B13-B12)*10^-3 -> 0.14605619
A14: =A13+118 -> 1532 | B14: 326 | C14: =(B14-B$2)/B$2 -> 2.8809524 | D14: =LN(B14/B$2) -> 1.3560806 | E14: =E13*B13/B14 -> 1.2161963 | F14: =A14*9.81/1000 -> 15.02892 | G14: =F14/E$2 -> 3.1840932 | H14: =F14/E14 -> 12.357314 | I14: =((F14+F13)/2)*(B14-B13)*10^-3 -> 0.27455247
A15: =A14+123 -> 1655 | B15: 339 | C15: =(B15-B$2)/B$2 -> 3.0357143 | D15: =LN(B15/B$2) -> 1.3951833 | E15: =E14*B14/B15 -> 1.1695575 | F15: =A15*9.81/1000 -> 16.23555 | G15: =F15/E$2 -> 3.4397352 | H15: =F15/E15 -> 13.881788 | I15: =((F15+F14)/2)*(B15-B14)*10^-3 -> 0.20321906
A16: =A15+145 -> 1800 | B16: 362 | C16: =(B16-B$2)/B$2 -> 3.3095238 | D16: =LN(B16/B$2) -> 1.4608274 | E16: =E15*B15/B16 -> 1.0952486 | F16: =A16*9.81/1000 -> 17.658 | G16: =F16/E$2 -> 3.7411017 | H16: =F16/E16 -> 16.122367 | I16: =((F16+F15)/2)*(B16-B15)*10^-3 -> 0.38977583
A17: =A16+118 -> 1918 | B17: 373 | C17: =(B17-B$2)/B$2 -> 3.4404762 | D17: =LN(B17/B$2) -> 1.4907616 | E17: =E16*B16/B17 -> 1.0629491 | F17: =A17*9.81/1000 -> 18.81558 | G17: =F17/E$2 -> 3.9863517 | H17: =F17/E17 -> 17.7013 | I17: =((F17+F16)/2)*(B17-B16)*10^-3 -> 0.20060469
A18: =A17+130 -> 2048 | B18: 382 | C18: =(B18-B$2)/B$2 -> 3.547619 | D18: =LN(B18/B$2) -> 1.5146038 | E18: =E17*B17/B18 -> 1.0379058 | F18: =A18*9.81/1000 -> 20.09088 | G18: =F18/E$2 -> 4.2565424 | H18: =F18/E18 -> 19.357133 | I18: =((F18+F17)/2)*(B18-B17)*10^-3 -> 0.17507907
A19: =A18+111 -> 2159 | B19: 394 | C19: =(B19-B$2)/B$2 -> 3.6904762 | D19: =LN(B19/B$2) -> 1.5455341 | E19: =E18*B18/B19 -> 1.0062944 | F19: =A19*9.81/1000 -> 21.17979 | G19: =F19/E$2 -> 4.4872436 | H19: =F19/E19 -> 21.047309 | I19: =((F19+F18)/2)*(B19-B18)*10^-3 -> 0.24762402
A20: =A19+120 -> 2279 | B20: 403 | C20: =(B20-B$2)/B$2 -> 3.797619 | D20: =LN(B20/B$2) -> 1.5681198 | E20: =E19*B19/B20 -> 0.98382134 | F20: =A20*9.81/1000 -> 22.35699 | G20: =F20/E$2 -> 4.7366504 | H20: =F20/E20 -> 22.724644 | I20: =((F20+F19)/2)*(B20-B19)*10^-3 -> 0.19591551
A21: =A20+122 -> 2401 | B21: 415 | C21: =(B21-B$2)/B$2 -> 3.9404762 | D21: =LN(B21/B$2) -> 1.5974617 | E21: =E20*B20/B21 -> 0.95537349 | F21: =A21*9.81/1000 -> 23.55381 | G21: =F21/E$2 -> 4.990214 | H21: =F21/E21 -> 24.654033 | I21: =((F21+F20)/2)*(B21-B20)*10^-3 -> 0.2754648
A22: =A21+111 -> 2512 | B22: 426 | C22: =(B22-B$2)/B$2 -> 4.0714286 | D22: =LN(B22/B$2) -> 1.6236225 | E22: =E21*B21/B22 -> 0.93070423 | F22: =A22*9.81/1000 -> 24.64272 | G22: =F22/E$2 -> 5.2209153 | H22: =F22/E22 -> 26.477499 | I22: =((F22+F21)/2)*(B22-B21)*10^-3 -> 0.26508092
A23: =A22+111 -> 2623 | B23: 432 | C23: =(B23-B$2)/B$2 -> 4.1428571 | D23: =LN(B23/B$2) -> 1.6376088 | E23: =E22*B22/B23 -> 0.91777778 | F23: =A23*9.81/1000 -> 25.73163 | G23: =F23/E$2 -> 5.4516165 | H23: =F23/E23 -> 28.036885 | I23: =((F23+F22)/2)*(B23-B22)*10^-3 -> 0.15112305
A24: =A23+229 -> 2852 | B24: 443 | C24: =(B24-B$2)/B$2 -> 4.2738095 | D24: =LN(B24/B$2) -> 1.662753 | E24: =E23*B23/B24 -> 0.89498871 | F24: =A24*9.81/1000 -> 27.97812 | G24: =F24/E$2 -> 5.9275678 | H24: =F24/E24 -> 31.260863 | I24: =((F24+F23)/2)*(B24-B23)*10^-3 -> 0.29540363
A25: =A24+173 -> 3025 | B25: 451 | C25: =(B25-B$2)/B$2 -> 4.3690476 | D25: =LN(B25/B$2) -> 1.6806505 | E25: =E24*B24/B25 -> 0.87911308 | F25: =A25*9.81/1000 -> 29.67525 | G25: =F25/E$2 -> 6.2871292 | H25: =F25/E25 -> 33.755896 | I25: =((F25+F24)/2)*(B25-B24)*10^-3 -> 0.23061348
A26: =A25+216 -> 3241 | B26: 460 | C26: =(B26-B$2)/B$2 -> 4.4761905 | D26: =LN(B26/B$2) -> 1.7004097 | E26: =E25*B25/B26 -> 0.86191304 | F26: =A26*9.81/1000 -> 31.79421 | G26: =F26/E$2 -> 6.7360614 | H26: =F26/E26 -> 36.887956 | I26: =((F26+F25)/2)*(B26-B25)*10^-3 -> 0.27661257
A27: =A26+216 -> 3457 | B27: Failure
C28: =_xlfn.STDEV.P(C2:C26,'Experiment 2'!C2:C26,'Experiment 3'!C2:C26) -> 1.4382651
C29: =AVERAGE(C2:C26,'Experiment 2'!C2:C26,'Experiment 3'!C2:C26) -> 2.5620635
E30: Section | F30: 1.68 | H30: Total energy | I30: =SUM(I3:I26) -> 4.9667883
F31: 1.37 | H31: Total volume | I31: =F33*B2 -> 386.6688
E32: Area | F32: =F31*F30 -> 2.3016 | H32: Toughness | I32: =(I30/I31*10^3) *10^6 -> 12845071
E33: Total cross section | F33: =F32*2 -> 4.6032

Sheet Experiment 2
A1: Weight (g) | B1: Length (mm) | C1: Engineering strain | D1: True strain | E1: Cross sectional area | F1: Force (N) | G1: Engineering stress | H1: True stress | I1: Energy
A2: 0 | B2: 84 | C2: 0 | D2: 0 | E2: 4.72 | F2: 0 | G2: 0 | H2: 0
A3: 219 | B3: 111 | C3: =(B3-B$2)/B$2 -> 0.32142857 | D3: =LN(B3/B$2) -> 0.2787134 | E3: =E2*B2/B3 -> 3.5718919 | F3: =A3*9.81/1000 -> 2.14839 | G3: =F3/E$2 -> 0.45516737 | H3: =F3/E3 -> 0.60147117 | I3: =((F3+F2)/2)*(B3-B2)*10^-3 -> 0.029003265
A4: =A3+122 -> 341 | B4: 121 | C4: =(B4-B$2)/B$2 -> 0.44047619 | D4: =LN(B4/B$2) -> 0.36497375 | E4: =E3*B3/B4 -> 3.2766942 | F4: =A4*9.81/1000 -> 3.34521 | G4: =F4/E$2 -> 0.70873093 | H4: =F4/E4 -> 1.02091 | I4: =((F4+F3)/2)*(B4-B3)*10^-3 -> 0.027468
A5: =A4+122 -> 463 | B5: 135 | C5: =(B5-B$2)/B$2 -> 0.60714286 | D5: =LN(B5/B$2) -> 0.47445798 | E5: =E4*B4/B5 -> 2.9368889 | F5: =A5*9.81/1000 -> 4.54203 | G5: =F5/E$2 -> 0.96229449 | H5: =F5/E5 -> 1.5465447 | I5: =((F5+F4)/2)*(B5-B4)*10^-3 -> 0.05521068
A6: =A5+121 -> 584 | B6: 152 | C6: =(B6-B$2)/B$2 -> 0.80952381 | D6: =LN(B6/B$2) -> 0.59306372 | E6: =E5*B5/B6 -> 2.6084211 | F6: =A6*9.81/1000 -> 5.72904 | G6: =F6/E$2 -> 1.2137797 | H6: =F6/E6 -> 2.1963632 | I6: =((F6+F5)/2)*(B6-B5)*10^-3 -> 0.087304095
A7: =A6+111 -> 695 | B7: 168 | C7: =(B7-B$2)/B$2 -> 1 | D7: =LN(B7/B$2) -> 0.69314718 | E7: =E6*B6/B7 -> 2.36 | F7: =A7*9.81/1000 -> 6.81795 | G7: =F7/E$2 -> 1.4444809 | H7: =F7/E7 -> 2.8889619 | I7: =((F7+F6)/2)*(B7-B6)*10^-3 -> 0.10037592
A8: =A7+122 -> 817 | B8: 183 | C8: =(B8-B$2)/B$2 -> 1.1785714 | D8: =LN(B8/B$2) -> 0.77866935 | E8: =E7*B7/B8 -> 2.1665574 | F8: =A8*9.81/1000 -> 8.01477 | G8: =F8/E$2 -> 1.6980445 | H8: =F8/E8 -> 3.6993112 | I8: =((F8+F7)/2)*(B8-B7)*10^-3 -> 0.1112454
A9: =A8+122 -> 939 | B9: 215 | C9: =(B9-B$2)/B$2 -> 1.5595238 | D9: =LN(B9/B$2) -> 0.93982123 | E9: =E8*B8/B9 -> 1.844093 | F9: =A9*9.81/1000 -> 9.21159 | G9: =F9/E$2 -> 1.9516081 | H9: =F9/E9 -> 4.9951873 | I9: =((F9+F8)/2)*(B9-B8)*10^-3 -> 0.27562176
A10: =A9+122 -> 1061 | B10: 245 | C10: =(B10-B$2)/B$2 -> 1.9166667 | D10: =LN(B10/B$2) -> 1.0704414 | E10: =E9*B9/B10 -> 1.6182857 | F10: =A10*9.81/1000 -> 10.40841 | G10: =F10/E$2 -> 2.2051716 | H10: =F10/E10 -> 6.4317505 | I10: =((F10+F9)/2)*(B10-B9)*10^-3 -> 0.2943
A11: =A10+109 -> 1170 | B11: 261 | C11: =(B11-B$2)/B$2 -> 2.1071429 | D11: =LN(B11/B$2) -> 1.1337036 | E11: =E10*B10/B11 -> 1.5190805 | F11: =A11*9.81/1000 -> 11.4777 | G11: =F11/E$2 -> 2.4317161 | H11: =F11/E11 -> 7.5556893 | I11: =((F11+F10)/2)*(B11-B10)*10^-3 -> 0.17508888
A12: =A11+123 -> 1293 | B12: 301 | C12: =(B12-B$2)/B$2 -> 2.5833333 | D12: =LN(B12/B$2) -> 1.2762935 | E12: =E11*B11/B12 -> 1.3172093 | F12: =A12*9.81/1000 -> 12.68433 | G12: =F12/E$2 -> 2.6873581 | H12: =F12/E12 -> 9.6296997 | I12: =((F12+F11)/2)*(B12-B11)*10^-3 -> 0.4832406
A13: =A12+121 -> 1414 | B13: 317 | C13: =(B13-B$2)/B$2 -> 2.7738095 | D13: =LN(B13/B$2) -> 1.328085 | E13: =E12*B12/B13 -> 1.2507256 | F13: =A13*9.81/1000 -> 13.87134 | G13: =F13/E$2 -> 2.9388432 | H13: =F13/E13 -> 11.090635 | I13: =((F13+F12)/2)*(B13-B12)*10^-3 -> 0.21244536
A14: =A13+118 -> 1532 | B14: 334 | C14: =(B14-B$2)/B$2 -> 2.9761905 | D14: =LN(B14/B$2) -> 1.3803242 | E14: =E13*B13/B14 -> 1.1870659 | F14: =A14*9.81/1000 -> 15.02892 | G14: =F14/E$2 -> 3.1840932 | H14: =F14/E14 -> 12.660561 | I14: =((F14+F13)/2)*(B14-B13)*10^-3 -> 0.24565221
A15: =A14+123 -> 1655 | B15: 352 | C15: =(B15-B$2)/B$2 -> 3.1904762 | D15: =LN(B15/B$2) -> 1.4328144 | E15: =E14*B14/B15 -> 1.1263636 | F15: =A15*9.81/1000 -> 16.23555 | G15: =F15/E$2 -> 3.4397352 | H15: =F15/E15 -> 14.414128 | I15: =((F15+F14)/2)*(B15-B14)*10^-3 -> 0.28138023
A16: =A15+145 -> 1800 | B16: 360 | C16: =(B16-B$2)/B$2 -> 3.2857143 | D16: =LN(B16/B$2) -> 1.4552872 | E16: =E15*B15/B16 -> 1.1013333 | F16: =A16*9.81/1000 -> 17.658 | G16: =F16/E$2 -> 3.7411017 | H16: =F16/E16 -> 16.033293 | I16: =((F16+F15)/2)*(B16-B15)*10^-3 -> 0.1355742
A17: =A16+118 -> 1918 | B17: 375 | C17: =(B17-B$2)/B$2 -> 3.4642857 | D17: =LN(B17/B$2) -> 1.4961092 | E17: =E16*B16/B17 -> 1.05728 | F17: =A17*9.81/1000 -> 18.81558 | G17: =F17/E$2 -> 3.9863517 | H17: =F17/E17 -> 17.796213 | I17: =((F17+F16)/2)*(B17-B16)*10^-3 -> 0.27355185
A18: =A17+130 -> 2048 | B18: 382 | C18: =(B18-B$2)/B$2 -> 3.547619 | D18: =LN(B18/B$2) -> 1.5146038 | E18: =E17*B17/B18 -> 1.0379058 | F18: =A18*9.81/1000 -> 20.09088 | G18: =F18/E$2 -> 4.2565424 | H18: =F18/E18 -> 19.357133 | I18: =((F18+F17)/2)*(B18-B17)*10^-3 -> 0.13617261
A19: =A18+111 -> 2159 | B19: 395 | C19: =(B19-B$2)/B$2 -> 3.702381 | D19: =LN(B19/B$2) -> 1.548069 | E19: =E18*B18/B19 -> 1.0037468 | F19: =A19*9.81/1000 -> 21.17979 | G19: =F19/E$2 -> 4.4872436 | H19: =F19/E19 -> 21.100729 | I19: =((F19+F18)/2)*(B19-B18)*10^-3 -> 0.26825936
A20: =A19+120 -> 2279 | B20: 402 | C20: =(B20-B$2)/B$2 -> 3.7857143 | D20: =LN(B20/B$2) -> 1.5656353 | E20: =E19*B19/B20 -> 0.98626866 | F20: =A20*9.81/1000 -> 22.35699 | G20: =F20/E$2 -> 4.7366504 | H20: =F20/E20 -> 22.668256 | I20: =((F20+F19)/2)*(B20-B19)*10^-3 -> 0.15237873
A21: =A20+122 -> 2401 | B21: 412 | C21: =(B21-B$2)/B$2 -> 3.9047619 | D21: =LN(B21/B$2) -> 1.5902066 | E21: =E20*B20/B21 -> 0.9623301 | F21: =A21*9.81/1000 -> 23.55381 | G21: =F21/E$2 -> 4.990214 | H21: =F21/E21 -> 24.475811 | I21: =((F21+F20)/2)*(B21-B20)*10^-3 -> 0.229554
A22: =A21+111 -> 2512 | B22: 425 | C22: =(B22-B$2)/B$2 -> 4.0595238 | D22: =LN(B22/B$2) -> 1.6212724 | E22: =E21*B21/B22 -> 0.93289412 | F22: =A22*9.81/1000 -> 24.64272 | G22: =F22/E$2 -> 5.2209153 | H22: =F22/E22 -> 26.415345 | I22: =((F22+F21)/2)*(B22-B21)*10^-3 -> 0.31327744
A23: =A22+111 -> 2623 | B23: 430 | C23: =(B23-B$2)/B$2 -> 4.1190476 | D23: =LN(B23/B$2) -> 1.6329684 | E23: =E22*B22/B23 -> 0.92204651 | F23: =A23*9.81/1000 -> 25.73163 | G23: =F23/E$2 -> 5.4516165 | H23: =F23/E23 -> 27.907085 | I23: =((F23+F22)/2)*(B23-B22)*10^-3 -> 0.12593588
A24: =A23+229 -> 2852 | B24: 442 | C24: =(B24-B$2)/B$2 -> 4.2619048 | D24: =LN(B24/B$2) -> 1.6604931 | E24: =E23*B23/B24 -> 0.89701357 | F24: =A24*9.81/1000 -> 27.97812 | G24: =F24/E$2 -> 5.9275678 | H24: =F24/E24 -> 31.190297 | I24: =((F24+F23)/2)*(B24-B23)*10^-3 -> 0.3222585
A25: =A24+173 -> 3025 | B25: 457 | C25: =(B25-B$2)/B$2 -> 4.4404762 | D25: =LN(B25/B$2) -> 1.6938666 | E25: =E24*B24/B25 -> 0.86757112 | F25: =A25*9.81/1000 -> 29.67525 | G25: =F25/E$2 -> 6.2871292 | H25: =F25/E25 -> 34.204977 | I25: =((F25+F24)/2)*(B25-B24)*10^-3 -> 0.43240028
A26: =A25+216 -> 3241 | B26: 463 | C26: =(B26-B$2)/B$2 -> 4.5119048 | D26: =LN(B26/B$2) -> 1.7069103 | E26: =E25*B25/B26 -> 0.85632829 | F26: =A26*9.81/1000 -> 31.79421 | G26: =F26/E$2 -> 6.7360614 | H26: =F26/E26 -> 37.128529 | I26: =((F26+F25)/2)*(B26-B25)*10^-3 -> 0.18440838
A27: =A26+216 -> 3457 | B27: Failure
C29: =_xlfn.STDEV.P(C2:C26) -> 1.4333069
E30: Section | F30: 1.68 | H30: Total energy | I30: =SUM(I3:I26) -> 4.9521076
F31: 1.37 | H31: Total volume | I31: =F33*B2 -> 386.6688
E32: Area | F32: =F31*F30 -> 2.3016 | H32: Toughness | I32: =(I30/I31*10^3) *10^6 -> 12807104
E33: Total cross section | F33: =F32*2 -> 4.6032

Sheet Experiment 3
A1: Weight (g) | B1: Length (mm) | C1: Engineering strain | D1: True strain | E1: Cross sectional area | F1: Force (N) | G1: Engineering stress | H1: True stress | I1: Energy
A2: 0 | B2: 84 | C2: 0 | D2: 0 | E2: 4.72 | F2: 0 | G2: 0 | H2: 0
A3: 219 | B3: 111 | C3: =(B3-B$2)/B$2 -> 0.32142857 | D3: =LN(B3/B$2) -> 0.2787134 | E3: =E2*B2/B3 -> 3.5718919 | F3: =A3*9.81/1000 -> 2.14839 | G3: =F3/E$2 -> 0.45516737 | H3: =F3/E3 -> 0.60147117 | I3: =((F3+F2)/2)*(B3-B2)*10^-3 -> 0.029003265
A4: =A3+122 -> 341 | B4: 120 | C4: =(B4-B$2)/B$2 -> 0.42857143 | D4: =LN(B4/B$2) -> 0.35667494 | E4: =E3*B3/B4 -> 3.304 | F4: =A4*9.81/1000 -> 3.34521 | G4: =F4/E$2 -> 0.70873093 | H4: =F4/E4 -> 1.0124728 | I4: =((F4+F3)/2)*(B4-B3)*10^-3 -> 0.0247212
A5: =A4+122 -> 463 | B5: 135 | C5: =(B5-B$2)/B$2 -> 0.60714286 | D5: =LN(B5/B$2) -> 0.47445798 | E5: =E4*B4/B5 -> 2.9368889 | F5: =A5*9.81/1000 -> 4.54203 | G5: =F5/E$2 -> 0.96229449 | H5: =F5/E5 -> 1.5465447 | I5: =((F5+F4)/2)*(B5-B4)*10^-3 -> 0.0591543
A6: =A5+121 -> 584 | B6: 150 | C6: =(B6-B$2)/B$2 -> 0.78571429 | D6: =LN(B6/B$2) -> 0.5798185 | E6: =E5*B5/B6 -> 2.6432 | F6: =A6*9.81/1000 -> 5.72904 | G6: =F6/E$2 -> 1.2137797 | H6: =F6/E6 -> 2.1674637 | I6: =((F6+F5)/2)*(B6-B5)*10^-3 -> 0.077033025
A7: =A6+111 -> 695 | B7: 164 | C7: =(B7-B$2)/B$2 -> 0.95238095 | D7: =LN(B7/B$2) -> 0.66904963 | E7: =E6*B6/B7 -> 2.417561 | F7: =A7*9.81/1000 -> 6.81795 | G7: =F7/E$2 -> 1.4444809 | H7: =F7/E7 -> 2.8201771 | I7: =((F7+F6)/2)*(B7-B6)*10^-3 -> 0.08782893
A8: =A7+122 -> 817 | B8: 183 | C8: =(B8-B$2)/B$2 -> 1.1785714 | D8: =LN(B8/B$2) -> 0.77866935 | E8: =E7*B7/B8 -> 2.1665574 | F8: =A8*9.81/1000 -> 8.01477 | G8: =F8/E$2 -> 1.6980445 | H8: =F8/E8 -> 3.6993112 | I8: =((F8+F7)/2)*(B8-B7)*10^-3 -> 0.14091084
A9: =A8+122 -> 939 | B9: 217 | C9: =(B9-B$2)/B$2 -> 1.5833333 | D9: =LN(B9/B$2) -> 0.94908055 | E9: =E8*B8/B9 -> 1.8270968 | F9: =A9*9.81/1000 -> 9.21159 | G9: =F9/E$2 -> 1.9516081 | H9: =F9/E9 -> 5.0416541 | I9: =((F9+F8)/2)*(B9-B8)*10^-3 -> 0.29284812
A10: =A9+122 -> 1061 | B10: 242 | C10: =(B10-B$2)/B$2 -> 1.8809524 | D10: =LN(B10/B$2) -> 1.0581209 | E10: =E9*B9/B10 -> 1.6383471 | F10: =A10*9.81/1000 -> 10.40841 | G10: =F10/E$2 -> 2.2051716 | H10: =F10/E10 -> 6.3529944 | I10: =((F10+F9)/2)*(B10-B9)*10^-3 -> 0.24525
A11: =A10+109 -> 1170 | B11: 264 | C11: =(B11-B$2)/B$2 -> 2.1428571 | D11: =LN(B11/B$2) -> 1.1451323 | E11: =E10*B10/B11 -> 1.5018182 | F11: =A11*9.81/1000 -> 11.4777 | G11: =F11/E$2 -> 2.4317161 | H11: =F11/E11 -> 7.6425363 | I11: =((F11+F10)/2)*(B11-B10)*10^-3 -> 0.24074721
A12: =A11+123 -> 1293 | B12: 297 | C12: =(B12-B$2)/B$2 -> 2.5357143 | D12: =LN(B12/B$2) -> 1.2629153 | E12: =E11*B11/B12 -> 1.3349495 | F12: =A12*9.81/1000 -> 12.68433 | G12: =F12/E$2 -> 2.6873581 | H12: =F12/E12 -> 9.5017303 | I12: =((F12+F11)/2)*(B12-B11)*10^-3 -> 0.39867349
A13: =A12+121 -> 1414 | B13: 313 | C13: =(B13-B$2)/B$2 -> 2.7261905 | D13: =LN(B13/B$2) -> 1.3153864 | E13: =E12*B12/B13 -> 1.2667093 | F13: =A13*9.81/1000 -> 13.87134 | G13: =F13/E$2 -> 2.9388432 | H13: =F13/E13 -> 10.95069 | I13: =((F13+F12)/2)*(B13-B12)*10^-3 -> 0.21244536
A14: =A13+118 -> 1532 | B14: 328 | C14: =(B14-B$2)/B$2 -> 2.9047619 | D14: =LN(B14/B$2) -> 1.3621968 | E14: =E13*B13/B14 -> 1.2087805 | F14: =A14*9.81/1000 -> 15.02892 | G14: =F14/E$2 -> 3.1840932 | H14: =F14/E14 -> 12.433126 | I14: =((F14+F13)/2)*(B14-B13)*10^-3 -> 0.21675195
A15: =A14+123 -> 1655 | B15: 345 | C15: =(B15-B$2)/B$2 -> 3.1071429 | D15: =LN(B15/B$2) -> 1.4127276 | E15: =E14*B14/B15 -> 1.1492174 | F15: =A15*9.81/1000 -> 16.23555 | G15: =F15/E$2 -> 3.4397352 | H15: =F15/E15 -> 14.127484 | I15: =((F15+F14)/2)*(B15-B14)*10^-3 -> 0.265748
A16: =A15+145 -> 1800 | B16: 365 | C16: =(B16-B$2)/B$2 -> 3.3452381 | D16: =LN(B16/B$2) -> 1.4690806 | E16: =E15*B15/B16 -> 1.0862466 | F16: =A16*9.81/1000 -> 17.658 | G16: =F16/E$2 -> 3.7411017 | H16: =F16/E16 -> 16.255978 | I16: =((F16+F15)/2)*(B16-B15)*10^-3 -> 0.3389355
A17: =A16+118 -> 1918 | B17: 373 | C17: =(B17-B$2)/B$2 -> 3.4404762 | D17: =LN(B17/B$2) -> 1.4907616 | E17: =E16*B16/B17 -> 1.0629491 | F17: =A17*9.81/1000 -> 18.81558 | G17: =F17/E$2 -> 3.9863517 | H17: =F17/E17 -> 17.7013 | I17: =((F17+F16)/2)*(B17-B16)*10^-3 -> 0.14589432
A18: =A17+130 -> 2048 | B18: 381 | C18: =(B18-B$2)/B$2 -> 3.5357143 | D18: =LN(B18/B$2) -> 1.5119826 | E18: =E17*B17/B18 -> 1.0406299 | F18: =A18*9.81/1000 -> 20.09088 | G18: =F18/E$2 -> 4.2565424 | H18: =F18/E18 -> 19.30646 | I18: =((F18+F17)/2)*(B18-B17)*10^-3 -> 0.15562584
A19: =A18+111 -> 2159 | B19: 393 | C19: =(B19-B$2)/B$2 -> 3.6785714 | D19: =LN(B19/B$2) -> 1.5429928 | E19: =E18*B18/B19 -> 1.008855 | F19: =A19*9.81/1000 -> 21.17979 | G19: =F19/E$2 -> 4.4872436 | H19: =F19/E19 -> 20.99389 | I19: =((F19+F18)/2)*(B19-B18)*10^-3 -> 0.24762402
A20: =A19+120 -> 2279 | B20: 403 | C20: =(B20-B$2)/B$2 -> 3.797619 | D20: =LN(B20/B$2) -> 1.5681198 | E20: =E19*B19/B20 -> 0.98382134 | F20: =A20*9.81/1000 -> 22.35699 | G20: =F20/E$2 -> 4.7366504 | H20: =F20/E20 -> 22.724644 | I20: =((F20+F19)/2)*(B20-B19)*10^-3 -> 0.2176839
A21: =A20+122 -> 2401 | B21: 414 | C21: =(B21-B$2)/B$2 -> 3.9285714 | D21: =LN(B21/B$2) -> 1.5950492 | E21: =E20*B20/B21 -> 0.95768116 | F21: =A21*9.81/1000 -> 23.55381 | G21: =F21/E$2 -> 4.990214 | H21: =F21/E21 -> 24.594626 | I21: =((F21+F20)/2)*(B21-B20)*10^-3 -> 0.2525094
A22: =A21+111 -> 2512 | B22: 420 | C22: =(B22-B$2)/B$2 -> 4 | D22: =LN(B22/B$2) -> 1.6094379 | E22: =E21*B21/B22 -> 0.944 | F22: =A22*9.81/1000 -> 24.64272 | G22: =F22/E$2 -> 5.2209153 | H22: =F22/E22 -> 26.104576 | I22: =((F22+F21)/2)*(B22-B21)*10^-3 -> 0.14458959
A23: =A22+111 -> 2623 | B23: 426 | C23: =(B23-B$2)/B$2 -> 4.0714286 | D23: =LN(B23/B$2) -> 1.6236225 | E23: =E22*B22/B23 -> 0.93070423 | F23: =A23*9.81/1000 -> 25.73163 | G23: =F23/E$2 -> 5.4516165 | H23: =F23/E23 -> 27.647484 | I23: =((F23+F22)/2)*(B23-B22)*10^-3 -> 0.15112305
A24: =A23+229 -> 2852 | B24: 443 | C24: =(B24-B$2)/B$2 -> 4.2738095 | D24: =LN(B24/B$2) -> 1.662753 | E24: =E23*B23/B24 -> 0.89498871 | F24: =A24*9.81/1000 -> 27.97812 | G24: =F24/E$2 -> 5.9275678 | H24: =F24/E24 -> 31.260863 | I24: =((F24+F23)/2)*(B24-B23)*10^-3 -> 0.45653288
A25: =A24+173 -> 3025 | B25: 452 | C25: =(B25-B$2)/B$2 -> 4.3809524 | D25: =LN(B25/B$2) -> 1.6828654 | E25: =E24*B24/B25 -> 0.87716814 | F25: =A25*9.81/1000 -> 29.67525 | G25: =F25/E$2 -> 6.2871292 | H25: =F25/E25 -> 33.830743 | I25: =((F25+F24)/2)*(B25-B24)*10^-3 -> 0.25944017
A26: =A25+216 -> 3241 | B26: 462 | C26: =(B26-B$2)/B$2 -> 4.5 | D26: =LN(B26/B$2) -> 1.7047481 | E26: =E25*B25/B26 -> 0.85818182 | F26: =A26*9.81/1000 -> 31.79421 | G26: =F26/E$2 -> 6.7360614 | H26: =F26/E26 -> 37.048338 | I26: =((F26+F25)/2)*(B26-B25)*10^-3 -> 0.3073473
A27: =A26+216 -> 3457 | B27: Failure
E30: Section | F30: 1.68 | H30: Total energy | I30: =SUM(I3:I26) -> 4.9684216
F31: 1.37 | H31: Total volume | I31: =F33*B2 -> 386.6688
E32: Area | F32: =F31*F30 -> 2.3016 | H32: Toughness | I32: =(I30/I31*10^3) *10^6 -> 12849295
E33: Total cross section | F33: =F32*2 -> 4.6032

Sheet Averages
A1: weight (g) | B1: engineering strain | C1: engineering strain std dev | D1: engineering strain + std dev | E1: True strain | F1: cross sectional area | G1: Force (N) | H1: engineering stress | I1: engineering stress std dev | J1: engineering stress + std dev | K1: true stress | L1: energy
A2: 0 | B2: =AVERAGE('Experiment 1'!C2,'Experiment 2'!C2,'Experiment 3'!C2) -> 0 | C2: =_xlfn.STDEV.P('Experiment 1'!C2,'Experiment 2'!C2,'Experiment 3'!C2) -> 0 | D2: =B2+C2 -> 0 | E2: =AVERAGE('Experiment 1'!D2,'Experiment 2'!D2,'Experiment 3'!D2) -> 0 | F2: =AVERAGE('Experiment 1'!E2,'Experiment 2'!E2,'Experiment 3'!E2) -> 4.72 | G2: =AVERAGE('Experiment 1'!F2,'Experiment 2'!F2,'Experiment 3'!F2) -> 0 | H2: =AVERAGE('Experiment 1'!G2,'Experiment 2'!G2,'Experiment 3'!G2) -> 0 | I2: =_xlfn.STDEV.P('Experiment 1'!G2,'Experiment 2'!G2,'Experiment 3'!G2) -> 0 | J2: =H2+I2 -> 0 | K2: =AVERAGE('Experiment 1'!H2,'Experiment 2'!H2,'Experiment 3'!H2) -> 0 | L2: =AVERAGE('Experiment 1'!I2,'Experiment 2'!I2,'Experiment 3'!I2) -> #DIV/0!
A3: 219 | B3: =AVERAGE('Experiment 1'!C3,'Experiment 2'!C3,'Experiment 3'!C3) -> 0.29761905 | C3: =_xlfn.STDEV.P('Experiment 1'!C3,'Experiment 2'!C3,'Experiment 3'!C3) -> 0.033671751 | D3: =B3+C3 -> 0.3312908 | E3: =AVERAGE('Experiment 1'!D3,'Experiment 2'!D3,'Experiment 3'!D3) -> 0.26019012 | F3: =AVERAGE('Experiment 1'!E3,'Experiment 2'!E3,'Experiment 3'!E3) -> 3.6399279 | G3: =AVERAGE('Experiment 1'!F3,'Experiment 2'!F3,'Experiment 3'!F3) -> 2.14839 | H3: =AVERAGE('Experiment 1'!G3,'Experiment 2'!G3,'Experiment 3'!G3) -> 0.45516737 | I3: =_xlfn.STDEV.P('Experiment 1'!G3,'Experiment 2'!G3,'Experiment 3'!G3) -> 0 | J3: =H3+I3 -> 0.45516737 | K3: =AVERAGE('Experiment 1'!H3,'Experiment 2'!H3,'Experiment 3'!H3) -> 0.59063385 | L3: =AVERAGE('Experiment 1'!I3,'Experiment 2'!I3,'Experiment 3'!I3) -> 0.026854875
A4: =A3+122 -> 341 | B4: =AVERAGE('Experiment 1'!C4,'Experiment 2'!C4,'Experiment 3'!C4) -> 0.3968254 | C4: =_xlfn.STDEV.P('Experiment 1'!C4,'Experiment 2'!C4,'Experiment 3'!C4) -> 0.053534673 | D4: =B4+C4 -> 0.45036007 | E4: =AVERAGE('Experiment 1'!D4,'Experiment 2'!D4,'Experiment 3'!D4) -> 0.33345403 | F4: =AVERAGE('Experiment 1'!E4,'Experiment 2'!E4,'Experiment 3'!E4) -> 3.3841954 | G4: =AVERAGE('Experiment 1'!F4,'Experiment 2'!F4,'Experiment 3'!F4) -> 3.34521 | H4: =AVERAGE('Experiment 1'!G4,'Experiment 2'!G4,'Experiment 3'!G4) -> 0.70873093 | I4: =_xlfn.STDEV.P('Experiment 1'!G4,'Experiment 2'!G4,'Experiment 3'!G4) -> 1.110223e-16 | J4: =H4+I4 -> 0.70873093 | K4: =AVERAGE('Experiment 1'!H4,'Experiment 2'!H4,'Experiment 3'!H4) -> 0.98997337 | L4: =AVERAGE('Experiment 1'!I4,'Experiment 2'!I4,'Experiment 3'!I4) -> 0.02289
A5: =A4+122 -> 463 | B5: =AVERAGE('Experiment 1'!C5,'Experiment 2'!C5,'Experiment 3'!C5) -> 0.5952381 | C5: =_xlfn.STDEV.P('Experiment 1'!C5,'Experiment 2'!C5,'Experiment 3'!C5) -> 0.016835876 | D5: =B5+C5 -> 0.61207397 | E5: =AVERAGE('Experiment 1'!D5,'Experiment 2'!D5,'Experiment 3'!D5) -> 0.46696703 | F5: =AVERAGE('Experiment 1'!E5,'Experiment 2'!E5,'Experiment 3'!E5) -> 2.959138 | G5: =AVERAGE('Experiment 1'!F5,'Experiment 2'!F5,'Experiment 3'!F5) -> 4.54203 | H5: =AVERAGE('Experiment 1'!G5,'Experiment 2'!G5,'Experiment 3'!G5) -> 0.96229449 | I5: =_xlfn.STDEV.P('Experiment 1'!G5,'Experiment 2'!G5,'Experiment 3'!G5) -> 0 | J5: =H5+I5 -> 0.96229449 | K5: =AVERAGE('Experiment 1'!H5,'Experiment 2'!H5,'Experiment 3'!H5) -> 1.5350888 | L5: =AVERAGE('Experiment 1'!I5,'Experiment 2'!I5,'Experiment 3'!I5) -> 0.065727
A6: =A5+121 -> 584 | B6: =AVERAGE('Experiment 1'!C6,'Experiment 2'!C6,'Experiment 3'!C6) -> 0.77777778 | C6: =_xlfn.STDEV.P('Experiment 1'!C6,'Experiment 2'!C6,'Experiment 3'!C6) -> 0.029695694 | D6: =B6+C6 -> 0.80747347 | E6: =AVERAGE('Experiment 1'!D6,'Experiment 2'!D6,'Experiment 3'!D6) -> 0.57522401 | F6: =AVERAGE('Experiment 1'!E6,'Experiment 2'!E6,'Experiment 3'!E6) -> 2.6557458 | G6: =AVERAGE('Experiment 1'!F6,'Experiment 2'!F6,'Experiment 3'!F6) -> 5.72904 | H6: =AVERAGE('Experiment 1'!G6,'Experiment 2'!G6,'Experiment 3'!G6) -> 1.2137797 | I6: =_xlfn.STDEV.P('Experiment 1'!G6,'Experiment 2'!G6,'Experiment 3'!G6) -> 0 | J6: =H6+I6 -> 1.2137797 | K6: =AVERAGE('Experiment 1'!H6,'Experiment 2'!H6,'Experiment 3'!H6) -> 2.1578305 | L6: =AVERAGE('Experiment 1'!I6,'Experiment 2'!I6,'Experiment 3'!I6) -> 0.07874487
A7: =A6+111 -> 695 | B7: =AVERAGE('Experiment 1'!C7,'Experiment 2'!C7,'Experiment 3'!C7) -> 0.95238095 | C7: =_xlfn.STDEV.P('Experiment 1'!C7,'Experiment 2'!C7,'Experiment 3'!C7) -> 0.03888079 | D7: =B7+C7 -> 0.99126174 | E7: =AVERAGE('Experiment 1'!D7,'Experiment 2'!D7,'Experiment 3'!D7) -> 0.66885128 | F7: =AVERAGE('Experiment 1'!E7,'Experiment 2'!E7,'Experiment 3'!E7) -> 2.4185203 | G7: =AVERAGE('Experiment 1'!F7,'Experiment 2'!F7,'Experiment 3'!F7) -> 6.81795 | H7: =AVERAGE('Experiment 1'!G7,'Experiment 2'!G7,'Experiment 3'!G7) -> 1.4444809 | I7: =_xlfn.STDEV.P('Experiment 1'!G7,'Experiment 2'!G7,'Experiment 3'!G7) -> 2.220446e-16 | J7: =H7+I7 -> 1.4444809 | K7: =AVERAGE('Experiment 1'!H7,'Experiment 2'!H7,'Experiment 3'!H7) -> 2.8201771 | L7: =AVERAGE('Experiment 1'!I7,'Experiment 2'!I7,'Experiment 3'!I7) -> 0.09201126
A8: =A7+122 -> 817 | B8: =AVERAGE('Experiment 1'!C8,'Experiment 2'!C8,'Experiment 3'!C8) -> 1.1746032 | C8: =_xlfn.STDEV.P('Experiment 1'!C8,'Experiment 2'!C8,'Experiment 3'!C8) -> 0.0056119586 | D8: =B8+C8 -> 1.1802151 | E8: =AVERAGE('Experiment 1'!D8,'Experiment 2'!D8,'Experiment 3'!D8) -> 0.77684287 | F8: =AVERAGE('Experiment 1'!E8,'Experiment 2'!E8,'Experiment 3'!E8) -> 2.1705254 | G8: =AVERAGE('Experiment 1'!F8,'Experiment 2'!F8,'Experiment 3'!F8) -> 8.01477 | H8: =AVERAGE('Experiment 1'!G8,'Experiment 2'!G8,'Experiment 3'!G8) -> 1.6980445 | I8: =_xlfn.STDEV.P('Experiment 1'!G8,'Experiment 2'!G8,'Experiment 3'!G8) -> 2.220446e-16 | J8: =H8+I8 -> 1.6980445 | K8: =AVERAGE('Experiment 1'!H8,'Experiment 2'!H8,'Experiment 3'!H8) -> 3.6925729 | L8: =AVERAGE('Experiment 1'!I8,'Experiment 2'!I8,'Experiment 3'!I8) -> 0.13843872
A9: =A8+122 -> 939 | B9: =AVERAGE('Experiment 1'!C9,'Experiment 2'!C9,'Experiment 3'!C9) -> 1.547619 | C9: =_xlfn.STDEV.P('Experiment 1'!C9,'Experiment 2'!C9,'Experiment 3'!C9) -> 0.03504667 | D9: =B9+C9 -> 1.5826657 | E9: =AVERAGE('Experiment 1'!D9,'Experiment 2'!D9,'Experiment 3'!D9) -> 0.93506417 | F9: =AVERAGE('Experiment 1'!E9,'Experiment 2'!E9,'Experiment 3'!E9) -> 1.8530633 | G9: =AVERAGE('Experiment 1'!F9,'Experiment 2'!F9,'Experiment 3'!F9) -> 9.21159 | H9: =AVERAGE('Experiment 1'!G9,'Experiment 2'!G9,'Experiment 3'!G9) -> 1.9516081 | I9: =_xlfn.STDEV.P('Experiment 1'!G9,'Experiment 2'!G9,'Experiment 3'!G9) -> 2.220446e-16 | J9: =H9+I9 -> 1.9516081 | K9: =AVERAGE('Experiment 1'!H9,'Experiment 2'!H9,'Experiment 3'!H9) -> 4.9719538 | L9: =AVERAGE('Experiment 1'!I9,'Experiment 2'!I9,'Experiment 3'!I9) -> 0.26987964
A10: =A9+122 -> 1061 | B10: =AVERAGE('Experiment 1'!C10,'Experiment 2'!C10,'Experiment 3'!C10) -> 1.8730159 | C10: =_xlfn.STDEV.P('Experiment 1'!C10,'Experiment 2'!C10,'Experiment 3'!C10) -> 0.03928371 | D10: =B10+C10 -> 1.9122996 | E10: =AVERAGE('Experiment 1'!D10,'Experiment 2'!D10,'Experiment 3'!D10) -> 1.0552686 | F10: =AVERAGE('Experiment 1'!E10,'Experiment 2'!E10,'Experiment 3'!E10) -> 1.6431814 | G10: =AVERAGE('Experiment 1'!F10,'Experiment 2'!F10,'Experiment 3'!F10) -> 10.40841 | H10: =AVERAGE('Experiment 1'!G10,'Experiment 2'!G10,'Experiment 3'!G10) -> 2.2051716 | I10: =_xlfn.STDEV.P('Experiment 1'!G10,'Experiment 2'!G10,'Experiment 3'!G10) -> 0 | J10: =H10+I10 -> 2.2051716 | K10: =AVERAGE('Experiment 1'!H10,'Experiment 2'!H10,'Experiment 3'!H10) -> 6.335493 | L10: =AVERAGE('Experiment 1'!I10,'Experiment 2'!I10,'Experiment 3'!I10) -> 0.26814
A11: =A10+109 -> 1170 | B11: =AVERAGE('Experiment 1'!C11,'Experiment 2'!C11,'Experiment 3'!C11) -> 2.1071429 | C11: =_xlfn.STDEV.P('Experiment 1'!C11,'Experiment 2'!C11,'Experiment 3'!C11) -> 0.029160592 | D11: =B11+C11 -> 2.1363034 | E11: =AVERAGE('Experiment 1'!D11,'Experiment 2'!D11,'Experiment 3'!D11) -> 1.1336596 | F11: =AVERAGE('Experiment 1'!E11,'Experiment 2'!E11,'Experiment 3'!E11) -> 1.5192143 | G11: =AVERAGE('Experiment 1'!F11,'Experiment 2'!F11,'Experiment 3'!F11) -> 11.4777 | H11: =AVERAGE('Experiment 1'!G11,'Experiment 2'!G11,'Experiment 3'!G11) -> 2.4317161 | I11: =_xlfn.STDEV.P('Experiment 1'!G11,'Experiment 2'!G11,'Experiment 3'!G11) -> 0 | J11: =H11+I11 -> 2.4317161 | K11: =AVERAGE('Experiment 1'!H11,'Experiment 2'!H11,'Experiment 3'!H11) -> 7.5556893 | L11: =AVERAGE('Experiment 1'!I11,'Experiment 2'!I11,'Experiment 3'!I11) -> 0.21521342
A12: =A11+123 -> 1293 | B12: =AVERAGE('Experiment 1'!C12,'Experiment 2'!C12,'Experiment 3'!C12) -> 2.547619 | C12: =_xlfn.STDEV.P('Experiment 1'!C12,'Experiment 2'!C12,'Experiment 3'!C12) -> 0.025717225 | D12: =B12+C12 -> 2.5733363 | E12: =AVERAGE('Experiment 1'!D12,'Experiment 2'!D12,'Experiment 3'!D12) -> 1.2662505 | F12: =AVERAGE('Experiment 1'!E12,'Experiment 2'!E12,'Experiment 3'!E12) -> 1.3305394 | G12: =AVERAGE('Experiment 1'!F12,'Experiment 2'!F12,'Experiment 3'!F12) -> 12.68433 | H12: =AVERAGE('Experiment 1'!G12,'Experiment 2'!G12,'Experiment 3'!G12) -> 2.6873581 | I12: =_xlfn.STDEV.P('Experiment 1'!G12,'Experiment 2'!G12,'Experiment 3'!G12) -> 0 | J12: =H12+I12 -> 2.6873581 | K12: =AVERAGE('Experiment 1'!H12,'Experiment 2'!H12,'Experiment 3'!H12) -> 9.5337226 | L12: =AVERAGE('Experiment 1'!I12,'Experiment 2'!I12,'Experiment 3'!I12) -> 0.44699755
A13: =A12+121 -> 1414 | B13: =AVERAGE('Experiment 1'!C13,'Experiment 2'!C13,'Experiment 3'!C13) -> 2.718254 | C13: =_xlfn.STDEV.P('Experiment 1'!C13,'Experiment 2'!C13,'Experiment 3'!C13) -> 0.048923921 | D13: =B13+C13 -> 2.7671779 | E13: =AVERAGE('Experiment 1'!D13,'Experiment 2'!D13,'Experiment 3'!D13) -> 1.3131674 | F13: =AVERAGE('Experiment 1'!E13,'Experiment 2'!E13,'Experiment 3'!E13) -> 1.2696335 | G13: =AVERAGE('Experiment 1'!F13,'Experiment 2'!F13,'Experiment 3'!F13) -> 13.87134 | H13: =AVERAGE('Experiment 1'!G13,'Experiment 2'!G13,'Experiment 3'!G13) -> 2.9388432 | I13: =_xlfn.STDEV.P('Experiment 1'!G13,'Experiment 2'!G13,'Experiment 3'!G13) -> 0 | J13: =H13+I13 -> 2.9388432 | K13: =AVERAGE('Experiment 1'!H13,'Experiment 2'!H13,'Experiment 3'!H13) -> 10.927365 | L13: =AVERAGE('Experiment 1'!I13,'Experiment 2'!I13,'Experiment 3'!I13) -> 0.19031564
A14: =A13+118 -> 1532 | B14: =AVERAGE('Experiment 1'!C14,'Experiment 2'!C14,'Experiment 3'!C14) -> 2.9206349 | C14: =_xlfn.STDEV.P('Experiment 1'!C14,'Experiment 2'!C14,'Experiment 3'!C14) -> 0.040468409 | D14: =B14+C14 -> 2.9611033 | E14: =AVERAGE('Experiment 1'!D14,'Experiment 2'!D14,'Experiment 3'!D14) -> 1.3662005 | F14: =AVERAGE('Experiment 1'!E14,'Experiment 2'!E14,'Experiment 3'!E14) -> 1.2040142 | G14: =AVERAGE('Experiment 1'!F14,'Experiment 2'!F14,'Experiment 3'!F14) -> 15.02892 | H14: =AVERAGE('Experiment 1'!G14,'Experiment 2'!G14,'Experiment 3'!G14) -> 3.1840932 | I14: =_xlfn.STDEV.P('Experiment 1'!G14,'Experiment 2'!G14,'Experiment 3'!G14) -> 0 | J14: =H14+I14 -> 3.1840932 | K14: =AVERAGE('Experiment 1'!H14,'Experiment 2'!H14,'Experiment 3'!H14) -> 12.483667 | L14: =AVERAGE('Experiment 1'!I14,'Experiment 2'!I14,'Experiment 3'!I14) -> 0.24565221
A15: =A14+123 -> 1655 | B15: =AVERAGE('Experiment 1'!C15,'Experiment 2'!C15,'Experiment 3'!C15) -> 3.1111111 | C15: =_xlfn.STDEV.P('Experiment 1'!C15,'Experiment 2'!C15,'Experiment 3'!C15) -> 0.063243561 | D15: =B15+C15 -> 3.1743547 | E15: =AVERAGE('Experiment 1'!D15,'Experiment 2'!D15,'Experiment 3'!D15) -> 1.4135751 | F15: =AVERAGE('Experiment 1'!E15,'Experiment 2'!E15,'Experiment 3'!E15) -> 1.1483795 | G15: =AVERAGE('Experiment 1'!F15,'Experiment 2'!F15,'Experiment 3'!F15) -> 16.23555 | H15: =AVERAGE('Experiment 1'!G15,'Experiment 2'!G15,'Experiment 3'!G15) -> 3.4397352 | I15: =_xlfn.STDEV.P('Experiment 1'!G15,'Experiment 2'!G15,'Experiment 3'!G15) -> 0 | J15: =H15+I15 -> 3.4397352 | K15: =AVERAGE('Experiment 1'!H15,'Experiment 2'!H15,'Experiment 3'!H15) -> 14.141133 | L15: =AVERAGE('Experiment 1'!I15,'Experiment 2'!I15,'Experiment 3'!I15) -> 0.25011576
A16: =A15+145 -> 1800 | B16: =AVERAGE('Experiment 1'!C16,'Experiment 2'!C16,'Experiment 3'!C16) -> 3.3134921 | C16: =_xlfn.STDEV.P('Experiment 1'!C16,'Experiment 2'!C16,'Experiment 3'!C16) -> 0.02446196 | D16: =B16+C16 -> 3.337954 | E16: =AVERAGE('Experiment 1'!D16,'Experiment 2'!D16,'Experiment 3'!D16) -> 1.4617317 | F16: =AVERAGE('Experiment 1'!E16,'Experiment 2'!E16,'Experiment 3'!E16) -> 1.0942762 | G16: =AVERAGE('Experiment 1'!F16,'Experiment 2'!F16,'Experiment 3'!F16) -> 17.658 | H16: =AVERAGE('Experiment 1'!G16,'Experiment 2'!G16,'Experiment 3'!G16) -> 3.7411017 | I16: =_xlfn.STDEV.P('Experiment 1'!G16,'Experiment 2'!G16,'Experiment 3'!G16) -> 0 | J16: =H16+I16 -> 3.7411017 | K16: =AVERAGE('Experiment 1'!H16,'Experiment 2'!H16,'Experiment 3'!H16) -> 16.137212 | L16: =AVERAGE('Experiment 1'!I16,'Experiment 2'!I16,'Experiment 3'!I16) -> 0.28809518
A17: =A16+118 -> 1918 | B17: =AVERAGE('Experiment 1'!C17,'Experiment 2'!C17,'Experiment 3'!C17) -> 3.4484127 | C17: =_xlfn.STDEV.P('Experiment 1'!C17,'Experiment 2'!C17,'Experiment 3'!C17) -> 0.011223917 | D17: =B17+C17 -> 3.4596366 | E17: =AVERAGE('Experiment 1'!D17,'Experiment 2'!D17,'Experiment 3'!D17) -> 1.4925442 | F17: =AVERAGE('Experiment 1'!E17,'Experiment 2'!E17,'Experiment 3'!E17) -> 1.0610594 | G17: =AVERAGE('Experiment 1'!F17,'Experiment 2'!F17,'Experiment 3'!F17) -> 18.81558 | H17: =AVERAGE('Experiment 1'!G17,'Experiment 2'!G17,'Experiment 3'!G17) -> 3.9863517 | I17: =_xlfn.STDEV.P('Experiment 1'!G17,'Experiment 2'!G17,'Experiment 3'!G17) -> 0 | J17: =H17+I17 -> 3.9863517 | K17: =AVERAGE('Experiment 1'!H17,'Experiment 2'!H17,'Experiment 3'!H17) -> 17.732938 | L17: =AVERAGE('Experiment 1'!I17,'Experiment 2'!I17,'Experiment 3'!I17) -> 0.20668362
A18: =A17+130 -> 2048 | B18: =AVERAGE('Experiment 1'!C18,'Experiment 2'!C18,'Experiment 3'!C18) -> 3.5436508 | C18: =_xlfn.STDEV.P('Experiment 1'!C18,'Experiment 2'!C18,'Experiment 3'!C18) -> 0.0056119586 | D18: =B18+C18 -> 3.5492628 | E18: =AVERAGE('Experiment 1'!D18,'Experiment 2'!D18,'Experiment 3'!D18) -> 1.5137301 | F18: =AVERAGE('Experiment 1'!E18,'Experiment 2'!E18,'Experiment 3'!E18) -> 1.0388138 | G18: =AVERAGE('Experiment 1'!F18,'Experiment 2'!F18,'Experiment 3'!F18) -> 20.09088 | H18: =AVERAGE('Experiment 1'!G18,'Experiment 2'!G18,'Experiment 3'!G18) -> 4.2565424 | I18: =_xlfn.STDEV.P('Experiment 1'!G18,'Experiment 2'!G18,'Experiment 3'!G18) -> 0 | J18: =H18+I18 -> 4.2565424 | K18: =AVERAGE('Experiment 1'!H18,'Experiment 2'!H18,'Experiment 3'!H18) -> 19.340242 | L18: =AVERAGE('Experiment 1'!I18,'Experiment 2'!I18,'Experiment 3'!I18) -> 0.15562584
A19: =A18+111 -> 2159 | B19: =AVERAGE('Experiment 1'!C19,'Experiment 2'!C19,'Experiment 3'!C19) -> 3.6904762 | C19: =_xlfn.STDEV.P('Experiment 1'!C19,'Experiment 2'!C19,'Experiment 3'!C19) -> 0.0097201974 | D19: =B19+C19 -> 3.7001964 | E19: =AVERAGE('Experiment 1'!D19,'Experiment 2'!D19,'Experiment 3'!D19) -> 1.545532 | F19: =AVERAGE('Experiment 1'!E19,'Experiment 2'!E19,'Experiment 3'!E19) -> 1.0062987 | G19: =AVERAGE('Experiment 1'!F19,'Experiment 2'!F19,'Experiment 3'!F19) -> 21.17979 | H19: =AVERAGE('Experiment 1'!G19,'Experiment 2'!G19,'Experiment 3'!G19) -> 4.4872436 | I19: =_xlfn.STDEV.P('Experiment 1'!G19,'Experiment 2'!G19,'Experiment 3'!G19) -> 0 | J19: =H19+I19 -> 4.4872436 | K19: =AVERAGE('Experiment 1'!H19,'Experiment 2'!H19,'Experiment 3'!H19) -> 21.047309 | L19: =AVERAGE('Experiment 1'!I19,'Experiment 2'!I19,'Experiment 3'!I19) -> 0.25450247
A20: =A19+120 -> 2279 | B20: =AVERAGE('Experiment 1'!C20,'Experiment 2'!C20,'Experiment 3'!C20) -> 3.7936508 | C20: =_xlfn.STDEV.P('Experiment 1'!C20,'Experiment 2'!C20,'Experiment 3'!C20) -> 0.0056119586 | D20: =B20+C20 -> 3.7992628 | E20: =AVERAGE('Experiment 1'!D20,'Experiment 2'!D20,'Experiment 3'!D20) -> 1.5672916 | F20: =AVERAGE('Experiment 1'!E20,'Experiment 2'!E20,'Experiment 3'!E20) -> 0.98463711 | G20: =AVERAGE('Experiment 1'!F20,'Experiment 2'!F20,'Experiment 3'!F20) -> 22.35699 | H20: =AVERAGE('Experiment 1'!G20,'Experiment 2'!G20,'Experiment 3'!G20) -> 4.7366504 | I20: =_xlfn.STDEV.P('Experiment 1'!G20,'Experiment 2'!G20,'Experiment 3'!G20) -> 0 | J20: =H20+I20 -> 4.7366504 | K20: =AVERAGE('Experiment 1'!H20,'Experiment 2'!H20,'Experiment 3'!H20) -> 22.705848 | L20: =AVERAGE('Experiment 1'!I20,'Experiment 2'!I20,'Experiment 3'!I20) -> 0.18865938
A21: =A20+122 -> 2401 | B21: =AVERAGE('Experiment 1'!C21,'Experiment 2'!C21,'Experiment 3'!C21) -> 3.9246032 | C21: =_xlfn.STDEV.P('Experiment 1'!C21,'Experiment 2'!C21,'Experiment 3'!C21) -> 0.014847847 | D21: =B21+C21 -> 3.939451 | E21: =AVERAGE('Experiment 1'!D21,'Experiment 2'!D21,'Experiment 3'!D21) -> 1.5942391 | F21: =AVERAGE('Experiment 1'!E21,'Experiment 2'!E21,'Experiment 3'!E21) -> 0.95846158 | G21: =AVERAGE('Experiment 1'!F21,'Experiment 2'!F21,'Experiment 3'!F21) -> 23.55381 | H21: =AVERAGE('Experiment 1'!G21,'Experiment 2'!G21,'Experiment 3'!G21) -> 4.990214 | I21: =_xlfn.STDEV.P('Experiment 1'!G21,'Experiment 2'!G21,'Experiment 3'!G21) -> 0 | J21: =H21+I21 -> 4.990214 | K21: =AVERAGE('Experiment 1'!H21,'Experiment 2'!H21,'Experiment 3'!H21) -> 24.574824 | L21: =AVERAGE('Experiment 1'!I21,'Experiment 2'!I21,'Experiment 3'!I21) -> 0.2525094
A22: =A21+111 -> 2512 | B22: =AVERAGE('Experiment 1'!C22,'Experiment 2'!C22,'Experiment 3'!C22) -> 4.0436508 | C22: =_xlfn.STDEV.P('Experiment 1'!C22,'Experiment 2'!C22,'Experiment 3'!C22) -> 0.031246063 | D22: =B22+C22 -> 4.0748969 | E22: =AVERAGE('Experiment 1'!D22,'Experiment 2'!D22,'Experiment 3'!D22) -> 1.6181109 | F22: =AVERAGE('Experiment 1'!E22,'Experiment 2'!E22,'Experiment 3'!E22) -> 0.93586611 | G22: =AVERAGE('Experiment 1'!F22,'Experiment 2'!F22,'Experiment 3'!F22) -> 24.64272 | H22: =AVERAGE('Experiment 1'!G22,'Experiment 2'!G22,'Experiment 3'!G22) -> 5.2209153 | I22: =_xlfn.STDEV.P('Experiment 1'!G22,'Experiment 2'!G22,'Experiment 3'!G22) -> 0 | J22: =H22+I22 -> 5.2209153 | K22: =AVERAGE('Experiment 1'!H22,'Experiment 2'!H22,'Experiment 3'!H22) -> 26.332473 | L22: =AVERAGE('Experiment 1'!I22,'Experiment 2'!I22,'Experiment 3'!I22) -> 0.24098265
A23: =A22+111 -> 2623 | B23: =AVERAGE('Experiment 1'!C23,'Experiment 2'!C23,'Experiment 3'!C23) -> 4.1111111 | C23: =_xlfn.STDEV.P('Experiment 1'!C23,'Experiment 2'!C23,'Experiment 3'!C23) -> 0.029695694 | D23: =B23+C23 -> 4.1408068 | E23: =AVERAGE('Experiment 1'!D23,'Experiment 2'!D23,'Experiment 3'!D23) -> 1.6313999 | F23: =AVERAGE('Experiment 1'!E23,'Experiment 2'!E23,'Experiment 3'!E23) -> 0.9235095 | G23: =AVERAGE('Experiment 1'!F23,'Experiment 2'!F23,'Experiment 3'!F23) -> 25.73163 | H23: =AVERAGE('Experiment 1'!G23,'Experiment 2'!G23,'Experiment 3'!G23) -> 5.4516165 | I23: =_xlfn.STDEV.P('Experiment 1'!G23,'Experiment 2'!G23,'Experiment 3'!G23) -> 0 | J23: =H23+I23 -> 5.4516165 | K23: =AVERAGE('Experiment 1'!H23,'Experiment 2'!H23,'Experiment 3'!H23) -> 27.863818 | L23: =AVERAGE('Experiment 1'!I23,'Experiment 2'!I23,'Experiment 3'!I23) -> 0.14272733
A24: =A23+229 -> 2852 | B24: =AVERAGE('Experiment 1'!C24,'Experiment 2'!C24,'Experiment 3'!C24) -> 4.2698413 | C24: =_xlfn.STDEV.P('Experiment 1'!C24,'Experiment 2'!C24,'Experiment 3'!C24) -> 0.0056119586 | D24: =B24+C24 -> 4.2754532 | E24: =AVERAGE('Experiment 1'!D24,'Experiment 2'!D24,'Experiment 3'!D24) -> 1.6619997 | F24: =AVERAGE('Experiment 1'!E24,'Experiment 2'!E24,'Experiment 3'!E24) -> 0.89566367 | G24: =AVERAGE('Experiment 1'!F24,'Experiment 2'!F24,'Experiment 3'!F24) -> 27.97812 | H24: =AVERAGE('Experiment 1'!G24,'Experiment 2'!G24,'Experiment 3'!G24) -> 5.9275678 | I24: =_xlfn.STDEV.P('Experiment 1'!G24,'Experiment 2'!G24,'Experiment 3'!G24) -> 0 | J24: =H24+I24 -> 5.9275678 | K24: =AVERAGE('Experiment 1'!H24,'Experiment 2'!H24,'Experiment 3'!H24) -> 31.237341 | L24: =AVERAGE('Experiment 1'!I24,'Experiment 2'!I24,'Experiment 3'!I24) -> 0.358065
A25: =A24+173 -> 3025 | B25: =AVERAGE('Experiment 1'!C25,'Experiment 2'!C25,'Experiment 3'!C25) -> 4.3968254 | C25: =_xlfn.STDEV.P('Experiment 1'!C25,'Experiment 2'!C25,'Experiment 3'!C25) -> 0.031246063 | D25: =B25+C25 -> 4.4280715 | E25: =AVERAGE('Experiment 1'!D25,'Experiment 2'!D25,'Experiment 3'!D25) -> 1.6857942 | F25: =AVERAGE('Experiment 1'!E25,'Experiment 2'!E25,'Experiment 3'!E25) -> 0.87461745 | G25: =AVERAGE('Experiment 1'!F25,'Experiment 2'!F25,'Experiment 3'!F25) -> 29.67525 | H25: =AVERAGE('Experiment 1'!G25,'Experiment 2'!G25,'Experiment 3'!G25) -> 6.2871292 | I25: =_xlfn.STDEV.P('Experiment 1'!G25,'Experiment 2'!G25,'Experiment 3'!G25) -> 8.8817842e-16 | J25: =H25+I25 -> 6.2871292 | K25: =AVERAGE('Experiment 1'!H25,'Experiment 2'!H25,'Experiment 3'!H25) -> 33.930539 | L25: =AVERAGE('Experiment 1'!I25,'Experiment 2'!I25,'Experiment 3'!I25) -> 0.30748464
A26: =A25+216 -> 3241 | B26: =AVERAGE('Experiment 1'!C26,'Experiment 2'!C26,'Experiment 3'!C26) -> 4.4960317 | C26: =_xlfn.STDEV.P('Experiment 1'!C26,'Experiment 2'!C26,'Experiment 3'!C26) -> 0.014847847 | D26: =B26+C26 -> 4.5108796 | E26: =AVERAGE('Experiment 1'!D26,'Experiment 2'!D26,'Experiment 3'!D26) -> 1.7040227 | F26: =AVERAGE('Experiment 1'!E26,'Experiment 2'!E26,'Experiment 3'!E26) -> 0.85880772 | G26: =AVERAGE('Experiment 1'!F26,'Experiment 2'!F26,'Experiment 3'!F26) -> 31.79421 | H26: =AVERAGE('Experiment 1'!G26,'Experiment 2'!G26,'Experiment 3'!G26) -> 6.7360614 | I26: =_xlfn.STDEV.P('Experiment 1'!G26,'Experiment 2'!G26,'Experiment 3'!G26) -> 0 | J26: =H26+I26 -> 6.7360614 | K26: =AVERAGE('Experiment 1'!H26,'Experiment 2'!H26,'Experiment 3'!H26) -> 37.021608 | L26: =AVERAGE('Experiment 1'!I26,'Experiment 2'!I26,'Experiment 3'!I26) -> 0.25612275
A27: =A26+216 -> 3457 | D27: =B27+C27 -> 0 | J27: =H27+I27 -> 0
F30: Section | G30: 1.68 | K30: Total energy | L30: =SUM(L3:L26) -> 4.9624392
G31: 1.37 | K31: Total volume | L31: =G33*#REF! -> #REF!
F32: Area | G32: =G31*G30 -> 2.3016 | K32: Toughness | L32: =(L30/L31*10^3) *10^6 -> #REF!
F33: Total cross section | G33: =G32*2 -> 4.6032
