Workbook

Sheet Panigale1199
A1: Ducati Panigale V2 1199S | Z1: 1500
Z2: 2000
A3: Tyres | B3: Front tyre | C3: Rear tyre | H3: Practical Method Measurements | I3: Without rider | J3: Level | K3: Lifted | M3: Stand Height (m) | N3: 0.345 | Z3: 2500
A4: Profile | B4: 120/70/17 | C4: 200/60/17 | I4: Front Wheel (kg) | J4: 99.2 | K4: 106.1 | M4: Wheelbase (m) | N4: 1.37 | Z4: 3000
A5: Width | B5: 120 | C5: 200 | I5: Rear Wheel (kg) | J5: 87.7 | K5: 81 | M5: FW radius (m) | N5: 0.31 | Z5: 3500
A6: Aspect Ratio | B6: 70 | C6: 60 | I6: Total weight (kg) | J6: 186.9 | K6: 187.1 | M6: RW radius (m) | N6: 0.315 | Z6: 4000
A7: Rim Size | B7: 17 | C7: 17 | I7: With rider | J7: Level | K7: Lifted | M7: Av wheel radius (m) | N7: 0.32 | Z7: 4500
A8: Tyre Diameter | B8: =(((B5/25.4*B6/100+B7/2)*2*3.142/3.142)*25.4/1000) -> 0.5998 | C8: =(((C5/25.4*C6/100+C7/2)*2*3.142/3.142)*25.4/1000) -> 0.6718 | I8: Front Wheel (kg) | J8: 172.5 | K8: 178.95 | M8: Rider Weight (kg) | N8: 72.85 | Z8: 5000
I9: Rear Wheel (kg) | J9: 160.55 | K9: 153.85 | M9: Lifted Angle (rad) | N9: 0.138 | Z9: 5500
A10: RPM | B10: 12500 | I10: Total weight (kg) | J10: 333.5 | K10: 332.8 | M10: Lifted Angle (rad) | N10: 0.24 | Z10: 6000
Z11: 6500
A12: Gear ratio | B12: Input | C12: Output | D12: Wheel Speed (km/h) | E12: RPM Drop | F12: New RPM | H12: Center of Gravity | I12: Xcog | Z12: 7000
A13: 1st | B13: 15 | C13: 37 | D13: =(B$10*60*(B13/C13)*C$8*3.142*(B$19/C$19)/1000)*(B$20/C$20) -> 139.72336 | E13: =(B$10-F14) -> 2998.3108 | I13: Level W/out Rider (m) | J13: =(87.7*1.37)/186.9 -> 0.64285179 | Z13: 7500
A14: 2nd | B14: 16 | C14: 30 | D14: =(B$10*60*(B14/C14)*C$8*3.142*(B$19/C$19)/1000)*(B$20/C$20) -> 183.81384 | E14: =(B$10-F15) -> 2500 | F14: =(B$10*(B13/C13)*(C14/B14)) -> 9501.6892 | I14: Level With Rider (m) | J14: =(160.55*1.37)/333.5 -> 0.65953073 | Z14: 8000
A15: 3rd | B15: 18 | C15: 27 | D15: =(B$10*60*(B15/C15)*C$8*3.142*(B$19/C$19)/1000)*(B$20/C$20) -> 229.7673 | E15: =(B$10-F16) -> 2083.3333 | F15: =(B$10*(B14/C14)*(C15/B15)) -> 10000 | I15: Ycog | Z15: 8500
A16: 4th | B16: 20 | C16: 25 | D16: =(B$10*60*(B16/C16)*C$8*3.142*(B$19/C$19)/1000)*(B$20/C$20) -> 275.72076 | E16: =(B$10-F17) -> 1590.9091 | F16: =(B$10*(B15/C15)*(C16/B16)) -> 10416.667 | I16: W/out Rider (m) | J16: =1.37*(87.7-81)/186.9*0.24+0.32 -> 0.33178684 | Z16: 9000
A17: 5th | B17: 22 | C17: 24 | D17: =(B$10*60*(B17/C17)*C$8*3.142*(B$19/C$19)/1000)*(B$20/C$20) -> 315.93004 | E17: =(B$10-F18) -> 1519.0972 | F17: =(B$10*(B16/C16)*(C17/B17)) -> 10909.091 | I17: With Rider (m) | J17: =1.37*(160.55-153.85)/333.5*0.24+0.32 -> 0.32660558 | Z17: 9500
A18: 6th | B18: 24 | C18: 23 | D18: =(B$10*60*(B18/C18)*C$8*3.142*(B$19/C$19)/1000)*(B$20/C$20) -> 359.63577 | E18: =B$10-F19 -> 12500 | F18: =(B$10*(B17/C17)*(C18/B18)) -> 10980.903 | Z18: 10000
A19: Primary Drive | B19: 30 | C19: 53 | I19: % of Front | J19: % of Rear | Z19: 11000
A20: Final Drive | B20: 15 | C20: 39 | H20: W/out rider | I20: =((99.2/186.9)*100)/100 -> 0.53076512 | J20: =87.7/186.9*100/100 -> 0.46923488 | Z20: 11500
H21: With rider | I21: =172.5/333.5*100/100 -> 0.51724138 | J21: =160.55/333.5*100/100 -> 0.4814093 | Z21: 12000
Z22: 12500
Z23: 13000
Z24: 13500
A25: Resistance to Motion
A26: Coefficient of Drag CD | B26: 0.26 | D26: Formula | E26: Total Force Needed
A27: Frontal Area A (m^2) | B27: 0.32 | D27: F = FD + FW | E27: =(B33*B29*B26*B27*B28^2)+(B30*B31*B32) -> 475.58301
A28: Top speed in m/s V (m/s) | B28: 91.67
A29: Rho ρ | B29: 1.17
A30: Rolling resistance (0.02*m*g) | B30: 0.02 | D30: Formula | E30: Total Power Needed
A31: Mass m | B31: 333.5 | D31: P = F*V | E31: =E27*B28 -> 43596.695
A32: Gravity g | B32: 9.981
B33: 0.5

Sheet Panigale1199-2
A1: Dyno | F1: Road Speed | M1: Driving force
A2: RPM | B2: Power (hp) | C2: Torque (Nm) | D2: Power (Kw) | F2: 1st | G2: 2nd | H2: 3rd | I2: 4th | J2: 5th | K2: 6th | M2: 1st | N2: 2nd | O2: 3rd | P2: 4th | Q2: 5th | R2: 6th
A3: 5000 | B3: 70 | C3: 98 | D3: =B3*0.746 -> 52.22 | F3: =(A3*60*(Panigale1199!B$13/Panigale1199!C$13)*Panigale1199!C$8*3.142*(Panigale1199!B$19/Panigale1199!C$19)/1000)*(Panigale1199!B$20/Panigale1199!C$20) -> 55.889343 | G3: =(A3*60*(Panigale1199!B$14/Panigale1199!C$14)*Panigale1199!C$8*3.142*(Panigale1199!B$19/Panigale1199!C$19)/1000)*(Panigale1199!B$20/Panigale1199!C$20) -> 73.525536 | H3: =(A3*60*(Panigale1199!B$15/Panigale1199!C$15)*Panigale1199!C$8*3.142*(Panigale1199!B$19/Panigale1199!C$19)/1000)*(Panigale1199!B$20/Panigale1199!C$20) -> 91.90692 | I3: =(A3*60*(Panigale1199!B$16/Panigale1199!C$16)*Panigale1199!C$8*3.142*(Panigale1199!B$19/Panigale1199!C$19)/1000)*(Panigale1199!B$20/Panigale1199!C$20) -> 110.2883 | J3: =(A3*60*(Panigale1199!B$17/Panigale1199!C$17)*Panigale1199!C$8*3.142*(Panigale1199!B$19/Panigale1199!C$19)/1000)*(Panigale1199!B$20/Panigale1199!C$20) -> 126.37202 | K3: =(A3*60*(Panigale1199!B$18/Panigale1199!C$18)*Panigale1199!C$8*3.142*(Panigale1199!B$19/Panigale1199!C$19)/1000)*(Panigale1199!B$20/Panigale1199!C$20) -> 143.85431 | M3: =(D3*1000)/(F3*(1000/3600)) -> 3363.6466 | N3: =(D3*1000)/(G3*(1000/3600)) -> 2556.826 | O3: =(D3*1000)/(H3*(1000/3600)) -> 2045.4608 | P3: =(D3*1000)/(I3*(1000/3600)) -> 1704.5506 | Q3: =(D3*1000)/(J3*(1000/3600)) -> 1487.6078 | R3: =(D3*1000)/(K3*(1000/3600)) -> 1306.8222
A4: 5250 | B4: 70 | C4: 94 | D4: =B4*0.746 -> 52.22 | F4: =(A4*60*(Panigale1199!B$13/Panigale1199!C$13)*Panigale1199!C$8*3.142*(Panigale1199!B$19/Panigale1199!C$19)/1000)*(Panigale1199!B$20/Panigale1199!C$20) -> 58.683811 | G4: =(A4*60*(Panigale1199!B$14/Panigale1199!C$14)*Panigale1199!C$8*3.142*(Panigale1199!B$19/Panigale1199!C$19)/1000)*(Panigale1199!B$20/Panigale1199!C$20) -> 77.201813 | H4: =(A4*60*(Panigale1199!B$15/Panigale1199!C$15)*Panigale1199!C$8*3.142*(Panigale1199!B$19/Panigale1199!C$19)/1000)*(Panigale1199!B$20/Panigale1199!C$20) -> 96.502266 | I4: =(A4*60*(Panigale1199!B$16/Panigale1199!C$16)*Panigale1199!C$8*3.142*(Panigale1199!B$19/Panigale1199!C$19)/1000)*(Panigale1199!B$20/Panigale1199!C$20) -> 115.80272 | J4: =(A4*60*(Panigale1199!B$17/Panigale1199!C$17)*Panigale1199!C$8*3.142*(Panigale1199!B$19/Panigale1199!C$19)/1000)*(Panigale1199!B$20/Panigale1199!C$20) -> 132.69062 | K4: =(A4*60*(Panigale1199!B$18/Panigale1199!C$18)*Panigale1199!C$8*3.142*(Panigale1199!B$19/Panigale1199!C$19)/1000)*(Panigale1199!B$20/Panigale1199!C$20) -> 151.04703 | M4: =(D4*1000)/(F4*(1000/3600)) -> 3203.473 | N4: =(D4*1000)/(G4*(1000/3600)) -> 2435.0723 | O4: =(D4*1000)/(H4*(1000/3600)) -> 1948.0579 | P4: =(D4*1000)/(I4*(1000/3600)) -> 1623.3816 | Q4: =(D4*1000)/(J4*(1000/3600)) -> 1416.7694 | R4: =(D4*1000)/(K4*(1000/3600)) -> 1244.5925
A5: 5500 | B5: 75 | C5: 95 | D5: =B5*0.746 -> 55.95 | F5: =(A5*60*(Panigale1199!B$13/Panigale1199!C$13)*Panigale1199!C$8*3.142*(Panigale1199!B$19/Panigale1199!C$19)/1000)*(Panigale1199!B$20/Panigale1199!C$20) -> 61.478278 | G5: =(A5*60*(Panigale1199!B$14/Panigale1199!C$14)*Panigale1199!C$8*3.142*(Panigale1199!B$19/Panigale1199!C$19)/1000)*(Panigale1199!B$20/Panigale1199!C$20) -> 80.87809 | H5: =(A5*60*(Panigale1199!B$15/Panigale1199!C$15)*Panigale1199!C$8*3.142*(Panigale1199!B$19/Panigale1199!C$19)/1000)*(Panigale1199!B$20/Panigale1199!C$20) -> 101.09761 | I5: =(A5*60*(Panigale1199!B$16/Panigale1199!C$16)*Panigale1199!C$8*3.142*(Panigale1199!B$19/Panigale1199!C$19)/1000)*(Panigale1199!B$20/Panigale1199!C$20) -> 121.31713 | J5: =(A5*60*(Panigale1199!B$17/Panigale1199!C$17)*Panigale1199!C$8*3.142*(Panigale1199!B$19/Panigale1199!C$19)/1000)*(Panigale1199!B$20/Panigale1199!C$20) -> 139.00922 | K5: =(A5*60*(Panigale1199!B$18/Panigale1199!C$18)*Panigale1199!C$8*3.142*(Panigale1199!B$19/Panigale1199!C$19)/1000)*(Panigale1199!B$20/Panigale1199!C$20) -> 158.23974 | M5: =(D5*1000)/(F5*(1000/3600)) -> 3276.2792 | N5: =(D5*1000)/(G5*(1000/3600)) -> 2490.4149 | O5: =(D5*1000)/(H5*(1000/3600)) -> 1992.3319 | P5: =(D5*1000)/(I5*(1000/3600)) -> 1660.2766 | Q5: =(D5*1000)/(J5*(1000/3600)) -> 1448.9687 | R5: =(D5*1000)/(K5*(1000/3600)) -> 1272.8787
A6: 5750 | B6: 78 | C6: 99 | D6: =B6*0.746 -> 58.188 | F6: =(A6*60*(Panigale1199!B$13/Panigale1199!C$13)*Panigale1199!C$8*3.142*(Panigale1199!B$19/Panigale1199!C$19)/1000)*(Panigale1199!B$20/Panigale1199!C$20) -> 64.272745 | G6: =(A6*60*(Panigale1199!B$14/Panigale1199!C$14)*Panigale1199!C$8*3.142*(Panigale1199!B$19/Panigale1199!C$19)/1000)*(Panigale1199!B$20/Panigale1199!C$20) -> 84.554367 | H6: =(A6*60*(Panigale1199!B$15/Panigale1199!C$15)*Panigale1199!C$8*3.142*(Panigale1199!B$19/Panigale1199!C$19)/1000)*(Panigale1199!B$20/Panigale1199!C$20) -> 105.69296 | I6: =(A6*60*(Panigale1199!B$16/Panigale1199!C$16)*Panigale1199!C$8*3.142*(Panigale1199!B$19/Panigale1199!C$19)/1000)*(Panigale1199!B$20/Panigale1199!C$20) -> 126.83155 | J6: =(A6*60*(Panigale1199!B$17/Panigale1199!C$17)*Panigale1199!C$8*3.142*(Panigale1199!B$19/Panigale1199!C$19)/1000)*(Panigale1199!B$20/Panigale1199!C$20) -> 145.32782 | K6: =(A6*60*(Panigale1199!B$18/Panigale1199!C$18)*Panigale1199!C$8*3.142*(Panigale1199!B$19/Panigale1199!C$19)/1000)*(Panigale1199!B$20/Panigale1199!C$20) -> 165.43246 | M6: =(D6*1000)/(F6*(1000/3600)) -> 3259.1855 | N6: =(D6*1000)/(G6*(1000/3600)) -> 2477.4214 | O6: =(D6*1000)/(H6*(1000/3600)) -> 1981.9371 | P6: =(D6*1000)/(I6*(1000/3600)) -> 1651.6143 | Q6: =(D6*1000)/(J6*(1000/3600)) -> 1441.4088 | R6: =(D6*1000)/(K6*(1000/3600)) -> 1266.2376
A7: 6000 | B7: 80 | C7: 102 | D7: =B7*0.746 -> 59.68 | F7: =(A7*60*(Panigale1199!B$13/Panigale1199!C$13)*Panigale1199!C$8*3.142*(Panigale1199!B$19/Panigale1199!C$19)/1000)*(Panigale1199!B$20/Panigale1199!C$20) -> 67.067212 | G7: =(A7*60*(Panigale1199!B$14/Panigale1199!C$14)*Panigale1199!C$8*3.142*(Panigale1199!B$19/Panigale1199!C$19)/1000)*(Panigale1199!B$20/Panigale1199!C$20) -> 88.230643 | H7: =(A7*60*(Panigale1199!B$15/Panigale1199!C$15)*Panigale1199!C$8*3.142*(Panigale1199!B$19/Panigale1199!C$19)/1000)*(Panigale1199!B$20/Panigale1199!C$20) -> 110.2883 | I7: =(A7*60*(Panigale1199!B$16/Panigale1199!C$16)*Panigale1199!C$8*3.142*(Panigale1199!B$19/Panigale1199!C$19)/1000)*(Panigale1199!B$20/Panigale1199!C$20) -> 132.34597 | J7: =(A7*60*(Panigale1199!B$17/Panigale1199!C$17)*Panigale1199!C$8*3.142*(Panigale1199!B$19/Panigale1199!C$19)/1000)*(Panigale1199!B$20/Panigale1199!C$20) -> 151.64642 | K7: =(A7*60*(Panigale1199!B$18/Panigale1199!C$18)*Panigale1199!C$8*3.142*(Panigale1199!B$19/Panigale1199!C$19)/1000)*(Panigale1199!B$20/Panigale1199!C$20) -> 172.62517 | M7: =(D7*1000)/(F7*(1000/3600)) -> 3203.473 | N7: =(D7*1000)/(G7*(1000/3600)) -> 2435.0723 | O7: =(D7*1000)/(H7*(1000/3600)) -> 1948.0579 | P7: =(D7*1000)/(I7*(1000/3600)) -> 1623.3816 | Q7: =(D7*1000)/(J7*(1000/3600)) -> 1416.7694 | R7: =(D7*1000)/(K7*(1000/3600)) -> 1244.5925
A8: 6250 | B8: 80 | C8: 100 | D8: =B8*0.746 -> 59.68 | F8: =(A8*60*(Panigale1199!B$13/Panigale1199!C$13)*Panigale1199!C$8*3.142*(Panigale1199!B$19/Panigale1199!C$19)/1000)*(Panigale1199!B$20/Panigale1199!C$20) -> 69.861679 | G8: =(A8*60*(Panigale1199!B$14/Panigale1199!C$14)*Panigale1199!C$8*3.142*(Panigale1199!B$19/Panigale1199!C$19)/1000)*(Panigale1199!B$20/Panigale1199!C$20) -> 91.90692 | H8: =(A8*60*(Panigale1199!B$15/Panigale1199!C$15)*Panigale1199!C$8*3.142*(Panigale1199!B$19/Panigale1199!C$19)/1000)*(Panigale1199!B$20/Panigale1199!C$20) -> 114.88365 | I8: =(A8*60*(Panigale1199!B$16/Panigale1199!C$16)*Panigale1199!C$8*3.142*(Panigale1199!B$19/Panigale1199!C$19)/1000)*(Panigale1199!B$20/Panigale1199!C$20) -> 137.86038 | J8: =(A8*60*(Panigale1199!B$17/Panigale1199!C$17)*Panigale1199!C$8*3.142*(Panigale1199!B$19/Panigale1199!C$19)/1000)*(Panigale1199!B$20/Panigale1199!C$20) -> 157.96502 | K8: =(A8*60*(Panigale1199!B$18/Panigale1199!C$18)*Panigale1199!C$8*3.142*(Panigale1199!B$19/Panigale1199!C$19)/1000)*(Panigale1199!B$20/Panigale1199!C$20) -> 179.81789 | M8: =(D8*1000)/(F8*(1000/3600)) -> 3075.334 | N8: =(D8*1000)/(G8*(1000/3600)) -> 2337.6695 | O8: =(D8*1000)/(H8*(1000/3600)) -> 1870.1356 | P8: =(D8*1000)/(I8*(1000/3600)) -> 1558.4463 | Q8: =(D8*1000)/(J8*(1000/3600)) -> 1360.0986 | R8: =(D8*1000)/(K8*(1000/3600)) -> 1194.8088
A9: 6500 | B9: 85 | C9: 101 | D9: =B9*0.746 -> 63.41 | F9: =(A9*60*(Panigale1199!B$13/Panigale1199!C$13)*Panigale1199!C$8*3.142*(Panigale1199!B$19/Panigale1199!C$19)/1000)*(Panigale1199!B$20/Panigale1199!C$20) -> 72.656146 | G9: =(A9*60*(Panigale1199!B$14/Panigale1199!C$14)*Panigale1199!C$8*3.142*(Panigale1199!B$19/Panigale1199!C$19)/1000)*(Panigale1199!B$20/Panigale1199!C$20) -> 95.583197 | H9: =(A9*60*(Panigale1199!B$15/Panigale1199!C$15)*Panigale1199!C$8*3.142*(Panigale1199!B$19/Panigale1199!C$19)/1000)*(Panigale1199!B$20/Panigale1199!C$20) -> 119.479 | I9: =(A9*60*(Panigale1199!B$16/Panigale1199!C$16)*Panigale1199!C$8*3.142*(Panigale1199!B$19/Panigale1199!C$19)/1000)*(Panigale1199!B$20/Panigale1199!C$20) -> 143.3748 | J9: =(A9*60*(Panigale1199!B$17/Panigale1199!C$17)*Panigale1199!C$8*3.142*(Panigale1199!B$19/Panigale1199!C$19)/1000)*(Panigale1199!B$20/Panigale1199!C$20) -> 164.28362 | K9: =(A9*60*(Panigale1199!B$18/Panigale1199!C$18)*Panigale1199!C$8*3.142*(Panigale1199!B$19/Panigale1199!C$19)/1000)*(Panigale1199!B$20/Panigale1199!C$20) -> 187.0106 | M9: =(D9*1000)/(F9*(1000/3600)) -> 3141.8677 | N9: =(D9*1000)/(G9*(1000/3600)) -> 2388.244 | O9: =(D9*1000)/(H9*(1000/3600)) -> 1910.5952 | P9: =(D9*1000)/(I9*(1000/3600)) -> 1592.1627 | Q9: =(D9*1000)/(J9*(1000/3600)) -> 1389.5238 | R9: =(D9*1000)/(K9*(1000/3600)) -> 1220.6581
A10: 6750 | B10: 90 | C10: 101 | D10: =B10*0.746 -> 67.14 | F10: =(A10*60*(Panigale1199!B$13/Panigale1199!C$13)*Panigale1199!C$8*3.142*(Panigale1199!B$19/Panigale1199!C$19)/1000)*(Panigale1199!B$20/Panigale1199!C$20) -> 75.450614 | G10: =(A10*60*(Panigale1199!B$14/Panigale1199!C$14)*Panigale1199!C$8*3.142*(Panigale1199!B$19/Panigale1199!C$19)/1000)*(Panigale1199!B$20/Panigale1199!C$20) -> 99.259474 | H10: =(A10*60*(Panigale1199!B$15/Panigale1199!C$15)*Panigale1199!C$8*3.142*(Panigale1199!B$19/Panigale1199!C$19)/1000)*(Panigale1199!B$20/Panigale1199!C$20) -> 124.07434 | I10: =(A10*60*(Panigale1199!B$16/Panigale1199!C$16)*Panigale1199!C$8*3.142*(Panigale1199!B$19/Panigale1199!C$19)/1000)*(Panigale1199!B$20/Panigale1199!C$20) -> 148.88921 | J10: =(A10*60*(Panigale1199!B$17/Panigale1199!C$17)*Panigale1199!C$8*3.142*(Panigale1199!B$19/Panigale1199!C$19)/1000)*(Panigale1199!B$20/Panigale1199!C$20) -> 170.60222 | K10: =(A10*60*(Panigale1199!B$18/Panigale1199!C$18)*Panigale1199!C$8*3.142*(Panigale1199!B$19/Panigale1199!C$19)/1000)*(Panigale1199!B$20/Panigale1199!C$20) -> 194.20332 | M10: =(D10*1000)/(F10*(1000/3600)) -> 3203.473 | N10: =(D10*1000)/(G10*(1000/3600)) -> 2435.0723 | O10: =(D10*1000)/(H10*(1000/3600)) -> 1948.0579 | P10: =(D10*1000)/(I10*(1000/3600)) -> 1623.3816 | Q10: =(D10*1000)/(J10*(1000/3600)) -> 1416.7694 | R10: =(D10*1000)/(K10*(1000/3600)) -> 1244.5925
A11: 7000 | B11: 101 | C11: 104 | D11: =B11*0.746 -> 75.346 | F11: =(A11*60*(Panigale1199!B$13/Panigale1199!C$13)*Panigale1199!C$8*3.142*(Panigale1199!B$19/Panigale1199!C$19)/1000)*(Panigale1199!B$20/Panigale1199!C$20) -> 78.245081 | G11: =(A11*60*(Panigale1199!B$14/Panigale1199!C$14)*Panigale1199!C$8*3.142*(Panigale1199!B$19/Panigale1199!C$19)/1000)*(Panigale1199!B$20/Panigale1199!C$20) -> 102.93575 | H11: =(A11*60*(Panigale1199!B$15/Panigale1199!C$15)*Panigale1199!C$8*3.142*(Panigale1199!B$19/Panigale1199!C$19)/1000)*(Panigale1199!B$20/Panigale1199!C$20) -> 128.66969 | I11: =(A11*60*(Panigale1199!B$16/Panigale1199!C$16)*Panigale1199!C$8*3.142*(Panigale1199!B$19/Panigale1199!C$19)/1000)*(Panigale1199!B$20/Panigale1199!C$20) -> 154.40363 | J11: =(A11*60*(Panigale1199!B$17/Panigale1199!C$17)*Panigale1199!C$8*3.142*(Panigale1199!B$19/Panigale1199!C$19)/1000)*(Panigale1199!B$20/Panigale1199!C$20) -> 176.92082 | K11: =(A11*60*(Panigale1199!B$18/Panigale1199!C$18)*Panigale1199!C$8*3.142*(Panigale1199!B$19/Panigale1199!C$19)/1000)*(Panigale1199!B$20/Panigale1199!C$20) -> 201.39603 | M11: =(D11*1000)/(F11*(1000/3600)) -> 3466.6154 | N11: =(D11*1000)/(G11*(1000/3600)) -> 2635.0961 | O11: =(D11*1000)/(H11*(1000/3600)) -> 2108.0769 | P11: =(D11*1000)/(I11*(1000/3600)) -> 1756.7308 | Q11: =(D11*1000)/(J11*(1000/3600)) -> 1533.1469 | R11: =(D11*1000)/(K11*(1000/3600)) -> 1346.8269
A12: 7250 | B12: 105 | C12: 108 | D12: =B12*0.746 -> 78.33 | F12: =(A12*60*(Panigale1199!B$13/Panigale1199!C$13)*Panigale1199!C$8*3.142*(Panigale1199!B$19/Panigale1199!C$19)/1000)*(Panigale1199!B$20/Panigale1199!C$20) -> 81.039548 | G12: =(A12*60*(Panigale1199!B$14/Panigale1199!C$14)*Panigale1199!C$8*3.142*(Panigale1199!B$19/Panigale1199!C$19)/1000)*(Panigale1199!B$20/Panigale1199!C$20) -> 106.61203 | H12: =(A12*60*(Panigale1199!B$15/Panigale1199!C$15)*Panigale1199!C$8*3.142*(Panigale1199!B$19/Panigale1199!C$19)/1000)*(Panigale1199!B$20/Panigale1199!C$20) -> 133.26503 | I12: =(A12*60*(Panigale1199!B$16/Panigale1199!C$16)*Panigale1199!C$8*3.142*(Panigale1199!B$19/Panigale1199!C$19)/1000)*(Panigale1199!B$20/Panigale1199!C$20) -> 159.91804 | J12: =(A12*60*(Panigale1199!B$17/Panigale1199!C$17)*Panigale1199!C$8*3.142*(Panigale1199!B$19/Panigale1199!C$19)/1000)*(Panigale1199!B$20/Panigale1199!C$20) -> 183.23942 | K12: =(A12*60*(Panigale1199!B$18/Panigale1199!C$18)*Panigale1199!C$8*3.142*(Panigale1199!B$19/Panigale1199!C$19)/1000)*(Panigale1199!B$20/Panigale1199!C$20) -> 208.58875 | M12: =(D12*1000)/(F12*(1000/3600)) -> 3479.6344 | N12: =(D12*1000)/(G12*(1000/3600)) -> 2644.9924 | O12: =(D12*1000)/(H12*(1000/3600)) -> 2115.9939 | P12: =(D12*1000)/(I12*(1000/3600)) -> 1763.3283 | Q12: =(D12*1000)/(J12*(1000/3600)) -> 1538.9047 | R12: =(D12*1000)/(K12*(1000/3600)) -> 1351.885
A13: 7500 | B13: 110 | C13: 110 | D13: =B13*0.746 -> 82.06 | F13: =(A13*60*(Panigale1199!B$13/Panigale1199!C$13)*Panigale1199!C$8*3.142*(Panigale1199!B$19/Panigale1199!C$19)/1000)*(Panigale1199!B$20/Panigale1199!C$20) -> 83.834015 | G13: =(A13*60*(Panigale1199!B$14/Panigale1199!C$14)*Panigale1199!C$8*3.142*(Panigale1199!B$19/Panigale1199!C$19)/1000)*(Panigale1199!B$20/Panigale1199!C$20) -> 110.2883 | H13: =(A13*60*(Panigale1199!B$15/Panigale1199!C$15)*Panigale1199!C$8*3.142*(Panigale1199!B$19/Panigale1199!C$19)/1000)*(Panigale1199!B$20/Panigale1199!C$20) -> 137.86038 | I13: =(A13*60*(Panigale1199!B$16/Panigale1199!C$16)*Panigale1199!C$8*3.142*(Panigale1199!B$19/Panigale1199!C$19)/1000)*(Panigale1199!B$20/Panigale1199!C$20) -> 165.43246 | J13: =(A13*60*(Panigale1199!B$17/Panigale1199!C$17)*Panigale1199!C$8*3.142*(Panigale1199!B$19/Panigale1199!C$19)/1000)*(Panigale1199!B$20/Panigale1199!C$20) -> 189.55802 | K13: =(A13*60*(Panigale1199!B$18/Panigale1199!C$18)*Panigale1199!C$8*3.142*(Panigale1199!B$19/Panigale1199!C$19)/1000)*(Panigale1199!B$20/Panigale1199!C$20) -> 215.78146 | M13: =(D13*1000)/(F13*(1000/3600)) -> 3523.8203 | N13: =(D13*1000)/(G13*(1000/3600)) -> 2678.5796 | O13: =(D13*1000)/(H13*(1000/3600)) -> 2142.8637 | P13: =(D13*1000)/(I13*(1000/3600)) -> 1785.7197 | Q13: =(D13*1000)/(J13*(1000/3600)) -> 1558.4463 | R13: =(D13*1000)/(K13*(1000/3600)) -> 1369.0518
A14: 7750 | B14: 115 | C14: 114 | D14: =B14*0.746 -> 85.79 | F14: =(A14*60*(Panigale1199!B$13/Panigale1199!C$13)*Panigale1199!C$8*3.142*(Panigale1199!B$19/Panigale1199!C$19)/1000)*(Panigale1199!B$20/Panigale1199!C$20) -> 86.628482 | G14: =(A14*60*(Panigale1199!B$14/Panigale1199!C$14)*Panigale1199!C$8*3.142*(Panigale1199!B$19/Panigale1199!C$19)/1000)*(Panigale1199!B$20/Panigale1199!C$20) -> 113.96458 | H14: =(A14*60*(Panigale1199!B$15/Panigale1199!C$15)*Panigale1199!C$8*3.142*(Panigale1199!B$19/Panigale1199!C$19)/1000)*(Panigale1199!B$20/Panigale1199!C$20) -> 142.45573 | I14: =(A14*60*(Panigale1199!B$16/Panigale1199!C$16)*Panigale1199!C$8*3.142*(Panigale1199!B$19/Panigale1199!C$19)/1000)*(Panigale1199!B$20/Panigale1199!C$20) -> 170.94687 | J14: =(A14*60*(Panigale1199!B$17/Panigale1199!C$17)*Panigale1199!C$8*3.142*(Panigale1199!B$19/Panigale1199!C$19)/1000)*(Panigale1199!B$20/Panigale1199!C$20) -> 195.87662 | K14: =(A14*60*(Panigale1199!B$18/Panigale1199!C$18)*Panigale1199!C$8*3.142*(Panigale1199!B$19/Panigale1199!C$19)/1000)*(Panigale1199!B$20/Panigale1199!C$20) -> 222.97418 | M14: =(D14*1000)/(F14*(1000/3600)) -> 3565.1554 | N14: =(D14*1000)/(G14*(1000/3600)) -> 2709.9999 | O14: =(D14*1000)/(H14*(1000/3600)) -> 2167.9999 | P14: =(D14*1000)/(I14*(1000/3600)) -> 1806.6666 | Q14: =(D14*1000)/(J14*(1000/3600)) -> 1576.7272 | R14: =(D14*1000)/(K14*(1000/3600)) -> 1385.111
... A26: 10750 | B26: 193.19 | C26: 128 | D26: =B26*0.746 -> 144.11974 | F26: =(A26*60*(Panigale1199!B$13/Panigale1199!C$13)*Panigale1199!C$8*3.142*(Panigale1199!B$19/Panigale1199!C$19)/1000)*(Panigale1199!B$20/Panigale1199!C$20) -> 120.16209 | G26: =(A26*60*(Panigale1199!B$14/Panigale1199!C$14)*Panigale1199!C$8*3.142*(Panigale1199!B$19/Panigale1199!C$19)/1000)*(Panigale1199!B$20/Panigale1199!C$20) -> 158.0799 | H26: =(A26*60*(Panigale1199!B$15/Panigale1199!C$15)*Panigale1199!C$8*3.142*(Panigale1199!B$19/Panigale1199!C$19)/1000)*(Panigale1199!B$20/Panigale1199!C$20) -> 197.59988 | I26: =(A26*60*(Panigale1199!B$16/Panigale1199!C$16)*Panigale1199!C$8*3.142*(Panigale1199!B$19/Panigale1199!C$19)/1000)*(Panigale1199!B$20/Panigale1199!C$20) -> 237.11985 | J26: =(A26*60*(Panigale1199!B$17/Panigale1199!C$17)*Panigale1199!C$8*3.142*(Panigale1199!B$19/Panigale1199!C$19)/1000)*(Panigale1199!B$20/Panigale1199!C$20) -> 271.69983 | K26: =(A26*60*(Panigale1199!B$18/Panigale1199!C$18)*Panigale1199!C$8*3.142*(Panigale1199!B$19/Panigale1199!C$19)/1000)*(Panigale1199!B$20/Panigale1199!C$20) -> 309.28677 | M26: =(D26*1000)/(F26*(1000/3600)) -> 4317.7601 | N26: =(D26*1000)/(G26*(1000/3600)) -> 3282.0811 | O26: =(D26*1000)/(H26*(1000/3600)) -> 2625.6649 | P26: =(D26*1000)/(I26*(1000/3600)) -> 2188.0541 | Q26: =(D26*1000)/(J26*(1000/3600)) -> 1909.5745 | R26: =(D26*1000)/(K26*(1000/3600)) -> 1677.5081
A27: 11500 | D27: 130 | F27: =(A27*60*(Panigale1199!B$13/Panigale1199!C$13)*Panigale1199!C$8*3.142*(Panigale1199!B$19/Panigale1199!C$19)/1000)*(Panigale1199!B$20/Panigale1199!C$20) -> 128.54549 | G27: =(A27*60*(Panigale1199!B$14/Panigale1199!C$14)*Panigale1199!C$8*3.142*(Panigale1199!B$19/Panigale1199!C$19)/1000)*(Panigale1199!B$20/Panigale1199!C$20) -> 169.10873 | H27: =(A27*60*(Panigale1199!B$15/Panigale1199!C$15)*Panigale1199!C$8*3.142*(Panigale1199!B$19/Panigale1199!C$19)/1000)*(Panigale1199!B$20/Panigale1199!C$20) -> 211.38592 | I27: =(A27*60*(Panigale1199!B$16/Panigale1199!C$16)*Panigale1199!C$8*3.142*(Panigale1199!B$19/Panigale1199!C$19)/1000)*(Panigale1199!B$20/Panigale1199!C$20) -> 253.6631 | J27: =(A27*60*(Panigale1199!B$17/Panigale1199!C$17)*Panigale1199!C$8*3.142*(Panigale1199!B$19/Panigale1199!C$19)/1000)*(Panigale1199!B$20/Panigale1199!C$20) -> 290.65564 | K27: =(A27*60*(Panigale1199!B$18/Panigale1199!C$18)*Panigale1199!C$8*3.142*(Panigale1199!B$19/Panigale1199!C$19)/1000)*(Panigale1199!B$20/Panigale1199!C$20) -> 330.86491 | M27: =(D27*1000)/(F27*(1000/3600)) -> 3640.7345 | N27: =(D27*1000)/(G27*(1000/3600)) -> 2767.4502 | O27: =(D27*1000)/(H27*(1000/3600)) -> 2213.9602 | P27: =(D27*1000)/(I27*(1000/3600)) -> 1844.9668 | Q27: =(D27*1000)/(J27*(1000/3600)) -> 1610.1529 | R27: =(D27*1000)/(K27*(1000/3600)) -> 1414.4746

Sheet S1000RR
A1: BMW S1000-RR | Y1: 1500
Y2: 2000
A3: Tyres | B3: Front tyre | C3: Rear tyre | H3: Practical Method Measurements | I3: Weight without rider (kg) | J3: Level | K3: Lifted | M3: Stand Height (m) | N3: 0.345 | Y3: 2500
A4: Profile | B4: 120/70/17 | C4: 180/55/17 | I4: Front Wheel (kg) | J4: 99.6 | K4: 96.85 | M4: Wheelbase (m) | N4: 1.425 | Y4: 3000
A5: Width | B5: 120 | C5: 180 | I5: Rear Wheel (kg) | J5: 105.85 | K5: 115.3 | M5: FW radius (m) | N5: 0.3 | Y5: 3500
A6: Aspect Ratio | B6: 70 | C6: 55 | I6: Total weight (kg) | J6: =J4+J5 -> 205.45 | K6: =K4+K5 -> 212.15 | M6: RW radius (m) | N6: 0.315 | Y6: 4000
A7: Rim Size | B7: 17 | C7: 17 | I7: With the rider (kg) | J7: Level | K7: Lifted | M7: Av wheel radius (m) | N7: 0.3075 | Y7: 4500
A8: Tyre Diameter | B8: =(((B5/25.4*B6/100+B7/2)*2*3.142/3.142)*25.4/1000) -> 0.5998 | C8: =(((C5/25.4*C6/100+C7/2)*2*3.142/3.142)*25.4/1000) -> 0.6298 | I8: Front Wheel (kg) | J8: 172.45 | K8: 169.7 | M8: Rider Weight (kg) | N8: 72.85 | Y8: 5000
I9: Rear Wheel (kg) | J9: 178.7 | K9: 188.15 | M9: Lifted Angle (rad) | N9: 0.138 | Y9: 5500
A10: RPM | B10: 11000 | I10: Total weight (kg) | J10: =J9+J8 -> 351.15 | K10: =K9+K8 -> 357.85 | M10: Lifted Angle (rad) | N10: 0.24 | Y10: 6000
Y11: 6500
A12: Gear ratio | B12: Input | C12: Output | D12: Wheel Speed (km/h) | E12: RPM Drop | F12: New RPM | H12: Center of Gravity | I12: Xcog | Y12: 7000
A13: 1st | B13: 17 | C13: 45 | D13: =(B$10*60*(B13/C13)*C$8*3.142*(B$19/C$19)/1000)*(B$20/C$20) -> 112.81577 | E13: =B$10-F14 -> 2311.1111 | I13: Level W/out Rider (m) | J13: =(J5*N4)/J6 -> 0.73417498 | Y13: 7500
A14: 2nd | B14: 22 | C14: 46 | D14: =(B$10*60*(B14/C14)*C$8*3.142*(B$19/C$19)/1000)*(B$20/C$20) -> 142.82304 | E14: =B$10-F15 -> 1913.0435 | F14: =(B$10*(B13/C13)*(C14/B14)) -> 8688.8889 | I14: Level With Rider (m) | J14: =(K9*N4)/K10 -> 0.74923501 | Y14: 8000
A15: 3rd | B15: 22 | C15: 38 | D15: =(B$10*60*(B15/C15)*C$8*3.142*(B$19/C$19)/1000)*(B$20/C$20) -> 172.89105 | E15: =B$10-F16 -> 1447.3684 | F15: =(B$10*(B14/C14)*(C15/B15)) -> 9086.9565 | I15: Ycog | Y15: 8500
A16: 4th | B16: 22 | C16: 33 | D16: =(B$10*60*(B16/C16)*C$8*3.142*(B$19/C$19)/1000)*(B$20/C$20) -> 199.08666 | E16: =B$10-F17 -> 1026.6667 | F16: =(B$10*(B15/C15)*(C16/B16)) -> 9552.6316 | I16: Level W/out Rider (m) | J16: =N4*(J5-K5)/J6*N10+N7 -> 0.29176917 | Y16: 9000
A17: 5th | B17: 25 | C17: 34 | D17: =(B$10*60*(B17/C17)*C$8*3.142*(B$19/C$19)/1000)*(B$20/C$20) -> 219.58087 | E17: =B$10-F18 -> 801.79028 | F17: =(B$10*(B16/C16)*(C17/B17)) -> 9973.3333 | I17: Level With Rider (m) | J17: =N4*(J9-K9)/J10*N10+N7 -> 0.29829624 | Y17: 9500
A18: 6th | B18: 23 | C18: 29 | D18: =(B$10*60*(B18/C18)*C$8*3.142*(B$19/C$19)/1000)*(B$20/C$20) -> 236.84447 | F18: =(B$10*(B17/C17)*(C18/B18)) -> 10198.21 | Y18: 10000
A19: Primary Drive | B19: 46 | C19: 76 | I19: % of Front | J19: % of Rear | Y19: 10500
A20: Final Drive | B20: 17 | C20: 45 | H20: W/out rider | I20: =J4/J6*100/100 -> 0.48478949 | J20: =J5/J6*100/100 -> 0.51521051 | Y20: 11000
H21: With rider | I21: =J8/J10*100/100 -> 0.49110067 | J21: =J9/J10*100/100 -> 0.50889933 | Y21: 11500
Y22: 12000
Y23: 12500
Y24: 13000
A25: Resistance to Motion | Y25: 13500
A26: Coefficient of Drag CD | B26: 0.31 | D26: Formula | E26: Total Force Needed
A27: Frontal Area A (m^2) | B27: 0.39 | D27: F = FD + FW | E27: =(B33*B29*B26*B27*B28^2)+(B30*B31*B32) -> 563.31857
A28: Top speed in m/s V (m/s) | B28: 83.61
A29: Rho ρ | B29: 1.17
A30: Rolling resistance (0.02*m*g) | B30: 0.02 | D30: Fomula | E30: Total Power Needed
A31: Mass m | B31: 351.15 | D31: P = F*V | E31: =E27*B28 -> 47099.066
A32: Gravity g | B32: 9.81
B33: 0.5

Sheet S1000RR-2
A1: Dyno | F1: Road Speed | M1: Driving force
A2: RPM | B2: Power (hp) | C2: Torque (Nm) | D2: Power (Kw) | F2: 1st | G2: 2nd | H2: 3rd | I2: 4th | J2: 5th | K2: 6th | M2: 1st | N2: 2nd | O2: 3rd | P2: 4th | Q2: 5th | R2: 6th
A3: 4000 | B3: 20 | C3: =(C26/0.7376) -> 13.557484 | D3: =B3*0.746 -> 14.92 | F3: =(A3*60*(S1000RR!B$13/S1000RR!C$13)*S1000RR!C$8*3.142*(S1000RR!B$19/S1000RR!C$19)/1000)*(S1000RR!B$20/S1000RR!C$20) -> 41.023918 | G3: =(A3*60*(S1000RR!B$14/S1000RR!C$14)*S1000RR!C$8*3.142*(S1000RR!B$19/S1000RR!C$19)/1000)*(S1000RR!B$20/S1000RR!C$20) -> 51.93565 | H3: =(A3*60*(S1000RR!B$15/S1000RR!C$15)*S1000RR!C$8*3.142*(S1000RR!B$19/S1000RR!C$19)/1000)*(S1000RR!B$20/S1000RR!C$20) -> 62.869472 | I3: =(A3*60*(S1000RR!B$16/S1000RR!C$16)*S1000RR!C$8*3.142*(S1000RR!B$19/S1000RR!C$19)/1000)*(S1000RR!B$20/S1000RR!C$20) -> 72.395149 | J3: =(A3*60*(S1000RR!B$17/S1000RR!C$17)*S1000RR!C$8*3.142*(S1000RR!B$19/S1000RR!C$19)/1000)*(S1000RR!B$20/S1000RR!C$20) -> 79.847591 | K3: =(A3*60*(S1000RR!B$18/S1000RR!C$18)*S1000RR!C$8*3.142*(S1000RR!B$19/S1000RR!C$19)/1000)*(S1000RR!B$20/S1000RR!C$20) -> 86.125264 | M3: =(D3*1000)/(F3*(1000/3600)) -> 1309.285 | N3: =(D3*1000)/(G3*(1000/3600)) -> 1034.2029 | O3: =(D3*1000)/(H3*(1000/3600)) -> 854.34152 | P3: =(D3*1000)/(I3*(1000/3600)) -> 741.92816 | Q3: =(D3*1000)/(J3*(1000/3600)) -> 672.68154 | R3: =(D3*1000)/(K3*(1000/3600)) -> 623.64976
A4: 4500 | B4: 30 | C4: =(C27/0.7376) -> 81.344902 | D4: =B4*0.746 -> 22.38 | F4: =(A4*60*(S1000RR!B$13/S1000RR!C$13)*S1000RR!C$8*3.142*(S1000RR!B$19/S1000RR!C$19)/1000)*(S1000RR!B$20/S1000RR!C$20) -> 46.151908 | G4: =(A4*60*(S1000RR!B$14/S1000RR!C$14)*S1000RR!C$8*3.142*(S1000RR!B$19/S1000RR!C$19)/1000)*(S1000RR!B$20/S1000RR!C$20) -> 58.427607 | H4: =(A4*60*(S1000RR!B$15/S1000RR!C$15)*S1000RR!C$8*3.142*(S1000RR!B$19/S1000RR!C$19)/1000)*(S1000RR!B$20/S1000RR!C$20) -> 70.728155 | I4: =(A4*60*(S1000RR!B$16/S1000RR!C$16)*S1000RR!C$8*3.142*(S1000RR!B$19/S1000RR!C$19)/1000)*(S1000RR!B$20/S1000RR!C$20) -> 81.444543 | J4: =(A4*60*(S1000RR!B$17/S1000RR!C$17)*S1000RR!C$8*3.142*(S1000RR!B$19/S1000RR!C$19)/1000)*(S1000RR!B$20/S1000RR!C$20) -> 89.82854 | K4: =(A4*60*(S1000RR!B$18/S1000RR!C$18)*S1000RR!C$8*3.142*(S1000RR!B$19/S1000RR!C$19)/1000)*(S1000RR!B$20/S1000RR!C$20) -> 96.890921 | M4: =(D4*1000)/(F4*(1000/3600)) -> 1745.7133 | N4: =(D4*1000)/(G4*(1000/3600)) -> 1378.9372 | O4: =(D4*1000)/(H4*(1000/3600)) -> 1139.122 | P4: =(D4*1000)/(I4*(1000/3600)) -> 989.23755 | Q4: =(D4*1000)/(J4*(1000/3600)) -> 896.90871 | R4: =(D4*1000)/(K4*(1000/3600)) -> 831.53301
A5: 5000 | B5: 50 | C5: =(C28/0.7376) -> 88.123644 | D5: =B5*0.746 -> 37.3 | F5: =(A5*60*(S1000RR!B$13/S1000RR!C$13)*S1000RR!C$8*3.142*(S1000RR!B$19/S1000RR!C$19)/1000)*(S1000RR!B$20/S1000RR!C$20) -> 51.279897 | G5: =(A5*60*(S1000RR!B$14/S1000RR!C$14)*S1000RR!C$8*3.142*(S1000RR!B$19/S1000RR!C$19)/1000)*(S1000RR!B$20/S1000RR!C$20) -> 64.919563 | H5: =(A5*60*(S1000RR!B$15/S1000RR!C$15)*S1000RR!C$8*3.142*(S1000RR!B$19/S1000RR!C$19)/1000)*(S1000RR!B$20/S1000RR!C$20) -> 78.586839 | I5: =(A5*60*(S1000RR!B$16/S1000RR!C$16)*S1000RR!C$8*3.142*(S1000RR!B$19/S1000RR!C$19)/1000)*(S1000RR!B$20/S1000RR!C$20) -> 90.493936 | J5: =(A5*60*(S1000RR!B$17/S1000RR!C$17)*S1000RR!C$8*3.142*(S1000RR!B$19/S1000RR!C$19)/1000)*(S1000RR!B$20/S1000RR!C$20) -> 99.809489 | K5: =(A5*60*(S1000RR!B$18/S1000RR!C$18)*S1000RR!C$8*3.142*(S1000RR!B$19/S1000RR!C$19)/1000)*(S1000RR!B$20/S1000RR!C$20) -> 107.65658 | M5: =(D5*1000)/(F5*(1000/3600)) -> 2618.57 | N5: =(D5*1000)/(G5*(1000/3600)) -> 2068.4058 | O5: =(D5*1000)/(H5*(1000/3600)) -> 1708.683 | P5: =(D5*1000)/(I5*(1000/3600)) -> 1483.8563 | Q5: =(D5*1000)/(J5*(1000/3600)) -> 1345.3631 | R5: =(D5*1000)/(K5*(1000/3600)) -> 1247.2995
A6: 5500 | B6: 60 | C6: =(C29/0.7376) -> 94.902386 | D6: =B6*0.746 -> 44.76 | F6: =(A6*60*(S1000RR!B$13/S1000RR!C$13)*S1000RR!C$8*3.142*(S1000RR!B$19/S1000RR!C$19)/1000)*(S1000RR!B$20/S1000RR!C$20) -> 56.407887 | G6: =(A6*60*(S1000RR!B$14/S1000RR!C$14)*S1000RR!C$8*3.142*(S1000RR!B$19/S1000RR!C$19)/1000)*(S1000RR!B$20/S1000RR!C$20) -> 71.411519 | H6: =(A6*60*(S1000RR!B$15/S1000RR!C$15)*S1000RR!C$8*3.142*(S1000RR!B$19/S1000RR!C$19)/1000)*(S1000RR!B$20/S1000RR!C$20) -> 86.445523 | I6: =(A6*60*(S1000RR!B$16/S1000RR!C$16)*S1000RR!C$8*3.142*(S1000RR!B$19/S1000RR!C$19)/1000)*(S1000RR!B$20/S1000RR!C$20) -> 99.54333 | J6: =(A6*60*(S1000RR!B$17/S1000RR!C$17)*S1000RR!C$8*3.142*(S1000RR!B$19/S1000RR!C$19)/1000)*(S1000RR!B$20/S1000RR!C$20) -> 109.79044 | K6: =(A6*60*(S1000RR!B$18/S1000RR!C$18)*S1000RR!C$8*3.142*(S1000RR!B$19/S1000RR!C$19)/1000)*(S1000RR!B$20/S1000RR!C$20) -> 118.42224 | M6: =(D6*1000)/(F6*(1000/3600)) -> 2856.6218 | N6: =(D6*1000)/(G6*(1000/3600)) -> 2256.4427 | O6: =(D6*1000)/(H6*(1000/3600)) -> 1864.0179 | P6: =(D6*1000)/(I6*(1000/3600)) -> 1618.7524 | Q6: =(D6*1000)/(J6*(1000/3600)) -> 1467.6688 | R6: =(D6*1000)/(K6*(1000/3600)) -> 1360.6904
A7: 6000 | B7: 80 | C7: =(C30/0.7376) -> 94.902386 | D7: =B7*0.746 -> 59.68 | F7: =(A7*60*(S1000RR!B$13/S1000RR!C$13)*S1000RR!C$8*3.142*(S1000RR!B$19/S1000RR!C$19)/1000)*(S1000RR!B$20/S1000RR!C$20) -> 61.535877 | G7: =(A7*60*(S1000RR!B$14/S1000RR!C$14)*S1000RR!C$8*3.142*(S1000RR!B$19/S1000RR!C$19)/1000)*(S1000RR!B$20/S1000RR!C$20) -> 77.903476 | H7: =(A7*60*(S1000RR!B$15/S1000RR!C$15)*S1000RR!C$8*3.142*(S1000RR!B$19/S1000RR!C$19)/1000)*(S1000RR!B$20/S1000RR!C$20) -> 94.304207 | I7: =(A7*60*(S1000RR!B$16/S1000RR!C$16)*S1000RR!C$8*3.142*(S1000RR!B$19/S1000RR!C$19)/1000)*(S1000RR!B$20/S1000RR!C$20) -> 108.59272 | J7: =(A7*60*(S1000RR!B$17/S1000RR!C$17)*S1000RR!C$8*3.142*(S1000RR!B$19/S1000RR!C$19)/1000)*(S1000RR!B$20/S1000RR!C$20) -> 119.77139 | K7: =(A7*60*(S1000RR!B$18/S1000RR!C$18)*S1000RR!C$8*3.142*(S1000RR!B$19/S1000RR!C$19)/1000)*(S1000RR!B$20/S1000RR!C$20) -> 129.1879 | M7: =(D7*1000)/(F7*(1000/3600)) -> 3491.4267 | N7: =(D7*1000)/(G7*(1000/3600)) -> 2757.8744 | O7: =(D7*1000)/(H7*(1000/3600)) -> 2278.2441 | P7: =(D7*1000)/(I7*(1000/3600)) -> 1978.4751 | Q7: =(D7*1000)/(J7*(1000/3600)) -> 1793.8174 | R7: =(D7*1000)/(K7*(1000/3600)) -> 1663.066
A8: 6500 | B8: 85 | C8: =(C31/0.7376) -> 94.902386 | D8: =B8*0.746 -> 63.41 | F8: =(A8*60*(S1000RR!B$13/S1000RR!C$13)*S1000RR!C$8*3.142*(S1000RR!B$19/S1000RR!C$19)/1000)*(S1000RR!B$20/S1000RR!C$20) -> 66.663866 | G8: =(A8*60*(S1000RR!B$14/S1000RR!C$14)*S1000RR!C$8*3.142*(S1000RR!B$19/S1000RR!C$19)/1000)*(S1000RR!B$20/S1000RR!C$20) -> 84.395432 | H8: =(A8*60*(S1000RR!B$15/S1000RR!C$15)*S1000RR!C$8*3.142*(S1000RR!B$19/S1000RR!C$19)/1000)*(S1000RR!B$20/S1000RR!C$20) -> 102.16289 | I8: =(A8*60*(S1000RR!B$16/S1000RR!C$16)*S1000RR!C$8*3.142*(S1000RR!B$19/S1000RR!C$19)/1000)*(S1000RR!B$20/S1000RR!C$20) -> 117.64212 | J8: =(A8*60*(S1000RR!B$17/S1000RR!C$17)*S1000RR!C$8*3.142*(S1000RR!B$19/S1000RR!C$19)/1000)*(S1000RR!B$20/S1000RR!C$20) -> 129.75234 | K8: =(A8*60*(S1000RR!B$18/S1000RR!C$18)*S1000RR!C$8*3.142*(S1000RR!B$19/S1000RR!C$19)/1000)*(S1000RR!B$20/S1000RR!C$20) -> 139.95355 | M8: =(D8*1000)/(F8*(1000/3600)) -> 3424.2838 | N8: =(D8*1000)/(G8*(1000/3600)) -> 2704.8383 | O8: =(D8*1000)/(H8*(1000/3600)) -> 2234.4317 | P8: =(D8*1000)/(I8*(1000/3600)) -> 1940.4275 | Q8: =(D8*1000)/(J8*(1000/3600)) -> 1759.3209 | R8: =(D8*1000)/(K8*(1000/3600)) -> 1631.084
A9: 7000 | B9: 90 | C9: =(C32/0.7376) -> 101.68113 | D9: =B9*0.746 -> 67.14 | F9: =(A9*60*(S1000RR!B$13/S1000RR!C$13)*S1000RR!C$8*3.142*(S1000RR!B$19/S1000RR!C$19)/1000)*(S1000RR!B$20/S1000RR!C$20) -> 71.791856 | G9: =(A9*60*(S1000RR!B$14/S1000RR!C$14)*S1000RR!C$8*3.142*(S1000RR!B$19/S1000RR!C$19)/1000)*(S1000RR!B$20/S1000RR!C$20) -> 90.887388 | H9: =(A9*60*(S1000RR!B$15/S1000RR!C$15)*S1000RR!C$8*3.142*(S1000RR!B$19/S1000RR!C$19)/1000)*(S1000RR!B$20/S1000RR!C$20) -> 110.02158 | I9: =(A9*60*(S1000RR!B$16/S1000RR!C$16)*S1000RR!C$8*3.142*(S1000RR!B$19/S1000RR!C$19)/1000)*(S1000RR!B$20/S1000RR!C$20) -> 126.69151 | J9: =(A9*60*(S1000RR!B$17/S1000RR!C$17)*S1000RR!C$8*3.142*(S1000RR!B$19/S1000RR!C$19)/1000)*(S1000RR!B$20/S1000RR!C$20) -> 139.73328 | K9: =(A9*60*(S1000RR!B$18/S1000RR!C$18)*S1000RR!C$8*3.142*(S1000RR!B$19/S1000RR!C$19)/1000)*(S1000RR!B$20/S1000RR!C$20) -> 150.71921 | M9: =(D9*1000)/(F9*(1000/3600)) -> 3366.7328 | N9: =(D9*1000)/(G9*(1000/3600)) -> 2659.3789 | O9: =(D9*1000)/(H9*(1000/3600)) -> 2196.8782 | P9: =(D9*1000)/(I9*(1000/3600)) -> 1907.8153 | Q9: =(D9*1000)/(J9*(1000/3600)) -> 1729.7525 | R9: =(D9*1000)/(K9*(1000/3600)) -> 1603.6708
A10: 7500 | B10: 95 | C10: =(C33/0.7376) -> 104.39262 | D10: =B10*0.746 -> 70.87 | F10: =(A10*60*(S1000RR!B$13/S1000RR!C$13)*S1000RR!C$8*3.142*(S1000RR!B$19/S1000RR!C$19)/1000)*(S1000RR!B$20/S1000RR!C$20) -> 76.919846 | G10: =(A10*60*(S1000RR!B$14/S1000RR!C$14)*S1000RR!C$8*3.142*(S1000RR!B$19/S1000RR!C$19)/1000)*(S1000RR!B$20/S1000RR!C$20) -> 97.379345 | H10: =(A10*60*(S1000RR!B$15/S1000RR!C$15)*S1000RR!C$8*3.142*(S1000RR!B$19/S1000RR!C$19)/1000)*(S1000RR!B$20/S1000RR!C$20) -> 117.88026 | I10: =(A10*60*(S1000RR!B$16/S1000RR!C$16)*S1000RR!C$8*3.142*(S1000RR!B$19/S1000RR!C$19)/1000)*(S1000RR!B$20/S1000RR!C$20) -> 135.7409 | J10: =(A10*60*(S1000RR!B$17/S1000RR!C$17)*S1000RR!C$8*3.142*(S1000RR!B$19/S1000RR!C$19)/1000)*(S1000RR!B$20/S1000RR!C$20) -> 149.71423 | K10: =(A10*60*(S1000RR!B$18/S1000RR!C$18)*S1000RR!C$8*3.142*(S1000RR!B$19/S1000RR!C$19)/1000)*(S1000RR!B$20/S1000RR!C$20) -> 161.48487 | M10: =(D10*1000)/(F10*(1000/3600)) -> 3316.8553 | N10: =(D10*1000)/(G10*(1000/3600)) -> 2619.9807 | O10: =(D10*1000)/(H10*(1000/3600)) -> 2164.3319 | P10: =(D10*1000)/(I10*(1000/3600)) -> 1879.5513 | Q10: =(D10*1000)/(J10*(1000/3600)) -> 1704.1266 | R10: =(D10*1000)/(K10*(1000/3600)) -> 1579.9127
A11: 8000 | B11: 120 | C11: =(C34/0.7376) -> 104.39262 | D11: =B11*0.746 -> 89.52 | F11: =(A11*60*(S1000RR!B$13/S1000RR!C$13)*S1000RR!C$8*3.142*(S1000RR!B$19/S1000RR!C$19)/1000)*(S1000RR!B$20/S1000RR!C$20) -> 82.047836 | G11: =(A11*60*(S1000RR!B$14/S1000RR!C$14)*S1000RR!C$8*3.142*(S1000RR!B$19/S1000RR!C$19)/1000)*(S1000RR!B$20/S1000RR!C$20) -> 103.8713 | H11: =(A11*60*(S1000RR!B$15/S1000RR!C$15)*S1000RR!C$8*3.142*(S1000RR!B$19/S1000RR!C$19)/1000)*(S1000RR!B$20/S1000RR!C$20) -> 125.73894 | I11: =(A11*60*(S1000RR!B$16/S1000RR!C$16)*S1000RR!C$8*3.142*(S1000RR!B$19/S1000RR!C$19)/1000)*(S1000RR!B$20/S1000RR!C$20) -> 144.7903 | J11: =(A11*60*(S1000RR!B$17/S1000RR!C$17)*S1000RR!C$8*3.142*(S1000RR!B$19/S1000RR!C$19)/1000)*(S1000RR!B$20/S1000RR!C$20) -> 159.69518 | K11: =(A11*60*(S1000RR!B$18/S1000RR!C$18)*S1000RR!C$8*3.142*(S1000RR!B$19/S1000RR!C$19)/1000)*(S1000RR!B$20/S1000RR!C$20) -> 172.25053 | M11: =(D11*1000)/(F11*(1000/3600)) -> 3927.855 | N11: =(D11*1000)/(G11*(1000/3600)) -> 3102.6087 | O11: =(D11*1000)/(H11*(1000/3600)) -> 2563.0246 | P11: =(D11*1000)/(I11*(1000/3600)) -> 2225.7845 | Q11: =(D11*1000)/(J11*(1000/3600)) -> 2018.0446 | R11: =(D11*1000)/(K11*(1000/3600)) -> 1870.9493
A12: 8500 | B12: 130 | C12: =(C35/0.7376) -> 108.45987 | D12: =B12*0.746 -> 96.98 | F12: =(A12*60*(S1000RR!B$13/S1000RR!C$13)*S1000RR!C$8*3.142*(S1000RR!B$19/S1000RR!C$19)/1000)*(S1000RR!B$20/S1000RR!C$20) -> 87.175825 | G12: =(A12*60*(S1000RR!B$14/S1000RR!C$14)*S1000RR!C$8*3.142*(S1000RR!B$19/S1000RR!C$19)/1000)*(S1000RR!B$20/S1000RR!C$20) -> 110.36326 | H12: =(A12*60*(S1000RR!B$15/S1000RR!C$15)*S1000RR!C$8*3.142*(S1000RR!B$19/S1000RR!C$19)/1000)*(S1000RR!B$20/S1000RR!C$20) -> 133.59763 | I12: =(A12*60*(S1000RR!B$16/S1000RR!C$16)*S1000RR!C$8*3.142*(S1000RR!B$19/S1000RR!C$19)/1000)*(S1000RR!B$20/S1000RR!C$20) -> 153.83969 | J12: =(A12*60*(S1000RR!B$17/S1000RR!C$17)*S1000RR!C$8*3.142*(S1000RR!B$19/S1000RR!C$19)/1000)*(S1000RR!B$20/S1000RR!C$20) -> 169.67613 | K12: =(A12*60*(S1000RR!B$18/S1000RR!C$18)*S1000RR!C$8*3.142*(S1000RR!B$19/S1000RR!C$19)/1000)*(S1000RR!B$20/S1000RR!C$20) -> 183.01619 | M12: =(D12*1000)/(F12*(1000/3600)) -> 4004.8717 | N12: =(D12*1000)/(G12*(1000/3600)) -> 3163.4441 | O12: =(D12*1000)/(H12*(1000/3600)) -> 2613.2799 | P12: =(D12*1000)/(I12*(1000/3600)) -> 2269.4273 | Q12: =(D12*1000)/(J12*(1000/3600)) -> 2057.6141 | R12: =(D12*1000)/(K12*(1000/3600)) -> 1907.6346
A13: 9000 | B13: 135 | C13: =(C36/0.7376) -> 115.23861 | D13: =B13*0.746 -> 100.71 | F13: =(A13*60*(S1000RR!B$13/S1000RR!C$13)*S1000RR!C$8*3.142*(S1000RR!B$19/S1000RR!C$19)/1000)*(S1000RR!B$20/S1000RR!C$20) -> 92.303815 | G13: =(A13*60*(S1000RR!B$14/S1000RR!C$14)*S1000RR!C$8*3.142*(S1000RR!B$19/S1000RR!C$19)/1000)*(S1000RR!B$20/S1000RR!C$20) -> 116.85521 | H13: =(A13*60*(S1000RR!B$15/S1000RR!C$15)*S1000RR!C$8*3.142*(S1000RR!B$19/S1000RR!C$19)/1000)*(S1000RR!B$20/S1000RR!C$20) -> 141.45631 | I13: =(A13*60*(S1000RR!B$16/S1000RR!C$16)*S1000RR!C$8*3.142*(S1000RR!B$19/S1000RR!C$19)/1000)*(S1000RR!B$20/S1000RR!C$20) -> 162.88909 | J13: =(A13*60*(S1000RR!B$17/S1000RR!C$17)*S1000RR!C$8*3.142*(S1000RR!B$19/S1000RR!C$19)/1000)*(S1000RR!B$20/S1000RR!C$20) -> 179.65708 | K13: =(A13*60*(S1000RR!B$18/S1000RR!C$18)*S1000RR!C$8*3.142*(S1000RR!B$19/S1000RR!C$19)/1000)*(S1000RR!B$20/S1000RR!C$20) -> 193.78184 | M13: =(D13*1000)/(F13*(1000/3600)) -> 3927.855 | N13: =(D13*1000)/(G13*(1000/3600)) -> 3102.6087 | O13: =(D13*1000)/(H13*(1000/3600)) -> 2563.0246 | P13: =(D13*1000)/(I13*(1000/3600)) -> 2225.7845 | Q13: =(D13*1000)/(J13*(1000/3600)) -> 2018.0446 | R13: =(D13*1000)/(K13*(1000/3600)) -> 1870.9493
A14: 9500 | B14: 145 | C14: =(C37/0.7376) -> 115.23861 | D14: =B14*0.746 -> 108.17 | F14: =(A14*60*(S1000RR!B$13/S1000RR!C$13)*S1000RR!C$8*3.142*(S1000RR!B$19/S1000RR!C$19)/1000)*(S1000RR!B$20/S1000RR!C$20) -> 97.431805 | G14: =(A14*60*(S1000RR!B$14/S1000RR!C$14)*S1000RR!C$8*3.142*(S1000RR!B$19/S1000RR!C$19)/1000)*(S1000RR!B$20/S1000RR!C$20) -> 123.34717 | H14: =(A14*60*(S1000RR!B$15/S1000RR!C$15)*S1000RR!C$8*3.142*(S1000RR!B$19/S1000RR!C$19)/1000)*(S1000RR!B$20/S1000RR!C$20) -> 149.31499 | I14: =(A14*60*(S1000RR!B$16/S1000RR!C$16)*S1000RR!C$8*3.142*(S1000RR!B$19/S1000RR!C$19)/1000)*(S1000RR!B$20/S1000RR!C$20) -> 171.93848 | J14: =(A14*60*(S1000RR!B$17/S1000RR!C$17)*S1000RR!C$8*3.142*(S1000RR!B$19/S1000RR!C$19)/1000)*(S1000RR!B$20/S1000RR!C$20) -> 189.63803 | K14: =(A14*60*(S1000RR!B$18/S1000RR!C$18)*S1000RR!C$8*3.142*(S1000RR!B$19/S1000RR!C$19)/1000)*(S1000RR!B$20/S1000RR!C$20) -> 204.5475 | M14: =(D14*1000)/(F14*(1000/3600)) -> 3996.7647 | N14: =(D14*1000)/(G14*(1000/3600)) -> 3157.0404 | O14: =(D14*1000)/(H14*(1000/3600)) -> 2607.9899 | P14: =(D14*1000)/(I14*(1000/3600)) -> 2264.8333 | Q14: =(D14*1000)/(J14*(1000/3600)) -> 2053.4489 | R14: =(D14*1000)/(K14*(1000/3600)) -> 1903.773
... A22: 13500 | B22: 194.93 | C22: =(C45/0.7376) -> 101.68113 | D22: =B22*0.746 -> 145.41778 | F22: =(A22*60*(S1000RR!B$13/S1000RR!C$13)*S1000RR!C$8*3.142*(S1000RR!B$19/S1000RR!C$19)/1000)*(S1000RR!B$20/S1000RR!C$20) -> 138.45572 | G22: =(A22*60*(S1000RR!B$14/S1000RR!C$14)*S1000RR!C$8*3.142*(S1000RR!B$19/S1000RR!C$19)/1000)*(S1000RR!B$20/S1000RR!C$20) -> 175.28282 | H22: =(A22*60*(S1000RR!B$15/S1000RR!C$15)*S1000RR!C$8*3.142*(S1000RR!B$19/S1000RR!C$19)/1000)*(S1000RR!B$20/S1000RR!C$20) -> 212.18447 | I22: =(A22*60*(S1000RR!B$16/S1000RR!C$16)*S1000RR!C$8*3.142*(S1000RR!B$19/S1000RR!C$19)/1000)*(S1000RR!B$20/S1000RR!C$20) -> 244.33363 | J22: =(A22*60*(S1000RR!B$17/S1000RR!C$17)*S1000RR!C$8*3.142*(S1000RR!B$19/S1000RR!C$19)/1000)*(S1000RR!B$20/S1000RR!C$20) -> 269.48562 | K22: =(A22*60*(S1000RR!B$18/S1000RR!C$18)*S1000RR!C$8*3.142*(S1000RR!B$19/S1000RR!C$19)/1000)*(S1000RR!B$20/S1000RR!C$20) -> 290.67276 | M22: =(D22*1000)/(F22*(1000/3600)) -> 3781.0211 | N22: =(D22*1000)/(G22*(1000/3600)) -> 2986.6247 | O22: =(D22*1000)/(H22*(1000/3600)) -> 2467.2117 | P22: =(D22*1000)/(I22*(1000/3600)) -> 2142.5786 | Q22: =(D22*1000)/(J22*(1000/3600)) -> 1942.6046 | R22: =(D22*1000)/(K22*(1000/3600)) -> 1801.0081
A23: 14000 | B23: 30 | D23: =B23*0.746 -> 22.38 | F23: =(A23*60*(S1000RR!B$13/S1000RR!C$13)*S1000RR!C$8*3.142*(S1000RR!B$19/S1000RR!C$19)/1000)*(S1000RR!B$20/S1000RR!C$20) -> 143.58371 | G23: =(A23*60*(S1000RR!B$14/S1000RR!C$14)*S1000RR!C$8*3.142*(S1000RR!B$19/S1000RR!C$19)/1000)*(S1000RR!B$20/S1000RR!C$20) -> 181.77478 | H23: =(A23*60*(S1000RR!B$15/S1000RR!C$15)*S1000RR!C$8*3.142*(S1000RR!B$19/S1000RR!C$19)/1000)*(S1000RR!B$20/S1000RR!C$20) -> 220.04315 | I23: =(A23*60*(S1000RR!B$16/S1000RR!C$16)*S1000RR!C$8*3.142*(S1000RR!B$19/S1000RR!C$19)/1000)*(S1000RR!B$20/S1000RR!C$20) -> 253.38302 | J23: =(A23*60*(S1000RR!B$17/S1000RR!C$17)*S1000RR!C$8*3.142*(S1000RR!B$19/S1000RR!C$19)/1000)*(S1000RR!B$20/S1000RR!C$20) -> 279.46657 | K23: =(A23*60*(S1000RR!B$18/S1000RR!C$18)*S1000RR!C$8*3.142*(S1000RR!B$19/S1000RR!C$19)/1000)*(S1000RR!B$20/S1000RR!C$20) -> 301.43842 | M23: =(D23*1000)/(F23*(1000/3600)) -> 561.12214 | N23: =(D23*1000)/(G23*(1000/3600)) -> 443.22981 | O23: =(D23*1000)/(H23*(1000/3600)) -> 366.14637 | P23: =(D23*1000)/(I23*(1000/3600)) -> 317.96921 | Q23: =(D23*1000)/(J23*(1000/3600)) -> 288.29209 | R23: =(D23*1000)/(K23*(1000/3600)) -> 267.27847
C25: Torque ft-lb
C26: 10
C27: 60
C28: 65
C29: 70
C30: 70
C31: 70
C32: 75
C33: 77
C34: 77
C35: 80
C36: 85
C37: 85
... C45: 75
