Workbook

Sheet Given Data 
B4: Regened Data/ Test Specification
B5: Maximum Engine Speed (RPM) | C5: 6500 | E5: Gear | F5: Input | G5: Output | H5: Gear Ratio | I5: Overall Ratio | J5: Top Speed(m/s) | K5: Top Speed (km/h)
B6: Maximum Engine Torque (Nm) | C6: 22 | E6: 1st | F6: 11 | G6: 29 | H6: 2.6363636 | I6: 22.729221 | J6: 7.6027537 | K6: 27.369913
B7: Maximum Power Develop by Engine (W) | C7: 14967.333 | E7: 2nd | F7: 15 | G7: 29 | H7: 1.9333333 | I7: 16.668095 | J7: 10.367391 | K7: 37.322609
B8: Maximum Power Developed by Engine (HP) | C8: 20.06345 | E8: 3rd | F8: 21 | G8: 31 | H8: 1.4761905 | I8: 12.726871 | J8: 13.577938 | K8: 48.880578
B9: Effective Frontal Area (m2) | C9: 1.151 | E9: Final Drive | F9: 15 | G9: 51 | H9: 3.4
B10: Front Wheel Radius (mm) | C10: 304.8 | E10: Primary Drive | F10: 28 | G10: 71 | H10: 2.5357143
B11: Rear Wheel Radius (mm) | C11: 254
B12: Front Wheel Radius (m) | C12: 0.3048
B13: Rear Wheel Radius (m) | C13: 0.254
B14: Driver + Passenger Weight (kg) | C14: 144
B15: Fuel + Oil Weight (kg) | C15: 16.11
B16: Kerb Weight (kg) | C16: 345
B17: Total Weight (kg) | C17: 521.71
B19: Drag Coefficient | C19: 0.7
B20: Wind Speed (m/s) | C20: 2.23
B21: Air Density (kg/m3) | C21: 1.167
B22: Rolling Coefficient (μR) Asphalt | C22: 0.02
B23: Rolling Coefficient (μR) Gravel | C23: 0.02
... B25: Rolling Coefficient (μR) Mud | C25: 0.2
B26: Gradient Angle | C26: 6°
B27: Sin(6°) | C27: 0.10452846
B29: Wheelbase (mm) | C29: 1940
B30: Height of COG from Ground (mm) | C30: 488
B31: Distance of COG from Front Wheel Center (mm) | C31: 1070
B32: Distance of COG from Rear Wheel Center (mm) | C32: 870
B33: Angle of Buggy Lifted (Degree) | C33: 18
B34: Angle of Buggy Lifted (Radians) | C34: 0.314159
B35: tan(18°) | C35: 0.32491
B36: Load on Rear Wheel (kg) | C36: 207
B37: Load on Rear Wheel while Lifted (kg) | C37: 193
B38: YCOG | C38: 769.73798
B39: XCOG | C39: 521.69675
B41: Fastest Velocity in 10m (m/s)
B42: Speed 6500 RPM (1st) | C42: 7.6027537
B43: Drive Torque at shaft (Nm) (1st) | C43: 56.26
B44: Drive Torque at Rear Wheel (Nm) | C44: 179.80696
B45: Force (N) | C45: 707.90142
B46: Acceleration (m/s2) | C46: 1.9603484
B47: Tires Mass (kg) | C47: 10.2
B48: Wheels Mass (kg) | C48: 6.4
B49: Total Assembly Mass (kg) | C49: 16.6
B50: Radius of Gyration Front Wheel (Kfront) | C50: 0.27432
B51: Radius of Gyration Rear Wheel at 6500rpm 1st Gear | C51: 0.2286
B52: Inertia of Front Wheel | C52: 1.2491743
B53: Inertia of Rear Wheel | C53: 0.86748214
... B57: Reduced Mass in Gear 3 | C57: 581.23604

Sheet Rolling Resistance
A1: Rolling Resistance
B3: Terrain | C3: Resistance Force(N)
B4: Sector 1 (Asphalt) | C4: ='Given Data '!C22*'Given Data '!C$17*9.81 -> 102.3595
B5: Sector 2 (Gravel) | C5: ='Given Data '!C23*'Given Data '!C$17*9.81 -> 102.3595
B6: Sector 3 (Loose sand) | C6: ='Given Data '!C24*'Given Data '!C$17*9.81 -> 409.43801
B7: Sector 4 (Mud) | C7: ='Given Data '!C25*'Given Data '!C$17*9.81 -> 1023.595

Sheet Gradient Resistance
A1: Gradient Resistance Force (N)
B4: Gradient Force | C4: ='Given Data '!C17*9.81*'Given Data '!C27 -> 534.97407

Sheet Acceeleration and Decelration
B4: RPM | C4: Power(W) | D4: Power (HP) | E4: Torque (Nm) | F4: Velocity (km/h) in Gear 1 | G4: Velocity (km/h) in Gear 2 | H4: Velocity (km/h) in Gear 3 | I4: Driving Force(N) in Gear 1 | J4: Driving Force(N) in Gear 2 | K4: Driving Force(N) in Gear 3 | L4: Acceleration (m/s^2) in Gear 1 | M4: Acceleration (m/s^2) in Gear 2 | N4: Acceleration (m/s^2) in Gear 3 | O4: Acceleration Force (N) in Gear 1 | P4: Acceleration Force (N) in Gear 2 | Q4: Acceleration Force (N) in Gear 3
B5: 1000 | C5: 507 | D5: =C5/746 -> 0.67962466 | E5: =60*C5/(2*PI()*B5) -> 4.8414934 | F5: =3.6*2*PI()*'Given Data '!C$13*'Acceeleration and Decelration'!B5/('Given Data '!I$6*60) -> 4.2128916 | G5: =3.6*2*PI()*'Given Data '!C$13*'Acceeleration and Decelration'!B5/('Given Data '!I$7*60) -> 5.7448522 | H5: =3.6*2*PI()*'Given Data '!C$13*'Acceeleration and Decelration'!B5/('Given Data '!I$8*60) -> 7.5239032 | I5: =3.6*C5/F5 -> 433.24162 | J5: =C5*3.6/G5 -> 317.71052 | K5: =3.6*C5/H5 -> 242.58685 | L5: =I5/'Given Data '!C$55 -> 0.72959837 | M5: =J5/'Given Data '!C$56 -> 0.54277661 | N5: =K5/'Given Data '!C$57 -> 0.41736375 | O5: ='Given Data '!C$17*'Acceeleration and Decelration'!L5 -> 380.63876 | P5: ='Given Data '!C$17*'Acceeleration and Decelration'!M5 -> 283.17198 | Q5: ='Given Data '!C$17*'Acceeleration and Decelration'!N5 -> 217.74284
B6: =B5+500 -> 1500 | C6: 1163 | D6: =C6/746 -> 1.5589812 | E6: =60*C6/(2*PI()*B6) -> 7.403888 | F6: =3.6*2*PI()*'Given Data '!C$13*'Acceeleration and Decelration'!B6/('Given Data '!I$6*60) -> 6.3193375 | G6: =3.6*2*PI()*'Given Data '!C$13*'Acceeleration and Decelration'!B6/('Given Data '!I$7*60) -> 8.6172783 | H6: =3.6*2*PI()*'Given Data '!C$13*'Acceeleration and Decelration'!B6/('Given Data '!I$8*60) -> 11.285855 | I6: =3.6*C6/F6 -> 662.53781 | J6: =C6*3.6/G6 -> 485.86106 | K6: =3.6*C6/H6 -> 370.97766 | L6: =I6/'Given Data '!C$55 -> 1.1157435 | M6: =J6/'Given Data '!C$56 -> 0.83004496 | N6: =K6/'Given Data '!C$57 -> 0.63825646 | O6: ='Given Data '!C$17*'Acceeleration and Decelration'!L6 -> 582.09452 | P6: ='Given Data '!C$17*'Acceeleration and Decelration'!M6 -> 433.04276 | Q6: ='Given Data '!C$17*'Acceeleration and Decelration'!N6 -> 332.98478
B7: =B6+500 -> 2000 | C7: 2431 | D7: =C7/746 -> 3.2587131 | E7: =60*C7/(2*PI()*B7) -> 11.60717 | F7: =3.6*2*PI()*'Given Data '!C$13*'Acceeleration and Decelration'!B7/('Given Data '!I$6*60) -> 8.4257833 | G7: =3.6*2*PI()*'Given Data '!C$13*'Acceeleration and Decelration'!B7/('Given Data '!I$7*60) -> 11.489704 | H7: =3.6*2*PI()*'Given Data '!C$13*'Acceeleration and Decelration'!B7/('Given Data '!I$8*60) -> 15.047806 | I7: =3.6*C7/F7 -> 1038.669 | J7: =C7*3.6/G7 -> 761.69061 | K7: =3.6*C7/H7 -> 581.58643 | L7: =I7/'Given Data '!C$55 -> 1.7491653 | M7: =J7/'Given Data '!C$56 -> 1.3012721 | N7: =K7/'Given Data '!C$57 -> 1.0006028 | O7: ='Given Data '!C$17*'Acceeleration and Decelration'!L7 -> 912.55704 | P7: ='Given Data '!C$17*'Acceeleration and Decelration'!M7 -> 678.88668 | Q7: ='Given Data '!C$17*'Acceeleration and Decelration'!N7 -> 522.0245
B8: =B7+500 -> 2500 | C8: 3909 | D8: =C8/746 -> 5.2399464 | E8: =60*C8/(2*PI()*B8) -> 14.93128 | F8: =3.6*2*PI()*'Given Data '!C$13*'Acceeleration and Decelration'!B8/('Given Data '!I$6*60) -> 10.532229 | G8: =3.6*2*PI()*'Given Data '!C$13*'Acceeleration and Decelration'!B8/('Given Data '!I$7*60) -> 14.362131 | H8: =3.6*2*PI()*'Given Data '!C$13*'Acceeleration and Decelration'!B8/('Given Data '!I$8*60) -> 18.809758 | I8: =3.6*C8/F8 -> 1336.1274 | J8: =C8*3.6/G8 -> 979.82677 | K8: =3.6*C8/H8 -> 748.14359 | L8: =I8/'Given Data '!C$55 -> 2.2500986 | M8: =J8/'Given Data '!C$56 -> 1.6739359 | N8: =K8/'Given Data '!C$57 -> 1.2871597 | O8: ='Given Data '!C$17*'Acceeleration and Decelration'!L8 -> 1173.899 | P8: ='Given Data '!C$17*'Acceeleration and Decelration'!M8 -> 873.3091 | Q8: ='Given Data '!C$17*'Acceeleration and Decelration'!N8 -> 671.52407
B9: =B8+500 -> 3000 | C9: 5348 | D9: =C9/746 -> 7.1689008 | E9: =60*C9/(2*PI()*B9) -> 17.023213 | F9: =3.6*2*PI()*'Given Data '!C$13*'Acceeleration and Decelration'!B9/('Given Data '!I$6*60) -> 12.638675 | G9: =3.6*2*PI()*'Given Data '!C$13*'Acceeleration and Decelration'!B9/('Given Data '!I$7*60) -> 17.234557 | H9: =3.6*2*PI()*'Given Data '!C$13*'Acceeleration and Decelration'!B9/('Given Data '!I$8*60) -> 22.57171 | I9: =3.6*C9/F9 -> 1523.3243 | J9: =C9*3.6/G9 -> 1117.1045 | K9: =3.6*C9/H9 -> 852.96153 | L9: =I9/'Given Data '!C$55 -> 2.5653465 | M9: =J9/'Given Data '!C$56 -> 1.9084611 | N9: =K9/'Given Data '!C$57 -> 1.4674959 | O9: ='Given Data '!C$17*'Acceeleration and Decelration'!L9 -> 1338.3669 | P9: ='Given Data '!C$17*'Acceeleration and Decelration'!M9 -> 995.66323 | Q9: ='Given Data '!C$17*'Acceeleration and Decelration'!N9 -> 765.6073
B10: =B9+500 -> 3500 | C10: 6878 | D10: =C10/746 -> 9.2198391 | E10: =60*C10/(2*PI()*B10) -> 18.765732 | F10: =3.6*2*PI()*'Given Data '!C$13*'Acceeleration and Decelration'!B10/('Given Data '!I$6*60) -> 14.745121 | G10: =3.6*2*PI()*'Given Data '!C$13*'Acceeleration and Decelration'!B10/('Given Data '!I$7*60) -> 20.106983 | H10: =3.6*2*PI()*'Given Data '!C$13*'Acceeleration and Decelration'!B10/('Given Data '!I$8*60) -> 26.333661 | I10: =3.6*C10/F10 -> 1679.2538 | J10: =C10*3.6/G10 -> 1231.4528 | K10: =3.6*C10/H10 -> 940.27183 | L10: =I10/'Given Data '!C$55 -> 2.8279389 | M10: =J10/'Given Data '!C$56 -> 2.1038137 | N10: =K10/'Given Data '!C$57 -> 1.6177108 | O10: ='Given Data '!C$17*'Acceeleration and Decelration'!L10 -> 1475.364 | P10: ='Given Data '!C$17*'Acceeleration and Decelration'!M10 -> 1097.5807 | Q10: ='Given Data '!C$17*'Acceeleration and Decelration'!N10 -> 843.97591
B11: =B10+500 -> 4000 | C11: 8101 | D11: =C11/746 -> 10.859249 | E11: =60*C11/(2*PI()*B11) -> 19.339713 | F11: =3.6*2*PI()*'Given Data '!C$13*'Acceeleration and Decelration'!B11/('Given Data '!I$6*60) -> 16.851567 | G11: =3.6*2*PI()*'Given Data '!C$13*'Acceeleration and Decelration'!B11/('Given Data '!I$7*60) -> 22.979409 | H11: =3.6*2*PI()*'Given Data '!C$13*'Acceeleration and Decelration'!B11/('Given Data '!I$8*60) -> 30.095613 | I11: =3.6*C11/F11 -> 1730.6166 | J11: =C11*3.6/G11 -> 1269.1188 | K11: =3.6*C11/H11 -> 969.0316 | L11: =I11/'Given Data '!C$55 -> 2.9144361 | M11: =J11/'Given Data '!C$56 -> 2.1681624 | N11: =K11/'Given Data '!C$57 -> 1.6671912 | O11: ='Given Data '!C$17*'Acceeleration and Decelration'!L11 -> 1520.4904 | P11: ='Given Data '!C$17*'Acceeleration and Decelration'!M11 -> 1131.152 | Q11: ='Given Data '!C$17*'Acceeleration and Decelration'!N11 -> 869.79031
B12: =B11+500 -> 4500 | C12: 10302 | D12: =C12/746 -> 13.809651 | E12: =60*C12/(2*PI()*B12) -> 21.861523 | F12: =3.6*2*PI()*'Given Data '!C$13*'Acceeleration and Decelration'!B12/('Given Data '!I$6*60) -> 18.958012 | G12: =3.6*2*PI()*'Given Data '!C$13*'Acceeleration and Decelration'!B12/('Given Data '!I$7*60) -> 25.851835 | H12: =3.6*2*PI()*'Given Data '!C$13*'Acceeleration and Decelration'!B12/('Given Data '!I$8*60) -> 33.857565 | I12: =3.6*C12/F12 -> 1956.281 | J12: =C12*3.6/G12 -> 1434.6061 | K12: =3.6*C12/H12 -> 1095.3889 | L12: =I12/'Given Data '!C$55 -> 3.2944652 | M12: =J12/'Given Data '!C$56 -> 2.4508808 | N12: =K12/'Given Data '!C$57 -> 1.8845853 | O12: ='Given Data '!C$17*'Acceeleration and Decelration'!L12 -> 1718.7554 | P12: ='Given Data '!C$17*'Acceeleration and Decelration'!M12 -> 1278.649 | Q12: ='Given Data '!C$17*'Acceeleration and Decelration'!N12 -> 983.20699
B13: =B12+500 -> 5000 | C13: 11383 | D13: =C13/746 -> 15.258713 | E13: =60*C13/(2*PI()*B13) -> 21.739929 | F13: =3.6*2*PI()*'Given Data '!C$13*'Acceeleration and Decelration'!B13/('Given Data '!I$6*60) -> 21.064458 | G13: =3.6*2*PI()*'Given Data '!C$13*'Acceeleration and Decelration'!B13/('Given Data '!I$7*60) -> 28.724261 | H13: =3.6*2*PI()*'Given Data '!C$13*'Acceeleration and Decelration'!B13/('Given Data '!I$8*60) -> 37.619516 | I13: =3.6*C13/F13 -> 1945.4001 | J13: =C13*3.6/G13 -> 1426.6268 | K13: =3.6*C13/H13 -> 1089.2963 | L13: =I13/'Given Data '!C$55 -> 3.2761413 | M13: =J13/'Given Data '!C$56 -> 2.437249 | N13: =K13/'Given Data '!C$57 -> 1.8741032 | O13: ='Given Data '!C$17*'Acceeleration and Decelration'!L13 -> 1709.1957 | P13: ='Given Data '!C$17*'Acceeleration and Decelration'!M13 -> 1271.5372 | Q13: ='Given Data '!C$17*'Acceeleration and Decelration'!N13 -> 977.73836
B14: =B13+500 -> 5500 | C14: 12637 | D14: =C14/746 -> 16.939678 | E14: =60*C14/(2*PI()*B14) -> 21.940811 | F14: =3.6*2*PI()*'Given Data '!C$13*'Acceeleration and Decelration'!B14/('Given Data '!I$6*60) -> 23.170904 | G14: =3.6*2*PI()*'Given Data '!C$13*'Acceeleration and Decelration'!B14/('Given Data '!I$7*60) -> 31.596687 | H14: =3.6*2*PI()*'Given Data '!C$13*'Acceeleration and Decelration'!B14/('Given Data '!I$8*60) -> 41.381468 | I14: =3.6*C14/F14 -> 1963.3761 | J14: =C14*3.6/G14 -> 1439.8092 | K14: =3.6*C14/H14 -> 1099.3617 | L14: =I14/'Given Data '!C$55 -> 3.3064137 | M14: =J14/'Given Data '!C$56 -> 2.4597698 | N14: =K14/'Given Data '!C$57 -> 1.8914204 | O14: ='Given Data '!C$17*'Acceeleration and Decelration'!L14 -> 1724.9891 | P14: ='Given Data '!C$17*'Acceeleration and Decelration'!M14 -> 1283.2865 | Q14: ='Given Data '!C$17*'Acceeleration and Decelration'!N14 -> 986.77291
B15: =B14+500 -> 6000 | C15: 13025 | D15: =C15/746 -> 17.459786 | E15: =60*C15/(2*PI()*B15) -> 20.729931 | F15: =3.6*2*PI()*'Given Data '!C$13*'Acceeleration and Decelration'!B15/('Given Data '!I$6*60) -> 25.27735 | G15: =3.6*2*PI()*'Given Data '!C$13*'Acceeleration and Decelration'!B15/('Given Data '!I$7*60) -> 34.469113 | H15: =3.6*2*PI()*'Given Data '!C$13*'Acceeleration and Decelration'!B15/('Given Data '!I$8*60) -> 45.143419 | I15: =3.6*C15/F15 -> 1855.0204 | J15: =C15*3.6/G15 -> 1360.3483 | K15: =3.6*C15/H15 -> 1038.6896 | L15: =I15/'Given Data '!C$55 -> 3.1239378 | M15: =J15/'Given Data '!C$56 -> 2.3240188 | N15: =K15/'Given Data '!C$57 -> 1.7870358 | O15: ='Given Data '!C$17*'Acceeleration and Decelration'!L15 -> 1629.7896 | P15: ='Given Data '!C$17*'Acceeleration and Decelration'!M15 -> 1212.4639 | Q15: ='Given Data '!C$17*'Acceeleration and Decelration'!N15 -> 932.31443
B16: =B15+500 -> 6500 | C16: 13428 | D16: =C16/746 -> 18 | E16: =60*C16/(2*PI()*B16) -> 19.727378 | F16: =3.6*2*PI()*'Given Data '!C$13*'Acceeleration and Decelration'!B16/('Given Data '!I$6*60) -> 27.383796 | G16: =3.6*2*PI()*'Given Data '!C$13*'Acceeleration and Decelration'!B16/('Given Data '!I$7*60) -> 37.341539 | H16: =3.6*2*PI()*'Given Data '!C$13*'Acceeleration and Decelration'!B16/('Given Data '!I$8*60) -> 48.905371 | I16: =3.6*C16/F16 -> 1765.3068 | J16: =C16*3.6/G16 -> 1294.5583 | K16: =3.6*C16/H16 -> 988.45585 | L16: =I16/'Given Data '!C$55 -> 2.972856 | M16: =J16/'Given Data '!C$56 -> 2.2116232 | N16: =K16/'Given Data '!C$57 -> 1.70061 | O16: ='Given Data '!C$17*'Acceeleration and Decelration'!L16 -> 1550.9687 | P16: ='Given Data '!C$17*'Acceeleration and Decelration'!M16 -> 1153.8259 | Q16: ='Given Data '!C$17*'Acceeleration and Decelration'!N16 -> 887.22526

Sheet Aerodynamic Resistance
A1: Aerodynamic Resistance
B3: RPM | C3: Aero drag in gear 1 | D3: Aero drag in gear 2 | E3: Aero drag in gear 3
B4: 1000 | C4: ='Given Data '!C$21*'Given Data '!C$19*'Given Data '!C$9*('Acceeleration and Decelration'!F5/3.6)^2/2 -> 0.64382791 | D4: ='Given Data '!C$21*'Given Data '!C$19*'Given Data '!C$9*('Acceeleration and Decelration'!G5/3.6)^2/2 -> 1.1972007 | E4: ='Given Data '!C$21*'Given Data '!C$19*'Given Data '!C$9*('Acceeleration and Decelration'!H5/3.6)^2/2 -> 2.0535043
B5: =B4+500 -> 1500 | C5: ='Given Data '!C$21*'Given Data '!C$19*'Given Data '!C$9*('Acceeleration and Decelration'!F6/3.6)^2/2 -> 1.4486128 | D5: ='Given Data '!C$21*'Given Data '!C$19*'Given Data '!C$9*('Acceeleration and Decelration'!G6/3.6)^2/2 -> 2.6937015 | E5: ='Given Data '!C$21*'Given Data '!C$19*'Given Data '!C$9*('Acceeleration and Decelration'!H6/3.6)^2/2 -> 4.6203848
B6: =B5+500 -> 2000 | C6: ='Given Data '!C$21*'Given Data '!C$19*'Given Data '!C$9*('Acceeleration and Decelration'!F7/3.6)^2/2 -> 2.5753116 | D6: ='Given Data '!C$21*'Given Data '!C$19*'Given Data '!C$9*('Acceeleration and Decelration'!G7/3.6)^2/2 -> 4.7888026 | E6: ='Given Data '!C$21*'Given Data '!C$19*'Given Data '!C$9*('Acceeleration and Decelration'!H7/3.6)^2/2 -> 8.2140174
B7: =B6+500 -> 2500 | C7: ='Given Data '!C$21*'Given Data '!C$19*'Given Data '!C$9*('Acceeleration and Decelration'!F8/3.6)^2/2 -> 4.0239244 | D7: ='Given Data '!C$21*'Given Data '!C$19*'Given Data '!C$9*('Acceeleration and Decelration'!G8/3.6)^2/2 -> 7.4825041 | E7: ='Given Data '!C$21*'Given Data '!C$19*'Given Data '!C$9*('Acceeleration and Decelration'!H8/3.6)^2/2 -> 12.834402
B8: =B7+500 -> 3000 | C8: ='Given Data '!C$21*'Given Data '!C$19*'Given Data '!C$9*('Acceeleration and Decelration'!F9/3.6)^2/2 -> 5.7944512 | D8: ='Given Data '!C$21*'Given Data '!C$19*'Given Data '!C$9*('Acceeleration and Decelration'!G9/3.6)^2/2 -> 10.774806 | E8: ='Given Data '!C$21*'Given Data '!C$19*'Given Data '!C$9*('Acceeleration and Decelration'!H9/3.6)^2/2 -> 18.481539
B9: =B8+500 -> 3500 | C9: ='Given Data '!C$21*'Given Data '!C$19*'Given Data '!C$9*('Acceeleration and Decelration'!F10/3.6)^2/2 -> 7.8868919 | D9: ='Given Data '!C$21*'Given Data '!C$19*'Given Data '!C$9*('Acceeleration and Decelration'!G10/3.6)^2/2 -> 14.665708 | E9: ='Given Data '!C$21*'Given Data '!C$19*'Given Data '!C$9*('Acceeleration and Decelration'!H10/3.6)^2/2 -> 25.155428
B10: =B9+500 -> 4000 | C10: ='Given Data '!C$21*'Given Data '!C$19*'Given Data '!C$9*('Acceeleration and Decelration'!F11/3.6)^2/2 -> 10.301247 | D10: ='Given Data '!C$21*'Given Data '!C$19*'Given Data '!C$9*('Acceeleration and Decelration'!G11/3.6)^2/2 -> 19.155211 | E10: ='Given Data '!C$21*'Given Data '!C$19*'Given Data '!C$9*('Acceeleration and Decelration'!H11/3.6)^2/2 -> 32.85607
B11: =B10+500 -> 4500 | C11: ='Given Data '!C$21*'Given Data '!C$19*'Given Data '!C$9*('Acceeleration and Decelration'!F12/3.6)^2/2 -> 13.037515 | D11: ='Given Data '!C$21*'Given Data '!C$19*'Given Data '!C$9*('Acceeleration and Decelration'!G12/3.6)^2/2 -> 24.243313 | E11: ='Given Data '!C$21*'Given Data '!C$19*'Given Data '!C$9*('Acceeleration and Decelration'!H12/3.6)^2/2 -> 41.583463
B12: =B11+500 -> 5000 | C12: ='Given Data '!C$21*'Given Data '!C$19*'Given Data '!C$9*('Acceeleration and Decelration'!F13/3.6)^2/2 -> 16.095698 | D12: ='Given Data '!C$21*'Given Data '!C$19*'Given Data '!C$9*('Acceeleration and Decelration'!G13/3.6)^2/2 -> 29.930016 | E12: ='Given Data '!C$21*'Given Data '!C$19*'Given Data '!C$9*('Acceeleration and Decelration'!H13/3.6)^2/2 -> 51.337609
B13: =B12+500 -> 5500 | C13: ='Given Data '!C$21*'Given Data '!C$19*'Given Data '!C$9*('Acceeleration and Decelration'!F14/3.6)^2/2 -> 19.475794 | D13: ='Given Data '!C$21*'Given Data '!C$19*'Given Data '!C$9*('Acceeleration and Decelration'!G14/3.6)^2/2 -> 36.21532 | E13: ='Given Data '!C$21*'Given Data '!C$19*'Given Data '!C$9*('Acceeleration and Decelration'!H14/3.6)^2/2 -> 62.118506
B14: =B13+500 -> 6000 | C14: ='Given Data '!C$21*'Given Data '!C$19*'Given Data '!C$9*('Acceeleration and Decelration'!F15/3.6)^2/2 -> 23.177805 | D14: ='Given Data '!C$21*'Given Data '!C$19*'Given Data '!C$9*('Acceeleration and Decelration'!G15/3.6)^2/2 -> 43.099224 | E14: ='Given Data '!C$21*'Given Data '!C$19*'Given Data '!C$9*('Acceeleration and Decelration'!H15/3.6)^2/2 -> 73.926156
B15: =B14+500 -> 6500 | C15: ='Given Data '!C$21*'Given Data '!C$19*'Given Data '!C$9*('Acceeleration and Decelration'!F16/3.6)^2/2 -> 27.201729 | D15: ='Given Data '!C$21*'Given Data '!C$19*'Given Data '!C$9*('Acceeleration and Decelration'!G16/3.6)^2/2 -> 50.581728 | E15: ='Given Data '!C$21*'Given Data '!C$19*'Given Data '!C$9*('Acceeleration and Decelration'!H16/3.6)^2/2 -> 86.760559

Sheet Net Resistance 
A1: Net Resistance Force (N)
C3: Sector 1 | F3: Sector 2 | I3: Sector 3 | L3: Sector 4
B4: RPM | C4: Gear 1 | D4: Gear 2 | E4: Gear 3 | F4: Gear 1 | G4: Gear 2 | H4: Gear 3 | I4: Gear 1 | J4: Gear 2 | K4: Gear 3 | L4: Gear 1 | M4: Gear 2 | N4: Gear 3
B5: 1000 | C5: ='Rolling Resistance'!C$4+'Aerodynamic Resistance'!C4 -> 103.00333 | D5: ='Rolling Resistance'!C$4+'Aerodynamic Resistance'!D4 -> 103.5567 | E5: ='Rolling Resistance'!C$4+'Aerodynamic Resistance'!E4 -> 104.41301 | F5: ='Rolling Resistance'!C$5+'Aerodynamic Resistance'!C4 -> 103.00333 | G5: ='Rolling Resistance'!C$5+'Aerodynamic Resistance'!D4 -> 103.5567 | H5: ='Rolling Resistance'!C$5+'Aerodynamic Resistance'!E4 -> 104.41301 | I5: ='Rolling Resistance'!C$6+'Aerodynamic Resistance'!C4 -> 410.08184 | J5: ='Rolling Resistance'!C$6+'Aerodynamic Resistance'!D4 -> 410.63521 | K5: ='Rolling Resistance'!C$6+'Aerodynamic Resistance'!E4 -> 411.49151 | L5: ='Rolling Resistance'!C$7+'Aerodynamic Resistance'!C4 -> 1024.2388 | M5: ='Rolling Resistance'!C$7+'Aerodynamic Resistance'!D4 -> 1024.7922 | N5: ='Rolling Resistance'!C$7+'Aerodynamic Resistance'!E4 -> 1025.6485
B6: =B5+500 -> 1500 | C6: ='Rolling Resistance'!C$4+'Aerodynamic Resistance'!C5 -> 103.80811 | D6: ='Rolling Resistance'!C$4+'Aerodynamic Resistance'!D5 -> 105.0532 | E6: ='Rolling Resistance'!C$4+'Aerodynamic Resistance'!E5 -> 106.97989 | F6: ='Rolling Resistance'!C$5+'Aerodynamic Resistance'!C5 -> 103.80811 | G6: ='Rolling Resistance'!C$5+'Aerodynamic Resistance'!D5 -> 105.0532 | H6: ='Rolling Resistance'!C$5+'Aerodynamic Resistance'!E5 -> 106.97989 | I6: ='Rolling Resistance'!C$6+'Aerodynamic Resistance'!C5 -> 410.88662 | J6: ='Rolling Resistance'!C$6+'Aerodynamic Resistance'!D5 -> 412.13171 | K6: ='Rolling Resistance'!C$6+'Aerodynamic Resistance'!E5 -> 414.05839 | L6: ='Rolling Resistance'!C$7+'Aerodynamic Resistance'!C5 -> 1025.0436 | M6: ='Rolling Resistance'!C$7+'Aerodynamic Resistance'!D5 -> 1026.2887 | N6: ='Rolling Resistance'!C$7+'Aerodynamic Resistance'!E5 -> 1028.2154
B7: =B6+500 -> 2000 | C7: ='Rolling Resistance'!C$4+'Aerodynamic Resistance'!C6 -> 104.93481 | D7: ='Rolling Resistance'!C$4+'Aerodynamic Resistance'!D6 -> 107.1483 | E7: ='Rolling Resistance'!C$4+'Aerodynamic Resistance'!E6 -> 110.57352 | F7: ='Rolling Resistance'!C$5+'Aerodynamic Resistance'!C6 -> 104.93481 | G7: ='Rolling Resistance'!C$5+'Aerodynamic Resistance'!D6 -> 107.1483 | H7: ='Rolling Resistance'!C$5+'Aerodynamic Resistance'!E6 -> 110.57352 | I7: ='Rolling Resistance'!C$6+'Aerodynamic Resistance'!C6 -> 412.01332 | J7: ='Rolling Resistance'!C$6+'Aerodynamic Resistance'!D6 -> 414.22681 | K7: ='Rolling Resistance'!C$6+'Aerodynamic Resistance'!E6 -> 417.65203 | L7: ='Rolling Resistance'!C$7+'Aerodynamic Resistance'!C6 -> 1026.1703 | M7: ='Rolling Resistance'!C$7+'Aerodynamic Resistance'!D6 -> 1028.3838 | N7: ='Rolling Resistance'!C$7+'Aerodynamic Resistance'!E6 -> 1031.809
B8: =B7+500 -> 2500 | C8: ='Rolling Resistance'!C$4+'Aerodynamic Resistance'!C7 -> 106.38343 | D8: ='Rolling Resistance'!C$4+'Aerodynamic Resistance'!D7 -> 109.84201 | E8: ='Rolling Resistance'!C$4+'Aerodynamic Resistance'!E7 -> 115.1939 | F8: ='Rolling Resistance'!C$5+'Aerodynamic Resistance'!C7 -> 106.38343 | G8: ='Rolling Resistance'!C$5+'Aerodynamic Resistance'!D7 -> 109.84201 | H8: ='Rolling Resistance'!C$5+'Aerodynamic Resistance'!E7 -> 115.1939 | I8: ='Rolling Resistance'!C$6+'Aerodynamic Resistance'!C7 -> 413.46193 | J8: ='Rolling Resistance'!C$6+'Aerodynamic Resistance'!D7 -> 416.92051 | K8: ='Rolling Resistance'!C$6+'Aerodynamic Resistance'!E7 -> 422.27241 | L8: ='Rolling Resistance'!C$7+'Aerodynamic Resistance'!C7 -> 1027.6189 | M8: ='Rolling Resistance'!C$7+'Aerodynamic Resistance'!D7 -> 1031.0775 | N8: ='Rolling Resistance'!C$7+'Aerodynamic Resistance'!E7 -> 1036.4294
B9: =B8+500 -> 3000 | C9: ='Rolling Resistance'!C$4+'Aerodynamic Resistance'!C8 -> 108.15395 | D9: ='Rolling Resistance'!C$4+'Aerodynamic Resistance'!D8 -> 113.13431 | E9: ='Rolling Resistance'!C$4+'Aerodynamic Resistance'!E8 -> 120.84104 | F9: ='Rolling Resistance'!C$5+'Aerodynamic Resistance'!C8 -> 108.15395 | G9: ='Rolling Resistance'!C$5+'Aerodynamic Resistance'!D8 -> 113.13431 | H9: ='Rolling Resistance'!C$5+'Aerodynamic Resistance'!E8 -> 120.84104 | I9: ='Rolling Resistance'!C$6+'Aerodynamic Resistance'!C8 -> 415.23246 | J9: ='Rolling Resistance'!C$6+'Aerodynamic Resistance'!D8 -> 420.21281 | K9: ='Rolling Resistance'!C$6+'Aerodynamic Resistance'!E8 -> 427.91955 | L9: ='Rolling Resistance'!C$7+'Aerodynamic Resistance'!C8 -> 1029.3895 | M9: ='Rolling Resistance'!C$7+'Aerodynamic Resistance'!D8 -> 1034.3698 | N9: ='Rolling Resistance'!C$7+'Aerodynamic Resistance'!E8 -> 1042.0766
B10: =B9+500 -> 3500 | C10: ='Rolling Resistance'!C$4+'Aerodynamic Resistance'!C9 -> 110.24639 | D10: ='Rolling Resistance'!C$4+'Aerodynamic Resistance'!D9 -> 117.02521 | E10: ='Rolling Resistance'!C$4+'Aerodynamic Resistance'!E9 -> 127.51493 | F10: ='Rolling Resistance'!C$5+'Aerodynamic Resistance'!C9 -> 110.24639 | G10: ='Rolling Resistance'!C$5+'Aerodynamic Resistance'!D9 -> 117.02521 | H10: ='Rolling Resistance'!C$5+'Aerodynamic Resistance'!E9 -> 127.51493 | I10: ='Rolling Resistance'!C$6+'Aerodynamic Resistance'!C9 -> 417.3249 | J10: ='Rolling Resistance'!C$6+'Aerodynamic Resistance'!D9 -> 424.10372 | K10: ='Rolling Resistance'!C$6+'Aerodynamic Resistance'!E9 -> 434.59344 | L10: ='Rolling Resistance'!C$7+'Aerodynamic Resistance'!C9 -> 1031.4819 | M10: ='Rolling Resistance'!C$7+'Aerodynamic Resistance'!D9 -> 1038.2607 | N10: ='Rolling Resistance'!C$7+'Aerodynamic Resistance'!E9 -> 1048.7504
B11: =B10+500 -> 4000 | C11: ='Rolling Resistance'!C$4+'Aerodynamic Resistance'!C10 -> 112.66075 | D11: ='Rolling Resistance'!C$4+'Aerodynamic Resistance'!D10 -> 121.51471 | E11: ='Rolling Resistance'!C$4+'Aerodynamic Resistance'!E10 -> 135.21557 | F11: ='Rolling Resistance'!C$5+'Aerodynamic Resistance'!C10 -> 112.66075 | G11: ='Rolling Resistance'!C$5+'Aerodynamic Resistance'!D10 -> 121.51471 | H11: ='Rolling Resistance'!C$5+'Aerodynamic Resistance'!E10 -> 135.21557 | I11: ='Rolling Resistance'!C$6+'Aerodynamic Resistance'!C10 -> 419.73925 | J11: ='Rolling Resistance'!C$6+'Aerodynamic Resistance'!D10 -> 428.59322 | K11: ='Rolling Resistance'!C$6+'Aerodynamic Resistance'!E10 -> 442.29408 | L11: ='Rolling Resistance'!C$7+'Aerodynamic Resistance'!C10 -> 1033.8963 | M11: ='Rolling Resistance'!C$7+'Aerodynamic Resistance'!D10 -> 1042.7502 | N11: ='Rolling Resistance'!C$7+'Aerodynamic Resistance'!E10 -> 1056.4511
B12: =B11+500 -> 4500 | C12: ='Rolling Resistance'!C$4+'Aerodynamic Resistance'!C11 -> 115.39702 | D12: ='Rolling Resistance'!C$4+'Aerodynamic Resistance'!D11 -> 126.60282 | E12: ='Rolling Resistance'!C$4+'Aerodynamic Resistance'!E11 -> 143.94296 | F12: ='Rolling Resistance'!C$5+'Aerodynamic Resistance'!C11 -> 115.39702 | G12: ='Rolling Resistance'!C$5+'Aerodynamic Resistance'!D11 -> 126.60282 | H12: ='Rolling Resistance'!C$5+'Aerodynamic Resistance'!E11 -> 143.94296 | I12: ='Rolling Resistance'!C$6+'Aerodynamic Resistance'!C11 -> 422.47552 | J12: ='Rolling Resistance'!C$6+'Aerodynamic Resistance'!D11 -> 433.68132 | K12: ='Rolling Resistance'!C$6+'Aerodynamic Resistance'!E11 -> 451.02147 | L12: ='Rolling Resistance'!C$7+'Aerodynamic Resistance'!C11 -> 1036.6325 | M12: ='Rolling Resistance'!C$7+'Aerodynamic Resistance'!D11 -> 1047.8383 | N12: ='Rolling Resistance'!C$7+'Aerodynamic Resistance'!E11 -> 1065.1785
B13: =B12+500 -> 5000 | C13: ='Rolling Resistance'!C$4+'Aerodynamic Resistance'!C12 -> 118.4552 | D13: ='Rolling Resistance'!C$4+'Aerodynamic Resistance'!D12 -> 132.28952 | E13: ='Rolling Resistance'!C$4+'Aerodynamic Resistance'!E12 -> 153.69711 | F13: ='Rolling Resistance'!C$5+'Aerodynamic Resistance'!C12 -> 118.4552 | G13: ='Rolling Resistance'!C$5+'Aerodynamic Resistance'!D12 -> 132.28952 | H13: ='Rolling Resistance'!C$5+'Aerodynamic Resistance'!E12 -> 153.69711 | I13: ='Rolling Resistance'!C$6+'Aerodynamic Resistance'!C12 -> 425.53371 | J13: ='Rolling Resistance'!C$6+'Aerodynamic Resistance'!D12 -> 439.36802 | K13: ='Rolling Resistance'!C$6+'Aerodynamic Resistance'!E12 -> 460.77562 | L13: ='Rolling Resistance'!C$7+'Aerodynamic Resistance'!C12 -> 1039.6907 | M13: ='Rolling Resistance'!C$7+'Aerodynamic Resistance'!D12 -> 1053.525 | N13: ='Rolling Resistance'!C$7+'Aerodynamic Resistance'!E12 -> 1074.9326
B14: =B13+500 -> 5500 | C14: ='Rolling Resistance'!C$4+'Aerodynamic Resistance'!C13 -> 121.8353 | D14: ='Rolling Resistance'!C$4+'Aerodynamic Resistance'!D13 -> 138.57482 | E14: ='Rolling Resistance'!C$4+'Aerodynamic Resistance'!E13 -> 164.47801 | F14: ='Rolling Resistance'!C$5+'Aerodynamic Resistance'!C13 -> 121.8353 | G14: ='Rolling Resistance'!C$5+'Aerodynamic Resistance'!D13 -> 138.57482 | H14: ='Rolling Resistance'!C$5+'Aerodynamic Resistance'!E13 -> 164.47801 | I14: ='Rolling Resistance'!C$6+'Aerodynamic Resistance'!C13 -> 428.9138 | J14: ='Rolling Resistance'!C$6+'Aerodynamic Resistance'!D13 -> 445.65333 | K14: ='Rolling Resistance'!C$6+'Aerodynamic Resistance'!E13 -> 471.55651 | L14: ='Rolling Resistance'!C$7+'Aerodynamic Resistance'!C13 -> 1043.0708 | M14: ='Rolling Resistance'!C$7+'Aerodynamic Resistance'!D13 -> 1059.8103 | N14: ='Rolling Resistance'!C$7+'Aerodynamic Resistance'!E13 -> 1085.7135
B15: =B14+500 -> 6000 | C15: ='Rolling Resistance'!C$4+'Aerodynamic Resistance'!C14 -> 125.53731 | D15: ='Rolling Resistance'!C$4+'Aerodynamic Resistance'!D14 -> 145.45873 | E15: ='Rolling Resistance'!C$4+'Aerodynamic Resistance'!E14 -> 176.28566 | F15: ='Rolling Resistance'!C$5+'Aerodynamic Resistance'!C14 -> 125.53731 | G15: ='Rolling Resistance'!C$5+'Aerodynamic Resistance'!D14 -> 145.45873 | H15: ='Rolling Resistance'!C$5+'Aerodynamic Resistance'!E14 -> 176.28566 | I15: ='Rolling Resistance'!C$6+'Aerodynamic Resistance'!C14 -> 432.61581 | J15: ='Rolling Resistance'!C$6+'Aerodynamic Resistance'!D14 -> 452.53723 | K15: ='Rolling Resistance'!C$6+'Aerodynamic Resistance'!E14 -> 483.36416 | L15: ='Rolling Resistance'!C$7+'Aerodynamic Resistance'!C14 -> 1046.7728 | M15: ='Rolling Resistance'!C$7+'Aerodynamic Resistance'!D14 -> 1066.6942 | N15: ='Rolling Resistance'!C$7+'Aerodynamic Resistance'!E14 -> 1097.5212
B16: =B15+500 -> 6500 | C16: ='Rolling Resistance'!C$4+'Aerodynamic Resistance'!C15 -> 129.56123 | D16: ='Rolling Resistance'!C$4+'Aerodynamic Resistance'!D15 -> 152.94123 | E16: ='Rolling Resistance'!C$4+'Aerodynamic Resistance'!E15 -> 189.12006 | F16: ='Rolling Resistance'!C$5+'Aerodynamic Resistance'!C15 -> 129.56123 | G16: ='Rolling Resistance'!C$5+'Aerodynamic Resistance'!D15 -> 152.94123 | H16: ='Rolling Resistance'!C$5+'Aerodynamic Resistance'!E15 -> 189.12006 | I16: ='Rolling Resistance'!C$6+'Aerodynamic Resistance'!C15 -> 436.63974 | J16: ='Rolling Resistance'!C$6+'Aerodynamic Resistance'!D15 -> 460.01974 | K16: ='Rolling Resistance'!C$6+'Aerodynamic Resistance'!E15 -> 496.19857 | L16: ='Rolling Resistance'!C$7+'Aerodynamic Resistance'!C15 -> 1050.7967 | M16: ='Rolling Resistance'!C$7+'Aerodynamic Resistance'!D15 -> 1074.1767 | N16: ='Rolling Resistance'!C$7+'Aerodynamic Resistance'!E15 -> 1110.3556
B19: Acceleration Decrease due to resistive forces
B21: RPM | C21: Sector 1 | F21: Sector 2 | I21: Sector 3 | L21: Sector 4
C22: Gear 1 | D22: Gear 2 | E22: Gear 3 | F22: Gear 1 | G22: Gear 2 | H22: Gear 3 | I22: Gear 1 | J22: Gear 2 | K22: Gear 3 | L22: Gear 1 | M22: Gear 2 | N22: Gear 3
B23: 1000 | C23: =C5/'Given Data '!C$17 -> 0.19743407 | D23: =D5/'Given Data '!C$17 -> 0.19849476 | E23: =E5/'Given Data '!C$17 -> 0.2001361 | F23: =F5/'Given Data '!C$17 -> 0.19743407 | G23: =G5/'Given Data '!C$17 -> 0.19849476 | H23: =H5/'Given Data '!C$17 -> 0.2001361 | I23: =I5/'Given Data '!C$17 -> 0.78603407 | J23: =J5/'Given Data '!C$17 -> 0.78709476 | K23: =K5/'Given Data '!C$17 -> 0.7887361 | L23: =L5/'Given Data '!C$17 -> 1.9632341 | M23: =M5/'Given Data '!C$17 -> 1.9642948 | N23: =N5/'Given Data '!C$17 -> 1.9659361
B24: =B23+500 -> 1500 | C24: =C6/'Given Data '!C$17 -> 0.19897666 | D24: =D6/'Given Data '!C$17 -> 0.20136322 | E24: =E6/'Given Data '!C$17 -> 0.20505623 | F24: =F6/'Given Data '!C$17 -> 0.19897666 | G24: =G6/'Given Data '!C$17 -> 0.20136322 | H24: =H6/'Given Data '!C$17 -> 0.20505623 | I24: =I6/'Given Data '!C$17 -> 0.78757666 | J24: =J6/'Given Data '!C$17 -> 0.78996322 | K24: =K6/'Given Data '!C$17 -> 0.79365623 | L24: =L6/'Given Data '!C$17 -> 1.9647767 | M24: =M6/'Given Data '!C$17 -> 1.9671632 | N24: =N6/'Given Data '!C$17 -> 1.9708562
B25: =B24+500 -> 2000 | C25: =C7/'Given Data '!C$17 -> 0.20113629 | D25: =D7/'Given Data '!C$17 -> 0.20537905 | E25: =E7/'Given Data '!C$17 -> 0.21194441 | F25: =F7/'Given Data '!C$17 -> 0.20113629 | G25: =G7/'Given Data '!C$17 -> 0.20537905 | H25: =H7/'Given Data '!C$17 -> 0.21194441 | I25: =I7/'Given Data '!C$17 -> 0.78973629 | J25: =J7/'Given Data '!C$17 -> 0.79397905 | K25: =K7/'Given Data '!C$17 -> 0.80054441 | L25: =L7/'Given Data '!C$17 -> 1.9669363 | M25: =M7/'Given Data '!C$17 -> 1.9711791 | N25: =N7/'Given Data '!C$17 -> 1.9777444
B26: =B25+500 -> 2500 | C26: =C8/'Given Data '!C$17 -> 0.20391295 | D26: =D8/'Given Data '!C$17 -> 0.21054227 | E26: =E8/'Given Data '!C$17 -> 0.22080064 | F26: =F8/'Given Data '!C$17 -> 0.20391295 | G26: =G8/'Given Data '!C$17 -> 0.21054227 | H26: =H8/'Given Data '!C$17 -> 0.22080064 | I26: =I8/'Given Data '!C$17 -> 0.79251295 | J26: =J8/'Given Data '!C$17 -> 0.79914227 | K26: =K8/'Given Data '!C$17 -> 0.80940064 | L26: =L8/'Given Data '!C$17 -> 1.969713 | M26: =M8/'Given Data '!C$17 -> 1.9763423 | N26: =N8/'Given Data '!C$17 -> 1.9866006
B27: =B26+500 -> 3000 | C27: =C9/'Given Data '!C$17 -> 0.20730665 | D27: =D9/'Given Data '!C$17 -> 0.21685286 | E27: =E9/'Given Data '!C$17 -> 0.23162493 | F27: =F9/'Given Data '!C$17 -> 0.20730665 | G27: =G9/'Given Data '!C$17 -> 0.21685286 | H27: =H9/'Given Data '!C$17 -> 0.23162493 | I27: =I9/'Given Data '!C$17 -> 0.79590665 | J27: =J9/'Given Data '!C$17 -> 0.80545286 | K27: =K9/'Given Data '!C$17 -> 0.82022493 | L27: =L9/'Given Data '!C$17 -> 1.9731067 | M27: =M9/'Given Data '!C$17 -> 1.9826529 | N27: =N9/'Given Data '!C$17 -> 1.9974249
B28: =B27+500 -> 3500 | C28: =C10/'Given Data '!C$17 -> 0.21131739 | D28: =D10/'Given Data '!C$17 -> 0.22431084 | E28: =E10/'Given Data '!C$17 -> 0.24441726 | F28: =F10/'Given Data '!C$17 -> 0.21131739 | G28: =G10/'Given Data '!C$17 -> 0.22431084 | H28: =H10/'Given Data '!C$17 -> 0.24441726 | I28: =I10/'Given Data '!C$17 -> 0.79991739 | J28: =J10/'Given Data '!C$17 -> 0.81291084 | K28: =K10/'Given Data '!C$17 -> 0.83301726 | L28: =L10/'Given Data '!C$17 -> 1.9771174 | M28: =M10/'Given Data '!C$17 -> 1.9901108 | N28: =N10/'Given Data '!C$17 -> 2.0102173
B29: =B28+500 -> 4000 | C29: =C11/'Given Data '!C$17 -> 0.21594516 | D29: =D11/'Given Data '!C$17 -> 0.2329162 | E29: =E11/'Given Data '!C$17 -> 0.25917765 | F29: =F11/'Given Data '!C$17 -> 0.21594516 | G29: =G11/'Given Data '!C$17 -> 0.2329162 | H29: =H11/'Given Data '!C$17 -> 0.25917765 | I29: =I11/'Given Data '!C$17 -> 0.80454516 | J29: =J11/'Given Data '!C$17 -> 0.8215162 | K29: =K11/'Given Data '!C$17 -> 0.84777765 | L29: =L11/'Given Data '!C$17 -> 1.9817452 | M29: =M11/'Given Data '!C$17 -> 1.9987162 | N29: =N11/'Given Data '!C$17 -> 2.0249776
B30: =B29+500 -> 4500 | C30: =C12/'Given Data '!C$17 -> 0.22118997 | D30: =D12/'Given Data '!C$17 -> 0.24266895 | E30: =E12/'Given Data '!C$17 -> 0.27590609 | F30: =F12/'Given Data '!C$17 -> 0.22118997 | G30: =G12/'Given Data '!C$17 -> 0.24266895 | H30: =H12/'Given Data '!C$17 -> 0.27590609 | I30: =I12/'Given Data '!C$17 -> 0.80978997 | J30: =J12/'Given Data '!C$17 -> 0.83126895 | K30: =K12/'Given Data '!C$17 -> 0.86450609 | L30: =L12/'Given Data '!C$17 -> 1.98699 | M30: =M12/'Given Data '!C$17 -> 2.0084689 | N30: =N12/'Given Data '!C$17 -> 2.0417061
B31: =B30+500 -> 5000 | C31: =C13/'Given Data '!C$17 -> 0.22705181 | D31: =D13/'Given Data '!C$17 -> 0.25356907 | E31: =E13/'Given Data '!C$17 -> 0.29460258 | F31: =F13/'Given Data '!C$17 -> 0.22705181 | G31: =G13/'Given Data '!C$17 -> 0.25356907 | H31: =H13/'Given Data '!C$17 -> 0.29460258 | I31: =I13/'Given Data '!C$17 -> 0.81565181 | J31: =J13/'Given Data '!C$17 -> 0.84216907 | K31: =K13/'Given Data '!C$17 -> 0.88320258 | L31: =L13/'Given Data '!C$17 -> 1.9928518 | M31: =M13/'Given Data '!C$17 -> 2.0193691 | N31: =N13/'Given Data '!C$17 -> 2.0604026
B32: =B31+500 -> 5500 | C32: =C14/'Given Data '!C$17 -> 0.23353069 | D32: =D14/'Given Data '!C$17 -> 0.26561657 | E32: =E14/'Given Data '!C$17 -> 0.31526712 | F32: =F14/'Given Data '!C$17 -> 0.23353069 | G32: =G14/'Given Data '!C$17 -> 0.26561657 | H32: =H14/'Given Data '!C$17 -> 0.31526712 | I32: =I14/'Given Data '!C$17 -> 0.82213069 | J32: =J14/'Given Data '!C$17 -> 0.85421657 | K32: =K14/'Given Data '!C$17 -> 0.90386712 | L32: =L14/'Given Data '!C$17 -> 1.9993307 | M32: =M14/'Given Data '!C$17 -> 2.0314166 | N32: =N14/'Given Data '!C$17 -> 2.0810671
B33: =B32+500 -> 6000 | C33: =C15/'Given Data '!C$17 -> 0.24062661 | D33: =D15/'Given Data '!C$17 -> 0.27881146 | E33: =E15/'Given Data '!C$17 -> 0.33789971 | F33: =F15/'Given Data '!C$17 -> 0.24062661 | G33: =G15/'Given Data '!C$17 -> 0.27881146 | H33: =H15/'Given Data '!C$17 -> 0.33789971 | I33: =I15/'Given Data '!C$17 -> 0.82922661 | J33: =J15/'Given Data '!C$17 -> 0.86741146 | K33: =K15/'Given Data '!C$17 -> 0.92649971 | L33: =L15/'Given Data '!C$17 -> 2.0064266 | M33: =M15/'Given Data '!C$17 -> 2.0446115 | N33: =N15/'Given Data '!C$17 -> 2.1036997
B34: =B33+500 -> 6500 | C34: =C16/'Given Data '!C$17 -> 0.24833956 | D34: =D16/'Given Data '!C$17 -> 0.29315372 | E34: =E16/'Given Data '!C$17 -> 0.36250036 | F34: =F16/'Given Data '!C$17 -> 0.24833956 | G34: =G16/'Given Data '!C$17 -> 0.29315372 | H34: =H16/'Given Data '!C$17 -> 0.36250036 | I34: =I16/'Given Data '!C$17 -> 0.83693956 | J34: =J16/'Given Data '!C$17 -> 0.88175372 | K34: =K16/'Given Data '!C$17 -> 0.95110036 | L34: =L16/'Given Data '!C$17 -> 2.0141396 | M34: =M16/'Given Data '!C$17 -> 2.0589537 | N34: =N16/'Given Data '!C$17 -> 2.1283004

Sheet Simulation
A1: Simulation | G1: 1 | H1: 2 | I1: 3 | J1: 4 | K1: 5 | L1: 6 | M1: 7 | N1: 8 | O1: 9 | P1: 10 | Q1: 11 | R1: 12 | S1: 13 | T1: 14 | U1: 15 | V1: 16 | W1: 17 | X1: 18 | Y1: 19
A3: Track Layout | B3: μR Coefficient | C3: Start | D3: End | E3: Length (m) | G3: RPM | H3: Power(HP) | I3: Power(kw) | J3: Torque(Nm) | K3: BSFC | L3: Gear | M3: Sector | N3: Distance | O3: Time(s) | P3: Speed (km/h) | Q3: Speed (m/s) | R3: Acceleration(m/s2) | S3: Aero Drag(N) | T3: Rolling Resistance(N) | U3: Gradient Resistance (N) | V3: Driving Force(N) | W3: Available Acceleration(m/s) | X3: Reduced Mass | Y3: Kinetic Energy(KJ)
A4: Sector 1 | B4: 0.02 | C4: C15 | D4: C6 | E4: 1180 | G4: 1000 | H4: 0.68 | I4: =Table10[[#This Row],[Column2]]*746/1000 -> 0.50728 | J4: =60*Table10[[#This Row],[Column3]]/(2*PI()*Table10[[#This Row],[Column1]]) -> 0.0048441672 | K4: 709.8937 | L4: =IF(Simulation!Q4<='Given Data '!J$6,1,IF(AND(Simulation!Q4>'Given Data '!J$6,Simulation!Q4<='Given Data '!J$7),2,IF(Simulation!Q4>'Given Data '!J$7,3))) -> 1 | M4: 1 | N4: 0 | O4: 0 | P4: 0 | Q4: 0 | R4: =Table10[[#This Row],[Column16]]/Table10[[#This Row],[Column19]] -> 1.0197598 | S4: 0 | T4: ='Given Data '!C$22*'Given Data '!C$17*9.81 -> 102.3595 | U4: 0 | V4: ='Given Data '!C$45-(Table10[[#This Row],[Column13]]+Table10[[#This Row],[Column14]]+Table10[[#This Row],[Column15]]) -> 605.54192 | W4: =Table10[[#This Row],[Column16]]/'Given Data '!C$17 -> 1.1606868 | X4: =IF(L4=1,'Given Data '!C$55,IF(L4=2,'Given Data '!C$56,IF(L4=3,'Given Data '!C$57))) -> 593.80838 | Y4: =Table10[[#This Row],[Column19]]*Table10[[#This Row],[Column11]]^2/(2*1000) -> 0
A5: Sector 2 | B5: 0.02 | C5: C6 | D5: C11 | E5: 460 | G5: 1200 | H5: 1.03 | I5: =Table10[[#This Row],[Column2]]*746/1000 -> 0.76838 | J5: =60*Table10[[#This Row],[Column3]]/(2*PI()*Table10[[#This Row],[Column1]]) -> 0.0061145738 | K5: 738.1738 | L5: =IF(Simulation!Q5<='Given Data '!J$6,1,IF(AND(Simulation!Q5>'Given Data '!J$6,Simulation!Q5<='Given Data '!J$7),2,IF(Simulation!Q5>'Given Data '!J$7,3))) -> 1 | M5: 1 | N5: =N4+1 -> 1 | O5: =O4+(Table10[[#This Row],[Column11]]-Q4)/R4 -> 1.400445 | P5: =3.6*Table10[[#This Row],[Column11]] -> 5.141223 | Q5: =SQRT(2*R4+Q4^2) -> 1.4281175 | R5: =Table10[[#This Row],[Column16]]/Table10[[#This Row],[Column19]] -> 1.0165304 | S5: ='Given Data '!C$21*'Given Data '!C$19*'Given Data '!C$9*Table10[[#This Row],[Column11]]^2 -> 1.9176622 | T5: ='Given Data '!C$22*'Given Data '!C$17*9.81 -> 102.3595 | U5: 0 | V5: ='Given Data '!C$45-(Table10[[#This Row],[Column13]]+Table10[[#This Row],[Column14]]+Table10[[#This Row],[Column15]]) -> 603.62425 | W5: =Table10[[#This Row],[Column16]]/'Given Data '!C$17 -> 1.1570111 | X5: =IF(L5=1,'Given Data '!C$55,IF(L5=2,'Given Data '!C$56,IF(L5=3,'Given Data '!C$57))) -> 593.80838 | Y5: =Table10[[#This Row],[Column19]]*Table10[[#This Row],[Column11]]^2/(2*1000) -> 0.60554192
A6: Sector 3 | B6: 0.08 | C6: C11 | D6: C13 | E6: 300 | G6: 1400 | H6: 1.39 | I6: =Table10[[#This Row],[Column2]]*746/1000 -> 1.03694 | J6: =60*Table10[[#This Row],[Column3]]/(2*PI()*Table10[[#This Row],[Column1]]) -> 0.0070728911 | K6: 698.9772 | L6: =IF(Simulation!Q6<='Given Data '!J$6,1,IF(AND(Simulation!Q6>'Given Data '!J$6,Simulation!Q6<='Given Data '!J$7),2,IF(Simulation!Q6>'Given Data '!J$7,3))) -> 1 | M6: 1 | N6: =N5+1 -> 2 | O6: =O5+(Table10[[#This Row],[Column11]]-Q5)/R5 -> 1.9807975 | P6: =3.6*Table10[[#This Row],[Column11]] -> 7.2650287 | Q6: =SQRT(2*R5+Q5^2) -> 2.0180635 | R6: =Table10[[#This Row],[Column16]]/Table10[[#This Row],[Column19]] -> 1.0133112 | S6: ='Given Data '!C$21*'Given Data '!C$19*'Given Data '!C$9*Table10[[#This Row],[Column11]]^2 -> 3.8292514 | T6: ='Given Data '!C$22*'Given Data '!C$17*9.81 -> 102.3595 | U6: 0 | V6: ='Given Data '!C$45-(Table10[[#This Row],[Column13]]+Table10[[#This Row],[Column14]]+Table10[[#This Row],[Column15]]) -> 601.71266 | W6: =Table10[[#This Row],[Column16]]/'Given Data '!C$17 -> 1.153347 | X6: =IF(L6=1,'Given Data '!C$55,IF(L6=2,'Given Data '!C$56,IF(L6=3,'Given Data '!C$57))) -> 593.80838 | Y6: =Table10[[#This Row],[Column19]]*Table10[[#This Row],[Column11]]^2/(2*1000) -> 1.2091662
A7: Sector 4 | B7: 0.2 | C7: C13 | D7: C15 | E7: 160 | G7: 1900 | H7: 2.92 | I7: =Table10[[#This Row],[Column2]]*746/1000 -> 2.17832 | J7: =60*Table10[[#This Row],[Column3]]/(2*PI()*Table10[[#This Row],[Column1]]) -> 0.010948118 | K7: 671.425 | L7: =IF(Simulation!Q7<='Given Data '!J$6,1,IF(AND(Simulation!Q7>'Given Data '!J$6,Simulation!Q7<='Given Data '!J$7),2,IF(Simulation!Q7>'Given Data '!J$7,3))) -> 1 | M7: 1 | N7: =N6+1 -> 3 | O7: =O6+(Table10[[#This Row],[Column11]]-Q6)/R6 -> 2.4264582 | P7: =3.6*Table10[[#This Row],[Column11]] -> 8.890763 | Q7: =SQRT(2*R6+Q6^2) -> 2.4696564 | R7: =Table10[[#This Row],[Column16]]/Table10[[#This Row],[Column19]] -> 1.0101022 | S7: ='Given Data '!C$21*'Given Data '!C$19*'Given Data '!C$9*Table10[[#This Row],[Column11]]^2 -> 5.734787 | T7: ='Given Data '!C$22*'Given Data '!C$17*9.81 -> 102.3595 | U7: 0 | V7: ='Given Data '!C$45-(Table10[[#This Row],[Column13]]+Table10[[#This Row],[Column14]]+Table10[[#This Row],[Column15]]) -> 599.80713 | W7: =Table10[[#This Row],[Column16]]/'Given Data '!C$17 -> 1.1496945 | X7: =IF(L7=1,'Given Data '!C$55,IF(L7=2,'Given Data '!C$56,IF(L7=3,'Given Data '!C$57))) -> 593.80838 | Y7: =Table10[[#This Row],[Column19]]*Table10[[#This Row],[Column11]]^2/(2*1000) -> 1.8108788
A8: Toatl Length | E8: =SUM(E4:E7) -> 2100 | G8: 2300 | H8: 4.24 | I8: =Table10[[#This Row],[Column2]]*746/1000 -> 3.16304 | J8: =60*Table10[[#This Row],[Column3]]/(2*PI()*Table10[[#This Row],[Column1]]) -> 0.013132525 | K8: 537.86 | L8: =IF(Simulation!Q8<='Given Data '!J$6,1,IF(AND(Simulation!Q8>'Given Data '!J$6,Simulation!Q8<='Given Data '!J$7),2,IF(Simulation!Q8>'Given Data '!J$7,3))) -> 1 | M8: 1 | N8: =N7+1 -> 4 | O8: =O7+(Table10[[#This Row],[Column11]]-Q7)/R7 -> 2.8024606 | P8: =3.6*Table10[[#This Row],[Column11]] -> 10.258046 | Q8: =SQRT(2*R7+Q7^2) -> 2.8494573 | R8: =Table10[[#This Row],[Column16]]/Table10[[#This Row],[Column19]] -> 1.0069033 | S8: ='Given Data '!C$21*'Given Data '!C$19*'Given Data '!C$9*Table10[[#This Row],[Column11]]^2 -> 7.6342879 | T8: ='Given Data '!C$22*'Given Data '!C$17*9.81 -> 102.3595 | U8: 0 | V8: ='Given Data '!C$45-(Table10[[#This Row],[Column13]]+Table10[[#This Row],[Column14]]+Table10[[#This Row],[Column15]]) -> 597.90763 | W8: =Table10[[#This Row],[Column16]]/'Given Data '!C$17 -> 1.1460536 | X8: =IF(L8=1,'Given Data '!C$55,IF(L8=2,'Given Data '!C$56,IF(L8=3,'Given Data '!C$57))) -> 593.80838 | Y8: =Table10[[#This Row],[Column19]]*Table10[[#This Row],[Column11]]^2/(2*1000) -> 2.410686
G9: 2500 | H9: 5.24 | I9: =Table10[[#This Row],[Column2]]*746/1000 -> 3.90904 | J9: =60*Table10[[#This Row],[Column3]]/(2*PI()*Table10[[#This Row],[Column1]]) -> 0.014931433 | K9: 519.9 | L9: =IF(Simulation!Q9<='Given Data '!J$6,1,IF(AND(Simulation!Q9>'Given Data '!J$6,Simulation!Q9<='Given Data '!J$7),2,IF(Simulation!Q9>'Given Data '!J$7,3))) -> 1 | M9: 1 | N9: =N8+1 -> 5 | O9: =O8+(Table10[[#This Row],[Column11]]-Q8)/R8 -> 3.1339856 | P9: =3.6*Table10[[#This Row],[Column11]] -> 11.459775 | Q9: =SQRT(2*R8+Q8^2) -> 3.1832709 | R9: =Table10[[#This Row],[Column16]]/Table10[[#This Row],[Column19]] -> 1.0037146 | S9: ='Given Data '!C$21*'Given Data '!C$19*'Given Data '!C$9*Table10[[#This Row],[Column11]]^2 -> 9.5277735 | T9: ='Given Data '!C$22*'Given Data '!C$17*9.81 -> 102.3595 | U9: 0 | V9: ='Given Data '!C$45-(Table10[[#This Row],[Column13]]+Table10[[#This Row],[Column14]]+Table10[[#This Row],[Column15]]) -> 596.01414 | W9: =Table10[[#This Row],[Column16]]/'Given Data '!C$17 -> 1.1424242 | X9: =IF(L9=1,'Given Data '!C$55,IF(L9=2,'Given Data '!C$56,IF(L9=3,'Given Data '!C$57))) -> 593.80838 | Y9: =Table10[[#This Row],[Column19]]*Table10[[#This Row],[Column11]]^2/(2*1000) -> 3.0085936
G10: 2700 | H10: 5.93 | I10: =Table10[[#This Row],[Column2]]*746/1000 -> 4.42378 | J10: =60*Table10[[#This Row],[Column3]]/(2*PI()*Table10[[#This Row],[Column1]]) -> 0.015645921 | K10: 516.02 | L10: =IF(Simulation!Q10<='Given Data '!J$6,1,IF(AND(Simulation!Q10>'Given Data '!J$6,Simulation!Q10<='Given Data '!J$7),2,IF(Simulation!Q10>'Given Data '!J$7,3))) -> 1 | M10: 1 | N10: =N9+1 -> 6 | O10: =O9+(Table10[[#This Row],[Column11]]-Q9)/R9 -> 3.433943 | P10: =3.6*Table10[[#This Row],[Column11]] -> 12.543633 | Q10: =SQRT(2*R9+Q9^2) -> 3.4843425 | R10: =Table10[[#This Row],[Column16]]/Table10[[#This Row],[Column19]] -> 1.000536 | S10: ='Given Data '!C$21*'Given Data '!C$19*'Given Data '!C$9*Table10[[#This Row],[Column11]]^2 -> 11.415263 | T10: ='Given Data '!C$22*'Given Data '!C$17*9.81 -> 102.3595 | U10: 0 | V10: ='Given Data '!C$45-(Table10[[#This Row],[Column13]]+Table10[[#This Row],[Column14]]+Table10[[#This Row],[Column15]]) -> 594.12665 | W10: =Table10[[#This Row],[Column16]]/'Given Data '!C$17 -> 1.1388063 | X10: =IF(L10=1,'Given Data '!C$55,IF(L10=2,'Given Data '!C$56,IF(L10=3,'Given Data '!C$57))) -> 593.80838 | Y10: =Table10[[#This Row],[Column19]]*Table10[[#This Row],[Column11]]^2/(2*1000) -> 3.6046077
G11: 3000 | H11: 7.17 | I11: =Table10[[#This Row],[Column2]]*746/1000 -> 5.34882 | J11: =60*Table10[[#This Row],[Column3]]/(2*PI()*Table10[[#This Row],[Column1]]) -> 0.017025823 | K11: 504.2 | L11: =IF(Simulation!Q11<='Given Data '!J$6,1,IF(AND(Simulation!Q11>'Given Data '!J$6,Simulation!Q11<='Given Data '!J$7),2,IF(Simulation!Q11>'Given Data '!J$7,3))) -> 1 | M11: 1 | N11: =N10+1 -> 7 | O11: =O10+(Table10[[#This Row],[Column11]]-Q10)/R10 -> 3.7099997 | P11: =3.6*Table10[[#This Row],[Column11]] -> 13.53797 | Q11: =SQRT(2*R10+Q10^2) -> 3.7605472 | R11: =Table10[[#This Row],[Column16]]/Table10[[#This Row],[Column19]] -> 0.99736744 | S11: ='Given Data '!C$21*'Given Data '!C$19*'Given Data '!C$9*Table10[[#This Row],[Column11]]^2 -> 13.296774 | T11: ='Given Data '!C$22*'Given Data '!C$17*9.81 -> 102.3595 | U11: 0 | V11: ='Given Data '!C$45-(Table10[[#This Row],[Column13]]+Table10[[#This Row],[Column14]]+Table10[[#This Row],[Column15]]) -> 592.24514 | W11: =Table10[[#This Row],[Column16]]/'Given Data '!C$17 -> 1.1351999 | X11: =IF(L11=1,'Given Data '!C$55,IF(L11=2,'Given Data '!C$56,IF(L11=3,'Given Data '!C$57))) -> 593.80838 | Y11: =Table10[[#This Row],[Column19]]*Table10[[#This Row],[Column11]]^2/(2*1000) -> 4.1987344
G12: 3200 | H12: 8.03 | I12: =Table10[[#This Row],[Column2]]*746/1000 -> 5.99038 | J12: =60*Table10[[#This Row],[Column3]]/(2*PI()*Table10[[#This Row],[Column1]]) -> 0.017876224 | K12: 498.7 | L12: =IF(Simulation!Q12<='Given Data '!J$6,1,IF(AND(Simulation!Q12>'Given Data '!J$6,Simulation!Q12<='Given Data '!J$7),2,IF(Simulation!Q12>'Given Data '!J$7,3))) -> 1 | M12: 1 | N12: =N11+1 -> 8 | O12: =O11+(Table10[[#This Row],[Column11]]-Q11)/R11 -> 3.9671495 | P12: =3.6*Table10[[#This Row],[Column11]] -> 14.461272 | Q12: =SQRT(2*R11+Q11^2) -> 4.01702 | R12: =Table10[[#This Row],[Column16]]/Table10[[#This Row],[Column19]] -> 0.99420893 | S12: ='Given Data '!C$21*'Given Data '!C$19*'Given Data '!C$9*Table10[[#This Row],[Column11]]^2 -> 15.172328 | T12: ='Given Data '!C$22*'Given Data '!C$17*9.81 -> 102.3595 | U12: 0 | V12: ='Given Data '!C$45-(Table10[[#This Row],[Column13]]+Table10[[#This Row],[Column14]]+Table10[[#This Row],[Column15]]) -> 590.36959 | W12: =Table10[[#This Row],[Column16]]/'Given Data '!C$17 -> 1.1316049 | X12: =IF(L12=1,'Given Data '!C$55,IF(L12=2,'Given Data '!C$56,IF(L12=3,'Given Data '!C$57))) -> 593.80838 | Y12: =Table10[[#This Row],[Column19]]*Table10[[#This Row],[Column11]]^2/(2*1000) -> 4.7909795
G13: 3400 | H13: 8.96 | I13: =Table10[[#This Row],[Column2]]*746/1000 -> 6.68416 | J13: =60*Table10[[#This Row],[Column3]]/(2*PI()*Table10[[#This Row],[Column1]]) -> 0.018773243 | K13: 493.2 | L13: =IF(Simulation!Q13<='Given Data '!J$6,1,IF(AND(Simulation!Q13>'Given Data '!J$6,Simulation!Q13<='Given Data '!J$7),2,IF(Simulation!Q13>'Given Data '!J$7,3))) -> 1 | M13: 1 | N13: =N12+1 -> 9 | O13: =O12+(Table10[[#This Row],[Column11]]-Q12)/R12 -> 4.2088603 | P13: =3.6*Table10[[#This Row],[Column11]] -> 15.326392 | Q13: =SQRT(2*R12+Q12^2) -> 4.257331 | R13: =Table10[[#This Row],[Column16]]/Table10[[#This Row],[Column19]] -> 0.99106041 | S13: ='Given Data '!C$21*'Given Data '!C$19*'Given Data '!C$9*Table10[[#This Row],[Column11]]^2 -> 17.041941 | T13: ='Given Data '!C$22*'Given Data '!C$17*9.81 -> 102.3595 | U13: 0 | V13: ='Given Data '!C$45-(Table10[[#This Row],[Column13]]+Table10[[#This Row],[Column14]]+Table10[[#This Row],[Column15]]) -> 588.49997 | W13: =Table10[[#This Row],[Column16]]/'Given Data '!C$17 -> 1.1280213 | X13: =IF(L13=1,'Given Data '!C$55,IF(L13=2,'Given Data '!C$56,IF(L13=3,'Given Data '!C$57))) -> 593.80838 | Y13: =Table10[[#This Row],[Column19]]*Table10[[#This Row],[Column11]]^2/(2*1000) -> 5.3813491
G14: 3600 | H14: 9.64 | I14: =Table10[[#This Row],[Column2]]*746/1000 -> 7.19144 | J14: =60*Table10[[#This Row],[Column3]]/(2*PI()*Table10[[#This Row],[Column1]]) -> 0.019075887 | K14: 487.6 | L14: =IF(Simulation!Q14<='Given Data '!J$6,1,IF(AND(Simulation!Q14>'Given Data '!J$6,Simulation!Q14<='Given Data '!J$7),2,IF(Simulation!Q14>'Given Data '!J$7,3))) -> 1 | M14: 1 | N14: =N13+1 -> 10 | O14: =O13+(Table10[[#This Row],[Column11]]-Q13)/R13 -> 4.4376563 | P14: =3.6*Table10[[#This Row],[Column11]] -> 16.142694 | Q14: =SQRT(2*R13+Q13^2) -> 4.4840817 | R14: =Table10[[#This Row],[Column16]]/Table10[[#This Row],[Column19]] -> 0.98792187 | S14: ='Given Data '!C$21*'Given Data '!C$19*'Given Data '!C$9*Table10[[#This Row],[Column11]]^2 -> 18.905634 | T14: ='Given Data '!C$22*'Given Data '!C$17*9.81 -> 102.3595 | U14: 0 | V14: ='Given Data '!C$45-(Table10[[#This Row],[Column13]]+Table10[[#This Row],[Column14]]+Table10[[#This Row],[Column15]]) -> 586.63628 | W14: =Table10[[#This Row],[Column16]]/'Given Data '!C$17 -> 1.124449 | X14: =IF(L14=1,'Given Data '!C$55,IF(L14=2,'Given Data '!C$56,IF(L14=3,'Given Data '!C$57))) -> 593.80838 | Y14: =Table10[[#This Row],[Column19]]*Table10[[#This Row],[Column11]]^2/(2*1000) -> 5.9698491
G15: 3800 | H15: 10.07 | I15: =Table10[[#This Row],[Column2]]*746/1000 -> 7.51222 | J15: =60*Table10[[#This Row],[Column3]]/(2*PI()*Table10[[#This Row],[Column1]]) -> 0.018878004 | K15: 488.4 | L15: =IF(Simulation!Q15<='Given Data '!J$6,1,IF(AND(Simulation!Q15>'Given Data '!J$6,Simulation!Q15<='Given Data '!J$7),2,IF(Simulation!Q15>'Given Data '!J$7,3))) -> 1 | M15: 1 | N15: =N14+1 -> 11 | O15: =O14+(Table10[[#This Row],[Column11]]-Q14)/R14 -> 4.6554424 | P15: =3.6*Table10[[#This Row],[Column11]] -> 16.917255 | Q15: =SQRT(2*R14+Q14^2) -> 4.6992374 | R15: =Table10[[#This Row],[Column16]]/Table10[[#This Row],[Column19]] -> 0.98479327 | S15: ='Given Data '!C$21*'Given Data '!C$19*'Given Data '!C$9*Table10[[#This Row],[Column11]]^2 -> 20.763425 | T15: ='Given Data '!C$22*'Given Data '!C$17*9.81 -> 102.3595 | U15: 0 | V15: ='Given Data '!C$45-(Table10[[#This Row],[Column13]]+Table10[[#This Row],[Column14]]+Table10[[#This Row],[Column15]]) -> 584.77849 | W15: =Table10[[#This Row],[Column16]]/'Given Data '!C$17 -> 1.120888 | X15: =IF(L15=1,'Given Data '!C$55,IF(L15=2,'Given Data '!C$56,IF(L15=3,'Given Data '!C$57))) -> 593.80838 | Y15: =Table10[[#This Row],[Column19]]*Table10[[#This Row],[Column11]]^2/(2*1000) -> 6.5564854
G16: 3900 | H16: 10.28 | I16: =Table10[[#This Row],[Column2]]*746/1000 -> 7.66888 | J16: =60*Table10[[#This Row],[Column3]]/(2*PI()*Table10[[#This Row],[Column1]]) -> 0.018777541 | K16: 488.4 | L16: =IF(Simulation!Q16<='Given Data '!J$6,1,IF(AND(Simulation!Q16>'Given Data '!J$6,Simulation!Q16<='Given Data '!J$7),2,IF(Simulation!Q16>'Given Data '!J$7,3))) -> 1 | M16: 1 | N16: =N15+1 -> 12 | O16: =O15+(Table10[[#This Row],[Column11]]-Q15)/R15 -> 4.8636985 | P16: =3.6*Table10[[#This Row],[Column11]] -> 17.655576 | Q16: =SQRT(2*R15+Q15^2) -> 4.9043265 | R16: =Table10[[#This Row],[Column16]]/Table10[[#This Row],[Column19]] -> 0.98167457 | S16: ='Given Data '!C$21*'Given Data '!C$19*'Given Data '!C$9*Table10[[#This Row],[Column11]]^2 -> 22.615332 | T16: ='Given Data '!C$22*'Given Data '!C$17*9.81 -> 102.3595 | U16: 0 | V16: ='Given Data '!C$45-(Table10[[#This Row],[Column13]]+Table10[[#This Row],[Column14]]+Table10[[#This Row],[Column15]]) -> 582.92658 | W16: =Table10[[#This Row],[Column16]]/'Given Data '!C$17 -> 1.1173383 | X16: =IF(L16=1,'Given Data '!C$55,IF(L16=2,'Given Data '!C$56,IF(L16=3,'Given Data '!C$57))) -> 593.80838 | Y16: =Table10[[#This Row],[Column19]]*Table10[[#This Row],[Column11]]^2/(2*1000) -> 7.1412639
G17: 4000 | H17: 10.86 | I17: =Table10[[#This Row],[Column2]]*746/1000 -> 8.10156 | J17: =60*Table10[[#This Row],[Column3]]/(2*PI()*Table10[[#This Row],[Column1]]) -> 0.01934105 | K17: 482.7 | L17: =IF(Simulation!Q17<='Given Data '!J$6,1,IF(AND(Simulation!Q17>'Given Data '!J$6,Simulation!Q17<='Given Data '!J$7),2,IF(Simulation!Q17>'Given Data '!J$7,3))) -> 1 | M17: 1 | N17: =N16+1 -> 13 | O17: =O16+(Table10[[#This Row],[Column11]]-Q16)/R16 -> 5.0636007 | P17: =3.6*Table10[[#This Row],[Column11]] -> 18.362036 | Q17: =SQRT(2*R16+Q16^2) -> 5.1005655 | R17: =Table10[[#This Row],[Column16]]/Table10[[#This Row],[Column19]] -> 0.97856575 | S17: ='Given Data '!C$21*'Given Data '!C$19*'Given Data '!C$9*Table10[[#This Row],[Column11]]^2 -> 24.461375 | T17: ='Given Data '!C$22*'Given Data '!C$17*9.81 -> 102.3595 | U17: 0 | V17: ='Given Data '!C$45-(Table10[[#This Row],[Column13]]+Table10[[#This Row],[Column14]]+Table10[[#This Row],[Column15]]) -> 581.08054 | W17: =Table10[[#This Row],[Column16]]/'Given Data '!C$17 -> 1.1137999 | X17: =IF(L17=1,'Given Data '!C$55,IF(L17=2,'Given Data '!C$56,IF(L17=3,'Given Data '!C$57))) -> 593.80838 | Y17: =Table10[[#This Row],[Column19]]*Table10[[#This Row],[Column11]]^2/(2*1000) -> 7.7241904
G18: 4200 | H18: 12.04 | I18: =Table10[[#This Row],[Column2]]*746/1000 -> 8.98184 | J18: =60*Table10[[#This Row],[Column3]]/(2*PI()*Table10[[#This Row],[Column1]]) -> 0.020421489 | K18: 479.7 | L18: =IF(Simulation!Q18<='Given Data '!J$6,1,IF(AND(Simulation!Q18>'Given Data '!J$6,Simulation!Q18<='Given Data '!J$7),2,IF(Simulation!Q18>'Given Data '!J$7,3))) -> 1 | M18: 1 | N18: =N17+1 -> 14 | O18: =O17+(Table10[[#This Row],[Column11]]-Q17)/R17 -> 5.2561026 | P18: =3.6*Table10[[#This Row],[Column11]] -> 19.040188 | Q18: =SQRT(2*R17+Q17^2) -> 5.2889412 | R18: =Table10[[#This Row],[Column16]]/Table10[[#This Row],[Column19]] -> 0.97546678 | S18: ='Given Data '!C$21*'Given Data '!C$19*'Given Data '!C$9*Table10[[#This Row],[Column11]]^2 -> 26.301572 | T18: ='Given Data '!C$22*'Given Data '!C$17*9.81 -> 102.3595 | U18: 0 | V18: ='Given Data '!C$45-(Table10[[#This Row],[Column13]]+Table10[[#This Row],[Column14]]+Table10[[#This Row],[Column15]]) -> 579.24034 | W18: =Table10[[#This Row],[Column16]]/'Given Data '!C$17 -> 1.1102726 | X18: =IF(L18=1,'Given Data '!C$55,IF(L18=2,'Given Data '!C$56,IF(L18=3,'Given Data '!C$57))) -> 593.80838 | Y18: =Table10[[#This Row],[Column19]]*Table10[[#This Row],[Column11]]^2/(2*1000) -> 8.305271
G19: 4300 | H19: 12.63 | I19: =Table10[[#This Row],[Column2]]*746/1000 -> 9.42198 | J19: =60*Table10[[#This Row],[Column3]]/(2*PI()*Table10[[#This Row],[Column1]]) -> 0.020924019 | K19: 491.4 | L19: =IF(Simulation!Q19<='Given Data '!J$6,1,IF(AND(Simulation!Q19>'Given Data '!J$6,Simulation!Q19<='Given Data '!J$7),2,IF(Simulation!Q19>'Given Data '!J$7,3))) -> 1 | M19: 1 | N19: =N18+1 -> 15 | O19: =O18+(Table10[[#This Row],[Column11]]-Q18)/R18 -> 5.4419898 | P19: =3.6*Table10[[#This Row],[Column11]] -> 19.692965 | Q19: =SQRT(2*R18+Q18^2) -> 5.4702681 | R19: =Table10[[#This Row],[Column16]]/Table10[[#This Row],[Column19]] -> 0.97237762 | S19: ='Given Data '!C$21*'Given Data '!C$19*'Given Data '!C$9*Table10[[#This Row],[Column11]]^2 -> 28.135941 | T19: ='Given Data '!C$22*'Given Data '!C$17*9.81 -> 102.3595 | U19: 0 | V19: ='Given Data '!C$45-(Table10[[#This Row],[Column13]]+Table10[[#This Row],[Column14]]+Table10[[#This Row],[Column15]]) -> 577.40597 | W19: =Table10[[#This Row],[Column16]]/'Given Data '!C$17 -> 1.1067566 | X19: =IF(L19=1,'Given Data '!C$55,IF(L19=2,'Given Data '!C$56,IF(L19=3,'Given Data '!C$57))) -> 593.80838 | Y19: =Table10[[#This Row],[Column19]]*Table10[[#This Row],[Column11]]^2/(2*1000) -> 8.8845113
G20: 4400 | H20: 13.22 | I20: =Table10[[#This Row],[Column2]]*746/1000 -> 9.86212 | J20: =60*Table10[[#This Row],[Column3]]/(2*PI()*Table10[[#This Row],[Column1]]) -> 0.021403707 | K20: 483.6 | L20: =IF(Simulation!Q20<='Given Data '!J$6,1,IF(AND(Simulation!Q20>'Given Data '!J$6,Simulation!Q20<='Given Data '!J$7),2,IF(Simulation!Q20>'Given Data '!J$7,3))) -> 1 | M20: 1 | N20: =N19+1 -> 16 | O20: =O19+(Table10[[#This Row],[Column11]]-Q19)/R19 -> 5.6219189 | P20: =3.6*Table10[[#This Row],[Column11]] -> 20.322817 | Q20: =SQRT(2*R19+Q19^2) -> 5.645227 | R20: =Table10[[#This Row],[Column16]]/Table10[[#This Row],[Column19]] -> 0.96929824 | S20: ='Given Data '!C$21*'Given Data '!C$19*'Given Data '!C$9*Table10[[#This Row],[Column11]]^2 -> 29.964501 | T20: ='Given Data '!C$22*'Given Data '!C$17*9.81 -> 102.3595 | U20: 0 | V20: ='Given Data '!C$45-(Table10[[#This Row],[Column13]]+Table10[[#This Row],[Column14]]+Table10[[#This Row],[Column15]]) -> 575.57741 | W20: =Table10[[#This Row],[Column16]]/'Given Data '!C$17 -> 1.1032516 | X20: =IF(L20=1,'Given Data '!C$55,IF(L20=2,'Given Data '!C$56,IF(L20=3,'Given Data '!C$57))) -> 593.80838 | Y20: =Table10[[#This Row],[Column19]]*Table10[[#This Row],[Column11]]^2/(2*1000) -> 9.4619173
... G27: 5300 | H27: 16.25 | I27: =Table10[[#This Row],[Column2]]*746/1000 -> 12.1225 | J27: =60*Table10[[#This Row],[Column3]]/(2*PI()*Table10[[#This Row],[Column1]]) -> 0.021841764 | K27: 470.6 | L27: =IF(Simulation!Q27<='Given Data '!J$6,1,IF(AND(Simulation!Q27>'Given Data '!J$6,Simulation!Q27<='Given Data '!J$7),2,IF(Simulation!Q27>'Given Data '!J$7,3))) -> 1 | M27: 1 | N27: =N26+1 -> 23 | O27: =O26+(Table10[[#This Row],[Column11]]-Q26)/R26 -> 6.752732 | P27: =3.6*Table10[[#This Row],[Column11]] -> 24.232712 | Q27: =SQRT(2*R26+Q26^2) -> 6.7313088 | R27: =Table10[[#This Row],[Column16]]/Table10[[#This Row],[Column19]] -> 0.94801394 | S27: ='Given Data '!C$21*'Given Data '!C$19*'Given Data '!C$9*Table10[[#This Row],[Column11]]^2 -> 42.6033 | T27: ='Given Data '!C$22*'Given Data '!C$17*9.81 -> 102.3595 | U27: 0 | V27: ='Given Data '!C$45-(Table10[[#This Row],[Column13]]+Table10[[#This Row],[Column14]]+Table10[[#This Row],[Column15]]) -> 562.93861 | W27: =Table10[[#This Row],[Column16]]/'Given Data '!C$17 -> 1.0790259 | X27: =IF(L27=1,'Given Data '!C$55,IF(L27=2,'Given Data '!C$56,IF(L27=3,'Given Data '!C$57))) -> 593.80838 | Y27: =Table10[[#This Row],[Column19]]*Table10[[#This Row],[Column11]]^2/(2*1000) -> 13.452882
A28: Color Code | G28: 5400 | H28: 16.58 | I28: =Table10[[#This Row],[Column2]]*746/1000 -> 12.36868 | J28: =60*Table10[[#This Row],[Column3]]/(2*PI()*Table10[[#This Row],[Column1]]) -> 0.021872628 | K28: 470.6 | L28: =IF(Simulation!Q28<='Given Data '!J$6,1,IF(AND(Simulation!Q28>'Given Data '!J$6,Simulation!Q28<='Given Data '!J$7),2,IF(Simulation!Q28>'Given Data '!J$7,3))) -> 1 | M28: 1 | N28: =N27+1 -> 24 | O28: =O27+(Table10[[#This Row],[Column11]]-Q27)/R27 -> 6.8997691 | P28: =3.6*Table10[[#This Row],[Column11]] -> 24.734527 | Q28: =SQRT(2*R27+Q27^2) -> 6.870702 | R28: =Table10[[#This Row],[Column16]]/Table10[[#This Row],[Column19]] -> 0.94501171 | S28: ='Given Data '!C$21*'Given Data '!C$19*'Given Data '!C$9*Table10[[#This Row],[Column11]]^2 -> 44.386044 | T28: ='Given Data '!C$22*'Given Data '!C$17*9.81 -> 102.3595 | U28: 0 | V28: ='Given Data '!C$45-(Table10[[#This Row],[Column13]]+Table10[[#This Row],[Column14]]+Table10[[#This Row],[Column15]]) -> 561.15587 | W28: =Table10[[#This Row],[Column16]]/'Given Data '!C$17 -> 1.0756088 | X28: =IF(L28=1,'Given Data '!C$55,IF(L28=2,'Given Data '!C$56,IF(L28=3,'Given Data '!C$57))) -> 593.80838 | Y28: =Table10[[#This Row],[Column19]]*Table10[[#This Row],[Column11]]^2/(2*1000) -> 14.015821
A29: Straight | G29: 5500 | H29: 16.94 | I29: =Table10[[#This Row],[Column2]]*746/1000 -> 12.63724 | J29: =60*Table10[[#This Row],[Column3]]/(2*PI()*Table10[[#This Row],[Column1]]) -> 0.021941228 | K29: 443.8 | L29: =IF(Simulation!Q29<='Given Data '!J$6,1,IF(AND(Simulation!Q29>'Given Data '!J$6,Simulation!Q29<='Given Data '!J$7),2,IF(Simulation!Q29>'Given Data '!J$7,3))) -> 1 | M29: 1 | N29: =N28+1 -> 25 | O29: =O28+(Table10[[#This Row],[Column11]]-Q28)/R28 -> 7.0438862 | P29: =3.6*Table10[[#This Row],[Column11]] -> 25.22482 | Q29: =SQRT(2*R28+Q28^2) -> 7.0068944 | R29: =Table10[[#This Row],[Column16]]/Table10[[#This Row],[Column19]] -> 0.942019 | S29: ='Given Data '!C$21*'Given Data '!C$19*'Given Data '!C$9*Table10[[#This Row],[Column11]]^2 -> 46.163142 | T29: ='Given Data '!C$22*'Given Data '!C$17*9.81 -> 102.3595 | U29: 0 | V29: ='Given Data '!C$45-(Table10[[#This Row],[Column13]]+Table10[[#This Row],[Column14]]+Table10[[#This Row],[Column15]]) -> 559.37877 | W29: =Table10[[#This Row],[Column16]]/'Given Data '!C$17 -> 1.0722025 | X29: =IF(L29=1,'Given Data '!C$55,IF(L29=2,'Given Data '!C$56,IF(L29=3,'Given Data '!C$57))) -> 593.80838 | Y29: =Table10[[#This Row],[Column19]]*Table10[[#This Row],[Column11]]^2/(2*1000) -> 14.576977
A30: Gradient up | G30: 5600 | H30: 17.05 | I30: =Table10[[#This Row],[Column2]]*746/1000 -> 12.7193 | J30: =60*Table10[[#This Row],[Column3]]/(2*PI()*Table10[[#This Row],[Column1]]) -> 0.021689351 | K30: 443.8 | L30: =IF(Simulation!Q30<='Given Data '!J$6,1,IF(AND(Simulation!Q30>'Given Data '!J$6,Simulation!Q30<='Given Data '!J$7),2,IF(Simulation!Q30>'Given Data '!J$7,3))) -> 1 | M30: 1 | N30: =N29+1 -> 26 | O30: =O29+(Table10[[#This Row],[Column11]]-Q29)/R29 -> 7.1852593 | P30: =3.6*Table10[[#This Row],[Column11]] -> 25.704254 | Q30: =SQRT(2*R29+Q29^2) -> 7.1400705 | R30: =Table10[[#This Row],[Column16]]/Table10[[#This Row],[Column19]] -> 0.93903577 | S30: ='Given Data '!C$21*'Given Data '!C$19*'Given Data '!C$9*Table10[[#This Row],[Column11]]^2 -> 47.934613 | T30: ='Given Data '!C$22*'Given Data '!C$17*9.81 -> 102.3595 | U30: 0 | V30: ='Given Data '!C$45-(Table10[[#This Row],[Column13]]+Table10[[#This Row],[Column14]]+Table10[[#This Row],[Column15]]) -> 557.6073 | W30: =Table10[[#This Row],[Column16]]/'Given Data '!C$17 -> 1.068807 | X30: =IF(L30=1,'Given Data '!C$55,IF(L30=2,'Given Data '!C$56,IF(L30=3,'Given Data '!C$57))) -> 593.80838 | Y30: =Table10[[#This Row],[Column19]]*Table10[[#This Row],[Column11]]^2/(2*1000) -> 15.136356
A31: Gradient Down | G31: 5700 | H31: 17.11 | I31: =Table10[[#This Row],[Column2]]*746/1000 -> 12.76406 | J31: =60*Table10[[#This Row],[Column3]]/(2*PI()*Table10[[#This Row],[Column1]]) -> 0.021383824 | K31: 443.8 | L31: =IF(Simulation!Q31<='Given Data '!J$6,1,IF(AND(Simulation!Q31>'Given Data '!J$6,Simulation!Q31<='Given Data '!J$7),2,IF(Simulation!Q31>'Given Data '!J$7,3))) -> 1 | M31: 1 | N31: =N30+1 -> 27 | O31: =O30+(Table10[[#This Row],[Column11]]-Q30)/R30 -> 7.3240473 | P31: =3.6*Table10[[#This Row],[Column11]] -> 26.173431 | Q31: =SQRT(2*R30+Q30^2) -> 7.2703974 | R31: =Table10[[#This Row],[Column16]]/Table10[[#This Row],[Column19]] -> 0.93606198 | S31: ='Given Data '!C$21*'Given Data '!C$19*'Given Data '!C$9*Table10[[#This Row],[Column11]]^2 -> 49.700473 | T31: ='Given Data '!C$22*'Given Data '!C$17*9.81 -> 102.3595 | U31: 0 | V31: ='Given Data '!C$45-(Table10[[#This Row],[Column13]]+Table10[[#This Row],[Column14]]+Table10[[#This Row],[Column15]]) -> 555.84144 | W31: =Table10[[#This Row],[Column16]]/'Given Data '!C$17 -> 1.0654223 | X31: =IF(L31=1,'Given Data '!C$55,IF(L31=2,'Given Data '!C$56,IF(L31=3,'Given Data '!C$57))) -> 593.80838 | Y31: =Table10[[#This Row],[Column19]]*Table10[[#This Row],[Column11]]^2/(2*1000) -> 15.693963
A32: Breaking Point/ Corner | G32: 5800 | H32: 17.18 | I32: =Table10[[#This Row],[Column2]]*746/1000 -> 12.81628 | J32: =60*Table10[[#This Row],[Column3]]/(2*PI()*Table10[[#This Row],[Column1]]) -> 0.021101114 | K32: 443.8 | L32: =IF(Simulation!Q32<='Given Data '!J$6,1,IF(AND(Simulation!Q32>'Given Data '!J$6,Simulation!Q32<='Given Data '!J$7),2,IF(Simulation!Q32>'Given Data '!J$7,3))) -> 1 | M32: 1 | N32: =N31+1 -> 28 | O32: =O31+(Table10[[#This Row],[Column11]]-Q31)/R31 -> 7.4603946 | P32: =3.6*Table10[[#This Row],[Column11]] -> 26.632897 | Q32: =SQRT(2*R31+Q31^2) -> 7.3980269 | R32: =Table10[[#This Row],[Column16]]/Table10[[#This Row],[Column19]] -> 0.93309761 | S32: ='Given Data '!C$21*'Given Data '!C$19*'Given Data '!C$9*Table10[[#This Row],[Column11]]^2 -> 51.460741 | T32: ='Given Data '!C$22*'Given Data '!C$17*9.81 -> 102.3595 | U32: 0 | V32: ='Given Data '!C$45-(Table10[[#This Row],[Column13]]+Table10[[#This Row],[Column14]]+Table10[[#This Row],[Column15]]) -> 554.08117 | W32: =Table10[[#This Row],[Column16]]/'Given Data '!C$17 -> 1.0620482 | X32: =IF(L32=1,'Given Data '!C$55,IF(L32=2,'Given Data '!C$56,IF(L32=3,'Given Data '!C$57))) -> 593.80838 | Y32: =Table10[[#This Row],[Column19]]*Table10[[#This Row],[Column11]]^2/(2*1000) -> 16.249804
G33: 5900 | H33: 17.24 | I33: =Table10[[#This Row],[Column2]]*746/1000 -> 12.86104 | J33: =60*Table10[[#This Row],[Column3]]/(2*PI()*Table10[[#This Row],[Column1]]) -> 0.020815913 | K33: 469.1 | L33: =IF(Simulation!Q33<='Given Data '!J$6,1,IF(AND(Simulation!Q33>'Given Data '!J$6,Simulation!Q33<='Given Data '!J$7),2,IF(Simulation!Q33>'Given Data '!J$7,3))) -> 1 | M33: 1 | N33: =N32+1 -> 29 | O33: =O32+(Table10[[#This Row],[Column11]]-Q32)/R32 -> 7.5944328 | P33: =3.6*Table10[[#This Row],[Column11]] -> 27.083151 | Q33: =SQRT(2*R32+Q32^2) -> 7.5230976 | R33: =Table10[[#This Row],[Column16]]/Table10[[#This Row],[Column19]] -> 0.93014262 | S33: ='Given Data '!C$21*'Given Data '!C$19*'Given Data '!C$9*Table10[[#This Row],[Column11]]^2 -> 53.215435 | T33: ='Given Data '!C$22*'Given Data '!C$17*9.81 -> 102.3595 | U33: 0 | V33: ='Given Data '!C$45-(Table10[[#This Row],[Column13]]+Table10[[#This Row],[Column14]]+Table10[[#This Row],[Column15]]) -> 552.32648 | W33: =Table10[[#This Row],[Column16]]/'Given Data '!C$17 -> 1.0586849 | X33: =IF(L33=1,'Given Data '!C$55,IF(L33=2,'Given Data '!C$56,IF(L33=3,'Given Data '!C$57))) -> 593.80838 | Y33: =Table10[[#This Row],[Column19]]*Table10[[#This Row],[Column11]]^2/(2*1000) -> 16.803886
G34: 6000 | H34: 17.32 | I34: =Table10[[#This Row],[Column2]]*746/1000 -> 12.92072 | J34: =60*Table10[[#This Row],[Column3]]/(2*PI()*Table10[[#This Row],[Column1]]) -> 0.020563965 | K34: 469.1 | L34: =IF(Simulation!Q34<='Given Data '!J$6,1,IF(AND(Simulation!Q34>'Given Data '!J$6,Simulation!Q34<='Given Data '!J$7),2,IF(Simulation!Q34>'Given Data '!J$7,3))) -> 2 | M34: 1 | N34: =N33+1 -> 30 | O34: =O33+(Table10[[#This Row],[Column11]]-Q33)/R33 -> 7.7262821 | P34: =3.6*Table10[[#This Row],[Column11]] -> 27.524651 | Q34: =SQRT(2*R33+Q33^2) -> 7.6457363 | R34: =Table10[[#This Row],[Column16]]/Table10[[#This Row],[Column19]] -> 0.94060625 | S34: ='Given Data '!C$21*'Given Data '!C$19*'Given Data '!C$9*Table10[[#This Row],[Column11]]^2 -> 54.964571 | T34: ='Given Data '!C$22*'Given Data '!C$17*9.81 -> 102.3595 | U34: 0 | V34: ='Given Data '!C$45-(Table10[[#This Row],[Column13]]+Table10[[#This Row],[Column14]]+Table10[[#This Row],[Column15]]) -> 550.57734 | W34: =Table10[[#This Row],[Column16]]/'Given Data '!C$17 -> 1.0553322 | X34: =IF(L34=1,'Given Data '!C$55,IF(L34=2,'Given Data '!C$56,IF(L34=3,'Given Data '!C$57))) -> 585.34306 | Y34: =Table10[[#This Row],[Column19]]*Table10[[#This Row],[Column11]]^2/(2*1000) -> 17.108783
G35: 6100 | H35: 17.37 | I35: =Table10[[#This Row],[Column2]]*746/1000 -> 12.95802 | J35: =60*Table10[[#This Row],[Column3]]/(2*PI()*Table10[[#This Row],[Column1]]) -> 0.020285242 | K35: 469.1 | L35: =IF(Simulation!Q35<='Given Data '!J$6,1,IF(AND(Simulation!Q35>'Given Data '!J$6,Simulation!Q35<='Given Data '!J$7),2,IF(Simulation!Q35>'Given Data '!J$7,3))) -> 2 | M35: 1 | N35: =N34+1 -> 31 | O35: =O34+(Table10[[#This Row],[Column11]]-Q34)/R34 -> 7.8560383 | P35: =3.6*Table10[[#This Row],[Column11]] -> 27.964029 | Q35: =SQRT(2*R34+Q34^2) -> 7.7677857 | R35: =Table10[[#This Row],[Column16]]/Table10[[#This Row],[Column19]] -> 0.93758441 | S35: ='Given Data '!C$21*'Given Data '!C$19*'Given Data '!C$9*Table10[[#This Row],[Column11]]^2 -> 56.733385 | T35: ='Given Data '!C$22*'Given Data '!C$17*9.81 -> 102.3595 | U35: 0 | V35: ='Given Data '!C$45-(Table10[[#This Row],[Column13]]+Table10[[#This Row],[Column14]]+Table10[[#This Row],[Column15]]) -> 548.80853 | W35: =Table10[[#This Row],[Column16]]/'Given Data '!C$17 -> 1.0519417 | X35: =IF(L35=1,'Given Data '!C$55,IF(L35=2,'Given Data '!C$56,IF(L35=3,'Given Data '!C$57))) -> 585.34306 | Y35: =Table10[[#This Row],[Column19]]*Table10[[#This Row],[Column11]]^2/(2*1000) -> 17.65936
G36: 6200 | H36: 17.44 | I36: =Table10[[#This Row],[Column2]]*746/1000 -> 13.01024 | J36: =60*Table10[[#This Row],[Column3]]/(2*PI()*Table10[[#This Row],[Column1]]) -> 0.02003849 | K36: 469.1 | L36: =IF(Simulation!Q36<='Given Data '!J$6,1,IF(AND(Simulation!Q36>'Given Data '!J$6,Simulation!Q36<='Given Data '!J$7),2,IF(Simulation!Q36>'Given Data '!J$7,3))) -> 2 | M36: 1 | N36: =N35+1 -> 32 | O36: =O35+(Table10[[#This Row],[Column11]]-Q35)/R35 -> 7.9837901 | P36: =3.6*Table10[[#This Row],[Column11]] -> 28.39523 | Q36: =SQRT(2*R35+Q35^2) -> 7.8875639 | R36: =Table10[[#This Row],[Column16]]/Table10[[#This Row],[Column19]] -> 0.93457228 | S36: ='Given Data '!C$21*'Given Data '!C$19*'Given Data '!C$9*Table10[[#This Row],[Column11]]^2 -> 58.496516 | T36: ='Given Data '!C$22*'Given Data '!C$17*9.81 -> 102.3595 | U36: 0 | V36: ='Given Data '!C$45-(Table10[[#This Row],[Column13]]+Table10[[#This Row],[Column14]]+Table10[[#This Row],[Column15]]) -> 547.0454 | W36: =Table10[[#This Row],[Column16]]/'Given Data '!C$17 -> 1.0485622 | X36: =IF(L36=1,'Given Data '!C$55,IF(L36=2,'Given Data '!C$56,IF(L36=3,'Given Data '!C$57))) -> 585.34306 | Y36: =Table10[[#This Row],[Column19]]*Table10[[#This Row],[Column11]]^2/(2*1000) -> 18.208168
G37: 6200 | H37: 17.44 | I37: =Table10[[#This Row],[Column2]]*746/1000 -> 13.01024 | J37: =60*Table10[[#This Row],[Column3]]/(2*PI()*Table10[[#This Row],[Column1]]) -> 0.02003849 | K37: 483 | L37: =IF(Simulation!Q37<='Given Data '!J$6,1,IF(AND(Simulation!Q37>'Given Data '!J$6,Simulation!Q37<='Given Data '!J$7),2,IF(Simulation!Q37>'Given Data '!J$7,3))) -> 2 | M37: 1 | N37: =N36+1 -> 33 | O37: =O36+(Table10[[#This Row],[Column11]]-Q36)/R36 -> 8.1096337 | P37: =3.6*Table10[[#This Row],[Column11]] -> 28.818626 | Q37: =SQRT(2*R36+Q36^2) -> 8.0051739 | R37: =Table10[[#This Row],[Column16]]/Table10[[#This Row],[Column19]] -> 0.93156982 | S37: ='Given Data '!C$21*'Given Data '!C$19*'Given Data '!C$9*Table10[[#This Row],[Column11]]^2 -> 60.253983 | T37: ='Given Data '!C$22*'Given Data '!C$17*9.81 -> 102.3595 | U37: 0 | V37: ='Given Data '!C$45-(Table10[[#This Row],[Column13]]+Table10[[#This Row],[Column14]]+Table10[[#This Row],[Column15]]) -> 545.28793 | W37: =Table10[[#This Row],[Column16]]/'Given Data '!C$17 -> 1.0451936 | X37: =IF(L37=1,'Given Data '!C$55,IF(L37=2,'Given Data '!C$56,IF(L37=3,'Given Data '!C$57))) -> 585.34306 | Y37: =Table10[[#This Row],[Column19]]*Table10[[#This Row],[Column11]]^2/(2*1000) -> 18.755214
G38: 6200 | H38: 17.44 | I38: =Table10[[#This Row],[Column2]]*746/1000 -> 13.01024 | J38: =60*Table10[[#This Row],[Column3]]/(2*PI()*Table10[[#This Row],[Column1]]) -> 0.02003849 | K38: 483 | L38: =IF(Simulation!Q38<='Given Data '!J$6,1,IF(AND(Simulation!Q38>'Given Data '!J$6,Simulation!Q38<='Given Data '!J$7),2,IF(Simulation!Q38>'Given Data '!J$7,3))) -> 2 | M38: 1 | N38: =N37+1 -> 34 | O38: =O37+(Table10[[#This Row],[Column11]]-Q37)/R37 -> 8.233658 | P38: =3.6*Table10[[#This Row],[Column11]] -> 29.23456 | Q38: =SQRT(2*R37+Q37^2) -> 8.1207111 | R38: =Table10[[#This Row],[Column16]]/Table10[[#This Row],[Column19]] -> 0.92857701 | S38: ='Given Data '!C$21*'Given Data '!C$19*'Given Data '!C$9*Table10[[#This Row],[Column11]]^2 -> 62.005803 | T38: ='Given Data '!C$22*'Given Data '!C$17*9.81 -> 102.3595 | U38: 0 | V38: ='Given Data '!C$45-(Table10[[#This Row],[Column13]]+Table10[[#This Row],[Column14]]+Table10[[#This Row],[Column15]]) -> 543.53611 | W38: =Table10[[#This Row],[Column16]]/'Given Data '!C$17 -> 1.0418357 | X38: =IF(L38=1,'Given Data '!C$55,IF(L38=2,'Given Data '!C$56,IF(L38=3,'Given Data '!C$57))) -> 585.34306 | Y38: =Table10[[#This Row],[Column19]]*Table10[[#This Row],[Column11]]^2/(2*1000) -> 19.300502
G39: 6300 | H39: 17.5 | I39: =Table10[[#This Row],[Column2]]*746/1000 -> 13.055 | J39: =60*Table10[[#This Row],[Column3]]/(2*PI()*Table10[[#This Row],[Column1]]) -> 0.019788265 | K39: 470.5 | L39: =IF(Simulation!Q39<='Given Data '!J$6,1,IF(AND(Simulation!Q39>'Given Data '!J$6,Simulation!Q39<='Given Data '!J$7),2,IF(Simulation!Q39>'Given Data '!J$7,3))) -> 2 | M39: 1 | N39: =N38+1 -> 35 | O39: =O38+(Table10[[#This Row],[Column11]]-Q38)/R38 -> 8.3559449 | P39: =3.6*Table10[[#This Row],[Column11]] -> 29.64335 | Q39: =SQRT(2*R38+Q38^2) -> 8.2342639 | R39: =Table10[[#This Row],[Column16]]/Table10[[#This Row],[Column19]] -> 0.92559381 | S39: ='Given Data '!C$21*'Given Data '!C$19*'Given Data '!C$9*Table10[[#This Row],[Column11]]^2 -> 63.751996 | T39: ='Given Data '!C$22*'Given Data '!C$17*9.81 -> 102.3595 | U39: 0 | V39: ='Given Data '!C$45-(Table10[[#This Row],[Column13]]+Table10[[#This Row],[Column14]]+Table10[[#This Row],[Column15]]) -> 541.78992 | W39: =Table10[[#This Row],[Column16]]/'Given Data '!C$17 -> 1.0384887 | X39: =IF(L39=1,'Given Data '!C$55,IF(L39=2,'Given Data '!C$56,IF(L39=3,'Given Data '!C$57))) -> 585.34306 | Y39: =Table10[[#This Row],[Column19]]*Table10[[#This Row],[Column11]]^2/(2*1000) -> 19.844038
G40: 6300 | H40: 17.5 | I40: =Table10[[#This Row],[Column2]]*746/1000 -> 13.055 | J40: =60*Table10[[#This Row],[Column3]]/(2*PI()*Table10[[#This Row],[Column1]]) -> 0.019788265 | K40: 470.5 | L40: =IF(Simulation!Q40<='Given Data '!J$6,1,IF(AND(Simulation!Q40>'Given Data '!J$6,Simulation!Q40<='Given Data '!J$7),2,IF(Simulation!Q40>'Given Data '!J$7,3))) -> 2 | M40: 1 | N40: =N39+1 -> 36 | O40: =O39+(Table10[[#This Row],[Column11]]-Q39)/R39 -> 8.4765709 | P40: =3.6*Table10[[#This Row],[Column11]] -> 30.045292 | Q40: =SQRT(2*R39+Q39^2) -> 8.3459146 | R40: =Table10[[#This Row],[Column16]]/Table10[[#This Row],[Column19]] -> 0.9226202 | S40: ='Given Data '!C$21*'Given Data '!C$19*'Given Data '!C$9*Table10[[#This Row],[Column11]]^2 -> 65.492579 | T40: ='Given Data '!C$22*'Given Data '!C$17*9.81 -> 102.3595 | U40: 0 | V40: ='Given Data '!C$45-(Table10[[#This Row],[Column13]]+Table10[[#This Row],[Column14]]+Table10[[#This Row],[Column15]]) -> 540.04934 | W40: =Table10[[#This Row],[Column16]]/'Given Data '!C$17 -> 1.0351524 | X40: =IF(L40=1,'Given Data '!C$55,IF(L40=2,'Given Data '!C$56,IF(L40=3,'Given Data '!C$57))) -> 585.34306 | Y40: =Table10[[#This Row],[Column19]]*Table10[[#This Row],[Column11]]^2/(2*1000) -> 20.385828
G41: 6300 | H41: 17.5 | I41: =Table10[[#This Row],[Column2]]*746/1000 -> 13.055 | J41: =60*Table10[[#This Row],[Column3]]/(2*PI()*Table10[[#This Row],[Column1]]) -> 0.019788265 | K41: 470.5 | L41: =IF(Simulation!Q41<='Given Data '!J$6,1,IF(AND(Simulation!Q41>'Given Data '!J$6,Simulation!Q41<='Given Data '!J$7),2,IF(Simulation!Q41>'Given Data '!J$7,3))) -> 2 | M41: 1 | N41: =N40+1 -> 37 | O41: =O40+(Table10[[#This Row],[Column11]]-Q40)/R40 -> 8.5956068 | P41: =3.6*Table10[[#This Row],[Column11]] -> 30.440662 | Q41: =SQRT(2*R40+Q40^2) -> 8.4557395 | R41: =Table10[[#This Row],[Column16]]/Table10[[#This Row],[Column19]] -> 0.91965615 | S41: ='Given Data '!C$21*'Given Data '!C$19*'Given Data '!C$9*Table10[[#This Row],[Column11]]^2 -> 67.227569 | T41: ='Given Data '!C$22*'Given Data '!C$17*9.81 -> 102.3595 | U41: 0 | V41: ='Given Data '!C$45-(Table10[[#This Row],[Column13]]+Table10[[#This Row],[Column14]]+Table10[[#This Row],[Column15]]) -> 538.31435 | W41: =Table10[[#This Row],[Column16]]/'Given Data '!C$17 -> 1.0318268 | X41: =IF(L41=1,'Given Data '!C$55,IF(L41=2,'Given Data '!C$56,IF(L41=3,'Given Data '!C$57))) -> 585.34306 | Y41: =Table10[[#This Row],[Column19]]*Table10[[#This Row],[Column11]]^2/(2*1000) -> 20.925877
G42: 6400 | H42: 17.8 | I42: =Table10[[#This Row],[Column2]]*746/1000 -> 13.2788 | J42: =60*Table10[[#This Row],[Column3]]/(2*PI()*Table10[[#This Row],[Column1]]) -> 0.019813 | K42: 470.5 | L42: =IF(Simulation!Q42<='Given Data '!J$6,1,IF(AND(Simulation!Q42>'Given Data '!J$6,Simulation!Q42<='Given Data '!J$7),2,IF(Simulation!Q42>'Given Data '!J$7,3))) -> 2 | M42: 1 | N42: =N41+1 -> 38 | O42: =O41+(Table10[[#This Row],[Column11]]-Q41)/R41 -> 8.7131187 | P42: =3.6*Table10[[#This Row],[Column11]] -> 30.829716 | Q42: =SQRT(2*R41+Q41^2) -> 8.5638101 | R42: =Table10[[#This Row],[Column16]]/Table10[[#This Row],[Column19]] -> 0.91670161 | S42: ='Given Data '!C$21*'Given Data '!C$19*'Given Data '!C$9*Table10[[#This Row],[Column11]]^2 -> 68.956986 | T42: ='Given Data '!C$22*'Given Data '!C$17*9.81 -> 102.3595 | U42: 0 | V42: ='Given Data '!C$45-(Table10[[#This Row],[Column13]]+Table10[[#This Row],[Column14]]+Table10[[#This Row],[Column15]]) -> 536.58493 | W42: =Table10[[#This Row],[Column16]]/'Given Data '!C$17 -> 1.0285119 | X42: =IF(L42=1,'Given Data '!C$55,IF(L42=2,'Given Data '!C$56,IF(L42=3,'Given Data '!C$57))) -> 585.34306 | Y42: =Table10[[#This Row],[Column19]]*Table10[[#This Row],[Column11]]^2/(2*1000) -> 21.464191
G43: 6400 | H43: 17.8 | I43: =Table10[[#This Row],[Column2]]*746/1000 -> 13.2788 | J43: =60*Table10[[#This Row],[Column3]]/(2*PI()*Table10[[#This Row],[Column1]]) -> 0.019813 | K43: 470.5 | L43: =IF(Simulation!Q43<='Given Data '!J$6,1,IF(AND(Simulation!Q43>'Given Data '!J$6,Simulation!Q43<='Given Data '!J$7),2,IF(Simulation!Q43>'Given Data '!J$7,3))) -> 2 | M43: 1 | N43: =N42+1 -> 39 | O43: =O42+(Table10[[#This Row],[Column11]]-Q42)/R42 -> 8.8291683 | P43: =3.6*Table10[[#This Row],[Column11]] -> 31.212695 | Q43: =SQRT(2*R42+Q42^2) -> 8.670193 | R43: =Table10[[#This Row],[Column16]]/Table10[[#This Row],[Column19]] -> 0.91375657 | S43: ='Given Data '!C$21*'Given Data '!C$19*'Given Data '!C$9*Table10[[#This Row],[Column11]]^2 -> 70.680847 | T43: ='Given Data '!C$22*'Given Data '!C$17*9.81 -> 102.3595 | U43: 0 | V43: ='Given Data '!C$45-(Table10[[#This Row],[Column13]]+Table10[[#This Row],[Column14]]+Table10[[#This Row],[Column15]]) -> 534.86107 | W43: =Table10[[#This Row],[Column16]]/'Given Data '!C$17 -> 1.0252076 | X43: =IF(L43=1,'Given Data '!C$55,IF(L43=2,'Given Data '!C$56,IF(L43=3,'Given Data '!C$57))) -> 585.34306 | Y43: =Table10[[#This Row],[Column19]]*Table10[[#This Row],[Column11]]^2/(2*1000) -> 22.000776
G44: 6400 | H44: 17.8 | I44: =Table10[[#This Row],[Column2]]*746/1000 -> 13.2788 | J44: =60*Table10[[#This Row],[Column3]]/(2*PI()*Table10[[#This Row],[Column1]]) -> 0.019813 | K44: 470.5 | L44: =IF(Simulation!Q44<='Given Data '!J$6,1,IF(AND(Simulation!Q44>'Given Data '!J$6,Simulation!Q44<='Given Data '!J$7),2,IF(Simulation!Q44>'Given Data '!J$7,3))) -> 2 | M44: 1 | N44: =N43+1 -> 40 | O44: =O43+(Table10[[#This Row],[Column11]]-Q43)/R43 -> 8.9438134 | P44: =3.6*Table10[[#This Row],[Column11]] -> 31.589822 | Q44: =SQRT(2*R43+Q43^2) -> 8.7749507 | R44: =Table10[[#This Row],[Column16]]/Table10[[#This Row],[Column19]] -> 0.91082098 | S44: ='Given Data '!C$21*'Given Data '!C$19*'Given Data '!C$9*Table10[[#This Row],[Column11]]^2 -> 72.39917 | T44: ='Given Data '!C$22*'Given Data '!C$17*9.81 -> 102.3595 | U44: 0 | V44: ='Given Data '!C$45-(Table10[[#This Row],[Column13]]+Table10[[#This Row],[Column14]]+Table10[[#This Row],[Column15]]) -> 533.14275 | W44: =Table10[[#This Row],[Column16]]/'Given Data '!C$17 -> 1.021914 | X44: =IF(L44=1,'Given Data '!C$55,IF(L44=2,'Given Data '!C$56,IF(L44=3,'Given Data '!C$57))) -> 585.34306 | Y44: =Table10[[#This Row],[Column19]]*Table10[[#This Row],[Column11]]^2/(2*1000) -> 22.535637
... G46: 6500 | H46: 18 | I46: =Table10[[#This Row],[Column2]]*746/1000 -> 13.428 | J46: =60*Table10[[#This Row],[Column3]]/(2*PI()*Table10[[#This Row],[Column1]]) -> 0.019727378 | K46: 470.5 | L46: =IF(Simulation!Q46<='Given Data '!J$6,1,IF(AND(Simulation!Q46>'Given Data '!J$6,Simulation!Q46<='Given Data '!J$7),2,IF(Simulation!Q46>'Given Data '!J$7,3))) -> 2 | M46: 1 | N46: =N45+1 -> 42 | O46: =O45+(Table10[[#This Row],[Column11]]-Q45)/R45 -> 9.1691029 | P46: =3.6*Table10[[#This Row],[Column11]] -> 32.327357 | Q46: =SQRT(2*R45+Q45^2) -> 8.9798213 | R46: =Table10[[#This Row],[Column16]]/Table10[[#This Row],[Column19]] -> 0.90497808 | S46: ='Given Data '!C$21*'Given Data '!C$19*'Given Data '!C$9*Table10[[#This Row],[Column11]]^2 -> 75.819272 | T46: ='Given Data '!C$22*'Given Data '!C$17*9.81 -> 102.3595 | U46: 0 | V46: ='Given Data '!C$45-(Table10[[#This Row],[Column13]]+Table10[[#This Row],[Column14]]+Table10[[#This Row],[Column15]]) -> 529.72264 | W46: =Table10[[#This Row],[Column16]]/'Given Data '!C$17 -> 1.0153584 | X46: =IF(L46=1,'Given Data '!C$55,IF(L46=2,'Given Data '!C$56,IF(L46=3,'Given Data '!C$57))) -> 585.34306 | Y46: =Table10[[#This Row],[Column19]]*Table10[[#This Row],[Column11]]^2/(2*1000) -> 23.60021
G47: =6500 -> 6500 | H47: =18 -> 18 | I47: =Table10[[#This Row],[Column2]]*746/1000 -> 13.428 | J47: =60*Table10[[#This Row],[Column3]]/(2*PI()*Table10[[#This Row],[Column1]]) -> 0.019727378 | K47: 470.5 | L47: =IF(Simulation!Q47<='Given Data '!J$6,1,IF(AND(Simulation!Q47>'Given Data '!J$6,Simulation!Q47<='Given Data '!J$7),2,IF(Simulation!Q47>'Given Data '!J$7,3))) -> 2 | M47: 1 | N47: =N46+1 -> 43 | O47: =O46+(Table10[[#This Row],[Column11]]-Q46)/R46 -> 9.2798457 | P47: =3.6*Table10[[#This Row],[Column11]] -> 32.688148 | Q47: =SQRT(2*R46+Q46^2) -> 9.0800411 | R47: =Table10[[#This Row],[Column16]]/Table10[[#This Row],[Column19]] -> 0.9020707 | S47: ='Given Data '!C$21*'Given Data '!C$19*'Given Data '!C$9*Table10[[#This Row],[Column11]]^2 -> 77.521087 | T47: ='Given Data '!C$22*'Given Data '!C$17*9.81 -> 102.3595 | U47: 0 | V47: ='Given Data '!C$45-(Table10[[#This Row],[Column13]]+Table10[[#This Row],[Column14]]+Table10[[#This Row],[Column15]]) -> 528.02083 | W47: =Table10[[#This Row],[Column16]]/'Given Data '!C$17 -> 1.0120964 | X47: =IF(L47=1,'Given Data '!C$55,IF(L47=2,'Given Data '!C$56,IF(L47=3,'Given Data '!C$57))) -> 585.34306 | Y47: =Table10[[#This Row],[Column19]]*Table10[[#This Row],[Column11]]^2/(2*1000) -> 24.129933
G48: =6500 -> 6500 | H48: =18 -> 18 | I48: =Table10[[#This Row],[Column2]]*746/1000 -> 13.428 | J48: =60*Table10[[#This Row],[Column3]]/(2*PI()*Table10[[#This Row],[Column1]]) -> 0.019727378 | K48: 504.5 | L48: =IF(Simulation!Q48<='Given Data '!J$6,1,IF(AND(Simulation!Q48>'Given Data '!J$6,Simulation!Q48<='Given Data '!J$7),2,IF(Simulation!Q48>'Given Data '!J$7,3))) -> 2 | M48: 1 | N48: =N47+1 -> 44 | O48: =O47+(Table10[[#This Row],[Column11]]-Q47)/R47 -> 9.3893814 | P48: =3.6*Table10[[#This Row],[Column11]] -> 33.04386 | Q48: =SQRT(2*R47+Q47^2) -> 9.1788501 | R48: =Table10[[#This Row],[Column16]]/Table10[[#This Row],[Column19]] -> 0.89917266 | S48: ='Given Data '!C$21*'Given Data '!C$19*'Given Data '!C$9*Table10[[#This Row],[Column11]]^2 -> 79.217434 | T48: ='Given Data '!C$22*'Given Data '!C$17*9.81 -> 102.3595 | U48: 0 | V48: ='Given Data '!C$45-(Table10[[#This Row],[Column13]]+Table10[[#This Row],[Column14]]+Table10[[#This Row],[Column15]]) -> 526.32448 | W48: =Table10[[#This Row],[Column16]]/'Given Data '!C$17 -> 1.0088449 | X48: =IF(L48=1,'Given Data '!C$55,IF(L48=2,'Given Data '!C$56,IF(L48=3,'Given Data '!C$57))) -> 585.34306 | Y48: =Table10[[#This Row],[Column19]]*Table10[[#This Row],[Column11]]^2/(2*1000) -> 24.657954
G49: =6500 -> 6500 | H49: =18 -> 18 | I49: =Table10[[#This Row],[Column2]]*746/1000 -> 13.428 | J49: =60*Table10[[#This Row],[Column3]]/(2*PI()*Table10[[#This Row],[Column1]]) -> 0.019727378 | K49: 504.5 | L49: =IF(Simulation!Q49<='Given Data '!J$6,1,IF(AND(Simulation!Q49>'Given Data '!J$6,Simulation!Q49<='Given Data '!J$7),2,IF(Simulation!Q49>'Given Data '!J$7,3))) -> 2 | M49: 1 | N49: =N48+1 -> 45 | O49: =O48+(Table10[[#This Row],[Column11]]-Q48)/R48 -> 9.4977522 | P49: =3.6*Table10[[#This Row],[Column11]] -> 33.394659 | Q49: =SQRT(2*R48+Q48^2) -> 9.2762942 | R49: =Table10[[#This Row],[Column16]]/Table10[[#This Row],[Column19]] -> 0.89628393 | S49: ='Given Data '!C$21*'Given Data '!C$19*'Given Data '!C$9*Table10[[#This Row],[Column11]]^2 -> 80.908332 | T49: ='Given Data '!C$22*'Given Data '!C$17*9.81 -> 102.3595 | U49: 0 | V49: ='Given Data '!C$45-(Table10[[#This Row],[Column13]]+Table10[[#This Row],[Column14]]+Table10[[#This Row],[Column15]]) -> 524.63358 | W49: =Table10[[#This Row],[Column16]]/'Given Data '!C$17 -> 1.0056038 | X49: =IF(L49=1,'Given Data '!C$55,IF(L49=2,'Given Data '!C$56,IF(L49=3,'Given Data '!C$57))) -> 585.34306 | Y49: =Table10[[#This Row],[Column19]]*Table10[[#This Row],[Column11]]^2/(2*1000) -> 25.184278
G50: =6500 -> 6500 | H50: =18 -> 18 | I50: =Table10[[#This Row],[Column2]]*746/1000 -> 13.428 | J50: =60*Table10[[#This Row],[Column3]]/(2*PI()*Table10[[#This Row],[Column1]]) -> 0.019727378 | K50: 504.5 | L50: =IF(Simulation!Q50<='Given Data '!J$6,1,IF(AND(Simulation!Q50>'Given Data '!J$6,Simulation!Q50<='Given Data '!J$7),2,IF(Simulation!Q50>'Given Data '!J$7,3))) -> 2 | M50: 1 | N50: =N49+1 -> 46 | O50: =O49+(Table10[[#This Row],[Column11]]-Q49)/R49 -> 9.6049983 | P50: =3.6*Table10[[#This Row],[Column11]] -> 33.740701 | Q50: =SQRT(2*R49+Q49^2) -> 9.3724171 | R50: =Table10[[#This Row],[Column16]]/Table10[[#This Row],[Column19]] -> 0.89340448 | S50: ='Given Data '!C$21*'Given Data '!C$19*'Given Data '!C$9*Table10[[#This Row],[Column11]]^2 -> 82.593797 | T50: ='Given Data '!C$22*'Given Data '!C$17*9.81 -> 102.3595 | U50: 0 | V50: ='Given Data '!C$45-(Table10[[#This Row],[Column13]]+Table10[[#This Row],[Column14]]+Table10[[#This Row],[Column15]]) -> 522.94812 | W50: =Table10[[#This Row],[Column16]]/'Given Data '!C$17 -> 1.0023732 | X50: =IF(L50=1,'Given Data '!C$55,IF(L50=2,'Given Data '!C$56,IF(L50=3,'Given Data '!C$57))) -> 585.34306 | Y50: =Table10[[#This Row],[Column19]]*Table10[[#This Row],[Column11]]^2/(2*1000) -> 25.708912
G51: =6500 -> 6500 | H51: =18 -> 18 | I51: =Table10[[#This Row],[Column2]]*746/1000 -> 13.428 | J51: =60*Table10[[#This Row],[Column3]]/(2*PI()*Table10[[#This Row],[Column1]]) -> 0.019727378 | K51: 504.5 | L51: =IF(Simulation!Q51<='Given Data '!J$6,1,IF(AND(Simulation!Q51>'Given Data '!J$6,Simulation!Q51<='Given Data '!J$7),2,IF(Simulation!Q51>'Given Data '!J$7,3))) -> 2 | M51: 1 | N51: =N50+1 -> 47 | O51: =O50+(Table10[[#This Row],[Column11]]-Q50)/R50 -> 9.7111572 | P51: =3.6*Table10[[#This Row],[Column11]] -> 34.082136 | Q51: =SQRT(2*R50+Q50^2) -> 9.4672599 | R51: =Table10[[#This Row],[Column16]]/Table10[[#This Row],[Column19]] -> 0.89053429 | S51: ='Given Data '!C$21*'Given Data '!C$19*'Given Data '!C$9*Table10[[#This Row],[Column11]]^2 -> 84.273847 | T51: ='Given Data '!C$22*'Given Data '!C$17*9.81 -> 102.3595 | U51: 0 | V51: ='Given Data '!C$45-(Table10[[#This Row],[Column13]]+Table10[[#This Row],[Column14]]+Table10[[#This Row],[Column15]]) -> 521.26807 | W51: =Table10[[#This Row],[Column16]]/'Given Data '!C$17 -> 0.99915292 | X51: =IF(L51=1,'Given Data '!C$55,IF(L51=2,'Given Data '!C$56,IF(L51=3,'Given Data '!C$57))) -> 585.34306 | Y51: =Table10[[#This Row],[Column19]]*Table10[[#This Row],[Column11]]^2/(2*1000) -> 26.23186
G52: =6500 -> 6500 | H52: =18 -> 18 | I52: =Table10[[#This Row],[Column2]]*746/1000 -> 13.428 | J52: =60*Table10[[#This Row],[Column3]]/(2*PI()*Table10[[#This Row],[Column1]]) -> 0.019727378 | K52: 504.5 | L52: =IF(Simulation!Q52<='Given Data '!J$6,1,IF(AND(Simulation!Q52>'Given Data '!J$6,Simulation!Q52<='Given Data '!J$7),2,IF(Simulation!Q52>'Given Data '!J$7,3))) -> 2 | M52: 1 | N52: =N51+1 -> 48 | O52: =O51+(Table10[[#This Row],[Column11]]-Q51)/R51 -> 9.8162648 | P52: =3.6*Table10[[#This Row],[Column11]] -> 34.419103 | Q52: =SQRT(2*R51+Q51^2) -> 9.5608618 | R52: =Table10[[#This Row],[Column16]]/Table10[[#This Row],[Column19]] -> 0.88767331 | S52: ='Given Data '!C$21*'Given Data '!C$19*'Given Data '!C$9*Table10[[#This Row],[Column11]]^2 -> 85.948501 | T52: ='Given Data '!C$22*'Given Data '!C$17*9.81 -> 102.3595 | U52: 0 | V52: ='Given Data '!C$45-(Table10[[#This Row],[Column13]]+Table10[[#This Row],[Column14]]+Table10[[#This Row],[Column15]]) -> 519.59341 | W52: =Table10[[#This Row],[Column16]]/'Given Data '!C$17 -> 0.99594299 | X52: =IF(L52=1,'Given Data '!C$55,IF(L52=2,'Given Data '!C$56,IF(L52=3,'Given Data '!C$57))) -> 585.34306 | Y52: =Table10[[#This Row],[Column19]]*Table10[[#This Row],[Column11]]^2/(2*1000) -> 26.753128
G53: =6500 -> 6500 | H53: =18 -> 18 | I53: =Table10[[#This Row],[Column2]]*746/1000 -> 13.428 | J53: =60*Table10[[#This Row],[Column3]]/(2*PI()*Table10[[#This Row],[Column1]]) -> 0.019727378 | K53: 504.5 | L53: =IF(Simulation!Q53<='Given Data '!J$6,1,IF(AND(Simulation!Q53>'Given Data '!J$6,Simulation!Q53<='Given Data '!J$7),2,IF(Simulation!Q53>'Given Data '!J$7,3))) -> 2 | M53: 1 | N53: =N52+1 -> 49 | O53: =O52+(Table10[[#This Row],[Column11]]-Q52)/R52 -> 9.9203549 | P53: =3.6*Table10[[#This Row],[Column11]] -> 34.751735 | Q53: =SQRT(2*R52+Q52^2) -> 9.6532598 | R53: =Table10[[#This Row],[Column16]]/Table10[[#This Row],[Column19]] -> 0.88482152 | S53: ='Given Data '!C$21*'Given Data '!C$19*'Given Data '!C$9*Table10[[#This Row],[Column11]]^2 -> 87.617774 | T53: ='Given Data '!C$22*'Given Data '!C$17*9.81 -> 102.3595 | U53: 0 | V53: ='Given Data '!C$45-(Table10[[#This Row],[Column13]]+Table10[[#This Row],[Column14]]+Table10[[#This Row],[Column15]]) -> 517.92414 | W53: =Table10[[#This Row],[Column16]]/'Given Data '!C$17 -> 0.99274337 | X53: =IF(L53=1,'Given Data '!C$55,IF(L53=2,'Given Data '!C$56,IF(L53=3,'Given Data '!C$57))) -> 585.34306 | Y53: =Table10[[#This Row],[Column19]]*Table10[[#This Row],[Column11]]^2/(2*1000) -> 27.272721
G54: =6500 -> 6500 | H54: =18 -> 18 | I54: =Table10[[#This Row],[Column2]]*746/1000 -> 13.428 | J54: =60*Table10[[#This Row],[Column3]]/(2*PI()*Table10[[#This Row],[Column1]]) -> 0.019727378 | K54: 504.5 | L54: =IF(Simulation!Q54<='Given Data '!J$6,1,IF(AND(Simulation!Q54>'Given Data '!J$6,Simulation!Q54<='Given Data '!J$7),2,IF(Simulation!Q54>'Given Data '!J$7,3))) -> 2 | M54: 1 | N54: =N53+1 -> 50 | O54: =O53+(Table10[[#This Row],[Column11]]-Q53)/R53 -> 10.02346 | P54: =3.6*Table10[[#This Row],[Column11]] -> 35.080161 | Q54: =SQRT(2*R53+Q53^2) -> 9.7444891 | R54: =Table10[[#This Row],[Column16]]/Table10[[#This Row],[Column19]] -> 0.8819789 | S54: ='Given Data '!C$21*'Given Data '!C$19*'Given Data '!C$9*Table10[[#This Row],[Column11]]^2 -> 89.281684 | T54: ='Given Data '!C$22*'Given Data '!C$17*9.81 -> 102.3595 | U54: 0 | V54: ='Given Data '!C$45-(Table10[[#This Row],[Column13]]+Table10[[#This Row],[Column14]]+Table10[[#This Row],[Column15]]) -> 516.26023 | W54: =Table10[[#This Row],[Column16]]/'Given Data '!C$17 -> 0.98955403 | X54: =IF(L54=1,'Given Data '!C$55,IF(L54=2,'Given Data '!C$56,IF(L54=3,'Given Data '!C$57))) -> 585.34306 | Y54: =Table10[[#This Row],[Column19]]*Table10[[#This Row],[Column11]]^2/(2*1000) -> 27.790645
G55: =6500 -> 6500 | H55: =18 -> 18 | I55: =Table10[[#This Row],[Column2]]*746/1000 -> 13.428 | J55: =60*Table10[[#This Row],[Column3]]/(2*PI()*Table10[[#This Row],[Column1]]) -> 0.019727378 | K55: 504.5 | L55: =IF(Simulation!Q55<='Given Data '!J$6,1,IF(AND(Simulation!Q55>'Given Data '!J$6,Simulation!Q55<='Given Data '!J$7),2,IF(Simulation!Q55>'Given Data '!J$7,3))) -> 2 | M55: 1 | N55: =N54+1 -> 51 | O55: =O54+(Table10[[#This Row],[Column11]]-Q54)/R54 -> 10.12561 | P55: =3.6*Table10[[#This Row],[Column11]] -> 35.404499 | Q55: =SQRT(2*R54+Q54^2) -> 9.8345832 | R55: =Table10[[#This Row],[Column16]]/Table10[[#This Row],[Column19]] -> 0.87914541 | S55: ='Given Data '!C$21*'Given Data '!C$19*'Given Data '!C$9*Table10[[#This Row],[Column11]]^2 -> 90.940248 | T55: ='Given Data '!C$22*'Given Data '!C$17*9.81 -> 102.3595 | U55: 0 | V55: ='Given Data '!C$45-(Table10[[#This Row],[Column13]]+Table10[[#This Row],[Column14]]+Table10[[#This Row],[Column15]]) -> 514.60167 | W55: =Table10[[#This Row],[Column16]]/'Given Data '!C$17 -> 0.98637493 | X55: =IF(L55=1,'Given Data '!C$55,IF(L55=2,'Given Data '!C$56,IF(L55=3,'Given Data '!C$57))) -> 585.34306 | Y55: =Table10[[#This Row],[Column19]]*Table10[[#This Row],[Column11]]^2/(2*1000) -> 28.306906
G56: =6500 -> 6500 | H56: =18 -> 18 | I56: =Table10[[#This Row],[Column2]]*746/1000 -> 13.428 | J56: =60*Table10[[#This Row],[Column3]]/(2*PI()*Table10[[#This Row],[Column1]]) -> 0.019727378 | K56: 504.5 | L56: =IF(Simulation!Q56<='Given Data '!J$6,1,IF(AND(Simulation!Q56>'Given Data '!J$6,Simulation!Q56<='Given Data '!J$7),2,IF(Simulation!Q56>'Given Data '!J$7,3))) -> 2 | M56: 1 | N56: =N55+1 -> 52 | O56: =O55+(Table10[[#This Row],[Column11]]-Q55)/R55 -> 10.226834 | P56: =3.6*Table10[[#This Row],[Column11]] -> 35.724866 | Q56: =SQRT(2*R55+Q55^2) -> 9.9235738 | R56: =Table10[[#This Row],[Column16]]/Table10[[#This Row],[Column19]] -> 0.87632102 | S56: ='Given Data '!C$21*'Given Data '!C$19*'Given Data '!C$9*Table10[[#This Row],[Column11]]^2 -> 92.593485 | T56: ='Given Data '!C$22*'Given Data '!C$17*9.81 -> 102.3595 | U56: 0 | V56: ='Given Data '!C$45-(Table10[[#This Row],[Column13]]+Table10[[#This Row],[Column14]]+Table10[[#This Row],[Column15]]) -> 512.94843 | W56: =Table10[[#This Row],[Column16]]/'Given Data '!C$17 -> 0.98320605 | X56: =IF(L56=1,'Given Data '!C$55,IF(L56=2,'Given Data '!C$56,IF(L56=3,'Given Data '!C$57))) -> 585.34306 | Y56: =Table10[[#This Row],[Column19]]*Table10[[#This Row],[Column11]]^2/(2*1000) -> 28.821507
G57: =6500 -> 6500 | H57: =18 -> 18 | I57: =Table10[[#This Row],[Column2]]*746/1000 -> 13.428 | J57: =60*Table10[[#This Row],[Column3]]/(2*PI()*Table10[[#This Row],[Column1]]) -> 0.019727378 | K57: 504.5 | L57: =IF(Simulation!Q57<='Given Data '!J$6,1,IF(AND(Simulation!Q57>'Given Data '!J$6,Simulation!Q57<='Given Data '!J$7),2,IF(Simulation!Q57>'Given Data '!J$7,3))) -> 2 | M57: 1 | N57: =N56+1 -> 53 | O57: =O56+(Table10[[#This Row],[Column11]]-Q56)/R56 -> 10.327159 | P57: =3.6*Table10[[#This Row],[Column11]] -> 36.041369 | Q57: =SQRT(2*R56+Q56^2) -> 10.011491 | R57: =Table10[[#This Row],[Column16]]/Table10[[#This Row],[Column19]] -> 0.8735057 | S57: ='Given Data '!C$21*'Given Data '!C$19*'Given Data '!C$9*Table10[[#This Row],[Column11]]^2 -> 94.24141 | T57: ='Given Data '!C$22*'Given Data '!C$17*9.81 -> 102.3595 | U57: 0 | V57: ='Given Data '!C$45-(Table10[[#This Row],[Column13]]+Table10[[#This Row],[Column14]]+Table10[[#This Row],[Column15]]) -> 511.30051 | W57: =Table10[[#This Row],[Column16]]/'Given Data '!C$17 -> 0.98004735 | X57: =IF(L57=1,'Given Data '!C$55,IF(L57=2,'Given Data '!C$56,IF(L57=3,'Given Data '!C$57))) -> 585.34306 | Y57: =Table10[[#This Row],[Column19]]*Table10[[#This Row],[Column11]]^2/(2*1000) -> 29.334456
G58: =6500 -> 6500 | H58: =18 -> 18 | I58: =Table10[[#This Row],[Column2]]*746/1000 -> 13.428 | J58: =60*Table10[[#This Row],[Column3]]/(2*PI()*Table10[[#This Row],[Column1]]) -> 0.019727378 | K58: 504.5 | L58: =IF(Simulation!Q58<='Given Data '!J$6,1,IF(AND(Simulation!Q58>'Given Data '!J$6,Simulation!Q58<='Given Data '!J$7),2,IF(Simulation!Q58>'Given Data '!J$7,3))) -> 2 | M58: 1 | N58: =N57+1 -> 54 | O58: =O57+(Table10[[#This Row],[Column11]]-Q57)/R57 -> 10.426613 | P58: =3.6*Table10[[#This Row],[Column11]] -> 36.354113 | Q58: =SQRT(2*R57+Q57^2) -> 10.098365 | R58: =Table10[[#This Row],[Column16]]/Table10[[#This Row],[Column19]] -> 0.87069943 | S58: ='Given Data '!C$21*'Given Data '!C$19*'Given Data '!C$9*Table10[[#This Row],[Column11]]^2 -> 95.884041 | T58: ='Given Data '!C$22*'Given Data '!C$17*9.81 -> 102.3595 | U58: 0 | V58: ='Given Data '!C$45-(Table10[[#This Row],[Column13]]+Table10[[#This Row],[Column14]]+Table10[[#This Row],[Column15]]) -> 509.65787 | W58: =Table10[[#This Row],[Column16]]/'Given Data '!C$17 -> 0.9768988 | X58: =IF(L58=1,'Given Data '!C$55,IF(L58=2,'Given Data '!C$56,IF(L58=3,'Given Data '!C$57))) -> 585.34306 | Y58: =Table10[[#This Row],[Column19]]*Table10[[#This Row],[Column11]]^2/(2*1000) -> 29.845756
... G131: =6500 -> 6500 | H131: =18 -> 18 | I131: =Table10[[#This Row],[Column2]]*746/1000 -> 13.428 | J131: =60*Table10[[#This Row],[Column3]]/(2*PI()*Table10[[#This Row],[Column1]]) -> 0.019727378 | K131: 504.5 | L131: =IF(Simulation!Q131<='Given Data '!J$6,1,IF(AND(Simulation!Q131>'Given Data '!J$6,Simulation!Q131<='Given Data '!J$7),2,IF(Simulation!Q131>'Given Data '!J$7,3))) -> 3 | M131: 1 | N131: =N130+1 -> 127 | O131: =O130+(Table10[[#This Row],[Column11]]-Q130)/R130 -> 16.271641 | P131: =3.6*Table10[[#This Row],[Column11]] -> 52.924573 | Q131: =SQRT(2*R130+Q130^2) -> 14.70127 | R131: =Table10[[#This Row],[Column16]]/Table10[[#This Row],[Column19]] -> 0.69219343 | S131: ='Given Data '!C$21*'Given Data '!C$19*'Given Data '!C$9*Table10[[#This Row],[Column11]]^2 -> 203.21415 | T131: ='Given Data '!C$22*'Given Data '!C$17*9.81 -> 102.3595 | U131: 0 | V131: ='Given Data '!C$45-(Table10[[#This Row],[Column13]]+Table10[[#This Row],[Column14]]+Table10[[#This Row],[Column15]]) -> 402.32777 | W131: =Table10[[#This Row],[Column16]]/'Given Data '!C$17 -> 0.77117128 | X131: =IF(L131=1,'Given Data '!C$55,IF(L131=2,'Given Data '!C$56,IF(L131=3,'Given Data '!C$57))) -> 581.23604 | Y131: =Table10[[#This Row],[Column19]]*Table10[[#This Row],[Column11]]^2/(2*1000) -> 62.810501
G132: =6500 -> 6500 | H132: =18 -> 18 | I132: =Table10[[#This Row],[Column2]]*746/1000 -> 13.428 | J132: =60*Table10[[#This Row],[Column3]]/(2*PI()*Table10[[#This Row],[Column1]]) -> 0.019727378 | K132: 504.5 | L132: =IF(Simulation!Q132<='Given Data '!J$6,1,IF(AND(Simulation!Q132>'Given Data '!J$6,Simulation!Q132<='Given Data '!J$7),2,IF(Simulation!Q132>'Given Data '!J$8,3))) -> 3 | M132: 1 | N132: =N131+1 -> 128 | O132: =O131+(Table10[[#This Row],[Column11]]-Q131)/R131 -> 16.339554 | P132: =3.6*Table10[[#This Row],[Column11]] -> 53.093804 | Q132: =SQRT(2*R131+Q131^2) -> 14.748279 | R132: =Table10[[#This Row],[Column16]]/Table10[[#This Row],[Column19]] -> 0.68995394 | S132: ='Given Data '!C$21*'Given Data '!C$19*'Given Data '!C$9*Table10[[#This Row],[Column11]]^2 -> 204.51582 | T132: ='Given Data '!C$22*'Given Data '!C$17*9.81 -> 102.3595 | U132: 0 | V132: ='Given Data '!C$45-(Table10[[#This Row],[Column13]]+Table10[[#This Row],[Column14]]+Table10[[#This Row],[Column15]]) -> 401.0261 | W132: =Table10[[#This Row],[Column16]]/'Given Data '!C$17 -> 0.76867627 | X132: =IF(L132=1,'Given Data '!C$55,IF(L132=2,'Given Data '!C$56,IF(L132=3,'Given Data '!C$57))) -> 581.23604 | Y132: =Table10[[#This Row],[Column19]]*Table10[[#This Row],[Column11]]^2/(2*1000) -> 63.212829
G133: =6500 -> 6500 | H133: =18 -> 18 | I133: =Table10[[#This Row],[Column2]]*746/1000 -> 13.428 | J133: =60*Table10[[#This Row],[Column3]]/(2*PI()*Table10[[#This Row],[Column1]]) -> 0.019727378 | K133: 504.5 | L133: =IF(Simulation!Q133<='Given Data '!J$6,1,IF(AND(Simulation!Q133>'Given Data '!J$6,Simulation!Q133<='Given Data '!J$7),2,IF(Simulation!Q133>'Given Data '!J$8,3))) -> 3 | M133: 1 | N133: =N132+1 -> 129 | O133: =O132+(Table10[[#This Row],[Column11]]-Q132)/R132 -> 16.407251 | P133: =3.6*Table10[[#This Row],[Column11]] -> 53.261953 | Q133: =SQRT(2*R132+Q132^2) -> 14.794987 | R133: =Table10[[#This Row],[Column16]]/Table10[[#This Row],[Column19]] -> 0.68772169 | S133: ='Given Data '!C$21*'Given Data '!C$19*'Given Data '!C$9*Table10[[#This Row],[Column11]]^2 -> 205.81328 | T133: ='Given Data '!C$22*'Given Data '!C$17*9.81 -> 102.3595 | U133: 0 | V133: ='Given Data '!C$45-(Table10[[#This Row],[Column13]]+Table10[[#This Row],[Column14]]+Table10[[#This Row],[Column15]]) -> 399.72863 | W133: =Table10[[#This Row],[Column16]]/'Given Data '!C$17 -> 0.76618933 | X133: =IF(L133=1,'Given Data '!C$55,IF(L133=2,'Given Data '!C$56,IF(L133=3,'Given Data '!C$57))) -> 581.23604 | Y133: =Table10[[#This Row],[Column19]]*Table10[[#This Row],[Column11]]^2/(2*1000) -> 63.613855
G134: =6500 -> 6500 | H134: =18 -> 18 | I134: =Table10[[#This Row],[Column2]]*746/1000 -> 13.428 | J134: =60*Table10[[#This Row],[Column3]]/(2*PI()*Table10[[#This Row],[Column1]]) -> 0.019727378 | K134: 504.5 | L134: =IF(Simulation!Q134<='Given Data '!J$6,1,IF(AND(Simulation!Q134>'Given Data '!J$6,Simulation!Q134<='Given Data '!J$7),2,IF(Simulation!Q134>'Given Data '!J$8,3))) -> 3 | M134: 1 | N134: =N133+1 -> 130 | O134: =O133+(Table10[[#This Row],[Column11]]-Q133)/R133 -> 16.474736 | P134: =3.6*Table10[[#This Row],[Column11]] -> 53.429031 | Q134: =SQRT(2*R133+Q133^2) -> 14.841398 | R134: =Table10[[#This Row],[Column16]]/Table10[[#This Row],[Column19]] -> 0.68549667 | S134: ='Given Data '!C$21*'Given Data '!C$19*'Given Data '!C$9*Table10[[#This Row],[Column11]]^2 -> 207.10654 | T134: ='Given Data '!C$22*'Given Data '!C$17*9.81 -> 102.3595 | U134: 0 | V134: ='Given Data '!C$45-(Table10[[#This Row],[Column13]]+Table10[[#This Row],[Column14]]+Table10[[#This Row],[Column15]]) -> 398.43537 | W134: =Table10[[#This Row],[Column16]]/'Given Data '!C$17 -> 0.76371044 | X134: =IF(L134=1,'Given Data '!C$55,IF(L134=2,'Given Data '!C$56,IF(L134=3,'Given Data '!C$57))) -> 581.23604 | Y134: =Table10[[#This Row],[Column19]]*Table10[[#This Row],[Column11]]^2/(2*1000) -> 64.013584
G135: =6500 -> 6500 | H135: =18 -> 18 | I135: =Table10[[#This Row],[Column2]]*746/1000 -> 13.428 | J135: =60*Table10[[#This Row],[Column3]]/(2*PI()*Table10[[#This Row],[Column1]]) -> 0.019727378 | K135: 504.5 | L135: =IF(Simulation!Q135<='Given Data '!J$6,1,IF(AND(Simulation!Q135>'Given Data '!J$6,Simulation!Q135<='Given Data '!J$7),2,IF(Simulation!Q135>'Given Data '!J$8,3))) -> 3 | M135: 1 | N135: =N134+1 -> 131 | O135: =O134+(Table10[[#This Row],[Column11]]-Q134)/R134 -> 16.54201 | P135: =3.6*Table10[[#This Row],[Column11]] -> 53.595051 | Q135: =SQRT(2*R134+Q134^2) -> 14.887514 | R135: =Table10[[#This Row],[Column16]]/Table10[[#This Row],[Column19]] -> 0.68327885 | S135: ='Given Data '!C$21*'Given Data '!C$19*'Given Data '!C$9*Table10[[#This Row],[Column11]]^2 -> 208.39562 | T135: ='Given Data '!C$22*'Given Data '!C$17*9.81 -> 102.3595 | U135: 0 | V135: ='Given Data '!C$45-(Table10[[#This Row],[Column13]]+Table10[[#This Row],[Column14]]+Table10[[#This Row],[Column15]]) -> 397.14629 | W135: =Table10[[#This Row],[Column16]]/'Given Data '!C$17 -> 0.76123956 | X135: =IF(L135=1,'Given Data '!C$55,IF(L135=2,'Given Data '!C$56,IF(L135=3,'Given Data '!C$57))) -> 581.23604 | Y135: =Table10[[#This Row],[Column19]]*Table10[[#This Row],[Column11]]^2/(2*1000) -> 64.412019
G136: =6500 -> 6500 | H136: =18 -> 18 | I136: =Table10[[#This Row],[Column2]]*746/1000 -> 13.428 | J136: =60*Table10[[#This Row],[Column3]]/(2*PI()*Table10[[#This Row],[Column1]]) -> 0.019727378 | K136: 504.5 | L136: =IF(Simulation!Q136<='Given Data '!J$6,1,IF(AND(Simulation!Q136>'Given Data '!J$6,Simulation!Q136<='Given Data '!J$7),2,IF(Simulation!Q136>'Given Data '!J$8,3))) -> 3 | M136: 1 | N136: =N135+1 -> 132 | O136: =O135+(Table10[[#This Row],[Column11]]-Q135)/R135 -> 16.609077 | P136: =3.6*Table10[[#This Row],[Column11]] -> 53.760023 | Q136: =SQRT(2*R135+Q135^2) -> 14.93334 | R136: =Table10[[#This Row],[Column16]]/Table10[[#This Row],[Column19]] -> 0.6810682 | S136: ='Given Data '!C$21*'Given Data '!C$19*'Given Data '!C$9*Table10[[#This Row],[Column11]]^2 -> 209.68053 | T136: ='Given Data '!C$22*'Given Data '!C$17*9.81 -> 102.3595 | U136: 0 | V136: ='Given Data '!C$45-(Table10[[#This Row],[Column13]]+Table10[[#This Row],[Column14]]+Table10[[#This Row],[Column15]]) -> 395.86138 | W136: =Table10[[#This Row],[Column16]]/'Given Data '!C$17 -> 0.75877668 | X136: =IF(L136=1,'Given Data '!C$55,IF(L136=2,'Given Data '!C$56,IF(L136=3,'Given Data '!C$57))) -> 581.23604 | Y136: =Table10[[#This Row],[Column19]]*Table10[[#This Row],[Column11]]^2/(2*1000) -> 64.809165
G137: =6500 -> 6500 | H137: =18 -> 18 | I137: =Table10[[#This Row],[Column2]]*746/1000 -> 13.428 | J137: =60*Table10[[#This Row],[Column3]]/(2*PI()*Table10[[#This Row],[Column1]]) -> 0.019727378 | K137: 504.5 | L137: =IF(Simulation!Q137<='Given Data '!J$6,1,IF(AND(Simulation!Q137>'Given Data '!J$6,Simulation!Q137<='Given Data '!J$7),2,IF(Simulation!Q137>'Given Data '!J$8,3))) -> 3 | M137: 1 | N137: =N136+1 -> 133 | O137: =O136+(Table10[[#This Row],[Column11]]-Q136)/R136 -> 16.67594 | P137: =3.6*Table10[[#This Row],[Column11]] -> 53.923959 | Q137: =SQRT(2*R136+Q136^2) -> 14.978877 | R137: =Table10[[#This Row],[Column16]]/Table10[[#This Row],[Column19]] -> 0.6788647 | S137: ='Given Data '!C$21*'Given Data '!C$19*'Given Data '!C$9*Table10[[#This Row],[Column11]]^2 -> 210.96128 | T137: ='Given Data '!C$22*'Given Data '!C$17*9.81 -> 102.3595 | U137: 0 | V137: ='Given Data '!C$45-(Table10[[#This Row],[Column13]]+Table10[[#This Row],[Column14]]+Table10[[#This Row],[Column15]]) -> 394.58063 | W137: =Table10[[#This Row],[Column16]]/'Given Data '!C$17 -> 0.75632177 | X137: =IF(L137=1,'Given Data '!C$55,IF(L137=2,'Given Data '!C$56,IF(L137=3,'Given Data '!C$57))) -> 581.23604 | Y137: =Table10[[#This Row],[Column19]]*Table10[[#This Row],[Column11]]^2/(2*1000) -> 65.205027
G138: =6500 -> 6500 | H138: =18 -> 18 | I138: =Table10[[#This Row],[Column2]]*746/1000 -> 13.428 | J138: =60*Table10[[#This Row],[Column3]]/(2*PI()*Table10[[#This Row],[Column1]]) -> 0.019727378 | K138: 504.5 | L138: =IF(Simulation!Q138<='Given Data '!J$6,1,IF(AND(Simulation!Q138>'Given Data '!J$6,Simulation!Q138<='Given Data '!J$7),2,IF(Simulation!Q138>'Given Data '!J$8,3))) -> 3 | M138: 1 | N138: =N137+1 -> 134 | O138: =O137+(Table10[[#This Row],[Column11]]-Q137)/R137 -> 16.7426 | P138: =3.6*Table10[[#This Row],[Column11]] -> 54.08687 | Q138: =SQRT(2*R137+Q137^2) -> 15.024131 | R138: =Table10[[#This Row],[Column16]]/Table10[[#This Row],[Column19]] -> 0.67666834 | S138: ='Given Data '!C$21*'Given Data '!C$19*'Given Data '!C$9*Table10[[#This Row],[Column11]]^2 -> 212.23789 | T138: ='Given Data '!C$22*'Given Data '!C$17*9.81 -> 102.3595 | U138: 0 | V138: ='Given Data '!C$45-(Table10[[#This Row],[Column13]]+Table10[[#This Row],[Column14]]+Table10[[#This Row],[Column15]]) -> 393.30402 | W138: =Table10[[#This Row],[Column16]]/'Given Data '!C$17 -> 0.75387481 | X138: =IF(L138=1,'Given Data '!C$55,IF(L138=2,'Given Data '!C$56,IF(L138=3,'Given Data '!C$57))) -> 581.23604 | Y138: =Table10[[#This Row],[Column19]]*Table10[[#This Row],[Column11]]^2/(2*1000) -> 65.599607
G139: =6500 -> 6500 | H139: =18 -> 18 | I139: =Table10[[#This Row],[Column2]]*746/1000 -> 13.428 | J139: =60*Table10[[#This Row],[Column3]]/(2*PI()*Table10[[#This Row],[Column1]]) -> 0.019727378 | K139: 504.5 | L139: =IF(Simulation!Q139<='Given Data '!J$6,1,IF(AND(Simulation!Q139>'Given Data '!J$6,Simulation!Q139<='Given Data '!J$7),2,IF(Simulation!Q139>'Given Data '!J$8,3))) -> 3 | M139: 1 | N139: =N138+1 -> 135 | O139: =O138+(Table10[[#This Row],[Column11]]-Q138)/R138 -> 16.80906 | P139: =3.6*Table10[[#This Row],[Column11]] -> 54.248767 | Q139: =SQRT(2*R138+Q138^2) -> 15.069102 | R139: =Table10[[#This Row],[Column16]]/Table10[[#This Row],[Column19]] -> 0.67447908 | S139: ='Given Data '!C$21*'Given Data '!C$19*'Given Data '!C$9*Table10[[#This Row],[Column11]]^2 -> 213.51037 | T139: ='Given Data '!C$22*'Given Data '!C$17*9.81 -> 102.3595 | U139: 0 | V139: ='Given Data '!C$45-(Table10[[#This Row],[Column13]]+Table10[[#This Row],[Column14]]+Table10[[#This Row],[Column15]]) -> 392.03155 | W139: =Table10[[#This Row],[Column16]]/'Given Data '!C$17 -> 0.75143575 | X139: =IF(L139=1,'Given Data '!C$55,IF(L139=2,'Given Data '!C$56,IF(L139=3,'Given Data '!C$57))) -> 581.23604 | Y139: =Table10[[#This Row],[Column19]]*Table10[[#This Row],[Column11]]^2/(2*1000) -> 65.992912
G140: =6500 -> 6500 | H140: =18 -> 18 | I140: =Table10[[#This Row],[Column2]]*746/1000 -> 13.428 | J140: =60*Table10[[#This Row],[Column3]]/(2*PI()*Table10[[#This Row],[Column1]]) -> 0.019727378 | K140: 504.5 | L140: =IF(Simulation!Q140<='Given Data '!J$6,1,IF(AND(Simulation!Q140>'Given Data '!J$6,Simulation!Q140<='Given Data '!J$7),2,IF(Simulation!Q140>'Given Data '!J$8,3))) -> 3 | M140: 1 | N140: =N139+1 -> 136 | O140: =O139+(Table10[[#This Row],[Column11]]-Q139)/R139 -> 16.875322 | P140: =3.6*Table10[[#This Row],[Column11]] -> 54.409662 | Q140: =SQRT(2*R139+Q139^2) -> 15.113795 | R140: =Table10[[#This Row],[Column16]]/Table10[[#This Row],[Column19]] -> 0.6722969 | S140: ='Given Data '!C$21*'Given Data '!C$19*'Given Data '!C$9*Table10[[#This Row],[Column11]]^2 -> 214.77873 | T140: ='Given Data '!C$22*'Given Data '!C$17*9.81 -> 102.3595 | U140: 0 | V140: ='Given Data '!C$45-(Table10[[#This Row],[Column13]]+Table10[[#This Row],[Column14]]+Table10[[#This Row],[Column15]]) -> 390.76319 | W140: =Table10[[#This Row],[Column16]]/'Given Data '!C$17 -> 0.74900459 | X140: =IF(L140=1,'Given Data '!C$55,IF(L140=2,'Given Data '!C$56,IF(L140=3,'Given Data '!C$57))) -> 581.23604 | Y140: =Table10[[#This Row],[Column19]]*Table10[[#This Row],[Column11]]^2/(2*1000) -> 66.384943
G141: =6500 -> 6500 | H141: =18 -> 18 | I141: =Table10[[#This Row],[Column2]]*746/1000 -> 13.428 | J141: =60*Table10[[#This Row],[Column3]]/(2*PI()*Table10[[#This Row],[Column1]]) -> 0.019727378 | K141: 504.5 | L141: =IF(Simulation!Q141<='Given Data '!J$6,1,IF(AND(Simulation!Q141>'Given Data '!J$6,Simulation!Q141<='Given Data '!J$7),2,IF(Simulation!Q141>'Given Data '!J$8,3))) -> 3 | M141: 1 | N141: =N140+1 -> 137 | O141: =O140+(Table10[[#This Row],[Column11]]-Q140)/R140 -> 16.94139 | P141: =3.6*Table10[[#This Row],[Column11]] -> 54.569563 | Q141: =SQRT(2*R140+Q140^2) -> 15.158212 | R141: =Table10[[#This Row],[Column16]]/Table10[[#This Row],[Column19]] -> 0.67012178 | S141: ='Given Data '!C$21*'Given Data '!C$19*'Given Data '!C$9*Table10[[#This Row],[Column11]]^2 -> 216.04299 | T141: ='Given Data '!C$22*'Given Data '!C$17*9.81 -> 102.3595 | U141: 0 | V141: ='Given Data '!C$45-(Table10[[#This Row],[Column13]]+Table10[[#This Row],[Column14]]+Table10[[#This Row],[Column15]]) -> 389.49893 | W141: =Table10[[#This Row],[Column16]]/'Given Data '!C$17 -> 0.7465813 | X141: =IF(L141=1,'Given Data '!C$55,IF(L141=2,'Given Data '!C$56,IF(L141=3,'Given Data '!C$57))) -> 581.23604 | Y141: =Table10[[#This Row],[Column19]]*Table10[[#This Row],[Column11]]^2/(2*1000) -> 66.775706
G142: =6500 -> 6500 | H142: =18 -> 18 | I142: =Table10[[#This Row],[Column2]]*746/1000 -> 13.428 | J142: =60*Table10[[#This Row],[Column3]]/(2*PI()*Table10[[#This Row],[Column1]]) -> 0.019727378 | K142: 504.5 | L142: =IF(Simulation!Q142<='Given Data '!J$6,1,IF(AND(Simulation!Q142>'Given Data '!J$6,Simulation!Q142<='Given Data '!J$7),2,IF(Simulation!Q142>'Given Data '!J$8,3))) -> 3 | M142: 1 | N142: =N141+1 -> 138 | O142: =O141+(Table10[[#This Row],[Column11]]-Q141)/R141 -> 17.007265 | P142: =3.6*Table10[[#This Row],[Column11]] -> 54.728482 | Q142: =SQRT(2*R141+Q141^2) -> 15.202356 | R142: =Table10[[#This Row],[Column16]]/Table10[[#This Row],[Column19]] -> 0.6679537 | S142: ='Given Data '!C$21*'Given Data '!C$19*'Given Data '!C$9*Table10[[#This Row],[Column11]]^2 -> 217.30315 | T142: ='Given Data '!C$22*'Given Data '!C$17*9.81 -> 102.3595 | U142: 0 | V142: ='Given Data '!C$45-(Table10[[#This Row],[Column13]]+Table10[[#This Row],[Column14]]+Table10[[#This Row],[Column15]]) -> 388.23876 | W142: =Table10[[#This Row],[Column16]]/'Given Data '!C$17 -> 0.74416585 | X142: =IF(L142=1,'Given Data '!C$55,IF(L142=2,'Given Data '!C$56,IF(L142=3,'Given Data '!C$57))) -> 581.23604 | Y142: =Table10[[#This Row],[Column19]]*Table10[[#This Row],[Column11]]^2/(2*1000) -> 67.165205
G143: =6500 -> 6500 | H143: =18 -> 18 | I143: =Table10[[#This Row],[Column2]]*746/1000 -> 13.428 | J143: =60*Table10[[#This Row],[Column3]]/(2*PI()*Table10[[#This Row],[Column1]]) -> 0.019727378 | K143: 504.5 | L143: =IF(Simulation!Q143<='Given Data '!J$6,1,IF(AND(Simulation!Q143>'Given Data '!J$6,Simulation!Q143<='Given Data '!J$7),2,IF(Simulation!Q143>'Given Data '!J$8,3))) -> 3 | M143: 1 | N143: =N142+1 -> 139 | O143: =O142+(Table10[[#This Row],[Column11]]-Q142)/R142 -> 17.07295 | P143: =3.6*Table10[[#This Row],[Column11]] -> 54.886429 | Q143: =SQRT(2*R142+Q142^2) -> 15.24623 | R143: =Table10[[#This Row],[Column16]]/Table10[[#This Row],[Column19]] -> 0.66579263 | S143: ='Given Data '!C$21*'Given Data '!C$19*'Given Data '!C$9*Table10[[#This Row],[Column11]]^2 -> 218.55924 | T143: ='Given Data '!C$22*'Given Data '!C$17*9.81 -> 102.3595 | U143: 0 | V143: ='Given Data '!C$45-(Table10[[#This Row],[Column13]]+Table10[[#This Row],[Column14]]+Table10[[#This Row],[Column15]]) -> 386.98267 | W143: =Table10[[#This Row],[Column16]]/'Given Data '!C$17 -> 0.74175821 | X143: =IF(L143=1,'Given Data '!C$55,IF(L143=2,'Given Data '!C$56,IF(L143=3,'Given Data '!C$57))) -> 581.23604 | Y143: =Table10[[#This Row],[Column19]]*Table10[[#This Row],[Column11]]^2/(2*1000) -> 67.553444
... G149: =6500 -> 6500 | H149: =18 -> 18 | I149: =Table10[[#This Row],[Column2]]*746/1000 -> 13.428 | J149: =60*Table10[[#This Row],[Column3]]/(2*PI()*Table10[[#This Row],[Column1]]) -> 0.019727378 | K149: 504.5 | L149: =IF(Simulation!Q149<='Given Data '!J$6,1,IF(AND(Simulation!Q149>'Given Data '!J$6,Simulation!Q149<='Given Data '!J$7),2,IF(Simulation!Q149>'Given Data '!J$8,3))) -> 3 | M149: 1 | N149: =N148+1 -> 145 | O149: =O148+(Table10[[#This Row],[Column11]]-Q148)/R148 -> 17.463181 | P149: =3.6*Table10[[#This Row],[Column11]] -> 55.814248 | Q149: =SQRT(2*R148+Q148^2) -> 15.503958 | R149: =Table10[[#This Row],[Column16]]/Table10[[#This Row],[Column19]] -> 0.65297228 | S149: ='Given Data '!C$21*'Given Data '!C$19*'Given Data '!C$9*Table10[[#This Row],[Column11]]^2 -> 226.01089 | T149: ='Given Data '!C$22*'Given Data '!C$17*9.81 -> 102.3595 | U149: 0 | V149: ='Given Data '!C$45-(Table10[[#This Row],[Column13]]+Table10[[#This Row],[Column14]]+Table10[[#This Row],[Column15]]) -> 379.53102 | W149: =Table10[[#This Row],[Column16]]/'Given Data '!C$17 -> 0.72747507 | X149: =IF(L149=1,'Given Data '!C$55,IF(L149=2,'Given Data '!C$56,IF(L149=3,'Given Data '!C$57))) -> 581.23604 | Y149: =Table10[[#This Row],[Column19]]*Table10[[#This Row],[Column11]]^2/(2*1000) -> 69.85664
G150: 6600 | H150: =16.8 -> 16.8 | I150: =Table10[[#This Row],[Column2]]*746/1000 -> 12.5328 | J150: =60*Table10[[#This Row],[Column3]]/(2*PI()*Table10[[#This Row],[Column1]]) -> 0.018133246 | K150: 585.7 | L150: =IF(Simulation!Q150<='Given Data '!J$6,1,IF(AND(Simulation!Q150>'Given Data '!J$6,Simulation!Q150<='Given Data '!J$7),2,IF(Simulation!Q150>'Given Data '!J$8,3))) -> 3 | M150: 1 | N150: =N149+1 -> 146 | O150: =O149+(Table10[[#This Row],[Column11]]-Q149)/R149 -> 17.527593 | P150: =3.6*Table10[[#This Row],[Column11]] -> 55.965662 | Q150: =SQRT(2*R149+Q149^2) -> 15.546017 | R150: =Table10[[#This Row],[Column16]]/Table10[[#This Row],[Column19]] -> 0.65085968 | S150: ='Given Data '!C$21*'Given Data '!C$19*'Given Data '!C$9*Table10[[#This Row],[Column11]]^2 -> 227.23881 | T150: ='Given Data '!C$22*'Given Data '!C$17*9.81 -> 102.3595 | U150: 0 | V150: ='Given Data '!C$45-(Table10[[#This Row],[Column13]]+Table10[[#This Row],[Column14]]+Table10[[#This Row],[Column15]]) -> 378.3031 | W150: =Table10[[#This Row],[Column16]]/'Given Data '!C$17 -> 0.72512143 | X150: =IF(L150=1,'Given Data '!C$55,IF(L150=2,'Given Data '!C$56,IF(L150=3,'Given Data '!C$57))) -> 581.23604 | Y150: =Table10[[#This Row],[Column19]]*Table10[[#This Row],[Column11]]^2/(2*1000) -> 70.236171
G151: 6600 | H151: =16.8 -> 16.8 | I151: =Table10[[#This Row],[Column2]]*746/1000 -> 12.5328 | J151: =60*Table10[[#This Row],[Column3]]/(2*PI()*Table10[[#This Row],[Column1]]) -> 0.018133246 | K151: 585.7 | L151: =IF(Simulation!Q151<='Given Data '!J$6,1,IF(AND(Simulation!Q151>'Given Data '!J$6,Simulation!Q151<='Given Data '!J$7),2,IF(Simulation!Q151>'Given Data '!J$8,3))) -> 3 | M151: 1 | N151: =N150+1 -> 147 | O151: =O150+(Table10[[#This Row],[Column11]]-Q150)/R150 -> 17.591832 | P151: =3.6*Table10[[#This Row],[Column11]] -> 56.11618 | Q151: =SQRT(2*R150+Q150^2) -> 15.587828 | R151: =Table10[[#This Row],[Column16]]/Table10[[#This Row],[Column19]] -> 0.64875392 | S151: ='Given Data '!C$21*'Given Data '!C$19*'Given Data '!C$9*Table10[[#This Row],[Column11]]^2 -> 228.46276 | T151: ='Given Data '!C$22*'Given Data '!C$17*9.81 -> 102.3595 | U151: 0 | V151: ='Given Data '!C$45-(Table10[[#This Row],[Column13]]+Table10[[#This Row],[Column14]]+Table10[[#This Row],[Column15]]) -> 377.07916 | W151: =Table10[[#This Row],[Column16]]/'Given Data '!C$17 -> 0.72277541 | X151: =IF(L151=1,'Given Data '!C$55,IF(L151=2,'Given Data '!C$56,IF(L151=3,'Given Data '!C$57))) -> 581.23604 | Y151: =Table10[[#This Row],[Column19]]*Table10[[#This Row],[Column11]]^2/(2*1000) -> 70.614475
G152: 6600 | H152: =16.8 -> 16.8 | I152: =Table10[[#This Row],[Column2]]*746/1000 -> 12.5328 | J152: =60*Table10[[#This Row],[Column3]]/(2*PI()*Table10[[#This Row],[Column1]]) -> 0.018133246 | K152: 585.7 | L152: =IF(Simulation!Q152<='Given Data '!J$6,1,IF(AND(Simulation!Q152>'Given Data '!J$6,Simulation!Q152<='Given Data '!J$7),2,IF(Simulation!Q152>'Given Data '!J$8,3))) -> 3 | M152: 1 | N152: =N151+1 -> 148 | O152: =O151+(Table10[[#This Row],[Column11]]-Q151)/R151 -> 17.655899 | P152: =3.6*Table10[[#This Row],[Column11]] -> 56.265809 | Q152: =SQRT(2*R151+Q151^2) -> 15.629392 | R152: =Table10[[#This Row],[Column16]]/Table10[[#This Row],[Column19]] -> 0.64665497 | S152: ='Given Data '!C$21*'Given Data '!C$19*'Given Data '!C$9*Table10[[#This Row],[Column11]]^2 -> 229.68274 | T152: ='Given Data '!C$22*'Given Data '!C$17*9.81 -> 102.3595 | U152: 0 | V152: ='Given Data '!C$45-(Table10[[#This Row],[Column13]]+Table10[[#This Row],[Column14]]+Table10[[#This Row],[Column15]]) -> 375.85918 | W152: =Table10[[#This Row],[Column16]]/'Given Data '!C$17 -> 0.72043698 | X152: =IF(L152=1,'Given Data '!C$55,IF(L152=2,'Given Data '!C$56,IF(L152=3,'Given Data '!C$57))) -> 581.23604 | Y152: =Table10[[#This Row],[Column19]]*Table10[[#This Row],[Column11]]^2/(2*1000) -> 70.991554
G153: 6600 | H153: =16.8 -> 16.8 | I153: =Table10[[#This Row],[Column2]]*746/1000 -> 12.5328 | J153: =60*Table10[[#This Row],[Column3]]/(2*PI()*Table10[[#This Row],[Column1]]) -> 0.018133246 | K153: 585.7 | L153: =IF(Simulation!Q153<='Given Data '!J$6,1,IF(AND(Simulation!Q153>'Given Data '!J$6,Simulation!Q153<='Given Data '!J$7),2,IF(Simulation!Q153>'Given Data '!J$8,3))) -> 3 | M153: 1 | N153: =N152+1 -> 149 | O153: =O152+(Table10[[#This Row],[Column11]]-Q152)/R152 -> 17.719797 | P153: =3.6*Table10[[#This Row],[Column11]] -> 56.41456 | Q153: =SQRT(2*R152+Q152^2) -> 15.670711 | R153: =Table10[[#This Row],[Column16]]/Table10[[#This Row],[Column19]] -> 0.64456281 | S153: ='Given Data '!C$21*'Given Data '!C$19*'Given Data '!C$9*Table10[[#This Row],[Column11]]^2 -> 230.89878 | T153: ='Given Data '!C$22*'Given Data '!C$17*9.81 -> 102.3595 | U153: 0 | V153: ='Given Data '!C$45-(Table10[[#This Row],[Column13]]+Table10[[#This Row],[Column14]]+Table10[[#This Row],[Column15]]) -> 374.64314 | W153: =Table10[[#This Row],[Column16]]/'Given Data '!C$17 -> 0.71810611 | X153: =IF(L153=1,'Given Data '!C$55,IF(L153=2,'Given Data '!C$56,IF(L153=3,'Given Data '!C$57))) -> 581.23604 | Y153: =Table10[[#This Row],[Column19]]*Table10[[#This Row],[Column11]]^2/(2*1000) -> 71.367413
G154: 6700 | H154: =14 -> 14 | I154: =Table10[[#This Row],[Column2]]*746/1000 -> 10.444 | J154: =60*Table10[[#This Row],[Column3]]/(2*PI()*Table10[[#This Row],[Column1]]) -> 0.014885501 | K154: 426.9 | L154: =IF(Simulation!Q154<='Given Data '!J$6,1,IF(AND(Simulation!Q154>'Given Data '!J$6,Simulation!Q154<='Given Data '!J$7),2,IF(Simulation!Q154>'Given Data '!J$8,3))) -> 3 | M154: 1 | N154: =N153+1 -> 150 | O154: =O153+(Table10[[#This Row],[Column11]]-Q153)/R153 -> 17.783526 | P154: =3.6*Table10[[#This Row],[Column11]] -> 56.562441 | Q154: =SQRT(2*R153+Q153^2) -> 15.711789 | R154: =Table10[[#This Row],[Column16]]/Table10[[#This Row],[Column19]] -> 0.64247743 | S154: ='Given Data '!C$21*'Given Data '!C$19*'Given Data '!C$9*Table10[[#This Row],[Column11]]^2 -> 232.11088 | T154: ='Given Data '!C$22*'Given Data '!C$17*9.81 -> 102.3595 | U154: 0 | V154: ='Given Data '!C$45-(Table10[[#This Row],[Column13]]+Table10[[#This Row],[Column14]]+Table10[[#This Row],[Column15]]) -> 373.43104 | W154: =Table10[[#This Row],[Column16]]/'Given Data '!C$17 -> 0.71578278 | X154: =IF(L154=1,'Given Data '!C$55,IF(L154=2,'Given Data '!C$56,IF(L154=3,'Given Data '!C$57))) -> 581.23604 | Y154: =Table10[[#This Row],[Column19]]*Table10[[#This Row],[Column11]]^2/(2*1000) -> 71.742056
G155: 6700 | H155: =14 -> 14 | I155: =Table10[[#This Row],[Column2]]*746/1000 -> 10.444 | J155: =60*Table10[[#This Row],[Column3]]/(2*PI()*Table10[[#This Row],[Column1]]) -> 0.014885501 | K155: 426.9 | L155: =IF(Simulation!Q155<='Given Data '!J$6,1,IF(AND(Simulation!Q155>'Given Data '!J$6,Simulation!Q155<='Given Data '!J$7),2,IF(Simulation!Q155>'Given Data '!J$8,3))) -> 3 | M155: 1 | N155: =N154+1 -> 151 | O155: =O154+(Table10[[#This Row],[Column11]]-Q154)/R154 -> 17.84709 | P155: =3.6*Table10[[#This Row],[Column11]] -> 56.709459 | Q155: =SQRT(2*R154+Q154^2) -> 15.752627 | R155: =Table10[[#This Row],[Column16]]/Table10[[#This Row],[Column19]] -> 0.64039878 | S155: ='Given Data '!C$21*'Given Data '!C$19*'Given Data '!C$9*Table10[[#This Row],[Column11]]^2 -> 233.31906 | T155: ='Given Data '!C$22*'Given Data '!C$17*9.81 -> 102.3595 | U155: 0 | V155: ='Given Data '!C$45-(Table10[[#This Row],[Column13]]+Table10[[#This Row],[Column14]]+Table10[[#This Row],[Column15]]) -> 372.22285 | W155: =Table10[[#This Row],[Column16]]/'Given Data '!C$17 -> 0.71346697 | X155: =IF(L155=1,'Given Data '!C$55,IF(L155=2,'Given Data '!C$56,IF(L155=3,'Given Data '!C$57))) -> 581.23604 | Y155: =Table10[[#This Row],[Column19]]*Table10[[#This Row],[Column11]]^2/(2*1000) -> 72.115487
G156: 6700 | H156: =14 -> 14 | I156: =Table10[[#This Row],[Column2]]*746/1000 -> 10.444 | J156: =60*Table10[[#This Row],[Column3]]/(2*PI()*Table10[[#This Row],[Column1]]) -> 0.014885501 | K156: 426.9 | L156: =IF(Simulation!Q156<='Given Data '!J$6,1,IF(AND(Simulation!Q156>'Given Data '!J$6,Simulation!Q156<='Given Data '!J$7),2,IF(Simulation!Q156>'Given Data '!J$8,3))) -> 3 | M156: 1 | N156: =N155+1 -> 152 | O156: =O155+(Table10[[#This Row],[Column11]]-Q155)/R155 -> 17.91049 | P156: =3.6*Table10[[#This Row],[Column11]] -> 56.855623 | Q156: =SQRT(2*R155+Q155^2) -> 15.793229 | R156: =Table10[[#This Row],[Column16]]/Table10[[#This Row],[Column19]] -> 0.63832687 | S156: ='Given Data '!C$21*'Given Data '!C$19*'Given Data '!C$9*Table10[[#This Row],[Column11]]^2 -> 234.52333 | T156: ='Given Data '!C$22*'Given Data '!C$17*9.81 -> 102.3595 | U156: 0 | V156: ='Given Data '!C$45-(Table10[[#This Row],[Column13]]+Table10[[#This Row],[Column14]]+Table10[[#This Row],[Column15]]) -> 371.01858 | W156: =Table10[[#This Row],[Column16]]/'Given Data '!C$17 -> 0.71115865 | X156: =IF(L156=1,'Given Data '!C$55,IF(L156=2,'Given Data '!C$56,IF(L156=3,'Given Data '!C$57))) -> 581.23604 | Y156: =Table10[[#This Row],[Column19]]*Table10[[#This Row],[Column11]]^2/(2*1000) -> 72.48771
G157: 6700 | H157: =14 -> 14 | I157: =Table10[[#This Row],[Column2]]*746/1000 -> 10.444 | J157: =60*Table10[[#This Row],[Column3]]/(2*PI()*Table10[[#This Row],[Column1]]) -> 0.014885501 | K157: 426.9 | L157: =IF(Simulation!Q157<='Given Data '!J$6,1,IF(AND(Simulation!Q157>'Given Data '!J$6,Simulation!Q157<='Given Data '!J$7),2,IF(Simulation!Q157>'Given Data '!J$8,3))) -> 3 | M157: 1 | N157: =N156+1 -> 153 | O157: =O156+(Table10[[#This Row],[Column11]]-Q156)/R156 -> 17.973727 | P157: =3.6*Table10[[#This Row],[Column11]] -> 57.000941 | Q157: =SQRT(2*R156+Q156^2) -> 15.833595 | R157: =Table10[[#This Row],[Column16]]/Table10[[#This Row],[Column19]] -> 0.63626166 | S157: ='Given Data '!C$21*'Given Data '!C$19*'Given Data '!C$9*Table10[[#This Row],[Column11]]^2 -> 235.72371 | T157: ='Given Data '!C$22*'Given Data '!C$17*9.81 -> 102.3595 | U157: 0 | V157: ='Given Data '!C$45-(Table10[[#This Row],[Column13]]+Table10[[#This Row],[Column14]]+Table10[[#This Row],[Column15]]) -> 369.81821 | W157: =Table10[[#This Row],[Column16]]/'Given Data '!C$17 -> 0.70885781 | X157: =IF(L157=1,'Given Data '!C$55,IF(L157=2,'Given Data '!C$56,IF(L157=3,'Given Data '!C$57))) -> 581.23604 | Y157: =Table10[[#This Row],[Column19]]*Table10[[#This Row],[Column11]]^2/(2*1000) -> 72.858728
G158: 6700 | H158: =14 -> 14 | I158: =Table10[[#This Row],[Column2]]*746/1000 -> 10.444 | J158: =60*Table10[[#This Row],[Column3]]/(2*PI()*Table10[[#This Row],[Column1]]) -> 0.014885501 | K158: 426.9 | L158: =IF(Simulation!Q158<='Given Data '!J$6,1,IF(AND(Simulation!Q158>'Given Data '!J$6,Simulation!Q158<='Given Data '!J$7),2,IF(Simulation!Q158>'Given Data '!J$8,3))) -> 3 | M158: 1 | N158: =N157+1 -> 154 | O158: =O157+(Table10[[#This Row],[Column11]]-Q157)/R157 -> 18.036804 | P158: =3.6*Table10[[#This Row],[Column11]] -> 57.145421 | Q158: =SQRT(2*R157+Q157^2) -> 15.873728 | R158: =Table10[[#This Row],[Column16]]/Table10[[#This Row],[Column19]] -> 0.63420312 | S158: ='Given Data '!C$21*'Given Data '!C$19*'Given Data '!C$9*Table10[[#This Row],[Column11]]^2 -> 236.9202 | T158: ='Given Data '!C$22*'Given Data '!C$17*9.81 -> 102.3595 | U158: 0 | V158: ='Given Data '!C$45-(Table10[[#This Row],[Column13]]+Table10[[#This Row],[Column14]]+Table10[[#This Row],[Column15]]) -> 368.62171 | W158: =Table10[[#This Row],[Column16]]/'Given Data '!C$17 -> 0.7065644 | X158: =IF(L158=1,'Given Data '!C$55,IF(L158=2,'Given Data '!C$56,IF(L158=3,'Given Data '!C$57))) -> 581.23604 | Y158: =Table10[[#This Row],[Column19]]*Table10[[#This Row],[Column11]]^2/(2*1000) -> 73.228547
G159: 6800 | H159: =13.48 -> 13.48 | I159: =Table10[[#This Row],[Column2]]*746/1000 -> 10.05608 | J159: =60*Table10[[#This Row],[Column3]]/(2*PI()*Table10[[#This Row],[Column1]]) -> 0.014121837 | K159: 426.9 | L159: =IF(Simulation!Q159<='Given Data '!J$6,1,IF(AND(Simulation!Q159>'Given Data '!J$6,Simulation!Q159<='Given Data '!J$7),2,IF(Simulation!Q159>'Given Data '!J$8,3))) -> 3 | M159: 1 | N159: =N158+1 -> 155 | O159: =O158+(Table10[[#This Row],[Column11]]-Q158)/R158 -> 18.099722 | P159: =3.6*Table10[[#This Row],[Column11]] -> 57.289071 | Q159: =SQRT(2*R158+Q158^2) -> 15.913631 | R159: =Table10[[#This Row],[Column16]]/Table10[[#This Row],[Column19]] -> 0.63215125 | S159: ='Given Data '!C$21*'Given Data '!C$19*'Given Data '!C$9*Table10[[#This Row],[Column11]]^2 -> 238.11282 | T159: ='Given Data '!C$22*'Given Data '!C$17*9.81 -> 102.3595 | U159: 0 | V159: ='Given Data '!C$45-(Table10[[#This Row],[Column13]]+Table10[[#This Row],[Column14]]+Table10[[#This Row],[Column15]]) -> 367.42909 | W159: =Table10[[#This Row],[Column16]]/'Given Data '!C$17 -> 0.70427841 | X159: =IF(L159=1,'Given Data '!C$55,IF(L159=2,'Given Data '!C$56,IF(L159=3,'Given Data '!C$57))) -> 581.23604 | Y159: =Table10[[#This Row],[Column19]]*Table10[[#This Row],[Column11]]^2/(2*1000) -> 73.597168
G160: 6800 | H160: =13.48 -> 13.48 | I160: =Table10[[#This Row],[Column2]]*746/1000 -> 10.05608 | J160: =60*Table10[[#This Row],[Column3]]/(2*PI()*Table10[[#This Row],[Column1]]) -> 0.014121837 | K160: 426.9 | L160: =IF(Simulation!Q160<='Given Data '!J$6,1,IF(AND(Simulation!Q160>'Given Data '!J$6,Simulation!Q160<='Given Data '!J$7),2,IF(Simulation!Q160>'Given Data '!J$8,3))) -> 3 | M160: 1 | N160: =N159+1 -> 156 | O160: =O159+(Table10[[#This Row],[Column11]]-Q159)/R159 -> 18.162483 | P160: =3.6*Table10[[#This Row],[Column11]] -> 57.431899 | Q160: =SQRT(2*R159+Q159^2) -> 15.953305 | R160: =Table10[[#This Row],[Column16]]/Table10[[#This Row],[Column19]] -> 0.63010602 | S160: ='Given Data '!C$21*'Given Data '!C$19*'Given Data '!C$9*Table10[[#This Row],[Column11]]^2 -> 239.30159 | T160: ='Given Data '!C$22*'Given Data '!C$17*9.81 -> 102.3595 | U160: 0 | V160: ='Given Data '!C$45-(Table10[[#This Row],[Column13]]+Table10[[#This Row],[Column14]]+Table10[[#This Row],[Column15]]) -> 366.24033 | W160: =Table10[[#This Row],[Column16]]/'Given Data '!C$17 -> 0.70199983 | X160: =IF(L160=1,'Given Data '!C$55,IF(L160=2,'Given Data '!C$56,IF(L160=3,'Given Data '!C$57))) -> 581.23604 | Y160: =Table10[[#This Row],[Column19]]*Table10[[#This Row],[Column11]]^2/(2*1000) -> 73.964597
G161: 6800 | H161: =13.48 -> 13.48 | I161: =Table10[[#This Row],[Column2]]*746/1000 -> 10.05608 | J161: =60*Table10[[#This Row],[Column3]]/(2*PI()*Table10[[#This Row],[Column1]]) -> 0.014121837 | K161: 426.9 | L161: =IF(Simulation!Q161<='Given Data '!J$6,1,IF(AND(Simulation!Q161>'Given Data '!J$6,Simulation!Q161<='Given Data '!J$7),2,IF(Simulation!Q161>'Given Data '!J$8,3))) -> 3 | M161: 1 | N161: =N160+1 -> 157 | O161: =O160+(Table10[[#This Row],[Column11]]-Q160)/R160 -> 18.225089 | P161: =3.6*Table10[[#This Row],[Column11]] -> 57.573913 | Q161: =SQRT(2*R160+Q160^2) -> 15.992754 | R161: =Table10[[#This Row],[Column16]]/Table10[[#This Row],[Column19]] -> 0.62806741 | S161: ='Given Data '!C$21*'Given Data '!C$19*'Given Data '!C$9*Table10[[#This Row],[Column11]]^2 -> 240.4865 | T161: ='Given Data '!C$22*'Given Data '!C$17*9.81 -> 102.3595 | U161: 0 | V161: ='Given Data '!C$45-(Table10[[#This Row],[Column13]]+Table10[[#This Row],[Column14]]+Table10[[#This Row],[Column15]]) -> 365.05541 | W161: =Table10[[#This Row],[Column16]]/'Given Data '!C$17 -> 0.69972861 | X161: =IF(L161=1,'Given Data '!C$55,IF(L161=2,'Given Data '!C$56,IF(L161=3,'Given Data '!C$57))) -> 581.23604 | Y161: =Table10[[#This Row],[Column19]]*Table10[[#This Row],[Column11]]^2/(2*1000) -> 74.330838
G162: 6800 | H162: =13.48 -> 13.48 | I162: =Table10[[#This Row],[Column2]]*746/1000 -> 10.05608 | J162: =60*Table10[[#This Row],[Column3]]/(2*PI()*Table10[[#This Row],[Column1]]) -> 0.014121837 | K162: 426.9 | L162: =IF(Simulation!Q162<='Given Data '!J$6,1,IF(AND(Simulation!Q162>'Given Data '!J$6,Simulation!Q162<='Given Data '!J$7),2,IF(Simulation!Q162>'Given Data '!J$8,3))) -> 3 | M162: 1 | N162: =N161+1 -> 158 | O162: =O161+(Table10[[#This Row],[Column11]]-Q161)/R161 -> 18.287541 | P162: =3.6*Table10[[#This Row],[Column11]] -> 57.715119 | Q162: =SQRT(2*R161+Q161^2) -> 16.031977 | R162: =Table10[[#This Row],[Column16]]/Table10[[#This Row],[Column19]] -> 0.62603539 | S162: ='Given Data '!C$21*'Given Data '!C$19*'Given Data '!C$9*Table10[[#This Row],[Column11]]^2 -> 241.66759 | T162: ='Given Data '!C$22*'Given Data '!C$17*9.81 -> 102.3595 | U162: 0 | V162: ='Given Data '!C$45-(Table10[[#This Row],[Column13]]+Table10[[#This Row],[Column14]]+Table10[[#This Row],[Column15]]) -> 363.87433 | W162: =Table10[[#This Row],[Column16]]/'Given Data '!C$17 -> 0.69746474 | X162: =IF(L162=1,'Given Data '!C$55,IF(L162=2,'Given Data '!C$56,IF(L162=3,'Given Data '!C$57))) -> 581.23604 | Y162: =Table10[[#This Row],[Column19]]*Table10[[#This Row],[Column11]]^2/(2*1000) -> 74.695893
G163: 6800 | H163: =13.48 -> 13.48 | I163: =Table10[[#This Row],[Column2]]*746/1000 -> 10.05608 | J163: =60*Table10[[#This Row],[Column3]]/(2*PI()*Table10[[#This Row],[Column1]]) -> 0.014121837 | K163: 426.9 | L163: =IF(Simulation!Q163<='Given Data '!J$6,1,IF(AND(Simulation!Q163>'Given Data '!J$6,Simulation!Q163<='Given Data '!J$7),2,IF(Simulation!Q163>'Given Data '!J$8,3))) -> 3 | M163: 1 | N163: =N162+1 -> 159 | O163: =O162+(Table10[[#This Row],[Column11]]-Q162)/R162 -> 18.34984 | P163: =3.6*Table10[[#This Row],[Column11]] -> 57.855525 | Q163: =SQRT(2*R162+Q162^2) -> 16.070979 | R163: =Table10[[#This Row],[Column16]]/Table10[[#This Row],[Column19]] -> 0.62400994 | S163: ='Given Data '!C$21*'Given Data '!C$19*'Given Data '!C$9*Table10[[#This Row],[Column11]]^2 -> 242.84485 | T163: ='Given Data '!C$22*'Given Data '!C$17*9.81 -> 102.3595 | U163: 0 | V163: ='Given Data '!C$45-(Table10[[#This Row],[Column13]]+Table10[[#This Row],[Column14]]+Table10[[#This Row],[Column15]]) -> 362.69707 | W163: =Table10[[#This Row],[Column16]]/'Given Data '!C$17 -> 0.69520819 | X163: =IF(L163=1,'Given Data '!C$55,IF(L163=2,'Given Data '!C$56,IF(L163=3,'Given Data '!C$57))) -> 581.23604 | Y163: =Table10[[#This Row],[Column19]]*Table10[[#This Row],[Column11]]^2/(2*1000) -> 75.059768
G164: =7000 -> 7000 | H164: =12.45 -> 12.45 | I164: =Table10[[#This Row],[Column2]]*746/1000 -> 9.2877 | J164: =60*Table10[[#This Row],[Column3]]/(2*PI()*Table10[[#This Row],[Column1]]) -> 0.012670143 | K164: 535.1 | L164: =IF(Simulation!Q164<='Given Data '!J$6,1,IF(AND(Simulation!Q164>'Given Data '!J$6,Simulation!Q164<='Given Data '!J$7),2,IF(Simulation!Q164>'Given Data '!J$8,3))) -> 3 | M164: 1 | N164: =N163+1 -> 160 | O164: =O163+(Table10[[#This Row],[Column11]]-Q163)/R163 -> 18.411989 | P164: =3.6*Table10[[#This Row],[Column11]] -> 57.995139 | Q164: =SQRT(2*R163+Q163^2) -> 16.109761 | R164: =Table10[[#This Row],[Column16]]/Table10[[#This Row],[Column19]] -> 0.62199105 | S164: ='Given Data '!C$21*'Given Data '!C$19*'Given Data '!C$9*Table10[[#This Row],[Column11]]^2 -> 244.0183 | T164: ='Given Data '!C$22*'Given Data '!C$17*9.81 -> 102.3595 | U164: 0 | V164: ='Given Data '!C$45-(Table10[[#This Row],[Column13]]+Table10[[#This Row],[Column14]]+Table10[[#This Row],[Column15]]) -> 361.52361 | W164: =Table10[[#This Row],[Column16]]/'Given Data '!C$17 -> 0.69295895 | X164: =IF(L164=1,'Given Data '!C$55,IF(L164=2,'Given Data '!C$56,IF(L164=3,'Given Data '!C$57))) -> 581.23604 | Y164: =Table10[[#This Row],[Column19]]*Table10[[#This Row],[Column11]]^2/(2*1000) -> 75.422465
G165: =7000 -> 7000 | H165: =12.45 -> 12.45 | I165: =Table10[[#This Row],[Column2]]*746/1000 -> 9.2877 | J165: =60*Table10[[#This Row],[Column3]]/(2*PI()*Table10[[#This Row],[Column1]]) -> 0.012670143 | K165: 535.1 | L165: =IF(Simulation!Q165<='Given Data '!J$6,1,IF(AND(Simulation!Q165>'Given Data '!J$6,Simulation!Q165<='Given Data '!J$7),2,IF(Simulation!Q165>'Given Data '!J$8,3))) -> 3 | M165: 1 | N165: =N164+1 -> 161 | O165: =O164+(Table10[[#This Row],[Column11]]-Q164)/R164 -> 18.473989 | P165: =3.6*Table10[[#This Row],[Column11]] -> 58.133967 | Q165: =SQRT(2*R164+Q164^2) -> 16.148324 | R165: =Table10[[#This Row],[Column16]]/Table10[[#This Row],[Column19]] -> 0.61997869 | S165: ='Given Data '!C$21*'Given Data '!C$19*'Given Data '!C$9*Table10[[#This Row],[Column11]]^2 -> 245.18796 | T165: ='Given Data '!C$22*'Given Data '!C$17*9.81 -> 102.3595 | U165: 0 | V165: ='Given Data '!C$45-(Table10[[#This Row],[Column13]]+Table10[[#This Row],[Column14]]+Table10[[#This Row],[Column15]]) -> 360.35396 | W165: =Table10[[#This Row],[Column16]]/'Given Data '!C$17 -> 0.69071698 | X165: =IF(L165=1,'Given Data '!C$55,IF(L165=2,'Given Data '!C$56,IF(L165=3,'Given Data '!C$57))) -> 581.23604 | Y165: =Table10[[#This Row],[Column19]]*Table10[[#This Row],[Column11]]^2/(2*1000) -> 75.783988
G166: =7000 -> 7000 | H166: =12.45 -> 12.45 | I166: =Table10[[#This Row],[Column2]]*746/1000 -> 9.2877 | J166: =60*Table10[[#This Row],[Column3]]/(2*PI()*Table10[[#This Row],[Column1]]) -> 0.012670143 | K166: 535.1 | L166: =IF(Simulation!Q166<='Given Data '!J$6,1,IF(AND(Simulation!Q166>'Given Data '!J$6,Simulation!Q166<='Given Data '!J$7),2,IF(Simulation!Q166>'Given Data '!J$8,3))) -> 3 | M166: 1 | N166: =N165+1 -> 162 | O166: =O165+(Table10[[#This Row],[Column11]]-Q165)/R165 -> 18.535842 | P166: =3.6*Table10[[#This Row],[Column11]] -> 58.272017 | Q166: =SQRT(2*R165+Q165^2) -> 16.186671 | R166: =Table10[[#This Row],[Column16]]/Table10[[#This Row],[Column19]] -> 0.61797284 | S166: ='Given Data '!C$21*'Given Data '!C$19*'Given Data '!C$9*Table10[[#This Row],[Column11]]^2 -> 246.35383 | T166: ='Given Data '!C$22*'Given Data '!C$17*9.81 -> 102.3595 | U166: 0 | V166: ='Given Data '!C$45-(Table10[[#This Row],[Column13]]+Table10[[#This Row],[Column14]]+Table10[[#This Row],[Column15]]) -> 359.18809 | W166: =Table10[[#This Row],[Column16]]/'Given Data '!C$17 -> 0.68848227 | X166: =IF(L166=1,'Given Data '!C$55,IF(L166=2,'Given Data '!C$56,IF(L166=3,'Given Data '!C$57))) -> 581.23604 | Y166: =Table10[[#This Row],[Column19]]*Table10[[#This Row],[Column11]]^2/(2*1000) -> 76.144342
G167: =7000 -> 7000 | H167: =12.45 -> 12.45 | I167: =Table10[[#This Row],[Column2]]*746/1000 -> 9.2877 | J167: =60*Table10[[#This Row],[Column3]]/(2*PI()*Table10[[#This Row],[Column1]]) -> 0.012670143 | K167: 535.1 | L167: =IF(Simulation!Q167<='Given Data '!J$6,1,IF(AND(Simulation!Q167>'Given Data '!J$6,Simulation!Q167<='Given Data '!J$7),2,IF(Simulation!Q167>'Given Data '!J$8,3))) -> 3 | M167: 1 | N167: =N166+1 -> 163 | O167: =O166+(Table10[[#This Row],[Column11]]-Q166)/R166 -> 18.597548 | P167: =3.6*Table10[[#This Row],[Column11]] -> 58.409296 | Q167: =SQRT(2*R166+Q166^2) -> 16.224804 | R167: =Table10[[#This Row],[Column16]]/Table10[[#This Row],[Column19]] -> 0.61597348 | S167: ='Given Data '!C$21*'Given Data '!C$19*'Given Data '!C$9*Table10[[#This Row],[Column11]]^2 -> 247.51593 | T167: ='Given Data '!C$22*'Given Data '!C$17*9.81 -> 102.3595 | U167: 0 | V167: ='Given Data '!C$45-(Table10[[#This Row],[Column13]]+Table10[[#This Row],[Column14]]+Table10[[#This Row],[Column15]]) -> 358.02599 | W167: =Table10[[#This Row],[Column16]]/'Given Data '!C$17 -> 0.68625479 | X167: =IF(L167=1,'Given Data '!C$55,IF(L167=2,'Given Data '!C$56,IF(L167=3,'Given Data '!C$57))) -> 581.23604 | Y167: =Table10[[#This Row],[Column19]]*Table10[[#This Row],[Column11]]^2/(2*1000) -> 76.50353
G168: =7000 -> 7000 | H168: =12.45 -> 12.45 | I168: =Table10[[#This Row],[Column2]]*746/1000 -> 9.2877 | J168: =60*Table10[[#This Row],[Column3]]/(2*PI()*Table10[[#This Row],[Column1]]) -> 0.012670143 | K168: 535.1 | L168: =IF(Simulation!Q168<='Given Data '!J$6,1,IF(AND(Simulation!Q168>'Given Data '!J$6,Simulation!Q168<='Given Data '!J$7),2,IF(Simulation!Q168>'Given Data '!J$8,3))) -> 3 | M168: 1 | N168: =N167+1 -> 164 | O168: =O167+(Table10[[#This Row],[Column11]]-Q167)/R167 -> 18.65911 | P168: =3.6*Table10[[#This Row],[Column11]] -> 58.54581 | Q168: =SQRT(2*R167+Q167^2) -> 16.262725 | R168: =Table10[[#This Row],[Column16]]/Table10[[#This Row],[Column19]] -> 0.61398059 | S168: ='Given Data '!C$21*'Given Data '!C$19*'Given Data '!C$9*Table10[[#This Row],[Column11]]^2 -> 248.67427 | T168: ='Given Data '!C$22*'Given Data '!C$17*9.81 -> 102.3595 | U168: 0 | V168: ='Given Data '!C$45-(Table10[[#This Row],[Column13]]+Table10[[#This Row],[Column14]]+Table10[[#This Row],[Column15]]) -> 356.86764 | W168: =Table10[[#This Row],[Column16]]/'Given Data '!C$17 -> 0.68403451 | X168: =IF(L168=1,'Given Data '!C$55,IF(L168=2,'Given Data '!C$56,IF(L168=3,'Given Data '!C$57))) -> 581.23604 | Y168: =Table10[[#This Row],[Column19]]*Table10[[#This Row],[Column11]]^2/(2*1000) -> 76.861556
G169: =7000 -> 7000 | H169: =12.45 -> 12.45 | I169: =Table10[[#This Row],[Column2]]*746/1000 -> 9.2877 | J169: =60*Table10[[#This Row],[Column3]]/(2*PI()*Table10[[#This Row],[Column1]]) -> 0.012670143 | K169: 535.1 | L169: =IF(Simulation!Q169<='Given Data '!J$6,1,IF(AND(Simulation!Q169>'Given Data '!J$6,Simulation!Q169<='Given Data '!J$7),2,IF(Simulation!Q169>'Given Data '!J$8,3))) -> 3 | M169: 1 | N169: =N168+1 -> 165 | O169: =O168+(Table10[[#This Row],[Column11]]-Q168)/R168 -> 18.720529 | P169: =3.6*Table10[[#This Row],[Column11]] -> 58.681566 | Q169: =SQRT(2*R168+Q168^2) -> 16.300435 | R169: =Table10[[#This Row],[Column16]]/Table10[[#This Row],[Column19]] -> 0.61199414 | S169: ='Given Data '!C$21*'Given Data '!C$19*'Given Data '!C$9*Table10[[#This Row],[Column11]]^2 -> 249.82886 | T169: ='Given Data '!C$22*'Given Data '!C$17*9.81 -> 102.3595 | U169: 0 | V169: ='Given Data '!C$45-(Table10[[#This Row],[Column13]]+Table10[[#This Row],[Column14]]+Table10[[#This Row],[Column15]]) -> 355.71305 | W169: =Table10[[#This Row],[Column16]]/'Given Data '!C$17 -> 0.68182142 | X169: =IF(L169=1,'Given Data '!C$55,IF(L169=2,'Given Data '!C$56,IF(L169=3,'Given Data '!C$57))) -> 581.23604 | Y169: =Table10[[#This Row],[Column19]]*Table10[[#This Row],[Column11]]^2/(2*1000) -> 77.218424
G170: =7000 -> 7000 | H170: =12.45 -> 12.45 | I170: =Table10[[#This Row],[Column2]]*746/1000 -> 9.2877 | J170: =60*Table10[[#This Row],[Column3]]/(2*PI()*Table10[[#This Row],[Column1]]) -> 0.012670143 | K170: 535.1 | L170: =IF(Simulation!Q170<='Given Data '!J$6,1,IF(AND(Simulation!Q170>'Given Data '!J$6,Simulation!Q170<='Given Data '!J$7),2,IF(Simulation!Q170>'Given Data '!J$8,3))) -> 3 | M170: 1 | N170: =N169+1 -> 166 | O170: =O169+(Table10[[#This Row],[Column11]]-Q169)/R169 -> 18.781807 | P170: =3.6*Table10[[#This Row],[Column11]] -> 58.816572 | Q170: =SQRT(2*R169+Q169^2) -> 16.337937 | R170: =Table10[[#This Row],[Column16]]/Table10[[#This Row],[Column19]] -> 0.61001412 | S170: ='Given Data '!C$21*'Given Data '!C$19*'Given Data '!C$9*Table10[[#This Row],[Column11]]^2 -> 250.97972 | T170: ='Given Data '!C$22*'Given Data '!C$17*9.81 -> 102.3595 | U170: 0 | V170: ='Given Data '!C$45-(Table10[[#This Row],[Column13]]+Table10[[#This Row],[Column14]]+Table10[[#This Row],[Column15]]) -> 354.56219 | W170: =Table10[[#This Row],[Column16]]/'Given Data '!C$17 -> 0.67961548 | X170: =IF(L170=1,'Given Data '!C$55,IF(L170=2,'Given Data '!C$56,IF(L170=3,'Given Data '!C$57))) -> 581.23604 | Y170: =Table10[[#This Row],[Column19]]*Table10[[#This Row],[Column11]]^2/(2*1000) -> 77.574137
G171: =7000 -> 7000 | H171: =12.45 -> 12.45 | I171: =Table10[[#This Row],[Column2]]*746/1000 -> 9.2877 | J171: =60*Table10[[#This Row],[Column3]]/(2*PI()*Table10[[#This Row],[Column1]]) -> 0.012670143 | K171: 535.1 | L171: =IF(Simulation!Q171<='Given Data '!J$6,1,IF(AND(Simulation!Q171>'Given Data '!J$6,Simulation!Q171<='Given Data '!J$7),2,IF(Simulation!Q171>'Given Data '!J$8,3))) -> 3 | M171: 1 | N171: =N170+1 -> 167 | O171: =O170+(Table10[[#This Row],[Column11]]-Q170)/R170 -> 18.842944 | P171: =3.6*Table10[[#This Row],[Column11]] -> 58.950833 | Q171: =SQRT(2*R170+Q170^2) -> 16.375231 | R171: =Table10[[#This Row],[Column16]]/Table10[[#This Row],[Column19]] -> 0.60804051 | S171: ='Given Data '!C$21*'Given Data '!C$19*'Given Data '!C$9*Table10[[#This Row],[Column11]]^2 -> 252.12685 | T171: ='Given Data '!C$22*'Given Data '!C$17*9.81 -> 102.3595 | U171: 0 | V171: ='Given Data '!C$45-(Table10[[#This Row],[Column13]]+Table10[[#This Row],[Column14]]+Table10[[#This Row],[Column15]]) -> 353.41506 | W171: =Table10[[#This Row],[Column16]]/'Given Data '!C$17 -> 0.67741669 | X171: =IF(L171=1,'Given Data '!C$55,IF(L171=2,'Given Data '!C$56,IF(L171=3,'Given Data '!C$57))) -> 581.23604 | Y171: =Table10[[#This Row],[Column19]]*Table10[[#This Row],[Column11]]^2/(2*1000) -> 77.928699
G172: =7000 -> 7000 | H172: =12.45 -> 12.45 | I172: =Table10[[#This Row],[Column2]]*746/1000 -> 9.2877 | J172: =60*Table10[[#This Row],[Column3]]/(2*PI()*Table10[[#This Row],[Column1]]) -> 0.012670143 | K172: 535.1 | L172: =IF(Simulation!Q172<='Given Data '!J$6,1,IF(AND(Simulation!Q172>'Given Data '!J$6,Simulation!Q172<='Given Data '!J$7),2,IF(Simulation!Q172>'Given Data '!J$8,3))) -> 3 | M172: 1 | N172: =N171+1 -> 168 | O172: =O171+(Table10[[#This Row],[Column11]]-Q171)/R171 -> 18.903943 | P172: =3.6*Table10[[#This Row],[Column11]] -> 59.084356 | Q172: =SQRT(2*R171+Q171^2) -> 16.412321 | R172: =Table10[[#This Row],[Column16]]/Table10[[#This Row],[Column19]] -> 0.60607329 | S172: ='Given Data '!C$21*'Given Data '!C$19*'Given Data '!C$9*Table10[[#This Row],[Column11]]^2 -> 253.27028 | T172: ='Given Data '!C$22*'Given Data '!C$17*9.81 -> 102.3595 | U172: 0 | V172: ='Given Data '!C$45-(Table10[[#This Row],[Column13]]+Table10[[#This Row],[Column14]]+Table10[[#This Row],[Column15]]) -> 352.27164 | W172: =Table10[[#This Row],[Column16]]/'Given Data '!C$17 -> 0.67522501 | X172: =IF(L172=1,'Given Data '!C$55,IF(L172=2,'Given Data '!C$56,IF(L172=3,'Given Data '!C$57))) -> 581.23604 | Y172: =Table10[[#This Row],[Column19]]*Table10[[#This Row],[Column11]]^2/(2*1000) -> 78.282114
G173: =7000 -> 7000 | H173: =12.45 -> 12.45 | I173: =Table10[[#This Row],[Column2]]*746/1000 -> 9.2877 | J173: =60*Table10[[#This Row],[Column3]]/(2*PI()*Table10[[#This Row],[Column1]]) -> 0.012670143 | K173: 535.1 | L173: =IF(Simulation!Q173<='Given Data '!J$6,1,IF(AND(Simulation!Q173>'Given Data '!J$6,Simulation!Q173<='Given Data '!J$7),2,IF(Simulation!Q173>'Given Data '!J$8,3))) -> 3 | M173: 1 | N173: =N172+1 -> 169 | O173: =O172+(Table10[[#This Row],[Column11]]-Q172)/R172 -> 18.964805 | P173: =3.6*Table10[[#This Row],[Column11]] -> 59.217147 | Q173: =SQRT(2*R172+Q172^2) -> 16.449208 | R173: =Table10[[#This Row],[Column16]]/Table10[[#This Row],[Column19]] -> 0.60411243 | S173: ='Given Data '!C$21*'Given Data '!C$19*'Given Data '!C$9*Table10[[#This Row],[Column11]]^2 -> 254.41 | T173: ='Given Data '!C$22*'Given Data '!C$17*9.81 -> 102.3595 | U173: 0 | V173: ='Given Data '!C$45-(Table10[[#This Row],[Column13]]+Table10[[#This Row],[Column14]]+Table10[[#This Row],[Column15]]) -> 351.13191 | W173: =Table10[[#This Row],[Column16]]/'Given Data '!C$17 -> 0.67304042 | X173: =IF(L173=1,'Given Data '!C$55,IF(L173=2,'Given Data '!C$56,IF(L173=3,'Given Data '!C$57))) -> 581.23604 | Y173: =Table10[[#This Row],[Column19]]*Table10[[#This Row],[Column11]]^2/(2*1000) -> 78.634386
G174: =7000 -> 7000 | H174: =12.45 -> 12.45 | I174: =Table10[[#This Row],[Column2]]*746/1000 -> 9.2877 | J174: =60*Table10[[#This Row],[Column3]]/(2*PI()*Table10[[#This Row],[Column1]]) -> 0.012670143 | K174: 535.1 | L174: =IF(Simulation!Q174<='Given Data '!J$6,1,IF(AND(Simulation!Q174>'Given Data '!J$6,Simulation!Q174<='Given Data '!J$7),2,IF(Simulation!Q174>'Given Data '!J$8,3))) -> 3 | M174: 1 | N174: =N173+1 -> 170 | O174: =O173+(Table10[[#This Row],[Column11]]-Q173)/R173 -> 19.02553 | P174: =3.6*Table10[[#This Row],[Column11]] -> 59.349213 | Q174: =SQRT(2*R173+Q173^2) -> 16.485893 | R174: =Table10[[#This Row],[Column16]]/Table10[[#This Row],[Column19]] -> 0.60215791 | S174: ='Given Data '!C$21*'Given Data '!C$19*'Given Data '!C$9*Table10[[#This Row],[Column11]]^2 -> 255.54604 | T174: ='Given Data '!C$22*'Given Data '!C$17*9.81 -> 102.3595 | U174: 0 | V174: ='Given Data '!C$45-(Table10[[#This Row],[Column13]]+Table10[[#This Row],[Column14]]+Table10[[#This Row],[Column15]]) -> 349.99588 | W174: =Table10[[#This Row],[Column16]]/'Given Data '!C$17 -> 0.67086289 | X174: =IF(L174=1,'Given Data '!C$55,IF(L174=2,'Given Data '!C$56,IF(L174=3,'Given Data '!C$57))) -> 581.23604 | Y174: =Table10[[#This Row],[Column19]]*Table10[[#This Row],[Column11]]^2/(2*1000) -> 78.985518
G175: =7000 -> 7000 | H175: =12.45 -> 12.45 | I175: =Table10[[#This Row],[Column2]]*746/1000 -> 9.2877 | J175: =60*Table10[[#This Row],[Column3]]/(2*PI()*Table10[[#This Row],[Column1]]) -> 0.012670143 | K175: 535.1 | L175: =IF(Simulation!Q175<='Given Data '!J$6,1,IF(AND(Simulation!Q175>'Given Data '!J$6,Simulation!Q175<='Given Data '!J$7),2,IF(Simulation!Q175>'Given Data '!J$8,3))) -> 3 | M175: 1 | N175: =N174+1 -> 171 | O175: =O174+(Table10[[#This Row],[Column11]]-Q174)/R174 -> 19.086121 | P175: =3.6*Table10[[#This Row],[Column11]] -> 59.48056 | Q175: =SQRT(2*R174+Q174^2) -> 16.522378 | R175: =Table10[[#This Row],[Column16]]/Table10[[#This Row],[Column19]] -> 0.60020972 | S175: ='Given Data '!C$21*'Given Data '!C$19*'Given Data '!C$9*Table10[[#This Row],[Column11]]^2 -> 256.6784 | T175: ='Given Data '!C$22*'Given Data '!C$17*9.81 -> 102.3595 | U175: 0 | V175: ='Given Data '!C$45-(Table10[[#This Row],[Column13]]+Table10[[#This Row],[Column14]]+Table10[[#This Row],[Column15]]) -> 348.86352 | W175: =Table10[[#This Row],[Column16]]/'Given Data '!C$17 -> 0.66869241 | X175: =IF(L175=1,'Given Data '!C$55,IF(L175=2,'Given Data '!C$56,IF(L175=3,'Given Data '!C$57))) -> 581.23604 | Y175: =Table10[[#This Row],[Column19]]*Table10[[#This Row],[Column11]]^2/(2*1000) -> 79.335514
... G702: =7000 -> 7000 | H702: =12.45 -> 12.45 | I702: =Table10[[#This Row],[Column2]]*746/1000 -> 9.2877 | J702: =60*Table10[[#This Row],[Column3]]/(2*PI()*Table10[[#This Row],[Column1]]) -> 0.012670143 | K702: 504.47 | L702: =IF(Simulation!Q702<='Given Data '!J$6,1,IF(AND(Simulation!Q702>'Given Data '!J$6,Simulation!Q702<='Given Data '!J$7),2,IF(Simulation!Q702>'Given Data '!J$8,3))) -> 3 | M702: 1 | N702: =N701+1 -> 698 | O702: =O701+(Table10[[#This Row],[Column11]]-Q701)/R701 -> 43.8539 | P702: =3.6*Table10[[#This Row],[Column11]] -> 86.457418 | Q702: =SQRT(2*R701+Q701^2) -> 24.01595 | R702: =Table10[[#This Row],[Column16]]/Table10[[#This Row],[Column19]] -> 0.10879702 | S702: ='Given Data '!C$21*'Given Data '!C$19*'Given Data '!C$9*Table10[[#This Row],[Column11]]^2 -> 542.30517 | T702: ='Given Data '!C$22*'Given Data '!C$17*9.81 -> 102.3595 | U702: 0 | V702: ='Given Data '!C$45-(Table10[[#This Row],[Column13]]+Table10[[#This Row],[Column14]]+Table10[[#This Row],[Column15]]) -> 63.236747 | W702: =Table10[[#This Row],[Column16]]/'Given Data '!C$17 -> 0.12121053 | X702: =IF(L702=1,'Given Data '!C$55,IF(L702=2,'Given Data '!C$56,IF(L702=3,'Given Data '!C$57))) -> 581.23604 | Y702: =Table10[[#This Row],[Column19]]*Table10[[#This Row],[Column11]]^2/(2*1000) -> 167.61854
G703: 6000 | H703: 17.32 | I703: =Table10[[#This Row],[Column2]]*746/1000 -> 12.92072 | J703: =60*Table10[[#This Row],[Column3]]/(2*PI()*Table10[[#This Row],[Column1]]) -> 0.020563965 | K703: 504.47 | L703: =IF(Simulation!Q703<='Given Data '!J$6,1,IF(AND(Simulation!Q703>'Given Data '!J$6,Simulation!Q703<='Given Data '!J$7),2,IF(Simulation!Q703>'Given Data '!J$8,3))) -> 3 | M703: 1 | N703: =N702+1 -> 699 | O703: =O702+(Table10[[#This Row],[Column11]]-Q702)/R702 -> 43.895535 | P703: =3.6*Table10[[#This Row],[Column11]] -> 86.473725 | Q703: =SQRT(2*R702+Q702^2) -> 24.020479 | R703: =Table10[[#This Row],[Column16]]/Table10[[#This Row],[Column19]] -> 0.10844502 | S703: ='Given Data '!C$21*'Given Data '!C$19*'Given Data '!C$9*Table10[[#This Row],[Column11]]^2 -> 542.50976 | T703: ='Given Data '!C$22*'Given Data '!C$17*9.81 -> 102.3595 | U703: 0 | V703: ='Given Data '!C$45-(Table10[[#This Row],[Column13]]+Table10[[#This Row],[Column14]]+Table10[[#This Row],[Column15]]) -> 63.032154 | W703: =Table10[[#This Row],[Column16]]/'Given Data '!C$17 -> 0.12081837 | X703: =IF(L703=1,'Given Data '!C$55,IF(L703=2,'Given Data '!C$56,IF(L703=3,'Given Data '!C$57))) -> 581.23604 | Y703: =Table10[[#This Row],[Column19]]*Table10[[#This Row],[Column11]]^2/(2*1000) -> 167.68178
G704: 5800 | H704: 17.18 | I704: =Table10[[#This Row],[Column2]]*746/1000 -> 12.81628 | J704: =60*Table10[[#This Row],[Column3]]/(2*PI()*Table10[[#This Row],[Column1]]) -> 0.021101114 | K704: 504.47 | L704: =IF(Simulation!Q704<='Given Data '!J$6,1,IF(AND(Simulation!Q704>'Given Data '!J$6,Simulation!Q704<='Given Data '!J$7),2,IF(Simulation!Q704>'Given Data '!J$8,3))) -> 3 | M704: 1 | N704: =N703+1 -> 700 | O704: =O703+(Table10[[#This Row],[Column11]]-Q703)/R703 -> 43.937162 | P704: =3.6*Table10[[#This Row],[Column11]] -> 86.489977 | Q704: =SQRT(2*R703+Q703^2) -> 24.024994 | R704: =Table10[[#This Row],[Column16]]/Table10[[#This Row],[Column19]] -> 0.10809416 | S704: ='Given Data '!C$21*'Given Data '!C$19*'Given Data '!C$9*Table10[[#This Row],[Column11]]^2 -> 542.71369 | T704: ='Given Data '!C$22*'Given Data '!C$17*9.81 -> 102.3595 | U704: 0 | V704: ='Given Data '!C$45-(Table10[[#This Row],[Column13]]+Table10[[#This Row],[Column14]]+Table10[[#This Row],[Column15]]) -> 62.828222 | W704: =Table10[[#This Row],[Column16]]/'Given Data '!C$17 -> 0.12042748 | X704: =IF(L704=1,'Given Data '!C$55,IF(L704=2,'Given Data '!C$56,IF(L704=3,'Given Data '!C$57))) -> 581.23604 | Y704: =Table10[[#This Row],[Column19]]*Table10[[#This Row],[Column11]]^2/(2*1000) -> 167.74481
G705: 5000 | H705: 15.26 | I705: =Table10[[#This Row],[Column2]]*746/1000 -> 11.38396 | J705: =60*Table10[[#This Row],[Column3]]/(2*PI()*Table10[[#This Row],[Column1]]) -> 0.021741762 | K705: 504.47 | L705: =IF(Simulation!Q705<='Given Data '!J$6,1,IF(AND(Simulation!Q705>'Given Data '!J$6,Simulation!Q705<='Given Data '!J$7),2,IF(Simulation!Q705>'Given Data '!J$8,3))) -> 3 | M705: 1 | N705: =N704+1 -> 701 | O705: =O704+(Table10[[#This Row],[Column11]]-Q704)/R704 -> 43.978782 | P705: =3.6*Table10[[#This Row],[Column11]] -> 86.506173 | Q705: =SQRT(2*R704+Q704^2) -> 24.029492 | R705: =-1.2*(Table10[[#This Row],[Column16]]/Table10[[#This Row],[Column19]]) -> -0.12929333 | S705: ='Given Data '!C$21*'Given Data '!C$19*'Given Data '!C$9*Table10[[#This Row],[Column11]]^2 -> 542.91696 | T705: ='Given Data '!C$22*'Given Data '!C$17*9.81 -> 102.3595 | U705: 0 | V705: ='Given Data '!C$45-(Table10[[#This Row],[Column13]]+Table10[[#This Row],[Column14]]+Table10[[#This Row],[Column15]]) -> 62.624951 | W705: =Table10[[#This Row],[Column16]]/'Given Data '!C$17 -> 0.12003786 | X705: =IF(L705=1,'Given Data '!C$55,IF(L705=2,'Given Data '!C$56,IF(L705=3,'Given Data '!C$57))) -> 581.23604 | Y705: =Table10[[#This Row],[Column19]]*Table10[[#This Row],[Column11]]^2/(2*1000) -> 167.80764
G706: 5000 | H706: 15.26 | I706: =Table10[[#This Row],[Column2]]*746/1000 -> 11.38396 | J706: =60*Table10[[#This Row],[Column3]]/(2*PI()*Table10[[#This Row],[Column1]]) -> 0.021741762 | K706: 457.1 | L706: =IF(Simulation!Q706<='Given Data '!J$6,1,IF(AND(Simulation!Q706>'Given Data '!J$6,Simulation!Q706<='Given Data '!J$7),2,IF(Simulation!Q706>'Given Data '!J$8,3))) -> 3 | M706: 1 | N706: =N705+1 -> 702 | O706: =O705+(Table10[[#This Row],[Column11]]-Q705)/R705 -> 44.020402 | P706: =3.6*Table10[[#This Row],[Column11]] -> 86.4868 | Q706: =SQRT(2*R705+Q705^2) -> 24.024111 | R706: =-1.2*(Table10[[#This Row],[Column16]]/Table10[[#This Row],[Column19]]) -> -0.1297953 | S706: ='Given Data '!C$21*'Given Data '!C$19*'Given Data '!C$9*Table10[[#This Row],[Column11]]^2 -> 542.67383 | T706: ='Given Data '!C$22*'Given Data '!C$17*9.81 -> 102.3595 | U706: 0 | V706: ='Given Data '!C$45-(Table10[[#This Row],[Column13]]+Table10[[#This Row],[Column14]]+Table10[[#This Row],[Column15]]) -> 62.868088 | W706: =Table10[[#This Row],[Column16]]/'Given Data '!C$17 -> 0.1205039 | X706: =IF(L706=1,'Given Data '!C$55,IF(L706=2,'Given Data '!C$56,IF(L706=3,'Given Data '!C$57))) -> 581.23604 | Y706: =Table10[[#This Row],[Column19]]*Table10[[#This Row],[Column11]]^2/(2*1000) -> 167.73249
G707: 5000 | H707: 15.26 | I707: =Table10[[#This Row],[Column2]]*746/1000 -> 11.38396 | J707: =60*Table10[[#This Row],[Column3]]/(2*PI()*Table10[[#This Row],[Column1]]) -> 0.021741762 | K707: 457.1 | L707: =IF(Simulation!Q707<='Given Data '!J$6,1,IF(AND(Simulation!Q707>'Given Data '!J$6,Simulation!Q707<='Given Data '!J$7),2,IF(Simulation!Q707>'Given Data '!J$8,3))) -> 3 | M707: 1 | N707: =N706+1 -> 703 | O707: =O706+(Table10[[#This Row],[Column11]]-Q706)/R706 -> 44.062031 | P707: =3.6*Table10[[#This Row],[Column11]] -> 86.467348 | Q707: =SQRT(2*R706+Q706^2) -> 24.018708 | R707: =-1.2*(Table10[[#This Row],[Column16]]/Table10[[#This Row],[Column19]]) -> -0.13029922 | S707: ='Given Data '!C$21*'Given Data '!C$19*'Given Data '!C$9*Table10[[#This Row],[Column11]]^2 -> 542.42975 | T707: ='Given Data '!C$22*'Given Data '!C$17*9.81 -> 102.3595 | U707: 0 | V707: ='Given Data '!C$45-(Table10[[#This Row],[Column13]]+Table10[[#This Row],[Column14]]+Table10[[#This Row],[Column15]]) -> 63.112168 | W707: =Table10[[#This Row],[Column16]]/'Given Data '!C$17 -> 0.12097174 | X707: =IF(L707=1,'Given Data '!C$55,IF(L707=2,'Given Data '!C$56,IF(L707=3,'Given Data '!C$57))) -> 581.23604 | Y707: =Table10[[#This Row],[Column19]]*Table10[[#This Row],[Column11]]^2/(2*1000) -> 167.65705
G708: 5000 | H708: 15.26 | I708: =Table10[[#This Row],[Column2]]*746/1000 -> 11.38396 | J708: =60*Table10[[#This Row],[Column3]]/(2*PI()*Table10[[#This Row],[Column1]]) -> 0.021741762 | K708: 457.1 | L708: =IF(Simulation!Q708<='Given Data '!J$6,1,IF(AND(Simulation!Q708>'Given Data '!J$6,Simulation!Q708<='Given Data '!J$7),2,IF(Simulation!Q708>'Given Data '!J$8,3))) -> 3 | M708: 1 | N708: =N707+1 -> 704 | O708: =O707+(Table10[[#This Row],[Column11]]-Q707)/R707 -> 44.10367 | P708: =3.6*Table10[[#This Row],[Column11]] -> 86.447816 | Q708: =SQRT(2*R707+Q707^2) -> 24.013282 | R708: =-1.2*(Table10[[#This Row],[Column16]]/Table10[[#This Row],[Column19]]) -> -0.13080509 | S708: ='Given Data '!C$21*'Given Data '!C$19*'Given Data '!C$9*Table10[[#This Row],[Column11]]^2 -> 542.18472 | T708: ='Given Data '!C$22*'Given Data '!C$17*9.81 -> 102.3595 | U708: 0 | V708: ='Given Data '!C$45-(Table10[[#This Row],[Column13]]+Table10[[#This Row],[Column14]]+Table10[[#This Row],[Column15]]) -> 63.357196 | W708: =Table10[[#This Row],[Column16]]/'Given Data '!C$17 -> 0.12144141 | X708: =IF(L708=1,'Given Data '!C$55,IF(L708=2,'Given Data '!C$56,IF(L708=3,'Given Data '!C$57))) -> 581.23604 | Y708: =Table10[[#This Row],[Column19]]*Table10[[#This Row],[Column11]]^2/(2*1000) -> 167.58131
G709: 5000 | H709: 15.26 | I709: =Table10[[#This Row],[Column2]]*746/1000 -> 11.38396 | J709: =60*Table10[[#This Row],[Column3]]/(2*PI()*Table10[[#This Row],[Column1]]) -> 0.021741762 | K709: 457.1 | L709: =IF(Simulation!Q709<='Given Data '!J$6,1,IF(AND(Simulation!Q709>'Given Data '!J$6,Simulation!Q709<='Given Data '!J$7),2,IF(Simulation!Q709>'Given Data '!J$8,3))) -> 3 | M709: 1 | N709: =N708+1 -> 705 | O709: =O708+(Table10[[#This Row],[Column11]]-Q708)/R708 -> 44.145319 | P709: =3.6*Table10[[#This Row],[Column11]] -> 86.428204 | Q709: =SQRT(2*R708+Q708^2) -> 24.007835 | R709: =-1.2*(Table10[[#This Row],[Column16]]/Table10[[#This Row],[Column19]]) -> -0.13131294 | S709: ='Given Data '!C$21*'Given Data '!C$19*'Given Data '!C$9*Table10[[#This Row],[Column11]]^2 -> 541.93874 | T709: ='Given Data '!C$22*'Given Data '!C$17*9.81 -> 102.3595 | U709: 0 | V709: ='Given Data '!C$45-(Table10[[#This Row],[Column13]]+Table10[[#This Row],[Column14]]+Table10[[#This Row],[Column15]]) -> 63.603176 | W709: =Table10[[#This Row],[Column16]]/'Given Data '!C$17 -> 0.12191289 | X709: =IF(L709=1,'Given Data '!C$55,IF(L709=2,'Given Data '!C$56,IF(L709=3,'Given Data '!C$57))) -> 581.23604 | Y709: =Table10[[#This Row],[Column19]]*Table10[[#This Row],[Column11]]^2/(2*1000) -> 167.50529
G710: 5000 | H710: 15.26 | I710: =Table10[[#This Row],[Column2]]*746/1000 -> 11.38396 | J710: =60*Table10[[#This Row],[Column3]]/(2*PI()*Table10[[#This Row],[Column1]]) -> 0.021741762 | K710: 457.1 | L710: =IF(Simulation!Q710<='Given Data '!J$6,1,IF(AND(Simulation!Q710>'Given Data '!J$6,Simulation!Q710<='Given Data '!J$7),2,IF(Simulation!Q710>'Given Data '!J$8,3))) -> 3 | M710: 1 | N710: =N709+1 -> 706 | O710: =O709+(Table10[[#This Row],[Column11]]-Q709)/R709 -> 44.186976 | P710: =3.6*Table10[[#This Row],[Column11]] -> 86.408511 | Q710: =SQRT(2*R709+Q709^2) -> 24.002364 | R710: =-1.2*(Table10[[#This Row],[Column16]]/Table10[[#This Row],[Column19]]) -> -0.13182275 | S710: ='Given Data '!C$21*'Given Data '!C$19*'Given Data '!C$9*Table10[[#This Row],[Column11]]^2 -> 541.69181 | T710: ='Given Data '!C$22*'Given Data '!C$17*9.81 -> 102.3595 | U710: 0 | V710: ='Given Data '!C$45-(Table10[[#This Row],[Column13]]+Table10[[#This Row],[Column14]]+Table10[[#This Row],[Column15]]) -> 63.85011 | W710: =Table10[[#This Row],[Column16]]/'Given Data '!C$17 -> 0.12238621 | X710: =IF(L710=1,'Given Data '!C$55,IF(L710=2,'Given Data '!C$56,IF(L710=3,'Given Data '!C$57))) -> 581.23604 | Y710: =Table10[[#This Row],[Column19]]*Table10[[#This Row],[Column11]]^2/(2*1000) -> 167.42896
G711: 5000 | H711: 15.26 | I711: =Table10[[#This Row],[Column2]]*746/1000 -> 11.38396 | J711: =60*Table10[[#This Row],[Column3]]/(2*PI()*Table10[[#This Row],[Column1]]) -> 0.021741762 | K711: 457.1 | L711: =IF(Simulation!Q711<='Given Data '!J$6,1,IF(AND(Simulation!Q711>'Given Data '!J$6,Simulation!Q711<='Given Data '!J$7),2,IF(Simulation!Q711>'Given Data '!J$8,3))) -> 3 | M711: 1 | N711: =N710+1 -> 707 | O711: =O710+(Table10[[#This Row],[Column11]]-Q710)/R710 -> 44.228644 | P711: =3.6*Table10[[#This Row],[Column11]] -> 86.388738 | Q711: =SQRT(2*R710+Q710^2) -> 23.996872 | R711: =-1.2*(Table10[[#This Row],[Column16]]/Table10[[#This Row],[Column19]]) -> -0.13233454 | S711: ='Given Data '!C$21*'Given Data '!C$19*'Given Data '!C$9*Table10[[#This Row],[Column11]]^2 -> 541.44391 | T711: ='Given Data '!C$22*'Given Data '!C$17*9.81 -> 102.3595 | U711: 0 | V711: ='Given Data '!C$45-(Table10[[#This Row],[Column13]]+Table10[[#This Row],[Column14]]+Table10[[#This Row],[Column15]]) -> 64.098003 | W711: =Table10[[#This Row],[Column16]]/'Given Data '!C$17 -> 0.12286137 | X711: =IF(L711=1,'Given Data '!C$55,IF(L711=2,'Given Data '!C$56,IF(L711=3,'Given Data '!C$57))) -> 581.23604 | Y711: =Table10[[#This Row],[Column19]]*Table10[[#This Row],[Column11]]^2/(2*1000) -> 167.35234
...

Sheet BSFC
B4: Distance | C4: RPM | D4: Power(w) | E4: Power(kw) | F4: Torque(Nm) | G4: BSFC | H4: Energy (KWH) | I4: Fuel Flow | J4: Fuel Usage(g) | K4: Total Fuel Consume | L4: Fuel Usage (L) | M4: Total Fuel Consume(l) | P4: Torque Nm | Q4: 500 | R4: 1000 | S4: 1500 | T4: 2000 | U4: 2500 | V4: 3000 | W4: 3500 | X4: 4000 | Y4: 4500 | Z4: 5000 | AA4: 5500 | AB4: 6000 | AC4: 6500 | AD4: 7000
B5: 0 | C5: 1000 | D5: 507.28 | E5: 0.50728 | F5: 4.8441672 | G5: 709.8937 | H5: 0 | I5: 0 | J5: 0 | K5: 0 | L5: 0 | M5: 0 | P5: RPM
B6: =B5+1 -> 1 | C6: 1200 | D6: 768.38 | E6: 0.76838 | F6: 6.1145738 | G6: 738.1738 | H6: =E6/1000 -> 0.00076838 | I6: =E6*G6/3600 -> 0.157555 | J6: =H6*G6 -> 0.56719798 | K6: =K5+J6 -> 0.56719798 | L6: =J6/1000*0.775 -> 0.00043957844 | M6: =M5+L6 -> 0.00043957844 | P6: 22 | Q6: 0 | R6: 0 | S6: 0 | T6: 0 | U6: 0 | V6: 0 | W6: 0 | X6: 0 | Y6: 0 | Z6: 477.263 | AA6: 457.65679 | AB6: 0 | AC6: 0 | AD6: 0
B7: =B6+1 -> 2 | C7: 1400 | D7: 1036.94 | E7: 1.03694 | F7: 7.0728911 | G7: 698.9772 | H7: =E7/1000 -> 0.00103694 | I7: =E7*G7/3600 -> 0.20133262 | J7: =H7*G7 -> 0.72479742 | K7: =K6+J7 -> 1.2919954 | L7: =J7/1000*0.775 -> 0.000561718 | M7: =M6+L7 -> 0.0010012964 | P7: 21 | Q7: 0 | R7: 0 | S7: 0 | T7: 0 | U7: 0 | V7: 0 | W7: 0 | X7: 0 | Y7: 483 | Z7: 470.50444 | AA7: 443.88071 | AB7: 477 | AC7: 0 | AD7: 0
B8: =B7+1 -> 3 | C8: 1900 | D8: 2178.32 | E8: 2.17832 | F8: 10.948118 | G8: 671.425 | H8: =E8/1000 -> 0.00217832 | I8: =E8*G8/3600 -> 0.40627181 | J8: =H8*G8 -> 1.4625785 | K8: =K7+J8 -> 2.7545739 | L8: =J8/1000*0.775 -> 0.0011334983 | M8: =M7+L8 -> 0.0021347948 | P8: 20 | Q8: 0 | R8: 0 | S8: 0 | T8: 0 | U8: 0 | V8: 0 | W8: 0 | X8: 479.7 | Y8: 491.6236 | Z8: 461.71575 | AA8: 414.10462 | AB8: 469.19732 | AC8: 0 | AD8: 0
B9: =B8+1 -> 4 | C9: 2300 | D9: 3163.04 | E9: 3.16304 | F9: 13.132525 | G9: 537.86 | H9: =E9/1000 -> 0.00316304 | I9: =E9*G9/3600 -> 0.47257575 | J9: =H9*G9 -> 1.7012727 | K9: =K8+J9 -> 4.4558466 | L9: =J9/1000*0.775 -> 0.0013184863 | M9: =M8+L9 -> 0.0034532811 | P9: 19 | Q9: 0 | R9: 0 | S9: 0 | T9: 0 | U9: 0 | V9: 487 | W9: 478.3 | X9: 482.76 | Y9: 476.51549 | Z9: 443.04624 | AA9: 392.32854 | AB9: 457.16662 | AC9: 504.47247 | AD9: 0
B10: =B9+1 -> 5 | C10: 2500 | D10: 3909.04 | E10: 3.90904 | F10: 14.931433 | G10: 519.9 | H10: =E10/1000 -> 0.00390904 | I10: =E10*G10/3600 -> 0.56453053 | J10: =H10*G10 -> 2.0323099 | K10: =K9+J10 -> 6.4881565 | L10: =J10/1000*0.775 -> 0.0015750402 | M10: =M9+L10 -> 0.0050283213 | P10: 18 | Q10: 0 | R10: 0 | S10: 0 | T10: 0 | U10: 0 | V10: 494.6 | W10: 487.6 | X10: 483.62212 | Y10: 467.51182 | Z10: 427.32635 | AA10: 370.55246 | AB10: 440.18261 | AC10: 492.04619 | AD10: 585.75415
B11: =B10+1 -> 6 | C11: 2700 | D11: 4423.78 | E11: 4.42378 | F11: 15.645921 | G11: 516.02 | H11: =E11/1000 -> 0.00442378 | I11: =E11*G11/3600 -> 0.63409971 | J11: =H11*G11 -> 2.282759 | K11: =K10+J11 -> 8.7709155 | L11: =J11/1000*0.775 -> 0.0017691382 | M11: =M10+L11 -> 0.0067974595 | P11: 17 | Q11: 0 | R11: 0 | S11: 0 | T11: 0 | U11: 503.2 | V11: 499.2 | W11: 496.26476 | X11: 486.36708 | Y11: 453.02166 | Z11: 396.46991 | AA11: 359.66441 | AB11: 404.08191 | AC11: 484.72802 | AD11: 571.22172
B12: =B11+1 -> 7 | C12: 3000 | D12: 5348.82 | E12: 5.34882 | F12: 17.025823 | G12: 504.2 | H12: =E12/1000 -> 0.00534882 | I12: =E12*G12/3600 -> 0.74913196 | J12: =H12*G12 -> 2.696875 | K12: =K11+J12 -> 11.46779 | L12: =J12/1000*0.775 -> 0.0020900782 | M12: =M11+L12 -> 0.0088875376 | P12: 16 | Q12: 0 | R12: 0 | S12: 0 | T12: 0 | U12: 511.2 | V12: 502.55077 | W12: 499.78608 | X12: 489.11204 | Y12: 444.16346 | Z12: 368.92715 | AA12: 348.77637 | AB12: 315.9812 | AC12: 480.25628 | AD12: 560.48452
B13: =B12+1 -> 8 | C13: 3200 | D13: 5990.38 | E13: 5.99038 | F13: 17.876224 | G13: 498.7 | H13: =E13/1000 -> 0.00599038 | I13: =E13*G13/3600 -> 0.82983403 | J13: =H13*G13 -> 2.9874025 | K13: =K12+J13 -> 14.455193 | L13: =J13/1000*0.775 -> 0.0023152369 | M13: =M12+L13 -> 0.011202775 | P13: 15 | Q13: 0 | R13: 0 | S13: 0 | T13: 597.6 | U13: 516.02897 | V13: 506.4151 | W13: 490.87116 | X13: 491.857 | Y13: 439.4457 | Z13: 349.54388 | AA13: 315.1385 | AB13: 304.3559 | AC13: 440.60398 | AD13: 512.49828
B14: =B13+1 -> 9 | C14: 3400 | D14: 6684.16 | E14: 6.68416 | F14: 18.773243 | G14: 493.2 | H14: =E14/1000 -> 0.00668416 | I14: =E14*G14/3600 -> 0.91572992 | J14: =H14*G14 -> 3.2966277 | K14: =K13+J14 -> 17.751821 | L14: =J14/1000*0.775 -> 0.0025548865 | M14: =M13+L14 -> 0.013757661 | P14: 14 | Q14: 0 | R14: 0 | S14: 0 | T14: 617.6 | U14: 519.93068 | V14: 510.27942 | W14: 481.95623 | X14: 474.1423 | Y14: 406.02647 | Z14: 338.1606 | AA14: 297.2242 | AB14: 298.88214 | AC14: 426.97377 | AD14: 505.44295
B15: =B14+1 -> 10 | C15: 3600 | D15: 7191.44 | E15: 7.19144 | F15: 19.075887 | G15: 487.6 | H15: =E15/1000 -> 0.00719144 | I15: =E15*G15/3600 -> 0.9740406 | J15: =H15*G15 -> 3.5065461 | K15: =K14+J15 -> 21.258367 | L15: =J15/1000*0.775 -> 0.0027175733 | M15: =M14+L15 -> 0.016475234 | P15: 13 | Q15: 0 | R15: 0 | S15: 0 | T15: 631.4 | U15: 537.83024 | V15: 514.14375 | W15: 473.0413 | X15: 456.4276 | Y15: 383.4689 | Z15: 340.77733 | AA15: 313.44812 | AB15: 323.99476 | AC15: 377.79009 | AD15: 550.08629
B16: =B15+1 -> 11 | C16: 3800 | D16: 7512.22 | E16: 7.51222 | F16: 18.878004 | G16: 488.4 | H16: =E16/1000 -> 0.00751222 | I16: =E16*G16/3600 -> 1.0191578 | J16: =H16*G16 -> 3.6689682 | K16: =K15+J16 -> 24.927335 | L16: =J16/1000*0.775 -> 0.0028434504 | M16: =M15+L16 -> 0.019318685 | P16: 12 | Q16: 0 | R16: 0 | S16: 647.6 | T16: 650.99204 | U16: 555.72979 | V16: 520.46754 | W16: 490.2231 | X16: 459.51858 | Y16: 398.81407 | Z16: 352.96777 | AA16: 326.03757 | AB16: 319.10738 | AC16: 394.6064 | AD16: 535.15262
B17: =B16+1 -> 12 | C17: 3900 | D17: 7668.88 | E17: 7.66888 | F17: 18.777541 | G17: 488.4 | H17: =E17/1000 -> 0.00766888 | I17: =E17*G17/3600 -> 1.0404114 | J17: =H17*G17 -> 3.745481 | K17: =K16+J17 -> 28.672816 | L17: =J17/1000*0.775 -> 0.0029027478 | M17: =M16+L17 -> 0.022221432 | P17: 11 | Q17: 0 | R17: 0 | S17: 661.4 | T17: 671.42151 | U17: 574.81351 | V17: 548.0705 | W17: 508.72062 | X17: 471.7546 | Y17: 434.78857 | Z17: 361.56046 | AA17: 343.64462 | AB17: 314.22 | AC17: 498.42272 | AD17: 540.20721
... B28: =B27+1 -> 23 | C28: 5300 | D28: 12122.5 | E28: 12.1225 | F28: 21.841764 | G28: 470.6 | H28: =E28/1000 -> 0.0121225 | I28: =E28*G28/3600 -> 1.5846801 | J28: =H28*G28 -> 5.7048485 | K28: =K27+J28 -> 83.708114 | L28: =J28/1000*0.775 -> 0.0044212576 | M28: =M27+L28 -> 0.064873788 | P28: 0 | Q28: 1570.853 | R28: 1518.6451 | S28: 1348.4371 | T28: 1257.2292 | U28: 1246.0212 | V28: 1112.0778 | W28: 1068.1343 | X28: 1024.1909 | Y28: 987.14043 | Z28: 950.3403 | AA28: 913.54017 | AB28: 907.55827 | AC28: 880.49492 | AD28: 862.48587
B29: =B28+1 -> 24 | C29: 5400 | D29: 12368.68 | E29: 12.36868 | F29: 21.872628 | G29: 470.6 | H29: =E29/1000 -> 0.01236868 | I29: =E29*G29/3600 -> 1.6168613 | J29: =H29*G29 -> 5.8207008 | K29: =K28+J29 -> 89.528815 | L29: =J29/1000*0.775 -> 0.0045110431 | M29: =M28+L29 -> 0.069384832 | P29: RPM | Q29: 500 | R29: 1000 | S29: 1500 | T29: 2000 | U29: 2500 | V29: 3000 | W29: 3500 | X29: 4000 | Y29: 4500 | Z29: 5000 | AA29: 5500 | AB29: 6000 | AC29: 6500 | AD29: 7000
B30: =B29+1 -> 25 | C30: 5500 | D30: 12637.24 | E30: 12.63724 | F30: 21.941228 | G30: 443.8 | H30: =E30/1000 -> 0.01263724 | I30: =E30*G30/3600 -> 1.5578909 | J30: =H30*G30 -> 5.6084071 | K30: =K29+J30 -> 95.137222 | L30: =J30/1000*0.775 -> 0.0043465155 | M30: =M29+L30 -> 0.073731347
B31: =B30+1 -> 26 | C31: 5600 | D31: 12719.3 | E31: 12.7193 | F31: 21.689351 | G31: 443.8 | H31: =E31/1000 -> 0.0127193 | I31: =E31*G31/3600 -> 1.568007 | J31: =H31*G31 -> 5.6448253 | K31: =K30+J31 -> 100.78205 | L31: =J31/1000*0.775 -> 0.0043747396 | M31: =M30+L31 -> 0.078106087
B32: =B31+1 -> 27 | C32: 5700 | D32: 12764.06 | E32: 12.76406 | F32: 21.383824 | G32: 443.8 | H32: =E32/1000 -> 0.01276406 | I32: =E32*G32/3600 -> 1.573525 | J32: =H32*G32 -> 5.6646898 | K32: =K31+J32 -> 106.44674 | L32: =J32/1000*0.775 -> 0.0043901346 | M32: =M31+L32 -> 0.082496221
B33: =B32+1 -> 28 | C33: 5800 | D33: 12816.28 | E33: 12.81628 | F33: 21.101114 | G33: 443.8 | H33: =E33/1000 -> 0.01281628 | I33: =E33*G33/3600 -> 1.5799625 | J33: =H33*G33 -> 5.6878651 | K33: =K32+J33 -> 112.1346 | L33: =J33/1000*0.775 -> 0.0044080954 | M33: =M32+L33 -> 0.086904317
B34: =B33+1 -> 29 | C34: 5900 | D34: 12861.04 | E34: 12.86104 | F34: 20.815913 | G34: 469.1 | H34: =E34/1000 -> 0.01286104 | I34: =E34*G34/3600 -> 1.675865 | J34: =H34*G34 -> 6.0331139 | K34: =K33+J34 -> 118.16772 | L34: =J34/1000*0.775 -> 0.0046756632 | M34: =M33+L34 -> 0.09157998
B35: =B34+1 -> 30 | C35: 6000 | D35: 12920.72 | E35: 12.92072 | F35: 20.563965 | G35: 469.1 | H35: =E35/1000 -> 0.01292072 | I35: =E35*G35/3600 -> 1.6836416 | J35: =H35*G35 -> 6.0611098 | K35: =K34+J35 -> 124.22883 | L35: =J35/1000*0.775 -> 0.0046973601 | M35: =M34+L35 -> 0.09627734
B36: =B35+1 -> 31 | C36: 6100 | D36: 12958.02 | E36: 12.95802 | F36: 20.285242 | G36: 469.1 | H36: =E36/1000 -> 0.01295802 | I36: =E36*G36/3600 -> 1.688502 | J36: =H36*G36 -> 6.0786072 | K36: =K35+J36 -> 130.30743 | L36: =J36/1000*0.775 -> 0.0047109206 | M36: =M35+L36 -> 0.10098826
B37: =B36+1 -> 32 | C37: 6200 | D37: 13010.24 | E37: 13.01024 | F37: 20.03849 | G37: 469.1 | H37: =E37/1000 -> 0.01301024 | I37: =E37*G37/3600 -> 1.6953066 | J37: =H37*G37 -> 6.1031036 | K37: =K36+J37 -> 136.41054 | L37: =J37/1000*0.775 -> 0.0047299053 | M37: =M36+L37 -> 0.10571817
B38: =B37+1 -> 33 | C38: 6200 | D38: 13010.24 | E38: 13.01024 | F38: 20.03849 | G38: 483 | H38: =E38/1000 -> 0.01301024 | I38: =E38*G38/3600 -> 1.7455405 | J38: =H38*G38 -> 6.2839459 | K38: =K37+J38 -> 142.69448 | L38: =J38/1000*0.775 -> 0.0048700581 | M38: =M37+L38 -> 0.11058822
B39: =B38+1 -> 34 | C39: 6200 | D39: 13010.24 | E39: 13.01024 | F39: 20.03849 | G39: 483 | H39: =E39/1000 -> 0.01301024 | I39: =E39*G39/3600 -> 1.7455405 | J39: =H39*G39 -> 6.2839459 | K39: =K38+J39 -> 148.97843 | L39: =J39/1000*0.775 -> 0.0048700581 | M39: =M38+L39 -> 0.11545828
B40: =B39+1 -> 35 | C40: 6300 | D40: 13055 | E40: 13.055 | F40: 19.788265 | G40: 470.5 | H40: =E40/1000 -> 0.013055 | I40: =E40*G40/3600 -> 1.706216 | J40: =H40*G40 -> 6.1423775 | K40: =K39+J40 -> 155.12081 | L40: =J40/1000*0.775 -> 0.0047603426 | M40: =M39+L40 -> 0.12021862
B41: =B40+1 -> 36 | C41: 6300 | D41: 13055 | E41: 13.055 | F41: 19.788265 | G41: 470.5 | H41: =E41/1000 -> 0.013055 | I41: =E41*G41/3600 -> 1.706216 | J41: =H41*G41 -> 6.1423775 | K41: =K40+J41 -> 161.26318 | L41: =J41/1000*0.775 -> 0.0047603426 | M41: =M40+L41 -> 0.12497897
... B47: =B46+1 -> 42 | C47: 6500 | D47: 13428 | E47: 13.428 | F47: 19.727378 | G47: 470.5 | H47: =E47/1000 -> 0.013428 | I47: =E47*G47/3600 -> 1.754965 | J47: =H47*G47 -> 6.317874 | K47: =K46+J47 -> 198.78434 | L47: =J47/1000*0.775 -> 0.0048963523 | M47: =M46+L47 -> 0.15405786
B48: =B47+1 -> 43 | C48: =6500 -> 6500 | D48: 13428 | E48: 13.428 | F48: 19.727378 | G48: 470.5 | H48: =E48/1000 -> 0.013428 | I48: =E48*G48/3600 -> 1.754965 | J48: =H48*G48 -> 6.317874 | K48: =K47+J48 -> 205.10221 | L48: =J48/1000*0.775 -> 0.0048963523 | M48: =M47+L48 -> 0.15895421
B49: =B48+1 -> 44 | C49: =6500 -> 6500 | D49: 13428 | E49: 13.428 | F49: 19.727378 | G49: 504.5 | H49: =E49/1000 -> 0.013428 | I49: =E49*G49/3600 -> 1.881785 | J49: =H49*G49 -> 6.774426 | K49: =K48+J49 -> 211.87664 | L49: =J49/1000*0.775 -> 0.0052501802 | M49: =M48+L49 -> 0.16420439
B50: =B49+1 -> 45 | C50: =6500 -> 6500 | D50: 13428 | E50: 13.428 | F50: 19.727378 | G50: 504.5 | H50: =E50/1000 -> 0.013428 | I50: =E50*G50/3600 -> 1.881785 | J50: =H50*G50 -> 6.774426 | K50: =K49+J50 -> 218.65106 | L50: =J50/1000*0.775 -> 0.0052501802 | M50: =M49+L50 -> 0.16945457
B51: =B50+1 -> 46 | C51: =6500 -> 6500 | D51: 13428 | E51: 13.428 | F51: 19.727378 | G51: 504.5 | H51: =E51/1000 -> 0.013428 | I51: =E51*G51/3600 -> 1.881785 | J51: =H51*G51 -> 6.774426 | K51: =K50+J51 -> 225.42549 | L51: =J51/1000*0.775 -> 0.0052501802 | M51: =M50+L51 -> 0.17470475
B52: =B51+1 -> 47 | C52: =6500 -> 6500 | D52: 13428 | E52: 13.428 | F52: 19.727378 | G52: 504.5 | H52: =E52/1000 -> 0.013428 | I52: =E52*G52/3600 -> 1.881785 | J52: =H52*G52 -> 6.774426 | K52: =K51+J52 -> 232.19991 | L52: =J52/1000*0.775 -> 0.0052501802 | M52: =M51+L52 -> 0.17995493
B53: =B52+1 -> 48 | C53: =6500 -> 6500 | D53: 13428 | E53: 13.428 | F53: 19.727378 | G53: 504.5 | H53: =E53/1000 -> 0.013428 | I53: =E53*G53/3600 -> 1.881785 | J53: =H53*G53 -> 6.774426 | K53: =K52+J53 -> 238.97434 | L53: =J53/1000*0.775 -> 0.0052501802 | M53: =M52+L53 -> 0.18520511
B54: =B53+1 -> 49 | C54: =6500 -> 6500 | D54: 13428 | E54: 13.428 | F54: 19.727378 | G54: 504.5 | H54: =E54/1000 -> 0.013428 | I54: =E54*G54/3600 -> 1.881785 | J54: =H54*G54 -> 6.774426 | K54: =K53+J54 -> 245.74877 | L54: =J54/1000*0.775 -> 0.0052501802 | M54: =M53+L54 -> 0.19045529
B55: =B54+1 -> 50 | C55: =6500 -> 6500 | D55: 13428 | E55: 13.428 | F55: 19.727378 | G55: 504.5 | H55: =E55/1000 -> 0.013428 | I55: =E55*G55/3600 -> 1.881785 | J55: =H55*G55 -> 6.774426 | K55: =K54+J55 -> 252.52319 | L55: =J55/1000*0.775 -> 0.0052501802 | M55: =M54+L55 -> 0.19570547
B56: =B55+1 -> 51 | C56: =6500 -> 6500 | D56: 13428 | E56: 13.428 | F56: 19.727378 | G56: 504.5 | H56: =E56/1000 -> 0.013428 | I56: =E56*G56/3600 -> 1.881785 | J56: =H56*G56 -> 6.774426 | K56: =K55+J56 -> 259.29762 | L56: =J56/1000*0.775 -> 0.0052501802 | M56: =M55+L56 -> 0.20095565
B57: =B56+1 -> 52 | C57: =6500 -> 6500 | D57: 13428 | E57: 13.428 | F57: 19.727378 | G57: 504.5 | H57: =E57/1000 -> 0.013428 | I57: =E57*G57/3600 -> 1.881785 | J57: =H57*G57 -> 6.774426 | K57: =K56+J57 -> 266.07204 | L57: =J57/1000*0.775 -> 0.0052501802 | M57: =M56+L57 -> 0.20620583
B58: =B57+1 -> 53 | C58: =6500 -> 6500 | D58: 13428 | E58: 13.428 | F58: 19.727378 | G58: 504.5 | H58: =E58/1000 -> 0.013428 | I58: =E58*G58/3600 -> 1.881785 | J58: =H58*G58 -> 6.774426 | K58: =K57+J58 -> 272.84647 | L58: =J58/1000*0.775 -> 0.0052501802 | M58: =M57+L58 -> 0.21145601
B59: =B58+1 -> 54 | C59: =6500 -> 6500 | D59: 13428 | E59: 13.428 | F59: 19.727378 | G59: 504.5 | H59: =E59/1000 -> 0.013428 | I59: =E59*G59/3600 -> 1.881785 | J59: =H59*G59 -> 6.774426 | K59: =K58+J59 -> 279.6209 | L59: =J59/1000*0.775 -> 0.0052501802 | M59: =M58+L59 -> 0.21670619
... B150: =B149+1 -> 145 | C150: =6500 -> 6500 | D150: 13428 | E150: 13.428 | F150: 19.727378 | G150: 504.5 | H150: =E150/1000 -> 0.013428 | I150: =E150*G150/3600 -> 1.881785 | J150: =H150*G150 -> 6.774426 | K150: =K149+J150 -> 896.09366 | L150: =J150/1000*0.775 -> 0.0052501802 | M150: =M149+L150 -> 0.69447259
B151: =B150+1 -> 146 | C151: 6600 | D151: 12532.8 | E151: 12.5328 | F151: 18.133246 | G151: 585.7 | H151: =E151/1000 -> 0.0125328 | I151: =E151*G151/3600 -> 2.0390169 | J151: =H151*G151 -> 7.340461 | K151: =K150+J151 -> 903.43412 | L151: =J151/1000*0.775 -> 0.0056888572 | M151: =M150+L151 -> 0.70016144
B152: =B151+1 -> 147 | C152: 6600 | D152: 12532.8 | E152: 12.5328 | F152: 18.133246 | G152: 585.7 | H152: =E152/1000 -> 0.0125328 | I152: =E152*G152/3600 -> 2.0390169 | J152: =H152*G152 -> 7.340461 | K152: =K151+J152 -> 910.77458 | L152: =J152/1000*0.775 -> 0.0056888572 | M152: =M151+L152 -> 0.7058503
B153: =B152+1 -> 148 | C153: 6600 | D153: 12532.8 | E153: 12.5328 | F153: 18.133246 | G153: 585.7 | H153: =E153/1000 -> 0.0125328 | I153: =E153*G153/3600 -> 2.0390169 | J153: =H153*G153 -> 7.340461 | K153: =K152+J153 -> 918.11504 | L153: =J153/1000*0.775 -> 0.0056888572 | M153: =M152+L153 -> 0.71153916
B154: =B153+1 -> 149 | C154: 6600 | D154: 12532.8 | E154: 12.5328 | F154: 18.133246 | G154: 585.7 | H154: =E154/1000 -> 0.0125328 | I154: =E154*G154/3600 -> 2.0390169 | J154: =H154*G154 -> 7.340461 | K154: =K153+J154 -> 925.45551 | L154: =J154/1000*0.775 -> 0.0056888572 | M154: =M153+L154 -> 0.71722802
B155: =B154+1 -> 150 | C155: 6700 | D155: 10444 | E155: 10.444 | F155: 14.885501 | G155: 426.9 | H155: =E155/1000 -> 0.010444 | I155: =E155*G155/3600 -> 1.2384843 | J155: =H155*G155 -> 4.4585436 | K155: =K154+J155 -> 929.91405 | L155: =J155/1000*0.775 -> 0.0034553713 | M155: =M154+L155 -> 0.72068339
B156: =B155+1 -> 151 | C156: 6700 | D156: 10444 | E156: 10.444 | F156: 14.885501 | G156: 426.9 | H156: =E156/1000 -> 0.010444 | I156: =E156*G156/3600 -> 1.2384843 | J156: =H156*G156 -> 4.4585436 | K156: =K155+J156 -> 934.37259 | L156: =J156/1000*0.775 -> 0.0034553713 | M156: =M155+L156 -> 0.72413876
B157: =B156+1 -> 152 | C157: 6700 | D157: 10444 | E157: 10.444 | F157: 14.885501 | G157: 426.9 | H157: =E157/1000 -> 0.010444 | I157: =E157*G157/3600 -> 1.2384843 | J157: =H157*G157 -> 4.4585436 | K157: =K156+J157 -> 938.83114 | L157: =J157/1000*0.775 -> 0.0034553713 | M157: =M156+L157 -> 0.72759413
B158: =B157+1 -> 153 | C158: 6700 | D158: 10444 | E158: 10.444 | F158: 14.885501 | G158: 426.9 | H158: =E158/1000 -> 0.010444 | I158: =E158*G158/3600 -> 1.2384843 | J158: =H158*G158 -> 4.4585436 | K158: =K157+J158 -> 943.28968 | L158: =J158/1000*0.775 -> 0.0034553713 | M158: =M157+L158 -> 0.7310495
B159: =B158+1 -> 154 | C159: 6700 | D159: 10444 | E159: 10.444 | F159: 14.885501 | G159: 426.9 | H159: =E159/1000 -> 0.010444 | I159: =E159*G159/3600 -> 1.2384843 | J159: =H159*G159 -> 4.4585436 | K159: =K158+J159 -> 947.74822 | L159: =J159/1000*0.775 -> 0.0034553713 | M159: =M158+L159 -> 0.73450487
B160: =B159+1 -> 155 | C160: 6800 | D160: 10056.08 | E160: 10.05608 | F160: 14.121837 | G160: 426.9 | H160: =E160/1000 -> 0.01005608 | I160: =E160*G160/3600 -> 1.1924835 | J160: =H160*G160 -> 4.2929406 | K160: =K159+J160 -> 952.04116 | L160: =J160/1000*0.775 -> 0.0033270289 | M160: =M159+L160 -> 0.7378319
B161: =B160+1 -> 156 | C161: 6800 | D161: 10056.08 | E161: 10.05608 | F161: 14.121837 | G161: 426.9 | H161: =E161/1000 -> 0.01005608 | I161: =E161*G161/3600 -> 1.1924835 | J161: =H161*G161 -> 4.2929406 | K161: =K160+J161 -> 956.3341 | L161: =J161/1000*0.775 -> 0.0033270289 | M161: =M160+L161 -> 0.74115893
B162: =B161+1 -> 157 | C162: 6800 | D162: 10056.08 | E162: 10.05608 | F162: 14.121837 | G162: 426.9 | H162: =E162/1000 -> 0.01005608 | I162: =E162*G162/3600 -> 1.1924835 | J162: =H162*G162 -> 4.2929406 | K162: =K161+J162 -> 960.62704 | L162: =J162/1000*0.775 -> 0.0033270289 | M162: =M161+L162 -> 0.74448596
... B164: =B163+1 -> 159 | C164: 6800 | D164: 10056.08 | E164: 10.05608 | F164: 14.121837 | G164: 426.9 | H164: =E164/1000 -> 0.01005608 | I164: =E164*G164/3600 -> 1.1924835 | J164: =H164*G164 -> 4.2929406 | K164: =K163+J164 -> 969.21293 | L164: =J164/1000*0.775 -> 0.0033270289 | M164: =M163+L164 -> 0.75114002
B165: =B164+1 -> 160 | C165: =7000 -> 7000 | D165: 9287.7 | E165: 9.2877 | F165: 12.670143 | G165: 535.1 | H165: =E165/1000 -> 0.0092877 | I165: =E165*G165/3600 -> 1.3805134 | J165: =H165*G165 -> 4.9698483 | K165: =K164+J165 -> 974.18277 | L165: =J165/1000*0.775 -> 0.0038516324 | M165: =M164+L165 -> 0.75499165
B166: =B165+1 -> 161 | C166: =7000 -> 7000 | D166: 9287.7 | E166: 9.2877 | F166: 12.670143 | G166: 535.1 | H166: =E166/1000 -> 0.0092877 | I166: =E166*G166/3600 -> 1.3805134 | J166: =H166*G166 -> 4.9698483 | K166: =K165+J166 -> 979.15262 | L166: =J166/1000*0.775 -> 0.0038516324 | M166: =M165+L166 -> 0.75884328
B167: =B166+1 -> 162 | C167: =7000 -> 7000 | D167: 9287.7 | E167: 9.2877 | F167: 12.670143 | G167: 535.1 | H167: =E167/1000 -> 0.0092877 | I167: =E167*G167/3600 -> 1.3805134 | J167: =H167*G167 -> 4.9698483 | K167: =K166+J167 -> 984.12247 | L167: =J167/1000*0.775 -> 0.0038516324 | M167: =M166+L167 -> 0.76269491
B168: =B167+1 -> 163 | C168: =7000 -> 7000 | D168: 9287.7 | E168: 9.2877 | F168: 12.670143 | G168: 535.1 | H168: =E168/1000 -> 0.0092877 | I168: =E168*G168/3600 -> 1.3805134 | J168: =H168*G168 -> 4.9698483 | K168: =K167+J168 -> 989.09232 | L168: =J168/1000*0.775 -> 0.0038516324 | M168: =M167+L168 -> 0.76654655
B169: =B168+1 -> 164 | C169: =7000 -> 7000 | D169: 9287.7 | E169: 9.2877 | F169: 12.670143 | G169: 535.1 | H169: =E169/1000 -> 0.0092877 | I169: =E169*G169/3600 -> 1.3805134 | J169: =H169*G169 -> 4.9698483 | K169: =K168+J169 -> 994.06217 | L169: =J169/1000*0.775 -> 0.0038516324 | M169: =M168+L169 -> 0.77039818
B170: =B169+1 -> 165 | C170: =7000 -> 7000 | D170: 9287.7 | E170: 9.2877 | F170: 12.670143 | G170: 535.1 | H170: =E170/1000 -> 0.0092877 | I170: =E170*G170/3600 -> 1.3805134 | J170: =H170*G170 -> 4.9698483 | K170: =K169+J170 -> 999.03202 | L170: =J170/1000*0.775 -> 0.0038516324 | M170: =M169+L170 -> 0.77424981
B171: =B170+1 -> 166 | C171: =7000 -> 7000 | D171: 9287.7 | E171: 9.2877 | F171: 12.670143 | G171: 535.1 | H171: =E171/1000 -> 0.0092877 | I171: =E171*G171/3600 -> 1.3805134 | J171: =H171*G171 -> 4.9698483 | K171: =K170+J171 -> 1004.0019 | L171: =J171/1000*0.775 -> 0.0038516324 | M171: =M170+L171 -> 0.77810144
B172: =B171+1 -> 167 | C172: =7000 -> 7000 | D172: 9287.7 | E172: 9.2877 | F172: 12.670143 | G172: 535.1 | H172: =E172/1000 -> 0.0092877 | I172: =E172*G172/3600 -> 1.3805134 | J172: =H172*G172 -> 4.9698483 | K172: =K171+J172 -> 1008.9717 | L172: =J172/1000*0.775 -> 0.0038516324 | M172: =M171+L172 -> 0.78195308
B173: =B172+1 -> 168 | C173: =7000 -> 7000 | D173: 9287.7 | E173: 9.2877 | F173: 12.670143 | G173: 535.1 | H173: =E173/1000 -> 0.0092877 | I173: =E173*G173/3600 -> 1.3805134 | J173: =H173*G173 -> 4.9698483 | K173: =K172+J173 -> 1013.9416 | L173: =J173/1000*0.775 -> 0.0038516324 | M173: =M172+L173 -> 0.78580471
B174: =B173+1 -> 169 | C174: =7000 -> 7000 | D174: 9287.7 | E174: 9.2877 | F174: 12.670143 | G174: 535.1 | H174: =E174/1000 -> 0.0092877 | I174: =E174*G174/3600 -> 1.3805134 | J174: =H174*G174 -> 4.9698483 | K174: =K173+J174 -> 1018.9114 | L174: =J174/1000*0.775 -> 0.0038516324 | M174: =M173+L174 -> 0.78965634
B175: =B174+1 -> 170 | C175: =7000 -> 7000 | D175: 9287.7 | E175: 9.2877 | F175: 12.670143 | G175: 535.1 | H175: =E175/1000 -> 0.0092877 | I175: =E175*G175/3600 -> 1.3805134 | J175: =H175*G175 -> 4.9698483 | K175: =K174+J175 -> 1023.8813 | L175: =J175/1000*0.775 -> 0.0038516324 | M175: =M174+L175 -> 0.79350797
B176: =B175+1 -> 171 | C176: =7000 -> 7000 | D176: 9287.7 | E176: 9.2877 | F176: 12.670143 | G176: 535.1 | H176: =E176/1000 -> 0.0092877 | I176: =E176*G176/3600 -> 1.3805134 | J176: =H176*G176 -> 4.9698483 | K176: =K175+J176 -> 1028.8511 | L176: =J176/1000*0.775 -> 0.0038516324 | M176: =M175+L176 -> 0.79735961
... B703: =B702+1 -> 698 | C703: =7000 -> 7000 | D703: 9287.7 | E703: 9.2877 | F703: 12.670143 | G703: 504.47 | H703: =E703/1000 -> 0.0092877 | I703: =E703*G703/3600 -> 1.3014906 | J703: =H703*G703 -> 4.685366 | K703: =K702+J703 -> 3647.6767 | L703: =J703/1000*0.775 -> 0.0036311587 | M703: =M702+L703 -> 2.8269494
B704: =B703+1 -> 699 | C704: 6000 | D704: 12920.72 | E704: 12.92072 | F704: 20.563965 | G704: 504.47 | H704: =E704/1000 -> 0.01292072 | I704: =E704*G704/3600 -> 1.8105877 | J704: =H704*G704 -> 6.5181156 | K704: =K703+J704 -> 3654.1948 | L704: =J704/1000*0.775 -> 0.0050515396 | M704: =M703+L704 -> 2.832001
B705: =B704+1 -> 700 | C705: 5800 | D705: 12816.28 | E705: 12.81628 | F705: 21.101114 | G705: 504.47 | H705: =E705/1000 -> 0.01281628 | I705: =E705*G705/3600 -> 1.7959524 | J705: =H705*G705 -> 6.4654288 | K705: =K704+J705 -> 3660.6602 | L705: =J705/1000*0.775 -> 0.0050107073 | M705: =M704+L705 -> 2.8370117
B706: =B705+1 -> 701 | C706: 5000 | D706: 11383.96 | E706: 11.38396 | F706: 21.741762 | G706: 504.47 | H706: =E706/1000 -> 0.01138396 | I706: =E706*G706/3600 -> 1.5952406 | J706: =H706*G706 -> 5.7428663 | K706: =K705+J706 -> 3666.4031 | L706: =J706/1000*0.775 -> 0.0044507214 | M706: =M705+L706 -> 2.8414624
B707: =B706+1 -> 702 | C707: 5000 | D707: 11383.96 | E707: 11.38396 | F707: 21.741762 | G707: 457.1 | H707: =E707/1000 -> 0.01138396 | I707: =E707*G707/3600 -> 1.4454467 | J707: =H707*G707 -> 5.2036081 | K707: =K706+J707 -> 3671.6067 | L707: =J707/1000*0.775 -> 0.0040327963 | M707: =M706+L707 -> 2.8454952
B708: =B707+1 -> 703 | C708: 5000 | D708: 11383.96 | E708: 11.38396 | F708: 21.741762 | G708: 457.1 | H708: =E708/1000 -> 0.01138396 | I708: =E708*G708/3600 -> 1.4454467 | J708: =H708*G708 -> 5.2036081 | K708: =K707+J708 -> 3676.8103 | L708: =J708/1000*0.775 -> 0.0040327963 | M708: =M707+L708 -> 2.849528
B709: =B708+1 -> 704 | C709: 5000 | D709: 11383.96 | E709: 11.38396 | F709: 21.741762 | G709: 457.1 | H709: =E709/1000 -> 0.01138396 | I709: =E709*G709/3600 -> 1.4454467 | J709: =H709*G709 -> 5.2036081 | K709: =K708+J709 -> 3682.0139 | L709: =J709/1000*0.775 -> 0.0040327963 | M709: =M708+L709 -> 2.8535608
B710: =B709+1 -> 705 | C710: 5000 | D710: 11383.96 | E710: 11.38396 | F710: 21.741762 | G710: 457.1 | H710: =E710/1000 -> 0.01138396 | I710: =E710*G710/3600 -> 1.4454467 | J710: =H710*G710 -> 5.2036081 | K710: =K709+J710 -> 3687.2175 | L710: =J710/1000*0.775 -> 0.0040327963 | M710: =M709+L710 -> 2.8575936
B711: =B710+1 -> 706 | C711: 5000 | D711: 11383.96 | E711: 11.38396 | F711: 21.741762 | G711: 457.1 | H711: =E711/1000 -> 0.01138396 | I711: =E711*G711/3600 -> 1.4454467 | J711: =H711*G711 -> 5.2036081 | K711: =K710+J711 -> 3692.4211 | L711: =J711/1000*0.775 -> 0.0040327963 | M711: =M710+L711 -> 2.8616264
B712: =B711+1 -> 707 | C712: 5000 | D712: 11383.96 | E712: 11.38396 | F712: 21.741762 | G712: 457.1 | H712: =E712/1000 -> 0.01138396 | I712: =E712*G712/3600 -> 1.4454467 | J712: =H712*G712 -> 5.2036081 | K712: =K711+J712 -> 3697.6247 | L712: =J712/1000*0.775 -> 0.0040327963 | M712: =M711+L712 -> 2.8656592
B713: =B712+1 -> 708 | C713: 5000 | D713: 11383.96 | E713: 11.38396 | F713: 21.741762 | G713: 457.1 | H713: =E713/1000 -> 0.01138396 | I713: =E713*G713/3600 -> 1.4454467 | J713: =H713*G713 -> 5.2036081 | K713: =K712+J713 -> 3702.8283 | L713: =J713/1000*0.775 -> 0.0040327963 | M713: =M712+L713 -> 2.869692
B714: =B713+1 -> 709 | C714: 5000 | D714: 11383.96 | E714: 11.38396 | F714: 21.741762 | G714: 457.1 | H714: =E714/1000 -> 0.01138396 | I714: =E714*G714/3600 -> 1.4454467 | J714: =H714*G714 -> 5.2036081 | K714: =K713+J714 -> 3708.0319 | L714: =J714/1000*0.775 -> 0.0040327963 | M714: =M713+L714 -> 2.8737248
B715: =B714+1 -> 710 | C715: 5000 | D715: 11383.96 | E715: 11.38396 | F715: 21.741762 | G715: 457.1 | H715: =E715/1000 -> 0.01138396 | I715: =E715*G715/3600 -> 1.4454467 | J715: =H715*G715 -> 5.2036081 | K715: =K714+J715 -> 3713.2355 | L715: =J715/1000*0.775 -> 0.0040327963 | M715: =M714+L715 -> 2.8777575
... B2105: =B2104+1 -> 2100 | C2105: 6500 | D2105: 13428 | E2105: 13.428 | F2105: 19.727378 | G2105: 443.8 | H2105: =E2105/1000 -> 0.013428 | I2105: =E2105*G2105/3600 -> 1.655374 | J2105: =H2105*G2105 -> 5.9593464 | K2105: =K2104+J2105 -> 11772.66 | L2105: =J2105/1000*0.775 -> 0.0046184935 | M2105: =M2104+L2105 -> 9.1238114

Sheet Graphs
A1: Graphs
