Workbook

Sheet Given Data 
B4: Regened Data/ Test Specification
B5: Maximum Engine Speed (RPM) | C5: 6500 | E5: Gear | F5: Input | G5: Output | H5: Gear Ratio | I5: Overall Ratio | J5: Top Speed(m/s) | K5: Top Speed (km/h)
B6: Maximum Engine Torque (Nm) | C6: 22 | E6: 1st | F6: 11 | G6: 29 | H6: 2.6363636 | I6: 22.729221 | J6: 7.6027537 | K6: 27.369913
B7: Maximum Power Develop by Engine (W) | C7: 14967.333 | E7: 2nd | F7: 15 | G7: 29 | H7: 1.9333333 | I7: 16.668095 | J7: 10.367391 | K7: 37.322609
B8: Maximum Power Developed by Engine (HP) | C8: 20.06345 | E8: 3rd | F8: 21 | G8: 31 | H8: 1.4761905 | I8: 12.726871 | J8: 13.577938 | K8: 48.880578
B9: Effective Frontal Area (m2) | C9: 1.151 | E9: Final Drive | F9: 15 | G9: 51 | H9: 3.4
B10: Front Wheel Radius (mm) | C10: 304.8 | E10: Primary Drive | F10: 28 | G10: 71 | H10: 2.5357143
B11: Rear Wheel Radius (mm) | C11: 254
B12: Front Wheel Radius (m) | C12: 0.3048
B13: Rear Wheel Radius (m) | C13: 0.254
B14: Driver + Passenger Weight (kg) | C14: 144
B15: Fuel + Oil Weight (kg) | C15: 16.11
B16: Kerb Weight (kg) | C16: 345
B17: Total Weight (kg) | C17: 521.71
B19: Drag Coefficient | C19: 0.7
B20: Wind Speed (m/s) | C20: 2.23
B21: Air Density (kg/m3) | C21: 1.167
B22: Rolling Coefficient (μR) Asphalt | C22: 0.02
B23: Rolling Coefficient (μR) Gravel | C23: 0.02
... B25: Rolling Coefficient (μR) Mud | C25: 0.2
B26: Gradient Angle | C26: 6°
B27: Sin(6°) | C27: 0.10452846
B29: Wheelbase (mm) | C29: 1940
B30: Height of COG from Ground (mm) | C30: 488
B31: Distance of COG from Front Wheel Center (mm) | C31: 1070
B32: Distance of COG from Rear Wheel Center (mm) | C32: 870
B33: Angle of Buggy Lifted (Degree) | C33: 18
B34: Angle of Buggy Lifted (Radians) | C34: 0.314159
B35: tan(18°) | C35: 0.32491
B36: Load on Rear Wheel (kg) | C36: 207
B37: Load on Rear Wheel while Lifted (kg) | C37: 193
B38: YCOG | C38: 769.73798
B39: XCOG | C39: 521.69675
B41: Fastest Velocity in 10m (m/s)
B42: Speed 6500 RPM (1st) | C42: 7.6027537
B43: Drive Torque at shaft (Nm) (1st) | C43: 56.26
B44: Drive Torque at Rear Wheel (Nm) | C44: 179.80696
B45: Force (N) | C45: 707.90142
B46: Acceleration (m/s2) | C46: 1.9603484
B47: Tires Mass (kg) | C47: 10.2
...

Sheet Rolling Resistance
A1: Rolling Resistance
B3: Terrain | C3: Resistance Force(N)
B4: Sector 1 (Asphalt) | C4: ='Given Data '!C22*'Given Data '!C$17*9.81 -> 102.3595
B5: Sector 2 (Gravel) | C5: ='Given Data '!C23*'Given Data '!C$17*9.81 -> 102.3595
B6: Sector 3 (Loose sand) | C6: ='Given Data '!C24*'Given Data '!C$17*9.81 -> 409.43801
B7: Sector 4 (Mud) | C7: ='Given Data '!C25*'Given Data '!C$17*9.81 -> 1023.595

Sheet Gradient Resistance
A1: Gradient Resistance Force (N)
B4: Gradient Force | C4: ='Given Data '!C17*9.81*'Given Data '!C27 -> 534.97407

Sheet Acceeleration and Decelration
B4: RPM | C4: Power(W) | D4: Power (HP) | E4: Torque (Nm) | F4: Velocity (km/h) in Gear 1 | G4: Velocity (km/h) in Gear 2 | H4: Velocity (km/h) in Gear 3 | I4: Driving Force(N) in Gear 1 | J4: Driving Force(N) in Gear 2 | K4: Driving Force(N) in Gear 3 | L4: Acceleration (m/s^2) in Gear 1 | M4: Acceleration (m/s^2) in Gear 2 | N4: Acceleration (m/s^2) in Gear 3 | O4: Acceleration Force (N) in Gear 1 | P4: Acceleration Force (N) in Gear 2 | Q4: Acceleration Force (N) in Gear 3
B5: 1000 | C5: 507 | D5: =C5/746 -> 0.67962466 | E5: =60*C5/(2*PI()*B5) -> 4.8414934 | F5: =3.6*2*PI()*'Given Data '!C$13*'Acceeleration and Decelration'!B5/('Given Data '!I$6*60) -> 4.2128916 | G5: =3.6*2*PI()*'Given Data '!C$13*'Acceeleration and Decelration'!B5/('Given Data '!I$7*60) -> 5.7448522 | H5: =3.6*2*PI()*'Given Data '!C$13*'Acceeleration and Decelration'!B5/('Given Data '!I$8*60) -> 7.5239032 | I5: =3.6*C5/F5 -> 433.24162 | J5: =C5*3.6/G5 -> 317.71052 | K5: =3.6*C5/H5 -> 242.58685 | L5: =I5/'Given Data '!C$55 -> 0.72959837 | M5: =J5/'Given Data '!C$56 -> 0.54277661 | N5: =K5/'Given Data '!C$57 -> 0.41736375 | O5: ='Given Data '!C$17*'Acceeleration and Decelration'!L5 -> 380.63876 | P5: ='Given Data '!C$17*'Acceeleration and Decelration'!M5 -> 283.17198 | Q5: ='Given Data '!C$17*'Acceeleration and Decelration'!N5 -> 217.74284
B6: =B5+500 -> 1500 | C6: 1163 | D6: =C6/746 -> 1.5589812 | E6: =60*C6/(2*PI()*B6) -> 7.403888 | F6: =3.6*2*PI()*'Given Data '!C$13*'Acceeleration and Decelration'!B6/('Given Data '!I$6*60) -> 6.3193375 | G6: =3.6*2*PI()*'Given Data '!C$13*'Acceeleration and Decelration'!B6/('Given Data '!I$7*60) -> 8.6172783 | H6: =3.6*2*PI()*'Given Data '!C$13*'Acceeleration and Decelration'!B6/('Given Data '!I$8*60) -> 11.285855 | I6: =3.6*C6/F6 -> 662.53781 | J6: =C6*3.6/G6 -> 485.86106 | K6: =3.6*C6/H6 -> 370.97766 | L6: =I6/'Given Data '!C$55 -> 1.1157435 | M6: =J6/'Given Data '!C$56 -> 0.83004496 | N6: =K6/'Given Data '!C$57 -> 0.63825646 | O6: ='Given Data '!C$17*'Acceeleration and Decelration'!L6 -> 582.09452 | P6: ='Given Data '!C$17*'Acceeleration and Decelration'!M6 -> 433.04276 | Q6: ='Given Data '!C$17*'Acceeleration and Decelration'!N6 -> 332.98478
B7: =B6+500 -> 2000 | C7: 2431 | D7: =C7/746 -> 3.2587131 | E7: =60*C7/(2*PI()*B7) -> 11.60717 | F7: =3.6*2*PI()*'Given Data '!C$13*'Acceeleration and Decelration'!B7/('Given Data '!I$6*60) -> 8.4257833 | G7: =3.6*2*PI()*'Given Data '!C$13*'Acceeleration and Decelration'!B7/('Given Data '!I$7*60) -> 11.489704 | H7: =3.6*2*PI()*'Given Data '!C$13*'Acceeleration and Decelration'!B7/('Given Data '!I$8*60) -> 15.047806 | I7: =3.6*C7/F7 -> 1038.669 | J7: =C7*3.6/G7 -> 761.69061 | K7: =3.6*C7/H7 -> 581.58643 | L7: =I7/'Given Data '!C$55 -> 1.7491653 | M7: =J7/'Given Data '!C$56 -> 1.3012721 | N7: =K7/'Given Data '!C$57 -> 1.0006028 | O7: ='Given Data '!C$17*'Acceeleration and Decelration'!L7 -> 912.55704 | P7: ='Given Data '!C$17*'Acceeleration and Decelration'!M7 -> 678.88668 | Q7: ='Given Data '!C$17*'Acceeleration and Decelration'!N7 -> 522.0245
B8: =B7+500 -> 2500 | C8: 3909 | D8: =C8/746 -> 5.2399464 | E8: =60*C8/(2*PI()*B8) -> 14.93128 | F8: =3.6*2*PI()*'Given Data '!C$13*'Acceeleration and Decelration'!B8/('Given Data '!I$6*60) -> 10.532229 | G8: =3.6*2*PI()*'Given Data '!C$13*'Acceeleration and Decelration'!B8/('Given Data '!I$7*60) -> 14.362131 | H8: =3.6*2*PI()*'Given Data '!C$13*'Acceeleration and Decelration'!B8/('Given Data '!I$8*60) -> 18.809758 | I8: =3.6*C8/F8 -> 1336.1274 | J8: =C8*3.6/G8 -> 979.82677 | K8: =3.6*C8/H8 -> 748.14359 | L8: =I8/'Given Data '!C$55 -> 2.2500986 | M8: =J8/'Given Data '!C$56 -> 1.6739359 | N8: =K8/'Given Data '!C$57 -> 1.2871597 | O8: ='Given Data '!C$17*'Acceeleration and Decelration'!L8 -> 1173.899 | P8: ='Given Data '!C$17*'Acceeleration and Decelration'!M8 -> 873.3091 | Q8: ='Given Data '!C$17*'Acceeleration and Decelration'!N8 -> 671.52407
B9: =B8+500 -> 3000 | C9: 5348 | D9: =C9/746 -> 7.1689008 | E9: =60*C9/(2*PI()*B9) -> 17.023213 | F9: =3.6*2*PI()*'Given Data '!C$13*'Acceeleration and Decelration'!B9/('Given Data '!I$6*60) -> 12.638675 | G9: =3.6*2*PI()*'Given Data '!C$13*'Acceeleration and Decelration'!B9/('Given Data '!I$7*60) -> 17.234557 | H9: =3.6*2*PI()*'Given Data '!C$13*'Acceeleration and Decelration'!B9/('Given Data '!I$8*60) -> 22.57171 | I9: =3.6*C9/F9 -> 1523.3243 | J9: =C9*3.6/G9 -> 1117.1045 | K9: =3.6*C9/H9 -> 852.96153 | L9: =I9/'Given Data '!C$55 -> 2.5653465 | M9: =J9/'Given Data '!C$56 -> 1.9084611 | N9: =K9/'Given Data '!C$57 -> 1.4674959 | O9: ='Given Data '!C$17*'Acceeleration and Decelration'!L9 -> 1338.3669 | P9: ='Given Data '!C$17*'Acceeleration and Decelration'!M9 -> 995.66323 | Q9: ='Given Data '!C$17*'Acceeleration and Decelration'!N9 -> 765.6073
B10: =B9+500 -> 3500 | C10: 6878 | D10: =C10/746 -> 9.2198391 | E10: =60*C10/(2*PI()*B10) -> 18.765732 | F10: =3.6*2*PI()*'Given Data '!C$13*'Acceeleration and Decelration'!B10/('Given Data '!I$6*60) -> 14.745121 | G10: =3.6*2*PI()*'Given Data '!C$13*'Acceeleration and Decelration'!B10/('Given Data '!I$7*60) -> 20.106983 | H10: =3.6*2*PI()*'Given Data '!C$13*'Acceeleration and Decelration'!B10/('Given Data '!I$8*60) -> 26.333661 | I10: =3.6*C10/F10 -> 1679.2538 | J10: =C10*3.6/G10 -> 1231.4528 | K10: =3.6*C10/H10 -> 940.27183 | L10: =I10/'Given Data '!C$55 -> 2.8279389 | M10: =J10/'Given Data '!C$56 -> 2.1038137 | N10: =K10/'Given Data '!C$57 -> 1.6177108 | O10: ='Given Data '!C$17*'Acceeleration and Decelration'!L10 -> 1475.364 | P10: ='Given Data '!C$17*'Acceeleration and Decelration'!M10 -> 1097.5807 | Q10: ='Given Data '!C$17*'Acceeleration and Decelration'!N10 -> 843.97591
B11: =B10+500 -> 4000 | C11: 8101 | D11: =C11/746 -> 10.859249 | E11: =60*C11/(2*PI()*B11) -> 19.339713 | F11: =3.6*2*PI()*'Given Data '!C$13*'Acceeleration and Decelration'!B11/('Given Data '!I$6*60) -> 16.851567 | G11: =3.6*2*PI()*'Given Data '!C$13*'Acceeleration and Decelration'!B11/('Given Data '!I$7*60) -> 22.979409 | H11: =3.6*2*PI()*'Given Data '!C$13*'Acceeleration and Decelration'!B11/('Given Data '!I$8*60) -> 30.095613 | I11: =3.6*C11/F11 -> 1730.6166 | J11: =C11*3.6/G11 -> 1269.1188 | K11: =3.6*C11/H11 -> 969.0316 | L11: =I11/'Given Data '!C$55 -> 2.9144361 | M11: =J11/'Given Data '!C$56 -> 2.1681624 | N11: =K11/'Given Data '!C$57 -> 1.6671912 | O11: ='Given Data '!C$17*'Acceeleration and Decelration'!L11 -> 1520.4904 | P11: ='Given Data '!C$17*'Acceeleration and Decelration'!M11 -> 1131.152 | Q11: ='Given Data '!C$17*'Acceeleration and Decelration'!N11 -> 869.79031
B12: =B11+500 -> 4500 | C12: 10302 | D12: =C12/746 -> 13.809651 | E12: =60*C12/(2*PI()*B12) -> 21.861523 | F12: =3.6*2*PI()*'Given Data '!C$13*'Acceeleration and Decelration'!B12/('Given Data '!I$6*60) -> 18.958012 | G12: =3.6*2*PI()*'Given Data '!C$13*'Acceeleration and Decelration'!B12/('Given Data '!I$7*60) -> 25.851835 | H12: =3.6*2*PI()*'Given Data '!C$13*'Acceeleration and Decelration'!B12/('Given Data '!I$8*60) -> 33.857565 | I12: =3.6*C12/F12 -> 1956.281 | J12: =C12*3.6/G12 -> 1434.6061 | K12: =3.6*C12/H12 -> 1095.3889 | L12: =I12/'Given Data '!C$55 -> 3.2944652 | M12: =J12/'Given Data '!C$56 -> 2.4508808 | N12: =K12/'Given Data '!C$57 -> 1.8845853 | O12: ='Given Data '!C$17*'Acceeleration and Decelration'!L12 -> 1718.7554 | P12: ='Given Data '!C$17*'Acceeleration and Decelration'!M12 -> 1278.649 | Q12: ='Given Data '!C$17*'Acceeleration and Decelration'!N12 -> 983.20699
B13: =B12+500 -> 5000 | C13: 11383 | D13: =C13/746 -> 15.258713 | E13: =60*C13/(2*PI()*B13) -> 21.739929 | F13: =3.6*2*PI()*'Given Data '!C$13*'Acceeleration and Decelration'!B13/('Given Data '!I$6*60) -> 21.064458 | G13: =3.6*2*PI()*'Given Data '!C$13*'Acceeleration and Decelration'!B13/('Given Data '!I$7*60) -> 28.724261 | H13: =3.6*2*PI()*'Given Data '!C$13*'Acceeleration and Decelration'!B13/('Given Data '!I$8*60) -> 37.619516 | I13: =3.6*C13/F13 -> 1945.4001 | J13: =C13*3.6/G13 -> 1426.6268 | K13: =3.6*C13/H13 -> 1089.2963 | L13: =I13/'Given Data '!C$55 -> 3.2761413 | M13: =J13/'Given Data '!C$56 -> 2.437249 | N13: =K13/'Given Data '!C$57 -> 1.8741032 | O13: ='Given Data '!C$17*'Acceeleration and Decelration'!L13 -> 1709.1957 | P13: ='Given Data '!C$17*'Acceeleration and Decelration'!M13 -> 1271.5372 | Q13: ='Given Data '!C$17*'Acceeleration and Decelration'!N13 -> 977.73836
B14: =B13+500 -> 5500 | C14: 12637 | D14: =C14/746 -> 16.939678 | E14: =60*C14/(2*PI()*B14) -> 21.940811 | F14: =3.6*2*PI()*'Given Data '!C$13*'Acceeleration and Decelration'!B14/('Given Data '!I$6*60) -> 23.170904 | G14: =3.6*2*PI()*'Given Data '!C$13*'Acceeleration and Decelration'!B14/('Given Data '!I$7*60) -> 31.596687 | H14: =3.6*2*PI()*'Given Data '!C$13*'Acceeleration and Decelration'!B14/('Given Data '!I$8*60) -> 41.381468 | I14: =3.6*C14/F14 -> 1963.3761 | J14: =C14*3.6/G14 -> 1439.8092 | K14: =3.6*C14/H14 -> 1099.3617 | L14: =I14/'Given Data '!C$55 -> 3.3064137 | M14: =J14/'Given Data '!C$56 -> 2.4597698 | N14: =K14/'Given Data '!C$57 -> 1.8914204 | O14: ='Given Data '!C$17*'Acceeleration and Decelration'!L14 -> 1724.9891 | P14: ='Given Data '!C$17*'Acceeleration and Decelration'!M14 -> 1283.2865 | Q14: ='Given Data '!C$17*'Acceeleration and Decelration'!N14 -> 986.77291
B15: =B14+500 -> 6000 | C15: 13025 | D15: =C15/746 -> 17.459786 | E15: =60*C15/(2*PI()*B15) -> 20.729931 | F15: =3.6*2*PI()*'Given Data '!C$13*'Acceeleration and Decelration'!B15/('Given Data '!I$6*60) -> 25.27735 | G15: =3.6*2*PI()*'Given Data '!C$13*'Acceeleration and Decelration'!B15/('Given Data '!I$7*60) -> 34.469113 | H15: =3.6*2*PI()*'Given Data '!C$13*'Acceeleration and Decelration'!B15/('Given Data '!I$8*60) -> 45.143419 | I15: =3.6*C15/F15 -> 1855.0204 | J15: =C15*3.6/G15 -> 1360.3483 | K15: =3.6*C15/H15 -> 1038.6896 | L15: =I15/'Given Data '!C$55 -> 3.1239378 | M15: =J15/'Given Data '!C$56 -> 2.3240188 | N15: =K15/'Given Data '!C$57 -> 1.7870358 | O15: ='Given Data '!C$17*'Acceeleration and Decelration'!L15 -> 1629.7896 | P15: ='Given Data '!C$17*'Acceeleration and Decelration'!M15 -> 1212.4639 | Q15: ='Given Data '!C$17*'Acceeleration and Decelration'!N15 -> 932.31443
B16: =B15+500 -> 6500 | C16: 13428 | D16: =C16/746 -> 18 | E16: =60*C16/(2*PI()*B16) -> 19.727378 | F16: =3.6*2*PI()*'Given Data '!C$13*'Acceeleration and Decelration'!B16/('Given Data '!I$6*60) -> 27.383796 | G16: =3.6*2*PI()*'Given Data '!C$13*'Acceeleration and Decelration'!B16/('Given Data '!I$7*60) -> 37.341539 | H16: =3.6*2*PI()*'Given Data '!C$13*'Acceeleration and Decelration'!B16/('Given Data '!I$8*60) -> 48.905371 | I16: =3.6*C16/F16 -> 1765.3068 | J16: =C16*3.6/G16 -> 1294.5583 | K16: =3.6*C16/H16 -> 988.45585 | L16: =I16/'Given Data '!C$55 -> 2.972856 | M16: =J16/'Given Data '!C$56 -> 2.2116232 | N16: =K16/'Given Data '!C$57 -> 1.70061 | O16: ='Given Data '!C$17*'Acceeleration and Decelration'!L16 -> 1550.9687 | P16: ='Given Data '!C$17*'Acceeleration and Decelration'!M16 -> 1153.8259 | Q16: ='Given Data '!C$17*'Acceeleration and Decelration'!N16 -> 887.22526

Sheet Aerodynamic Resistance
A1: Aerodynamic Resistance
B3: RPM | C3: Aero drag in gear 1 | D3: Aero drag in gear 2 | E3: Aero drag in gear 3
B4: 1000 | C4: ='Given Data '!C$21*'Given Data '!C$19*'Given Data '!C$9*('Acceeleration and Decelration'!F5/3.6)^2/2 -> 0.64382791 | D4: ='Given Data '!C$21*'Given Data '!C$19*'Given Data '!C$9*('Acceeleration and Decelration'!G5/3.6)^2/2 -> 1.1972007 | E4: ='Given Data '!C$21*'Given Data '!C$19*'Given Data '!C$9*('Acceeleration and Decelration'!H5/3.6)^2/2 -> 2.0535043
B5: =B4+500 -> 1500 | C5: ='Given Data '!C$21*'Given Data '!C$19*'Given Data '!C$9*('Acceeleration and Decelration'!F6/3.6)^2/2 -> 1.4486128 | D5: ='Given Data '!C$21*'Given Data '!C$19*'Given Data '!C$9*('Acceeleration and Decelration'!G6/3.6)^2/2 -> 2.6937015 | E5: ='Given Data '!C$21*'Given Data '!C$19*'Given Data '!C$9*('Acceeleration and Decelration'!H6/3.6)^2/2 -> 4.6203848
B6: =B5+500 -> 2000 | C6: ='Given Data '!C$21*'Given Data '!C$19*'Given Data '!C$9*('Acceeleration and Decelration'!F7/3.6)^2/2 -> 2.5753116 | D6: ='Given Data '!C$21*'Given Data '!C$19*'Given Data '!C$9*('Acceeleration and Decelration'!G7/3.6)^2/2 -> 4.7888026 | E6: ='Given Data '!C$21*'Given Data '!C$19*'Given Data '!C$9*('Acceeleration and Decelration'!H7/3.6)^2/2 -> 8.2140174
B7: =B6+500 -> 2500 | C7: ='Given Data '!C$21*'Given Data '!C$19*'Given Data '!C$9*('Acceeleration and Decelration'!F8/3.6)^2/2 -> 4.0239244 | D7: ='Given Data '!C$21*'Given Data '!C$19*'Given Data '!C$9*('Acceeleration and Decelration'!G8/3.6)^2/2 -> 7.4825041 | E7: ='Given Data '!C$21*'Given Data '!C$19*'Given Data '!C$9*('Acceeleration and Decelration'!H8/3.6)^2/2 -> 12.834402
B8: =B7+500 -> 3000 | C8: ='Given Data '!C$21*'Given Data '!C$19*'Given Data '!C$9*('Acceeleration and Decelration'!F9/3.6)^2/2 -> 5.7944512 | D8: ='Given Data '!C$21*'Given Data '!C$19*'Given Data '!C$9*('Acceeleration and Decelration'!G9/3.6)^2/2 -> 10.774806 | E8: ='Given Data '!C$21*'Given Data '!C$19*'Given Data '!C$9*('Acceeleration and Decelration'!H9/3.6)^2/2 -> 18.481539
B9: =B8+500 -> 3500 | C9: ='Given Data '!C$21*'Given Data '!C$19*'Given Data '!C$9*('Acceeleration and Decelration'!F10/3.6)^2/2 -> 7.8868919 | D9: ='Given Data '!C$21*'Given Data '!C$19*'Given Data '!C$9*('Acceeleration and Decelration'!G10/3.6)^2/2 -> 14.665708 | E9: ='Given Data '!C$21*'Given Data '!C$19*'Given Data '!C$9*('Acceeleration and Decelration'!H10/3.6)^2/2 -> 25.155428
B10: =B9+500 -> 4000 | C10: ='Given Data '!C$21*'Given Data '!C$19*'Given Data '!C$9*('Acceeleration and Decelration'!F11/3.6)^2/2 -> 10.301247 | D10: ='Given Data '!C$21*'Given Data '!C$19*'Given Data '!C$9*('Acceeleration and Decelration'!G11/3.6)^2/2 -> 19.155211 | E10: ='Given Data '!C$21*'Given Data '!C$19*'Given Data '!C$9*('Acceeleration and Decelration'!H11/3.6)^2/2 -> 32.85607
B11: =B10+500 -> 4500 | C11: ='Given Data '!C$21*'Given Data '!C$19*'Given Data '!C$9*('Acceeleration and Decelration'!F12/3.6)^2/2 -> 13.037515 | D11: ='Given Data '!C$21*'Given Data '!C$19*'Given Data '!C$9*('Acceeleration and Decelration'!G12/3.6)^2/2 -> 24.243313 | E11: ='Given Data '!C$21*'Given Data '!C$19*'Given Data '!C$9*('Acceeleration and Decelration'!H12/3.6)^2/2 -> 41.583463
B12: =B11+500 -> 5000 | C12: ='Given Data '!C$21*'Given Data '!C$19*'Given Data '!C$9*('Acceeleration and Decelration'!F13/3.6)^2/2 -> 16.095698 | D12: ='Given Data '!C$21*'Given Data '!C$19*'Given Data '!C$9*('Acceeleration and Decelration'!G13/3.6)^2/2 -> 29.930016 | E12: ='Given Data '!C$21*'Given Data '!C$19*'Given Data '!C$9*('Acceeleration and Decelration'!H13/3.6)^2/2 -> 51.337609
B13: =B12+500 -> 5500 | C13: ='Given Data '!C$21*'Given Data '!C$19*'Given Data '!C$9*('Acceeleration and Decelration'!F14/3.6)^2/2 -> 19.475794 | D13: ='Given Data '!C$21*'Given Data '!C$19*'Given Data '!C$9*('Acceeleration and Decelration'!G14/3.6)^2/2 -> 36.21532 | E13: ='Given Data '!C$21*'Given Data '!C$19*'Given Data '!C$9*('Acceeleration and Decelration'!H14/3.6)^2/2 -> 62.118506
B14: =B13+500 -> 6000 | C14: ='Given Data '!C$21*'Given Data '!C$19*'Given Data '!C$9*('Acceeleration and Decelration'!F15/3.6)^2/2 -> 23.177805 | D14: ='Given Data '!C$21*'Given Data '!C$19*'Given Data '!C$9*('Acceeleration and Decelration'!G15/3.6)^2/2 -> 43.099224 | E14: ='Given Data '!C$21*'Given Data '!C$19*'Given Data '!C$9*('Acceeleration and Decelration'!H15/3.6)^2/2 -> 73.926156
B15: =B14+500 -> 6500 | C15: ='Given Data '!C$21*'Given Data '!C$19*'Given Data '!C$9*('Acceeleration and Decelration'!F16/3.6)^2/2 -> 27.201729 | D15: ='Given Data '!C$21*'Given Data '!C$19*'Given Data '!C$9*('Acceeleration and Decelration'!G16/3.6)^2/2 -> 50.581728 | E15: ='Given Data '!C$21*'Given Data '!C$19*'Given Data '!C$9*('Acceeleration and Decelration'!H16/3.6)^2/2 -> 86.760559

Sheet Net Resistance 
A1: Net Resistance Force (N)
C3: Sector 1 | F3: Sector 2 | I3: Sector 3 | L3: Sector 4
B4: RPM | C4: Gear 1 | D4: Gear 2 | E4: Gear 3 | F4: Gear 1 | G4: Gear 2 | H4: Gear 3 | I4: Gear 1 | J4: Gear 2 | K4: Gear 3 | L4: Gear 1 | M4: Gear 2 | N4: Gear 3
B5: 1000 | C5: ='Rolling Resistance'!C$4+'Aerodynamic Resistance'!C4 -> 103.00333 | D5: ='Rolling Resistance'!C$4+'Aerodynamic Resistance'!D4 -> 103.5567 | E5: ='Rolling Resistance'!C$4+'Aerodynamic Resistance'!E4 -> 104.41301 | F5: ='Rolling Resistance'!C$5+'Aerodynamic Resistance'!C4 -> 103.00333 | G5: ='Rolling Resistance'!C$5+'Aerodynamic Resistance'!D4 -> 103.5567 | H5: ='Rolling Resistance'!C$5+'Aerodynamic Resistance'!E4 -> 104.41301 | I5: ='Rolling Resistance'!C$6+'Aerodynamic Resistance'!C4 -> 410.08184 | J5: ='Rolling Resistance'!C$6+'Aerodynamic Resistance'!D4 -> 410.63521 | K5: ='Rolling Resistance'!C$6+'Aerodynamic Resistance'!E4 -> 411.49151 | L5: ='Rolling Resistance'!C$7+'Aerodynamic Resistance'!C4 -> 1024.2388 | M5: ='Rolling Resistance'!C$7+'Aerodynamic Resistance'!D4 -> 1024.7922 | N5: ='Rolling Resistance'!C$7+'Aerodynamic Resistance'!E4 -> 1025.6485
B6: =B5+500 -> 1500 | C6: ='Rolling Resistance'!C$4+'Aerodynamic Resistance'!C5 -> 103.80811 | D6: ='Rolling Resistance'!C$4+'Aerodynamic Resistance'!D5 -> 105.0532 | E6: ='Rolling Resistance'!C$4+'Aerodynamic Resistance'!E5 -> 106.97989 | F6: ='Rolling Resistance'!C$5+'Aerodynamic Resistance'!C5 -> 103.80811 | G6: ='Rolling Resistance'!C$5+'Aerodynamic Resistance'!D5 -> 105.0532 | H6: ='Rolling Resistance'!C$5+'Aerodynamic Resistance'!E5 -> 106.97989 | I6: ='Rolling Resistance'!C$6+'Aerodynamic Resistance'!C5 -> 410.88662 | J6: ='Rolling Resistance'!C$6+'Aerodynamic Resistance'!D5 -> 412.13171 | K6: ='Rolling Resistance'!C$6+'Aerodynamic Resistance'!E5 -> 414.05839 | L6: ='Rolling Resistance'!C$7+'Aerodynamic Resistance'!C5 -> 1025.0436 | M6: ='Rolling Resistance'!C$7+'Aerodynamic Resistance'!D5 -> 1026.2887 | N6: ='Rolling Resistance'!C$7+'Aerodynamic Resistance'!E5 -> 1028.2154
B7: =B6+500 -> 2000 | C7: ='Rolling Resistance'!C$4+'Aerodynamic Resistance'!C6 -> 104.93481 | D7: ='Rolling Resistance'!C$4+'Aerodynamic Resistance'!D6 -> 107.1483 | E7: ='Rolling Resistance'!C$4+'Aerodynamic Resistance'!E6 -> 110.57352 | F7: ='Rolling Resistance'!C$5+'Aerodynamic Resistance'!C6 -> 104.93481 | G7: ='Rolling Resistance'!C$5+'Aerodynamic Resistance'!D6 -> 107.1483 | H7: ='Rolling Resistance'!C$5+'Aerodynamic Resistance'!E6 -> 110.57352 | I7: ='Rolling Resistance'!C$6+'Aerodynamic Resistance'!C6 -> 412.01332 | J7: ='Rolling Resistance'!C$6+'Aerodynamic Resistance'!D6 -> 414.22681 | K7: ='Rolling Resistance'!C$6+'Aerodynamic Resistance'!E6 -> 417.65203 | L7: ='Rolling Resistance'!C$7+'Aerodynamic Resistance'!C6 -> 1026.1703 | M7: ='Rolling Resistance'!C$7+'Aerodynamic Resistance'!D6 -> 1028.3838 | N7: ='Rolling Resistance'!C$7+'Aerodynamic Resistance'!E6 -> 1031.809
B8: =B7+500 -> 2500 | C8: ='Rolling Resistance'!C$4+'Aerodynamic Resistance'!C7 -> 106.38343 | D8: ='Rolling Resistance'!C$4+'Aerodynamic Resistance'!D7 -> 109.84201 | E8: ='Rolling Resistance'!C$4+'Aerodynamic Resistance'!E7 -> 115.1939 | F8: ='Rolling Resistance'!C$5+'Aerodynamic Resistance'!C7 -> 106.38343 | G8: ='Rolling Resistance'!C$5+'Aerodynamic Resistance'!D7 -> 109.84201 | H8: ='Rolling Resistance'!C$5+'Aerodynamic Resistance'!E7 -> 115.1939 | I8: ='Rolling Resistance'!C$6+'Aerodynamic Resistance'!C7 -> 413.46193 | J8: ='Rolling Resistance'!C$6+'Aerodynamic Resistance'!D7 -> 416.92051 | K8: ='Rolling Resistance'!C$6+'Aerodynamic Resistance'!E7 -> 422.27241 | L8: ='Rolling Resistance'!C$7+'Aerodynamic Resistance'!C7 -> 1027.6189 | M8: ='Rolling Resistance'!C$7+'Aerodynamic Resistance'!D7 -> 1031.0775 | N8: ='Rolling Resistance'!C$7+'Aerodynamic Resistance'!E7 -> 1036.4294
B9: =B8+500 -> 3000 | C9: ='Rolling Resistance'!C$4+'Aerodynamic Resistance'!C8 -> 108.15395 | D9: ='Rolling Resistance'!C$4+'Aerodynamic Resistance'!D8 -> 113.13431 | E9: ='Rolling Resistance'!C$4+'Aerodynamic Resistance'!E8 -> 120.84104 | F9: ='Rolling Resistance'!C$5+'Aerodynamic Resistance'!C8 -> 108.15395 | G9: ='Rolling Resistance'!C$5+'Aerodynamic Resistance'!D8 -> 113.13431 | H9: ='Rolling Resistance'!C$5+'Aerodynamic Resistance'!E8 -> 120.84104 | I9: ='Rolling Resistance'!C$6+'Aerodynamic Resistance'!C8 -> 415.23246 | J9: ='Rolling Resistance'!C$6+'Aerodynamic Resistance'!D8 -> 420.21281 | K9: ='Rolling Resistance'!C$6+'Aerodynamic Resistance'!E8 -> 427.91955 | L9: ='Rolling Resistance'!C$7+'Aerodynamic Resistance'!C8 -> 1029.3895 | M9: ='Rolling Resistance'!C$7+'Aerodynamic Resistance'!D8 -> 1034.3698 | N9: ='Rolling Resistance'!C$7+'Aerodynamic Resistance'!E8 -> 1042.0766
B10: =B9+500 -> 3500 | C10: ='Rolling Resistance'!C$4+'Aerodynamic Resistance'!C9 -> 110.24639 | D10: ='Rolling Resistance'!C$4+'Aerodynamic Resistance'!D9 -> 117.02521 | E10: ='Rolling Resistance'!C$4+'Aerodynamic Resistance'!E9 -> 127.51493 | F10: ='Rolling Resistance'!C$5+'Aerodynamic Resistance'!C9 -> 110.24639 | G10: ='Rolling Resistance'!C$5+'Aerodynamic Resistance'!D9 -> 117.02521 | H10: ='Rolling Resistance'!C$5+'Aerodynamic Resistance'!E9 -> 127.51493 | I10: ='Rolling Resistance'!C$6+'Aerodynamic Resistance'!C9 -> 417.3249 | J10: ='Rolling Resistance'!C$6+'Aerodynamic Resistance'!D9 -> 424.10372 | K10: ='Rolling Resistance'!C$6+'Aerodynamic Resistance'!E9 -> 434.59344 | L10: ='Rolling Resistance'!C$7+'Aerodynamic Resistance'!C9 -> 1031.4819 | M10: ='Rolling Resistance'!C$7+'Aerodynamic Resistance'!D9 -> 1038.2607 | N10: ='Rolling Resistance'!C$7+'Aerodynamic Resistance'!E9 -> 1048.7504
B11: =B10+500 -> 4000 | C11: ='Rolling Resistance'!C$4+'Aerodynamic Resistance'!C10 -> 112.66075 | D11: ='Rolling Resistance'!C$4+'Aerodynamic Resistance'!D10 -> 121.51471 | E11: ='Rolling Resistance'!C$4+'Aerodynamic Resistance'!E10 -> 135.21557 | F11: ='Rolling Resistance'!C$5+'Aerodynamic Resistance'!C10 -> 112.66075 | G11: ='Rolling Resistance'!C$5+'Aerodynamic Resistance'!D10 -> 121.51471 | H11: ='Rolling Resistance'!C$5+'Aerodynamic Resistance'!E10 -> 135.21557 | I11: ='Rolling Resistance'!C$6+'Aerodynamic Resistance'!C10 -> 419.73925 | J11: ='Rolling Resistance'!C$6+'Aerodynamic Resistance'!D10 -> 428.59322 | K11: ='Rolling Resistance'!C$6+'Aerodynamic Resistance'!E10 -> 442.29408 | L11: ='Rolling Resistance'!C$7+'Aerodynamic Resistance'!C10 -> 1033.8963 | M11: ='Rolling Resistance'!C$7+'Aerodynamic Resistance'!D10 -> 1042.7502 | N11: ='Rolling Resistance'!C$7+'Aerodynamic Resistance'!E10 -> 1056.4511
B12: =B11+500 -> 4500 | C12: ='Rolling Resistance'!C$4+'Aerodynamic Resistance'!C11 -> 115.39702 | D12: ='Rolling Resistance'!C$4+'Aerodynamic Resistance'!D11 -> 126.60282 | E12: ='Rolling Resistance'!C$4+'Aerodynamic Resistance'!E11 -> 143.94296 | F12: ='Rolling Resistance'!C$5+'Aerodynamic Resistance'!C11 -> 115.39702 | G12: ='Rolling Resistance'!C$5+'Aerodynamic Resistance'!D11 -> 126.60282 | H12: ='Rolling Resistance'!C$5+'Aerodynamic Resistance'!E11 -> 143.94296 | I12: ='Rolling Resistance'!C$6+'Aerodynamic Resistance'!C11 -> 422.47552 | J12: ='Rolling Resistance'!C$6+'Aerodynamic Resistance'!D11 -> 433.68132 | K12: ='Rolling Resistance'!C$6+'Aerodynamic Resistance'!E11 -> 451.02147 | L12: ='Rolling Resistance'!C$7+'Aerodynamic Resistance'!C11 -> 1036.6325 | M12: ='Rolling Resistance'!C$7+'Aerodynamic Resistance'!D11 -> 1047.8383 | N12: ='Rolling Resistance'!C$7+'Aerodynamic Resistance'!E11 -> 1065.1785
B13: =B12+500 -> 5000 | C13: ='Rolling Resistance'!C$4+'Aerodynamic Resistance'!C12 -> 118.4552 | D13: ='Rolling Resistance'!C$4+'Aerodynamic Resistance'!D12 -> 132.28952 | E13: ='Rolling Resistance'!C$4+'Aerodynamic Resistance'!E12 -> 153.69711 | F13: ='Rolling Resistance'!C$5+'Aerodynamic Resistance'!C12 -> 118.4552 | G13: ='Rolling Resistance'!C$5+'Aerodynamic Resistance'!D12 -> 132.28952 | H13: ='Rolling Resistance'!C$5+'Aerodynamic Resistance'!E12 -> 153.69711 | I13: ='Rolling Resistance'!C$6+'Aerodynamic Resistance'!C12 -> 425.53371 | J13: ='Rolling Resistance'!C$6+'Aerodynamic Resistance'!D12 -> 439.36802 | K13: ='Rolling Resistance'!C$6+'Aerodynamic Resistance'!E12 -> 460.77562 | L13: ='Rolling Resistance'!C$7+'Aerodynamic Resistance'!C12 -> 1039.6907 | M13: ='Rolling Resistance'!C$7+'Aerodynamic Resistance'!D12 -> 1053.525 | N13: ='Rolling Resistance'!C$7+'Aerodynamic Resistance'!E12 -> 1074.9326
B14: =B13+500 -> 5500 | C14: ='Rolling Resistance'!C$4+'Aerodynamic Resistance'!C13 -> 121.8353 | D14: ='Rolling Resistance'!C$4+'Aerodynamic Resistance'!D13 -> 138.57482 | E14: ='Rolling Resistance'!C$4+'Aerodynamic Resistance'!E13 -> 164.47801 | F14: ='Rolling Resistance'!C$5+'Aerodynamic Resistance'!C13 -> 121.8353 | G14: ='Rolling Resistance'!C$5+'Aerodynamic Resistance'!D13 -> 138.57482 | H14: ='Rolling Resistance'!C$5+'Aerodynamic Resistance'!E13 -> 164.47801 | I14: ='Rolling Resistance'!C$6+'Aerodynamic Resistance'!C13 -> 428.9138 | J14: ='Rolling Resistance'!C$6+'Aerodynamic Resistance'!D13 -> 445.65333 | K14: ='Rolling Resistance'!C$6+'Aerodynamic Resistance'!E13 -> 471.55651 | L14: ='Rolling Resistance'!C$7+'Aerodynamic Resistance'!C13 -> 1043.0708 | M14: ='Rolling Resistance'!C$7+'Aerodynamic Resistance'!D13 -> 1059.8103 | N14: ='Rolling Resistance'!C$7+'Aerodynamic Resistance'!E13 -> 1085.7135
B15: =B14+500 -> 6000 | C15: ='Rolling Resistance'!C$4+'Aerodynamic Resistance'!C14 -> 125.53731 | D15: ='Rolling Resistance'!C$4+'Aerodynamic Resistance'!D14 -> 145.45873 | E15: ='Rolling Resistance'!C$4+'Aerodynamic Resistance'!E14 -> 176.28566 | F15: ='Rolling Resistance'!C$5+'Aerodynamic Resistance'!C14 -> 125.53731 | G15: ='Rolling Resistance'!C$5+'Aerodynamic Resistance'!D14 -> 145.45873 | H15: ='Rolling Resistance'!C$5+'Aerodynamic Resistance'!E14 -> 176.28566 | I15: ='Rolling Resistance'!C$6+'Aerodynamic Resistance'!C14 -> 432.61581 | J15: ='Rolling Resistance'!C$6+'Aerodynamic Resistance'!D14 -> 452.53723 | K15: ='Rolling Resistance'!C$6+'Aerodynamic Resistance'!E14 -> 483.36416 | L15: ='Rolling Resistance'!C$7+'Aerodynamic Resistance'!C14 -> 1046.7728 | M15: ='Rolling Resistance'!C$7+'Aerodynamic Resistance'!D14 -> 1066.6942 | N15: ='Rolling Resistance'!C$7+'Aerodynamic Resistance'!E14 -> 1097.5212
B16: =B15+500 -> 6500 | C16: ='Rolling Resistance'!C$4+'Aerodynamic Resistance'!C15 -> 129.56123 | D16: ='Rolling Resistance'!C$4+'Aerodynamic Resistance'!D15 -> 152.94123 | E16: ='Rolling Resistance'!C$4+'Aerodynamic Resistance'!E15 -> 189.12006 | F16: ='Rolling Resistance'!C$5+'Aerodynamic Resistance'!C15 -> 129.56123 | G16: ='Rolling Resistance'!C$5+'Aerodynamic Resistance'!D15 -> 152.94123 | H16: ='Rolling Resistance'!C$5+'Aerodynamic Resistance'!E15 -> 189.12006 | I16: ='Rolling Resistance'!C$6+'Aerodynamic Resistance'!C15 -> 436.63974 | J16: ='Rolling Resistance'!C$6+'Aerodynamic Resistance'!D15 -> 460.01974 | K16: ='Rolling Resistance'!C$6+'Aerodynamic Resistance'!E15 -> 496.19857 | L16: ='Rolling Resistance'!C$7+'Aerodynamic Resistance'!C15 -> 1050.7967 | M16: ='Rolling Resistance'!C$7+'Aerodynamic Resistance'!D15 -> 1074.1767 | N16: ='Rolling Resistance'!C$7+'Aerodynamic Resistance'!E15 -> 1110.3556
B19: Acceleration Decrease due to resistive forces
B21: RPM | C21: Sector 1 | F21: Sector 2 | I21: Sector 3 | L21: Sector 4
C22: Gear 1 | D22: Gear 2 | E22: Gear 3 | F22: Gear 1 | G22: Gear 2 | H22: Gear 3 | I22: Gear 1 | J22: Gear 2 | K22: Gear 3 | L22: Gear 1 | M22: Gear 2 | N22: Gear 3
B23: 1000 | C23: =C5/'Given Data '!C$17 -> 0.19743407 | D23: =D5/'Given Data '!C$17 -> 0.19849476 | E23: =E5/'Given Data '!C$17 -> 0.2001361 | F23: =F5/'Given Data '!C$17 -> 0.19743407 | G23: =G5/'Given Data '!C$17 -> 0.19849476 | H23: =H5/'Given Data '!C$17 -> 0.2001361 | I23: =I5/'Given Data '!C$17 -> 0.78603407 | J23: =J5/'Given Data '!C$17 -> 0.78709476 | K23: =K5/'Given Data '!C$17 -> 0.7887361 | L23: =L5/'Given Data '!C$17 -> 1.9632341 | M23: =M5/'Given Data '!C$17 -> 1.9642948 | N23: =N5/'Given Data '!C$17 -> 1.9659361
B24: =B23+500 -> 1500 | C24: =C6/'Given Data '!C$17 -> 0.19897666 | D24: =D6/'Given Data '!C$17 -> 0.20136322 | E24: =E6/'Given Data '!C$17 -> 0.20505623 | F24: =F6/'Given Data '!C$17 -> 0.19897666 | G24: =G6/'Given Data '!C$17 -> 0.20136322 | H24: =H6/'Given Data '!C$17 -> 0.20505623 | I24: =I6/'Given Data '!C$17 -> 0.78757666 | J24: =J6/'Given Data '!C$17 -> 0.78996322 | K24: =K6/'Given Data '!C$17 -> 0.79365623 | L24: =L6/'Given Data '!C$17 -> 1.9647767 | M24: =M6/'Given Data '!C$17 -> 1.9671632 | N24: =N6/'Given Data '!C$17 -> 1.9708562
B25: =B24+500 -> 2000 | C25: =C7/'Given Data '!C$17 -> 0.20113629 | D25: =D7/'Given Data '!C$17 -> 0.20537905 | E25: =E7/'Given Data '!C$17 -> 0.21194441 | F25: =F7/'Given Data '!C$17 -> 0.20113629 | G25: =G7/'Given Data '!C$17 -> 0.20537905 | H25: =H7/'Given Data '!C$17 -> 0.21194441 | I25: =I7/'Given Data '!C$17 -> 0.78973629 | J25: =J7/'Given Data '!C$17 -> 0.79397905 | K25: =K7/'Given Data '!C$17 -> 0.80054441 | L25: =L7/'Given Data '!C$17 -> 1.9669363 | M25: =M7/'Given Data '!C$17 -> 1.9711791 | N25: =N7/'Given Data '!C$17 -> 1.9777444
B26: =B25+500 -> 2500 | C26: =C8/'Given Data '!C$17 -> 0.20391295 | D26: =D8/'Given Data '!C$17 -> 0.21054227 | E26: =E8/'Given Data '!C$17 -> 0.22080064 | F26: =F8/'Given Data '!C$17 -> 0.20391295 | G26: =G8/'Given Data '!C$17 -> 0.21054227 | H26: =H8/'Given Data '!C$17 -> 0.22080064 | I26: =I8/'Given Data '!C$17 -> 0.79251295 | J26: =J8/'Given Data '!C$17 -> 0.79914227 | K26: =K8/'Given Data '!C$17 -> 0.80940064 | L26: =L8/'Given Data '!C$17 -> 1.969713 | M26: =M8/'Given Data '!C$17 -> 1.9763423 | N26: =N8/'Given Data '!C$17 -> 1.9866006
B27: =B26+500 -> 3000 | C27: =C9/'Given Data '!C$17 -> 0.20730665 | D27: =D9/'Given Data '!C$17 -> 0.21685286 | E27: =E9/'Given Data '!C$17 -> 0.23162493 | F27: =F9/'Given Data '!C$17 -> 0.20730665 | G27: =G9/'Given Data '!C$17 -> 0.21685286 | H27: =H9/'Given Data '!C$17 -> 0.23162493 | I27: =I9/'Given Data '!C$17 -> 0.79590665 | J27: =J9/'Given Data '!C$17 -> 0.80545286 | K27: =K9/'Given Data '!C$17 -> 0.82022493 | L27: =L9/'Given Data '!C$17 -> 1.9731067 | M27: =M9/'Given Data '!C$17 -> 1.9826529 | N27: =N9/'Given Data '!C$17 -> 1.9974249
B28: =B27+500 -> 3500 | C28: =C10/'Given Data '!C$17 -> 0.21131739 | D28: =D10/'Given Data '!C$17 -> 0.22431084 | E28: =E10/'Given Data '!C$17 -> 0.24441726 | F28: =F10/'Given Data '!C$17 -> 0.21131739 | G28: =G10/'Given Data '!C$17 -> 0.22431084 | H28: =H10/'Given Data '!C$17 -> 0.24441726 | I28: =I10/'Given Data '!C$17 -> 0.79991739 | J28: =J10/'Given Data '!C$17 -> 0.81291084 | K28: =K10/'Given Data '!C$17 -> 0.83301726 | L28: =L10/'Given Data '!C$17 -> 1.9771174 | M28: =M10/'Given Data '!C$17 -> 1.9901108 | N28: =N10/'Given Data '!C$17 -> 2.0102173
B29: =B28+500 -> 4000 | C29: =C11/'Given Data '!C$17 -> 0.21594516 | D29: =D11/'Given Data '!C$17 -> 0.2329162 | E29: =E11/'Given Data '!C$17 -> 0.25917765 | F29: =F11/'Given Data '!C$17 -> 0.21594516 | G29: =G11/'Given Data '!C$17 -> 0.2329162 | H29: =H11/'Given Data '!C$17 -> 0.25917765 | I29: =I11/'Given Data '!C$17 -> 0.80454516 | J29: =J11/'Given Data '!C$17 -> 0.8215162 | K29: =K11/'Given Data '!C$17 -> 0.84777765 | L29: =L11/'Given Data '!C$17 -> 1.9817452 | M29: =M11/'Given Data '!C$17 -> 1.9987162 | N29: =N11/'Given Data '!C$17 -> 2.0249776
B30: =B29+500 -> 4500 | C30: =C12/'Given Data '!C$17 -> 0.22118997 | D30: =D12/'Given Data '!C$17 -> 0.24266895 | E30: =E12/'Given Data '!C$17 -> 0.27590609 | F30: =F12/'Given Data '!C$17 -> 0.22118997 | G30: =G12/'Given Data '!C$17 -> 0.24266895 | H30: =H12/'Given Data '!C$17 -> 0.27590609 | I30: =I12/'Given Data '!C$17 -> 0.80978997 | J30: =J12/'Given Data '!C$17 -> 0.83126895 | K30: =K12/'Given Data '!C$17 -> 0.86450609 | L30: =L12/'Given Data '!C$17 -> 1.98699 | M30: =M12/'Given Data '!C$17 -> 2.0084689 | N30: =N12/'Given Data '!C$17 -> 2.0417061
B31: =B30+500 -> 5000 | C31: =C13/'Given Data '!C$17 -> 0.22705181 | D31: =D13/'Given Data '!C$17 -> 0.25356907 | E31: =E13/'Given Data '!C$17 -> 0.29460258 | F31: =F13/'Given Data '!C$17 -> 0.22705181 | G31: =G13/'Given Data '!C$17 -> 0.25356907 | H31: =H13/'Given Data '!C$17 -> 0.29460258 | I31: =I13/'Given Data '!C$17 -> 0.81565181 | J31: =J13/'Given Data '!C$17 -> 0.84216907 | K31: =K13/'Given Data '!C$17 -> 0.88320258 | L31: =L13/'Given Data '!C$17 -> 1.9928518 | M31: =M13/'Given Data '!C$17 -> 2.0193691 | N31: =N13/'Given Data '!C$17 -> 2.0604026
B32: =B31+500 -> 5500 | C32: =C14/'Given Data '!C$17 -> 0.23353069 | D32: =D14/'Given Data '!C$17 -> 0.26561657 | E32: =E14/'Given Data '!C$17 -> 0.31526712 | F32: =F14/'Given Data '!C$17 -> 0.23353069 | G32: =G14/'Given Data '!C$17 -> 0.26561657 | H32: =H14/'Given Data '!C$17 -> 0.31526712 | I32: =I14/'Given Data '!C$17 -> 0.82213069 | J32: =J14/'Given Data '!C$17 -> 0.85421657 | K32: =K14/'Given Data '!C$17 -> 0.90386712 | L32: =L14/'Given Data '!C$17 -> 1.9993307 | M32: =M14/'Given Data '!C$17 -> 2.0314166 | N32: =N14/'Given Data '!C$17 -> 2.0810671
B33: =B32+500 -> 6000 | C33: =C15/'Given Data '!C$17 -> 0.24062661 | D33: =D15/'Given Data '!C$17 -> 0.27881146 | E33: =E15/'Given Data '!C$17 -> 0.33789971 | F33: =F15/'Given Data '!C$17 -> 0.24062661 | G33: =G15/'Given Data '!C$17 -> 0.27881146 | H33: =H15/'Given Data '!C$17 -> 0.33789971 | I33: =I15/'Given Data '!C$17 -> 0.82922661 | J33: =J15/'Given Data '!C$17 -> 0.86741146 | K33: =K15/'Given Data '!C$17 -> 0.92649971 | L33: =L15/'Given Data '!C$17 -> 2.0064266 | M33: =M15/'Given Data '!C$17 -> 2.0446115 | N33: =N15/'Given Data '!C$17 -> 2.1036997
B34: =B33+500 -> 6500 | C34: =C16/'Given Data '!C$17 -> 0.24833956 | D34: =D16/'Given Data '!C$17 -> 0.29315372 | E34: =E16/'Given Data '!C$17 -> 0.36250036 | F34: =F16/'Given Data '!C$17 -> 0.24833956 | G34: =G16/'Given Data '!C$17 -> 0.29315372 | H34: =H16/'Given Data '!C$17 -> 0.36250036 | I34: =I16/'Given Data '!C$17 -> 0.83693956 | J34: =J16/'Given Data '!C$17 -> 0.88175372 | K34: =K16/'Given Data '!C$17 -> 0.95110036 | L34: =L16/'Given Data '!C$17 -> 2.0141396 | M34: =M16/'Given Data '!C$17 -> 2.0589537 | N34: =N16/'Given Data '!C$17 -> 2.1283004

Sheet Simulation
A1: Simulation | G1: 1 | H1: 2 | I1: 3 | J1: 4 | K1: 5 | L1: 6 | M1: 7 | N1: 8 | O1: 9 | P1: 10 | Q1: 11 | R1: 12 | S1: 13 | T1: 14 | U1: 15 | V1: 16 | W1: 17 | X1: 18 | Y1: 19
A3: Track Layout | B3: μR Coefficient | C3: Start | D3: End | E3: Length (m) | G3: RPM | H3: Power(HP) | I3: Power(kw) | J3: Torque(Nm) | K3: BSFC | L3: Gear | M3: Sector | N3: Distance | O3: Time(s) | P3: Speed (km/h) | Q3: Speed (m/s) | R3: Acceleration(m/s2) | S3: Aero Drag(N) | T3: Rolling Resistance(N) | U3: Gradient Resistance (N) | V3: Driving Force(N) | W3: Available Acceleration(m/s) | X3: Reduced Mass | Y3: Kinetic Energy(KJ)
A4: Sector 1 | B4: 0.02 | C4: C15 | D4: C6 | E4: 1180 | G4: 1000 | H4: 0.68 | I4: =Table10[[#This Row],[Column2]]*746/1000 -> 0.50728 | J4: =60*Table10[[#This Row],[Column3]]/(2*PI()*Table10[[#This Row],[Column1]]) -> 0.0048441672 | K4: 709.8937 | L4: =IF(Simulation!Q4<='Given Data '!J$6,1,IF(AND(Simulation!Q4>'Given Data '!J$6,Simulation!Q4<='Given Data '!J$7),2,IF(Simulation!Q4>'Given Data '!J$7,3))) -> 1 | M4: 1 | N4: 0 | O4: 0 | P4: 0 | Q4: 0 | R4: =Table10[[#This Row],[Column16]]/Table10[[#This Row],[Column19]] -> 1.0197598 | S4: 0 | T4: ='Given Data '!C$22*'Given Data '!C$17*9.81 -> 102.3595 | U4: 0 | V4: ='Given Data '!C$45-(Table10[[#This Row],[Column13]]+Table10[[#This Row],[Column14]]+Table10[[#This Row],[Column15]]) -> 605.54192 | W4: =Table10[[#This Row],[Column16]]/'Given Data '!C$17 -> 1.1606868 | X4: =IF(L4=1,'Given Data '!C$55,IF(L4=2,'Given Data '!C$56,IF(L4=3,'Given Data '!C$57))) -> 593.80838 | Y4: =Table10[[#This Row],[Column19]]*Table10[[#This Row],[Column11]]^2/(2*1000) -> 0
A5: Sector 2 | B5: 0.02 | C5: C6 | D5: C11 | E5: 460 | G5: 1200 | H5: 1.03 | I5: =Table10[[#This Row],[Column2]]*746/1000 -> 0.76838 | J5: =60*Table10[[#This Row],[Column3]]/(2*PI()*Table10[[#This Row],[Column1]]) -> 0.0061145738 | K5: 738.1738 | L5: =IF(Simulation!Q5<='Given Data '!J$6,1,IF(AND(Simulation!Q5>'Given Data '!J$6,Simulation!Q5<='Given Data '!J$7),2,IF(Simulation!Q5>'Given Data '!J$7,3))) -> 1 | M5: 1 | N5: =N4+1 -> 1 | O5: =O4+(Table10[[#This Row],[Column11]]-Q4)/R4 -> 1.400445 | P5: =3.6*Table10[[#This Row],[Column11]] -> 5.141223 | Q5: =SQRT(2*R4+Q4^2) -> 1.4281175 | R5: =Table10[[#This Row],[Column16]]/Table10[[#This Row],[Column19]] -> 1.0165304 | S5: ='Given Data '!C$21*'Given Data '!C$19*'Given Data '!C$9*Table10[[#This Row],[Column11]]^2 -> 1.9176622 | T5: ='Given Data '!C$22*'Given Data '!C$17*9.81 -> 102.3595 | U5: 0 | V5: ='Given Data '!C$45-(Table10[[#This Row],[Column13]]+Table10[[#This Row],[Column14]]+Table10[[#This Row],[Column15]]) -> 603.62425 | W5: =Table10[[#This Row],[Column16]]/'Given Data '!C$17 -> 1.1570111 | X5: =IF(L5=1,'Given Data '!C$55,IF(L5=2,'Given Data '!C$56,IF(L5=3,'Given Data '!C$57))) -> 593.80838 | Y5: =Table10[[#This Row],[Column19]]*Table10[[#This Row],[Column11]]^2/(2*1000) -> 0.60554192
A6: Sector 3 | B6: 0.08 | C6: C11 | D6: C13 | E6: 300 | G6: 1400 | H6: 1.39 | I6: =Table10[[#This Row],[Column2]]*746/1000 -> 1.03694 | J6: =60*Table10[[#This Row],[Column3]]/(2*PI()*Table10[[#This Row],[Column1]]) -> 0.0070728911 | K6: 698.9772 | L6: =IF(Simulation!Q6<='Given Data '!J$6,1,IF(AND(Simulation!Q6>'Given Data '!J$6,Simulation!Q6<='Given Data '!J$7),2,IF(Simulation!Q6>'Given Data '!J$7,3))) -> 1 | M6: 1 | N6: =N5+1 -> 2 | O6: =O5+(Table10[[#This Row],[Column11]]-Q5)/R5 -> 1.9807975 | P6: =3.6*Table10[[#This Row],[Column11]] -> 7.2650287 | Q6: =SQRT(2*R5+Q5^2) -> 2.0180635 | R6: =Table10[[#This Row],[Column16]]/Table10[[#This Row],[Column19]] -> 1.0133112 | S6: ='Given Data '!C$21*'Given Data '!C$19*'Given Data '!C$9*Table10[[#This Row],[Column11]]^2 -> 3.8292514 | T6: ='Given Data '!C$22*'Given Data '!C$17*9.81 -> 102.3595 | U6: 0 | V6: ='Given Data '!C$45-(Table10[[#This Row],[Column13]]+Table10[[#This Row],[Column14]]+Table10[[#This Row],[Column15]]) -> 601.71266 | W6: =Table10[[#This Row],[Column16]]/'Given Data '!C$17 -> 1.153347 | X6: =IF(L6=1,'Given Data '!C$55,IF(L6=2,'Given Data '!C$56,IF(L6=3,'Given Data '!C$57))) -> 593.80838 | Y6: =Table10[[#This Row],[Column19]]*Table10[[#This Row],[Column11]]^2/(2*1000) -> 1.2091662
A7: Sector 4 | B7: 0.2 | C7: C13 | D7: C15 | E7: 160 | G7: 1900 | H7: 2.92 | I7: =Table10[[#This Row],[Column2]]*746/1000 -> 2.17832 | J7: =60*Table10[[#This Row],[Column3]]/(2*PI()*Table10[[#This Row],[Column1]]) -> 0.010948118 | K7: 671.425 | L7: =IF(Simulation!Q7<='Given Data '!J$6,1,IF(AND(Simulation!Q7>'Given Data '!J$6,Simulation!Q7<='Given Data '!J$7),2,IF(Simulation!Q7>'Given Data '!J$7,3))) -> 1 | M7: 1 | N7: =N6+1 -> 3 | O7: =O6+(Table10[[#This Row],[Column11]]-Q6)/R6 -> 2.4264582 | P7: =3.6*Table10[[#This Row],[Column11]] -> 8.890763 | Q7: =SQRT(2*R6+Q6^2) -> 2.4696564 | R7: =Table10[[#This Row],[Column16]]/Table10[[#This Row],[Column19]] -> 1.0101022 | S7: ='Given Data '!C$21*'Given Data '!C$19*'Given Data '!C$9*Table10[[#This Row],[Column11]]^2 -> 5.734787 | T7: ='Given Data '!C$22*'Given Data '!C$17*9.81 -> 102.3595 | U7: 0 | V7: ='Given Data '!C$45-(Table10[[#This Row],[Column13]]+Table10[[#This Row],[Column14]]+Table10[[#This Row],[Column15]]) -> 599.80713 | W7: =Table10[[#This Row],[Column16]]/'Given Data '!C$17 -> 1.1496945 | X7: =IF(L7=1,'Given Data '!C$55,IF(L7=2,'Given Data '!C$56,IF(L7=3,'Given Data '!C$57))) -> 593.80838 | Y7: =Table10[[#This Row],[Column19]]*Table10[[#This Row],[Column11]]^2/(2*1000) -> 1.8108788
A8: Toatl Length | E8: =SUM(E4:E7) -> 2100 | G8: 2300 | H8: 4.24 | I8: =Table10[[#This Row],[Column2]]*746/1000 -> 3.16304 | J8: =60*Table10[[#This Row],[Column3]]/(2*PI()*Table10[[#This Row],[Column1]]) -> 0.013132525 | K8: 537.86 | L8: =IF(Simulation!Q8<='Given Data '!J$6,1,IF(AND(Simulation!Q8>'Given Data '!J$6,Simulation!Q8<='Given Data '!J$7),2,IF(Simulation!Q8>'Given Data '!J$7,3))) -> 1 | M8: 1 | N8: =N7+1 -> 4 | O8: =O7+(Table10[[#This Row],[Column11]]-Q7)/R7 -> 2.8024606 | P8: =3.6*Table10[[#This Row],[Column11]] -> 10.258046 | Q8: =SQRT(2*R7+Q7^2) -> 2.8494573 | R8: =Table10[[#This Row],[Column16]]/Table10[[#This Row],[Column19]] -> 1.0069033 | S8: ='Given Data '!C$21*'Given Data '!C$19*'Given Data '!C$9*Table10[[#This Row],[Column11]]^2 -> 7.6342879 | T8: ='Given Data '!C$22*'Given Data '!C$17*9.81 -> 102.3595 | U8: 0 | V8: ='Given Data '!C$45-(Table10[[#This Row],[Column13]]+Table10[[#This Row],[Column14]]+Table10[[#This Row],[Column15]]) -> 597.90763 | W8: =Table10[[#This Row],[Column16]]/'Given Data '!C$17 -> 1.1460536 | X8: =IF(L8=1,'Given Data '!C$55,IF(L8=2,'Given Data '!C$56,IF(L8=3,'Given Data '!C$57))) -> 593.80838 | Y8: =Table10[[#This Row],[Column19]]*Table10[[#This Row],[Column11]]^2/(2*1000) -> 2.410686
G9: 2500 | H9: 5.24 | I9: =Table10[[#This Row],[Column2]]*746/1000 -> 3.90904 | J9: =60*Table10[[#This Row],[Column3]]/(2*PI()*Table10[[#This Row],[Column1]]) -> 0.014931433 | K9: 519.9 | L9: =IF(Simulation!Q9<='Given Data '!J$6,1,IF(AND(Simulation!Q9>'Given Data '!J$6,Simulation!Q9<='Given Data '!J$7),2,IF(Simulation!Q9>'Given Data '!J$7,3))) -> 1 | M9: 1 | N9: =N8+1 -> 5 | O9: =O8+(Table10[[#This Row],[Column11]]-Q8)/R8 -> 3.1339856 | P9: =3.6*Table10[[#This Row],[Column11]] -> 11.459775 | Q9: =SQRT(2*R8+Q8^2) -> 3.1832709 | R9: =Table10[[#This Row],[Column16]]/Table10[[#This Row],[Column19]] -> 1.0037146 | S9: ='Given Data '!C$21*'Given Data '!C$19*'Given Data '!C$9*Table10[[#This Row],[Column11]]^2 -> 9.5277735 | T9: ='Given Data '!C$22*'Given Data '!C$17*9.81 -> 102.3595 | U9: 0 | V9: ='Given Data '!C$45-(Table10[[#This Row],[Column13]]+Table10[[#This Row],[Column14]]+Table10[[#This Row],[Column15]]) -> 596.01414 | W9: =Table10[[#This Row],[Column16]]/'Given Data '!C$17 -> 1.1424242 | X9: =IF(L9=1,'Given Data '!C$55,IF(L9=2,'Given Data '!C$56,IF(L9=3,'Given Data '!C$57))) -> 593.80838 | Y9: =Table10[[#This Row],[Column19]]*Table10[[#This Row],[Column11]]^2/(2*1000) -> 3.0085936
G10: 2700 | H10: 5.93 | I10: =Table10[[#This Row],[Column2]]*746/1000 -> 4.42378 | J10: =60*Table10[[#This Row],[Column3]]/(2*PI()*Table10[[#This Row],[Column1]]) -> 0.015645921 | K10: 516.02 | L10: =IF(Simulation!Q10<='Given Data '!J$6,1,IF(AND(Simulation!Q10>'Given Data '!J$6,Simulation!Q10<='Given Data '!J$7),2,IF(Simulation!Q10>'Given Data '!J$7,3))) -> 1 | M10: 1 | N10: =N9+1 -> 6 | O10: =O9+(Table10[[#This Row],[Column11]]-Q9)/R9 -> 3.433943 | P10: =3.6*Table10[[#This Row],[Column11]] -> 12.543633 | Q10: =SQRT(2*R9+Q9^2) -> 3.4843425 | R10: =Table10[[#This Row],[Column16]]/Table10[[#This Row],[Column19]] -> 1.000536 | S10: ='Given Data '!C$21*'Given Data '!C$19*'Given Data '!C$9*Table10[[#This Row],[Column11]]^2 -> 11.415263 | T10: ='Given Data '!C$22*'Given Data '!C$17*9.81 -> 102.3595 | U10: 0 | V10: ='Given Data '!C$45-(Table10[[#This Row],[Column13]]+Table10[[#This Row],[Column14]]+Table10[[#This Row],[Column15]]) -> 594.12665 | W10: =Table10[[#This Row],[Column16]]/'Given Data '!C$17 -> 1.1388063 | X10: =IF(L10=1,'Given Data '!C$55,IF(L10=2,'Given Data '!C$56,IF(L10=3,'Given Data '!C$57))) -> 593.80838 | Y10: =Table10[[#This Row],[Column19]]*Table10[[#This Row],[Column11]]^2/(2*1000) -> 3.6046077
G11: 3000 | H11: 7.17 | I11: =Table10[[#This Row],[Column2]]*746/1000 -> 5.34882 | J11: =60*Table10[[#This Row],[Column3]]/(2*PI()*Table10[[#This Row],[Column1]]) -> 0.017025823 | K11: 504.2 | L11: =IF(Simulation!Q11<='Given Data '!J$6,1,IF(AND(Simulation!Q11>'Given Data '!J$6,Simulation!Q11<='Given Data '!J$7),2,IF(Simulation!Q11>'Given Data '!J$7,3))) -> 1 | M11: 1 | N11: =N10+1 -> 7 | O11: =O10+(Table10[[#This Row],[Column11]]-Q10)/R10 -> 3.7099997 | P11: =3.6*Table10[[#This Row],[Column11]] -> 13.53797 | Q11: =SQRT(2*R10+Q10^2) -> 3.7605472 | R11: =Table10[[#This Row],[Column16]]/Table10[[#This Row],[Column19]] -> 0.99736744 | S11: ='Given Data '!C$21*'Given Data '!C$19*'Given Data '!C$9*Table10[[#This Row],[Column11]]^2 -> 13.296774 | T11: ='Given Data '!C$22*'Given Data '!C$17*9.81 -> 102.3595 | U11: 0 | V11: ='Given Data '!C$45-(Table10[[#This Row],[Column13]]+Table10[[#This Row],[Column14]]+Table10[[#This Row],[Column15]]) -> 592.24514 | W11: =Table10[[#This Row],[Column16]]/'Given Data '!C$17 -> 1.1351999 | X11: =IF(L11=1,'Given Data '!C$55,IF(L11=2,'Given Data '!C$56,IF(L11=3,'Given Data '!C$57))) -> 593.80838 | Y11: =Table10[[#This Row],[Column19]]*Table10[[#This Row],[Column11]]^2/(2*1000) -> 4.1987344
G12: 3200 | H12: 8.03 | I12: =Table10[[#This Row],[Column2]]*746/1000 -> 5.99038 | J12: =60*Table10[[#This Row],[Column3]]/(2*PI()*Table10[[#This Row],[Column1]]) -> 0.017876224 | K12: 498.7 | L12: =IF(Simulation!Q12<='Given Data '!J$6,1,IF(AND(Simulation!Q12>'Given Data '!J$6,Simulation!Q12<='Given Data '!J$7),2,IF(Simulation!Q12>'Given Data '!J$7,3))) -> 1 | M12: 1 | N12: =N11+1 -> 8 | O12: =O11+(Table10[[#This Row],[Column11]]-Q11)/R11 -> 3.9671495 | P12: =3.6*Table10[[#This Row],[Column11]] -> 14.461272 | Q12: =SQRT(2*R11+Q11^2) -> 4.01702 | R12: =Table10[[#This Row],[Column16]]/Table10[[#This Row],[Column19]] -> 0.99420893 | S12: ='Given Data '!C$21*'Given Data '!C$19*'Given Data '!C$9*Table10[[#This Row],[Column11]]^2 -> 15.172328 | T12: ='Given Data '!C$22*'Given Data '!C$17*9.81 -> 102.3595 | U12: 0 | V12: ='Given Data '!C$45-(Table10[[#This Row],[Column13]]+Table10[[#This Row],[Column14]]+Table10[[#This Row],[Column15]]) -> 590.36959 | W12: =Table10[[#This Row],[Column16]]/'Given Data '!C$17 -> 1.1316049 | X12: =IF(L12=1,'Given Data '!C$55,IF(L12=2,'Given Data '!C$56,IF(L12=3,'Given Data '!C$57))) -> 593.80838 | Y12: =Table10[[#This Row],[Column19]]*Table10[[#This Row],[Column11]]^2/(2*1000) -> 4.7909795
G13: 3400 | H13: 8.96 | I13: =Table10[[#This Row],[Column2]]*746/1000 -> 6.68416 | J13: =60*Table10[[#This Row],[Column3]]/(2*PI()*Table10[[#This Row],[Column1]]) -> 0.018773243 | K13: 493.2 | L13: =IF(Simulation!Q13<='Given Data '!J$6,1,IF(AND(Simulation!Q13>'Given Data '!J$6,Simulation!Q13<='Given Data '!J$7),2,IF(Simulation!Q13>'Given Data '!J$7,3))) -> 1 | M13: 1 | N13: =N12+1 -> 9 | O13: =O12+(Table10[[#This Row],[Column11]]-Q12)/R12 -> 4.2088603 | P13: =3.6*Table10[[#This Row],[Column11]] -> 15.326392 | Q13: =SQRT(2*R12+Q12^2) -> 4.257331 | R13: =Table10[[#This Row],[Column16]]/Table10[[#This Row],[Column19]] -> 0.99106041 | S13: ='Given Data '!C$21*'Given Data '!C$19*'Given Data '!C$9*Table10[[#This Row],[Column11]]^2 -> 17.041941 | T13: ='Given Data '!C$22*'Given Data '!C$17*9.81 -> 102.3595 | U13: 0 | V13: ='Given Data '!C$45-(Table10[[#This Row],[Column13]]+Table10[[#This Row],[Column14]]+Table10[[#This Row],[Column15]]) -> 588.49997 | W13: =Table10[[#This Row],[Column16]]/'Given Data '!C$17 -> 1.1280213 | X13: =IF(L13=1,'Given Data '!C$55,IF(L13=2,'Given Data '!C$56,IF(L13=3,'Given Data '!C$57))) -> 593.80838 | Y13: =Table10[[#This Row],[Column19]]*Table10[[#This Row],[Column11]]^2/(2*1000) -> 5.3813491
G14: 3600 | H14: 9.64 | I14: =Table10[[#This Row],[Column2]]*746/1000 -> 7.19144 | J14: =60*Table10[[#This Row],[Column3]]/(2*PI()*Table10[[#This Row],[Column1]]) -> 0.019075887 | K14: 487.6 | L14: =IF(Simulation!Q14<='Given Data '!J$6,1,IF(AND(Simulation!Q14>'Given Data '!J$6,Simulation!Q14<='Given Data '!J$7),2,IF(Simulation!Q14>'Given Data '!J$7,3))) -> 1 | M14: 1 | N14: =N13+1 -> 10 | O14: =O13+(Table10[[#This Row],[Column11]]-Q13)/R13 -> 4.4376563 | P14: =3.6*Table10[[#This Row],[Column11]] -> 16.142694 | Q14: =SQRT(2*R13+Q13^2) -> 4.4840817 | R14: =Table10[[#This Row],[Column16]]/Table10[[#This Row],[Column19]] -> 0.98792187 | S14: ='Given Data '!C$21*'Given Data '!C$19*'Given Data '!C$9*Table10[[#This Row],[Column11]]^2 -> 18.905634 | T14: ='Given Data '!C$22*'Given Data '!C$17*9.81 -> 102.3595 | U14: 0 | V14: ='Given Data '!C$45-(Table10[[#This Row],[Column13]]+Table10[[#This Row],[Column14]]+Table10[[#This Row],[Column15]]) -> 586.63628 | W14: =Table10[[#This Row],[Column16]]/'Given Data '!C$17 -> 1.124449 | X14: =IF(L14=1,'Given Data '!C$55,IF(L14=2,'Given Data '!C$56,IF(L14=3,'Given Data '!C$57))) -> 593.80838 | Y14: =Table10[[#This Row],[Column19]]*Table10[[#This Row],[Column11]]^2/(2*1000) -> 5.9698491
G15: 3800 | H15: 10.07 | I15: =Table10[[#This Row],[Column2]]*746/1000 -> 7.51222 | J15: =60*Table10[[#This Row],[Column3]]/(2*PI()*Table10[[#This Row],[Column1]]) -> 0.018878004 | K15: 488.4 | L15: =IF(Simulation!Q15<='Given Data '!J$6,1,IF(AND(Simulation!Q15>'Given Data '!J$6,Simulation!Q15<='Given Data '!J$7),2,IF(Simulation!Q15>'Given Data '!J$7,3))) -> 1 | M15: 1 | N15: =N14+1 -> 11 | O15: =O14+(Table10[[#This Row],[Column11]]-Q14)/R14 -> 4.6554424 | P15: =3.6*Table10[[#This Row],[Column11]] -> 16.917255 | Q15: =SQRT(2*R14+Q14^2) -> 4.6992374 | R15: =Table10[[#This Row],[Column16]]/Table10[[#This Row],[Column19]] -> 0.98479327 | S15: ='Given Data '!C$21*'Given Data '!C$19*'Given Data '!C$9*Table10[[#This Row],[Column11]]^2 -> 20.763425 | T15: ='Given Data '!C$22*'Given Data '!C$17*9.81 -> 102.3595 | U15: 0 | V15: ='Given Data '!C$45-(Table10[[#This Row],[Column13]]+Table10[[#This Row],[Column14]]+Table10[[#This Row],[Column15]]) -> 584.77849 | W15: =Table10[[#This Row],[Column16]]/'Given Data '!C$17 -> 1.120888 | X15: =IF(L15=1,'Given Data '!C$55,IF(L15=2,'Given Data '!C$56,IF(L15=3,'Given Data '!C$57))) -> 593.80838 | Y15: =Table10[[#This Row],[Column19]]*Table10[[#This Row],[Column11]]^2/(2*1000) -> 6.5564854
G16: 3900 | H16: 10.28 | I16: =Table10[[#This Row],[Column2]]*746/1000 -> 7.66888 | J16: =60*Table10[[#This Row],[Column3]]/(2*PI()*Table10[[#This Row],[Column1]]) -> 0.018777541 | K16: 488.4 | L16: =IF(Simulation!Q16<='Given Data '!J$6,1,IF(AND(Simulation!Q16>'Given Data '!J$6,Simulation!Q16<='Given Data '!J$7),2,IF(Simulation!Q16>'Given Data '!J$7,3))) -> 1 | M16: 1 | N16: =N15+1 -> 12 | O16: =O15+(Table10[[#This Row],[Column11]]-Q15)/R15 -> 4.8636985 | P16: =3.6*Table10[[#This Row],[Column11]] -> 17.655576 | Q16: =SQRT(2*R15+Q15^2) -> 4.9043265 | R16: =Table10[[#This Row],[Column16]]/Table10[[#This Row],[Column19]] -> 0.98167457 | S16: ='Given Data '!C$21*'Given Data '!C$19*'Given Data '!C$9*Table10[[#This Row],[Column11]]^2 -> 22.615332 | T16: ='Given Data '!C$22*'Given Data '!C$17*9.81 -> 102.3595 | U16: 0 | V16: ='Given Data '!C$45-(Table10[[#This Row],[Column13]]+Table10[[#This Row],[Column14]]+Table10[[#This Row],[Column15]]) -> 582.92658 | W16: =Table10[[#This Row],[Column16]]/'Given Data '!C$17 -> 1.1173383 | X16: =IF(L16=1,'Given Data '!C$55,IF(L16=2,'Given Data '!C$56,IF(L16=3,'Given Data '!C$57))) -> 593.80838 | Y16: =Table10[[#This Row],[Column19]]*Table10[[#This Row],[Column11]]^2/(2*1000) -> 7.1412639
G17: 4000 | H17: 10.86 | I17: =Table10[[#This Row],[Column2]]*746/1000 -> 8.10156 | J17: =60*Table10[[#This Row],[Column3]]/(2*PI()*Table10[[#This Row],[Column1]]) -> 0.01934105 | K17: 482.7 | L17: =IF(Simulation!Q17<='Given Data '!J$6,1,IF(AND(Simulation!Q17>'Given Data '!J$6,Simulation!Q17<='Given Data '!J$7),2,IF(Simulation!Q17>'Given Data '!J$7,3))) -> 1 | M17: 1 | N17: =N16+1 -> 13 | O17: =O16+(Table10[[#This Row],[Column11]]-Q16)/R16 -> 5.0636007 | P17: =3.6*Table10[[#This Row],[Column11]] -> 18.362036 | Q17: =SQRT(2*R16+Q16^2) -> 5.1005655 | R17: =Table10[[#This Row],[Column16]]/Table10[[#This Row],[Column19]] -> 0.97856575 | S17: ='Given Data '!C$21*'Given Data '!C$19*'Given Data '!C$9*Table10[[#This Row],[Column11]]^2 -> 24.461375 | T17: ='Given Data '!C$22*'Given Data '!C$17*9.81 -> 102.3595 | U17: 0 | V17: ='Given Data '!C$45-(Table10[[#This Row],[Column13]]+Table10[[#This Row],[Column14]]+Table10[[#This Row],[Column15]]) -> 581.08054 | W17: =Table10[[#This Row],[Column16]]/'Given Data '!C$17 -> 1.1137999 | X17: =IF(L17=1,'Given Data '!C$55,IF(L17=2,'Given Data '!C$56,IF(L17=3,'Given Data '!C$57))) -> 593.80838 | Y17: =Table10[[#This Row],[Column19]]*Table10[[#This Row],[Column11]]^2/(2*1000) -> 7.7241904
G18: 4200 | H18: 12.04 | I18: =Table10[[#This Row],[Column2]]*746/1000 -> 8.98184 | J18: =60*Table10[[#This Row],[Column3]]/(2*PI()*Table10[[#This Row],[Column1]]) -> 0.020421489 | K18: 479.7 | L18: =IF(Simulation!Q18<='Given Data '!J$6,1,IF(AND(Simulation!Q18>'Given Data '!J$6,Simulation!Q18<='Given Data '!J$7),2,IF(Simulation!Q18>'Given Data '!J$7,3))) -> 1 | M18: 1 | N18: =N17+1 -> 14 | O18: =O17+(Table10[[#This Row],[Column11]]-Q17)/R17 -> 5.2561026 | P18: =3.6*Table10[[#This Row],[Column11]] -> 19.040188 | Q18: =SQRT(2*R17+Q17^2) -> 5.2889412 | R18: =Table10[[#This Row],[Column16]]/Table10[[#This Row],[Column19]] -> 0.97546678 | S18: ='Given Data '!C$21*'Given Data '!C$19*'Given Data '!C$9*Table10[[#This Row],[Column11]]^2 -> 26.301572 | T18: ='Given Data '!C$22*'Given Data '!C$17*9.81 -> 102.3595 | U18: 0 | V18: ='Given Data '!C$45-(Table10[[#This Row],[Column13]]+Table10[[#This Row],[Column14]]+Table10[[#This Row],[Column15]]) -> 579.24034 | W18: =Table10[[#This Row],[Column16]]/'Given Data '!C$17 -> 1.1102726 | X18: =IF(L18=1,'Given Data '!C$55,IF(L18=2,'Given Data '!C$56,IF(L18=3,'Given Data '!C$57))) -> 593.80838 | Y18: =Table10[[#This Row],[Column19]]*Table10[[#This Row],[Column11]]^2/(2*1000) -> 8.305271
G19: 4300 | H19: 12.63 | I19: =Table10[[#This Row],[Column2]]*746/1000 -> 9.42198 | J19: =60*Table10[[#This Row],[Column3]]/(2*PI()*Table10[[#This Row],[Column1]]) -> 0.020924019 | K19: 491.4 | L19: =IF(Simulation!Q19<='Given Data '!J$6,1,IF(AND(Simulation!Q19>'Given Data '!J$6,Simulation!Q19<='Given Data '!J$7),2,IF(Simulation!Q19>'Given Data '!J$7,3))) -> 1 | M19: 1 | N19: =N18+1 -> 15 | O19: =O18+(Table10[[#This Row],[Column11]]-Q18)/R18 -> 5.4419898 | P19: =3.6*Table10[[#This Row],[Column11]] -> 19.692965 | Q19: =SQRT(2*R18+Q18^2) -> 5.4702681 | R19: =Table10[[#This Row],[Column16]]/Table10[[#This Row],[Column19]] -> 0.97237762 | S19: ='Given Data '!C$21*'Given Data '!C$19*'Given Data '!C$9*Table10[[#This Row],[Column11]]^2 -> 28.135941 | T19: ='Given Data '!C$22*'Given Data '!C$17*9.81 -> 102.3595 | U19: 0 | V19: ='Given Data '!C$45-(Table10[[#This Row],[Column13]]+Table10[[#This Row],[Column14]]+Table10[[#This Row],[Column15]]) -> 577.40597 | W19: =Table10[[#This Row],[Column16]]/'Given Data '!C$17 -> 1.1067566 | X19: =IF(L19=1,'Given Data '!C$55,IF(L19=2,'Given Data '!C$56,IF(L19=3,'Given Data '!C$57))) -> 593.80838 | Y19: =Table10[[#This Row],[Column19]]*Table10[[#This Row],[Column11]]^2/(2*1000) -> 8.8845113
G20: 4400 | H20: 13.22 | I20: =Table10[[#This Row],[Column2]]*746/1000 -> 9.86212 | J20: =60*Table10[[#This Row],[Column3]]/(2*PI()*Table10[[#This Row],[Column1]]) -> 0.021403707 | K20: 483.6 | L20: =IF(Simulation!Q20<='Given Data '!J$6,1,IF(AND(Simulation!Q20>'Given Data '!J$6,Simulation!Q20<='Given Data '!J$7),2,IF(Simulation!Q20>'Given Data '!J$7,3))) -> 1 | M20: 1 | N20: =N19+1 -> 16 | O20: =O19+(Table10[[#This Row],[Column11]]-Q19)/R19 -> 5.6219189 | P20: =3.6*Table10[[#This Row],[Column11]] -> 20.322817 | Q20: =SQRT(2*R19+Q19^2) -> 5.645227 | R20: =Table10[[#This Row],[Column16]]/Table10[[#This Row],[Column19]] -> 0.96929824 | S20: ='Given Data '!C$21*'Given Data '!C$19*'Given Data '!C$9*Table10[[#This Row],[Column11]]^2 -> 29.964501 | T20: ='Given Data '!C$22*'Given Data '!C$17*9.81 -> 102.3595 | U20: 0 | V20: ='Given Data '!C$45-(Table10[[#This Row],[Column13]]+Table10[[#This Row],[Column14]]+Table10[[#This Row],[Column15]]) -> 575.57741 | W20: =Table10[[#This Row],[Column16]]/'Given Data '!C$17 -> 1.1032516 | X20: =IF(L20=1,'Given Data '!C$55,IF(L20=2,'Given Data '!C$56,IF(L20=3,'Given Data '!C$57))) -> 593.80838 | Y20: =Table10[[#This Row],[Column19]]*Table10[[#This Row],[Column11]]^2/(2*1000) -> 9.4619173
... G27: 5300 | H27: 16.25 | I27: =Table10[[#This Row],[Column2]]*746/1000 -> 12.1225 | J27: =60*Table10[[#This Row],[Column3]]/(2*PI()*Table10[[#This Row],[Column1]]) -> 0.021841764 | K27: 470.6 | L27: =IF(Simulation!Q27<='Given Data '!J$6,1,IF(AND(Simulation!Q27>'Given Data '!J$6,Simulation!Q27<='Given Data '!J$7),2,IF(Simulation!Q27>'Given Data '!J$7,3))) -> 1 | M27: 1 | N27: =N26+1 -> 23 | O27: =O26+(Table10[[#This Row],[Column11]]-Q26)/R26 -> 6.752732 | P27: =3.6*Table10[[#This Row],[Column11]] -> 24.232712 | Q27: =SQRT(2*R26+Q26^2) -> 6.7313088 | R27: =Table10[[#This Row],[Column16]]/Table10[[#This Row],[Column19]] -> 0.94801394 | S27: ='Given Data '!C$21*'Given Data '!C$19*'Given Data '!C$9*Table10[[#This Row],[Column11]]^2 -> 42.6033 | T27: ='Given Data '!C$22*'Given Data '!C$17*9.81 -> 102.3595 | U27: 0 | V27: ='Given Data '!C$45-(Table10[[#This Row],[Column13]]+Table10[[#This Row],[Column14]]+Table10[[#This Row],[Column15]]) -> 562.93861 | W27: =Table10[[#This Row],[Column16]]/'Given Data '!C$17 -> 1.0790259 | X27: =IF(L27=1,'Given Data '!C$55,IF(L27=2,'Given Data '!C$56,IF(L27=3,'Given Data '!C$57))) -> 593.80838 | Y27: =Table10[[#This Row],[Column19]]*Table10[[#This Row],[Column11]]^2/(2*1000) -> 13.452882
