Workbook

Sheet Student Feedback
B3: MARKING CRITERIA and STUDENT FEEDBACK
B5: This section details the assessment criteria. The extent to which these are demonstrated by you determines your mark. The
B6: marks available for each criterion are shown. Lecturers will use the space provided to comment on the achievement of the
B7: task(s), including those areas in which you have performed well and areas that would benefit from development/improvement.
B9: Common Assessment Criteria Applied | J9: Marks Available | K9: Marks Awarded
B10: 1. Research-informed Literature
B11: Extent of research and/or own reading, selection of credible sources, application of appropriate referencing conventions.
B12: N/A | J12: =IF('Marking Criteria'!D76 = 0, "0", 'Marking Criteria'!D76) -> 0 | K12: =IF('Marking Criteria'!H76 = 0, "", 'Marking Criteria'!H76)
B18: 2. Knowledge and Understanding of Subject
B19: Extent of knowledge and understanding of concepts and underlying principles associated with the discipline.
B20: The design did not satisfy the requirements of 3NF. Student has failed to include all the required tables and there are errors in the design with tables not being linked appropriately through primary and foreign keys. Since the student has failed to include all the required tables, the creation of the relevant tables cannot be seen as fit for purpose. The tables failed to have appropriate links between the primary and foreign keys and this is reflected in the failure to correctly link the tables. The student provided evidence of inserting data using SQL and some evidence of amending tables to support data entry. The student demonstrated the use use of SQL to query tthe database but failed to provide evidence of the result. | J20: =IF('Marking Criteria'!D77 = 0, "", 'Marking Criteria'!D77) -> 25 | K20: =IF('Marking Criteria'!H77 = 0, "", 'Marking Criteria'!H77) -> 10
B26: 3. Analysis
B27: Analysis, evaluation and synthesis; logic, argument and judgement; analytical reflection; organisation of ideas and evidence
B28: Analysis of the scenario has been completed with the errors already identified and the database created using SQL has the same issues. The failure to include all the required entities as well as incorrect links between tables will prevent the database being used appropriately to derive information that was required from the assignment brief. The user guide failed to provide evidence of records being updated from the form in Access to the database which would have been expected. | J28: =IF('Marking Criteria'!D78 = 0, "", 'Marking Criteria'!D78) -> 20 | K28: =IF('Marking Criteria'!H78 = 0, "", 'Marking Criteria'!H78) -> 5
B34: 4. Practical Application and Deployment
B35: Deployment of methods, materials, tools and techniques; application of concepts; formulation of innovative and creative solutions to solve problems.
B36: The student has used both SQL and M/S Access in creating the solution. The student has demonstrated some grasp of SQL from creating the original database but failed to provide evidence of inserting data, inserting data amending the layout of the database. The student made appropriate use data types but failed to include properties to support data entry such as default values. The student made appropriate use of Access to complete the user interface and the required forms and reports and macros. Although the student supplied evidence of queries created in SQL he did not provide the accompanying screen captures to confirm the successful outcome from the query. | J36: =IF('Marking Criteria'!D79 = 0, "", 'Marking Criteria'!D79) -> 45 | K36: =IF('Marking Criteria'!H79 = 0, "", 'Marking Criteria'!H79) -> 14
B42: 5. Skills for Professional Practice
B43: Attributes in professional practice: individual and collaborative working; deployment of appropriate media; presentation and organisation.
B44: The report would have benefitted from a better layout with a contents sheet for the completed report and not just the user guide, an introduction page numbers and headers and footers it also lacked detail in areas. | J44: =IF('Marking Criteria'!D80 = 0, "", 'Marking Criteria'!D80) -> 10 | K44: =IF('Marking Criteria'!H80 = 0, "", 'Marking Criteria'!H80) -> 2
B51: Assignment Mark (Assessment marks are subject to ratification at the Exam | H51: Late Submission Penalties (tick if appropriate) | J51: =IF(I52="Y",0,'Marking Criteria'!M75) -> 31
B52: Board. These comments and marks are to give feedback on module work and are for | H52: Up to one week late
B53: guidance only until they are confirmed. ) | H53: 1st/2nd/3rd attempt? | I53: 1st

Sheet Marking Criteria
B8: Assignment Marking Agreement Form (not to be seen by students)
C9: Marking scheme | I9: Marks available | J9: 1st marker | K9: 2nd marker (Sample 2nd Marking) | L9: 3rd marker (if required) | M9: ß AGREED MARK AWARDED | N9: Error ?
B10: 1 | C10: Engagement With Literature Skills
N11: =IF(J11>I11,"*",IF(K11>I11,"*",IF(L11>I11,"*"," ")))
C12: N/A | I12: 0 | N12: =IF(J12>I12,"*",IF(K12>I12,"*",IF(L12>I12,"*"," ")))
N13: =IF(J13>I13,"*",IF(K13>I13,"*",IF(L13>I13,"*"," ")))
N14: =IF(J14>I14,"*",IF(K14>I14,"*",IF(L14>I14,"*"," ")))
N15: =IF(J15>I15,"*",IF(K15>I15,"*",IF(L15>I15,"*"," ")))
N16: =IF(J16>I16,"*",IF(K16>I16,"*",IF(L16>I16,"*"," ")))
N17: =IF(J17>I17,"*",IF(K17>I17,"*",IF(L17>I17,"*"," ")))
N18: =IF(J18>I18,"*",IF(K18>I18,"*",IF(L18>I18,"*"," ")))
B19: 2 | C19: Knowledge and Understanding of subject | N19: =IF(J19>I19,"*",IF(K19>I19,"*",IF(L19>I19,"*"," ")))
N20: =IF(J20>I20,"*",IF(K20>I20,"*",IF(L20>I20,"*"," ")))
C21: Use of Appropriate Software to Create an ER Diagram With Relationships | I21: 7 | J21: 3 | K21: 3 | N21: =IF(J21>I21,"*",IF(K21>I21,"*",IF(L21>I21,"*"," ")))
N22: =IF(J22>I22,"*",IF(K22>I22,"*",IF(L22>I22,"*"," ")))
C23: Use of SQL to generate the various tables/relationships between tables as per scenario | I23: 8 | J23: 2 | K23: 2
C25: Use of SQL to insert data | I25: 3 | J25: 3 | K25: 3
C27: Use of SQL to query data | I27: 3 | J27: 1 | K27: 1
C29: Use of Forms to Create Enter Data Linked to SQL | I29: 4 | J29: 2 | K29: 1
B33: 3 | C33: Cognitive and Intellectual Skills
C35: Has the user requirements been met in the Design | I35: 8 | J35: 2 | K35: 2
C37: Database successfully created in SQL to match the Design | I37: 8 | J37: 2 | K37: 2
C39: Creation of User Guide | I39: 4 | J39: 1 | K39: 1
B44: 4 | C44: Practical Application and Deployment
C46: Database created, tables created, relationship between tables identified | I46: 6 | J46: 1 | K46: 1
C47: Attributes with table sensibly defined (data types/widths) | I47: 5 | J47: 3 | K47: 2
C48: Database Tested and altered accordingly | I48: 5 | J48: 3 | K48: 2
C49: Evidence of Data Manipulation | I49: 2 | J49: 0 | K49: 0
C50: Data inserted into database tables | I50: 3 | J50: 3 | K50: 3
C53: Generation of queries that cover:
C54: Single Table (With justification) | I54: 4 | J54: 0 | K54: 0
C56: Interface and Reports (M/S Access)
C58: Link SQL with M/S Access | I58: 3 | J58: 3 | K58: 3
C59: Creation of Switchboard | I59: 2 | J59: 2 | K59: 2
C60: Creation of Master Forms | I60: 2 | J60: 0 | K60: 0
C61: Creation of Embedded Forms | I61: 2 | J61: 0 | K61: 0
C62: Creation of Reports (from queries) | I62: 2 | J62: 0 | K62: 0
C63: Produce a Calculation in a Report | I63: 3 | J63: 0 | K63: 0
C64: Creation of Reports from a Macro Query | I64: 2 | J64: 0 | K64: 0
C65: Main Menus and form navigation work together correctly | I65: 2 | J65: 2 | K65: 1
C66: Main menu to display immediately after database opens | I66: 2 | J66: 0 | K66: 0
B67: 5 | C67: Skills for Professional Practice | N67: =IF(J67>I67,"*",IF(K67>I67,"*",IF(L67>I67,"*"," ")))
N68: =IF(J68>I68,"*",IF(K68>I68,"*",IF(L68>I68,"*"," ")))
C69: Quality of Written report | I69: 10 | J69: 2 | K69: 2 | N69: =IF(J69>I69,"*",IF(K69>I69,"*",IF(L69>I69,"*"," ")))
N70: =IF(J70>I70,"*",IF(K70>I70,"*",IF(L70>I70,"*"," ")))
N71: =IF(J71>I71,"*",IF(K71>I71,"*",IF(L71>I71,"*"," ")))
N72: =IF(J72>I72,"*",IF(K72>I72,"*",IF(L72>I72,"*"," ")))
N73: =IF(J73>I73,"*",IF(K73>I73,"*",IF(L73>I73,"*"," ")))
C75: Totals | I75: =SUM(I11:I74) -> 100 | J75: =SUM(J11:J74) -> 35 | K75: =SUM(K11:K74) -> 31 | L75: =SUM(L11:L74) -> 0 | M75: =IF(L75<>0, L75,IF(K75<>0,K75,IF(J75<>0,J75,0))) -> 31
C76: Sec1 | D76: =SUM(I11:I18) -> 0 | E76: =SUM(J11:J18) -> 0 | F76: =SUM(K11:K18) -> 0 | G76: =SUM(L11:L18) -> 0 | H76: =IF(G76>0,G76,IF(F76>0,F76,IF(E76>0,E76,0))) -> 0
C77: Sec2 | D77: =SUM(I20:I32) -> 25 | E77: =SUM(J20:J32) -> 11 | F77: =SUM(K20:K32) -> 10 | G77: =SUM(L20:L32) -> 0 | H77: =IF(G77>0,G77,IF(F77>0,F77,IF(E77>0,E77,0))) -> 10
C78: Sec3 | D78: =SUM(I34:I43) -> 20 | E78: =SUM(J34:J43) -> 5 | F78: =SUM(K34:K43) -> 5 | G78: =SUM(L34:L43) -> 0 | H78: =IF(G78>0,G78,IF(F78>0,F78,IF(E78>0,E78,0))) -> 5
C79: Sec4 | D79: =SUM(I45:I66) -> 45 | E79: =SUM(J45:J66) -> 17 | F79: =SUM(K45:K66) -> 14 | G79: =SUM(L45:L66) -> 0 | H79: =IF(G79>0,G79,IF(F79>0,F79,IF(E79>0,E79,0))) -> 14
C80: Sec5 | D80: =SUM(I68:I74) -> 10 | E80: =SUM(J68:J74) -> 2 | F80: =SUM(K68:K74) -> 2 | G80: =SUM(L68:L74) -> 0 | H80: =IF(G80>0,G80,IF(F80>0,F80,IF(E80>0,E80,0))) -> 2
B81: 1st Marker Name | E81: Clive Prosser | H81: 1st Marker Signature | J81: Clive Prosser
B82: 2nd Marker Name | E82: Paul John | H82: 2nd Marker Signature | J82: Paul John
B83: 3rd Marker Name | H83: 3rd Marker Signature
B84: Reasons for awarding the final mark where there is more than one marker
B85: Type 1: second (or double) as sampling or moderation has been used
B87: Notes:
B88: 1 | C88: The 3rd marker may be used where there is more than a 10 percentage point difference (in the TOTAL mark) between markers 1 and 2 OR when it is not possible to get agreement between markers 1 and 2. Reasons must be given where an agreed mark is given.
B89: 2 | C89: This form is for internal use only and is NOT to be returned to the student. The final agreed marks must be transferred to the student feedback sheet in the assignment specification.
B90: 3 | C90: The external examiner MUST be shown this form.
