Workbook

Sheet Assignment 1
D1: Part 1 - 40% | E1: Part 2 - 60% | F1: TOTAL | G1: DD? | H1: Comment
A2: 1903410 | B2: ALAN JOHN ROBERT | C2: HATHER | D2: 39 | E2: 59 | F2: =D2+E2 -> 98
A3: 1702520 | B3: MATTHEW THOMAS | C3: HOWELLS | D3: 28 | E3: 0 | F3: =D3+E3 -> 28 | G3: 43854
A4: 1800730 | B4: CIERAN | C4: HUGHES | D4: 35 | E4: 53 | F4: =D4+E4 -> 88
A5: 1801539 | B5: LOWRI | C5: JONES | D5: 29 | E5: 19 | F5: =D5+E5 -> 48
A6: 1701698 | B6: ALEXANDRU MARIAN | C6: MARDARE | D6: 19 | E6: 8 | F6: =D6+E6 -> 27 | G6: 43854
A7: 1903706 | B7: ROSS DAVIES | C7: MEEK | D7: 36 | E7: 41 | F7: =D7+E7 -> 77
A8: 1602835 | B8: JAKE ANDREW | C8: RUSSELL | D8: 31 | E8: 51 | F8: =D8+E8 -> 82
A9: 1801495 | B9: KAI HARLEY | C9: STRAND-REGAN | D9: 32 | E9: 1 | F9: =D9+E9 -> 33
A10: 1707800 | B10: MICHAEL DAVID | C10: WAKELYN | D10: 39 | E10: 54 | F10: =D10+E10 -> 93
A11: 1704446 | B11: CHRISTINE | C11: WOODS | D11: 36 | E11: 28 | F11: =D11+E11 -> 64
E12: MEAN | F12: =AVERAGE(F2:F11) -> 63.8
B13: Pass rate | C13: =COUNTIF(F2:F11,">=40")/COUNT(F2:F11) -> 0.7 | E13: SD | F13: =STDEV(F2:F11) -> 27.784088

Sheet Assignment 2
D1: Part 1 - 50% | E1: Part 2 - 50% | F1: TOTAL | G1: DD? | H1: Comment
A2: 1903410 | B2: ALAN JOHN ROBERT | C2: HATHER | D2: 43 | E2: 46 | F2: =D2+E2 -> 89 | G2: DDA - 17/7/2020
A3: 1702520 | B3: MATTHEW THOMAS | C3: HOWELLS | D3: 31 | E3: 39 | F3: =D3+E3 -> 70 | G3: 43980
A4: 1800730 | B4: CIERAN | C4: HUGHES | D4: 48 | E4: 36.5 | F4: =D4+E4 -> 84.5
A5: 1801539 | B5: LOWRI | C5: JONES | D5: 35 | E5: 44 | F5: =D5+E5 -> 79
A6: 1701698 | B6: ALEXANDRU MARIAN | C6: MARDARE | D6: 14 | E6: 6 | F6: =D6+E6 -> 20 | G6: 43980
A7: 1903706 | B7: ROSS DAVIES | C7: MEEK | D7: 30 | E7: 38.5 | F7: =D7+E7 -> 68.5
A8: 1602835 | B8: JAKE ANDREW | C8: RUSSELL | D8: 48 | E8: 26 | F8: =D8+E8 -> 74
A9: 1801495 | B9: KAI HARLEY | C9: STRAND-REGAN | D9: 44 | E9: 36 | F9: =D9+E9 -> 80
A10: 1707800 | B10: MICHAEL DAVID | C10: WAKELYN | D10: 49 | E10: 49 | F10: =D10+E10 -> 98
A11: 1704446 | B11: CHRISTINE | C11: WOODS | D11: 46 | E11: 32 | F11: =D11+E11 -> 78
E12: MEAN | F12: =AVERAGE(F2:F11) -> 74.1
B13: Pass rate | C13: =COUNTIF(F2:F11,">=40")/COUNT(F2:F11) -> 0.9 | E13: SD | F13: =STDEV(F2:F11) -> 20.950736

Sheet Overall
D1: Assignment 1 | E1: Assignment 2 | F1: OVERALL
A2: 1903410 | B2: ALAN JOHN ROBERT | C2: HATHER | D2: ='Assignment 1'!F2 -> 98 | E2: ='Assignment 2'!F2 -> 89 | F2: =(D2+E2)/2 -> 93.5
A3: 1702520 | B3: MATTHEW THOMAS | C3: HOWELLS | D3: ='Assignment 1'!F3 -> 28 | E3: ='Assignment 2'!F3 -> 70 | F3: =(D3+E3)/2 -> 49
A4: 1800730 | B4: CIERAN | C4: HUGHES | D4: ='Assignment 1'!F4 -> 88 | E4: ='Assignment 2'!F4 -> 84.5 | F4: =(D4+E4)/2 -> 86.25
A5: 1801539 | B5: LOWRI | C5: JONES | D5: ='Assignment 1'!F5 -> 48 | E5: ='Assignment 2'!F5 -> 79 | F5: =(D5+E5)/2 -> 63.5
A6: 1701698 | B6: ALEXANDRU MARIAN | C6: MARDARE | D6: ='Assignment 1'!F6 -> 27 | E6: ='Assignment 2'!F6 -> 20 | F6: =(D6+E6)/2 -> 23.5
A7: 1903706 | B7: ROSS DAVIES | C7: MEEK | D7: ='Assignment 1'!F7 -> 77 | E7: ='Assignment 2'!F7 -> 68.5 | F7: =(D7+E7)/2 -> 72.75
A8: 1602835 | B8: JAKE ANDREW | C8: RUSSELL | D8: ='Assignment 1'!F8 -> 82 | E8: ='Assignment 2'!F8 -> 74 | F8: =(D8+E8)/2 -> 78
A9: 1801495 | B9: KAI HARLEY | C9: STRAND-REGAN | D9: ='Assignment 1'!F9 -> 33 | E9: ='Assignment 2'!F9 -> 80 | F9: =(D9+E9)/2 -> 56.5
A10: 1707800 | B10: MICHAEL DAVID | C10: WAKELYN | D10: ='Assignment 1'!F10 -> 93 | E10: ='Assignment 2'!F10 -> 98 | F10: =(D10+E10)/2 -> 95.5
A11: 1704446 | B11: CHRISTINE | C11: WOODS | D11: ='Assignment 1'!F11 -> 64 | E11: ='Assignment 2'!F11 -> 78 | F11: =(D11+E11)/2 -> 71
E12: MEAN | F12: =AVERAGE(F2:F11) -> 68.95
B13: Pass rate | C13: =COUNTIF(F2:F11,">=40")/COUNT(F2:F11) -> 0.9 | E13: SD | F13: =STDEV(F2:F11) -> 21.999621
