Workbook

Sheet Part 1
B2: Fuel | C2: % | D2: RMM | E2: % Mass
B3: Methanol | C3: 50 | D3: 32 | E3: =D3/($D$3+$D$4)*100 -> 21.917808 | H3: mass of 1 kmol of fuel (kg) | I3: =D3+D4 -> 146
B4: Isooctane | C4: 50 | D4: 114 | E4: =D4/($D$3+$D$4)*100 -> 78.082192 | H4: mass of CO2 produced in 1 kmol of fuel (kg) | I4: =9*44 -> 396
B6: Air RMM | C6: =14*((2*16)+(3.76*2*14)) -> 1921.92 | H6: mass of CO2 produced per kg of fuel (kg) | I6: =I4/I3 -> 2.7123288
B7: Air:Fuel by Mass | C7: =C6/(D3+D4) -> 13.163836
B9: Enthalpies of Formation (MJ)
B10: C8H18 | C10: 259.2
B11: CH3OH | C11: 201.5
B12: CO2 | C12: =9*393.5 -> 3541.5
B13: H2O (g) | C13: =11*241.8 -> 2659.8
B14: N2 | C14: =53.64*0 -> 0
B15: Air Mixture | C15: =14*0 -> 0
B16: Products | C16: =C14+C13+C12 -> 6201.3
B17: Reactants | C17: =C11+C10 -> 460.7
B18: Total Enthalpy of Formation | C18: =C16-C17 -> 5740.6
B20: LHV (MJ/kg) | C20: =C18/(D3+D4) -> 39.319178

Sheet CO2
B3: Temp (K) | C3: Enthalpy (MJ/kmol) | D3: Enthalpy (kJ/kmol) | F3: Temp (K) | G3: Calc Enthalpy (MJ/kmol) | H3: Calc Enthalpy (kJ/kmol)
B4: 298 | C4: 0 | D4: =C4*1000 -> 0 | F4: 298 | G4: =0.000002545829609*F4^2 + 0.048927429665575*F4 - 17.0296119562392 -> -2.2231581 | H4: =G4*1000 -> -2223.1581
B5: 300 | C5: 0.07 | D5: =C5*1000 -> 70 | F5: 300 | G5: =0.000002545829609*F5^2 + 0.048927429665575*F5 - 17.0296119562392 -> -2.1222584 | H5: =G5*1000 -> -2122.2584
B6: 350 | C6: 1.99 | D6: =C6*1000 -> 1990 | F6: 310 | G6: =0.000002545829609*F6^2 + 0.048927429665575*F6 - 17.0296119562392 -> -1.6174545 | H6: =G6*1000 -> -1617.4545
B7: 400 | C7: 4 | D7: =C7*1000 -> 4000 | F7: 320 | G7: =0.000002545829609*F7^2 + 0.048927429665575*F7 - 17.0296119562392 -> -1.1121415 | H7: =G7*1000 -> -1112.1415
B8: 450 | C8: 6.11 | D8: =C8*1000 -> 6110 | F8: 330 | G8: =0.000002545829609*F8^2 + 0.048927429665575*F8 - 17.0296119562392 -> -0.60631932 | H8: =G8*1000 -> -606.31932
B9: 500 | C9: 8.3 | D9: =C9*1000 -> 8300 | F9: 340 | G9: =0.000002545829609*F9^2 + 0.048927429665575*F9 - 17.0296119562392 -> -0.099987967 | H9: =G9*1000 -> -99.987967
B10: 550 | C10: 10.56 | D10: =C10*1000 -> 10560 | F10: 350 | G10: =0.000002545829609*F10^2 + 0.048927429665575*F10 - 17.0296119562392 -> 0.40685255 | H10: =G10*1000 -> 406.85255
B11: 600 | C11: 12.9 | D11: =C11*1000 -> 12900 | F11: 360 | G11: =0.000002545829609*F11^2 + 0.048927429665575*F11 - 17.0296119562392 -> 0.91420224 | H11: =G11*1000 -> 914.20224
B12: 650 | C12: 15.29 | D12: =C12*1000 -> 15290 | F12: 370 | G12: =0.000002545829609*F12^2 + 0.048927429665575*F12 - 17.0296119562392 -> 1.4220611 | H12: =G12*1000 -> 1422.0611
B13: 700 | C13: 17.75 | D13: =C13*1000 -> 17750 | F13: 380 | G13: =0.000002545829609*F13^2 + 0.048927429665575*F13 - 17.0296119562392 -> 1.9304291 | H13: =G13*1000 -> 1930.4291
B14: 750 | C14: 20.25 | D14: =C14*1000 -> 20250 | F14: 390 | G14: =0.000002545829609*F14^2 + 0.048927429665575*F14 - 17.0296119562392 -> 2.4393063 | H14: =G14*1000 -> 2439.3063
B15: 800 | C15: 22.81 | D15: =C15*1000 -> 22810 | F15: 400 | G15: =0.000002545829609*F15^2 + 0.048927429665575*F15 - 17.0296119562392 -> 2.9486926 | H15: =G15*1000 -> 2948.6926
... B69: 3500 | C69: 184.11 | D69: =C69*1000 -> 184110 | F69: 940 | G69: =0.000002545829609*F69^2 + 0.048927429665575*F69 - 17.0296119562392 -> 31.211667 | H69: =G69*1000 -> 31211.667
F70: 950 | G70: =0.000002545829609*F70^2 + 0.048927429665575*F70 - 17.0296119562392 -> 31.749057 | H70: =G70*1000 -> 31749.057
F71: 960 | G71: =0.000002545829609*F71^2 + 0.048927429665575*F71 - 17.0296119562392 -> 32.286957 | H71: =G71*1000 -> 32286.957
F72: 970 | G72: =0.000002545829609*F72^2 + 0.048927429665575*F72 - 17.0296119562392 -> 32.825366 | H72: =G72*1000 -> 32825.366
F73: 980 | G73: =0.000002545829609*F73^2 + 0.048927429665575*F73 - 17.0296119562392 -> 33.364284 | H73: =G73*1000 -> 33364.284
F74: 990 | G74: =0.000002545829609*F74^2 + 0.048927429665575*F74 - 17.0296119562392 -> 33.903711 | H74: =G74*1000 -> 33903.711
F75: 1000 | G75: =0.000002545829609*F75^2 + 0.048927429665575*F75 - 17.0296119562392 -> 34.443647 | H75: =G75*1000 -> 34443.647
F76: 1010 | G76: =0.000002545829609*F76^2 + 0.048927429665575*F76 - 17.0296119562392 -> 34.984093 | H76: =G76*1000 -> 34984.093
F77: 1020 | G77: =0.000002545829609*F77^2 + 0.048927429665575*F77 - 17.0296119562392 -> 35.525047 | H77: =G77*1000 -> 35525.047
F78: 1030 | G78: =0.000002545829609*F78^2 + 0.048927429665575*F78 - 17.0296119562392 -> 36.066511 | H78: =G78*1000 -> 36066.511
F79: 1040 | G79: =0.000002545829609*F79^2 + 0.048927429665575*F79 - 17.0296119562392 -> 36.608484 | H79: =G79*1000 -> 36608.484
F80: 1050 | G80: =0.000002545829609*F80^2 + 0.048927429665575*F80 - 17.0296119562392 -> 37.150966 | H80: =G80*1000 -> 37150.966
F81: 1060 | G81: =0.000002545829609*F81^2 + 0.048927429665575*F81 - 17.0296119562392 -> 37.693958 | H81: =G81*1000 -> 37693.958
... F325: 3500 | G325: =0.000002545829609*F325^2 + 0.048927429665575*F325 - 17.0296119562392 -> 185.4028 | H325: =G325*1000 -> 185402.8

Sheet H2O
B3: Temp (K) | C3: Enthalpy (MJ/kmol) | D3: Enthalpy (kJ/kmol) | F3: Temp (K) | G3: Calc Enthalpy (MJ/kmol) | H3: Calc Enthalpy (kJ/kmol)
B4: 298 | C4: 0 | D4: =C4*1000 -> 0 | F4: 298 | G4: =0.000003854204489*F4^2 + 0.034398646956786*F4 - 11.6102355293121 -> -1.01717 | H4: =G4*1000 -> -1017.17
B5: 300 | C5: 0.06 | D5: =C5*1000 -> 60 | F5: 300 | G5: =0.000003854204489*F5^2 + 0.034398646956786*F5 - 11.6102355293121 -> -0.94376304 | H5: =G5*1000 -> -943.76304
B6: 350 | C6: 1.75 | D6: =C6*1000 -> 1750 | F6: 310 | G6: =0.000003854204489*F6^2 + 0.034398646956786*F6 - 11.6102355293121 -> -0.57626592 | H6: =G6*1000 -> -576.26592
B7: 400 | C7: 3.46 | D7: =C7*1000 -> 3460 | F7: 320 | G7: =0.000003854204489*F7^2 + 0.034398646956786*F7 - 11.6102355293121 -> -0.20799796 | H7: =G7*1000 -> -207.99796
B8: 450 | C8: 5.19 | D8: =C8*1000 -> 5190 | F8: 330 | G8: =0.000003854204489*F8^2 + 0.034398646956786*F8 - 11.6102355293121 -> 0.16104084 | H8: =G8*1000 -> 161.04084
B9: 500 | C9: 6.95 | D9: =C9*1000 -> 6950 | F9: 340 | G9: =0.000003854204489*F9^2 + 0.034398646956786*F9 - 11.6102355293121 -> 0.53085047 | H9: =G9*1000 -> 530.85047
B10: 550 | C10: 8.73 | D10: =C10*1000 -> 8730 | F10: 350 | G10: =0.000003854204489*F10^2 + 0.034398646956786*F10 - 11.6102355293121 -> 0.90143096 | H10: =G10*1000 -> 901.43096
B11: 600 | C11: 10.53 | D11: =C11*1000 -> 10530 | F11: 360 | G11: =0.000003854204489*F11^2 + 0.034398646956786*F11 - 11.6102355293121 -> 1.2727823 | H11: =G11*1000 -> 1272.7823
B12: 650 | C12: 12.35 | D12: =C12*1000 -> 12350 | F12: 370 | G12: =0.000003854204489*F12^2 + 0.034398646956786*F12 - 11.6102355293121 -> 1.6449044 | H12: =G12*1000 -> 1644.9044
B13: 700 | C13: 14.21 | D13: =C13*1000 -> 14210 | F13: 380 | G13: =0.000003854204489*F13^2 + 0.034398646956786*F13 - 11.6102355293121 -> 2.0177974 | H13: =G13*1000 -> 2017.7974
B14: 750 | C14: 16.09 | D14: =C14*1000 -> 16090 | F14: 390 | G14: =0.000003854204489*F14^2 + 0.034398646956786*F14 - 11.6102355293121 -> 2.3914613 | H14: =G14*1000 -> 2391.4613
B15: 800 | C15: 18 | D15: =C15*1000 -> 18000 | F15: 400 | G15: =0.000003854204489*F15^2 + 0.034398646956786*F15 - 11.6102355293121 -> 2.765896 | H15: =G15*1000 -> 2765.896
... B69: 3500 | C69: 154.79 | D69: =C69*1000 -> 154790 | F69: 940 | G69: =0.000003854204489*F69^2 + 0.034398646956786*F69 - 11.6102355293121 -> 24.130068 | H69: =G69*1000 -> 24130.068
F70: 950 | G70: =0.000003854204489*F70^2 + 0.034398646956786*F70 - 11.6102355293121 -> 24.546899 | H70: =G70*1000 -> 24546.899
F71: 960 | G71: =0.000003854204489*F71^2 + 0.034398646956786*F71 - 11.6102355293121 -> 24.9645 | H71: =G71*1000 -> 24964.5
F72: 970 | G72: =0.000003854204489*F72^2 + 0.034398646956786*F72 - 11.6102355293121 -> 25.382873 | H72: =G72*1000 -> 25382.873
F73: 980 | G73: =0.000003854204489*F73^2 + 0.034398646956786*F73 - 11.6102355293121 -> 25.802016 | H73: =G73*1000 -> 25802.016
F74: 990 | G74: =0.000003854204489*F74^2 + 0.034398646956786*F74 - 11.6102355293121 -> 26.221931 | H74: =G74*1000 -> 26221.931
F75: 1000 | G75: =0.000003854204489*F75^2 + 0.034398646956786*F75 - 11.6102355293121 -> 26.642616 | H75: =G75*1000 -> 26642.616
F76: 1010 | G76: =0.000003854204489*F76^2 + 0.034398646956786*F76 - 11.6102355293121 -> 27.064072 | H76: =G76*1000 -> 27064.072
F77: 1020 | G77: =0.000003854204489*F77^2 + 0.034398646956786*F77 - 11.6102355293121 -> 27.486299 | H77: =G77*1000 -> 27486.299
F78: 1030 | G78: =0.000003854204489*F78^2 + 0.034398646956786*F78 - 11.6102355293121 -> 27.909296 | H78: =G78*1000 -> 27909.296
F79: 1040 | G79: =0.000003854204489*F79^2 + 0.034398646956786*F79 - 11.6102355293121 -> 28.333065 | H79: =G79*1000 -> 28333.065
F80: 1050 | G80: =0.000003854204489*F80^2 + 0.034398646956786*F80 - 11.6102355293121 -> 28.757604 | H80: =G80*1000 -> 28757.604
F81: 1060 | G81: =0.000003854204489*F81^2 + 0.034398646956786*F81 - 11.6102355293121 -> 29.182914 | H81: =G81*1000 -> 29182.914
... F325: 3500 | G325: =0.000003854204489*F325^2 + 0.034398646956786*F325 - 11.6102355293121 -> 155.99903 | H325: =G325*1000 -> 155999.03

Sheet N2
B3: Temp (K) | C3: Enthalpy (MJ/kmol) | D3: Enthalpy (kJ/kmol) | F3: Temp (K) | G3: Calc Enthalpy (MJ/kmol) | H3: Calc Enthalpy (kJ/kmol)
B4: 298 | C4: 0 | D4: =C4*1000 -> 0 | F4: 298 | G4: =0.000001244348025*F4^2 + 0.030404396664125*F4 - 9.79556018722852 -> -0.6245469 | H4: =G4*1000 -> -624.5469
B5: 300 | C5: 0.05 | D5: =C5*1000 -> 50 | F5: 300 | G5: =0.000001244348025*F5^2 + 0.030404396664125*F5 - 9.79556018722852 -> -0.56224987 | H5: =G5*1000 -> -562.24987
B6: 350 | C6: 1.51 | D6: =C6*1000 -> 1510 | F6: 310 | G6: =0.000001244348025*F6^2 + 0.030404396664125*F6 - 9.79556018722852 -> -0.25061538 | H6: =G6*1000 -> -250.61538
B7: 400 | C7: 2.97 | D7: =C7*1000 -> 2970 | F7: 320 | G7: =0.000001244348025*F7^2 + 0.030404396664125*F7 - 9.79556018722852 -> 0.061267983 | H7: =G7*1000 -> 61.267983
B8: 450 | C8: 4.44 | D8: =C8*1000 -> 4440 | F8: 330 | G8: =0.000001244348025*F8^2 + 0.030404396664125*F8 - 9.79556018722852 -> 0.37340021 | H8: =G8*1000 -> 373.40021
B9: 500 | C9: 5.92 | D9: =C9*1000 -> 5920 | F9: 340 | G9: =0.000001244348025*F9^2 + 0.030404396664125*F9 - 9.79556018722852 -> 0.68578131 | H9: =G9*1000 -> 685.78131
B10: 550 | C10: 7.41 | D10: =C10*1000 -> 7410 | F10: 350 | G10: =0.000001244348025*F10^2 + 0.030404396664125*F10 - 9.79556018722852 -> 0.99841128 | H10: =G10*1000 -> 998.41128
B11: 600 | C11: 8.9 | D11: =C11*1000 -> 8900 | F11: 360 | G11: =0.000001244348025*F11^2 + 0.030404396664125*F11 - 9.79556018722852 -> 1.3112901 | H11: =G11*1000 -> 1311.2901
B12: 650 | C12: 10.42 | D12: =C12*1000 -> 10420 | F12: 370 | G12: =0.000001244348025*F12^2 + 0.030404396664125*F12 - 9.79556018722852 -> 1.6244178 | H12: =G12*1000 -> 1624.4178
B13: 700 | C13: 11.94 | D13: =C13*1000 -> 11940 | F13: 380 | G13: =0.000001244348025*F13^2 + 0.030404396664125*F13 - 9.79556018722852 -> 1.9377944 | H13: =G13*1000 -> 1937.7944
B14: 750 | C14: 13.48 | D14: =C14*1000 -> 13480 | F14: 390 | G14: =0.000001244348025*F14^2 + 0.030404396664125*F14 - 9.79556018722852 -> 2.2514198 | H14: =G14*1000 -> 2251.4198
B15: 800 | C15: 15.04 | D15: =C15*1000 -> 15040 | F15: 400 | G15: =0.000001244348025*F15^2 + 0.030404396664125*F15 - 9.79556018722852 -> 2.5652942 | H15: =G15*1000 -> 2565.2942
... B69: 3500 | C69: 111.31 | D69: =C69*1000 -> 111310 | F69: 940 | G69: =0.000001244348025*F69^2 + 0.030404396664125*F69 - 9.79556018722852 -> 19.884079 | H69: =G69*1000 -> 19884.079
F70: 950 | G70: =0.000001244348025*F70^2 + 0.030404396664125*F70 - 9.79556018722852 -> 20.211641 | H70: =G70*1000 -> 20211.641
F71: 960 | G71: =0.000001244348025*F71^2 + 0.030404396664125*F71 - 9.79556018722852 -> 20.539452 | H71: =G71*1000 -> 20539.452
F72: 970 | G72: =0.000001244348025*F72^2 + 0.030404396664125*F72 - 9.79556018722852 -> 20.867512 | H72: =G72*1000 -> 20867.512
F73: 980 | G73: =0.000001244348025*F73^2 + 0.030404396664125*F73 - 9.79556018722852 -> 21.19582 | H73: =G73*1000 -> 21195.82
F74: 990 | G74: =0.000001244348025*F74^2 + 0.030404396664125*F74 - 9.79556018722852 -> 21.524378 | H74: =G74*1000 -> 21524.378
F75: 1000 | G75: =0.000001244348025*F75^2 + 0.030404396664125*F75 - 9.79556018722852 -> 21.853185 | H75: =G75*1000 -> 21853.185
F76: 1010 | G76: =0.000001244348025*F76^2 + 0.030404396664125*F76 - 9.79556018722852 -> 22.18224 | H76: =G76*1000 -> 22182.24
F77: 1020 | G77: =0.000001244348025*F77^2 + 0.030404396664125*F77 - 9.79556018722852 -> 22.511544 | H77: =G77*1000 -> 22511.544
F78: 1030 | G78: =0.000001244348025*F78^2 + 0.030404396664125*F78 - 9.79556018722852 -> 22.841097 | H78: =G78*1000 -> 22841.097
F79: 1040 | G79: =0.000001244348025*F79^2 + 0.030404396664125*F79 - 9.79556018722852 -> 23.170899 | H79: =G79*1000 -> 23170.899
F80: 1050 | G80: =0.000001244348025*F80^2 + 0.030404396664125*F80 - 9.79556018722852 -> 23.50095 | H80: =G80*1000 -> 23500.95
F81: 1060 | G81: =0.000001244348025*F81^2 + 0.030404396664125*F81 - 9.79556018722852 -> 23.83125 | H81: =G81*1000 -> 23831.25
... F325: 3500 | G325: =0.000001244348025*F325^2 + 0.030404396664125*F325 - 9.79556018722852 -> 111.86309 | H325: =G325*1000 -> 111863.09

Sheet O2
B3: Temp (K) | C3: Enthalpy (MJ/kmol) | D3: Enthalpy (kJ/kmol) | F3: Temp (K) | G3: Calc Enthalpy (MJ/kmol) | H3: Calc Enthalpy (kJ/kmol)
B4: 298 | C4: 0 | D4: =C4*1000 -> 0 | F4: 298 | G4: =0.000001425377114*F4^2 + 0.031786970059931*F4 - 10.2147910519178 -> -0.61569478 | H4: =G4*1000 -> -615.69478
B5: 300 | C5: 0.05 | D5: =C5*1000 -> 50 | F5: 300 | G5: =0.000001425377114*F5^2 + 0.031786970059931*F5 - 10.2147910519178 -> -0.55041609 | H5: =G5*1000 -> -550.41609
B6: 350 | C6: 1.53 | D6: =C6*1000 -> 1530 | F6: 310 | G6: =0.000001425377114*F6^2 + 0.031786970059931*F6 - 10.2147910519178 -> -0.22385159 | H6: =G6*1000 -> -223.85159
B7: 400 | C7: 3.03 | D7: =C7*1000 -> 3030 | F7: 320 | G7: =0.000001425377114*F7^2 + 0.031786970059931*F7 - 10.2147910519178 -> 0.10299798 | H7: =G7*1000 -> 102.99798
B8: 450 | C8: 4.55 | D8: =C8*1000 -> 4550 | F8: 330 | G8: =0.000001425377114*F8^2 + 0.031786970059931*F8 - 10.2147910519178 -> 0.43013264 | H8: =G8*1000 -> 430.13264
B9: 500 | C9: 6.1 | D9: =C9*1000 -> 6100 | F9: 340 | G9: =0.000001425377114*F9^2 + 0.031786970059931*F9 - 10.2147910519178 -> 0.75755236 | H9: =G9*1000 -> 757.55236
B10: 550 | C10: 7.66 | D10: =C10*1000 -> 7660 | F10: 350 | G10: =0.000001425377114*F10^2 + 0.031786970059931*F10 - 10.2147910519178 -> 1.0852572 | H10: =G10*1000 -> 1085.2572
B11: 600 | C11: 9.25 | D11: =C11*1000 -> 9250 | F11: 360 | G11: =0.000001425377114*F11^2 + 0.031786970059931*F11 - 10.2147910519178 -> 1.413247 | H11: =G11*1000 -> 1413.247
B12: 650 | C12: 10.87 | D12: =C12*1000 -> 10870 | F12: 370 | G12: =0.000001425377114*F12^2 + 0.031786970059931*F12 - 10.2147910519178 -> 1.741522 | H12: =G12*1000 -> 1741.522
B13: 700 | C13: 12.5 | D13: =C13*1000 -> 12500 | F13: 380 | G13: =0.000001425377114*F13^2 + 0.031786970059931*F13 - 10.2147910519178 -> 2.070082 | H13: =G13*1000 -> 2070.082
B14: 750 | C14: 14.16 | D14: =C14*1000 -> 14160 | F14: 390 | G14: =0.000001425377114*F14^2 + 0.031786970059931*F14 - 10.2147910519178 -> 2.3989271 | H14: =G14*1000 -> 2398.9271
B15: 800 | C15: 15.84 | D15: =C15*1000 -> 15840 | F15: 400 | G15: =0.000001425377114*F15^2 + 0.031786970059931*F15 - 10.2147910519178 -> 2.7280573 | H15: =G15*1000 -> 2728.0573
... B69: 3500 | C69: 118.17 | D69: =C69*1000 -> 118170 | F69: 940 | G69: =0.000001425377114*F69^2 + 0.031786970059931*F69 - 10.2147910519178 -> 20.924424 | H69: =G69*1000 -> 20924.424
F70: 950 | G70: =0.000001425377114*F70^2 + 0.031786970059931*F70 - 10.2147910519178 -> 21.269233 | H70: =G70*1000 -> 21269.233
F71: 960 | G71: =0.000001425377114*F71^2 + 0.031786970059931*F71 - 10.2147910519178 -> 21.614328 | H71: =G71*1000 -> 21614.328
F72: 970 | G72: =0.000001425377114*F72^2 + 0.031786970059931*F72 - 10.2147910519178 -> 21.959707 | H72: =G72*1000 -> 21959.707
F73: 980 | G73: =0.000001425377114*F73^2 + 0.031786970059931*F73 - 10.2147910519178 -> 22.305372 | H73: =G73*1000 -> 22305.372
F74: 990 | G74: =0.000001425377114*F74^2 + 0.031786970059931*F74 - 10.2147910519178 -> 22.651321 | H74: =G74*1000 -> 22651.321
F75: 1000 | G75: =0.000001425377114*F75^2 + 0.031786970059931*F75 - 10.2147910519178 -> 22.997556 | H75: =G75*1000 -> 22997.556
F76: 1010 | G76: =0.000001425377114*F76^2 + 0.031786970059931*F76 - 10.2147910519178 -> 23.344076 | H76: =G76*1000 -> 23344.076
F77: 1020 | G77: =0.000001425377114*F77^2 + 0.031786970059931*F77 - 10.2147910519178 -> 23.690881 | H77: =G77*1000 -> 23690.881
F78: 1030 | G78: =0.000001425377114*F78^2 + 0.031786970059931*F78 - 10.2147910519178 -> 24.037971 | H78: =G78*1000 -> 24037.971
F79: 1040 | G79: =0.000001425377114*F79^2 + 0.031786970059931*F79 - 10.2147910519178 -> 24.385346 | H79: =G79*1000 -> 24385.346
F80: 1050 | G80: =0.000001425377114*F80^2 + 0.031786970059931*F80 - 10.2147910519178 -> 24.733006 | H80: =G80*1000 -> 24733.006
F81: 1060 | G81: =0.000001425377114*F81^2 + 0.031786970059931*F81 - 10.2147910519178 -> 25.080951 | H81: =G81*1000 -> 25080.951
... F325: 3500 | G325: =0.000001425377114*F325^2 + 0.031786970059931*F325 - 10.2147910519178 -> 118.50047 | H325: =G325*1000 -> 118500.47

Sheet Goal Seek
B3: Phi | C3: Enthalpy | D3: CO2 (n1) | E3: H2O (n2) | F3: O2 (n3) | G3: N2 (n4) | H3: [O2] | I3: [N2] | J3: Alpha | K3: Flame Temp (K) | N3: Goal Seek | T3: Standard Enthalpies (MJ)
B4: 1 | C4: =((D4*$X$5)+(E4*$X$6)+(G4*$X$7)+(F4*$X$8))-(B4*$X$4) -> 5065 | D4: =8*B4 -> 8 | E4: =9*B4 -> 9 | F4: =12.5*(1-B4) -> 0 | G4: =47 -> 47 | H4: =(F4*J4)/($F$20*10^-6) -> 0 | I4: =(G4*J4)/($F$20*10^-6) -> 0.12756303 | J4: =$F$25/(B4+(12.5*4.76)) -> 1.0856428e-07 | K4: 2496.895 | N4: Temp | O4: =((($U$21-$Y$21)*($V$19-$Z$18))/($V$18-$Z$18))+$Y$21 -> 2496.8947 | T4: C8H18 | X4: 259.2
B5: 0.99 | C5: =((D5*$X$5)+(E5*$X$6)+(G5*$X$7)+(F5*$X$8))-(B5*$X$4) -> 5014.35 | D5: =8*B5 -> 7.92 | E5: =9*B5 -> 8.91 | F5: =12.5*(1-B5) -> 0.125 | G5: =47 -> 47 | H5: =(F5*J5)/($F$20*10^-6) -> 0.00033931947 | I5: =(G5*J5)/($F$20*10^-6) -> 0.12758412 | J5: =$F$25/(B5+(12.5*4.76)) -> 1.0858223e-07 | K5: 2411.061 | T5: CO2 | X5: 393.5
B6: 0.98 | C6: =((D6*$X$5)+(E6*$X$6)+(G6*$X$7)+(F6*$X$8))-(B6*$X$4) -> 4963.7 | D6: =8*B6 -> 7.84 | E6: =9*B6 -> 8.82 | F6: =12.5*(1-B6) -> 0.25 | G6: =47 -> 47 | H6: =(F6*J6)/($F$20*10^-6) -> 0.00067875115 | I6: =(G6*J6)/($F$20*10^-6) -> 0.12760522 | J6: =$F$25/(B6+(12.5*4.76)) -> 1.0860018e-07 | K6: 2394.993 | T6: H2O (g) | X6: 241.8
B7: 0.97 | C7: =((D7*$X$5)+(E7*$X$6)+(G7*$X$7)+(F7*$X$8))-(B7*$X$4) -> 4913.05 | D7: =8*B7 -> 7.76 | E7: =9*B7 -> 8.73 | F7: =12.5*(1-B7) -> 0.375 | G7: =47 -> 47 | H7: =(F7*J7)/($F$20*10^-6) -> 0.0010182951 | I7: =(G7*J7)/($F$20*10^-6) -> 0.12762632 | J7: =$F$25/(B7+(12.5*4.76)) -> 1.0861814e-07 | K7: 2378.924 | T7: N2 | X7: 0
B8: 0.96 | C8: =((D8*$X$5)+(E8*$X$6)+(G8*$X$7)+(F8*$X$8))-(B8*$X$4) -> 4862.4 | D8: =8*B8 -> 7.68 | E8: =9*B8 -> 8.64 | F8: =12.5*(1-B8) -> 0.5 | G8: =47 -> 47 | H8: =(F8*J8)/($F$20*10^-6) -> 0.0013579514 | I8: =(G8*J8)/($F$20*10^-6) -> 0.12764743 | J8: =$F$25/(B8+(12.5*4.76)) -> 1.0863611e-07 | K8: 2362.691 | T8: O2 | X8: 0
B9: 0.95 | C9: =((D9*$X$5)+(E9*$X$6)+(G9*$X$7)+(F9*$X$8))-(B9*$X$4) -> 4811.75 | D9: =8*B9 -> 7.6 | E9: =9*B9 -> 8.55 | F9: =12.5*(1-B9) -> 0.625 | G9: =47 -> 47 | H9: =(F9*J9)/($F$20*10^-6) -> 0.00169772 | I9: =(G9*J9)/($F$20*10^-6) -> 0.12766854 | J9: =$F$25/(B9+(12.5*4.76)) -> 1.0865408e-07 | K9: 2346.455
B10: 0.9 | C10: =((D10*$X$5)+(E10*$X$6)+(G10*$X$7)+(F10*$X$8))-(B10*$X$4) -> 4558.5 | D10: =8*B10 -> 7.2 | E10: =9*B10 -> 8.1 | F10: =12.5*(1-B10) -> 1.25 | G10: =47 -> 47 | H10: =(F10*J10)/($F$20*10^-6) -> 0.0033982508 | I10: =(G10*J10)/($F$20*10^-6) -> 0.12777423 | J10: =$F$25/(B10+(12.5*4.76)) -> 1.0874402e-07 | K10: 2263.841
B11: 0.85 | C11: =((D11*$X$5)+(E11*$X$6)+(G11*$X$7)+(F11*$X$8))-(B11*$X$4) -> 4305.25 | D11: =8*B11 -> 6.8 | E11: =9*B11 -> 7.65 | F11: =12.5*(1-B11) -> 1.875 | G11: =47 -> 47 | H11: =(F11*J11)/($F$20*10^-6) -> 0.0051015993 | I11: =(G11*J11)/($F$20*10^-6) -> 0.12788009 | J11: =$F$25/(B11+(12.5*4.76)) -> 1.0883412e-07 | K11: 2179.047 | T11: Selection Table 1 (Higher Temp) | X11: Selection Table 2 (Lower Temp)
B12: 0.8 | C12: =((D12*$X$5)+(E12*$X$6)+(G12*$X$7)+(F12*$X$8))-(B12*$X$4) -> 4052 | D12: =8*B12 -> 6.4 | E12: =9*B12 -> 7.2 | F12: =12.5*(1-B12) -> 2.5 | G12: =47 -> 47 | H12: =(F12*J12)/($F$20*10^-6) -> 0.0068077727 | I12: =(G12*J12)/($F$20*10^-6) -> 0.12798613 | J12: =$F$25/(B12+(12.5*4.76)) -> 1.0892436e-07 | K12: 2091.999 | T12: Compound | U12: Enthalpy | V12: Multiplier | X12: Compound | Y12: Enthalpy | Z12: Multiplier
B13: 0.75 | C13: =((D13*$X$5)+(E13*$X$6)+(G13*$X$7)+(F13*$X$8))-(B13*$X$4) -> 3798.75 | D13: =8*B13 -> 6 | E13: =9*B13 -> 6.75 | F13: =12.5*(1-B13) -> 3.125 | G13: =47 -> 47 | H13: =(F13*J13)/($F$20*10^-6) -> 0.0085167779 | I13: =(G13*J13)/($F$20*10^-6) -> 0.12809234 | J13: =$F$25/(B13+(12.5*4.76)) -> 1.0901476e-07 | K13: 2002.682 | T13: CO2 | U13: =VLOOKUP($U$21,'CO2'!$F$4:$G$325,2,FALSE) -> 115.67193 | V13: =VLOOKUP($U$20,B4:K16,3,FALSE) -> 8 | X13: CO2 | Y13: =VLOOKUP($Y$21,'CO2'!$F$4:$G$325,2,FALSE) -> 115.0602 | Z13: =VLOOKUP($Y$20,B4:K16,3,FALSE) -> 8
B14: 0.7 | C14: =((D14*$X$5)+(E14*$X$6)+(G14*$X$7)+(F14*$X$8))-(B14*$X$4) -> 3545.5 | D14: =8*B14 -> 5.6 | E14: =9*B14 -> 6.3 | F14: =12.5*(1-B14) -> 3.75 | G14: =47 -> 47 | H14: =(F14*J14)/($F$20*10^-6) -> 0.010228622 | I14: =(G14*J14)/($F$20*10^-6) -> 0.12819873 | J14: =$F$25/(B14+(12.5*4.76)) -> 1.091053e-07 | K14: 1910.939 | T14: H2O | U14: =VLOOKUP($U$21,H2O!$F$4:$G$325,2,FALSE) -> 93.676109 | V14: =VLOOKUP($U$20,B4:K16,4,FALSE) -> 9 | X14: H2O | Y14: =VLOOKUP($Y$21,H2O!$F$4:$G$325,2,FALSE) -> 93.146735 | Z14: =VLOOKUP($Y$20,B4:K16,4,FALSE) -> 9
B15: 0.65 | C15: =((D15*$X$5)+(E15*$X$6)+(G15*$X$7)+(F15*$X$8))-(B15*$X$4) -> 3292.25 | D15: =8*B15 -> 5.2 | E15: =9*B15 -> 5.85 | F15: =12.5*(1-B15) -> 4.375 | G15: =47 -> 47 | H15: =(F15*J15)/($F$20*10^-6) -> 0.011943312 | I15: =(G15*J15)/($F$20*10^-6) -> 0.12830529 | J15: =$F$25/(B15+(12.5*4.76)) -> 1.09196e-07 | K15: 1816.684 | T15: N2 | U15: =VLOOKUP($U$21,'N2'!$F$4:$G$325,2,FALSE) -> 70.706334 | V15: =VLOOKUP($U$20,B4:K16,6,FALSE) -> 47 | X15: N2 | Y15: =VLOOKUP($Y$21,'N2'!$F$4:$G$325,2,FALSE) -> 70.342436 | Z15: =VLOOKUP($Y$20,B4:K16,6,FALSE) -> 47
B16: 0.6 | C16: =((D16*$X$5)+(E16*$X$6)+(G16*$X$7)+(F16*$X$8))-(B16*$X$4) -> 3039 | D16: =8*B16 -> 4.8 | E16: =9*B16 -> 5.4 | F16: =12.5*(1-B16) -> 5 | G16: =47 -> 47 | H16: =(F16*J16)/($F$20*10^-6) -> 0.013660855 | I16: =(G16*J16)/($F$20*10^-6) -> 0.12841204 | J16: =$F$25/(B16+(12.5*4.76)) -> 1.0928684e-07 | K16: 1719.826 | T16: O2 | U16: =VLOOKUP($U$21,'O2'!$F$4:$G$325,2,FALSE) -> 74.67054 | V16: =VLOOKUP($U$20,B4:K16,5,FALSE) -> 0 | X16: O2 | Y16: =VLOOKUP($Y$21,'O2'!$F$4:$G$325,2,FALSE) -> 74.284109 | Z16: =VLOOKUP($Y$20,B4:K16,5,FALSE) -> 0
T18: Total Enthalpy: | V18: =(U13*V13)+(U14*V14)+(U15*V15)+(U16*V16) -> 5091.6581 | X18: Total Enthalpy: | Z18: =(Y13*Z13)+(Y14*Z14)+(Y15*Z15)+(Y16*Z16) -> 5064.8967
B19: Engine Displacement (cc) | F19: 400 | T19: Net Enthalpy: | V19: =(8*$U$20*$X$5)+(9*$U$20*$X$6)+((12.5*(1-$U$20))*$X$8)+(47*$X$7) -> 5324.2 | X19: Net Enthalpy: | Z19: =(8*$Y$20*$X$5)+(9*$Y$20*$X$6)+((12.5*(1-$Y$20))*$X$8)+(47*$X$7) -> 5324.2
B20: Combustion Chamber Volume (cc) | F20: 40 | T20: Phi | U20: 1 | X20: Phi | Y20: 1
B21: Volumetric Efficiency (decimal) | F21: 0.4 | T21: Temp | U21: 2410 | X21: Temp | Y21: 2400
B22: Initial Air/Fuel Temp (K) | F22: 293
B23: Universal Gas Constant (J/kmol/K) | F23: 8314
B24: Atmospheric Pressure (Bar) | F24: =1*10^5 -> 100000
B25: No. Moles (kmol) | F25: =((F24)*((F19*F21)*10^-6))/(F23*F22) -> 6.5681391e-06
B26: Engine Speed (RPM) | F26: 1800
B27: Polytropic Index | F27: 1.17

Sheet Part 2a
C2: Phi | D2: 1 | F2: 0.99 | H2: 0.98 | J2: 0.97 | L2: 0.96 | N2: 0.95 | P2: 0.9 | R2: 0.85 | T2: 0.8 | V2: 0.75 | X2: 0.7 | Z2: 0.65 | AB2: 0.6
B3: Degrees | C3: Pressure (Bar) | D3: Temp (K) | E3: NOx (kmols/deg) | F3: Temp (K) | G3: NOx (kmols/deg) | H3: Temp (K) | I3: NOx (kmols/deg) | J3: Temp (K) | K3: NOx (kmols/deg) | L3: Temp (K) | M3: NOx (kmols/deg) | N3: Temp (K) | O3: NOx (kmols/deg) | P3: Temp (K) | Q3: NOx (kmols/deg) | R3: Temp (K) | S3: NOx (kmols/deg) | T3: Temp (K) | U3: NOx (kmols/deg) | V3: Temp (K) | W3: NOx (kmols/deg) | X3: Temp (K) | Y3: NOx (kmols/deg) | Z3: Temp (K) | AA3: NOx (kmols/deg) | AB3: Temp (K) | AC3: NOx (kmols/deg)
B4: 0 | C4: 10 | D4: ='Goal Seek'!K4 -> 2496.895 | E4: =(((4.7*10^13)*'Goal Seek'!$I$4*('Goal Seek'!$H$4^0.5)*EXP(-67837/'Part 2a'!D4))/('Goal Seek'!$F$26*6))*('Goal Seek'!$F$20*10^-6) -> 0 | F4: ='Goal Seek'!K5 -> 2411.061 | G4: =(((4.7*10^13)*'Goal Seek'!$I$5*('Goal Seek'!$H$5^0.5)*EXP(-67837/'Part 2a'!F4))/('Goal Seek'!$F$26*6))*('Goal Seek'!$F$20*10^-6) -> 2.4696525e-10 | H4: ='Goal Seek'!K6 -> 2394.993 | I4: =(((4.7*10^13)*'Goal Seek'!$I$6*('Goal Seek'!$H$6^0.5)*EXP(-67837/'Part 2a'!H4))/('Goal Seek'!$F$26*6))*('Goal Seek'!$F$20*10^-6) -> 2.8925441e-10 | J4: ='Goal Seek'!K7 -> 2378.924 | K4: =(((4.7*10^13)*'Goal Seek'!$I$7*('Goal Seek'!$H$7^0.5)*EXP(-67837/'Part 2a'!J4))/('Goal Seek'!$F$26*6))*('Goal Seek'!$F$20*10^-6) -> 2.926457e-10 | L4: ='Goal Seek'!K8 -> 2362.691 | M4: =(((4.7*10^13)*'Goal Seek'!$I$8*('Goal Seek'!$H$8^0.5)*EXP(-67837/'Part 2a'!L4))/('Goal Seek'!$F$26*6))*('Goal Seek'!$F$20*10^-6) -> 2.778641e-10 | N4: ='Goal Seek'!K9 -> 2346.455 | O4: =(((4.7*10^13)*'Goal Seek'!$I$9*('Goal Seek'!$H$9^0.5)*EXP(-67837/'Part 2a'!N4))/('Goal Seek'!$F$26*6))*('Goal Seek'!$F$20*10^-6) -> 2.5475052e-10 | P4: ='Goal Seek'!K10 -> 2263.841 | Q4: =(((4.7*10^13)*'Goal Seek'!$I$10*('Goal Seek'!$H$10^0.5)*EXP(-67837/'Part 2a'!P4))/('Goal Seek'!$F$26*6))*('Goal Seek'!$F$20*10^-6) -> 1.255967e-10 | R4: ='Goal Seek'!K11 -> 2179.047 | S4: =(((4.7*10^13)*'Goal Seek'!$I$11*('Goal Seek'!$H$11^0.5)*EXP(-67837/'Part 2a'!R4))/('Goal Seek'!$F$26*6))*('Goal Seek'!$F$20*10^-6) -> 4.7990124e-11 | T4: ='Goal Seek'!K12 -> 2091.999 | U4: =(((4.7*10^13)*'Goal Seek'!$I$12*('Goal Seek'!$H$12^0.5)*EXP(-67837/'Part 2a'!T4))/('Goal Seek'!$F$26*6))*('Goal Seek'!$F$20*10^-6) -> 1.5190937e-11 | V4: ='Goal Seek'!K13 -> 2002.682 | W4: =(((4.7*10^13)*'Goal Seek'!$I$13*('Goal Seek'!$H$13^0.5)*EXP(-67837/'Part 2a'!V4))/('Goal Seek'!$F$26*6))*('Goal Seek'!$F$20*10^-6) -> 4.0040992e-12 | X4: ='Goal Seek'!K14 -> 1910.939 | Y4: =(((4.7*10^13)*'Goal Seek'!$I$14*('Goal Seek'!$H$14^0.5)*EXP(-67837/'Part 2a'!X4))/('Goal Seek'!$F$26*6))*('Goal Seek'!$F$20*10^-6) -> 8.6372513e-13 | Z4: ='Goal Seek'!K15 -> 1816.684 | AA4: =(((4.7*10^13)*'Goal Seek'!$I$15*('Goal Seek'!$H$15^0.5)*EXP(-67837/'Part 2a'!Z4))/('Goal Seek'!$F$26*6))*('Goal Seek'!$F$20*10^-6) -> 1.4808202e-13 | AB4: ='Goal Seek'!K16 -> 1719.826 | AC4: =(((4.7*10^13)*'Goal Seek'!$I$16*('Goal Seek'!$H$16^0.5)*EXP(-67837/'Part 2a'!AB4))/('Goal Seek'!$F$26*6))*('Goal Seek'!$F$20*10^-6) -> 1.9351781e-14
B5: 1 | C5: 12 | D5: =(((D4^'Goal Seek'!$F$27)*(($C5*10^5)^('Goal Seek'!$F$27-1)))/(($C4*10^5)^('Goal Seek'!$F$27-1)))^(1/'Goal Seek'!$F$27) -> 2563.9246 | E5: =(((4.7*10^13)*'Goal Seek'!$I$4*('Goal Seek'!$H$4^0.5)*EXP(-67837/'Part 2a'!D5))/('Goal Seek'!$F$26*6))*('Goal Seek'!$F$20*10^-6) -> 0 | F5: =(((F4^'Goal Seek'!$F$27)*(($C5*10^5)^('Goal Seek'!$F$27-1)))/(($C4*10^5)^('Goal Seek'!$F$27-1)))^(1/'Goal Seek'!$F$27) -> 2475.7864 | G5: =(((4.7*10^13)*'Goal Seek'!$I$5*('Goal Seek'!$H$5^0.5)*EXP(-67837/'Part 2a'!F5))/('Goal Seek'!$F$26*6))*('Goal Seek'!$F$20*10^-6) -> 5.1533151e-10 | H5: =(((H4^'Goal Seek'!$F$27)*(($C5*10^5)^('Goal Seek'!$F$27-1)))/(($C4*10^5)^('Goal Seek'!$F$27-1)))^(1/'Goal Seek'!$F$27) -> 2459.287 | I5: =(((4.7*10^13)*'Goal Seek'!$I$6*('Goal Seek'!$H$6^0.5)*EXP(-67837/'Part 2a'!H5))/('Goal Seek'!$F$26*6))*('Goal Seek'!$F$20*10^-6) -> 6.0656037e-10 | J5: =(((J4^'Goal Seek'!$F$27)*(($C5*10^5)^('Goal Seek'!$F$27-1)))/(($C4*10^5)^('Goal Seek'!$F$27-1)))^(1/'Goal Seek'!$F$27) -> 2442.7866 | K5: =(((4.7*10^13)*'Goal Seek'!$I$7*('Goal Seek'!$H$7^0.5)*EXP(-67837/'Part 2a'!J5))/('Goal Seek'!$F$26*6))*('Goal Seek'!$F$20*10^-6) -> 6.1674903e-10 | L5: =(((L4^'Goal Seek'!$F$27)*(($C5*10^5)^('Goal Seek'!$F$27-1)))/(($C4*10^5)^('Goal Seek'!$F$27-1)))^(1/'Goal Seek'!$F$27) -> 2426.1179 | M5: =(((4.7*10^13)*'Goal Seek'!$I$8*('Goal Seek'!$H$8^0.5)*EXP(-67837/'Part 2a'!L5))/('Goal Seek'!$F$26*6))*('Goal Seek'!$F$20*10^-6) -> 5.8860402e-10 | N5: =(((N4^'Goal Seek'!$F$27)*(($C5*10^5)^('Goal Seek'!$F$27-1)))/(($C4*10^5)^('Goal Seek'!$F$27-1)))^(1/'Goal Seek'!$F$27) -> 2409.446 | O5: =(((4.7*10^13)*'Goal Seek'!$I$9*('Goal Seek'!$H$9^0.5)*EXP(-67837/'Part 2a'!N5))/('Goal Seek'!$F$26*6))*('Goal Seek'!$F$20*10^-6) -> 5.4245223e-10 | P5: =(((P4^'Goal Seek'!$F$27)*(($C5*10^5)^('Goal Seek'!$F$27-1)))/(($C4*10^5)^('Goal Seek'!$F$27-1)))^(1/'Goal Seek'!$F$27) -> 2324.6142 | Q5: =(((4.7*10^13)*'Goal Seek'!$I$10*('Goal Seek'!$H$10^0.5)*EXP(-67837/'Part 2a'!P5))/('Goal Seek'!$F$26*6))*('Goal Seek'!$F$20*10^-6) -> 2.7491809e-10 | R5: =(((R4^'Goal Seek'!$F$27)*(($C5*10^5)^('Goal Seek'!$F$27-1)))/(($C4*10^5)^('Goal Seek'!$F$27-1)))^(1/'Goal Seek'!$F$27) -> 2237.5439 | S5: =(((4.7*10^13)*'Goal Seek'!$I$11*('Goal Seek'!$H$11^0.5)*EXP(-67837/'Part 2a'!R5))/('Goal Seek'!$F$26*6))*('Goal Seek'!$F$20*10^-6) -> 1.0829695e-10 | T5: =(((T4^'Goal Seek'!$F$27)*(($C5*10^5)^('Goal Seek'!$F$27-1)))/(($C4*10^5)^('Goal Seek'!$F$27-1)))^(1/'Goal Seek'!$F$27) -> 2148.1591 | U5: =(((4.7*10^13)*'Goal Seek'!$I$12*('Goal Seek'!$H$12^0.5)*EXP(-67837/'Part 2a'!T5))/('Goal Seek'!$F$26*6))*('Goal Seek'!$F$20*10^-6) -> 3.5461458e-11 | V5: =(((V4^'Goal Seek'!$F$27)*(($C5*10^5)^('Goal Seek'!$F$27-1)))/(($C4*10^5)^('Goal Seek'!$F$27-1)))^(1/'Goal Seek'!$F$27) -> 2056.4444 | W5: =(((4.7*10^13)*'Goal Seek'!$I$13*('Goal Seek'!$H$13^0.5)*EXP(-67837/'Part 2a'!V5))/('Goal Seek'!$F$26*6))*('Goal Seek'!$F$20*10^-6) -> 9.7072638e-12 | X5: =(((X4^'Goal Seek'!$F$27)*(($C5*10^5)^('Goal Seek'!$F$27-1)))/(($C4*10^5)^('Goal Seek'!$F$27-1)))^(1/'Goal Seek'!$F$27) -> 1962.2385 | Y5: =(((4.7*10^13)*'Goal Seek'!$I$14*('Goal Seek'!$H$14^0.5)*EXP(-67837/'Part 2a'!X5))/('Goal Seek'!$F$26*6))*('Goal Seek'!$F$20*10^-6) -> 2.1849001e-12 | Z5: =(((Z4^'Goal Seek'!$F$27)*(($C5*10^5)^('Goal Seek'!$F$27-1)))/(($C4*10^5)^('Goal Seek'!$F$27-1)))^(1/'Goal Seek'!$F$27) -> 1865.4532 | AA5: =(((4.7*10^13)*'Goal Seek'!$I$15*('Goal Seek'!$H$15^0.5)*EXP(-67837/'Part 2a'!Z5))/('Goal Seek'!$F$26*6))*('Goal Seek'!$F$20*10^-6) -> 3.930702e-13 | AB5: =(((AB4^'Goal Seek'!$F$27)*(($C5*10^5)^('Goal Seek'!$F$27-1)))/(($C4*10^5)^('Goal Seek'!$F$27-1)))^(1/'Goal Seek'!$F$27) -> 1765.995 | AC5: =(((4.7*10^13)*'Goal Seek'!$I$16*('Goal Seek'!$H$16^0.5)*EXP(-67837/'Part 2a'!AB5))/('Goal Seek'!$F$26*6))*('Goal Seek'!$F$20*10^-6) -> 5.4270766e-14
B6: 2 | C6: 14 | D6: =(((D5^'Goal Seek'!$F$27)*(($C6*10^5)^('Goal Seek'!$F$27-1)))/(($C5*10^5)^('Goal Seek'!$F$27-1)))^(1/'Goal Seek'!$F$27) -> 2621.9992 | E6: =(((4.7*10^13)*'Goal Seek'!$I$4*('Goal Seek'!$H$4^0.5)*EXP(-67837/'Part 2a'!D6))/('Goal Seek'!$F$26*6))*('Goal Seek'!$F$20*10^-6) -> 0 | F6: =(((F5^'Goal Seek'!$F$27)*(($C6*10^5)^('Goal Seek'!$F$27-1)))/(($C5*10^5)^('Goal Seek'!$F$27-1)))^(1/'Goal Seek'!$F$27) -> 2531.8646 | G6: =(((4.7*10^13)*'Goal Seek'!$I$5*('Goal Seek'!$H$5^0.5)*EXP(-67837/'Part 2a'!F6))/('Goal Seek'!$F$26*6))*('Goal Seek'!$F$20*10^-6) -> 9.4548384e-10 | H6: =(((H5^'Goal Seek'!$F$27)*(($C6*10^5)^('Goal Seek'!$F$27-1)))/(($C5*10^5)^('Goal Seek'!$F$27-1)))^(1/'Goal Seek'!$F$27) -> 2514.9915 | I6: =(((4.7*10^13)*'Goal Seek'!$I$6*('Goal Seek'!$H$6^0.5)*EXP(-67837/'Part 2a'!H6))/('Goal Seek'!$F$26*6))*('Goal Seek'!$F$20*10^-6) -> 1.1174027e-09 | J6: =(((J5^'Goal Seek'!$F$27)*(($C6*10^5)^('Goal Seek'!$F$27-1)))/(($C5*10^5)^('Goal Seek'!$F$27-1)))^(1/'Goal Seek'!$F$27) -> 2498.1174 | K6: =(((4.7*10^13)*'Goal Seek'!$I$7*('Goal Seek'!$H$7^0.5)*EXP(-67837/'Part 2a'!J6))/('Goal Seek'!$F$26*6))*('Goal Seek'!$F$20*10^-6) -> 1.1408707e-09 | L6: =(((L5^'Goal Seek'!$F$27)*(($C6*10^5)^('Goal Seek'!$F$27-1)))/(($C5*10^5)^('Goal Seek'!$F$27-1)))^(1/'Goal Seek'!$F$27) -> 2481.0711 | M6: =(((4.7*10^13)*'Goal Seek'!$I$8*('Goal Seek'!$H$8^0.5)*EXP(-67837/'Part 2a'!L6))/('Goal Seek'!$F$26*6))*('Goal Seek'!$F$20*10^-6) -> 1.0934187e-09 | N6: =(((N5^'Goal Seek'!$F$27)*(($C6*10^5)^('Goal Seek'!$F$27-1)))/(($C5*10^5)^('Goal Seek'!$F$27-1)))^(1/'Goal Seek'!$F$27) -> 2464.0216 | O6: =(((4.7*10^13)*'Goal Seek'!$I$9*('Goal Seek'!$H$9^0.5)*EXP(-67837/'Part 2a'!N6))/('Goal Seek'!$F$26*6))*('Goal Seek'!$F$20*10^-6) -> 1.0120124e-09 | P6: =(((P5^'Goal Seek'!$F$27)*(($C6*10^5)^('Goal Seek'!$F$27-1)))/(($C5*10^5)^('Goal Seek'!$F$27-1)))^(1/'Goal Seek'!$F$27) -> 2377.2683 | Q6: =(((4.7*10^13)*'Goal Seek'!$I$10*('Goal Seek'!$H$10^0.5)*EXP(-67837/'Part 2a'!P6))/('Goal Seek'!$F$26*6))*('Goal Seek'!$F$20*10^-6) -> 5.2469967e-10 | R6: =(((R5^'Goal Seek'!$F$27)*(($C6*10^5)^('Goal Seek'!$F$27-1)))/(($C5*10^5)^('Goal Seek'!$F$27-1)))^(1/'Goal Seek'!$F$27) -> 2288.2258 | S6: =(((4.7*10^13)*'Goal Seek'!$I$11*('Goal Seek'!$H$11^0.5)*EXP(-67837/'Part 2a'!R6))/('Goal Seek'!$F$26*6))*('Goal Seek'!$F$20*10^-6) -> 2.1195662e-10 | T6: =(((T5^'Goal Seek'!$F$27)*(($C6*10^5)^('Goal Seek'!$F$27-1)))/(($C5*10^5)^('Goal Seek'!$F$27-1)))^(1/'Goal Seek'!$F$27) -> 2196.8163 | U6: =(((4.7*10^13)*'Goal Seek'!$I$12*('Goal Seek'!$H$12^0.5)*EXP(-67837/'Part 2a'!T6))/('Goal Seek'!$F$26*6))*('Goal Seek'!$F$20*10^-6) -> 7.1371048e-11 | V6: =(((V5^'Goal Seek'!$F$27)*(($C6*10^5)^('Goal Seek'!$F$27-1)))/(($C5*10^5)^('Goal Seek'!$F$27-1)))^(1/'Goal Seek'!$F$27) -> 2103.0242 | W6: =(((4.7*10^13)*'Goal Seek'!$I$13*('Goal Seek'!$H$13^0.5)*EXP(-67837/'Part 2a'!V6))/('Goal Seek'!$F$26*6))*('Goal Seek'!$F$20*10^-6) -> 2.0156256e-11 | X6: =(((X5^'Goal Seek'!$F$27)*(($C6*10^5)^('Goal Seek'!$F$27-1)))/(($C5*10^5)^('Goal Seek'!$F$27-1)))^(1/'Goal Seek'!$F$27) -> 2006.6845 | Y6: =(((4.7*10^13)*'Goal Seek'!$I$14*('Goal Seek'!$H$14^0.5)*EXP(-67837/'Part 2a'!X6))/('Goal Seek'!$F$26*6))*('Goal Seek'!$F$20*10^-6) -> 4.6987097e-12 | Z6: =(((Z5^'Goal Seek'!$F$27)*(($C6*10^5)^('Goal Seek'!$F$27-1)))/(($C5*10^5)^('Goal Seek'!$F$27-1)))^(1/'Goal Seek'!$F$27) -> 1907.707 | AA6: =(((4.7*10^13)*'Goal Seek'!$I$15*('Goal Seek'!$H$15^0.5)*EXP(-67837/'Part 2a'!Z6))/('Goal Seek'!$F$26*6))*('Goal Seek'!$F$20*10^-6) -> 8.7957056e-13 | AB6: =(((AB5^'Goal Seek'!$F$27)*(($C6*10^5)^('Goal Seek'!$F$27-1)))/(($C5*10^5)^('Goal Seek'!$F$27-1)))^(1/'Goal Seek'!$F$27) -> 1805.996 | AC6: =(((4.7*10^13)*'Goal Seek'!$I$16*('Goal Seek'!$H$16^0.5)*EXP(-67837/'Part 2a'!AB6))/('Goal Seek'!$F$26*6))*('Goal Seek'!$F$20*10^-6) -> 1.2707694e-13
B7: 3 | C7: 16 | D7: =(((D6^'Goal Seek'!$F$27)*(($C7*10^5)^('Goal Seek'!$F$27-1)))/(($C6*10^5)^('Goal Seek'!$F$27-1)))^(1/'Goal Seek'!$F$27) -> 2673.368 | E7: =(((4.7*10^13)*'Goal Seek'!$I$4*('Goal Seek'!$H$4^0.5)*EXP(-67837/'Part 2a'!D7))/('Goal Seek'!$F$26*6))*('Goal Seek'!$F$20*10^-6) -> 0 | F7: =(((F6^'Goal Seek'!$F$27)*(($C7*10^5)^('Goal Seek'!$F$27-1)))/(($C6*10^5)^('Goal Seek'!$F$27-1)))^(1/'Goal Seek'!$F$27) -> 2581.4675 | G7: =(((4.7*10^13)*'Goal Seek'!$I$5*('Goal Seek'!$H$5^0.5)*EXP(-67837/'Part 2a'!F7))/('Goal Seek'!$F$26*6))*('Goal Seek'!$F$20*10^-6) -> 1.5821338e-09 | H7: =(((H6^'Goal Seek'!$F$27)*(($C7*10^5)^('Goal Seek'!$F$27-1)))/(($C6*10^5)^('Goal Seek'!$F$27-1)))^(1/'Goal Seek'!$F$27) -> 2564.2638 | I7: =(((4.7*10^13)*'Goal Seek'!$I$6*('Goal Seek'!$H$6^0.5)*EXP(-67837/'Part 2a'!H7))/('Goal Seek'!$F$26*6))*('Goal Seek'!$F$20*10^-6) -> 1.8762853e-09 | J7: =(((J6^'Goal Seek'!$F$27)*(($C7*10^5)^('Goal Seek'!$F$27-1)))/(($C6*10^5)^('Goal Seek'!$F$27-1)))^(1/'Goal Seek'!$F$27) -> 2547.0591 | K7: =(((4.7*10^13)*'Goal Seek'!$I$7*('Goal Seek'!$H$7^0.5)*EXP(-67837/'Part 2a'!J7))/('Goal Seek'!$F$26*6))*('Goal Seek'!$F$20*10^-6) -> 1.9224099e-09 | L7: =(((L6^'Goal Seek'!$F$27)*(($C7*10^5)^('Goal Seek'!$F$27-1)))/(($C6*10^5)^('Goal Seek'!$F$27-1)))^(1/'Goal Seek'!$F$27) -> 2529.6788 | M7: =(((4.7*10^13)*'Goal Seek'!$I$8*('Goal Seek'!$H$8^0.5)*EXP(-67837/'Part 2a'!L7))/('Goal Seek'!$F$26*6))*('Goal Seek'!$F$20*10^-6) -> 1.8490685e-09 | N7: =(((N6^'Goal Seek'!$F$27)*(($C7*10^5)^('Goal Seek'!$F$27-1)))/(($C6*10^5)^('Goal Seek'!$F$27-1)))^(1/'Goal Seek'!$F$27) -> 2512.2953 | O7: =(((4.7*10^13)*'Goal Seek'!$I$9*('Goal Seek'!$H$9^0.5)*EXP(-67837/'Part 2a'!N7))/('Goal Seek'!$F$26*6))*('Goal Seek'!$F$20*10^-6) -> 1.7176359e-09 | P7: =(((P6^'Goal Seek'!$F$27)*(($C7*10^5)^('Goal Seek'!$F$27-1)))/(($C6*10^5)^('Goal Seek'!$F$27-1)))^(1/'Goal Seek'!$F$27) -> 2423.8424 | Q7: =(((4.7*10^13)*'Goal Seek'!$I$10*('Goal Seek'!$H$10^0.5)*EXP(-67837/'Part 2a'!P7))/('Goal Seek'!$F$26*6))*('Goal Seek'!$F$20*10^-6) -> 9.0790441e-10 | R7: =(((R6^'Goal Seek'!$F$27)*(($C7*10^5)^('Goal Seek'!$F$27-1)))/(($C6*10^5)^('Goal Seek'!$F$27-1)))^(1/'Goal Seek'!$F$27) -> 2333.0554 | S7: =(((4.7*10^13)*'Goal Seek'!$I$11*('Goal Seek'!$H$11^0.5)*EXP(-67837/'Part 2a'!R7))/('Goal Seek'!$F$26*6))*('Goal Seek'!$F$20*10^-6) -> 3.7466466e-10 | T7: =(((T6^'Goal Seek'!$F$27)*(($C7*10^5)^('Goal Seek'!$F$27-1)))/(($C6*10^5)^('Goal Seek'!$F$27-1)))^(1/'Goal Seek'!$F$27) -> 2239.8551 | U7: =(((4.7*10^13)*'Goal Seek'!$I$12*('Goal Seek'!$H$12^0.5)*EXP(-67837/'Part 2a'!T7))/('Goal Seek'!$F$26*6))*('Goal Seek'!$F$20*10^-6) -> 1.2918496e-10 | V7: =(((V6^'Goal Seek'!$F$27)*(($C7*10^5)^('Goal Seek'!$F$27-1)))/(($C6*10^5)^('Goal Seek'!$F$27-1)))^(1/'Goal Seek'!$F$27) -> 2144.2255 | W7: =(((4.7*10^13)*'Goal Seek'!$I$13*('Goal Seek'!$H$13^0.5)*EXP(-67837/'Part 2a'!V7))/('Goal Seek'!$F$26*6))*('Goal Seek'!$F$20*10^-6) -> 3.7462122e-11 | X7: =(((X6^'Goal Seek'!$F$27)*(($C7*10^5)^('Goal Seek'!$F$27-1)))/(($C6*10^5)^('Goal Seek'!$F$27-1)))^(1/'Goal Seek'!$F$27) -> 2045.9984 | Y7: =(((4.7*10^13)*'Goal Seek'!$I$14*('Goal Seek'!$H$14^0.5)*EXP(-67837/'Part 2a'!X7))/('Goal Seek'!$F$26*6))*('Goal Seek'!$F$20*10^-6) -> 8.9967242e-12 | Z7: =(((Z6^'Goal Seek'!$F$27)*(($C7*10^5)^('Goal Seek'!$F$27-1)))/(($C6*10^5)^('Goal Seek'!$F$27-1)))^(1/'Goal Seek'!$F$27) -> 1945.0817 | AA7: =(((4.7*10^13)*'Goal Seek'!$I$15*('Goal Seek'!$H$15^0.5)*EXP(-67837/'Part 2a'!Z7))/('Goal Seek'!$F$26*6))*('Goal Seek'!$F$20*10^-6) -> 1.7418589e-12 | AB7: =(((AB6^'Goal Seek'!$F$27)*(($C7*10^5)^('Goal Seek'!$F$27-1)))/(($C6*10^5)^('Goal Seek'!$F$27-1)))^(1/'Goal Seek'!$F$27) -> 1841.3781 | AC7: =(((4.7*10^13)*'Goal Seek'!$I$16*('Goal Seek'!$H$16^0.5)*EXP(-67837/'Part 2a'!AB7))/('Goal Seek'!$F$26*6))*('Goal Seek'!$F$20*10^-6) -> 2.6152976e-13
B8: 4 | C8: 18 | D8: =(((D7^'Goal Seek'!$F$27)*(($C8*10^5)^('Goal Seek'!$F$27-1)))/(($C7*10^5)^('Goal Seek'!$F$27-1)))^(1/'Goal Seek'!$F$27) -> 2719.5131 | E8: =(((4.7*10^13)*'Goal Seek'!$I$4*('Goal Seek'!$H$4^0.5)*EXP(-67837/'Part 2a'!D8))/('Goal Seek'!$F$26*6))*('Goal Seek'!$F$20*10^-6) -> 0 | F8: =(((F7^'Goal Seek'!$F$27)*(($C8*10^5)^('Goal Seek'!$F$27-1)))/(($C7*10^5)^('Goal Seek'!$F$27-1)))^(1/'Goal Seek'!$F$27) -> 2626.0263 | G8: =(((4.7*10^13)*'Goal Seek'!$I$5*('Goal Seek'!$H$5^0.5)*EXP(-67837/'Part 2a'!F8))/('Goal Seek'!$F$26*6))*('Goal Seek'!$F$20*10^-6) -> 2.4711207e-09 | H8: =(((H7^'Goal Seek'!$F$27)*(($C8*10^5)^('Goal Seek'!$F$27-1)))/(($C7*10^5)^('Goal Seek'!$F$27-1)))^(1/'Goal Seek'!$F$27) -> 2608.5257 | I8: =(((4.7*10^13)*'Goal Seek'!$I$6*('Goal Seek'!$H$6^0.5)*EXP(-67837/'Part 2a'!H8))/('Goal Seek'!$F$26*6))*('Goal Seek'!$F$20*10^-6) -> 2.9393332e-09 | J8: =(((J7^'Goal Seek'!$F$27)*(($C8*10^5)^('Goal Seek'!$F$27-1)))/(($C7*10^5)^('Goal Seek'!$F$27-1)))^(1/'Goal Seek'!$F$27) -> 2591.0241 | K8: =(((4.7*10^13)*'Goal Seek'!$I$7*('Goal Seek'!$H$7^0.5)*EXP(-67837/'Part 2a'!J8))/('Goal Seek'!$F$26*6))*('Goal Seek'!$F$20*10^-6) -> 3.0207361e-09 | L8: =(((L7^'Goal Seek'!$F$27)*(($C8*10^5)^('Goal Seek'!$F$27-1)))/(($C7*10^5)^('Goal Seek'!$F$27-1)))^(1/'Goal Seek'!$F$27) -> 2573.3438 | M8: =(((4.7*10^13)*'Goal Seek'!$I$8*('Goal Seek'!$H$8^0.5)*EXP(-67837/'Part 2a'!L8))/('Goal Seek'!$F$26*6))*('Goal Seek'!$F$20*10^-6) -> 2.9145281e-09 | N8: =(((N7^'Goal Seek'!$F$27)*(($C8*10^5)^('Goal Seek'!$F$27-1)))/(($C7*10^5)^('Goal Seek'!$F$27-1)))^(1/'Goal Seek'!$F$27) -> 2555.6602 | O8: =(((4.7*10^13)*'Goal Seek'!$I$9*('Goal Seek'!$H$9^0.5)*EXP(-67837/'Part 2a'!N8))/('Goal Seek'!$F$26*6))*('Goal Seek'!$F$20*10^-6) -> 2.7158997e-09 | P8: =(((P7^'Goal Seek'!$F$27)*(($C8*10^5)^('Goal Seek'!$F$27-1)))/(($C7*10^5)^('Goal Seek'!$F$27-1)))^(1/'Goal Seek'!$F$27) -> 2465.6805 | Q8: =(((4.7*10^13)*'Goal Seek'!$I$10*('Goal Seek'!$H$10^0.5)*EXP(-67837/'Part 2a'!P8))/('Goal Seek'!$F$26*6))*('Goal Seek'!$F$20*10^-6) -> 1.4597692e-09 | R8: =(((R7^'Goal Seek'!$F$27)*(($C8*10^5)^('Goal Seek'!$F$27-1)))/(($C7*10^5)^('Goal Seek'!$F$27-1)))^(1/'Goal Seek'!$F$27) -> 2373.3264 | S8: =(((4.7*10^13)*'Goal Seek'!$I$11*('Goal Seek'!$H$11^0.5)*EXP(-67837/'Part 2a'!R8))/('Goal Seek'!$F$26*6))*('Goal Seek'!$F$20*10^-6) -> 6.1363828e-10 | T8: =(((T7^'Goal Seek'!$F$27)*(($C8*10^5)^('Goal Seek'!$F$27-1)))/(($C7*10^5)^('Goal Seek'!$F$27-1)))^(1/'Goal Seek'!$F$27) -> 2278.5174 | U8: =(((4.7*10^13)*'Goal Seek'!$I$12*('Goal Seek'!$H$12^0.5)*EXP(-67837/'Part 2a'!T8))/('Goal Seek'!$F$26*6))*('Goal Seek'!$F$20*10^-6) -> 2.1597198e-10 | V8: =(((V7^'Goal Seek'!$F$27)*(($C8*10^5)^('Goal Seek'!$F$27-1)))/(($C7*10^5)^('Goal Seek'!$F$27-1)))^(1/'Goal Seek'!$F$27) -> 2181.2371 | W8: =(((4.7*10^13)*'Goal Seek'!$I$13*('Goal Seek'!$H$13^0.5)*EXP(-67837/'Part 2a'!V8))/('Goal Seek'!$F$26*6))*('Goal Seek'!$F$20*10^-6) -> 6.4081344e-11 | X8: =(((X7^'Goal Seek'!$F$27)*(($C8*10^5)^('Goal Seek'!$F$27-1)))/(($C7*10^5)^('Goal Seek'!$F$27-1)))^(1/'Goal Seek'!$F$27) -> 2081.3145 | Y8: =(((4.7*10^13)*'Goal Seek'!$I$14*('Goal Seek'!$H$14^0.5)*EXP(-67837/'Part 2a'!X8))/('Goal Seek'!$F$26*6))*('Goal Seek'!$F$20*10^-6) -> 1.579125e-11 | Z8: =(((Z7^'Goal Seek'!$F$27)*(($C8*10^5)^('Goal Seek'!$F$27-1)))/(($C7*10^5)^('Goal Seek'!$F$27-1)))^(1/'Goal Seek'!$F$27) -> 1978.6559 | AA8: =(((4.7*10^13)*'Goal Seek'!$I$15*('Goal Seek'!$H$15^0.5)*EXP(-67837/'Part 2a'!Z8))/('Goal Seek'!$F$26*6))*('Goal Seek'!$F$20*10^-6) -> 3.1479061e-12 | AB8: =(((AB7^'Goal Seek'!$F$27)*(($C8*10^5)^('Goal Seek'!$F$27-1)))/(($C7*10^5)^('Goal Seek'!$F$27-1)))^(1/'Goal Seek'!$F$27) -> 1873.1622 | AC8: =(((4.7*10^13)*'Goal Seek'!$I$16*('Goal Seek'!$H$16^0.5)*EXP(-67837/'Part 2a'!AB8))/('Goal Seek'!$F$26*6))*('Goal Seek'!$F$20*10^-6) -> 4.8865716e-13
B9: 5 | C9: 20 | D9: =(((D8^'Goal Seek'!$F$27)*(($C9*10^5)^('Goal Seek'!$F$27-1)))/(($C8*10^5)^('Goal Seek'!$F$27-1)))^(1/'Goal Seek'!$F$27) -> 2761.4659 | E9: =(((4.7*10^13)*'Goal Seek'!$I$4*('Goal Seek'!$H$4^0.5)*EXP(-67837/'Part 2a'!D9))/('Goal Seek'!$F$26*6))*('Goal Seek'!$F$20*10^-6) -> 0 | F9: =(((F8^'Goal Seek'!$F$27)*(($C9*10^5)^('Goal Seek'!$F$27-1)))/(($C8*10^5)^('Goal Seek'!$F$27-1)))^(1/'Goal Seek'!$F$27) -> 2666.5369 | G9: =(((4.7*10^13)*'Goal Seek'!$I$5*('Goal Seek'!$H$5^0.5)*EXP(-67837/'Part 2a'!F9))/('Goal Seek'!$F$26*6))*('Goal Seek'!$F$20*10^-6) -> 3.6587645e-09 | H9: =(((H8^'Goal Seek'!$F$27)*(($C9*10^5)^('Goal Seek'!$F$27-1)))/(($C8*10^5)^('Goal Seek'!$F$27-1)))^(1/'Goal Seek'!$F$27) -> 2648.7663 | I9: =(((4.7*10^13)*'Goal Seek'!$I$6*('Goal Seek'!$H$6^0.5)*EXP(-67837/'Part 2a'!H9))/('Goal Seek'!$F$26*6))*('Goal Seek'!$F$20*10^-6) -> 4.3634781e-09 | J9: =(((J8^'Goal Seek'!$F$27)*(($C9*10^5)^('Goal Seek'!$F$27-1)))/(($C8*10^5)^('Goal Seek'!$F$27-1)))^(1/'Goal Seek'!$F$27) -> 2630.9947 | K9: =(((4.7*10^13)*'Goal Seek'!$I$7*('Goal Seek'!$H$7^0.5)*EXP(-67837/'Part 2a'!J9))/('Goal Seek'!$F$26*6))*('Goal Seek'!$F$20*10^-6) -> 4.4963051e-09 | L9: =(((L8^'Goal Seek'!$F$27)*(($C9*10^5)^('Goal Seek'!$F$27-1)))/(($C8*10^5)^('Goal Seek'!$F$27-1)))^(1/'Goal Seek'!$F$27) -> 2613.0416 | M9: =(((4.7*10^13)*'Goal Seek'!$I$8*('Goal Seek'!$H$8^0.5)*EXP(-67837/'Part 2a'!L9))/('Goal Seek'!$F$26*6))*('Goal Seek'!$F$20*10^-6) -> 4.3500884e-09 | N9: =(((N8^'Goal Seek'!$F$27)*(($C9*10^5)^('Goal Seek'!$F$27-1)))/(($C8*10^5)^('Goal Seek'!$F$27-1)))^(1/'Goal Seek'!$F$27) -> 2595.0853 | O9: =(((4.7*10^13)*'Goal Seek'!$I$9*('Goal Seek'!$H$9^0.5)*EXP(-67837/'Part 2a'!N9))/('Goal Seek'!$F$26*6))*('Goal Seek'!$F$20*10^-6) -> 4.0648736e-09 | P9: =(((P8^'Goal Seek'!$F$27)*(($C9*10^5)^('Goal Seek'!$F$27-1)))/(($C8*10^5)^('Goal Seek'!$F$27-1)))^(1/'Goal Seek'!$F$27) -> 2503.7175 | Q9: =(((4.7*10^13)*'Goal Seek'!$I$10*('Goal Seek'!$H$10^0.5)*EXP(-67837/'Part 2a'!P9))/('Goal Seek'!$F$26*6))*('Goal Seek'!$F$20*10^-6) -> 2.2172191e-09 | R9: =(((R8^'Goal Seek'!$F$27)*(($C9*10^5)^('Goal Seek'!$F$27-1)))/(($C8*10^5)^('Goal Seek'!$F$27-1)))^(1/'Goal Seek'!$F$27) -> 2409.9387 | S9: =(((4.7*10^13)*'Goal Seek'!$I$11*('Goal Seek'!$H$11^0.5)*EXP(-67837/'Part 2a'!R9))/('Goal Seek'!$F$26*6))*('Goal Seek'!$F$20*10^-6) -> 9.4732848e-10 | T9: =(((T8^'Goal Seek'!$F$27)*(($C9*10^5)^('Goal Seek'!$F$27-1)))/(($C8*10^5)^('Goal Seek'!$F$27-1)))^(1/'Goal Seek'!$F$27) -> 2313.6671 | U9: =(((4.7*10^13)*'Goal Seek'!$I$12*('Goal Seek'!$H$12^0.5)*EXP(-67837/'Part 2a'!T9))/('Goal Seek'!$F$26*6))*('Goal Seek'!$F$20*10^-6) -> 3.3949447e-10 | V9: =(((V8^'Goal Seek'!$F$27)*(($C9*10^5)^('Goal Seek'!$F$27-1)))/(($C8*10^5)^('Goal Seek'!$F$27-1)))^(1/'Goal Seek'!$F$27) -> 2214.8861 | W9: =(((4.7*10^13)*'Goal Seek'!$I$13*('Goal Seek'!$H$13^0.5)*EXP(-67837/'Part 2a'!V9))/('Goal Seek'!$F$26*6))*('Goal Seek'!$F$20*10^-6) -> 1.0278451e-10 | X9: =(((X8^'Goal Seek'!$F$27)*(($C9*10^5)^('Goal Seek'!$F$27-1)))/(($C8*10^5)^('Goal Seek'!$F$27-1)))^(1/'Goal Seek'!$F$27) -> 2113.422 | Y9: =(((4.7*10^13)*'Goal Seek'!$I$14*('Goal Seek'!$H$14^0.5)*EXP(-67837/'Part 2a'!X9))/('Goal Seek'!$F$26*6))*('Goal Seek'!$F$20*10^-6) -> 2.5909791e-11 | Z9: =(((Z8^'Goal Seek'!$F$27)*(($C9*10^5)^('Goal Seek'!$F$27-1)))/(($C8*10^5)^('Goal Seek'!$F$27-1)))^(1/'Goal Seek'!$F$27) -> 2009.1797 | AA9: =(((4.7*10^13)*'Goal Seek'!$I$15*('Goal Seek'!$H$15^0.5)*EXP(-67837/'Part 2a'!Z9))/('Goal Seek'!$F$26*6))*('Goal Seek'!$F$20*10^-6) -> 5.299397e-12 | AB9: =(((AB8^'Goal Seek'!$F$27)*(($C9*10^5)^('Goal Seek'!$F$27-1)))/(($C8*10^5)^('Goal Seek'!$F$27-1)))^(1/'Goal Seek'!$F$27) -> 1902.0587 | AC9: =(((4.7*10^13)*'Goal Seek'!$I$16*('Goal Seek'!$H$16^0.5)*EXP(-67837/'Part 2a'!AB9))/('Goal Seek'!$F$26*6))*('Goal Seek'!$F$20*10^-6) -> 8.4712687e-13
B10: 6 | C10: 22 | D10: =(((D9^'Goal Seek'!$F$27)*(($C10*10^5)^('Goal Seek'!$F$27-1)))/(($C9*10^5)^('Goal Seek'!$F$27-1)))^(1/'Goal Seek'!$F$27) -> 2799.974 | E10: =(((4.7*10^13)*'Goal Seek'!$I$4*('Goal Seek'!$H$4^0.5)*EXP(-67837/'Part 2a'!D10))/('Goal Seek'!$F$26*6))*('Goal Seek'!$F$20*10^-6) -> 0 | F10: =(((F9^'Goal Seek'!$F$27)*(($C10*10^5)^('Goal Seek'!$F$27-1)))/(($C9*10^5)^('Goal Seek'!$F$27-1)))^(1/'Goal Seek'!$F$27) -> 2703.7213 | G10: =(((4.7*10^13)*'Goal Seek'!$I$5*('Goal Seek'!$H$5^0.5)*EXP(-67837/'Part 2a'!F10))/('Goal Seek'!$F$26*6))*('Goal Seek'!$F$20*10^-6) -> 5.191405e-09 | H10: =(((H9^'Goal Seek'!$F$27)*(($C10*10^5)^('Goal Seek'!$F$27-1)))/(($C9*10^5)^('Goal Seek'!$F$27-1)))^(1/'Goal Seek'!$F$27) -> 2685.7029 | I10: =(((4.7*10^13)*'Goal Seek'!$I$6*('Goal Seek'!$H$6^0.5)*EXP(-67837/'Part 2a'!H10))/('Goal Seek'!$F$26*6))*('Goal Seek'!$F$20*10^-6) -> 6.2058703e-09 | J10: =(((J9^'Goal Seek'!$F$27)*(($C10*10^5)^('Goal Seek'!$F$27-1)))/(($C9*10^5)^('Goal Seek'!$F$27-1)))^(1/'Goal Seek'!$F$27) -> 2667.6834 | K10: =(((4.7*10^13)*'Goal Seek'!$I$7*('Goal Seek'!$H$7^0.5)*EXP(-67837/'Part 2a'!J10))/('Goal Seek'!$F$26*6))*('Goal Seek'!$F$20*10^-6) -> 6.4100134e-09 | L10: =(((L9^'Goal Seek'!$F$27)*(($C10*10^5)^('Goal Seek'!$F$27-1)))/(($C9*10^5)^('Goal Seek'!$F$27-1)))^(1/'Goal Seek'!$F$27) -> 2649.48 | M10: =(((4.7*10^13)*'Goal Seek'!$I$8*('Goal Seek'!$H$8^0.5)*EXP(-67837/'Part 2a'!L10))/('Goal Seek'!$F$26*6))*('Goal Seek'!$F$20*10^-6) -> 6.2166917e-09 | N10: =(((N9^'Goal Seek'!$F$27)*(($C10*10^5)^('Goal Seek'!$F$27-1)))/(($C9*10^5)^('Goal Seek'!$F$27-1)))^(1/'Goal Seek'!$F$27) -> 2631.2733 | O10: =(((4.7*10^13)*'Goal Seek'!$I$9*('Goal Seek'!$H$9^0.5)*EXP(-67837/'Part 2a'!N10))/('Goal Seek'!$F$26*6))*('Goal Seek'!$F$20*10^-6) -> 5.8234616e-09 | P10: =(((P9^'Goal Seek'!$F$27)*(($C10*10^5)^('Goal Seek'!$F$27-1)))/(($C9*10^5)^('Goal Seek'!$F$27-1)))^(1/'Goal Seek'!$F$27) -> 2538.6314 | Q10: =(((4.7*10^13)*'Goal Seek'!$I$10*('Goal Seek'!$H$10^0.5)*EXP(-67837/'Part 2a'!P10))/('Goal Seek'!$F$26*6))*('Goal Seek'!$F$20*10^-6) -> 3.2184041e-09 | R10: =(((R9^'Goal Seek'!$F$27)*(($C10*10^5)^('Goal Seek'!$F$27-1)))/(($C9*10^5)^('Goal Seek'!$F$27-1)))^(1/'Goal Seek'!$F$27) -> 2443.5449 | S10: =(((4.7*10^13)*'Goal Seek'!$I$11*('Goal Seek'!$H$11^0.5)*EXP(-67837/'Part 2a'!R10))/('Goal Seek'!$F$26*6))*('Goal Seek'!$F$20*10^-6) -> 1.3951791e-09 | T10: =(((T9^'Goal Seek'!$F$27)*(($C10*10^5)^('Goal Seek'!$F$27-1)))/(($C9*10^5)^('Goal Seek'!$F$27-1)))^(1/'Goal Seek'!$F$27) -> 2345.9308 | U10: =(((4.7*10^13)*'Goal Seek'!$I$12*('Goal Seek'!$H$12^0.5)*EXP(-67837/'Part 2a'!T10))/('Goal Seek'!$F$26*6))*('Goal Seek'!$F$20*10^-6) -> 5.0811023e-10 | V10: =(((V9^'Goal Seek'!$F$27)*(($C10*10^5)^('Goal Seek'!$F$27-1)))/(($C9*10^5)^('Goal Seek'!$F$27-1)))^(1/'Goal Seek'!$F$27) -> 2245.7723 | W10: =(((4.7*10^13)*'Goal Seek'!$I$13*('Goal Seek'!$H$13^0.5)*EXP(-67837/'Part 2a'!V10))/('Goal Seek'!$F$26*6))*('Goal Seek'!$F$20*10^-6) -> 1.5662578e-10 | X10: =(((X9^'Goal Seek'!$F$27)*(($C10*10^5)^('Goal Seek'!$F$27-1)))/(($C9*10^5)^('Goal Seek'!$F$27-1)))^(1/'Goal Seek'!$F$27) -> 2142.8933 | Y10: =(((4.7*10^13)*'Goal Seek'!$I$14*('Goal Seek'!$H$14^0.5)*EXP(-67837/'Part 2a'!X10))/('Goal Seek'!$F$26*6))*('Goal Seek'!$F$20*10^-6) -> 4.0288595e-11 | Z10: =(((Z9^'Goal Seek'!$F$27)*(($C10*10^5)^('Goal Seek'!$F$27-1)))/(($C9*10^5)^('Goal Seek'!$F$27-1)))^(1/'Goal Seek'!$F$27) -> 2037.1974 | AA10: =(((4.7*10^13)*'Goal Seek'!$I$15*('Goal Seek'!$H$15^0.5)*EXP(-67837/'Part 2a'!Z10))/('Goal Seek'!$F$26*6))*('Goal Seek'!$F$20*10^-6) -> 8.4312426e-12 | AB10: =(((AB9^'Goal Seek'!$F$27)*(($C10*10^5)^('Goal Seek'!$F$27-1)))/(($C9*10^5)^('Goal Seek'!$F$27-1)))^(1/'Goal Seek'!$F$27) -> 1928.5826 | AC10: =(((4.7*10^13)*'Goal Seek'!$I$16*('Goal Seek'!$H$16^0.5)*EXP(-67837/'Part 2a'!AB10))/('Goal Seek'!$F$26*6))*('Goal Seek'!$F$20*10^-6) -> 1.3834742e-12
B11: 7 | C11: 24 | D11: =(((D10^'Goal Seek'!$F$27)*(($C11*10^5)^('Goal Seek'!$F$27-1)))/(($C10*10^5)^('Goal Seek'!$F$27-1)))^(1/'Goal Seek'!$F$27) -> 2835.5979 | E11: =(((4.7*10^13)*'Goal Seek'!$I$4*('Goal Seek'!$H$4^0.5)*EXP(-67837/'Part 2a'!D11))/('Goal Seek'!$F$26*6))*('Goal Seek'!$F$20*10^-6) -> 0 | F11: =(((F10^'Goal Seek'!$F$27)*(($C11*10^5)^('Goal Seek'!$F$27-1)))/(($C10*10^5)^('Goal Seek'!$F$27-1)))^(1/'Goal Seek'!$F$27) -> 2738.1206 | G11: =(((4.7*10^13)*'Goal Seek'!$I$5*('Goal Seek'!$H$5^0.5)*EXP(-67837/'Part 2a'!F11))/('Goal Seek'!$F$26*6))*('Goal Seek'!$F$20*10^-6) -> 7.1150723e-09 | H11: =(((H10^'Goal Seek'!$F$27)*(($C11*10^5)^('Goal Seek'!$F$27-1)))/(($C10*10^5)^('Goal Seek'!$F$27-1)))^(1/'Goal Seek'!$F$27) -> 2719.8729 | I11: =(((4.7*10^13)*'Goal Seek'!$I$6*('Goal Seek'!$H$6^0.5)*EXP(-67837/'Part 2a'!H11))/('Goal Seek'!$F$26*6))*('Goal Seek'!$F$20*10^-6) -> 8.523452e-09 | J11: =(((J10^'Goal Seek'!$F$27)*(($C11*10^5)^('Goal Seek'!$F$27-1)))/(($C10*10^5)^('Goal Seek'!$F$27-1)))^(1/'Goal Seek'!$F$27) -> 2701.6242 | K11: =(((4.7*10^13)*'Goal Seek'!$I$7*('Goal Seek'!$H$7^0.5)*EXP(-67837/'Part 2a'!J11))/('Goal Seek'!$F$26*6))*('Goal Seek'!$F$20*10^-6) -> 8.8227232e-09 | L11: =(((L10^'Goal Seek'!$F$27)*(($C11*10^5)^('Goal Seek'!$F$27-1)))/(($C10*10^5)^('Goal Seek'!$F$27-1)))^(1/'Goal Seek'!$F$27) -> 2683.1892 | M11: =(((4.7*10^13)*'Goal Seek'!$I$8*('Goal Seek'!$H$8^0.5)*EXP(-67837/'Part 2a'!L11))/('Goal Seek'!$F$26*6))*('Goal Seek'!$F$20*10^-6) -> 8.5754376e-09 | N11: =(((N10^'Goal Seek'!$F$27)*(($C11*10^5)^('Goal Seek'!$F$27-1)))/(($C10*10^5)^('Goal Seek'!$F$27-1)))^(1/'Goal Seek'!$F$27) -> 2664.7508 | O11: =(((4.7*10^13)*'Goal Seek'!$I$9*('Goal Seek'!$H$9^0.5)*EXP(-67837/'Part 2a'!N11))/('Goal Seek'!$F$26*6))*('Goal Seek'!$F$20*10^-6) -> 8.0509068e-09 | P11: =(((P10^'Goal Seek'!$F$27)*(($C11*10^5)^('Goal Seek'!$F$27-1)))/(($C10*10^5)^('Goal Seek'!$F$27-1)))^(1/'Goal Seek'!$F$27) -> 2570.9302 | Q11: =(((4.7*10^13)*'Goal Seek'!$I$10*('Goal Seek'!$H$10^0.5)*EXP(-67837/'Part 2a'!P11))/('Goal Seek'!$F$26*6))*('Goal Seek'!$F$20*10^-6) -> 4.5023304e-09 | R11: =(((R10^'Goal Seek'!$F$27)*(($C11*10^5)^('Goal Seek'!$F$27-1)))/(($C10*10^5)^('Goal Seek'!$F$27-1)))^(1/'Goal Seek'!$F$27) -> 2474.6339 | S11: =(((4.7*10^13)*'Goal Seek'!$I$11*('Goal Seek'!$H$11^0.5)*EXP(-67837/'Part 2a'!R11))/('Goal Seek'!$F$26*6))*('Goal Seek'!$F$20*10^-6) -> 1.9774258e-09 | T11: =(((T10^'Goal Seek'!$F$27)*(($C11*10^5)^('Goal Seek'!$F$27-1)))/(($C10*10^5)^('Goal Seek'!$F$27-1)))^(1/'Goal Seek'!$F$27) -> 2375.7779 | U11: =(((4.7*10^13)*'Goal Seek'!$I$12*('Goal Seek'!$H$12^0.5)*EXP(-67837/'Part 2a'!T11))/('Goal Seek'!$F$26*6))*('Goal Seek'!$F$20*10^-6) -> 7.306861e-10 | V11: =(((V10^'Goal Seek'!$F$27)*(($C11*10^5)^('Goal Seek'!$F$27-1)))/(($C10*10^5)^('Goal Seek'!$F$27-1)))^(1/'Goal Seek'!$F$27) -> 2274.3451 | W11: =(((4.7*10^13)*'Goal Seek'!$I$13*('Goal Seek'!$H$13^0.5)*EXP(-67837/'Part 2a'!V11))/('Goal Seek'!$F$26*6))*('Goal Seek'!$F$20*10^-6) -> 2.2891414e-10 | X11: =(((X10^'Goal Seek'!$F$27)*(($C11*10^5)^('Goal Seek'!$F$27-1)))/(($C10*10^5)^('Goal Seek'!$F$27-1)))^(1/'Goal Seek'!$F$27) -> 2170.1572 | Y11: =(((4.7*10^13)*'Goal Seek'!$I$14*('Goal Seek'!$H$14^0.5)*EXP(-67837/'Part 2a'!X11))/('Goal Seek'!$F$26*6))*('Goal Seek'!$F$20*10^-6) -> 5.9965836e-11 | Z11: =(((Z10^'Goal Seek'!$F$27)*(($C11*10^5)^('Goal Seek'!$F$27-1)))/(($C10*10^5)^('Goal Seek'!$F$27-1)))^(1/'Goal Seek'!$F$27) -> 2063.1165 | AA11: =(((4.7*10^13)*'Goal Seek'!$I$15*('Goal Seek'!$H$15^0.5)*EXP(-67837/'Part 2a'!Z11))/('Goal Seek'!$F$26*6))*('Goal Seek'!$F$20*10^-6) -> 1.2810753e-11 | AB11: =(((AB10^'Goal Seek'!$F$27)*(($C11*10^5)^('Goal Seek'!$F$27-1)))/(($C10*10^5)^('Goal Seek'!$F$27-1)))^(1/'Goal Seek'!$F$27) -> 1953.1198 | AC11: =(((4.7*10^13)*'Goal Seek'!$I$16*('Goal Seek'!$H$16^0.5)*EXP(-67837/'Part 2a'!AB11))/('Goal Seek'!$F$26*6))*('Goal Seek'!$F$20*10^-6) -> 2.152218e-12
B12: 8 | C12: 26 | D12: =(((D11^'Goal Seek'!$F$27)*(($C12*10^5)^('Goal Seek'!$F$27-1)))/(($C11*10^5)^('Goal Seek'!$F$27-1)))^(1/'Goal Seek'!$F$27) -> 2868.7688 | E12: =(((4.7*10^13)*'Goal Seek'!$I$4*('Goal Seek'!$H$4^0.5)*EXP(-67837/'Part 2a'!D12))/('Goal Seek'!$F$26*6))*('Goal Seek'!$F$20*10^-6) -> 0 | F12: =(((F11^'Goal Seek'!$F$27)*(($C12*10^5)^('Goal Seek'!$F$27-1)))/(($C11*10^5)^('Goal Seek'!$F$27-1)))^(1/'Goal Seek'!$F$27) -> 2770.1512 | G12: =(((4.7*10^13)*'Goal Seek'!$I$5*('Goal Seek'!$H$5^0.5)*EXP(-67837/'Part 2a'!F12))/('Goal Seek'!$F$26*6))*('Goal Seek'!$F$20*10^-6) -> 9.475251e-09 | H12: =(((H11^'Goal Seek'!$F$27)*(($C12*10^5)^('Goal Seek'!$F$27-1)))/(($C11*10^5)^('Goal Seek'!$F$27-1)))^(1/'Goal Seek'!$F$27) -> 2751.6901 | I12: =(((4.7*10^13)*'Goal Seek'!$I$6*('Goal Seek'!$H$6^0.5)*EXP(-67837/'Part 2a'!H12))/('Goal Seek'!$F$26*6))*('Goal Seek'!$F$20*10^-6) -> 1.1372648e-08 | J12: =(((J11^'Goal Seek'!$F$27)*(($C12*10^5)^('Goal Seek'!$F$27-1)))/(($C11*10^5)^('Goal Seek'!$F$27-1)))^(1/'Goal Seek'!$F$27) -> 2733.2279 | K12: =(((4.7*10^13)*'Goal Seek'!$I$7*('Goal Seek'!$H$7^0.5)*EXP(-67837/'Part 2a'!J12))/('Goal Seek'!$F$26*6))*('Goal Seek'!$F$20*10^-6) -> 1.1794913e-08 | L12: =(((L11^'Goal Seek'!$F$27)*(($C12*10^5)^('Goal Seek'!$F$27-1)))/(($C11*10^5)^('Goal Seek'!$F$27-1)))^(1/'Goal Seek'!$F$27) -> 2714.5772 | M12: =(((4.7*10^13)*'Goal Seek'!$I$8*('Goal Seek'!$H$8^0.5)*EXP(-67837/'Part 2a'!L12))/('Goal Seek'!$F$26*6))*('Goal Seek'!$F$20*10^-6) -> 1.1487214e-08 | N12: =(((N11^'Goal Seek'!$F$27)*(($C12*10^5)^('Goal Seek'!$F$27-1)))/(($C11*10^5)^('Goal Seek'!$F$27-1)))^(1/'Goal Seek'!$F$27) -> 2695.9231 | O12: =(((4.7*10^13)*'Goal Seek'!$I$9*('Goal Seek'!$H$9^0.5)*EXP(-67837/'Part 2a'!N12))/('Goal Seek'!$F$26*6))*('Goal Seek'!$F$20*10^-6) -> 1.0806416e-08 | P12: =(((P11^'Goal Seek'!$F$27)*(($C12*10^5)^('Goal Seek'!$F$27-1)))/(($C11*10^5)^('Goal Seek'!$F$27-1)))^(1/'Goal Seek'!$F$27) -> 2601.005 | Q12: =(((4.7*10^13)*'Goal Seek'!$I$10*('Goal Seek'!$H$10^0.5)*EXP(-67837/'Part 2a'!P12))/('Goal Seek'!$F$26*6))*('Goal Seek'!$F$20*10^-6) -> 6.1085676e-09 | R12: =(((R11^'Goal Seek'!$F$27)*(($C12*10^5)^('Goal Seek'!$F$27-1)))/(($C11*10^5)^('Goal Seek'!$F$27-1)))^(1/'Goal Seek'!$F$27) -> 2503.5823 | S12: =(((4.7*10^13)*'Goal Seek'!$I$11*('Goal Seek'!$H$11^0.5)*EXP(-67837/'Part 2a'!R12))/('Goal Seek'!$F$26*6))*('Goal Seek'!$F$20*10^-6) -> 2.714928e-09 | T12: =(((T11^'Goal Seek'!$F$27)*(($C12*10^5)^('Goal Seek'!$F$27-1)))/(($C11*10^5)^('Goal Seek'!$F$27-1)))^(1/'Goal Seek'!$F$27) -> 2403.5698 | U12: =(((4.7*10^13)*'Goal Seek'!$I$12*('Goal Seek'!$H$12^0.5)*EXP(-67837/'Part 2a'!T12))/('Goal Seek'!$F$26*6))*('Goal Seek'!$F$20*10^-6) -> 1.0165223e-09 | V12: =(((V11^'Goal Seek'!$F$27)*(($C12*10^5)^('Goal Seek'!$F$27-1)))/(($C11*10^5)^('Goal Seek'!$F$27-1)))^(1/'Goal Seek'!$F$27) -> 2300.9505 | W12: =(((4.7*10^13)*'Goal Seek'!$I$13*('Goal Seek'!$H$13^0.5)*EXP(-67837/'Part 2a'!V12))/('Goal Seek'!$F$26*6))*('Goal Seek'!$F$20*10^-6) -> 3.2318673e-10 | X12: =(((X11^'Goal Seek'!$F$27)*(($C12*10^5)^('Goal Seek'!$F$27-1)))/(($C11*10^5)^('Goal Seek'!$F$27-1)))^(1/'Goal Seek'!$F$27) -> 2195.5438 | Y12: =(((4.7*10^13)*'Goal Seek'!$I$14*('Goal Seek'!$H$14^0.5)*EXP(-67837/'Part 2a'!X12))/('Goal Seek'!$F$26*6))*('Goal Seek'!$F$20*10^-6) -> 8.607473e-11 | Z12: =(((Z11^'Goal Seek'!$F$27)*(($C12*10^5)^('Goal Seek'!$F$27-1)))/(($C11*10^5)^('Goal Seek'!$F$27-1)))^(1/'Goal Seek'!$F$27) -> 2087.2509 | AA12: =(((4.7*10^13)*'Goal Seek'!$I$15*('Goal Seek'!$H$15^0.5)*EXP(-67837/'Part 2a'!Z12))/('Goal Seek'!$F$26*6))*('Goal Seek'!$F$20*10^-6) -> 1.8736593e-11 | AB12: =(((AB11^'Goal Seek'!$F$27)*(($C12*10^5)^('Goal Seek'!$F$27-1)))/(($C11*10^5)^('Goal Seek'!$F$27-1)))^(1/'Goal Seek'!$F$27) -> 1975.9674 | AC12: =(((4.7*10^13)*'Goal Seek'!$I$16*('Goal Seek'!$H$16^0.5)*EXP(-67837/'Part 2a'!AB12))/('Goal Seek'!$F$26*6))*('Goal Seek'!$F$20*10^-6) -> 3.2158908e-12
