Workbook

Sheet Off Road Buggy Specs
A2: Specifications
A3: Hight of Buggy (m) | B3: 1.43
A4: Width of Buggy (m) | B4: 1.4
A5: Front Area of Buggy (m²) | B5: =SUM(B3*B4) -> 2.002
A6: Max speed of Buggy (mph) | B6: 40
A7: Mass of Buggy (including max driver and passinger)(kg) | B7: 420
A8: Front tire specs(") | B8: 19x7x8
A9: Front tire height (") | B9: 19
A10: Front tire height (m) | B10: 0.4826
A11: Front tire radius (m) | B11: =SUM(B10/2) -> 0.2413
A12: Rear tire specs (") | B12: 22x10-10
A13: Rear tire height (") | B13: 22
A14: Rear tire Diameter (m) | B14: 0.5588
A15: Rear tire radius (m) | B15: =SUM(B14/2) -> 0.2794
A16: Rolling resistance front (N) | B16: =((B21*B7/B11)*2) -> 139.24575
A17: Rolling resistance Rear (N) | B17: =((B21*B7/B15)*2) -> 120.2577
A18: Density of air (kg/m²) | B18: 1.2
A19: Gravity (m/s²) | B19: 9.81
A20: coefficient of drag | B20: 0.6
A21: Coefficient of friction of medium hard soil | B21: 0.04
A22: tire Circumferance (m) | B22: =B15*2*3.14 -> 1.754632
A23: Front Sproket (teeth) standard | B23: 16
A24: Rear Sproket (teeth) standard | B24: 32
A25: Final Drive Ratio standard | B25: =B24/B23 -> 2

Sheet Peramiters 
A1: Time [s] | B1: Track Section | C1: Speed [mph] | D1: Velocity (m/s) | E1: Distance [m] | F1: Altitude [m] | G1: Acceleration (m/s²) | H1: Gradient (%) | I1: Gradient (°)
A2: 0 | B2: 1 | C2: 0 | D2: =(C2*0.44704) -> 0 | E2: 0 | F2: 0 | G2: 0 | H2: 0 | I2: 0
A3: 1 | B3: 1 | C3: 5 | D3: =(C3*0.44704) -> 2.2352 | E3: =(D3*1)+E2 -> 2.2352 | F3: 0 | G3: =(D3-D2/1) -> 2.2352 | H3: =((F2-F3)/(E2-E3)*100) -> 0 | I3: =DEGREES(ATAN(F2-F3)/(E2-E3)) -> 0
A4: 2 | B4: 1 | C4: 10 | D4: =(C4*0.44704) -> 4.4704 | E4: =(D4*1)+E3 -> 6.7056 | F4: 0 | G4: =(D4-D3/1) -> 2.2352 | H4: =((F3-F4)/(E3-E4)*100) -> 0 | I4: =DEGREES(ATAN(F3-F4)/(E3-E4)) -> 0
A5: 3 | B5: 1 | C5: 15 | D5: =(C5*0.44704) -> 6.7056 | E5: =(D5*1)+E4 -> 13.4112 | F5: 0 | G5: =(D5-D4/1) -> 2.2352 | H5: =((F4-F5)/(E4-E5)*100) -> 0 | I5: =DEGREES(ATAN(F4-F5)/(E4-E5)) -> 0
A6: 4 | B6: 1 | C6: 20 | D6: =(C6*0.44704) -> 8.9408 | E6: =(D6*1)+E5 -> 22.352 | F6: 0 | G6: =(D6-D5/1) -> 2.2352 | H6: =((F5-F6)/(E5-E6)*100) -> 0 | I6: =DEGREES(ATAN(F5-F6)/(E5-E6)) -> 0
A7: 5 | B7: 1 | C7: 25 | D7: =(C7*0.44704) -> 11.176 | E7: =(D7*1)+E6 -> 33.528 | F7: 0 | G7: =(D7-D6/1) -> 2.2352 | H7: =((F6-F7)/(E6-E7)*100) -> 0 | I7: =DEGREES(ATAN(F6-F7)/(E6-E7)) -> 0
A8: 6 | B8: 1 | C8: 25 | D8: =(C8*0.44704) -> 11.176 | E8: =(D8*1)+E7 -> 44.704 | F8: 0 | G8: =(D8-D7/1) -> 0 | H8: =((F7-F8)/(E7-E8)*100) -> 0 | I8: =DEGREES(ATAN(F7-F8)/(E7-E8)) -> 0
A9: 7 | B9: 1 | C9: 26 | D9: =(C9*0.44704) -> 11.62304 | E9: =(D9*1)+E8 -> 56.32704 | F9: 0 | G9: =(D9-D8/1) -> 0.44704 | H9: =((F8-F9)/(E8-E9)*100) -> 0 | I9: =DEGREES(ATAN(F8-F9)/(E8-E9)) -> 0
A10: 8 | B10: 1 | C10: 26 | D10: =(C10*0.44704) -> 11.62304 | E10: =(D10*1)+E9 -> 67.95008 | F10: 0 | G10: =(D10-D9/1) -> 0 | H10: =((F9-F10)/(E9-E10)*100) -> 0 | I10: =DEGREES(ATAN(F9-F10)/(E9-E10)) -> 0
A11: 9 | B11: 1 | C11: 27 | D11: =(C11*0.44704) -> 12.07008 | E11: =(D11*1)+E10 -> 80.02016 | F11: 0 | G11: =(D11-D10/1) -> 0.44704 | H11: =((F10-F11)/(E10-E11)*100) -> 0 | I11: =DEGREES(ATAN(F10-F11)/(E10-E11)) -> 0
A12: 10 | B12: 1 | C12: 27 | D12: =(C12*0.44704) -> 12.07008 | E12: =(D12*1)+E11 -> 92.09024 | F12: 0 | G12: =(D12-D11/1) -> 0 | H12: =((F11-F12)/(E11-E12)*100) -> 0 | I12: =DEGREES(ATAN(F11-F12)/(E11-E12)) -> 0
A13: 11 | B13: 1 | C13: 27 | D13: =(C13*0.44704) -> 12.07008 | E13: =(D13*1)+E12 -> 104.16032 | F13: 0 | G13: =(D13-D12/1) -> 0 | H13: =((F12-F13)/(E12-E13)*100) -> 0 | I13: =DEGREES(ATAN(F12-F13)/(E12-E13)) -> 0
A14: 12 | B14: 1 | C14: 28 | D14: =(C14*0.44704) -> 12.51712 | E14: =(D14*1)+E13 -> 116.67744 | F14: 0 | G14: =(D14-D13/1) -> 0.44704 | H14: =((F13-F14)/(E13-E14)*100) -> 0 | I14: =DEGREES(ATAN(F13-F14)/(E13-E14)) -> 0
... A151: 149 | B151: 3 | C151: 5 | D151: =(C151*0.44704) -> 2.2352 | E151: =(D151*1)+E150 -> 1292.3926 | F151: 0 | G151: =(D151-D150/1) -> -2.2352 | H151: =((F150-F151)/(E150-E151)*100) -> 0 | I151: =DEGREES(ATAN(F150-F151)/(E150-E151)) -> 0
A152: 150 | B152: 3 | C152: 0 | D152: =(C152*0.44704) -> 0 | E152: 1295.0749 | F152: 0 | G152: 0 | H152: 0 | I152: 0

Sheet Forces 
A1: Time (S) | B1: Track Section | C1: Aero Drag (N) | D1: Acceleration Resistance (N) | E1: Gradient forces (N) | F1: Rolling Restsance (N) | G1: Total forces (N)
A2: 0 | B2: 1 | C2: =(0.5*'Off Road Buggy Specs'!$B$5*'Off Road Buggy Specs'!$B$21*'Off Road Buggy Specs'!$B$18*'Peramiters '!D2^2) -> 0 | D2: 0 | E2: =('Off Road Buggy Specs'!$B$7*'Off Road Buggy Specs'!$B$19*SIN('Peramiters '!I2)) -> 0 | F2: =SUM('Off Road Buggy Specs'!B16:B17) -> 259.50345 | G2: =SUM(C2,D2,E2,$F$2) -> 259.50345
A3: 1 | B3: 1 | C3: =(0.5*'Off Road Buggy Specs'!$B$5*'Off Road Buggy Specs'!$B$21*'Off Road Buggy Specs'!$B$18*'Peramiters '!D3^2) -> 0.24005353 | D3: =('Off Road Buggy Specs'!$B$7*'Peramiters '!G3) -> 938.784 | E3: =('Off Road Buggy Specs'!$B$7*'Off Road Buggy Specs'!$B$19*SIN('Peramiters '!I3)) -> 0 | G3: =SUM(C3,D3,E3,$F$2) -> 1198.5275
A4: 2 | B4: 1 | C4: =(0.5*'Off Road Buggy Specs'!$B$5*'Off Road Buggy Specs'!$B$21*'Off Road Buggy Specs'!$B$18*'Peramiters '!D4^2) -> 0.96021411 | D4: =('Off Road Buggy Specs'!$B$7*'Peramiters '!G4) -> 938.784 | E4: =('Off Road Buggy Specs'!$B$7*'Off Road Buggy Specs'!$B$19*SIN('Peramiters '!I4)) -> 0 | G4: =SUM(C4,D4,E4,$F$2) -> 1199.2477
A5: 3 | B5: 1 | C5: =(0.5*'Off Road Buggy Specs'!$B$5*'Off Road Buggy Specs'!$B$21*'Off Road Buggy Specs'!$B$18*'Peramiters '!D5^2) -> 2.1604817 | D5: =('Off Road Buggy Specs'!$B$7*'Peramiters '!G5) -> 938.784 | E5: =('Off Road Buggy Specs'!$B$7*'Off Road Buggy Specs'!$B$19*SIN('Peramiters '!I5)) -> 0 | G5: =SUM(C5,D5,E5,$F$2) -> 1200.4479
A6: 4 | B6: 1 | C6: =(0.5*'Off Road Buggy Specs'!$B$5*'Off Road Buggy Specs'!$B$21*'Off Road Buggy Specs'!$B$18*'Peramiters '!D6^2) -> 3.8408564 | D6: =('Off Road Buggy Specs'!$B$7*'Peramiters '!G6) -> 938.784 | E6: =('Off Road Buggy Specs'!$B$7*'Off Road Buggy Specs'!$B$19*SIN('Peramiters '!I6)) -> 0 | G6: =SUM(C6,D6,E6,$F$2) -> 1202.1283
A7: 5 | B7: 1 | C7: =(0.5*'Off Road Buggy Specs'!$B$5*'Off Road Buggy Specs'!$B$21*'Off Road Buggy Specs'!$B$18*'Peramiters '!D7^2) -> 6.0013382 | D7: =('Off Road Buggy Specs'!$B$7*'Peramiters '!G7) -> 938.784 | E7: =('Off Road Buggy Specs'!$B$7*'Off Road Buggy Specs'!$B$19*SIN('Peramiters '!I7)) -> 0 | G7: =SUM(C7,D7,E7,$F$2) -> 1204.2888
A8: 6 | B8: 1 | C8: =(0.5*'Off Road Buggy Specs'!$B$5*'Off Road Buggy Specs'!$B$21*'Off Road Buggy Specs'!$B$18*'Peramiters '!D8^2) -> 6.0013382 | D8: =('Off Road Buggy Specs'!$B$7*'Peramiters '!G8) -> 0 | E8: =('Off Road Buggy Specs'!$B$7*'Off Road Buggy Specs'!$B$19*SIN('Peramiters '!I8)) -> 0 | G8: =SUM(C8,D8,E8,$F$2) -> 265.50479
A9: 7 | B9: 1 | C9: =(0.5*'Off Road Buggy Specs'!$B$5*'Off Road Buggy Specs'!$B$21*'Off Road Buggy Specs'!$B$18*'Peramiters '!D9^2) -> 6.4910474 | D9: =('Off Road Buggy Specs'!$B$7*'Peramiters '!G9) -> 187.7568 | E9: =('Off Road Buggy Specs'!$B$7*'Off Road Buggy Specs'!$B$19*SIN('Peramiters '!I9)) -> 0 | G9: =SUM(C9,D9,E9,$F$2) -> 453.75129
A10: 8 | B10: 1 | C10: =(0.5*'Off Road Buggy Specs'!$B$5*'Off Road Buggy Specs'!$B$21*'Off Road Buggy Specs'!$B$18*'Peramiters '!D10^2) -> 6.4910474 | D10: =('Off Road Buggy Specs'!$B$7*'Peramiters '!G10) -> 0 | E10: =('Off Road Buggy Specs'!$B$7*'Off Road Buggy Specs'!$B$19*SIN('Peramiters '!I10)) -> 0 | G10: =SUM(C10,D10,E10,$F$2) -> 265.99449
A11: 9 | B11: 1 | C11: =(0.5*'Off Road Buggy Specs'!$B$5*'Off Road Buggy Specs'!$B$21*'Off Road Buggy Specs'!$B$18*'Peramiters '!D11^2) -> 6.9999609 | D11: =('Off Road Buggy Specs'!$B$7*'Peramiters '!G11) -> 187.7568 | E11: =('Off Road Buggy Specs'!$B$7*'Off Road Buggy Specs'!$B$19*SIN('Peramiters '!I11)) -> 0 | G11: =SUM(C11,D11,E11,$F$2) -> 454.26021
A12: 10 | B12: 1 | C12: =(0.5*'Off Road Buggy Specs'!$B$5*'Off Road Buggy Specs'!$B$21*'Off Road Buggy Specs'!$B$18*'Peramiters '!D12^2) -> 6.9999609 | D12: =('Off Road Buggy Specs'!$B$7*'Peramiters '!G12) -> 0 | E12: =('Off Road Buggy Specs'!$B$7*'Off Road Buggy Specs'!$B$19*SIN('Peramiters '!I12)) -> 0 | G12: =SUM(C12,D12,E12,$F$2) -> 266.50341
A13: 11 | B13: 1 | C13: =(0.5*'Off Road Buggy Specs'!$B$5*'Off Road Buggy Specs'!$B$21*'Off Road Buggy Specs'!$B$18*'Peramiters '!D13^2) -> 6.9999609 | D13: =('Off Road Buggy Specs'!$B$7*'Peramiters '!G13) -> 0 | E13: =('Off Road Buggy Specs'!$B$7*'Off Road Buggy Specs'!$B$19*SIN('Peramiters '!I13)) -> 0 | G13: =SUM(C13,D13,E13,$F$2) -> 266.50341
A14: 12 | B14: 1 | C14: =(0.5*'Off Road Buggy Specs'!$B$5*'Off Road Buggy Specs'!$B$21*'Off Road Buggy Specs'!$B$18*'Peramiters '!D14^2) -> 7.5280786 | D14: =('Off Road Buggy Specs'!$B$7*'Peramiters '!G14) -> 187.7568 | E14: =('Off Road Buggy Specs'!$B$7*'Off Road Buggy Specs'!$B$19*SIN('Peramiters '!I14)) -> 0 | G14: =SUM(C14,D14,E14,$F$2) -> 454.78833
... A35: 33 | B35: 2 | C35: =(0.5*'Off Road Buggy Specs'!$B$5*'Off Road Buggy Specs'!$B$21*'Off Road Buggy Specs'!$B$18*'Peramiters '!D35^2) -> 0.96021411 | D35: =('Off Road Buggy Specs'!$B$7*'Peramiters '!G35) -> -938.784 | E35: =('Off Road Buggy Specs'!$B$7*'Off Road Buggy Specs'!$B$19*SIN('Peramiters '!I35)) -> 0 | G35: =SUM(C35,D35,E35,$F$2) -> -678.32034
A36: 34 | B36: 2 | C36: =(0.5*'Off Road Buggy Specs'!$B$5*'Off Road Buggy Specs'!$B$21*'Off Road Buggy Specs'!$B$18*'Peramiters '!D36^2) -> 0.96021411 | D36: =('Off Road Buggy Specs'!$B$7*'Peramiters '!G36) -> 0 | E36: =('Off Road Buggy Specs'!$B$7*9.81*SIN('Peramiters '!I36)) -> 4118.7545 | G36: =SUM(C36,D36,E36,$F$2) -> 4379.2182
A37: 35 | B37: 2 | C37: =(0.5*'Off Road Buggy Specs'!$B$5*'Off Road Buggy Specs'!$B$21*'Off Road Buggy Specs'!$B$18*'Peramiters '!D37^2) -> 0.96021411 | D37: =('Off Road Buggy Specs'!$B$7*'Peramiters '!G37) -> 0 | E37: =('Off Road Buggy Specs'!$B$7*'Off Road Buggy Specs'!$B$19*SIN('Peramiters '!I37)) -> 4118.7545 | G37: =SUM(C37,D37,E37,$F$2) -> 4379.2182
A38: 36 | B38: 2 | C38: =(0.5*'Off Road Buggy Specs'!$B$5*'Off Road Buggy Specs'!$B$21*'Off Road Buggy Specs'!$B$18*'Peramiters '!D38^2) -> 0.96021411 | D38: =('Off Road Buggy Specs'!$B$7*'Peramiters '!G38) -> 0 | E38: =('Off Road Buggy Specs'!$B$7*'Off Road Buggy Specs'!$B$19*SIN('Peramiters '!I38)) -> 4118.7545 | G38: =SUM(C38,D38,E38,$F$2) -> 4379.2182
A39: 37 | B39: 2 | C39: =(0.5*'Off Road Buggy Specs'!$B$5*'Off Road Buggy Specs'!$B$21*'Off Road Buggy Specs'!$B$18*'Peramiters '!D39^2) -> 0.96021411 | D39: =('Off Road Buggy Specs'!$B$7*'Peramiters '!G39) -> 0 | E39: =('Off Road Buggy Specs'!$B$7*'Off Road Buggy Specs'!$B$19*SIN('Peramiters '!I39)) -> 4118.7545 | G39: =SUM(C39,D39,E39,$F$2) -> 4379.2182
A40: 38 | B40: 2 | C40: =(0.5*'Off Road Buggy Specs'!$B$5*'Off Road Buggy Specs'!$B$21*'Off Road Buggy Specs'!$B$18*'Peramiters '!D40^2) -> 0.96021411 | D40: =('Off Road Buggy Specs'!$B$7*'Peramiters '!G40) -> 0 | E40: =('Off Road Buggy Specs'!$B$7*'Off Road Buggy Specs'!$B$19*SIN('Peramiters '!I40)) -> 4118.7545 | G40: =SUM(C40,D40,E40,$F$2) -> 4379.2182
A41: 39 | B41: 2 | C41: =(0.5*'Off Road Buggy Specs'!$B$5*'Off Road Buggy Specs'!$B$21*'Off Road Buggy Specs'!$B$18*'Peramiters '!D41^2) -> 0.96021411 | D41: =('Off Road Buggy Specs'!$B$7*'Peramiters '!G41) -> 0 | E41: =('Off Road Buggy Specs'!$B$7*'Off Road Buggy Specs'!$B$19*SIN('Peramiters '!I41)) -> 4118.7545 | G41: =SUM(C41,D41,E41,$F$2) -> 4379.2182
A42: 40 | B42: 2 | C42: =(0.5*'Off Road Buggy Specs'!$B$5*'Off Road Buggy Specs'!$B$21*'Off Road Buggy Specs'!$B$18*'Peramiters '!D42^2) -> 0.96021411 | D42: =('Off Road Buggy Specs'!$B$7*'Peramiters '!G42) -> 0 | E42: =('Off Road Buggy Specs'!$B$7*'Off Road Buggy Specs'!$B$19*SIN('Peramiters '!I42)) -> 4118.7545 | G42: =SUM(C42,D42,E42,$F$2) -> 4379.2182
A43: 41 | B43: 2 | C43: =(0.5*'Off Road Buggy Specs'!$B$5*'Off Road Buggy Specs'!$B$21*'Off Road Buggy Specs'!$B$18*'Peramiters '!D43^2) -> 0.96021411 | D43: =('Off Road Buggy Specs'!$B$7*'Peramiters '!G43) -> 0 | E43: =('Off Road Buggy Specs'!$B$7*'Off Road Buggy Specs'!$B$19*SIN('Peramiters '!I43)) -> 4118.7545 | G43: =SUM(C43,D43,E43,$F$2) -> 4379.2182
A44: 42 | B44: 2 | C44: =(0.5*'Off Road Buggy Specs'!$B$5*'Off Road Buggy Specs'!$B$21*'Off Road Buggy Specs'!$B$18*'Peramiters '!D44^2) -> 0.96021411 | D44: =('Off Road Buggy Specs'!$B$7*'Peramiters '!G44) -> 0 | E44: =('Off Road Buggy Specs'!$B$7*'Off Road Buggy Specs'!$B$19*SIN('Peramiters '!I44)) -> 4118.7545 | G44: =SUM(C44,D44,E44,$F$2) -> 4379.2182
A45: 43 | B45: 2 | C45: =(0.5*'Off Road Buggy Specs'!$B$5*'Off Road Buggy Specs'!$B$21*'Off Road Buggy Specs'!$B$18*'Peramiters '!D45^2) -> 0.96021411 | D45: =('Off Road Buggy Specs'!$B$7*'Peramiters '!G45) -> 0 | E45: =('Off Road Buggy Specs'!$B$7*'Off Road Buggy Specs'!$B$19*SIN('Peramiters '!I45)) -> 4118.7545 | G45: =SUM(C45,D45,E45,$F$2) -> 4379.2182
A46: 44 | B46: 2 | C46: =(0.5*'Off Road Buggy Specs'!$B$5*'Off Road Buggy Specs'!$B$21*'Off Road Buggy Specs'!$B$18*'Peramiters '!D46^2) -> 0.96021411 | D46: =('Off Road Buggy Specs'!$B$7*'Peramiters '!G46) -> 0 | E46: =('Off Road Buggy Specs'!$B$7*'Off Road Buggy Specs'!$B$19*SIN('Peramiters '!I46)) -> 4118.7545 | G46: =SUM(C46,D46,E46,$F$2) -> 4379.2182
A47: 45 | B47: 2 | C47: =(0.5*'Off Road Buggy Specs'!$B$5*'Off Road Buggy Specs'!$B$21*'Off Road Buggy Specs'!$B$18*'Peramiters '!D47^2) -> 0.96021411 | D47: =('Off Road Buggy Specs'!$B$7*'Peramiters '!G47) -> 0 | E47: =('Off Road Buggy Specs'!$B$7*'Off Road Buggy Specs'!$B$19*SIN('Peramiters '!I47)) -> 4118.7545 | G47: =SUM(C47,D47,E47,$F$2) -> 4379.2182
A48: 46 | B48: 2 | C48: =(0.5*'Off Road Buggy Specs'!$B$5*'Off Road Buggy Specs'!$B$21*'Off Road Buggy Specs'!$B$18*'Peramiters '!D48^2) -> 0.96021411 | D48: =('Off Road Buggy Specs'!$B$7*'Peramiters '!G48) -> 0 | E48: =('Off Road Buggy Specs'!$B$7*'Off Road Buggy Specs'!$B$19*SIN('Peramiters '!I48)) -> 4118.7545 | G48: =SUM(C48,D48,E48,$F$2) -> 4379.2182
... A152: 150 | B152: 3 | C152: =(0.5*'Off Road Buggy Specs'!$B$5*'Off Road Buggy Specs'!$B$21*'Off Road Buggy Specs'!$B$18*'Peramiters '!D152^2) -> 0 | D152: =('Off Road Buggy Specs'!$B$7*'Peramiters '!G152) -> 0 | E152: =('Off Road Buggy Specs'!$B$7*'Off Road Buggy Specs'!$B$19*SIN('Peramiters '!I152)) -> 0 | G152: =SUM(C152,D152,E152,$F$2) -> 259.50345

Sheet Output
A1: Time (S) | B1: Track Section | C1: Wheel RPM | D1: Power at the wheels (W) | E1: Torque at the wheels (Nm) | F1: Energy (J/s) | G1: Energy (w/h) | H1: Cumulative Energy (w/h)
A2: 0 | B2: 1 | C2: =('Peramiters '!D2/'Off Road Buggy Specs'!$B$22)*60 -> 0 | D2: ='Forces '!G2*'Peramiters '!D2 -> 0 | E2: =IF('Forces '!G2*'Off Road Buggy Specs'!$B$15<0,0,'Forces '!G2*'Off Road Buggy Specs'!$B$15) -> 72.505263 | F2: =D2*1 -> 0 | G2: =D2*0.0416667 -> 0 | H2: =SUM(G2,H1) -> 0
A3: 1 | B3: 1 | C3: =('Peramiters '!D3/'Off Road Buggy Specs'!$B$22)*60 -> 76.433121 | D3: ='Forces '!G3*'Peramiters '!D3 -> 2678.9487 | E3: =IF('Forces '!G3*'Off Road Buggy Specs'!$B$15<0,0,'Forces '!G3*'Off Road Buggy Specs'!$B$15) -> 334.86858 | F3: =D3*1 -> 2678.9487 | G3: =D3*0.0416667 -> 111.62295 | H3: =SUM(G3,H2) -> 111.62295
A4: 2 | B4: 1 | C4: =('Peramiters '!D4/'Off Road Buggy Specs'!$B$22)*60 -> 152.86624 | D4: ='Forces '!G4*'Peramiters '!D4 -> 5361.1167 | E4: =IF('Forces '!G4*'Off Road Buggy Specs'!$B$15<0,0,'Forces '!G4*'Off Road Buggy Specs'!$B$15) -> 335.0698 | F4: =D4*1 -> 5361.1167 | G4: =D4*0.0416667 -> 223.38004 | H4: =SUM(G4,H3) -> 335.00299
A5: 3 | B5: 1 | C5: =('Peramiters '!D5/'Off Road Buggy Specs'!$B$22)*60 -> 229.29936 | D5: ='Forces '!G5*'Peramiters '!D5 -> 8049.7236 | E5: =IF('Forces '!G5*'Off Road Buggy Specs'!$B$15<0,0,'Forces '!G5*'Off Road Buggy Specs'!$B$15) -> 335.40515 | F5: =D5*1 -> 8049.7236 | G5: =D5*0.0416667 -> 335.40542 | H5: =SUM(G5,H4) -> 670.40841
A6: 4 | B6: 1 | C6: =('Peramiters '!D6/'Off Road Buggy Specs'!$B$22)*60 -> 305.73248 | D6: ='Forces '!G6*'Peramiters '!D6 -> 10747.989 | E6: =IF('Forces '!G6*'Off Road Buggy Specs'!$B$15<0,0,'Forces '!G6*'Off Road Buggy Specs'!$B$15) -> 335.87465 | F6: =D6*1 -> 10747.989 | G6: =D6*0.0416667 -> 447.83322 | H6: =SUM(G6,H5) -> 1118.2416
A7: 5 | B7: 1 | C7: =('Peramiters '!D7/'Off Road Buggy Specs'!$B$22)*60 -> 382.16561 | D7: ='Forces '!G7*'Peramiters '!D7 -> 13459.131 | E7: =IF('Forces '!G7*'Off Road Buggy Specs'!$B$15<0,0,'Forces '!G7*'Off Road Buggy Specs'!$B$15) -> 336.47829 | F7: =D7*1 -> 13459.131 | G7: =D7*0.0416667 -> 560.79759 | H7: =SUM(G7,H6) -> 1679.0392
A8: 6 | B8: 1 | C8: =('Peramiters '!D8/'Off Road Buggy Specs'!$B$22)*60 -> 382.16561 | D8: ='Forces '!G8*'Peramiters '!D8 -> 2967.2815 | E8: =IF('Forces '!G8*'Off Road Buggy Specs'!$B$15<0,0,'Forces '!G8*'Off Road Buggy Specs'!$B$15) -> 74.182037 | F8: =D8*1 -> 2967.2815 | G8: =D8*0.0416667 -> 123.63683 | H8: =SUM(G8,H7) -> 1802.6761
A9: 7 | B9: 1 | C9: =('Peramiters '!D9/'Off Road Buggy Specs'!$B$22)*60 -> 397.45223 | D9: ='Forces '!G9*'Peramiters '!D9 -> 5273.9694 | E9: =IF('Forces '!G9*'Off Road Buggy Specs'!$B$15<0,0,'Forces '!G9*'Off Road Buggy Specs'!$B$15) -> 126.77811 | F9: =D9*1 -> 5273.9694 | G9: =D9*0.0416667 -> 219.7489 | H9: =SUM(G9,H8) -> 2022.425
A10: 8 | B10: 1 | C10: =('Peramiters '!D10/'Off Road Buggy Specs'!$B$22)*60 -> 397.45223 | D10: ='Forces '!G10*'Peramiters '!D10 -> 3091.6647 | E10: =IF('Forces '!G10*'Off Road Buggy Specs'!$B$15<0,0,'Forces '!G10*'Off Road Buggy Specs'!$B$15) -> 74.318862 | F10: =D10*1 -> 3091.6647 | G10: =D10*0.0416667 -> 128.81946 | H10: =SUM(G10,H9) -> 2151.2444
A11: 9 | B11: 1 | C11: =('Peramiters '!D11/'Off Road Buggy Specs'!$B$22)*60 -> 412.73885 | D11: ='Forces '!G11*'Peramiters '!D11 -> 5482.9571 | E11: =IF('Forces '!G11*'Off Road Buggy Specs'!$B$15<0,0,'Forces '!G11*'Off Road Buggy Specs'!$B$15) -> 126.9203 | F11: =D11*1 -> 5482.9571 | G11: =D11*0.0416667 -> 228.45673 | H11: =SUM(G11,H10) -> 2379.7011
A12: 10 | B12: 1 | C12: =('Peramiters '!D12/'Off Road Buggy Specs'!$B$22)*60 -> 412.73885 | D12: ='Forces '!G12*'Peramiters '!D12 -> 3216.7175 | E12: =IF('Forces '!G12*'Off Road Buggy Specs'!$B$15<0,0,'Forces '!G12*'Off Road Buggy Specs'!$B$15) -> 74.461052 | F12: =D12*1 -> 3216.7175 | G12: =D12*0.0416667 -> 134.03 | H12: =SUM(G12,H11) -> 2513.7312
A13: 11 | B13: 1 | C13: =('Peramiters '!D13/'Off Road Buggy Specs'!$B$22)*60 -> 412.73885 | D13: ='Forces '!G13*'Peramiters '!D13 -> 3216.7175 | E13: =IF('Forces '!G13*'Off Road Buggy Specs'!$B$15<0,0,'Forces '!G13*'Off Road Buggy Specs'!$B$15) -> 74.461052 | F13: =D13*1 -> 3216.7175 | G13: =D13*0.0416667 -> 134.03 | H13: =SUM(G13,H12) -> 2647.7612
... A152: 150 | B152: 3 | C152: =('Peramiters '!D152/'Off Road Buggy Specs'!$B$22)*60 -> 0 | D152: ='Forces '!G152*'Peramiters '!D152 -> 0 | E152: =IF('Forces '!G152*'Off Road Buggy Specs'!$B$15<0,0,'Forces '!G152*'Off Road Buggy Specs'!$B$15) -> 72.505263 | F152: =D152*1 -> 0 | G152: =D152*0.0416667 -> 0 | H152: =SUM(G152,H151) -> 26111.392

Sheet Gear ratio
B1: Assumed Motor RPM | C1: Wheel speed (mph) | D1: wheel RPM | E1: Ideal Gear ratio | G1: Therietical Motor RPM and Torque | M1: Time (S) | N1: Track Section | O1: Motor torque required calculated from gear ratio (Nm)
C2: =C3-($C$22/20) -> 0 | D2: =D3-($D$22/20) -> 1.6342483e-13 | E2: =B2/D2 -> 0 | G2: Max Wheel RPM | H2: Max wheel Torque | I2: Gear Ratio | J2: Therietical Motor torque (Nm) | K2: Therietical Max RPM | M2: 0 | N2: 1 | O2: =Output!E2:E152/9*1 -> 8.0561404
B3: 200 | C3: =C4-($C$22/20) -> 2 | D3: =D4-($D$22/20) -> 30.573248 | E3: =B3/D3 -> 6.5416667 | G3: 611.46497 | H3: =MAX(Output!E2:E152) -> 1223.5536 | I3: =E3 -> 6.5416667 | J3: =$H$3/I3 -> 187.04003 | K3: =I3*$G$3 -> 4000 | M3: 1 | N3: 1 | O3: =Output!E3:E153/9*1 -> 37.20762
B4: 400 | C4: =C5-($C$22/20) -> 4 | D4: =D5-($D$22/20) -> 61.146497 | E4: =B4/D4 -> 6.5416667 | I4: 4 | J4: =$H$3/I4 -> 305.88839 | K4: =I4*$G$3 -> 2445.8599 | M4: 2 | N4: 1 | O4: =Output!E4:E154/9*1 -> 37.229977
B5: 600 | C5: =C6-($C$22/20) -> 6 | D5: =D6-($D$22/20) -> 91.719745 | E5: =B5/D5 -> 6.5416667 | I5: 5 | J5: =$H$3/I5 -> 244.71071 | K5: =I5*$G$3 -> 3057.3248 | M5: 3 | N5: 1 | O5: =Output!E5:E155/9*1 -> 37.267239
B6: 800 | C6: =C7-($C$22/20) -> 8 | D6: =D7-($D$22/20) -> 122.29299 | E6: =B6/D6 -> 6.5416667 | I6: 6 | J6: =$H$3/I6 -> 203.92559 | K6: =I6*$G$3 -> 3668.7898 | M6: 4 | N6: 1 | O6: =Output!E6:E156/9*1 -> 37.319405
B7: 1000 | C7: =C8-($C$22/20) -> 10 | D7: =D8-($D$22/20) -> 152.86624 | E7: =B7/D7 -> 6.5416667 | I7: 7 | J7: =$H$3/I7 -> 174.79337 | K7: =I7*$G$3 -> 4280.2548 | M7: 5 | N7: 1 | O7: =Output!E7:E157/9*1 -> 37.386476
B8: 1200 | C8: =C9-($C$22/20) -> 12 | D8: =D9-($D$22/20) -> 183.43949 | E8: =B8/D8 -> 6.5416667 | I8: 8 | J8: =$H$3/I8 -> 152.94419 | K8: =I8*$G$3 -> 4891.7197 | M8: 6 | N8: 1 | O8: =Output!E8:E158/9*1 -> 8.2424486
B9: 1400 | C9: =C10-($C$22/20) -> 14 | D9: =D10-($D$22/20) -> 214.01274 | E9: =B9/D9 -> 6.5416667 | I9: 9 | J9: =$H$3/I9 -> 135.9504 | K9: =I9*$G$3 -> 5503.1847 | M9: 7 | N9: 1 | O9: =Output!E9:E159/9*1 -> 14.086457
B10: 1600 | C10: =C11-($C$22/20) -> 16 | D10: =D11-($D$22/20) -> 244.58599 | E10: =B10/D10 -> 6.5416667 | I10: 10 | J10: =$H$3/I10 -> 122.35536 | K10: =I10*$G$3 -> 6114.6497 | M10: 8 | N10: 1 | O10: =Output!E10:E160/9*1 -> 8.2576513
B11: 1800 | C11: =C12-($C$22/20) -> 18 | D11: =D12-($D$22/20) -> 275.15924 | E11: =B11/D11 -> 6.5416667 | M11: 9 | N11: 1 | O11: =Output!E11:E161/9*1 -> 14.102256
B12: 2000 | C12: =C13-($C$22/20) -> 20 | D12: =D13-($D$22/20) -> 305.73248 | E12: =B12/D12 -> 6.5416667 | M12: 10 | N12: 1 | O12: =Output!E12:E162/9*1 -> 8.2734502
B13: 2200 | C13: =C14-($C$22/20) -> 22 | D13: =D14-($D$22/20) -> 336.30573 | E13: =B13/D13 -> 6.5416667 | M13: 11 | N13: 1 | O13: =Output!E13:E163/9*1 -> 8.2734502
B14: 2400 | C14: =C15-($C$22/20) -> 24 | D14: =D15-($D$22/20) -> 366.87898 | E14: =B14/D14 -> 6.5416667 | M14: 12 | N14: 1 | O14: =Output!E14:E164/9*1 -> 14.118651
B15: 2600 | C15: =C16-($C$22/20) -> 26 | D15: =D16-($D$22/20) -> 397.45223 | E15: =B15/D15 -> 6.5416667 | M15: 13 | N15: 1 | O15: =Output!E15:E165/9*1 -> 19.982035
B16: 2800 | C16: =C17-($C$22/20) -> 28 | D16: =D17-($D$22/20) -> 428.02548 | E16: =B16/D16 -> 6.5416667 | M16: 14 | N16: 1 | O16: =Output!E16:E166/9*1 -> 20.018999
B17: 3000 | C17: =C18-($C$22/20) -> 30 | D17: =D18-($D$22/20) -> 458.59873 | E17: =B17/D17 -> 6.5416667 | M17: 15 | N17: 1 | O17: =Output!E17:E167/9*1 -> 20.058347
B18: 3200 | C18: =C19-($C$22/20) -> 32 | D18: =D19-($D$22/20) -> 489.17197 | E18: =B18/D18 -> 6.5416667 | M18: 16 | N18: 1 | O18: =Output!E18:E168/9*1 -> 20.10008
B19: 3400 | C19: =C20-($C$22/20) -> 34 | D19: =D20-($D$22/20) -> 519.74522 | E19: =B19/D19 -> 6.5416667 | M19: 17 | N19: 1 | O19: =Output!E19:E169/9*1 -> 20.144198
B20: 3600 | C20: =C21-($C$22/20) -> 36 | D20: =D21-($D$22/20) -> 550.31847 | E20: =B20/D20 -> 6.5416667 | M20: 18 | N20: 1 | O20: =Output!E20:E170/9*1 -> 20.1907
B21: 3800 | C21: =C22-($C$22/20) -> 38 | D21: =D22-($D$22/20) -> 580.89172 | E21: =B21/D21 -> 6.5416667 | M21: 19 | N21: 1 | O21: =Output!E21:E171/9*1 -> 8.5330894
B22: 4000 | C22: 40 | D22: 611.46497 | E22: =B22/D22 -> 6.5416667 | M22: 20 | N22: 1 | O22: =Output!E22:E172/9*1 -> 8.5330894
M23: 21 | N23: 1 | O23: =Output!E23:E173/9*1 -> 8.5330894
M24: 22 | N24: 1 | O24: =Output!E24:E174/9*1 -> 8.5330894
M25: 23 | N25: 1 | O25: =Output!E25:E175/9*1 -> 8.5330894
M26: 24 | N26: 1 | O26: =Output!E26:E176/9*1 -> 8.5330894
M27: 25 | N27: 1 | O27: =Output!E27:E177/9*1 -> 8.5330894
M28: 26 | N28: 1 | O28: =Output!E28:E178/9*1 -> 8.5330894
M29: 27 | N29: 1 | O29: =Output!E29:E179/9*1 -> 8.5330894
M30: 28 | N30: 1 | O30: =Output!E30:E180/9*1 -> 0
M31: 29 | N31: 1 | O31: =Output!E31:E181/9*1 -> 0
M32: 30 | N32: 1 | O32: =Output!E32:E182/9*1 -> 0
M33: 31 | N33: 2 | O33: =Output!E33:E183/9*1 -> 0
M34: 32 | N34: 2 | O34: =Output!E34:E184/9*1 -> 0
... M37: 35 | N37: 2 | O37: =Output!E37:E187/9*1 -> 135.9504
A38: https://www.engineersedge.com/mechanics_machines/transmission-gear-ratio-calculator.htm | M38: 36 | N38: 2 | O38: =Output!E38:E188/9*1 -> 135.9504
M39: 37 | N39: 2 | O39: =Output!E39:E189/9*1 -> 135.9504
M40: 38 | N40: 2 | O40: =Output!E40:E190/9*1 -> 135.9504
M41: 39 | N41: 2 | O41: =Output!E41:E191/9*1 -> 135.9504
M42: 40 | N42: 2 | O42: =Output!E42:E192/9*1 -> 135.9504
M43: 41 | N43: 2 | O43: =Output!E43:E193/9*1 -> 135.9504
M44: 42 | N44: 2 | O44: =Output!E44:E194/9*1 -> 135.9504
M45: 43 | N45: 2 | O45: =Output!E45:E195/9*1 -> 135.9504
M46: 44 | N46: 2 | O46: =Output!E46:E196/9*1 -> 135.9504
M47: 45 | N47: 2 | O47: =Output!E47:E197/9*1 -> 135.9504
M48: 46 | N48: 2 | O48: =Output!E48:E198/9*1 -> 135.9504
M49: 47 | N49: 2 | O49: =Output!E49:E199/9*1 -> 135.9504
M50: 48 | N50: 2 | O50: =Output!E50:E200/9*1 -> 135.9504
... M152: 150 | N152: 3 | O152: =Output!E152:E302/9*1 -> 8.0561404

Sheet Maximum
B3: Maximum Tactive effort (N) | C3: =MAX('Forces '!G2:G152) -> 4379.2182
B4: Maximum Power at the Wheels (w) | C4: =MAX(Output!D2:D152) -> 20812.813
B5: Maximum torque at the wheels (Nm) | C5: =MAX(Output!E2:E152) -> 1223.5536
B6: Torque of the motor (Nm) | C6: =MAX('Gear ratio'!M:M) -> 150
B7: Maximum cumilitive energy used(w/h) | C7: =MAX(Output!H:H) -> 32242.1
B8: Averager energy used (w/h) | C8: =AVERAGE(Output!H12:H152) -> 20466.004

Sheet Efficiency 
A2: Chain and sprocket
B4: Efficiency Identified | C4: 0.951
B5: Maximum power at the wheels (w) | C5: 20812.813
B6: Power losses (w) | C6: =C5*0.049 -> 1019.8278
B7: Power Before Losses (w) | C7: =C5+C6 -> 21832.641
A14: Motor
B16: rpm at 40 mph | C16: ='Gear ratio'!K9 -> 5503.1847
B17: motor Torque required | C17: =MAX('Gear ratio'!O2:O152) -> 135.9504
B40: Efficicncy identified | C40: 90%-94%
B41: Efficicncy Chosen | C41: 0.92
B42: Power after gear loses (w) | C42: =C7 -> 21832.641
B43: Power loss (w) | C43: =C42*0.08 -> 1746.6113
B44: Power after losses (w) | C44: =C42+C43 -> 23579.252
A47: Controler
B49: Efficiency Identified | C49: 0.96
B50: Power after Motor losses (w) | C50: =C44 -> 23579.252
B51: Power loss (w) | C51: =C50*0.04 -> 943.17008
B52: Power After Loss (w) | C52: =C50+C51 -> 24522.422
B55: https://www.researchgate.net/figure/Yasa-400-motorcontroller-efficiency-map_fig6_261309040
A57: Battery
B59: Power after all losses (w) | C59: 24522.422
B60: Energy after losses (wh) | C60: =C59*0.0416667 -> 1021.7684
B63: Battery Suitability
B64: battery voltage (v) | C64: 58.4
B65: Calculated amps used per hour (Ah) | C65: =C60/C64 -> 17.496034
B66: Battery Capacity (Ah) | C66: 68
B67: Time to deplete battery under normal drivecycle (Hours) | C67: =C66/C65 -> 3.886595
B69: validate
B70: Battery energy rating (wh) | C70: 3300
B71: Time to deplete battery under notmal drive cycle (Hours) | C71: =C70/C60 -> 3.2296947
B73: Average run time
B74: Run time based off Ah | C74: =C67 -> 3.886595
B75: Run time based off Kwh | C75: =C71 -> 3.2296947
B76: Average run time | C76: =AVERAGE(C74:C75) -> 3.5581449
A79: Generator
B81: Generator Demands
B82: Energy needed (w) | C82: =C60 -> 1021.7684
B83: Voltage from the battery | C83: =C64 -> 58.4
B84: Amps required | C84: =C82/C83 -> 17.496034
B86: Motor generation output
B87: Motor rated voltage (V) | C87: 74
B88: Motor efficiency | C88: 0.839
B89: Motor rated power (w) | C89: 540
B90: Assumed generated voltage (V) | C90: =C87*C88 -> 62.086
B91: Motor Amps | C91: 3.03

Sheet Costing
B2: Componenct | C2: Cost
B3: Motor | C3: 2885
B4: Controler | C4: 1562
B5: Battery | C5: 425
B6: Generator | C6: 620
B7: ICE Engine | C7: 312
B8: Total | C8: =SUM(C3:C7) -> 5804
