Workbook

Sheet Time Allocation
A1: Work | B1: Independent Learning (Hours) | C1: Days | E1: 585 | F1: Official MSc Study Time Allocation from WISA Module directly L7. Independent Learning for Major Project ACFA7003
A2: Research and Dissertation Writing | B2: ='Work Log research and writeup'!E1 -> 571.5 | C2: =B2/24 -> 23.8125
A3: Uni VE (MST) | B3: ='Work Log Uni VE '!E1 -> 116.5 | C3: =B3/24 -> 4.8541667
A4: Home VE (HPT) | B4: ='Work Log Home VE'!E1 -> 153 | C4: =B4/24 -> 6.375
A5: Viva Preparation | B5: ='Viva Preparation '!E1 -> 1 | C5: =B5/24 -> 0.041666667
A7: Total (Hours) | B7: =SUM(B2:B5) -> 842 | C7: =B7/24 -> 35.083333
A9: MSc Major Project Independent Learning Study Time | B9: 585 | C9: =B9/24 -> 24.375
A11: Additional Independent Study Time | B11: =B7-B9 -> 257 | C11: =B11/24 -> 10.708333

Sheet Work Log Uni VE 
A1: Date | B1: Task | C1: Duration (Hours) | D1: Total | E1: =SUM(C:C) -> 116.5 | F1: Milestones | G1: Notes | H1: Target is 585 Hours from Course Handbook | I1: 585 Hours over 29 Weeks is around 20 Hours a week. (July - December) | Q1: Total | R1: =E1+'Work Log Home VE'!E1+'Work Log research and writeup'!E1 -> 841 | S1: Percentage | T1: =R1/545 -> 1.5431193
A2: 45713 | B2: Moving Cybersecurity Server into Server room, putting server in the rack and connecting to the network. | C2: 2
A3: 45714 | B3: Sketched out Virtual Environment, IP Addressing, Number of Devices, HDD sizes etc. | C3: 0.5
A4: 45714 | B4: Configuring Virtual Box configured server and installed Win 2019 | C4: 1.5
A5: 45720 | B5: Downloaded Kali, and Metasploitable2. Cloned the Win Server 2019, created a VM for the Win11 PC. | C5: 0.5
A6: 45721 | B6: Downloaded BeeBox, Ubuntu Server. Created a VM for Ubuntu Server and created a Clone VM for Snort. Tried to enable rules to block 10.0.2.x traffic to the live server ranges, but that didn't work. Could be the NATing. Maybe I need to block 10.56.x.x not 10.0.2.x Noticed that VM has a uni.local suffix - need to investigate Air Gapping. | C6: 1
A7: 45728 | B7: Found that I cannot block traffic from 10.56.x.x not 10.0.2.x on the Physical Host Server running the VE. VirtualBox connects to the host below Layer 3, so imposing firewall rules on the host will not block the traffic. To successfully block the traffic, firewall rules need to be implemented on the VM itself, using the Windows Defender Firewall or iptables in Linux. | C7: 0.5
A8: 45733 | B8: Relocate Physical server | C8: 1
A9: 45734 | B9: Firewall rules enabled to block traffic to live services. Enabled Firewall rules outbound to block internal addressing on Windows Server. Enabled Uncomplicated Firewall (ufw) rules outbound to block internal addressing on Ubuntu Server. Conducted testing. | C9: 1
A10: 45734 | B10: Configured manual IP and hostname on Primary DC. DC-100 (10.0.2.100) Tried to join domain cyber.test, but error message popped up saying that there was no Active Directory Domain Controller "AD DC" for this domain. | C10: 0.5
A11: 45735 | B11: DC-100: Added Roles AD DC and DNS, and promoted to DC for the cyber.test domain. Domain functional Level Server 2016 Local Admin account converted to Domain Admin Account automatically Configured DNS forwarders on DC-100 to: Primary forwarder 1.1.1.1 Backup forwarder 1.0.0.1 Created a new Organisational Unit = Cyber Test Users Created a new Domain user account test1 Pass Testing1!!! Tried to create new Domain Admin Account for cyber.test domain. Password policy issues, would not accept any password typed. | C11: 1 | G11: Need to change Password policy for cyber.test domain. Need to configure NTP on DC-100 Need to setup Test Domain Admin Account
A12: 45740 | B12: * NTP Time Sync Configured on DC-100 * Built Win-PC-10 Windows 11 Pro - Fixed Static IP Address, NTP Configured Time Sync from DC-100, * Firewall Configured to block access to live network, Domain joined. Tested Domain login using Test1 account -successful. * Ubuntu Server (Image) configured NTP - Time Sync from External NTP server. * Issue: Cannot use apt-get at the moment on Ubuntu Server. Need to investigate. * Built Metasploitable2 server, fixed static IP Address, attempted to configure NTP & Firewall - Different distro to Ubuntu Server - different commands required. | C12: 2.5
A13: 45742 | B13: Ubuntu Server: Attempted to configure DNS on the etc/Resolv.conf file, but everytime it was configured it would revert back to the 127.0.0.53 ip address. Attempted to fault find but ran out of time. I also found that the ens03 interface are pointed to the Uni DCs and Domain. This will need to be changed as I have blocked all access to those live servers. On Metaspoitable2, I put iptables rules to block access outbound and saved the rule, but when the server restarts the rules are no longer there. I don't think this is critical as traffic won't be escaping from this server. I'm more concerned with the Kali and Windows Servers escaping. | C13: 2
A14: 45756 | B14: Received official Authorisation to continue with Project from IT Management sanctioning the use of UWTSD equipment via Email. Discussed the project with them, and they are fully onboard. | C14: 0.5 | F14: Project Authorisation from IT Management.
A15: 45785 | B15: Static IP Addresses Applied to Ubuntu Server Additional Bridged NIC added to all servers for external access. Installed Kali and created VM for attack PC. Attempted to change NTP settings on Meta2 | C15: 4
A16: 45786 | B16: Installed Advanced Port Scanner on Nessus server. DAS server > Installed WinSCP . (Does NOT work with Kali or Meta2). Tested WinSCP tested with all NIDS working ok. Kali - Installed Above, and configured correct timezone. Installed Snort2 and Suricata. Setup BeeBox VM - TCPDump already installed, changed keyboard and timezone, static IP. | C16: 7
A17: 45793 | B17: Moved VMs from C: --> D: as D: is a RAID of several TBs. DAS bi-directional copy configured to facilitate coping of test results to the physical machine. Also configured PuTTY on DAS and setup ssh sessions to each NIDS. Colour co-ordination of text for each session has also been configured that could be useful for differentiating each NIDS in screenshots. Persistent promiscuous mode configured on each NIDS. This was done by creating a promiscuous_mode.service and associating that service with the NIC. The service is then enabled to run on startup. CLoned Snort2 and Suricata NIDS to create a Basic, which will only use the basic rule sets enabled as default. The clone was named LRules (Local Rules) these will include local rules and more rules will be enabled. | C17: 3
A18: 45794 | B18: Configure Physical Firewall | C18: 2
A19: 45794 | B19: Configure VLAN 155 CyberSecurity VLAN | C19: 1
A20: 45806 | B20: Configured DNS - Forward Lookup zones and A Records for: meta2.com > 10.0.2.111 beebox.com > 10.0.2.11 This allows tools such as sqlmap that require a url to function. Tested DNSrecon, DNSenum, dmitry, legion > All worked without issue. SQLmap worked with URL, BUT came back with a CRITICAL error, required additional parameters. Tried -a for all, but this didn't work. Tested Amass, this attempted to send traffic to the internet when testing in order to enumerate, this is not suitable tool for testing. Will need to find a replacement. Created directories on Snort2, Snort3, Suricata to store Test results using the naming convention: Main Directory: test-results-snort2 Sub-Directory: snort2-results-phase1 Sub-Directory: snort2-results-phase2 Created snapshots for all VMs Created a clone of the Kali attack machine as a backup. Location: /home/cslab/test-results-snort2 | C20: 3 | G20: Also Tested hping3 for DR Exercise on 04/06/2025 for work.
A21: 45820 | B21: Imported Snort3 into University based VE, moved the Snort3 VM to the D:. Tested the newly imported Snort3 server everything working ok. Conducted tests on Tools and NIDS on Uni VE. SSLscan, Nikto, Above, dnsenum, dnsrecon, enum4linux, smbmap and SQLMap. Testing went well but: SSLscan: Meta2 and Beebox do not have https webpages. A new Webserver with a self signed SSL certificate will need to be built to support HTTPS SSLScan test. SSLTarget 10.0.2.112, and new DNS entry on DC for ssltarget.com. SQLMap worked partially, the basic scan worked ok and Snort2 detected the malicious traffic. It reported that there was NO vulnerability on the id parameter. Needs further investigation. Started putting files ready to store test results on the DAS. The plan is: Phase I: PCAP Files - Kali, and Snort2/3, Suricata Alerts: Suricata & Snort2 will store Fast & Full (eve.json) logs. Snort3 will store alert_fast.txt only | C21: 5
A22: 45821 | B22: SQLMap Testing to become more familiar with the commands. There were a couple of issues stopping the SQLmap application running. 1. DVWA was configured with the default High security setting, this was reduced to Low for the test. 2. The SQLmap Command was slightly incorrect: The -u opion was used, this was not required. The Cookie option needed to be within quotations. Also the Cookie statement was incorrect: Wrong: Cookie:PHP.....123 security-low; Correct: "Cookie: PHP......123; secuirty-low" The impact of the cookie setting being incorrect was that SQLmap attempted to enumerate login.php and returned the result stating the "id" parameter was NOT vulnerable. Created 2 new Windows 2019 servers to test Snort2 and Suricata Host IDS. Downloaded Snort2.ex from snort.org and uploaded it to viruatotal - 99% of antivirus showed it as clean, 1 Antivurus returned it as malware. Suricata was downloaded and was cleared by Virustotal, installed on WinServ2019 and returned an error when it was ran requiring additional dll files. | C22: 5
A23: 45828 | B23: Tasks included: # 1. Install tshark on all NIDS - Didn't get around to doing this today. 2. Prepare NIDS for Testing (saving files ready for the results) - This took upmost of the time, putting the folders in place ready for the test results. I still have to put the files on the Kali PC. To do this I will copy them to the Snort2 server and then use Kali to SCP them over to the Kali PC. 3. Import the SSLTarget Ubuntu Webserver. This was imported and tested - Everything works. 4. Copy Suricata rules to detect hping3, Nmap and Masscan scans. Suricata didn't detect the Hping3 scan using the new rule for some reason, it worked on the home VE. Masscan to be tested. 5. Install OpenVAS virutal Machine - Didn't get around to doing this today. 6. Fault find Suricata Windows installation - Didn't get around to doing this today. 7. VE automatically created additional groups for some reason. Possibly too many VMs and they need to be put into a new group?? This took up some time too. | C23: 3
A24: 45835 | B24: Taking photographs and screenshots of the University Virtual Environment as evidence for the project. Also making notes of the University virtual environment. NOTE: Arrangements have changed with work. I am no longer allowed to use two study days a week for the project as it is out of term time. I will be allowed a few hours a week - so work/study balance will be more difficult. | C24: 2
A25: 45846 | B25: Configured Remote Desktop Protocol (RDP) Access on Nessus server, to allow for Phase III testing. Also created a A Host record for nessus pointing to 10.0.2.101, this allows the DC to RDP to the nessus server using the hostname "nessus". Investigated Tshark, Nessus and OpenVAS for the Uni VE. | C25: 1
A26: 45908 | B26: Resolved issue with bridged adapter, the Default Gateway had been removed from the network. Confirmed Version Numbers for Meta2 and WinSCP, Installed Tshark on all NIDS including Local Rules NIDS. Created Kali-DoS-71 ready for Phase IV testing. Installed Nessus Essentials for Students. Backed up all VMs as a precaution as they are all working currently. Prepared for testing, getting folders in place ready to save alerts and pcap files to. | C26: 6
A27: 45915 | B27: * Increased HDD of Snort3 from 25GB to 150GB. * Tested htop, to ensure this is in place on Ubuntu server. * Took Screenshots of VE: NTP configuration, UFW configuration, Nessus Configuration, Nessus Scanning, DAS folders. | C27: 2
A28: 45922 | B28: Screenshots to prove Testbed working, Test Preparation work. Cloning NIDS so that each phase has a separate NIDS. Cloned a VM of a Windowes Server 2019, promoted it as a DC and created an example domain called evidence.domain. | C28: 5
A29: 45923 | B29: Imported Suricata from Home PC Testbed (HPT). Created the rules directory on the Phase II Suricata server on the Master Server Testbed (MST) and configured the correct permissions on the directory. Extracted the local.rules file tested on that home Suricata server and imported them into the Phase II Suricata MST. Amended the Suricata.yaml config file of the Phase II Suricata MST, to enable the local.rules file to be used. Tested the Phase II Suricata to ensure that it could read the rules correctly. Used both hping3 and masscan tools on the kali attack VM to simulate an attack and monitored the Phase II Suricata. The attack was detected successfully, the signature/rule SID were hping3 (1010001) masscan (1030001). This identifies that the local.rule file was being used to detect the malicious activity. | C29: 2 | F29: VE Testbed ready for PhaseI, III & IV testing.
A30: 45929 | B30: Phase III testing. Used the docking station and monitor with the MST, this took a little while to setup as I had to install the drivers for the dock to work. Initial setting up took a little while also, setting up SSH sessions, and ordering the windows correctly. Conducted testing of Phase III managed to complete 9/10 tests. There was an issue with Nessus as it needed to update its plugins, this stopped Nessus scans from taking place. | C30: 5 | F30: Phase III testing 9/10 complete.
A31: 45933 | B31: Completed Phase III testing - Test 265 Nessus scanning. The Nessus scan took 40 Minutes to complete. Began Phase I testing - managed to carry out 49/75 tests. Netdiscover scans wipe all previous text off the CLI terminal. So wasn't able to save the text or outputs from these those tests. Screenshots were taken, but would not have all of the outputs. Very annoying. | C31: 7.5 | F31: Completed Phase III Testing. Phase I Testing 49/75 complete
A32: 45934 | B32: Continued with Phase I testing more or less complete. There was an issue with Legion tool in the MST. When running a scan it said there was missing data. This was anticipated as I had experienced this glitch with the Legion tool on the Kali 2025 OS in the HPT as well. There was an issue with the SQLMap commands, they weren't quite right, some slight typos, this took a little while to resolve. But I did resolve the typos and got those tests done! (Tests 72-75) :) The solution will be to use the Legion tool on the HPT to scan the SSLTarget server. Test 71: SQLmap command did not work on day of testing, converted this to an SMBMap command. | C32: 7.5 | F32: Phase I Testing 72/75 tests complete. 545 Hours have been committed to this project now. This is the recommended amount of time to complete the MSc Dissertation.
A33: 45935 | B33: Phase 1: Completed test 71: this was updated to an smbmap -L test. This was completed and all the evidence was gathered and uploaded to O365. 2 x Legion tests need to be completed, this will be done in the HPT, and Phase I can be signed off. Phase4: Kali-70 was used to issue the hacking commands. Kali-71 was used to DoS the NIDS. Three separate sessions were used for each NIDS. All tests completed, Screenshots were uploaded to O365. THinking of it, I should have uploaded the Alerts. There is an issue with the Tshark PCAPs, as they are from the NIDS they are huge with DoS traffic. I was not able to run Wireshark on the Kali-70 the attack VM, even though Kali-70 was not the target, when Wireshark was used it locked up kali-70 during and after DoS testing. Kali-70 had to be restarted to recover it. Running the attack commands were not an issue, the only issue arose then Wireshark was used. Also encountered HDD space issues. Some of the VMs, most notably Snort2, Suricata and Nessus stopped working. This was down to HDD errors. On investigation, it looks as though the VMs themselves are on the larger D:, but the snapshots that were taken are still on the smaller C:. These snapshots need to be moved over to the D: next week. | C33: 6 | F33: Phase 1: Test 71 Complete 73/75. Still need to carry out the 2 Legion tests to complete Phase 1 testing. Phase4: Testing complete. Screenshots uploaded to O365. Tshark captures from NIDS is going to be difficult. It's a 10GB file.
A34: 45940 | B34: Moving some VMs from C: to D: of MST due to space issues, this stopped some of the VMs from running. Uploaded Phase 4 Alert Logs so that they can be analysed. | C34: 3 | F34: Phase4: Alert Logs uploaded - Need further Snort2 alert logs.
A35: 45941 | B35: Gathered further data from Phase 4 alert logs for Snort2. Also removed the DNS settings from SSLTarget to stop DNS traffic from SSLTarget appearing in the alert logs. (e.g. 10.0.2.112:40860 -> 1.0.0.1:53, 10.0.2.112:41622 -> 1.1.1.1:53). Began Phase2 testing. Completed testing for Hping3 and Masscan. The testing for Nmap and SSLScan will take over 10.5 hours to complete with a time interval of 5 Minutes, as they are tests to scan the entire /25 range. The length of time required to conduct testing was an issue noted from the Literature Review regarding slow-scan investigation. The Phase2 testplan has been reduced from 12 hacking tools to 4. Also the number of time intervals have been reduced from 15 to 8. | C35: 6
A36: 45942 | B36: Continued Phase2 testing. Nmap and SSLScan complete. However, no alerts on Nmap from any NIDS and only alerts from Snort2 on SSLScan. Two new evasion techniques observed: Reducing the number of ports during active scanning. This stopped the NIDS detecting an active scan. Also, applying filters to a hacking tool (sslscan in this case) reduced the amount of traffic and only Snort2 detected the SSLScan. It looks as though longer Nmap scans will be required to gain the data needed for the dissertation. This will only be for the Nmap tool, carrying out 8 tests. | C36: 6
A37: 45943 | B37: StartedTest 91L (Long Scan) (5Min interval) @ 7am, this nmap scan , it had been anticipated to take over 10.5 Hours to complete. I had returned to campus to check the progress of 91L at 7pm 12 hours after the start of the scan, but the scan was still running. The 91L scan was still running after over 24 Hours, It was decided to stop the 91L scan after 24 Hours. | C37: 4
A38: 45944 | B38: The 91L scan was still running after over 24 Hours, It was decided to stop the 91L scan after 24 Hours. The assisciated data was collected. It was then decided to start the 96L (25Second) nmap scan @08:00, this was anticipated to take over 2 Hours to complete, however it was still running by the end of the day @17:00. Left the 96L scan run for 24 Hours. | C38: 2
A39: 45945 | B39: The 96L scan completed during the night, all data was collected. Nmap scan 98L was started @08:00, and was allowed to run all day. This scan completed by 17:00 today. | C39: 2 | F39: Completed Phase II testing.
A40: 45946 | B40: Collected all data from Phase II testing and stored it on the Physical VE Host server and to the cloud. | C40: 2 | F40: Completed ALL Master Server Testbed (MST) TESTING

Sheet Work Log Home VE
A1: Date | B1: Task | C1: Duration (Hours) | D1: Total | E1: =SUM(C:C) -> 153 | F1: Milestones | G1: Notes | H1: Target is 585 Hours from Course Handbook | I1: 585 Hours over 29 Weeks is around 20 Hours a week. (July - December) | Q1: Total | R1: =E1+'Work Log Uni VE '!E1 +'Work Log research and writeup'!E1 -> 841 | T1: Percentage | U1: =R1/545 -> 1.5431193
B3: Selecting Attack tools - 4 days | C3: 16
B4: Testing Attack tools - 1 Week | C4: 24
B8: Creating the small VE on home computer, kali, 4xUbuntu servers. | C8: 8
B9: Configuring and testing Snort2 on home small VE | C9: 8
B10: Testing and enabling promiscuous mode, and creating this as a service. | C10: 4
B18: Researching Snort and Suricata - Ongoing.
B20: Researching Snort3 installation process - 1 week | C20: 24
A23: 45801 | B23: Installation of Snort3 on Ubuntu Server - This required downloading and installing all prerequisite and dependency files. Some of which were downloaded from source code, compiled, built and then installed. Snort3 LibDAQ and Snort3 were also downloaded from source code, compiled, built and then installed. Snort3 now working, snort3 configuration of snort.lua file was then carried out. Some faults were found along the way and needed resolving, mainly the version numbers of files were not available, or some resources for C++ libraries were unavailable requiring alternative libraries to be found. On one occasion, the .tar.gz file would not decompress/unzip. The work around was to decompress the tar.gz file on a different system and then use Secure Copy (scp) to copy the file from one device to the other. | C23: 8
A24: 45802 | B24: Installed PulledPork3 on the Snort3 server as there were no snort IDS rules included with the snort3 installation. Configured the PulledPork3 configuration file and I had to manually create the so_rules file as a location to store the PulledPork3 signatures/ruleset once downloaded. Issue with downloading the PulledPork3 signatures, it could not locate the latest ruleset/signatures automatically. The PulledPork3 python script file altered, manually selecting the signatures/ruleset, these were then downloaded successfully. PulledPork3 installed correctly and working. Local.rules file was also created to create local site specific rules. | C24: 8
A25: 45808 | B25: Continued working on PulledPork3 Rules of snort3 attempting to get them to work correctly. Could NOT get the Registered rules to work, there was an issue with Shared Object (SO) but the community rules work fine without the so_rules. Also noticed that there is no logging currently there is no directory or files for snort3 under. /var/log/snort Need to configure the output in the snort.lua file for alert_fast and alert_full. | C25: 4 | F25: Snort3 Working with PulledPork community rules (846 Rules).
A26: 45809 | B26: Created a new directory under /var/log/snort to save alert log files alert_fast.txt and alert_full.txt. Found the command to write the logs to these files. Decided NOT to create the snort.service to run snort 3 automatically when the server starts up, snort3 will have to be started manually during testing. Snort3 is now in a working state - As with Suricata, it does not detect much in the way of ARP traffic, as this is considered normal network traffic. Noticed that NMAP scans and various other port scans were NOT being detected by Suricata, this is by design as they feel that ARP traffic is normal traffic. I have started to investigate writing my own Suricata rules to alert on this traffic, TCP and SYN alert rules created and tested. These will be refined, using the flags (SYN) on this occasion, window size, flow direction to filter the traffic out further. ARP alerting may not be detectable as this is at L2 and IDS/IPS work at layer 3. ARP is used for Host discovery, so it might not be possible to alert on this traffic. Port Scans and ICMP traffic are at L3/L4 and should be able to create alert rules for these. | C26: 3
A27: 45813 | B27: Conducted initial testing of NIDS using Hacking tools to carry out reconnaissance traffic. Managed to carry out 55 of the 70 tests, the remaining 15 tests require DNS or Domain, or Websites to be setup and will need to be carried out on the main test MST VE on campus. Snort2 detected most reconnaissance traffic, but not all. Suricata only detected a few reconnaissance attacks. Snort3 detected NOTHING (This was later found to be user error!) I was monitoring the alert_full.txt instead of the alert_fast.txt file! Snort2 SID Numbers of triggered rules were noted and rules were also placed into a spreadsheet. | C27: 3
A28: 45814 | B28: Re-Tested Suricata and Snort3 today - Noticed an error when I started Snort3 - it was logging alerts to alerts_full.txt and during testing alerts_fast.txt was being monitored!! Snort3 SID Numbers of triggered rules were noted and rules were also placed into a spreadsheet. The initial findings were written up as the testing was taking place, also some other notes were being taken ready for the dissertation. Results of initial Testing : Suricata: Detected 5/55 or 9% Snort2: Detected 31/55 or 56% Snort3: Detected 52/55 or 95% | C28: 7
A29: 45815 | B29: Writing up results from yesterday, Working on the testplan. Exporting Snort3 from Home VE so that it can be Imported into the VE at the University. This should save about 10 hours of installation and configuration. | C29: 4
A30: 45816 | B30: Working on the testplans, Phase I Testplan completed, Phase II testplan 60% Complete. Testing rules in Suricata to attempt to detect hping3. | C30: 2
A31: 45820 | B31: Investigated SQLmap tool and confirming the commands required for the tool to work. Also created a new server ssltarget (10.0.2.112) this will be the target for the SSLScan tool as Meta2 and Beebox do not run HTTPS. | C31: 3
A32: 45821 | B32: Continue working on new SSLTarget webserver with https. SSLtarget configured and working with default Apache Certificate accessible via https:10.0.2.112 sslscan also works and can read this certificate. Snort2 was also able to detect the scan taking place, giving the source ip address of the attacker machine. Snort3 detected the attack, but did not give any details of attack machine. Suricata did detect this attack, and provides details of the attack machine, there was a noticeable delay in the alerts coming through. Next, a brand new self-signed certificate was created, creating a key, certificate signing request (csr) and a new 1024 bit certificate. ssltarget.key, ssltarget.csr, ssltarget.crt. A new website was also created and listening on port 4443, with a very basic website. When this site is activated, it runs ok, and apache2 reloads. When apache2 status is applied, it can be seen that Apache2 fails to reload, giving an error on the FQDN. When the log of the site ssltarget.com is viewed, an error message is displayed saying that the key length (1024) is too short. A New 2048 key may be required to resolve this issue, this will be attempted next. Carried out research on OpenSSL and certificates. | C32: 7
A33: 45822 | B33: Going through the notes taken during the Self Signed Certificate creation to formulate a proposed solution. The issue appears to be partly due to the: 1. The key length and 2. also a mismatch between the Fully Qualified Domain Name (FQDN) of the certificate signing request and the hostname of the web server. Carried out some additional testing this morning, adding entries to the host file. I may need to change the ServerName to the global configuration according to the apache2 error.log. (1Hr AM) ------------------------------------------------------------------------------------------------------------------------------- On reflection, it is better to spend more time on configuring rules for Suricata to detect the 10 tests of Phase II, returning to the Webserver once all rules are in place. Suricata Rules reviewed, greater rule complexity in comparison to Snort2. (3Hrs PM) | C33: 4
A34: 45823 | B34: Determining which manual rules need to be created for Phase II testing, Currently it seems that 16 rules need to be created, mainly on Suricata with a couple on Snort2, however Snort3 is able to detect all 12 reconnaissance tests. Some basic rules have been created for Suricata, need some further testing to ensure they work. | C34: 1
A35: 45827 | B35: Preparing for Testing - Creating the files to store test results i.e. File 1-P1-HP1 for the first test. Also reviewed project handbook for dissertation and sample dissertation on Moodle. Project logbook of that student started in Feb and continued all the way through to August. They were setting up their test environment during May and June which is what I have been doing! Finalising Phase II test plan, numbering scheme will be a continual from Test 1-P1-HP1 to 255-P2-SS15 Preparing for meeting to discuss dissertation. Exported SSLTarget Webserver from Home VE to import into Uni VE, this is for testing sslscan. For test 49-P1-SS1, the default Ubuntu Apache webpage and SSL "Snake-Oil" certificate and Key will be used. It is intended to create a Self-signed certificate and document the process at a later stage. The first attempt at creating a self-signed cert did not work correctly. Worked on Suricata Rules for Phase II testing. Nmap and Masscan can now be detected by Suricata. Masscan requires -v to print out results and become detectable by Suricata, Changing this in the test plan. | C35: 8 | E35: .
A36: 45828 | B36: Preparing a task list for University visit to work on the Uni VE. Tasks include: # 1. Install tshark on all NIDS 2. Prepare NIDS for Testing (saving files ready for the results) 3. Import the SSLTarget Ubuntu Webserver 4. Copy Suricata rules to detect hping3, Nmap and Masscan scans. 5. Install OpenVAS virtual Machine. 6. Fault find Suricata Windows installation. In the PM had a meeting to discuss the MSc project with Seena Joseph and others from the course, Time NOT logged on here. Then I worked on creating rules for Suricata to detect scans of Phase II. 7 out of 12 Rules for Phase II are working now. Working: HPING3, NMAP, NBTScanner, Ftester. Tried and failed to get fping to work so far, I believe this is using ARP, further investigation required. | C36: 4
A37: 45829 | B37: Attempting to write Suricata rules to detect ARP packets, without success. Attempted using multiple methods ether_type, arp etc, but none seem to work. Investigated the host discovery process using ARP, ICMP and TCP/UDP. | C37: 3

Sheet Work Log research and writeup
A1: Date | B1: Task | C1: Duration (Hours) | D1: Total | E1: =SUM(C:C) -> 571.5 | F1: Milestones | G1: Notes | H1: Target is 585 Hours from Course Handbook | I1: 585 Hours over 29 Weeks is around 20 Hours a week. (July - December) | Q1: Total | R1: =E1+'Work Log Home VE'!E1+'Work Log Uni VE '!E1 -> 841 | S1: Percentage | T1: =R1/545 -> 1.5431193
A2: 45828 | B2: Writing Introduction - Amending Project proposal introduction | C2: 2
A3: 45829 | B3: Writing up Protocols - Investigating ARP Protocol. Investigated the host discovery process using ARP, ICMP and TCP/UDP. | C3: 3
A4: 45830 | B4: Investigating Protocols and writing the protocol analysis table. | C4: 4
A5: 45831 | B5: Investigating the frame, packet, segment and datagram structure of protocols. Including Ethernet, IP, ICMP, TCP, UDP, ARP, SMB, QUIC, TLSv1.3. | C5: 5
A6: 45835 | B6: Reading through the project handbook and making notes to format dissertation. Creating tracking sheet of work. | C6: 2
A7: 45836 | B7: Reviewing the feeback from Project proposal and adding comments to the dissertation. Re-Writing Introduction based on SJ's feedback. | C7: 4
A8: 45837 | B8: Completed the OSI Model Spreadsheet and placed it in Appendix 3. Also placed the Packet Headers in Appendix 3. Contineud with formatting of Dissertation. Investigating network protocol standards. Investigated Cybersecurity Frameworks (Diamond Model and OWASP) also investigated MITRE CVE, CWE and CAPEC. Continued to widen the literature review to contain network traffic/ packet header analysis. Also L2 IDS attack detection techniques. | C8: 10
A9: 45839 | B9: Writing up about False Positives, NIDS Rules - specifically rules related to Nessus scans. Also wrote some more of the limitations of NIDS specifically about FP and FN and their impact. Writing up the Design and Implementation section. Creating updated network diagrams of the Main Server Testbed (MST) Home PC Testbed (HPT). Expanding Literature review and re-writing Introduction. | C9: 8
A10: 45840 | B10: Writing up Protocol Fields, creating a table to capture the usage of fields in Frames, Packtes, Segments and Datagrams. Continued Writing up introduction, and literature review to increase Citations (Currently 58/114 Peer Reviewed Citations in place). Writing up how I will analyse the results, with formula for Accuracy, Precision, Recall and F1-Score. Formulae for these metrics were also created. Also defined True Positive (TP), True Negative (TN), False Positive (FP), False Negative (FN). It was identified that it will be difficult to gain FP and TN results with the current test plans as the currently Phase I & Phase II test plans focuses solely on Attack traffic. A New test plan (Phase III) has been devised with ten usual network tasks to generate normal network traffic to test the NIDS response. This is crucial to calulate the Precision metric. This in turn is also required for the F1 Score. | C10: 5
A11: 45841 | B11: Created Phase III testplan with 10 normal traffic generating tests. Pings, Nslookup, browsing, RDP session etc. This was to gain FP and TN results for a complete picture of NIDS performance. | C11: 0.5
A12: 45844 | B12: Investigating the Depth in Defence and created a diagram illustrating this, inspired by the research onion. Continued investigating the Diamond Mode (DM)l of intrusion detection analysis. | C12: 2
A13: 45845 | B13: Investigated the Diamond Model of Intrusion Detection Analysis. Created a diagrams of DM and also a combination of DM and Cyber Kill Chain (CKC) | C13: 2
... A96: 45932 | B96: Ch 4 Introduction and Problem Formulation | C96: 2
A97: 45934 | B97: * Revising SQLmap commands prior to using them in testing on campus in Tests 71-75. * Investigated a method of logging all commands automatically. This is after all the commands between Tests 36-47 were wiped after using the Netdiscover command. | C97: 1 | F97: 545 Hours have been committed to this project now. This is the recommended amount of time to complete the MSc Dissertation.
A98: 45935 | B98: * Review DoS commands ready for Phase IV. "hping3 -1 <IPADDRESS of Target -p 0-1023 --flood" flood can be replaced with fast or faster * Review commands to decompress .gz file format to decompress Snort2 Alert logs. "gunzip -k filename.gz" "tar -xvzf filename.tar.gz" | C98: 2
A99: 45936 | B99: Review - Edit Ch2 Lit Review Research Gap, Moved this into the Conclusion. Edited Ch3, making the suggested changes by CC. Analysis of Phase III and I. | C99: 4
A100: 45937 | B100: Continued Analysis of Phase I | C100: 4
A101: 45938 | B101: Continued Analysis of Phase I | C101: 1
A102: 45939 | B102: Completed Analysis of Phase I - Bar the two Legion tests | C102: 3
A103: 45940 | B103: Conducted Analysis for Phase IV. This took quite a while, although only 10 tests were carried out, it took a considerable time to go through the alert logs as a significant number of ICMP DoS traffic was detected. | C103: 4
A104: 45941 | B104: The Phase2 testing for Nmap and SSL scan will take in excess of 10 hours per individual test. The compromise is to reduce the Nmap scan down to a single host (SSLTarget), and scan for 3 ports. SSLscan has now been reduced to only scanning for TLS 1.3, and removing some of the features, such as checking for Heartbleed, Renegotiation, and groups. | C104: 1
A105: 45942 | B105: Finished off Analysis of Phase 4. Updated Ch5 with some results and analysis from Phases 1,3&4. Editing Ch5 to rationalise the chapter. | C105: 3
A106: 45945 | B106: Drawing diagrams for Phase I-IV and Data collection process. | C106: 3
A107: 45946 | B107: Collecting data from testing to put into dissertation. | C107: 2
A108: 45947 | B108: Continued writing Ch4-5 | C108: 4
A109: 45948 | B109: Continued writing Ch4-5 | C109: 4
... A111: 45950 | B111: Analysis of Phase II results and Editing Ch4-Ch5 | C111: 5
A112: 45951 | B112: Searching for AI Books from the AI MSc reading list. Selected 3 books that are relevant to this project. Continued writing Ch4, Analysis of Phase 2 results. | C112: 3 | F112: Entered all Figures and Graphs from Phase II analysis. All figures and graphs now entered into the dissertation. Network Traffic Analysis and Word Clouds still required.
A113: 45952 | B113: Searching for AI Books from the AI MSc reading list. Selected 3 books that are relevant to this project. Continued writing Ch4, Analysis of Phase 2 results. | C113: 2
A114: 45954 | B114: Editing Ch4, and Continued writing Ch5. Amended graphs for Ch5. | C114: 5
A115: 45955 | B115: Editing Ch4, and Continued writing Ch5. Amended Tables. | C115: 6 | F115: Ch 4 complete
A116: 45956 | B116: Editing Ch4, wrote Ch6, started Ch7. | C116: 6 | F116: Ch6 complete
A117: 45957 | B117: Continued Editing Ch5, Ch6 and Ch7. Completed the RoC graphs so they are done. Added citations for tables in Appendix and other parts of the Dissertation. Worked my way through the dissertation looking for errors. | C117: 7
A118: 45958 | B118: Continued with Ch5, removed 5.2, placing some items in the Appendix and other items in 5.1. 5.2 is now the discussion. Findings highlights added to Viva slides. | C118: 1
A119: 45959 | B119: Checking the Table and Figure Numbers from Ch1-4 | C119: 1
A120: 45960 | B120: Created a checklist to confirm that all items have been covered off. The Aim, Objectives, Research Questions and Analysis outlined in the Intro and Methodology have been delivered in Chapter 5. Scaling back parts due to time constraints and to reduce on wordcount. | C120: 1 | F120: Signature analysis - Put this in future work.
A121: 45961 | B121: Continued writing Chapter 5 and Carried out Network Traffic Analysis (NTA) using Wireshark captures and linking it to the Signatures created to alert on malicious traffic. | C121: 5
A122: 45962 | B122: Continue with Ch5 Analysis and write up. NIDS Alert Analysis preparing data for Word-Cloud and Histogram. | C122: 4
A123: 45963 | B123: Continue with Ch5 Analysis and write up. NIDS Alert Analysis preparing data for Word-Cloud and Histogram. Created Word-Clouds and Histograms to show which hacking tools were and were not detected by NIDS, also which normal network traffic caused FPs. The Histograms provide a breakdown of alert activity for each NIDS. NTA flowchart to show NTA strategy. | C123: 5
A124: 45964 | B124: Prepare for project meeting with CC. Continue with working on Ch5. Worked on ARP Packet Analysis. Reviewing Dissertation to reduce wordcount and reduce overall size of dissertation. | C124: 5
A125: 45965 | B125: Continued Working on Ch5. Working on the Analysis Section. | C125: 5
A126: 45966 | B126: Continued Working on Ch5. Working on the Discussion section. | C126: 7
A127: 45967 | B127: Continued Working on Ch5 - Worked on the Discussion Section, entered the Word-Clouds and the Network Traffic Analysis Strategy flowchart. Started Editing Dissertation. | C127: 7 | F127: Completed the Dissertation v90. However, need to edit and refine the dissertation and reduce wordcount by 5,500 words!
A128: 45968 | B128: Editing Ch5, and reducing word-count. Also continuing with the literature review. | C128: 7
A129: 45969 | B129: Editing Ch5, amending the Analyse spreadsheet to convert the SIM from values into percentages. Amending the Wireshark flowchart to simplify it. | C129: 7
A130: 45970 | B130: Editing Ch5, and reducing word-count. Added new version of Network Traffic Analysis flowchart. Currently Dissertation has exceeded the wordcount by 5,000 words. | C130: 6
A131: 45971 | B131: Word Count Reduction and Reducing Appendix. Created updated Gantt chart - Green bars. | C131: 6
A132: 45972 | B132: Editing Ch5, and reducing word-count. | C132: 2
A133: 45973 | B133: Editing Ch5, and reducing word-count. | C133: 2
A134: 45975 | B134: Editing Ch5, and reducing word-count. Creating the Additional Evidence document and collecting Evidence in one location. | C134: 7 | F134: v99 wordcount now needs to be reduced by 3,000 words.
A135: 45976 | B135: Editing Ch5, and reducing word-count. Also reduced word-count of other sections. Moving items from the Appendix into Additional Evidence (AE). | C135: 6
A136: 45977 | B136: Completed Ch5 Review - Starting editing all of the dissertation. | C136: 6 | F136: v101 wordcount now needs to be recuded by 1,800 words
A137: 45978 | B137: Editing dissertation. | C137: 3
A138: 45979 | B138: Editing dissertation. | C138: 1
A139: 45980 | C139: 0
A140: 45981 | B140: Gathering Additional Evidence | C140: 3
A141: 45982 | B141: Gathering Additional Evidence | C141: 2
A142: 45983 | B142: Gathering Additional Evidence - Documenting Testing for AE1 Appendix 11 | C142: 3
A143: 45984 | B143: Editing Dissertation - Word-Count Reduction. | C143: 5
A144: 45985 | B144: Editing Dissertation - Word-Count Reduction. | C144: 5
A145: 45986 | B145: Additional Evidence - entering tests conducted. Reducing the Appendix of the main report. Literature Review Overviews. Additional Research into Zero-Day Attacks | C145: 4
A146: 45987 | B146: Tidying up Report, moving items to Appendix. Re-numbering Figures and Tables. | C146: 2
A147: 45988 | B147: Tidying up Report, Adding a few screenshots to implementation section. Re-numbering Figures and Tables. | C147: 1 | F147: Report over by 730 words (This is 730 words over the 10% tolerance.)
A148: 45989 | B148: Editing and reviewing dissertation. | C148: 5
A149: 45990 | B149: Editing and reviewing dissertation. | C149: 5
A150: 45991 | B150: Final editing of the main section of the dissertation. Some editing still required. | C150: 5 | F150: Dissertation fully reviewed and edited. All sections now read ok and wordcount is 16,474. This is 26 words under the upper tolerance. Most sections highlighted green. There are some areas that need further editing/revising.
A151: 45992 | B151: Organising and tidying the Appendix. Moving items to the Additional Evidence document. Ensuring that all Appendices and the AE1 document are signposted. Tidying up AE1 - Writing the introduction to AE1 to outline what the document contains. | C151: 6
A152: 45993 | B152: Began writing the Abstract. 3/4 complete. | C152: 1
A153: 45994 | B153: Completed the Abstract, it might need a bit of editing. | C153: 2
A154: 45995 | B154: Editing dissertation. | C154: 2
A155: 45996 | B155: Editing main report (Final Tweaks) and updating Appendix. | C155: 6
A156: 45997 | B156: Editing Appendix and making small amendments to main report. Editing on the Abstract | C156: 6
A157: 45998 | B157: Editing Appendix and making small amendments to main report. Final editing of the Abstract. | C157: 6 | F157: Dissertation v130 - possibly final draft.
A158: 45999 | B158: Editing Abstract and making changes to assignment based on feedback from supervisor. | C158: 6
A159: 46000 | B159: Re-examinng peer reviewed papers used in literature review for advantages, disadvantages and ranking of each paper. | C159: 2
A160: 46001 | B160: Re-examinng peer reviewed papers used in literature review for advantages, disadvantages and ranking of each paper. | C160: 2
A161: 46002 | B161: Re-examinng peer reviewed papers used in literature review for advantages, disadvantages and ranking of each paper. Editing Dissertation, Proof reading AE1. | C161: 6
A162: 46003 | B162: Re-examinng peer reviewed papers used in literature review for advantages, disadvantages and ranking of each paper. Editing Dissertation, Proof reading AE1. Dissertation Submitted to Moodle Draft - 6% Similarity. | C162: 6 | F162: DD in place until the 19/12/2025.
A163: 46004 | B163: Reviewing Dissertation and AE ready for submission. All work completed, reviewed and readyfor submission. | C163: 6 | F163: Dissertation v141 - FINAL ready for submission.

Sheet Viva Preparation 
A1: Date | B1: Task | C1: Duration (Hours) | D1: Total | E1: =SUM(C:C) -> 1 | F1: Milestones | G1: Notes | H1: Target is 585 Hours from Course Handbook | I1: 585 Hours over 29 Weeks is around 20 Hours a week. (July - December) | Q1: Total | R1: =E1+'Work Log Home VE'!E1+'Work Log research and writeup'!E1+'Work Log Uni VE '!E1 -> 842 | S1: Percentage | T1: =R1/545 -> 1.5449541
A2: 45950 | B2: Started creating powerpoint presentation. Using ProjectProposal Presentation as starting point. | C2: 1
A3: 45958 | B3: Added some Findings to slide. Suricata SID rules, ARP Traffic, Alerts can be triggered with misleading Alert messages. - This took 5 mins.
B4: This work will continue post submission of dissertation.
