Workbook

Sheet Task 1a
A1: Task 1a
A3: Calculate the acceleration of the race car :
A5: vˆ2=uˆ2 + 2as
A6: v=66.66m/s
A7: s= 400 m
A8: 66.66ˆ2= 0ˆ2 + 2a(400)
A9: a= (66.66ˆ2) / (2 * 400 ) = 8.33 m/sˆ2
A11: The acceleration of the race car is 8.33 m/sˆ2
C17: To determinate the time taken for the race car to complete the drag race :
C19: v= u + at
C20: v= 66.66 m/s
C21: u= 0 m/s
C22: a= 8.33 m/sˆ2
C23: 66.66= 0 + 8.33t
C24: t= 66.66/8.33 = 8 seconnds (s)
C26: The time taken for the race car to complete the drag race is 8 seconds (s)

Sheet Task 1b
A1: Task 1b
A3: Distance
A5: vˆ2=uˆ2 + 2as
A7: Since u = 0, rearranging the above equation would give, s = (v^2)/(2a)
A9: Input Acceleration Value from 1 to 10 m/s^2 | B9: 5 | C9: m/s^2
A11: Distance = s | B11: =((240^2)/(2*B9))^0.5 -> 75.894664 | C11: Meter
A13: Time
A15: Assuming the max distance is 400 meter(m)
A17: Using equation of t = 2s/a | B17: =((2*400)/B9)^0.5 -> 12.649111 | C17: Seconds
A19: Message | B19: =IF(B17>17,"The car will lose the race - acceleration value too low!",IF(B17<12,"Impossible! - the race car cannot accelerate this quickly!","The car will win the race")) -> The car will win the race
Z202: 1
Z203: 2
Z204: 3
Z205: 4
Z206: 5
Z207: 6
Z208: 7
Z209: 8
Z210: 9
Z211: 10

Sheet Task 1c
A3: Velocity (ms^-1) | B3: Time (seconds)
A4: 240 | B4: =400/'Task 1c'!A4 -> 1.6666667
A5: 210 | B5: =400/'Task 1c'!A5 -> 1.9047619
A6: 180 | B6: =400/'Task 1c'!A6 -> 2.2222222
A7: 150 | B7: =400/'Task 1c'!A7 -> 2.6666667
A8: 120 | B8: =400/'Task 1c'!A8 -> 3.3333333
A9: 90 | B9: =400/'Task 1c'!A9 -> 4.4444444
A10: 60 | B10: =400/'Task 1c'!A10 -> 6.6666667
A11: 30 | B11: =400/'Task 1c'!A11 -> 13.333333

Sheet Task 2a
A1: Sample | B1: Actual Size | C1: Technician A | D1: Technician B | E1: Technician C
A2: 1 | B2: 0.7 | C2: 1.5 | D2: 1 | E2: 1.4
A3: =A2+1 -> 2 | B3: 2.1 | C3: 1.8 | D3: 2 | E3: 2.5
A4: =A3+1 -> 3 | B4: 1.1 | C4: 2 | D4: 2 | E4: 1.6
A5: =A4+1 -> 4 | B5: 1.6 | C5: 0.8 | D5: 2 | E5: 1.6
A6: =A5+1 -> 5 | B6: 2.7 | C6: 3 | D6: 3.5 | E6: 3
A7: =A6+1 -> 6 | B7: 0.55 | C7: 1.2 | D7: 1 | E7: 1
A8: =A7+1 -> 7 | B8: 0.27 | C8: 1.2 | D8: 1 | E8: 0.7
A9: =A8+1 -> 8 | B9: 0.4 | C9: 0.5 | D9: 1 | E9: 0.9
A10: =A9+1 -> 9 | B10: 6 | C10: 5.5 | D10: 6.5 | E10: 6.2
A11: =A10+1 -> 10 | B11: 1.12 | C11: 0.5 | D11: 1.4 | E11: 1.4
A12: =A11+1 -> 11 | B12: 1.3 | C12: 2.1 | D12: 1.5 | E12: 1.7
A13: =A12+1 -> 12 | B13: 0.98 | C13: 1 | D13: 1 | E13: 1.3
A14: =A13+1 -> 13 | B14: 1.15 | C14: 1.8 | D14: 1.5 | E14: 1.6
... A21: =A20+1 -> 20 | B21: 0.25 | C21: 0.5 | D21: 1 | E21: 0.5
A23: Mean | B23: =AVERAGE(B2:B21) -> 1.786 | C23: =AVERAGE(C2:C21) -> 1.965 | D23: =AVERAGE(D2:D21) -> 2.255 | E23: =AVERAGE(E2:E21) -> 2.1 | H23: 1 | I23: 1 Technician A's performance is the finest among all of them since his measurement is the most accurate.
A24: Maximum | B24: =MAX(B2:B21) -> 7.5 | C24: =MAX(C2:C21) -> 6 | D24: =MAX(D2:D21) -> 8 | E24: =MAX(E2:E21) -> 7 | H24: 2 | I24: Technician B's performance is the poorest of all because his measurement is vastly out from the actual
A25: Minimum | B25: =MIN(B2:B21) -> 0.25 | C25: =MIN(C2:C21) -> 0.5 | D25: =MIN(D2:D21) -> 1 | E25: =MIN(E2:E21) -> 0.5 | H25: 3 | I25: Indeed, their measures vary from those of others. Also varied are the top and lowest measurements. There are therefore variations among all technicians.
A26: Range | B26: =B24-B25 -> 7.25 | C26: =C24-C25 -> 5.5 | D26: =D24-D25 -> 7 | E26: =E24-E25 -> 6.5
