Workbook

Sheet data
A1: data
H5: valvetrain
D6: technical info | H6: mass kg
D7: bore mm | E7: 87.5
D8: stroke mm | E8: 83.1
H9: intake
D10: crank radius mm | E10: 41.5 | H10: valve | I10: 0.032
D11: con rod length mm | E11: 146.25 | H11: spring | I11: 0.037
D12: rpm limit | E12: 7000 | H12: retainer | I12: 0.012
D13: compression ratio | E13: 10.8/1 | H13: bucket | I13: 0.033
H14: total | I14: =SUM(I10:I13) -> 0.114
D15: camshaft base circle mm | H15: exhaust
D16: intake | E16: 26 | H16: valve | I16: 0.031
D17: exhaust | E17: 26 | H17: spring | I17: 0.035
D18: valve clearance mm | H18: retainer | I18: 0.012
D19: intake | E19: 0.33 | H19: bucket | I19: 0.033
D20: exhaust | E20: 0.3 | H20: total | I20: =SUM(I16:I19) -> 0.111
H22: valve springs
H23: free length m | I23: 0.045
H24: installed length m | I24: 0.038
H25: rate Nm
H26: inlet | I26: 30000
H27: exhaust | I27: 21000

Sheet flow
H1: SuperFlow SF-110 Test Data
C4: Test Description: | K4: Test Number
C5: Head Description: | K5: Serial Number
C6: Intake Valve: | K6: Valve Seat Angle | N6: Degrees
C7: Intake Port: | K7: Port Volume | N7: cc
C8: Radiused Inlet: | K8: Port Length | N8: m
C9: Exhaust Valve: | K9: Exhaust Seat Angle | N9: Degrees
C10: Intake Manifold: | K10: Runner Length | N10: m
C11: Cylinder Bore: | D11: 87.5 | K11: Stroke | M11: 83.1 | N11: mm
C12: Test Operator: | K12: Head Porter
H14: Test Setup Data
D15: Diameter | F15: Stem | H15: Lift Increments | J15: Effective Area | L15: Leakage | N15: Seat Width
C16: Intake Valve | D16: 35 | E16: mm | F16: 5.5 | G16: mm | H16: 1.75 | I16: mm | J16: 18.77 | K16: sq.cm | L16: 0 | M16: litres/sec | O16: mm
C17: Exhaust Valve | D17: 30 | E17: mm | F17: 5.5 | G17: mm | H17: 1.5 | I17: mm | J17: 13.74 | K17: sq.cm | L17: 0 | M17: litres/sec | O17: mm
C19: Valve Lift/Diameter (L/D) Ratio | D19: =D20/$D16 -> 0.05 | E19: =E20/$D16 -> 0.1 | F19: =F20/$D16 -> 0.15 | G19: =G20/$D16 -> 0.2 | H19: =H20/$D16 -> 0.25 | I19: =I20/$D16 -> 0.3 | J19: =J20/$D16 -> 0.35 | K19: =K20/$D16 -> 0.4 | ... M19: =M20/$D16 -> 0.5
C20: A. Intake Valve Lift (mm) | D20: =H16 -> 1.75 | E20: =D20+$H16 -> 3.5 | F20: =E20+$H16 -> 5.25 | G20: =F20+$H16 -> 7 | H20: =G20+$H16 -> 8.75 | I20: =H20+$H16 -> 10.5 | J20: =I20+$H16 -> 12.25 | K20: =J20+$H16 -> 14 | L20: =K20+$H16 -> 15.75 | M20: =L20+$H16 -> 17.5
C21: B. Exhaust Valve Lift (mm) | D21: =$D17*D19 -> 1.5 | E21: =$D17*E19 -> 3 | F21: =$D17*F19 -> 4.5 | G21: =$D17*G19 -> 6 | H21: =$D17*H19 -> 7.5 | I21: =$D17*I19 -> 9 | J21: =$D17*J19 -> 10.5 | K21: =$D17*K19 -> 12 | ... M21: =$D17*M19 -> 15
C23: Range | D23: 1 | E23: 2 | F23: 3 | G23: 4 | H23: 5 | I23: 6 | K23: ideal flow | L23: 138cfm/sqinch
C24: E. Intake | D24: 16.5 | E24: 33.2 | F24: 69.7 | G24: 138.2 | H24: 207.8 | I24: 279.5 | K24: metric | L24: 420.2 | M24: l/s/sqcm
C25: F. Exhaust | D25: 19.5 | E25: 37.1 | F25: 75 | G25: 148.5 | H25: 219.6 | I25: 284.6
H27: Intake Valve Test Data
B28: 1 | C28: Test Number | D28: 1 | E28: 2 | F28: 3 | G28: 4 | H28: 5 | I28: 6 | J28: 7 | K28: 8 | L28: 9 | M28: 10 | N28: 11
B29: 2 | C29: Test Pressure | E29: 25 | F29: 25 | G29: 25 | H29: 25 | I29: 25 | J29: 25 | K29: 25 | L29: 25 | M29: 25
B30: 3 | C30: Valve Lift (A) | D30: 0 | E30: =D20 -> 1.75 | F30: =E20 -> 3.5 | G30: =F20 -> 5.25 | H30: =G20 -> 7 | I30: =H20 -> 8.75 | J30: =I20 -> 10.5 | K30: =J20 -> 12.25 | L30: =K20 -> 14 | M30: 15.2
B31: 4 | C31: Flow Range (1-6) | E31: 2 | F31: 3 | G31: 4 | H31: 4 | I31: 4 | J31: 4 | K31: 4 | L31: 4 | M31: 4
B32: 5 | C32: Flow Scale Reading (%) | E32: 82 | F32: 75 | G32: 51 | H32: 62 | I32: 68 | J32: 73 | K32: 76 | L32: 77 | M32: 78.5
B33: 6 | C33: Flow Scale (5./100) | E33: =E32/100 -> 0.82 | F33: =F32/100 -> 0.75 | G33: =G32/100 -> 0.51 | H33: =H32/100 -> 0.62 | I33: =I32/100 -> 0.68 | J33: =J32/100 -> 0.73 | K33: =K32/100 -> 0.76 | L33: =L32/100 -> 0.77 | M33: =M32/100 -> 0.785
B34: 7 | C34: Raw Test Flow l/s (6. x E) | E34: =E33*E24 -> 27.224 | F34: =F33*F24 -> 52.275 | G34: =G33*$G24 -> 70.482 | H34: =H33*$G24 -> 85.684 | I34: =I33*$G24 -> 93.976 | J34: =J33*$G24 -> 100.886 | K34: =K33*$G24 -> 105.032 | L34: =L33*$G24 -> 106.414 | M34: =M33*$G24 -> 108.487
B35: 8 | C35: Leakage (l/s) | E35: 0 | F35: 0 | G35: 0 | H35: 0 | I35: 0 | J35: 0 | K35: 0 | L35: 0 | M35: 0
B36: 9 | C36: Test Flow (l/s) (7-8) | D36: 0 | E36: =E34-E35 -> 27.224 | F36: =F34-F35 -> 52.275 | G36: =G34-G35 -> 70.482 | H36: =H34-H35 -> 85.684 | I36: =I34-I35 -> 93.976 | J36: =J34-J35 -> 100.886 | K36: =K34-K35 -> 105.032 | L36: =L34-L35 -> 106.414 | M36: =M34-M35 -> 108.487
B37: 10 | C37: Test Flow (l/s/sq cm) | D37: 0 | E37: =E36/$J16 -> 1.4503996 | F37: =F36/$J16 -> 2.7850293 | G37: =G36/$J16 -> 3.7550346 | H37: =H36/$J16 -> 4.5649441 | I37: =I36/$J16 -> 5.0067128 | J37: =J36/$J16 -> 5.3748535 | K37: =K36/$J16 -> 5.5957379 | L37: =L36/$J16 -> 5.669366 | M37: =M36/$J16 -> 5.7798082
B38: 11 | C38: Cf | D38: 0 | E38: =E37/$L24 -> 0.0034516887 | F38: =F37/$L24 -> 0.006627866 | G38: =G37/$L24 -> 0.0089363033 | H38: =H37/$L24 -> 0.010863741 | I38: =I37/$L24 -> 0.011915071 | J38: =J37/$L24 -> 0.012791179 | K38: =K37/$L24 -> 0.013316844 | L38: =L37/$L24 -> 0.013492066 | M38: =M37/$L24 -> 0.013754898
E39: Average Flow | G39: l/s | K39: Maximum Flow | L39: =MAX(E36:M36) -> 108.487 | M39: l/s
H41: Exhaust Valve Test Data
B42: 1 | C42: Test Number | D42: 1 | E42: 2 | F42: 3 | G42: 4 | H42: 5 | I42: 6 | J42: 7 | K42: 8 | L42: 9 | M42: 10 | N42: 11
B43: 2 | C43: Test Pressure | E43: 25 | F43: 25 | G43: 25 | H43: 25 | I43: 25 | J43: 25 | K43: 25 | L43: 25 | M43: 25 | N43: 25
B44: 3 | C44: Valve Lift (A) | D44: 0 | E44: =D21 -> 1.5 | F44: =E21 -> 3 | G44: =F21 -> 4.5 | H44: =G21 -> 6 | I44: =H21 -> 7.5 | J44: =I21 -> 9 | K44: =J21 -> 10.5 | L44: 10.9 | M44: =M21 -> 15
B45: 4 | C45: Flow Range (1-6) | E45: 1 | F45: 3 | G45: 3 | H45: 3 | I45: 3 | J45: 3 | K45: 4 | L45: 4
B46: 5 | C46: Flow Scale Reading (%) | E46: 93 | F46: 51 | G46: 73 | H46: 83 | I46: 89 | J46: 92.5 | K46: 49 | L46: 49
B47: 6 | C47: Flow Scale (5./100) | E47: =E46/100 -> 0.93 | F47: =F46/100 -> 0.51 | G47: =G46/100 -> 0.73 | H47: =H46/100 -> 0.83 | I47: =I46/100 -> 0.89 | J47: =J46/100 -> 0.925 | K47: =K46/100 -> 0.49 | L47: =L46/100 -> 0.49
B48: 7 | C48: Raw Test Flow l/s (6. xF.) | E48: =E47*D25 -> 18.135 | F48: =F47*$F25 -> 38.25 | G48: =G47*$F25 -> 54.75 | H48: =H47*$F25 -> 62.25 | I48: =I47*$F25 -> 66.75 | J48: =J47*$F25 -> 69.375 | K48: =K47*$G25 -> 72.765 | L48: =L47*$G25 -> 72.765
B49: 8 | C49: Leakage (l/s) | E49: 0 | F49: 0 | G49: 0 | H49: 0 | I49: 0 | J49: 0 | K49: 0 | L49: 0 | M49: 0 | N49: 0
B50: 9 | C50: Test Flow (l/s) (7-8) | D50: 0 | E50: =E48-E49 -> 18.135 | F50: =F48-F49 -> 38.25 | G50: =G48-G49 -> 54.75 | H50: =H48-H49 -> 62.25 | I50: =I48-I49 -> 66.75 | J50: =J48-J49 -> 69.375 | K50: =K48-K49 -> 72.765 | L50: =L48-L49 -> 72.765
B51: 10 | C51: Test Flow (l/s/sq cm) | D51: 0 | E51: =E50/$J17 -> 1.319869 | F51: =F50/$J17 -> 2.7838428 | G51: =G50/$J17 -> 3.9847162 | H51: =H50/$J17 -> 4.5305677 | I51: =I50/$J17 -> 4.8580786 | J51: =J50/$J17 -> 5.0491266 | K51: =K50/$J17 -> 5.2958515 | L51: =L50/$J17 -> 5.2958515
B52: 11 | C52: Cf | D52: 0 | E52: =E51/$L24 -> 0.0031410495 | F52: =F51/$L24 -> 0.0066250423 | G52: =G51/$L24 -> 0.0094829038 | H52: =H51/$L24 -> 0.010781932 | I52: =I51/$L24 -> 0.011561348 | J52: =J51/$L24 -> 0.012016008 | K52: =K51/$L24 -> 0.012603169 | L52: =L51/$L24 -> 0.012603169
E53: Average Flow | G53: l/s | K53: Maximum Flow | M53: l/s
E55: Estimated KW/Cylinder: | J55: Exhaust/Intake flow ratio:
E56: Exhaust valve dia./bore ratio: | J56: Speed for peak power: | L56: l/min
E57: Intake valve dia./bore ratio: | J57: Best intake runner lengths: | O57: cm

Sheet piston
K2: piston velocity ms | M2: RPM
B3: crank angle degrees | C3: piston position from TDC mm | D3: piston velocity mm/deg | E3: piston acceleration mm/deg2 | F3: mean piston speed at max RPM m/s | G3: peak piston speed m/s | I3: 2000 | J3: 3000 | K3: 4000 | L3: 5000 | M3: 6000 | N3: =M3+1000 -> 7000 | O3: =N3+1000 -> 8000 | P3: =O3+1000 -> 9000 | S3: piston acceleration at max RPM m/s2
B4: 0 | C4: =data!E$10*(1-COS(RADIANS(B4))) + data!E$11 - SQRT(data!E$11^2 - (data!E$10*SIN(RADIANS(B4)))^2) -> 0 | D4: 0 | E4: 0 | F4: {=AVERAGE(ABS(H4:H364))} -> 0 | G4: {=MAX(ABS(H4:H364))} -> 0 | S4: =E4*(7000*6)^2/10000 -> 0 | T4: =ABS(S4) -> 0
B5: =B4+2 -> 2 | C5: =data!E$10*(1-COS(RADIANS(B5))) + data!E$11 - SQRT(data!E$11^2 - (data!E$10*SIN(RADIANS(B5)))^2) -> 0.032452332 | D5: =(C5-C4)/2 -> 0.016226166 | E5: =(D5-D4)/(C5-C4) -> 0.5 | I5: =($D5)*(I$3*6)/1000 -> 0.19471399 | J5: =($D5)*(J$3*6)/1000 -> 0.29207099 | K5: =($D5)*(K$3*6)/1000 -> 0.38942799 | L5: =($D5)*(L$3*6)/1000 -> 0.48678498 | M5: =($D5)*(M$3*6)/1000 -> 0.58414198 | N5: =($D5)*(N$3*6)/1000 -> 0.68149898 | O5: =($D5)*(O$3*6)/1000 -> 0.77885597 | P5: =($D5)*(P$3*6)/1000 -> 0.87621297 | S5: =E5*(7000*6)^2/10000 -> 88200 | T5: =ABS(S5) -> 88200
B6: =B5+2 -> 4 | C6: =data!E$10*(1-COS(RADIANS(B6))) + data!E$11 - SQRT(data!E$11^2 - (data!E$10*SIN(RADIANS(B6)))^2) -> 0.12974569 | D6: =(C6-C5)/2 -> 0.04864668 | E6: =(D6-D5)/(C6-C5) -> 0.33322432 | I6: =($D6)*(I$3*6)/1000 -> 0.58376017 | J6: =($D6)*(J$3*6)/1000 -> 0.87564025 | K6: =($D6)*(K$3*6)/1000 -> 1.1675203 | L6: =($D6)*(L$3*6)/1000 -> 1.4594004 | M6: =($D6)*(M$3*6)/1000 -> 1.7512805 | N6: =($D6)*(N$3*6)/1000 -> 2.0431606 | O6: =($D6)*(O$3*6)/1000 -> 2.3350407 | P6: =($D6)*(P$3*6)/1000 -> 2.6269207 | S6: =E6*(7000*6)^2/10000 -> 58780.771 | T6: =ABS(S6) -> 58780.771
B7: =B6+2 -> 6 | C7: =data!E$10*(1-COS(RADIANS(B7))) + data!E$11 - SQRT(data!E$11^2 - (data!E$10*SIN(RADIANS(B7)))^2) -> 0.29168934 | D7: =(C7-C6)/2 -> 0.080971821 | E7: =(D7-D6)/(C7-C6) -> 0.19960735 | I7: =($D7)*(I$3*6)/1000 -> 0.97166185 | J7: =($D7)*(J$3*6)/1000 -> 1.4574928 | K7: =($D7)*(K$3*6)/1000 -> 1.9433237 | L7: =($D7)*(L$3*6)/1000 -> 2.4291546 | M7: =($D7)*(M$3*6)/1000 -> 2.9149856 | N7: =($D7)*(N$3*6)/1000 -> 3.4008165 | O7: =($D7)*(O$3*6)/1000 -> 3.8866474 | P7: =($D7)*(P$3*6)/1000 -> 4.3724783 | S7: =E7*(7000*6)^2/10000 -> 35210.736 | T7: =ABS(S7) -> 35210.736
B8: =B7+2 -> 8 | C8: =data!E$10*(1-COS(RADIANS(B8))) + data!E$11 - SQRT(data!E$11^2 - (data!E$10*SIN(RADIANS(B8)))^2) -> 0.51796588 | D8: =(C8-C7)/2 -> 0.11313827 | E8: =(D8-D7)/(C8-C7) -> 0.14215548 | I8: =($D8)*(I$3*6)/1000 -> 1.3576593 | J8: =($D8)*(J$3*6)/1000 -> 2.0364889 | K8: =($D8)*(K$3*6)/1000 -> 2.7153185 | L8: =($D8)*(L$3*6)/1000 -> 3.3941481 | M8: =($D8)*(M$3*6)/1000 -> 4.0729778 | N8: =($D8)*(N$3*6)/1000 -> 4.7518074 | O8: =($D8)*(O$3*6)/1000 -> 5.430637 | P8: =($D8)*(P$3*6)/1000 -> 6.1094667 | S8: =E8*(7000*6)^2/10000 -> 25076.226 | T8: =ABS(S8) -> 25076.226
B9: =B8+2 -> 10 | C9: =data!E$10*(1-COS(RADIANS(B9))) + data!E$11 - SQRT(data!E$11^2 - (data!E$10*SIN(RADIANS(B9)))^2) -> 0.80813211 | D9: =(C9-C8)/2 -> 0.14508311 | E9: =(D9-D8)/(C9-C8) -> 0.11009152 | I9: =($D9)*(I$3*6)/1000 -> 1.7409974 | J9: =($D9)*(J$3*6)/1000 -> 2.611496 | K9: =($D9)*(K$3*6)/1000 -> 3.4819947 | L9: =($D9)*(L$3*6)/1000 -> 4.3524934 | M9: =($D9)*(M$3*6)/1000 -> 5.2229921 | N9: =($D9)*(N$3*6)/1000 -> 6.0934908 | O9: =($D9)*(O$3*6)/1000 -> 6.9639895 | P9: =($D9)*(P$3*6)/1000 -> 7.8344881 | S9: =E9*(7000*6)^2/10000 -> 19420.145 | T9: =ABS(S9) -> 19420.145
B10: =B9+2 -> 12 | C10: =data!E$10*(1-COS(RADIANS(B10))) + data!E$11 - SQRT(data!E$11^2 - (data!E$10*SIN(RADIANS(B10)))^2) -> 1.1616201 | D10: =(C10-C9)/2 -> 0.17674399 | E10: =(D10-D9)/(C10-C9) -> 0.08956705 | I10: =($D10)*(I$3*6)/1000 -> 2.1209279 | J10: =($D10)*(J$3*6)/1000 -> 3.1813918 | K10: =($D10)*(K$3*6)/1000 -> 4.2418557 | L10: =($D10)*(L$3*6)/1000 -> 5.3023197 | M10: =($D10)*(M$3*6)/1000 -> 6.3627836 | N10: =($D10)*(N$3*6)/1000 -> 7.4232475 | O10: =($D10)*(O$3*6)/1000 -> 8.4837115 | P10: =($D10)*(P$3*6)/1000 -> 9.5441754 | S10: =E10*(7000*6)^2/10000 -> 15799.628 | T10: =ABS(S10) -> 15799.628
B11: =B10+2 -> 14 | C11: =data!E$10*(1-COS(RADIANS(B11))) + data!E$11 - SQRT(data!E$11^2 - (data!E$10*SIN(RADIANS(B11)))^2) -> 1.5777386 | D11: =(C11-C10)/2 -> 0.20805926 | E11: =(D11-D10)/(C11-C10) -> 0.075255645 | I11: =($D11)*(I$3*6)/1000 -> 2.4967111 | J11: =($D11)*(J$3*6)/1000 -> 3.7450666 | K11: =($D11)*(K$3*6)/1000 -> 4.9934221 | L11: =($D11)*(L$3*6)/1000 -> 6.2417777 | M11: =($D11)*(M$3*6)/1000 -> 7.4901332 | N11: =($D11)*(N$3*6)/1000 -> 8.7384888 | O11: =($D11)*(O$3*6)/1000 -> 9.9868443 | P11: =($D11)*(P$3*6)/1000 -> 11.2352 | S11: =E11*(7000*6)^2/10000 -> 13275.096 | T11: =ABS(S11) -> 13275.096
B12: =B11+2 -> 16 | C12: =data!E$10*(1-COS(RADIANS(B12))) + data!E$11 - SQRT(data!E$11^2 - (data!E$10*SIN(RADIANS(B12)))^2) -> 2.0556749 | D12: =(C12-C11)/2 -> 0.23896815 | E12: =(D12-D11)/(C12-C11) -> 0.064671576 | I12: =($D12)*(I$3*6)/1000 -> 2.8676178 | J12: =($D12)*(J$3*6)/1000 -> 4.3014267 | K12: =($D12)*(K$3*6)/1000 -> 5.7352356 | L12: =($D12)*(L$3*6)/1000 -> 7.1690445 | M12: =($D12)*(M$3*6)/1000 -> 8.6028534 | N12: =($D12)*(N$3*6)/1000 -> 10.036662 | O12: =($D12)*(O$3*6)/1000 -> 11.470471 | P12: =($D12)*(P$3*6)/1000 -> 12.90428 | S12: =E12*(7000*6)^2/10000 -> 11408.066 | T12: =ABS(S12) -> 11408.066
B13: =B12+2 -> 18 | C13: =data!E$10*(1-COS(RADIANS(B13))) + data!E$11 - SQRT(data!E$11^2 - (data!E$10*SIN(RADIANS(B13)))^2) -> 2.5944968 | D13: =(C13-C12)/2 -> 0.26941094 | E13: =(D13-D12)/(C13-C12) -> 0.056498803 | I13: =($D13)*(I$3*6)/1000 -> 3.2329313 | J13: =($D13)*(J$3*6)/1000 -> 4.8493969 | K13: =($D13)*(K$3*6)/1000 -> 6.4658626 | L13: =($D13)*(L$3*6)/1000 -> 8.0823282 | M13: =($D13)*(M$3*6)/1000 -> 9.6987939 | N13: =($D13)*(N$3*6)/1000 -> 11.31526 | O13: =($D13)*(O$3*6)/1000 -> 12.931725 | P13: =($D13)*(P$3*6)/1000 -> 14.548191 | S13: =E13*(7000*6)^2/10000 -> 9966.3889 | T13: =ABS(S13) -> 9966.3889
B14: =B13+2 -> 20 | C14: =data!E$10*(1-COS(RADIANS(B14))) + data!E$11 - SQRT(data!E$11^2 - (data!E$10*SIN(RADIANS(B14)))^2) -> 3.193155 | D14: =(C14-C13)/2 -> 0.2993291 | E14: =(D14-D13)/(C14-C13) -> 0.049975352 | I14: =($D14)*(I$3*6)/1000 -> 3.5919491 | J14: =($D14)*(J$3*6)/1000 -> 5.3879237 | K14: =($D14)*(K$3*6)/1000 -> 7.1838983 | L14: =($D14)*(L$3*6)/1000 -> 8.9798729 | M14: =($D14)*(M$3*6)/1000 -> 10.775847 | N14: =($D14)*(N$3*6)/1000 -> 12.571822 | O14: =($D14)*(O$3*6)/1000 -> 14.367797 | P14: =($D14)*(P$3*6)/1000 -> 16.163771 | S14: =E14*(7000*6)^2/10000 -> 8815.6521 | T14: =ABS(S14) -> 8815.6521
B15: =B14+2 -> 22 | C15: =data!E$10*(1-COS(RADIANS(B15))) + data!E$11 - SQRT(data!E$11^2 - (data!E$10*SIN(RADIANS(B15)))^2) -> 3.8504858 | D15: =(C15-C14)/2 -> 0.32866543 | E15: =(D15-D14)/(C15-C14) -> 0.044629477 | I15: =($D15)*(I$3*6)/1000 -> 3.9439851 | J15: =($D15)*(J$3*6)/1000 -> 5.9159777 | K15: =($D15)*(K$3*6)/1000 -> 7.8879703 | L15: =($D15)*(L$3*6)/1000 -> 9.8599628 | M15: =($D15)*(M$3*6)/1000 -> 11.831955 | N15: =($D15)*(N$3*6)/1000 -> 13.803948 | O15: =($D15)*(O$3*6)/1000 -> 15.775941 | P15: =($D15)*(P$3*6)/1000 -> 17.747933 | S15: =E15*(7000*6)^2/10000 -> 7872.6397 | T15: =ABS(S15) -> 7872.6397
B16: =B15+2 -> 24 | C16: =data!E$10*(1-COS(RADIANS(B16))) + data!E$11 - SQRT(data!E$11^2 - (data!E$10*SIN(RADIANS(B16)))^2) -> 4.5652143 | D16: =(C16-C15)/2 -> 0.35736426 | E16: =(D16-D15)/(C16-C15) -> 0.040153476 | I16: =($D16)*(I$3*6)/1000 -> 4.2883711 | J16: =($D16)*(J$3*6)/1000 -> 6.4325567 | K16: =($D16)*(K$3*6)/1000 -> 8.5767423 | L16: =($D16)*(L$3*6)/1000 -> 10.720928 | M16: =($D16)*(M$3*6)/1000 -> 12.865113 | N16: =($D16)*(N$3*6)/1000 -> 15.009299 | O16: =($D16)*(O$3*6)/1000 -> 17.153485 | P16: =($D16)*(P$3*6)/1000 -> 19.29767 | S16: =E16*(7000*6)^2/10000 -> 7083.0731 | T16: =ABS(S16) -> 7083.0731
... B184: =B183+2 -> 360 | C184: =data!E$10*(1-COS(RADIANS(B184))) + data!E$11 - SQRT(data!E$11^2 - (data!E$10*SIN(RADIANS(B184)))^2) -> 0 | D184: =(C184-C183)/2 -> -0.016226166 | E184: =(D184-D183)/(C184-C183) -> -0.99901955 | I184: =($D184)*(I$3*6)/1000 -> -0.19471399 | J184: =($D184)*(J$3*6)/1000 -> -0.29207099 | K184: =($D184)*(K$3*6)/1000 -> -0.38942799 | L184: =($D184)*(L$3*6)/1000 -> -0.48678498 | M184: =($D184)*(M$3*6)/1000 -> -0.58414198 | N184: =($D184)*(N$3*6)/1000 -> -0.68149898 | O184: =($D184)*(O$3*6)/1000 -> -0.77885597 | P184: =($D184)*(P$3*6)/1000 -> -0.87621297 | S184: =E184*(7000*6)^2/10000 -> -176227.05 | T184: =ABS(S184) -> 176227.05
B185: 2 | C185: =data!E$10*(1-COS(RADIANS(B185))) + data!E$11 - SQRT(data!E$11^2 - (data!E$10*SIN(RADIANS(B185)))^2) -> 0.032452332
B186: =B185+2 -> 4 | C186: =data!E$10*(1-COS(RADIANS(B186))) + data!E$11 - SQRT(data!E$11^2 - (data!E$10*SIN(RADIANS(B186)))^2) -> 0.12974569
B187: =B186+2 -> 6 | C187: =data!E$10*(1-COS(RADIANS(B187))) + data!E$11 - SQRT(data!E$11^2 - (data!E$10*SIN(RADIANS(B187)))^2) -> 0.29168934
B188: =B187+2 -> 8 | C188: =data!E$10*(1-COS(RADIANS(B188))) + data!E$11 - SQRT(data!E$11^2 - (data!E$10*SIN(RADIANS(B188)))^2) -> 0.51796588
B189: =B188+2 -> 10 | C189: =data!E$10*(1-COS(RADIANS(B189))) + data!E$11 - SQRT(data!E$11^2 - (data!E$10*SIN(RADIANS(B189)))^2) -> 0.80813211
B190: =B189+2 -> 12 | C190: =data!E$10*(1-COS(RADIANS(B190))) + data!E$11 - SQRT(data!E$11^2 - (data!E$10*SIN(RADIANS(B190)))^2) -> 1.1616201
B191: =B190+2 -> 14 | C191: =data!E$10*(1-COS(RADIANS(B191))) + data!E$11 - SQRT(data!E$11^2 - (data!E$10*SIN(RADIANS(B191)))^2) -> 1.5777386
B192: =B191+2 -> 16 | C192: =data!E$10*(1-COS(RADIANS(B192))) + data!E$11 - SQRT(data!E$11^2 - (data!E$10*SIN(RADIANS(B192)))^2) -> 2.0556749
B193: =B192+2 -> 18 | C193: =data!E$10*(1-COS(RADIANS(B193))) + data!E$11 - SQRT(data!E$11^2 - (data!E$10*SIN(RADIANS(B193)))^2) -> 2.5944968
B194: =B193+2 -> 20 | C194: =data!E$10*(1-COS(RADIANS(B194))) + data!E$11 - SQRT(data!E$11^2 - (data!E$10*SIN(RADIANS(B194)))^2) -> 3.193155
B195: =B194+2 -> 22 | C195: =data!E$10*(1-COS(RADIANS(B195))) + data!E$11 - SQRT(data!E$11^2 - (data!E$10*SIN(RADIANS(B195)))^2) -> 3.8504858
B196: =B195+2 -> 24 | C196: =data!E$10*(1-COS(RADIANS(B196))) + data!E$11 - SQRT(data!E$11^2 - (data!E$10*SIN(RADIANS(B196)))^2) -> 4.5652143
B197: =B196+2 -> 26 | C197: =data!E$10*(1-COS(RADIANS(B197))) + data!E$11 - SQRT(data!E$11^2 - (data!E$10*SIN(RADIANS(B197)))^2) -> 5.3359575
... B364: =B363+2 -> 360 | C364: =data!E$10*(1-COS(RADIANS(B364))) + data!E$11 - SQRT(data!E$11^2 - (data!E$10*SIN(RADIANS(B364)))^2) -> 0

Sheet valves
AP1: inlet | AV1: exhaust
B2: crank degrees | C2: EX cam lift | D2: EX runout | F2: runout smoothed | G2: EX lift corrected | H2: valve lift | N2: IN cam lift | O2: IN runout | Q2: runout smoothed | R2: IN lift corrected | S2: valve lift | AL2: at 7000 rpm | AM2: velocity mm/deg | AN2: acceleration mm/deg | AO2: velocity m/s | AP2: acceleration m/s2 | AQ2: jerk | AT2: velocity mm/deg | AU2: acceleration mm/deg | AV2: velocity m/s | AX2: acceleration m/s2 | AY2: jerk | BN2: RPM
BJ3: 4000 | BK3: 4500 | BL3: 5000 | BM3: 5500 | BN3: 6000 | BO3: 6500 | BP3: 7000 | BQ3: 7500 | BR3: 8000 | BS3: 8500 | BT3: 9000 | BU3: 9500
B4: 0 | C4: 0 | D4: 0 | F4: =(-0.000003*B4^2+0.0011*B4)-(-0.000003*B4^2+0.0011*B4)*2 -> 0 | G4: =IF(C4=0, 0, C4-F4) -> 0 | H4: 0 | N4: 0 | Q4: =(-0.0000045*B4^2+0.0015*B4) -> 0 | R4: =IF(Table1[[#This Row],[IN lift corrected]]=0, 0,N4-Q4) -> 0 | S4: 0
B5: =B4+2 -> 2 | C5: 0 | F5: =(-0.000003*B5^2+0.0011*B5)-(-0.000003*B5^2+0.0011*B5)*2 -> -0.002188 | G5: =IF(C5=0, 0, C5-F5) -> 0 | H5: 0 | N5: 0 | Q5: =(-0.0000045*B5^2+0.0015*B5) -> 0.002982 | R5: =IF(Table1[[#This Row],[IN lift corrected]]=0, 0,N5-Q5) -> 0 | S5: 0 | AM5: =(Table1[[#This Row],[Column11]]-S4)/(Table1[[#This Row],[crankshaft degrees]]-B4) -> 0 | AN5: =(AM5-AM4)/(Table1[[#This Row],[crankshaft degrees]]-B4) -> 0 | AO5: =AM5*(((data!E$12/2)*6)/1000) -> 0 | AP5: =AN5*(((data!E$12/2)*6)^2/1000) -> 0 | AQ5: =AN5*(((data!E$12/2)*6/1000^3)) -> 0 | AT5: =(Table1[[#This Row],[Column8]]-H4)/(Table1[[#This Row],[crankshaft degrees]]-B4) -> 0 | AU5: =(AT5-AT4)/(Table1[[#This Row],[crankshaft degrees]]-B4) -> 0 | AV5: =AT5*(((data!E$12/2)*6)/1000) -> 0 | AW5: =ABS(AV5) -> 0 | AX5: =AU5*(((data!E$12/2)*6)^2/1000) -> 0 | AY5: =AU5*(((data!E$12/2)*6)^3/1000) -> 0 | BH5: max acc | BJ5: {=MIN($AN5:$AN364 * (((BJ3/2)*6)^2/1000))} -> -266.4 | BK5: {=MIN($AN5:$AN364 * (((BK3/2)*6)^2/1000))} -> -337.1625 | BL5: {=MIN($AN5:$AN364 * (((BL3/2)*6)^2/1000))} -> -416.25 | BM5: {=MIN($AN5:$AN364 * (((BM3/2)*6)^2/1000))} -> -503.6625 | BN5: {=MIN($AN5:$AN364 * (((BN3/2)*6)^2/1000))} -> -599.4 | BO5: {=MIN($AN5:$AN364 * (((BO3/2)*6)^2/1000))} -> -703.4625 | BP5: {=MIN($AN5:$AN364 * (((BP3/2)*6)^2/1000))} -> -815.85 | BQ5: {=MIN($AN5:$AN364 * (((BQ3/2)*6)^2/1000))} -> -936.5625 | ... BU5: {=MIN($AN5:$AN364 * (((BU3/2)*6)^2/1000))} -> -1502.6625
B6: =B5+2 -> 4 | C6: 0 | F6: =(-0.000003*B6^2+0.0011*B6)-(-0.000003*B6^2+0.0011*B6)*2 -> -0.004352 | G6: =IF(C6=0, 0, C6-F6) -> 0 | H6: 0 | N6: 0 | O6: 0.02 | Q6: =(-0.0000045*B6^2+0.0015*B6) -> 0.005928 | R6: =IF(Table1[[#This Row],[IN lift corrected]]=0, 0,N6-Q6) -> 0 | S6: 0 | AM6: =(Table1[[#This Row],[Column11]]-S5)/(Table1[[#This Row],[crankshaft degrees]]-B5) -> 0 | AN6: =(AM6-AM5)/(Table1[[#This Row],[crankshaft degrees]]-B5) -> 0 | AO6: =AM6*(((data!E$12/2)*6)/1000) -> 0 | AP6: =AN6*(((data!E$12/2)*6)^2/1000) -> 0 | AQ6: =AN6*(((data!E$12/2)*6/1000^3)) -> 0 | AT6: =(Table1[[#This Row],[Column8]]-H5)/(Table1[[#This Row],[crankshaft degrees]]-B5) -> 0 | AU6: =(AT6-AT5)/(Table1[[#This Row],[crankshaft degrees]]-I5) -> 0 | AV6: =AT6*(((data!E$12/2)*6)/1000) -> 0 | AW6: =ABS(AV6) -> 0 | AX6: =AU6*(((data!E$12/2)*6)^2/1000) -> 0 | AY6: =AU6*(((data!E$12/2)*6)^3/1000) -> 0 | BH6: lift @ max acc | BJ6: =INDEX(S:S, MATCH(MAX(AP:AP), AP:AP, 0)) -> 0.2967
B7: =B6+2 -> 6 | C7: 0 | F7: =(-0.000003*B7^2+0.0011*B7)-(-0.000003*B7^2+0.0011*B7)*2 -> -0.006492 | G7: =IF(C7=0, 0, C7-F7) -> 0 | H7: 0 | N7: 0 | Q7: =(-0.0000045*B7^2+0.0015*B7) -> 0.008838 | R7: =IF(Table1[[#This Row],[IN lift corrected]]=0, 0,N7-Q7) -> 0 | S7: 0 | AM7: =(Table1[[#This Row],[Column11]]-S6)/(Table1[[#This Row],[crankshaft degrees]]-B6) -> 0 | AN7: =(AM7-AM6)/(Table1[[#This Row],[crankshaft degrees]]-B6) -> 0 | AO7: =AM7*(((data!E$12/2)*6)/1000) -> 0 | AP7: =AN7*(((data!E$12/2)*6)^2/1000) -> 0 | AQ7: =AN7*(((data!E$12/2)*6/1000^3)) -> 0 | AT7: =(Table1[[#This Row],[Column8]]-H6)/(Table1[[#This Row],[crankshaft degrees]]-B6) -> 0 | AU7: =(AT7-AT6)/(Table1[[#This Row],[crankshaft degrees]]-I6) -> 0 | AV7: =AT7*(((data!E$12/2)*6)/1000) -> 0 | AW7: =ABS(AV7) -> 0 | AX7: =AU7*(((data!E$12/2)*6)^2/1000) -> 0 | AY7: =AU7*(((data!E$12/2)*6)^3/1000) -> 0
B8: =B7+2 -> 8 | C8: 0 | F8: =(-0.000003*B8^2+0.0011*B8)-(-0.000003*B8^2+0.0011*B8)*2 -> -0.008608 | G8: =IF(C8=0, 0, C8-F8) -> 0 | H8: 0 | N8: 0 | Q8: =(-0.0000045*B8^2+0.0015*B8) -> 0.011712 | R8: =IF(Table1[[#This Row],[IN lift corrected]]=0, 0,N8-Q8) -> 0 | S8: 0 | AM8: =(Table1[[#This Row],[Column11]]-S7)/(Table1[[#This Row],[crankshaft degrees]]-B7) -> 0 | AN8: =(AM8-AM7)/(Table1[[#This Row],[crankshaft degrees]]-B7) -> 0 | AO8: =AM8*(((data!E$12/2)*6)/1000) -> 0 | AP8: =AN8*(((data!E$12/2)*6)^2/1000) -> 0 | AQ8: =AN8*(((data!E$12/2)*6/1000^3)) -> 0 | AT8: =(Table1[[#This Row],[Column8]]-H7)/(Table1[[#This Row],[crankshaft degrees]]-B7) -> 0 | AU8: =(AT8-AT7)/(Table1[[#This Row],[crankshaft degrees]]-I7) -> 0 | AV8: =AT8*(((data!E$12/2)*6)/1000) -> 0 | AW8: =ABS(AV8) -> 0 | AX8: =AU8*(((data!E$12/2)*6)^2/1000) -> 0 | AY8: =AU8*(((data!E$12/2)*6)^3/1000) -> 0 | BG8: intake
B9: =B8+2 -> 10 | C9: 0 | F9: =(-0.000003*B9^2+0.0011*B9)-(-0.000003*B9^2+0.0011*B9)*2 -> -0.0107 | G9: =IF(C9=0, 0, C9-F9) -> 0 | H9: 0 | N9: 0 | Q9: =(-0.0000045*B9^2+0.0015*B9) -> 0.01455 | R9: =IF(Table1[[#This Row],[IN lift corrected]]=0, 0,N9-Q9) -> 0 | S9: 0 | AM9: =(Table1[[#This Row],[Column11]]-S8)/(Table1[[#This Row],[crankshaft degrees]]-B8) -> 0 | AN9: =(AM9-AM8)/(Table1[[#This Row],[crankshaft degrees]]-B8) -> 0 | AO9: =AM9*(((data!E$12/2)*6)/1000) -> 0 | AP9: =AN9*(((data!E$12/2)*6)^2/1000) -> 0 | AQ9: =AN9*(((data!E$12/2)*6/1000^3)) -> 0 | AT9: =(Table1[[#This Row],[Column8]]-H8)/(Table1[[#This Row],[crankshaft degrees]]-B8) -> 0 | AU9: =(AT9-AT8)/(Table1[[#This Row],[crankshaft degrees]]-I8) -> 0 | AV9: =AT9*(((data!E$12/2)*6)/1000) -> 0 | AW9: =ABS(AV9) -> 0 | AX9: =AU9*(((data!E$12/2)*6)^2/1000) -> 0 | AY9: =AU9*(((data!E$12/2)*6)^3/1000) -> 0 | BH9: contact force | BJ9: =BJ13+BJ11 -> 188.5314 | BK9: =BK13+BK11 -> 180.46447 | BL9: =BL13+BL11 -> 171.4485 | BM9: =BM13+BM11 -> 161.48347 | BN9: =BN13+BN11 -> 150.5694 | BO9: =BO13+BO11 -> 138.70627 | BP9: =BP13+BP11 -> 125.8941 | BQ9: =BQ13+BQ11 -> 112.13287 | ... BU9: =BU13+BU11 -> 47.597475
B10: =B9+2 -> 12 | C10: 0 | F10: =(-0.000003*B10^2+0.0011*B10)-(-0.000003*B10^2+0.0011*B10)*2 -> -0.012768 | G10: =IF(C10=0, 0, C10-F10) -> 0 | H10: 0 | N10: 0 | Q10: =(-0.0000045*B10^2+0.0015*B10) -> 0.017352 | R10: =IF(Table1[[#This Row],[IN lift corrected]]=0, 0,N10-Q10) -> 0 | S10: 0 | AM10: =(Table1[[#This Row],[Column11]]-S9)/(Table1[[#This Row],[crankshaft degrees]]-B9) -> 0 | AN10: =(AM10-AM9)/(Table1[[#This Row],[crankshaft degrees]]-B9) -> 0 | AO10: =AM10*(((data!E$12/2)*6)/1000) -> 0 | AP10: =AN10*(((data!E$12/2)*6)^2/1000) -> 0 | AQ10: =AN10*(((data!E$12/2)*6/1000^3)) -> 0 | AT10: =(Table1[[#This Row],[Column8]]-H9)/(Table1[[#This Row],[crankshaft degrees]]-B9) -> 0 | AU10: =(AT10-AT9)/(Table1[[#This Row],[crankshaft degrees]]-I9) -> 0 | AV10: =AT10*(((data!E$12/2)*6)/1000) -> 0 | AW10: =ABS(AV10) -> 0 | AX10: =AU10*(((data!E$12/2)*6)^2/1000) -> 0 | AY10: =AU10*(((data!E$12/2)*6)^3/1000) -> 0
B11: =B10+2 -> 14 | C11: 0 | F11: =(-0.000003*B11^2+0.0011*B11)-(-0.000003*B11^2+0.0011*B11)*2 -> -0.014812 | G11: =IF(C11=0, 0, C11-F11) -> 0 | H11: 0 | N11: 0 | Q11: =(-0.0000045*B11^2+0.0015*B11) -> 0.020118 | R11: =IF(Table1[[#This Row],[IN lift corrected]]=0, 0,N11-Q11) -> 0 | S11: 0 | AM11: =(Table1[[#This Row],[Column11]]-S10)/(Table1[[#This Row],[crankshaft degrees]]-B10) -> 0 | AN11: =(AM11-AM10)/(Table1[[#This Row],[crankshaft degrees]]-B10) -> 0 | AO11: =AM11*(((data!E$12/2)*6)/1000) -> 0 | AP11: =AN11*(((data!E$12/2)*6)^2/1000) -> 0 | AQ11: =AN11*(((data!E$12/2)*6/1000^3)) -> 0 | AT11: =(Table1[[#This Row],[Column8]]-H10)/(Table1[[#This Row],[crankshaft degrees]]-B10) -> 0 | AU11: =(AT11-AT10)/(Table1[[#This Row],[crankshaft degrees]]-I10) -> 0 | AV11: =AT11*(((data!E$12/2)*6)/1000) -> 0 | AW11: =ABS(AV11) -> 0 | AX11: =AU11*(((data!E$12/2)*6)^2/1000) -> 0 | AY11: =AU11*(((data!E$12/2)*6)^3/1000) -> 0 | BH11: ma | BJ11: =BJ5*data!$I14 -> -30.3696 | BK11: =BK5*data!$I14 -> -38.436525 | BL11: =BL5*data!$I14 -> -47.4525 | BM11: =BM5*data!$I14 -> -57.417525 | BN11: =BN5*data!$I14 -> -68.3316 | BO11: =BO5*data!$I14 -> -80.194725 | BP11: =BP5*data!$I14 -> -93.0069 | BQ11: =BQ5*data!$I14 -> -106.76813 | ... BU11: =BU5*data!$I14 -> -171.30353
B12: =B11+2 -> 16 | C12: 0 | F12: =(-0.000003*B12^2+0.0011*B12)-(-0.000003*B12^2+0.0011*B12)*2 -> -0.016832 | G12: =IF(C12=0, 0, C12-F12) -> 0 | H12: 0 | N12: 0.05 | Q12: =(-0.0000045*B12^2+0.0015*B12) -> 0.022848 | R12: =IF(Table1[[#This Row],[IN lift corrected]]=0, 0,N12-Q12) -> 0.027152 | S12: 0 | AM12: =(Table1[[#This Row],[Column11]]-S11)/(Table1[[#This Row],[crankshaft degrees]]-B11) -> 0 | AN12: =(AM12-AM11)/(Table1[[#This Row],[crankshaft degrees]]-B11) -> 0 | AO12: =AM12*(((data!E$12/2)*6)/1000) -> 0 | AP12: =AN12*(((data!E$12/2)*6)^2/1000) -> 0 | AQ12: =AN12*(((data!E$12/2)*6/1000^3)) -> 0 | AT12: =(Table1[[#This Row],[Column8]]-H11)/(Table1[[#This Row],[crankshaft degrees]]-B11) -> 0 | AU12: =(AT12-AT11)/(Table1[[#This Row],[crankshaft degrees]]-I11) -> 0 | AV12: =AT12*(((data!E$12/2)*6)/1000) -> 0 | AW12: =ABS(AV12) -> 0 | AX12: =AU12*(((data!E$12/2)*6)^2/1000) -> 0 | AY12: =AU12*(((data!E$12/2)*6)^3/1000) -> 0
B13: =B12+2 -> 18 | C13: 0 | F13: =(-0.000003*B13^2+0.0011*B13)-(-0.000003*B13^2+0.0011*B13)*2 -> -0.018828 | G13: =IF(C13=0, 0, C13-F13) -> 0 | H13: 0 | N13: 0.1 | Q13: =(-0.0000045*B13^2+0.0015*B13) -> 0.025542 | R13: =IF(Table1[[#This Row],[IN lift corrected]]=0, 0,N13-Q13) -> 0.074458 | S13: 0 | AM13: =(Table1[[#This Row],[Column11]]-S12)/(Table1[[#This Row],[crankshaft degrees]]-B12) -> 0 | AN13: =(AM13-AM12)/(Table1[[#This Row],[crankshaft degrees]]-B12) -> 0 | AO13: =AM13*(((data!E$12/2)*6)/1000) -> 0 | AP13: =AN13*(((data!E$12/2)*6)^2/1000) -> 0 | AQ13: =AN13*(((data!E$12/2)*6/1000^3)) -> 0 | AT13: =(Table1[[#This Row],[Column8]]-H12)/(Table1[[#This Row],[crankshaft degrees]]-B12) -> 0 | AU13: =(AT13-AT12)/(Table1[[#This Row],[crankshaft degrees]]-I12) -> 0 | AV13: =AT13*(((data!E$12/2)*6)/1000) -> 0 | AW13: =ABS(AV13) -> 0 | AX13: =AU13*(((data!E$12/2)*6)^2/1000) -> 0 | AY13: =AU13*(((data!E$12/2)*6)^3/1000) -> 0 | BH13: spring force N | BJ13: =data!$I26*((data!$I23-data!$I24)+valves!$BJ6/1000) -> 218.901 | BK13: =data!$I26*((data!$I23-data!$I24)+valves!$BJ6/1000) -> 218.901 | BL13: =data!$I26*((data!$I23-data!$I24)+valves!$BJ6/1000) -> 218.901 | BM13: =data!$I26*((data!$I23-data!$I24)+valves!$BJ6/1000) -> 218.901 | BN13: =data!$I26*((data!$I23-data!$I24)+valves!$BJ6/1000) -> 218.901 | BO13: =data!$I26*((data!$I23-data!$I24)+valves!$BJ6/1000) -> 218.901 | BP13: =data!$I26*((data!$I23-data!$I24)+valves!$BJ6/1000) -> 218.901 | BQ13: =data!$I26*((data!$I23-data!$I24)+valves!$BJ6/1000) -> 218.901 | ... BU13: =data!$I26*((data!$I23-data!$I24)+valves!$BJ6/1000) -> 218.901
B14: =B13+2 -> 20 | C14: 0 | D14: -0.02 | E14: 0.02 | F14: =(-0.000003*B14^2+0.0011*B14)-(-0.000003*B14^2+0.0011*B14)*2 -> -0.0208 | G14: =IF(C14=0, 0, C14-F14) -> 0 | H14: 0 | N14: 0.01 | Q14: =(-0.0000045*B14^2+0.0015*B14) -> 0.0282 | R14: =IF(Table1[[#This Row],[IN lift corrected]]=0, 0,N14-Q14) -> -0.0182 | S14: 0 | AM14: =(Table1[[#This Row],[Column11]]-S13)/(Table1[[#This Row],[crankshaft degrees]]-B13) -> 0 | AN14: =(AM14-AM13)/(Table1[[#This Row],[crankshaft degrees]]-B13) -> 0 | AO14: =AM14*(((data!E$12/2)*6)/1000) -> 0 | AP14: =AN14*(((data!E$12/2)*6)^2/1000) -> 0 | AQ14: =AN14*(((data!E$12/2)*6/1000^3)) -> 0 | AT14: =(Table1[[#This Row],[Column8]]-H13)/(Table1[[#This Row],[crankshaft degrees]]-B13) -> 0 | AU14: =(AT14-AT13)/(Table1[[#This Row],[crankshaft degrees]]-I13) -> 0 | AV14: =AT14*(((data!E$12/2)*6)/1000) -> 0 | AW14: =ABS(AV14) -> 0 | AX14: =AU14*(((data!E$12/2)*6)^2/1000) -> 0 | AY14: =AU14*(((data!E$12/2)*6)^3/1000) -> 0
B15: =B14+2 -> 22 | C15: 0 | F15: =(-0.000003*B15^2+0.0011*B15)-(-0.000003*B15^2+0.0011*B15)*2 -> -0.022748 | G15: =IF(C15=0, 0, C15-F15) -> 0 | H15: 0 | N15: 0.02 | Q15: =(-0.0000045*B15^2+0.0015*B15) -> 0.030822 | R15: =IF(Table1[[#This Row],[IN lift corrected]]=0, 0,N15-Q15) -> -0.010822 | S15: 0 | AM15: =(Table1[[#This Row],[Column11]]-S14)/(Table1[[#This Row],[crankshaft degrees]]-B14) -> 0 | AN15: =(AM15-AM14)/(Table1[[#This Row],[crankshaft degrees]]-B14) -> 0 | AO15: =AM15*(((data!E$12/2)*6)/1000) -> 0 | AP15: =AN15*(((data!E$12/2)*6)^2/1000) -> 0 | AQ15: =AN15*(((data!E$12/2)*6/1000^3)) -> 0 | AT15: =(Table1[[#This Row],[Column8]]-H14)/(Table1[[#This Row],[crankshaft degrees]]-B14) -> 0 | AU15: =(AT15-AT14)/(Table1[[#This Row],[crankshaft degrees]]-I14) -> 0 | AV15: =AT15*(((data!E$12/2)*6)/1000) -> 0 | AW15: =ABS(AV15) -> 0 | AX15: =AU15*(((data!E$12/2)*6)^2/1000) -> 0 | AY15: =AU15*(((data!E$12/2)*6)^3/1000) -> 0 | BG15: exhaust
B16: =B15+2 -> 24 | C16: 0 | F16: =(-0.000003*B16^2+0.0011*B16)-(-0.000003*B16^2+0.0011*B16)*2 -> -0.024672 | G16: =IF(C16=0, 0, C16-F16) -> 0 | H16: 0 | N16: 0.03 | O16: 0.04 | Q16: =(-0.0000045*B16^2+0.0015*B16) -> 0.033408 | R16: =IF(Table1[[#This Row],[IN lift corrected]]=0, 0,N16-Q16) -> -0.003408 | S16: 0 | AM16: =(Table1[[#This Row],[Column11]]-S15)/(Table1[[#This Row],[crankshaft degrees]]-B15) -> 0 | AN16: =(AM16-AM15)/(Table1[[#This Row],[crankshaft degrees]]-B15) -> 0 | AO16: =AM16*(((data!E$12/2)*6)/1000) -> 0 | AP16: =AN16*(((data!E$12/2)*6)^2/1000) -> 0 | AQ16: =AN16*(((data!E$12/2)*6/1000^3)) -> 0 | AT16: =(Table1[[#This Row],[Column8]]-H15)/(Table1[[#This Row],[crankshaft degrees]]-B15) -> 0 | AU16: =(AT16-AT15)/(Table1[[#This Row],[crankshaft degrees]]-I15) -> 0 | AV16: =AT16*(((data!E$12/2)*6)/1000) -> 0 | AW16: =ABS(AV16) -> 0 | AX16: =AU16*(((data!E$12/2)*6)^2/1000) -> 0 | AY16: =AU16*(((data!E$12/2)*6)^3/1000) -> 0 | BH16: contact force | BJ16: =BJ20+BJ18 -> 123.6603 | BK16: =BK20+BK18 -> 115.80566 | BL16: =BL20+BL18 -> 107.02695 | BM16: =BM20+BM18 -> 97.324162 | BN16: =BN20+BN18 -> 86.6973 | BO16: =BO20+BO18 -> 75.146362 | BP16: =BP20+BP18 -> 62.67135 | BQ16: =BQ20+BQ18 -> 49.272262 | ... BU16: =BU20+BU18 -> -13.564838
B17: =B16+2 -> 26 | C17: 0 | F17: =(-0.000003*B17^2+0.0011*B17)-(-0.000003*B17^2+0.0011*B17)*2 -> -0.026572 | G17: =IF(C17=0, 0, C17-F17) -> 0 | H17: 0 | N17: 0.04 | Q17: =(-0.0000045*B17^2+0.0015*B17) -> 0.035958 | R17: =IF(Table1[[#This Row],[IN lift corrected]]=0, 0,N17-Q17) -> 0.004042 | S17: 0 | AM17: =(Table1[[#This Row],[Column11]]-S16)/(Table1[[#This Row],[crankshaft degrees]]-B16) -> 0 | AN17: =(AM17-AM16)/(Table1[[#This Row],[crankshaft degrees]]-B16) -> 0 | AO17: =AM17*(((data!E$12/2)*6)/1000) -> 0 | AP17: =AN17*(((data!E$12/2)*6)^2/1000) -> 0 | AQ17: =AN17*(((data!E$12/2)*6/1000^3)) -> 0 | AT17: =(Table1[[#This Row],[Column8]]-H16)/(Table1[[#This Row],[crankshaft degrees]]-B16) -> 0 | AU17: =(AT17-AT16)/(Table1[[#This Row],[crankshaft degrees]]-I16) -> 0 | AV17: =AT17*(((data!E$12/2)*6)/1000) -> 0 | AW17: =ABS(AV17) -> 0 | AX17: =AU17*(((data!E$12/2)*6)^2/1000) -> 0 | AY17: =AU17*(((data!E$12/2)*6)^3/1000) -> 0
B18: =B17+2 -> 28 | C18: 0 | F18: =(-0.000003*B18^2+0.0011*B18)-(-0.000003*B18^2+0.0011*B18)*2 -> -0.028448 | G18: =IF(C18=0, 0, C18-F18) -> 0 | H18: 0 | N18: 0.05 | Q18: =(-0.0000045*B18^2+0.0015*B18) -> 0.038472 | R18: =IF(Table1[[#This Row],[IN lift corrected]]=0, 0,N18-Q18) -> 0.011528 | S18: 0 | AM18: =(Table1[[#This Row],[Column11]]-S17)/(Table1[[#This Row],[crankshaft degrees]]-B17) -> 0 | AN18: =(AM18-AM17)/(Table1[[#This Row],[crankshaft degrees]]-B17) -> 0 | AO18: =AM18*(((data!E$12/2)*6)/1000) -> 0 | AP18: =AN18*(((data!E$12/2)*6)^2/1000) -> 0 | AQ18: =AN18*(((data!E$12/2)*6/1000^3)) -> 0 | AT18: =(Table1[[#This Row],[Column8]]-H17)/(Table1[[#This Row],[crankshaft degrees]]-B17) -> 0 | AU18: =(AT18-AT17)/(Table1[[#This Row],[crankshaft degrees]]-I17) -> 0 | AV18: =AT18*(((data!E$12/2)*6)/1000) -> 0 | AW18: =ABS(AV18) -> 0 | AX18: =AU18*(((data!E$12/2)*6)^2/1000) -> 0 | AY18: =AU18*(((data!E$12/2)*6)^3/1000) -> 0 | BH18: ma | BJ18: =BJ5*data!$I20 -> -29.5704 | BK18: =BK5*data!$I20 -> -37.425038 | BL18: =BL5*data!$I20 -> -46.20375 | BM18: =BM5*data!$I20 -> -55.906538 | BN18: =BN5*data!$I20 -> -66.5334 | BO18: =BO5*data!$I20 -> -78.084338 | BP18: =BP5*data!$I20 -> -90.55935 | BQ18: =BQ5*data!$I20 -> -103.95844 | ... BU18: =BU5*data!$I20 -> -166.79554
B19: =B18+2 -> 30 | C19: 0 | F19: =(-0.000003*B19^2+0.0011*B19)-(-0.000003*B19^2+0.0011*B19)*2 -> -0.0303 | G19: =IF(C19=0, 0, C19-F19) -> 0 | H19: 0 | N19: 0.07 | Q19: =(-0.0000045*B19^2+0.0015*B19) -> 0.04095 | R19: =IF(Table1[[#This Row],[IN lift corrected]]=0, 0,N19-Q19) -> 0.02905 | S19: 0 | AM19: =(Table1[[#This Row],[Column11]]-S18)/(Table1[[#This Row],[crankshaft degrees]]-B18) -> 0 | AN19: =(AM19-AM18)/(Table1[[#This Row],[crankshaft degrees]]-B18) -> 0 | AO19: =AM19*(((data!E$12/2)*6)/1000) -> 0 | AP19: =AN19*(((data!E$12/2)*6)^2/1000) -> 0 | AQ19: =AN19*(((data!E$12/2)*6/1000^3)) -> 0 | AT19: =(Table1[[#This Row],[Column8]]-H18)/(Table1[[#This Row],[crankshaft degrees]]-B18) -> 0 | AU19: =(AT19-AT18)/(Table1[[#This Row],[crankshaft degrees]]-I18) -> 0 | AV19: =AT19*(((data!E$12/2)*6)/1000) -> 0 | AW19: =ABS(AV19) -> 0 | AX19: =AU19*(((data!E$12/2)*6)^2/1000) -> 0 | AY19: =AU19*(((data!E$12/2)*6)^3/1000) -> 0
B20: =B19+2 -> 32 | C20: 0 | F20: =(-0.000003*B20^2+0.0011*B20)-(-0.000003*B20^2+0.0011*B20)*2 -> -0.032128 | G20: =IF(C20=0, 0, C20-F20) -> 0 | H20: 0 | N20: 0.09 | Q20: =(-0.0000045*B20^2+0.0015*B20) -> 0.043392 | R20: =IF(Table1[[#This Row],[IN lift corrected]]=0, 0,N20-Q20) -> 0.046608 | S20: 0 | AM20: =(Table1[[#This Row],[Column11]]-S19)/(Table1[[#This Row],[crankshaft degrees]]-B19) -> 0 | AN20: =(AM20-AM19)/(Table1[[#This Row],[crankshaft degrees]]-B19) -> 0 | AO20: =AM20*(((data!E$12/2)*6)/1000) -> 0 | AP20: =AN20*(((data!E$12/2)*6)^2/1000) -> 0 | AQ20: =AN20*(((data!E$12/2)*6/1000^3)) -> 0 | AT20: =(Table1[[#This Row],[Column8]]-H19)/(Table1[[#This Row],[crankshaft degrees]]-B19) -> 0 | AU20: =(AT20-AT19)/(Table1[[#This Row],[crankshaft degrees]]-I19) -> 0 | AV20: =AT20*(((data!E$12/2)*6)/1000) -> 0 | AW20: =ABS(AV20) -> 0 | AX20: =AU20*(((data!E$12/2)*6)^2/1000) -> 0 | AY20: =AU20*(((data!E$12/2)*6)^3/1000) -> 0 | BH20: spring force N | BJ20: =data!$I27*((data!$I23-data!$I24)+valves!$BJ6/1000) -> 153.2307 | BK20: =data!$I27*((data!$I23-data!$I24)+valves!$BJ6/1000) -> 153.2307 | BL20: =data!$I27*((data!$I23-data!$I24)+valves!$BJ6/1000) -> 153.2307 | BM20: =data!$I27*((data!$I23-data!$I24)+valves!$BJ6/1000) -> 153.2307 | BN20: =data!$I27*((data!$I23-data!$I24)+valves!$BJ6/1000) -> 153.2307 | BO20: =data!$I27*((data!$I23-data!$I24)+valves!$BJ6/1000) -> 153.2307 | BP20: =data!$I27*((data!$I23-data!$I24)+valves!$BJ6/1000) -> 153.2307 | BQ20: =data!$I27*((data!$I23-data!$I24)+valves!$BJ6/1000) -> 153.2307 | ... BU20: =data!$I27*((data!$I23-data!$I24)+valves!$BJ6/1000) -> 153.2307
B21: =B20+2 -> 34 | C21: 0 | F21: =(-0.000003*B21^2+0.0011*B21)-(-0.000003*B21^2+0.0011*B21)*2 -> -0.033932 | G21: =IF(C21=0, 0, C21-F21) -> 0 | H21: 0 | N21: 0.1 | Q21: =(-0.0000045*B21^2+0.0015*B21) -> 0.045798 | R21: =IF(Table1[[#This Row],[IN lift corrected]]=0, 0,N21-Q21) -> 0.054202 | S21: 0 | AM21: =(Table1[[#This Row],[Column11]]-S20)/(Table1[[#This Row],[crankshaft degrees]]-B20) -> 0 | AN21: =(AM21-AM20)/(Table1[[#This Row],[crankshaft degrees]]-B20) -> 0 | AO21: =AM21*(((data!E$12/2)*6)/1000) -> 0 | AP21: =AN21*(((data!E$12/2)*6)^2/1000) -> 0 | AQ21: =AN21*(((data!E$12/2)*6/1000^3)) -> 0 | AT21: =(Table1[[#This Row],[Column8]]-H20)/(Table1[[#This Row],[crankshaft degrees]]-B20) -> 0 | AU21: =(AT21-AT20)/(Table1[[#This Row],[crankshaft degrees]]-I20) -> 0 | AV21: =AT21*(((data!E$12/2)*6)/1000) -> 0 | AW21: =ABS(AV21) -> 0 | AX21: =AU21*(((data!E$12/2)*6)^2/1000) -> 0 | AY21: =AU21*(((data!E$12/2)*6)^3/1000) -> 0
B22: =B21+2 -> 36 | C22: 0 | F22: =(-0.000003*B22^2+0.0011*B22)-(-0.000003*B22^2+0.0011*B22)*2 -> -0.035712 | G22: =IF(C22=0, 0, C22-F22) -> 0 | H22: 0 | N22: 0.12 | Q22: =(-0.0000045*B22^2+0.0015*B22) -> 0.048168 | R22: =IF(Table1[[#This Row],[IN lift corrected]]=0, 0,N22-Q22) -> 0.071832 | S22: 0 | AM22: =(Table1[[#This Row],[Column11]]-S21)/(Table1[[#This Row],[crankshaft degrees]]-B21) -> 0 | AN22: =(AM22-AM21)/(Table1[[#This Row],[crankshaft degrees]]-B21) -> 0 | AO22: =AM22*(((data!E$12/2)*6)/1000) -> 0 | AP22: =AN22*(((data!E$12/2)*6)^2/1000) -> 0 | AQ22: =AN22*(((data!E$12/2)*6/1000^3)) -> 0 | AT22: =(Table1[[#This Row],[Column8]]-H21)/(Table1[[#This Row],[crankshaft degrees]]-B21) -> 0 | AU22: =(AT22-AT21)/(Table1[[#This Row],[crankshaft degrees]]-I21) -> 0 | AV22: =AT22*(((data!E$12/2)*6)/1000) -> 0 | AW22: =ABS(AV22) -> 0 | AX22: =AU22*(((data!E$12/2)*6)^2/1000) -> 0 | AY22: =AU22*(((data!E$12/2)*6)^3/1000) -> 0
B23: =B22+2 -> 38 | C23: 0 | F23: =(-0.000003*B23^2+0.0011*B23)-(-0.000003*B23^2+0.0011*B23)*2 -> -0.037468 | G23: =IF(C23=0, 0, C23-F23) -> 0 | H23: 0 | N23: 0.14 | Q23: =(-0.0000045*B23^2+0.0015*B23) -> 0.050502 | R23: =IF(Table1[[#This Row],[IN lift corrected]]=0, 0,N23-Q23) -> 0.089498 | S23: 0 | AM23: =(Table1[[#This Row],[Column11]]-S22)/(Table1[[#This Row],[crankshaft degrees]]-B22) -> 0 | AN23: =(AM23-AM22)/(Table1[[#This Row],[crankshaft degrees]]-B22) -> 0 | AO23: =AM23*(((data!E$12/2)*6)/1000) -> 0 | AP23: =AN23*(((data!E$12/2)*6)^2/1000) -> 0 | AQ23: =AN23*(((data!E$12/2)*6/1000^3)) -> 0 | AT23: =(Table1[[#This Row],[Column8]]-H22)/(Table1[[#This Row],[crankshaft degrees]]-B22) -> 0 | AU23: =(AT23-AT22)/(Table1[[#This Row],[crankshaft degrees]]-I22) -> 0 | AV23: =AT23*(((data!E$12/2)*6)/1000) -> 0 | AW23: =ABS(AV23) -> 0 | AX23: =AU23*(((data!E$12/2)*6)^2/1000) -> 0 | AY23: =AU23*(((data!E$12/2)*6)^3/1000) -> 0
B24: =B23+2 -> 40 | C24: 0 | D24: -0.03 | E24: 0.03 | F24: =(-0.000003*B24^2+0.0011*B24)-(-0.000003*B24^2+0.0011*B24)*2 -> -0.0392 | G24: =IF(C24=0, 0, C24-F24) -> 0 | H24: 0 | N24: 0.16 | Q24: =(-0.0000045*B24^2+0.0015*B24) -> 0.0528 | R24: =IF(Table1[[#This Row],[IN lift corrected]]=0, 0,N24-Q24) -> 0.1072 | S24: 0 | AM24: =(Table1[[#This Row],[Column11]]-S23)/(Table1[[#This Row],[crankshaft degrees]]-B23) -> 0 | AN24: =(AM24-AM23)/(Table1[[#This Row],[crankshaft degrees]]-B23) -> 0 | AO24: =AM24*(((data!E$12/2)*6)/1000) -> 0 | AP24: =AN24*(((data!E$12/2)*6)^2/1000) -> 0 | AQ24: =AN24*(((data!E$12/2)*6/1000^3)) -> 0 | AT24: =(Table1[[#This Row],[Column8]]-H23)/(Table1[[#This Row],[crankshaft degrees]]-B23) -> 0 | AU24: =(AT24-AT23)/(Table1[[#This Row],[crankshaft degrees]]-I23) -> 0 | AV24: =AT24*(((data!E$12/2)*6)/1000) -> 0 | AW24: =ABS(AV24) -> 0 | AX24: =AU24*(((data!E$12/2)*6)^2/1000) -> 0 | AY24: =AU24*(((data!E$12/2)*6)^3/1000) -> 0
B25: =B24+2 -> 42 | C25: 0 | F25: =(-0.000003*B25^2+0.0011*B25)-(-0.000003*B25^2+0.0011*B25)*2 -> -0.040908 | G25: =IF(C25=0, 0, C25-F25) -> 0 | H25: 0 | N25: 0.18 | Q25: =(-0.0000045*B25^2+0.0015*B25) -> 0.055062 | R25: =IF(Table1[[#This Row],[IN lift corrected]]=0, 0,N25-Q25) -> 0.124938 | S25: 0 | AM25: =(Table1[[#This Row],[Column11]]-S24)/(Table1[[#This Row],[crankshaft degrees]]-B24) -> 0 | AN25: =(AM25-AM24)/(Table1[[#This Row],[crankshaft degrees]]-B24) -> 0 | AO25: =AM25*(((data!E$12/2)*6)/1000) -> 0 | AP25: =AN25*(((data!E$12/2)*6)^2/1000) -> 0 | AQ25: =AN25*(((data!E$12/2)*6/1000^3)) -> 0 | AT25: =(Table1[[#This Row],[Column8]]-H24)/(Table1[[#This Row],[crankshaft degrees]]-B24) -> 0 | AU25: =(AT25-AT24)/(Table1[[#This Row],[crankshaft degrees]]-I24) -> 0 | AV25: =AT25*(((data!E$12/2)*6)/1000) -> 0 | AW25: =ABS(AV25) -> 0 | AX25: =AU25*(((data!E$12/2)*6)^2/1000) -> 0 | AY25: =AU25*(((data!E$12/2)*6)^3/1000) -> 0
B26: =B25+2 -> 44 | C26: 0 | F26: =(-0.000003*B26^2+0.0011*B26)-(-0.000003*B26^2+0.0011*B26)*2 -> -0.042592 | G26: =IF(C26=0, 0, C26-F26) -> 0 | H26: 0 | N26: 0.2 | O26: 0.06 | Q26: =(-0.0000045*B26^2+0.0015*B26) -> 0.057288 | R26: =IF(Table1[[#This Row],[IN lift corrected]]=0, 0,N26-Q26) -> 0.142712 | S26: 0 | AM26: =(Table1[[#This Row],[Column11]]-S25)/(Table1[[#This Row],[crankshaft degrees]]-B25) -> 0 | AN26: =(AM26-AM25)/(Table1[[#This Row],[crankshaft degrees]]-B25) -> 0 | AO26: =AM26*(((data!E$12/2)*6)/1000) -> 0 | AP26: =AN26*(((data!E$12/2)*6)^2/1000) -> 0 | AQ26: =AN26*(((data!E$12/2)*6/1000^3)) -> 0 | AT26: =(Table1[[#This Row],[Column8]]-H25)/(Table1[[#This Row],[crankshaft degrees]]-B25) -> 0 | AU26: =(AT26-AT25)/(Table1[[#This Row],[crankshaft degrees]]-I25) -> 0 | AV26: =AT26*(((data!E$12/2)*6)/1000) -> 0 | AW26: =ABS(AV26) -> 0 | AX26: =AU26*(((data!E$12/2)*6)^2/1000) -> 0 | AY26: =AU26*(((data!E$12/2)*6)^3/1000) -> 0
B27: =B26+2 -> 46 | C27: 0 | F27: =(-0.000003*B27^2+0.0011*B27)-(-0.000003*B27^2+0.0011*B27)*2 -> -0.044252 | G27: =IF(C27=0, 0, C27-F27) -> 0 | H27: 0 | N27: 0.22 | Q27: =(-0.0000045*B27^2+0.0015*B27) -> 0.059478 | R27: =IF(Table1[[#This Row],[IN lift corrected]]=0, 0,N27-Q27) -> 0.160522 | S27: 0 | AM27: =(Table1[[#This Row],[Column11]]-S26)/(Table1[[#This Row],[crankshaft degrees]]-B26) -> 0 | AN27: =(AM27-AM26)/(Table1[[#This Row],[crankshaft degrees]]-B26) -> 0 | AO27: =AM27*(((data!E$12/2)*6)/1000) -> 0 | AP27: =AN27*(((data!E$12/2)*6)^2/1000) -> 0 | AQ27: =AN27*(((data!E$12/2)*6/1000^3)) -> 0 | AT27: =(Table1[[#This Row],[Column8]]-H26)/(Table1[[#This Row],[crankshaft degrees]]-B26) -> 0 | AU27: =(AT27-AT26)/(Table1[[#This Row],[crankshaft degrees]]-I26) -> 0 | AV27: =AT27*(((data!E$12/2)*6)/1000) -> 0 | AW27: =ABS(AV27) -> 0 | AX27: =AU27*(((data!E$12/2)*6)^2/1000) -> 0 | AY27: =AU27*(((data!E$12/2)*6)^3/1000) -> 0
B28: =B27+2 -> 48 | C28: 0 | F28: =(-0.000003*B28^2+0.0011*B28)-(-0.000003*B28^2+0.0011*B28)*2 -> -0.045888 | G28: =IF(C28=0, 0, C28-F28) -> 0 | H28: 0 | N28: 0.24 | Q28: =(-0.0000045*B28^2+0.0015*B28) -> 0.061632 | R28: =IF(Table1[[#This Row],[IN lift corrected]]=0, 0,N28-Q28) -> 0.178368 | S28: 0 | AM28: =(Table1[[#This Row],[Column11]]-S27)/(Table1[[#This Row],[crankshaft degrees]]-B27) -> 0 | AN28: =(AM28-AM27)/(Table1[[#This Row],[crankshaft degrees]]-B27) -> 0 | AO28: =AM28*(((data!E$12/2)*6)/1000) -> 0 | AP28: =AN28*(((data!E$12/2)*6)^2/1000) -> 0 | AQ28: =AN28*(((data!E$12/2)*6/1000^3)) -> 0 | AT28: =(Table1[[#This Row],[Column8]]-H27)/(Table1[[#This Row],[crankshaft degrees]]-B27) -> 0 | AU28: =(AT28-AT27)/(Table1[[#This Row],[crankshaft degrees]]-I27) -> 0 | AV28: =AT28*(((data!E$12/2)*6)/1000) -> 0 | AW28: =ABS(AV28) -> 0 | AX28: =AU28*(((data!E$12/2)*6)^2/1000) -> 0 | AY28: =AU28*(((data!E$12/2)*6)^3/1000) -> 0
B29: =B28+2 -> 50 | C29: 0 | F29: =(-0.000003*B29^2+0.0011*B29)-(-0.000003*B29^2+0.0011*B29)*2 -> -0.0475 | G29: =IF(C29=0, 0, C29-F29) -> 0 | H29: 0 | N29: 0.26 | Q29: =(-0.0000045*B29^2+0.0015*B29) -> 0.06375 | R29: =IF(Table1[[#This Row],[IN lift corrected]]=0, 0,N29-Q29) -> 0.19625 | S29: 0 | AM29: =(Table1[[#This Row],[Column11]]-S28)/(Table1[[#This Row],[crankshaft degrees]]-B28) -> 0 | AN29: =(AM29-AM28)/(Table1[[#This Row],[crankshaft degrees]]-B28) -> 0 | AO29: =AM29*(((data!E$12/2)*6)/1000) -> 0 | AP29: =AN29*(((data!E$12/2)*6)^2/1000) -> 0 | AQ29: =AN29*(((data!E$12/2)*6/1000^3)) -> 0 | AT29: =(Table1[[#This Row],[Column8]]-H28)/(Table1[[#This Row],[crankshaft degrees]]-B28) -> 0 | AU29: =(AT29-AT28)/(Table1[[#This Row],[crankshaft degrees]]-I28) -> 0 | AV29: =AT29*(((data!E$12/2)*6)/1000) -> 0 | AW29: =ABS(AV29) -> 0 | AX29: =AU29*(((data!E$12/2)*6)^2/1000) -> 0 | AY29: =AU29*(((data!E$12/2)*6)^3/1000) -> 0
B30: =B29+2 -> 52 | C30: 0 | F30: =(-0.000003*B30^2+0.0011*B30)-(-0.000003*B30^2+0.0011*B30)*2 -> -0.049088 | G30: =IF(C30=0, 0, C30-F30) -> 0 | H30: 0 | N30: 0.28 | Q30: =(-0.0000045*B30^2+0.0015*B30) -> 0.065832 | R30: =IF(Table1[[#This Row],[IN lift corrected]]=0, 0,N30-Q30) -> 0.214168 | S30: 0 | AM30: =(Table1[[#This Row],[Column11]]-S29)/(Table1[[#This Row],[crankshaft degrees]]-B29) -> 0 | AN30: =(AM30-AM29)/(Table1[[#This Row],[crankshaft degrees]]-B29) -> 0 | AO30: =AM30*(((data!E$12/2)*6)/1000) -> 0 | AP30: =AN30*(((data!E$12/2)*6)^2/1000) -> 0 | AQ30: =AN30*(((data!E$12/2)*6/1000^3)) -> 0 | AT30: =(Table1[[#This Row],[Column8]]-H29)/(Table1[[#This Row],[crankshaft degrees]]-B29) -> 0 | AU30: =(AT30-AT29)/(Table1[[#This Row],[crankshaft degrees]]-I29) -> 0 | AV30: =AT30*(((data!E$12/2)*6)/1000) -> 0 | AW30: =ABS(AV30) -> 0 | AX30: =AU30*(((data!E$12/2)*6)^2/1000) -> 0 | AY30: =AU30*(((data!E$12/2)*6)^3/1000) -> 0
B31: =B30+2 -> 54 | C31: 0 | F31: =(-0.000003*B31^2+0.0011*B31)-(-0.000003*B31^2+0.0011*B31)*2 -> -0.050652 | G31: =IF(C31=0, 0, C31-F31) -> 0 | H31: 0 | N31: 0.3 | Q31: =(-0.0000045*B31^2+0.0015*B31) -> 0.067878 | R31: =IF(Table1[[#This Row],[IN lift corrected]]=0, 0,N31-Q31) -> 0.232122 | S31: 0 | AM31: =(Table1[[#This Row],[Column11]]-S30)/(Table1[[#This Row],[crankshaft degrees]]-B30) -> 0 | AN31: =(AM31-AM30)/(Table1[[#This Row],[crankshaft degrees]]-B30) -> 0 | AO31: =AM31*(((data!E$12/2)*6)/1000) -> 0 | AP31: =AN31*(((data!E$12/2)*6)^2/1000) -> 0 | AQ31: =AN31*(((data!E$12/2)*6/1000^3)) -> 0 | AT31: =(Table1[[#This Row],[Column8]]-H30)/(Table1[[#This Row],[crankshaft degrees]]-B30) -> 0 | AU31: =(AT31-AT30)/(Table1[[#This Row],[crankshaft degrees]]-I30) -> 0 | AV31: =AT31*(((data!E$12/2)*6)/1000) -> 0 | AW31: =ABS(AV31) -> 0 | AX31: =AU31*(((data!E$12/2)*6)^2/1000) -> 0 | AY31: =AU31*(((data!E$12/2)*6)^3/1000) -> 0
B32: =B31+2 -> 56 | C32: 0 | F32: =(-0.000003*B32^2+0.0011*B32)-(-0.000003*B32^2+0.0011*B32)*2 -> -0.052192 | G32: =IF(C32=0, 0, C32-F32) -> 0 | H32: 0 | N32: 0.32 | Q32: =(-0.0000045*B32^2+0.0015*B32) -> 0.069888 | R32: =IF(Table1[[#This Row],[IN lift corrected]]=0, 0,N32-Q32) -> 0.250112 | S32: 0 | AM32: =(Table1[[#This Row],[Column11]]-S31)/(Table1[[#This Row],[crankshaft degrees]]-B31) -> 0 | AN32: =(AM32-AM31)/(Table1[[#This Row],[crankshaft degrees]]-B31) -> 0 | AO32: =AM32*(((data!E$12/2)*6)/1000) -> 0 | AP32: =AN32*(((data!E$12/2)*6)^2/1000) -> 0 | AQ32: =AN32*(((data!E$12/2)*6/1000^3)) -> 0 | AT32: =(Table1[[#This Row],[Column8]]-H31)/(Table1[[#This Row],[crankshaft degrees]]-B31) -> 0 | AU32: =(AT32-AT31)/(Table1[[#This Row],[crankshaft degrees]]-I31) -> 0 | AV32: =AT32*(((data!E$12/2)*6)/1000) -> 0 | AW32: =ABS(AV32) -> 0 | AX32: =AU32*(((data!E$12/2)*6)^2/1000) -> 0 | AY32: =AU32*(((data!E$12/2)*6)^3/1000) -> 0
B33: =B32+2 -> 58 | C33: 0 | F33: =(-0.000003*B33^2+0.0011*B33)-(-0.000003*B33^2+0.0011*B33)*2 -> -0.053708 | G33: =IF(C33=0, 0, C33-F33) -> 0 | H33: 0 | N33: 0.34 | Q33: =(-0.0000045*B33^2+0.0015*B33) -> 0.071862 | R33: =IF(Table1[[#This Row],[IN lift corrected]]=0, 0,N33-Q33) -> 0.268138 | S33: 0 | AM33: =(Table1[[#This Row],[Column11]]-S32)/(Table1[[#This Row],[crankshaft degrees]]-B32) -> 0 | AN33: =(AM33-AM32)/(Table1[[#This Row],[crankshaft degrees]]-B32) -> 0 | AO33: =AM33*(((data!E$12/2)*6)/1000) -> 0 | AP33: =AN33*(((data!E$12/2)*6)^2/1000) -> 0 | AQ33: =AN33*(((data!E$12/2)*6/1000^3)) -> 0 | AT33: =(Table1[[#This Row],[Column8]]-H32)/(Table1[[#This Row],[crankshaft degrees]]-B32) -> 0 | AU33: =(AT33-AT32)/(Table1[[#This Row],[crankshaft degrees]]-I32) -> 0 | AV33: =AT33*(((data!E$12/2)*6)/1000) -> 0 | AW33: =ABS(AV33) -> 0 | AX33: =AU33*(((data!E$12/2)*6)^2/1000) -> 0 | AY33: =AU33*(((data!E$12/2)*6)^3/1000) -> 0
B34: =B33+2 -> 60 | C34: 0 | D34: -0.05 | E34: 0.05 | F34: =(-0.000003*B34^2+0.0011*B34)-(-0.000003*B34^2+0.0011*B34)*2 -> -0.0552 | G34: =IF(C34=0, 0, C34-F34) -> 0 | H34: 0 | N34: 0.35 | Q34: =(-0.0000045*B34^2+0.0015*B34) -> 0.0738 | R34: =IF(Table1[[#This Row],[IN lift corrected]]=0, 0,N34-Q34) -> 0.2762 | S34: 0 | AM34: =(Table1[[#This Row],[Column11]]-S33)/(Table1[[#This Row],[crankshaft degrees]]-B33) -> 0 | AN34: =(AM34-AM33)/(Table1[[#This Row],[crankshaft degrees]]-B33) -> 0 | AO34: =AM34*(((data!E$12/2)*6)/1000) -> 0 | AP34: =AN34*(((data!E$12/2)*6)^2/1000) -> 0 | AQ34: =AN34*(((data!E$12/2)*6/1000^3)) -> 0 | AT34: =(Table1[[#This Row],[Column8]]-H33)/(Table1[[#This Row],[crankshaft degrees]]-B33) -> 0 | AU34: =(AT34-AT33)/(Table1[[#This Row],[crankshaft degrees]]-I33) -> 0 | AV34: =AT34*(((data!E$12/2)*6)/1000) -> 0 | AW34: =ABS(AV34) -> 0 | AX34: =AU34*(((data!E$12/2)*6)^2/1000) -> 0 | AY34: =AU34*(((data!E$12/2)*6)^3/1000) -> 0
B35: =B34+2 -> 62 | C35: 0 | F35: =(-0.000003*B35^2+0.0011*B35)-(-0.000003*B35^2+0.0011*B35)*2 -> -0.056668 | G35: =IF(C35=0, 0, C35-F35) -> 0 | H35: 0 | N35: 0.37 | Q35: =(-0.0000045*B35^2+0.0015*B35) -> 0.075702 | R35: =IF(Table1[[#This Row],[IN lift corrected]]=0, 0,N35-Q35) -> 0.294298 | S35: 0 | AM35: =(Table1[[#This Row],[Column11]]-S34)/(Table1[[#This Row],[crankshaft degrees]]-B34) -> 0 | AN35: =(AM35-AM34)/(Table1[[#This Row],[crankshaft degrees]]-B34) -> 0 | AO35: =AM35*(((data!E$12/2)*6)/1000) -> 0 | AP35: =AN35*(((data!E$12/2)*6)^2/1000) -> 0 | AQ35: =AN35*(((data!E$12/2)*6/1000^3)) -> 0 | AT35: =(Table1[[#This Row],[Column8]]-H34)/(Table1[[#This Row],[crankshaft degrees]]-B34) -> 0 | AU35: =(AT35-AT34)/(Table1[[#This Row],[crankshaft degrees]]-I34) -> 0 | AV35: =AT35*(((data!E$12/2)*6)/1000) -> 0 | AW35: =ABS(AV35) -> 0 | AX35: =AU35*(((data!E$12/2)*6)^2/1000) -> 0 | AY35: =AU35*(((data!E$12/2)*6)^3/1000) -> 0
B36: =B35+2 -> 64 | C36: 0 | F36: =(-0.000003*B36^2+0.0011*B36)-(-0.000003*B36^2+0.0011*B36)*2 -> -0.058112 | G36: =IF(C36=0, 0, C36-F36) -> 0 | H36: 0 | N36: 0.39 | O36: 0.08 | Q36: =(-0.0000045*B36^2+0.0015*B36) -> 0.077568 | R36: =IF(Table1[[#This Row],[IN lift corrected]]=0, 0,N36-Q36) -> 0.312432 | S36: 0 | AM36: =(Table1[[#This Row],[Column11]]-S35)/(Table1[[#This Row],[crankshaft degrees]]-B35) -> 0 | AN36: =(AM36-AM35)/(Table1[[#This Row],[crankshaft degrees]]-B35) -> 0 | AO36: =AM36*(((data!E$12/2)*6)/1000) -> 0 | AP36: =AN36*(((data!E$12/2)*6)^2/1000) -> 0 | AQ36: =AN36*(((data!E$12/2)*6/1000^3)) -> 0 | AT36: =(Table1[[#This Row],[Column8]]-H35)/(Table1[[#This Row],[crankshaft degrees]]-B35) -> 0 | AU36: =(AT36-AT35)/(Table1[[#This Row],[crankshaft degrees]]-I35) -> 0 | AV36: =AT36*(((data!E$12/2)*6)/1000) -> 0 | AW36: =ABS(AV36) -> 0 | AX36: =AU36*(((data!E$12/2)*6)^2/1000) -> 0 | AY36: =AU36*(((data!E$12/2)*6)^3/1000) -> 0
B37: =B36+2 -> 66 | C37: 0 | F37: =(-0.000003*B37^2+0.0011*B37)-(-0.000003*B37^2+0.0011*B37)*2 -> -0.059532 | G37: =IF(C37=0, 0, C37-F37) -> 0 | H37: 0.0121 | N37: 0.41 | Q37: =(-0.0000045*B37^2+0.0015*B37) -> 0.079398 | R37: =IF(Table1[[#This Row],[IN lift corrected]]=0, 0,N37-Q37) -> 0.330602 | S37: 0 | AM37: =(Table1[[#This Row],[Column11]]-S36)/(Table1[[#This Row],[crankshaft degrees]]-B36) -> 0 | AN37: =(AM37-AM36)/(Table1[[#This Row],[crankshaft degrees]]-B36) -> 0 | AO37: =AM37*(((data!E$12/2)*6)/1000) -> 0 | AP37: =AN37*(((data!E$12/2)*6)^2/1000) -> 0 | AQ37: =AN37*(((data!E$12/2)*6/1000^3)) -> 0 | AT37: =(Table1[[#This Row],[Column8]]-H36)/(Table1[[#This Row],[crankshaft degrees]]-B36) -> 0.00605 | AU37: =(AT37-AT36)/(Table1[[#This Row],[crankshaft degrees]]-I36) -> 9.1666667e-05 | AV37: =AT37*(((data!E$12/2)*6)/1000) -> 0.12705 | AW37: =ABS(AV37) -> 0.12705 | AX37: =AU37*(((data!E$12/2)*6)^2/1000) -> 40.425 | AY37: =AU37*(((data!E$12/2)*6)^3/1000) -> 848925
B38: =B37+2 -> 68 | C38: 0 | F38: =(-0.000003*B38^2+0.0011*B38)-(-0.000003*B38^2+0.0011*B38)*2 -> -0.060928 | G38: =IF(C38=0, 0, C38-F38) -> 0 | H38: 0.0374 | N38: 0.44 | Q38: =(-0.0000045*B38^2+0.0015*B38) -> 0.081192 | R38: =IF(Table1[[#This Row],[IN lift corrected]]=0, 0,N38-Q38) -> 0.358808 | S38: 0 | AM38: =(Table1[[#This Row],[Column11]]-S37)/(Table1[[#This Row],[crankshaft degrees]]-B37) -> 0 | AN38: =(AM38-AM37)/(Table1[[#This Row],[crankshaft degrees]]-B37) -> 0 | AO38: =AM38*(((data!E$12/2)*6)/1000) -> 0 | AP38: =AN38*(((data!E$12/2)*6)^2/1000) -> 0 | AQ38: =AN38*(((data!E$12/2)*6/1000^3)) -> 0 | AT38: =(Table1[[#This Row],[Column8]]-H37)/(Table1[[#This Row],[crankshaft degrees]]-B37) -> 0.01265 | AU38: =(AT38-AT37)/(Table1[[#This Row],[crankshaft degrees]]-I37) -> 9.7058824e-05 | AV38: =AT38*(((data!E$12/2)*6)/1000) -> 0.26565 | AW38: =ABS(AV38) -> 0.26565 | AX38: =AU38*(((data!E$12/2)*6)^2/1000) -> 42.802941 | AY38: =AU38*(((data!E$12/2)*6)^3/1000) -> 898861.76
B39: =B38+2 -> 70 | C39: 0 | F39: =(-0.000003*B39^2+0.0011*B39)-(-0.000003*B39^2+0.0011*B39)*2 -> -0.0623 | G39: =IF(C39=0, 0, C39-F39) -> 0 | H39: 0.058 | N39: 0.47 | Q39: =(-0.0000045*B39^2+0.0015*B39) -> 0.08295 | R39: =IF(Table1[[#This Row],[IN lift corrected]]=0, 0,N39-Q39) -> 0.38705 | S39: 0 | AM39: =(Table1[[#This Row],[Column11]]-S38)/(Table1[[#This Row],[crankshaft degrees]]-B38) -> 0 | AN39: =(AM39-AM38)/(Table1[[#This Row],[crankshaft degrees]]-B38) -> 0 | AO39: =AM39*(((data!E$12/2)*6)/1000) -> 0 | AP39: =AN39*(((data!E$12/2)*6)^2/1000) -> 0 | AQ39: =AN39*(((data!E$12/2)*6/1000^3)) -> 0 | AT39: =(Table1[[#This Row],[Column8]]-H38)/(Table1[[#This Row],[crankshaft degrees]]-B38) -> 0.0103 | AU39: =(AT39-AT38)/(Table1[[#This Row],[crankshaft degrees]]-I38) -> -3.3571429e-05 | AV39: =AT39*(((data!E$12/2)*6)/1000) -> 0.2163 | AW39: =ABS(AV39) -> 0.2163 | AX39: =AU39*(((data!E$12/2)*6)^2/1000) -> -14.805 | AY39: =AU39*(((data!E$12/2)*6)^3/1000) -> -310905
B40: =B39+2 -> 72 | C40: 0 | F40: =(-0.000003*B40^2+0.0011*B40)-(-0.000003*B40^2+0.0011*B40)*2 -> -0.063648 | G40: =IF(C40=0, 0, C40-F40) -> 0 | H40: 0.0741 | N40: 0.5 | Q40: =(-0.0000045*B40^2+0.0015*B40) -> 0.084672 | R40: =IF(Table1[[#This Row],[IN lift corrected]]=0, 0,N40-Q40) -> 0.415328 | S40: 0 | AM40: =(Table1[[#This Row],[Column11]]-S39)/(Table1[[#This Row],[crankshaft degrees]]-B39) -> 0 | AN40: =(AM40-AM39)/(Table1[[#This Row],[crankshaft degrees]]-B39) -> 0 | AO40: =AM40*(((data!E$12/2)*6)/1000) -> 0 | AP40: =AN40*(((data!E$12/2)*6)^2/1000) -> 0 | AQ40: =AN40*(((data!E$12/2)*6/1000^3)) -> 0 | AT40: =(Table1[[#This Row],[Column8]]-H39)/(Table1[[#This Row],[crankshaft degrees]]-B39) -> 0.00805 | AU40: =(AT40-AT39)/(Table1[[#This Row],[crankshaft degrees]]-I39) -> -3.125e-05 | AV40: =AT40*(((data!E$12/2)*6)/1000) -> 0.16905 | AW40: =ABS(AV40) -> 0.16905 | AX40: =AU40*(((data!E$12/2)*6)^2/1000) -> -13.78125 | AY40: =AU40*(((data!E$12/2)*6)^3/1000) -> -289406.25
B41: =B40+2 -> 74 | C41: 0 | F41: =(-0.000003*B41^2+0.0011*B41)-(-0.000003*B41^2+0.0011*B41)*2 -> -0.064972 | G41: =IF(C41=0, 0, C41-F41) -> 0 | H41: 0.0856 | N41: 0.53 | Q41: =(-0.0000045*B41^2+0.0015*B41) -> 0.086358 | R41: =IF(Table1[[#This Row],[IN lift corrected]]=0, 0,N41-Q41) -> 0.443642 | S41: 0 | AM41: =(Table1[[#This Row],[Column11]]-S40)/(Table1[[#This Row],[crankshaft degrees]]-B40) -> 0 | AN41: =(AM41-AM40)/(Table1[[#This Row],[crankshaft degrees]]-B40) -> 0 | AO41: =AM41*(((data!E$12/2)*6)/1000) -> 0 | AP41: =AN41*(((data!E$12/2)*6)^2/1000) -> 0 | AQ41: =AN41*(((data!E$12/2)*6/1000^3)) -> 0 | AT41: =(Table1[[#This Row],[Column8]]-H40)/(Table1[[#This Row],[crankshaft degrees]]-B40) -> 0.00575 | AU41: =(AT41-AT40)/(Table1[[#This Row],[crankshaft degrees]]-I40) -> -3.1081081e-05 | AV41: =AT41*(((data!E$12/2)*6)/1000) -> 0.12075 | AW41: =ABS(AV41) -> 0.12075 | AX41: =AU41*(((data!E$12/2)*6)^2/1000) -> -13.706757 | AY41: =AU41*(((data!E$12/2)*6)^3/1000) -> -287841.89
B42: =B41+2 -> 76 | C42: 0 | F42: =(-0.000003*B42^2+0.0011*B42)-(-0.000003*B42^2+0.0011*B42)*2 -> -0.066272 | G42: =IF(C42=0, 0, C42-F42) -> 0 | H42: 0.0925 | N42: 0.58 | Q42: =(-0.0000045*B42^2+0.0015*B42) -> 0.088008 | R42: =IF(Table1[[#This Row],[IN lift corrected]]=0, 0,N42-Q42) -> 0.491992 | S42: 0 | AM42: =(Table1[[#This Row],[Column11]]-S41)/(Table1[[#This Row],[crankshaft degrees]]-B41) -> 0 | AN42: =(AM42-AM41)/(Table1[[#This Row],[crankshaft degrees]]-B41) -> 0 | AO42: =AM42*(((data!E$12/2)*6)/1000) -> 0 | AP42: =AN42*(((data!E$12/2)*6)^2/1000) -> 0 | AQ42: =AN42*(((data!E$12/2)*6/1000^3)) -> 0 | AT42: =(Table1[[#This Row],[Column8]]-H41)/(Table1[[#This Row],[crankshaft degrees]]-B41) -> 0.00345 | AU42: =(AT42-AT41)/(Table1[[#This Row],[crankshaft degrees]]-I41) -> -3.0263158e-05 | AV42: =AT42*(((data!E$12/2)*6)/1000) -> 0.07245 | AW42: =ABS(AV42) -> 0.07245 | AX42: =AU42*(((data!E$12/2)*6)^2/1000) -> -13.346053 | AY42: =AU42*(((data!E$12/2)*6)^3/1000) -> -280267.11
B43: =B42+2 -> 78 | C43: 0 | F43: =(-0.000003*B43^2+0.0011*B43)-(-0.000003*B43^2+0.0011*B43)*2 -> -0.067548 | G43: =IF(C43=0, 0, C43-F43) -> 0 | H43: 0.104 | N43: 0.62 | Q43: =(-0.0000045*B43^2+0.0015*B43) -> 0.089622 | R43: =IF(Table1[[#This Row],[IN lift corrected]]=0, 0,N43-Q43) -> 0.530378 | S43: 0 | AM43: =(Table1[[#This Row],[Column11]]-S42)/(Table1[[#This Row],[crankshaft degrees]]-B42) -> 0 | AN43: =(AM43-AM42)/(Table1[[#This Row],[crankshaft degrees]]-B42) -> 0 | AO43: =AM43*(((data!E$12/2)*6)/1000) -> 0 | AP43: =AN43*(((data!E$12/2)*6)^2/1000) -> 0 | AQ43: =AN43*(((data!E$12/2)*6/1000^3)) -> 0 | AT43: =(Table1[[#This Row],[Column8]]-H42)/(Table1[[#This Row],[crankshaft degrees]]-B42) -> 0.00575 | AU43: =(AT43-AT42)/(Table1[[#This Row],[crankshaft degrees]]-I42) -> 2.9487179e-05 | AV43: =AT43*(((data!E$12/2)*6)/1000) -> 0.12075 | AW43: =ABS(AV43) -> 0.12075 | AX43: =AU43*(((data!E$12/2)*6)^2/1000) -> 13.003846 | AY43: =AU43*(((data!E$12/2)*6)^3/1000) -> 273080.77
B44: =B43+2 -> 80 | C44: 0 | D44: -0.06 | E44: 0.06 | F44: =(-0.000003*B44^2+0.0011*B44)-(-0.000003*B44^2+0.0011*B44)*2 -> -0.0688 | G44: =IF(C44=0, 0, C44-F44) -> 0 | H44: 0.1202 | N44: 0.67 | Q44: =(-0.0000045*B44^2+0.0015*B44) -> 0.0912 | R44: =IF(Table1[[#This Row],[IN lift corrected]]=0, 0,N44-Q44) -> 0.5788 | S44: 0 | AM44: =(Table1[[#This Row],[Column11]]-S43)/(Table1[[#This Row],[crankshaft degrees]]-B43) -> 0 | AN44: =(AM44-AM43)/(Table1[[#This Row],[crankshaft degrees]]-B43) -> 0 | AO44: =AM44*(((data!E$12/2)*6)/1000) -> 0 | AP44: =AN44*(((data!E$12/2)*6)^2/1000) -> 0 | AQ44: =AN44*(((data!E$12/2)*6/1000^3)) -> 0 | AT44: =(Table1[[#This Row],[Column8]]-H43)/(Table1[[#This Row],[crankshaft degrees]]-B43) -> 0.0081 | AU44: =(AT44-AT43)/(Table1[[#This Row],[crankshaft degrees]]-I43) -> 2.9375e-05 | AV44: =AT44*(((data!E$12/2)*6)/1000) -> 0.1701 | AW44: =ABS(AV44) -> 0.1701 | AX44: =AU44*(((data!E$12/2)*6)^2/1000) -> 12.954375 | AY44: =AU44*(((data!E$12/2)*6)^3/1000) -> 272041.88
B45: =B44+2 -> 82 | C45: 0 | F45: =(-0.000003*B45^2+0.0011*B45)-(-0.000003*B45^2+0.0011*B45)*2 -> -0.070028 | G45: =IF(C45=0, 0, C45-F45) -> 0 | H45: 0.1371 | N45: 0.73 | Q45: =(-0.0000045*B45^2+0.0015*B45) -> 0.092742 | R45: =IF(Table1[[#This Row],[IN lift corrected]]=0, 0,N45-Q45) -> 0.637258 | S45: 0 | AM45: =(Table1[[#This Row],[Column11]]-S44)/(Table1[[#This Row],[crankshaft degrees]]-B44) -> 0 | AN45: =(AM45-AM44)/(Table1[[#This Row],[crankshaft degrees]]-B44) -> 0 | AO45: =AM45*(((data!E$12/2)*6)/1000) -> 0 | AP45: =AN45*(((data!E$12/2)*6)^2/1000) -> 0 | AQ45: =AN45*(((data!E$12/2)*6/1000^3)) -> 0 | AT45: =(Table1[[#This Row],[Column8]]-H44)/(Table1[[#This Row],[crankshaft degrees]]-B44) -> 0.00845 | AU45: =(AT45-AT44)/(Table1[[#This Row],[crankshaft degrees]]-I44) -> 4.2682927e-06 | AV45: =AT45*(((data!E$12/2)*6)/1000) -> 0.17745 | AW45: =ABS(AV45) -> 0.17745 | AX45: =AU45*(((data!E$12/2)*6)^2/1000) -> 1.8823171 | AY45: =AU45*(((data!E$12/2)*6)^3/1000) -> 39528.659
B46: =B45+2 -> 84 | C46: 0 | F46: =(-0.000003*B46^2+0.0011*B46)-(-0.000003*B46^2+0.0011*B46)*2 -> -0.071232 | G46: =IF(C46=0, 0, C46-F46) -> 0 | H46: 0.1533 | N46: 0.8 | O46: 0.1 | Q46: =(-0.0000045*B46^2+0.0015*B46) -> 0.094248 | R46: =IF(Table1[[#This Row],[IN lift corrected]]=0, 0,N46-Q46) -> 0.705752 | S46: 0 | AM46: =(Table1[[#This Row],[Column11]]-S45)/(Table1[[#This Row],[crankshaft degrees]]-B45) -> 0 | AN46: =(AM46-AM45)/(Table1[[#This Row],[crankshaft degrees]]-B45) -> 0 | AO46: =AM46*(((data!E$12/2)*6)/1000) -> 0 | AP46: =AN46*(((data!E$12/2)*6)^2/1000) -> 0 | AQ46: =AN46*(((data!E$12/2)*6/1000^3)) -> 0 | AT46: =(Table1[[#This Row],[Column8]]-H45)/(Table1[[#This Row],[crankshaft degrees]]-B45) -> 0.0081 | AU46: =(AT46-AT45)/(Table1[[#This Row],[crankshaft degrees]]-I45) -> -4.1666667e-06 | AV46: =AT46*(((data!E$12/2)*6)/1000) -> 0.1701 | AW46: =ABS(AV46) -> 0.1701 | AX46: =AU46*(((data!E$12/2)*6)^2/1000) -> -1.8375 | AY46: =AU46*(((data!E$12/2)*6)^3/1000) -> -38587.5
B47: =B46+2 -> 86 | C47: 0 | F47: =(-0.000003*B47^2+0.0011*B47)-(-0.000003*B47^2+0.0011*B47)*2 -> -0.072412 | G47: =IF(C47=0, 0, C47-F47) -> 0 | H47: 0.1711 | N47: 0.87 | Q47: =(-0.0000045*B47^2+0.0015*B47) -> 0.095718 | R47: =IF(Table1[[#This Row],[IN lift corrected]]=0, 0,N47-Q47) -> 0.774282 | S47: 0 | AM47: =(Table1[[#This Row],[Column11]]-S46)/(Table1[[#This Row],[crankshaft degrees]]-B46) -> 0 | AN47: =(AM47-AM46)/(Table1[[#This Row],[crankshaft degrees]]-B46) -> 0 | AO47: =AM47*(((data!E$12/2)*6)/1000) -> 0 | AP47: =AN47*(((data!E$12/2)*6)^2/1000) -> 0 | AQ47: =AN47*(((data!E$12/2)*6/1000^3)) -> 0 | AT47: =(Table1[[#This Row],[Column8]]-H46)/(Table1[[#This Row],[crankshaft degrees]]-B46) -> 0.0089 | AU47: =(AT47-AT46)/(Table1[[#This Row],[crankshaft degrees]]-I46) -> 9.3023256e-06 | AV47: =AT47*(((data!E$12/2)*6)/1000) -> 0.1869 | AW47: =ABS(AV47) -> 0.1869 | AX47: =AU47*(((data!E$12/2)*6)^2/1000) -> 4.1023256 | AY47: =AU47*(((data!E$12/2)*6)^3/1000) -> 86148.837
B48: =B47+2 -> 88 | C48: 0 | F48: =(-0.000003*B48^2+0.0011*B48)-(-0.000003*B48^2+0.0011*B48)*2 -> -0.073568 | G48: =IF(C48=0, 0, C48-F48) -> 0 | H48: 0.192 | N48: 0.94 | Q48: =(-0.0000045*B48^2+0.0015*B48) -> 0.097152 | R48: =IF(Table1[[#This Row],[IN lift corrected]]=0, 0,N48-Q48) -> 0.842848 | S48: 0 | AM48: =(Table1[[#This Row],[Column11]]-S47)/(Table1[[#This Row],[crankshaft degrees]]-B47) -> 0 | AN48: =(AM48-AM47)/(Table1[[#This Row],[crankshaft degrees]]-B47) -> 0 | AO48: =AM48*(((data!E$12/2)*6)/1000) -> 0 | AP48: =AN48*(((data!E$12/2)*6)^2/1000) -> 0 | AQ48: =AN48*(((data!E$12/2)*6/1000^3)) -> 0 | AT48: =(Table1[[#This Row],[Column8]]-H47)/(Table1[[#This Row],[crankshaft degrees]]-B47) -> 0.01045 | AU48: =(AT48-AT47)/(Table1[[#This Row],[crankshaft degrees]]-I47) -> 1.7613636e-05 | AV48: =AT48*(((data!E$12/2)*6)/1000) -> 0.21945 | AW48: =ABS(AV48) -> 0.21945 | AX48: =AU48*(((data!E$12/2)*6)^2/1000) -> 7.7676136 | AY48: =AU48*(((data!E$12/2)*6)^3/1000) -> 163119.89
B49: =B48+2 -> 90 | C49: 0 | F49: =(-0.000003*B49^2+0.0011*B49)-(-0.000003*B49^2+0.0011*B49)*2 -> -0.0747 | G49: =IF(C49=0, 0, C49-F49) -> 0 | H49: 0.2087 | N49: 1.02 | Q49: =(-0.0000045*B49^2+0.0015*B49) -> 0.09855 | R49: =IF(Table1[[#This Row],[IN lift corrected]]=0, 0,N49-Q49) -> 0.92145 | S49: 0 | AM49: =(Table1[[#This Row],[Column11]]-S48)/(Table1[[#This Row],[crankshaft degrees]]-B48) -> 0 | AN49: =(AM49-AM48)/(Table1[[#This Row],[crankshaft degrees]]-B48) -> 0 | AO49: =AM49*(((data!E$12/2)*6)/1000) -> 0 | AP49: =AN49*(((data!E$12/2)*6)^2/1000) -> 0 | AQ49: =AN49*(((data!E$12/2)*6/1000^3)) -> 0 | AT49: =(Table1[[#This Row],[Column8]]-H48)/(Table1[[#This Row],[crankshaft degrees]]-B48) -> 0.00835 | AU49: =(AT49-AT48)/(Table1[[#This Row],[crankshaft degrees]]-I48) -> -2.3333333e-05 | AV49: =AT49*(((data!E$12/2)*6)/1000) -> 0.17535 | AW49: =ABS(AV49) -> 0.17535 | AX49: =AU49*(((data!E$12/2)*6)^2/1000) -> -10.29 | AY49: =AU49*(((data!E$12/2)*6)^3/1000) -> -216090
B50: =B49+2 -> 92 | C50: 0 | F50: =(-0.000003*B50^2+0.0011*B50)-(-0.000003*B50^2+0.0011*B50)*2 -> -0.075808 | G50: =IF(C50=0, 0, C50-F50) -> 0 | H50: 0.2261 | N50: 1.01 | Q50: =(-0.0000045*B50^2+0.0015*B50) -> 0.099912 | R50: =IF(Table1[[#This Row],[IN lift corrected]]=0, 0,N50-Q50) -> 0.910088 | S50: 0 | AM50: =(Table1[[#This Row],[Column11]]-S49)/(Table1[[#This Row],[crankshaft degrees]]-B49) -> 0 | AN50: =(AM50-AM49)/(Table1[[#This Row],[crankshaft degrees]]-B49) -> 0 | AO50: =AM50*(((data!E$12/2)*6)/1000) -> 0 | AP50: =AN50*(((data!E$12/2)*6)^2/1000) -> 0 | AQ50: =AN50*(((data!E$12/2)*6/1000^3)) -> 0 | AT50: =(Table1[[#This Row],[Column8]]-H49)/(Table1[[#This Row],[crankshaft degrees]]-B49) -> 0.0087 | AU50: =(AT50-AT49)/(Table1[[#This Row],[crankshaft degrees]]-I49) -> 3.8043478e-06 | AV50: =AT50*(((data!E$12/2)*6)/1000) -> 0.1827 | AW50: =ABS(AV50) -> 0.1827 | AX50: =AU50*(((data!E$12/2)*6)^2/1000) -> 1.6777174 | AY50: =AU50*(((data!E$12/2)*6)^3/1000) -> 35232.065
B51: =B50+2 -> 94 | C51: 0 | F51: =(-0.000003*B51^2+0.0011*B51)-(-0.000003*B51^2+0.0011*B51)*2 -> -0.076892 | G51: =IF(C51=0, 0, C51-F51) -> 0 | H51: 0.2478 | N51: 1.18 | Q51: =(-0.0000045*B51^2+0.0015*B51) -> 0.101238 | R51: =IF(Table1[[#This Row],[IN lift corrected]]=0, 0,N51-Q51) -> 1.078762 | S51: 0 | AM51: =(Table1[[#This Row],[Column11]]-S50)/(Table1[[#This Row],[crankshaft degrees]]-B50) -> 0 | AN51: =(AM51-AM50)/(Table1[[#This Row],[crankshaft degrees]]-B50) -> 0 | AO51: =AM51*(((data!E$12/2)*6)/1000) -> 0 | AP51: =AN51*(((data!E$12/2)*6)^2/1000) -> 0 | AQ51: =AN51*(((data!E$12/2)*6/1000^3)) -> 0 | AT51: =(Table1[[#This Row],[Column8]]-H50)/(Table1[[#This Row],[crankshaft degrees]]-B50) -> 0.01085 | AU51: =(AT51-AT50)/(Table1[[#This Row],[crankshaft degrees]]-I50) -> 2.287234e-05 | AV51: =AT51*(((data!E$12/2)*6)/1000) -> 0.22785 | AW51: =ABS(AV51) -> 0.22785 | AX51: =AU51*(((data!E$12/2)*6)^2/1000) -> 10.086702 | AY51: =AU51*(((data!E$12/2)*6)^3/1000) -> 211820.74
B52: =B51+2 -> 96 | C52: 0 | F52: =(-0.000003*B52^2+0.0011*B52)-(-0.000003*B52^2+0.0011*B52)*2 -> -0.077952 | G52: =IF(C52=0, 0, C52-F52) -> 0 | H52: 0.2688 | N52: 1.28 | Q52: =(-0.0000045*B52^2+0.0015*B52) -> 0.102528 | R52: =IF(Table1[[#This Row],[IN lift corrected]]=0, 0,N52-Q52) -> 1.177472 | S52: 0 | AM52: =(Table1[[#This Row],[Column11]]-S51)/(Table1[[#This Row],[crankshaft degrees]]-B51) -> 0 | AN52: =(AM52-AM51)/(Table1[[#This Row],[crankshaft degrees]]-B51) -> 0 | AO52: =AM52*(((data!E$12/2)*6)/1000) -> 0 | AP52: =AN52*(((data!E$12/2)*6)^2/1000) -> 0 | AQ52: =AN52*(((data!E$12/2)*6/1000^3)) -> 0 | AT52: =(Table1[[#This Row],[Column8]]-H51)/(Table1[[#This Row],[crankshaft degrees]]-B51) -> 0.0105 | AU52: =(AT52-AT51)/(Table1[[#This Row],[crankshaft degrees]]-I51) -> -3.6458333e-06 | AV52: =AT52*(((data!E$12/2)*6)/1000) -> 0.2205 | AW52: =ABS(AV52) -> 0.2205 | AX52: =AU52*(((data!E$12/2)*6)^2/1000) -> -1.6078125 | AY52: =AU52*(((data!E$12/2)*6)^3/1000) -> -33764.063
B53: =B52+2 -> 98 | C53: 0 | F53: =(-0.000003*B53^2+0.0011*B53)-(-0.000003*B53^2+0.0011*B53)*2 -> -0.078988 | G53: =IF(C53=0, 0, C53-F53) -> 0 | H53: 0.2851 | N53: 1.37 | Q53: =(-0.0000045*B53^2+0.0015*B53) -> 0.103782 | R53: =IF(Table1[[#This Row],[IN lift corrected]]=0, 0,N53-Q53) -> 1.266218 | S53: 0 | AM53: =(Table1[[#This Row],[Column11]]-S52)/(Table1[[#This Row],[crankshaft degrees]]-B52) -> 0 | AN53: =(AM53-AM52)/(Table1[[#This Row],[crankshaft degrees]]-B52) -> 0 | AO53: =AM53*(((data!E$12/2)*6)/1000) -> 0 | AP53: =AN53*(((data!E$12/2)*6)^2/1000) -> 0 | AQ53: =AN53*(((data!E$12/2)*6/1000^3)) -> 0 | AT53: =(Table1[[#This Row],[Column8]]-H52)/(Table1[[#This Row],[crankshaft degrees]]-B52) -> 0.00815 | AU53: =(AT53-AT52)/(Table1[[#This Row],[crankshaft degrees]]-I52) -> -2.3979592e-05 | AV53: =AT53*(((data!E$12/2)*6)/1000) -> 0.17115 | AW53: =ABS(AV53) -> 0.17115 | AX53: =AU53*(((data!E$12/2)*6)^2/1000) -> -10.575 | AY53: =AU53*(((data!E$12/2)*6)^3/1000) -> -222075
B54: =B53+2 -> 100 | C54: 0 | D54: -0.08 | E54: 0.08 | F54: =(-0.000003*B54^2+0.0011*B54)-(-0.000003*B54^2+0.0011*B54)*2 -> -0.08 | G54: =IF(C54=0, 0, C54-F54) -> 0 | H54: 0.3031 | N54: 1.49 | Q54: =(-0.0000045*B54^2+0.0015*B54) -> 0.105 | R54: =IF(Table1[[#This Row],[IN lift corrected]]=0, 0,N54-Q54) -> 1.385 | S54: 0 | AM54: =(Table1[[#This Row],[Column11]]-S53)/(Table1[[#This Row],[crankshaft degrees]]-B53) -> 0 | AN54: =(AM54-AM53)/(Table1[[#This Row],[crankshaft degrees]]-B53) -> 0 | AO54: =AM54*(((data!E$12/2)*6)/1000) -> 0 | AP54: =AN54*(((data!E$12/2)*6)^2/1000) -> 0 | AQ54: =AN54*(((data!E$12/2)*6/1000^3)) -> 0 | AT54: =(Table1[[#This Row],[Column8]]-H53)/(Table1[[#This Row],[crankshaft degrees]]-B53) -> 0.009 | AU54: =(AT54-AT53)/(Table1[[#This Row],[crankshaft degrees]]-I53) -> 8.5e-06 | AV54: =AT54*(((data!E$12/2)*6)/1000) -> 0.189 | AW54: =ABS(AV54) -> 0.189 | AX54: =AU54*(((data!E$12/2)*6)^2/1000) -> 3.7485 | AY54: =AU54*(((data!E$12/2)*6)^3/1000) -> 78718.5
B55: =B54+2 -> 102 | C55: 0 | F55: =(-0.000003*B55^2+0.0011*B55)-(-0.000003*B55^2+0.0011*B55)*2 -> -0.080988 | G55: =IF(C55=0, 0, C55-F55) -> 0 | H55: 0.3249 | N55: 1.59 | Q55: =(-0.0000045*B55^2+0.0015*B55) -> 0.106182 | R55: =IF(Table1[[#This Row],[IN lift corrected]]=0, 0,N55-Q55) -> 1.483818 | S55: 0 | AM55: =(Table1[[#This Row],[Column11]]-S54)/(Table1[[#This Row],[crankshaft degrees]]-B54) -> 0 | AN55: =(AM55-AM54)/(Table1[[#This Row],[crankshaft degrees]]-B54) -> 0 | AO55: =AM55*(((data!E$12/2)*6)/1000) -> 0 | AP55: =AN55*(((data!E$12/2)*6)^2/1000) -> 0 | AQ55: =AN55*(((data!E$12/2)*6/1000^3)) -> 0 | AT55: =(Table1[[#This Row],[Column8]]-H54)/(Table1[[#This Row],[crankshaft degrees]]-B54) -> 0.0109 | AU55: =(AT55-AT54)/(Table1[[#This Row],[crankshaft degrees]]-I54) -> 1.8627451e-05 | AV55: =AT55*(((data!E$12/2)*6)/1000) -> 0.2289 | AW55: =ABS(AV55) -> 0.2289 | AX55: =AU55*(((data!E$12/2)*6)^2/1000) -> 8.2147059 | AY55: =AU55*(((data!E$12/2)*6)^3/1000) -> 172508.82
B56: =B55+2 -> 104 | C56: 0 | F56: =(-0.000003*B56^2+0.0011*B56)-(-0.000003*B56^2+0.0011*B56)*2 -> -0.081952 | G56: =IF(C56=0, 0, C56-F56) -> 0 | H56: 0.3467 | N56: 1.71 | O56: 0.12 | Q56: =(-0.0000045*B56^2+0.0015*B56) -> 0.107328 | R56: =IF(Table1[[#This Row],[IN lift corrected]]=0, 0,N56-Q56) -> 1.602672 | S56: 0 | AM56: =(Table1[[#This Row],[Column11]]-S55)/(Table1[[#This Row],[crankshaft degrees]]-B55) -> 0 | AN56: =(AM56-AM55)/(Table1[[#This Row],[crankshaft degrees]]-B55) -> 0 | AO56: =AM56*(((data!E$12/2)*6)/1000) -> 0 | AP56: =AN56*(((data!E$12/2)*6)^2/1000) -> 0 | AQ56: =AN56*(((data!E$12/2)*6/1000^3)) -> 0 | AT56: =(Table1[[#This Row],[Column8]]-H55)/(Table1[[#This Row],[crankshaft degrees]]-B55) -> 0.0109 | AU56: =(AT56-AT55)/(Table1[[#This Row],[crankshaft degrees]]-I55) -> -2.6688053e-19 | AV56: =AT56*(((data!E$12/2)*6)/1000) -> 0.2289 | AW56: =ABS(AV56) -> 0.2289 | AX56: =AU56*(((data!E$12/2)*6)^2/1000) -> -1.1769432e-13 | AY56: =AU56*(((data!E$12/2)*6)^3/1000) -> -2.4715806e-09
B57: =B56+2 -> 106 | C57: 0 | F57: =(-0.000003*B57^2+0.0011*B57)-(-0.000003*B57^2+0.0011*B57)*2 -> -0.082892 | G57: =IF(C57=0, 0, C57-F57) -> 0 | H57: 0.3678 | N57: 1.81 | Q57: =(-0.0000045*B57^2+0.0015*B57) -> 0.108438 | R57: =IF(Table1[[#This Row],[IN lift corrected]]=0, 0,N57-Q57) -> 1.701562 | S57: 0 | AM57: =(Table1[[#This Row],[Column11]]-S56)/(Table1[[#This Row],[crankshaft degrees]]-B56) -> 0 | AN57: =(AM57-AM56)/(Table1[[#This Row],[crankshaft degrees]]-B56) -> 0 | AO57: =AM57*(((data!E$12/2)*6)/1000) -> 0 | AP57: =AN57*(((data!E$12/2)*6)^2/1000) -> 0 | AQ57: =AN57*(((data!E$12/2)*6/1000^3)) -> 0 | AT57: =(Table1[[#This Row],[Column8]]-H56)/(Table1[[#This Row],[crankshaft degrees]]-B56) -> 0.01055 | AU57: =(AT57-AT56)/(Table1[[#This Row],[crankshaft degrees]]-I56) -> -3.3018868e-06 | AV57: =AT57*(((data!E$12/2)*6)/1000) -> 0.22155 | AW57: =ABS(AV57) -> 0.22155 | AX57: =AU57*(((data!E$12/2)*6)^2/1000) -> -1.4561321 | AY57: =AU57*(((data!E$12/2)*6)^3/1000) -> -30578.774
B58: =B57+2 -> 108 | C58: 0 | F58: =(-0.000003*B58^2+0.0011*B58)-(-0.000003*B58^2+0.0011*B58)*2 -> -0.083808 | G58: =IF(C58=0, 0, C58-F58) -> 0 | H58: 0.3854 | N58: 1.94 | Q58: =(-0.0000045*B58^2+0.0015*B58) -> 0.109512 | R58: =IF(Table1[[#This Row],[IN lift corrected]]=0, 0,N58-Q58) -> 1.830488 | S58: 0 | AM58: =(Table1[[#This Row],[Column11]]-S57)/(Table1[[#This Row],[crankshaft degrees]]-B57) -> 0 | AN58: =(AM58-AM57)/(Table1[[#This Row],[crankshaft degrees]]-B57) -> 0 | AO58: =AM58*(((data!E$12/2)*6)/1000) -> 0 | AP58: =AN58*(((data!E$12/2)*6)^2/1000) -> 0 | AQ58: =AN58*(((data!E$12/2)*6/1000^3)) -> 0 | AT58: =(Table1[[#This Row],[Column8]]-H57)/(Table1[[#This Row],[crankshaft degrees]]-B57) -> 0.0088 | AU58: =(AT58-AT57)/(Table1[[#This Row],[crankshaft degrees]]-I57) -> -1.6203704e-05 | AV58: =AT58*(((data!E$12/2)*6)/1000) -> 0.1848 | AW58: =ABS(AV58) -> 0.1848 | AX58: =AU58*(((data!E$12/2)*6)^2/1000) -> -7.1458333 | AY58: =AU58*(((data!E$12/2)*6)^3/1000) -> -150062.5
B59: =B58+2 -> 110 | C59: 0.01 | F59: =(-0.000003*B59^2+0.0011*B59)-(-0.000003*B59^2+0.0011*B59)*2 -> -0.0847 | G59: =IF(C59=0, 0, C59-F59) -> 0.0947 | H59: 0.4066 | N59: 2.09 | Q59: =(-0.0000045*B59^2+0.0015*B59) -> 0.11055 | R59: =IF(Table1[[#This Row],[IN lift corrected]]=0, 0,N59-Q59) -> 1.97945 | S59: 0 | AM59: =(Table1[[#This Row],[Column11]]-S58)/(Table1[[#This Row],[crankshaft degrees]]-B58) -> 0 | AN59: =(AM59-AM58)/(Table1[[#This Row],[crankshaft degrees]]-B58) -> 0 | AO59: =AM59*(((data!E$12/2)*6)/1000) -> 0 | AP59: =AN59*(((data!E$12/2)*6)^2/1000) -> 0 | AQ59: =AN59*(((data!E$12/2)*6/1000^3)) -> 0 | AT59: =(Table1[[#This Row],[Column8]]-H58)/(Table1[[#This Row],[crankshaft degrees]]-B58) -> 0.0106 | AU59: =(AT59-AT58)/(Table1[[#This Row],[crankshaft degrees]]-I58) -> 1.6363636e-05 | AV59: =AT59*(((data!E$12/2)*6)/1000) -> 0.2226 | AW59: =ABS(AV59) -> 0.2226 | AX59: =AU59*(((data!E$12/2)*6)^2/1000) -> 7.2163636 | AY59: =AU59*(((data!E$12/2)*6)^3/1000) -> 151543.64
B60: =B59+2 -> 112 | C60: 0.015 | F60: =(-0.000003*B60^2+0.0011*B60)-(-0.000003*B60^2+0.0011*B60)*2 -> -0.085568 | G60: =IF(C60=0, 0, C60-F60) -> 0.100568 | H60: 0.4242 | N60: 2.2 | Q60: =(-0.0000045*B60^2+0.0015*B60) -> 0.111552 | R60: =IF(Table1[[#This Row],[IN lift corrected]]=0, 0,N60-Q60) -> 2.088448 | S60: 0 | AM60: =(Table1[[#This Row],[Column11]]-S59)/(Table1[[#This Row],[crankshaft degrees]]-B59) -> 0 | AN60: =(AM60-AM59)/(Table1[[#This Row],[crankshaft degrees]]-B59) -> 0 | AO60: =AM60*(((data!E$12/2)*6)/1000) -> 0 | AP60: =AN60*(((data!E$12/2)*6)^2/1000) -> 0 | AQ60: =AN60*(((data!E$12/2)*6/1000^3)) -> 0 | AT60: =(Table1[[#This Row],[Column8]]-H59)/(Table1[[#This Row],[crankshaft degrees]]-B59) -> 0.0088 | AU60: =(AT60-AT59)/(Table1[[#This Row],[crankshaft degrees]]-I59) -> -1.6071429e-05 | AV60: =AT60*(((data!E$12/2)*6)/1000) -> 0.1848 | AW60: =ABS(AV60) -> 0.1848 | AX60: =AU60*(((data!E$12/2)*6)^2/1000) -> -7.0875 | AY60: =AU60*(((data!E$12/2)*6)^3/1000) -> -148837.5
B61: =B60+2 -> 114 | C61: 0.025 | F61: =(-0.000003*B61^2+0.0011*B61)-(-0.000003*B61^2+0.0011*B61)*2 -> -0.086412 | G61: =IF(C61=0, 0, C61-F61) -> 0.111412 | H61: 0.4462 | N61: 2.35 | Q61: =(-0.0000045*B61^2+0.0015*B61) -> 0.112518 | R61: =IF(Table1[[#This Row],[IN lift corrected]]=0, 0,N61-Q61) -> 2.237482 | S61: 0 | AM61: =(Table1[[#This Row],[Column11]]-S60)/(Table1[[#This Row],[crankshaft degrees]]-B60) -> 0 | AN61: =(AM61-AM60)/(Table1[[#This Row],[crankshaft degrees]]-B60) -> 0 | AO61: =AM61*(((data!E$12/2)*6)/1000) -> 0 | AP61: =AN61*(((data!E$12/2)*6)^2/1000) -> 0 | AQ61: =AN61*(((data!E$12/2)*6/1000^3)) -> 0 | AT61: =(Table1[[#This Row],[Column8]]-H60)/(Table1[[#This Row],[crankshaft degrees]]-B60) -> 0.011 | AU61: =(AT61-AT60)/(Table1[[#This Row],[crankshaft degrees]]-I60) -> 1.9298246e-05 | AV61: =AT61*(((data!E$12/2)*6)/1000) -> 0.231 | AW61: =ABS(AV61) -> 0.231 | AX61: =AU61*(((data!E$12/2)*6)^2/1000) -> 8.5105263 | AY61: =AU61*(((data!E$12/2)*6)^3/1000) -> 178721.05
B62: =B61+2 -> 116 | C62: 0.03 | F62: =(-0.000003*B62^2+0.0011*B62)-(-0.000003*B62^2+0.0011*B62)*2 -> -0.087232 | G62: =IF(C62=0, 0, C62-F62) -> 0.117232 | H62: 0.4681 | N62: 2.51 | Q62: =(-0.0000045*B62^2+0.0015*B62) -> 0.113448 | R62: =IF(Table1[[#This Row],[IN lift corrected]]=0, 0,N62-Q62) -> 2.396552 | S62: 0 | AM62: =(Table1[[#This Row],[Column11]]-S61)/(Table1[[#This Row],[crankshaft degrees]]-B61) -> 0 | AN62: =(AM62-AM61)/(Table1[[#This Row],[crankshaft degrees]]-B61) -> 0 | AO62: =AM62*(((data!E$12/2)*6)/1000) -> 0 | AP62: =AN62*(((data!E$12/2)*6)^2/1000) -> 0 | AQ62: =AN62*(((data!E$12/2)*6/1000^3)) -> 0 | AT62: =(Table1[[#This Row],[Column8]]-H61)/(Table1[[#This Row],[crankshaft degrees]]-B61) -> 0.01095 | AU62: =(AT62-AT61)/(Table1[[#This Row],[crankshaft degrees]]-I61) -> -4.3103448e-07 | AV62: =AT62*(((data!E$12/2)*6)/1000) -> 0.22995 | AW62: =ABS(AV62) -> 0.22995 | AX62: =AU62*(((data!E$12/2)*6)^2/1000) -> -0.19008621 | AY62: =AU62*(((data!E$12/2)*6)^3/1000) -> -3991.8103
B63: =B62+2 -> 118 | C63: 0.04 | F63: =(-0.000003*B63^2+0.0011*B63)-(-0.000003*B63^2+0.0011*B63)*2 -> -0.088028 | G63: =IF(C63=0, 0, C63-F63) -> 0.128028 | H63: 0.5127 | N63: 2.66 | Q63: =(-0.0000045*B63^2+0.0015*B63) -> 0.114342 | R63: =IF(Table1[[#This Row],[IN lift corrected]]=0, 0,N63-Q63) -> 2.545658 | S63: 0 | AM63: =(Table1[[#This Row],[Column11]]-S62)/(Table1[[#This Row],[crankshaft degrees]]-B62) -> 0 | AN63: =(AM63-AM62)/(Table1[[#This Row],[crankshaft degrees]]-B62) -> 0 | AO63: =AM63*(((data!E$12/2)*6)/1000) -> 0 | AP63: =AN63*(((data!E$12/2)*6)^2/1000) -> 0 | AQ63: =AN63*(((data!E$12/2)*6/1000^3)) -> 0 | AT63: =(Table1[[#This Row],[Column8]]-H62)/(Table1[[#This Row],[crankshaft degrees]]-B62) -> 0.0223 | AU63: =(AT63-AT62)/(Table1[[#This Row],[crankshaft degrees]]-I62) -> 9.6186441e-05 | AV63: =AT63*(((data!E$12/2)*6)/1000) -> 0.4683 | AW63: =ABS(AV63) -> 0.4683 | AX63: =AU63*(((data!E$12/2)*6)^2/1000) -> 42.41822 | AY63: =AU63*(((data!E$12/2)*6)^3/1000) -> 890782.63
B64: =B63+2 -> 120 | C64: 0.05 | D64: -0.09 | E64: 0.09 | F64: =(-0.000003*B64^2+0.0011*B64)-(-0.000003*B64^2+0.0011*B64)*2 -> -0.0888 | G64: =IF(C64=0, 0, C64-F64) -> 0.1388 | H64: 0.607 | N64: 2.82 | Q64: =(-0.0000045*B64^2+0.0015*B64) -> 0.1152 | R64: =IF(Table1[[#This Row],[IN lift corrected]]=0, 0,N64-Q64) -> 2.7048 | S64: 0 | AM64: =(Table1[[#This Row],[Column11]]-S63)/(Table1[[#This Row],[crankshaft degrees]]-B63) -> 0 | AN64: =(AM64-AM63)/(Table1[[#This Row],[crankshaft degrees]]-B63) -> 0 | AO64: =AM64*(((data!E$12/2)*6)/1000) -> 0 | AP64: =AN64*(((data!E$12/2)*6)^2/1000) -> 0 | AQ64: =AN64*(((data!E$12/2)*6/1000^3)) -> 0 | AT64: =(Table1[[#This Row],[Column8]]-H63)/(Table1[[#This Row],[crankshaft degrees]]-B63) -> 0.04715 | AU64: =(AT64-AT63)/(Table1[[#This Row],[crankshaft degrees]]-I63) -> 0.00020708333 | AV64: =AT64*(((data!E$12/2)*6)/1000) -> 0.99015 | AW64: =ABS(AV64) -> 0.99015 | AX64: =AU64*(((data!E$12/2)*6)^2/1000) -> 91.32375 | AY64: =AU64*(((data!E$12/2)*6)^3/1000) -> 1917798.7
B65: =B64+2 -> 122 | C65: 0.07 | F65: =(-0.000003*B65^2+0.0011*B65)-(-0.000003*B65^2+0.0011*B65)*2 -> -0.089548 | G65: =IF(C65=0, 0, C65-F65) -> 0.159548 | H65: 0.7225 | N65: 2.99 | Q65: =(-0.0000045*B65^2+0.0015*B65) -> 0.116022 | R65: =IF(Table1[[#This Row],[IN lift corrected]]=0, 0,N65-Q65) -> 2.873978 | S65: 0 | AM65: =(Table1[[#This Row],[Column11]]-S64)/(Table1[[#This Row],[crankshaft degrees]]-B64) -> 0 | AN65: =(AM65-AM64)/(Table1[[#This Row],[crankshaft degrees]]-B64) -> 0 | AO65: =AM65*(((data!E$12/2)*6)/1000) -> 0 | AP65: =AN65*(((data!E$12/2)*6)^2/1000) -> 0 | AQ65: =AN65*(((data!E$12/2)*6/1000^3)) -> 0 | AT65: =(Table1[[#This Row],[Column8]]-H64)/(Table1[[#This Row],[crankshaft degrees]]-B64) -> 0.05775 | AU65: =(AT65-AT64)/(Table1[[#This Row],[crankshaft degrees]]-I64) -> 8.6885246e-05 | AV65: =AT65*(((data!E$12/2)*6)/1000) -> 1.21275 | AW65: =ABS(AV65) -> 1.21275 | AX65: =AU65*(((data!E$12/2)*6)^2/1000) -> 38.316393 | AY65: =AU65*(((data!E$12/2)*6)^3/1000) -> 804644.26
B66: =B65+2 -> 124 | C66: 0.09 | F66: =(-0.000003*B66^2+0.0011*B66)-(-0.000003*B66^2+0.0011*B66)*2 -> -0.090272 | G66: =IF(C66=0, 0, C66-F66) -> 0.180272 | H66: 0.8862 | N66: 3.18 | O66: 0.13 | Q66: =(-0.0000045*B66^2+0.0015*B66) -> 0.116808 | R66: =IF(Table1[[#This Row],[IN lift corrected]]=0, 0,N66-Q66) -> 3.063192 | S66: 0 | AM66: =(Table1[[#This Row],[Column11]]-S65)/(Table1[[#This Row],[crankshaft degrees]]-B65) -> 0 | AN66: =(AM66-AM65)/(Table1[[#This Row],[crankshaft degrees]]-B65) -> 0 | AO66: =AM66*(((data!E$12/2)*6)/1000) -> 0 | AP66: =AN66*(((data!E$12/2)*6)^2/1000) -> 0 | AQ66: =AN66*(((data!E$12/2)*6/1000^3)) -> 0 | AT66: =(Table1[[#This Row],[Column8]]-H65)/(Table1[[#This Row],[crankshaft degrees]]-B65) -> 0.08185 | AU66: =(AT66-AT65)/(Table1[[#This Row],[crankshaft degrees]]-I65) -> 0.00019435484 | AV66: =AT66*(((data!E$12/2)*6)/1000) -> 1.71885 | AW66: =ABS(AV66) -> 1.71885 | AX66: =AU66*(((data!E$12/2)*6)^2/1000) -> 85.710484 | AY66: =AU66*(((data!E$12/2)*6)^3/1000) -> 1799920.2
B67: =B66+2 -> 126 | C67: 0.11 | F67: =(-0.000003*B67^2+0.0011*B67)-(-0.000003*B67^2+0.0011*B67)*2 -> -0.090972 | G67: =IF(C67=0, 0, C67-F67) -> 0.200972 | H67: 1.0833 | N67: 3.36 | Q67: =(-0.0000045*B67^2+0.0015*B67) -> 0.117558 | R67: =IF(Table1[[#This Row],[IN lift corrected]]=0, 0,N67-Q67) -> 3.242442 | S67: 0 | AM67: =(Table1[[#This Row],[Column11]]-S66)/(Table1[[#This Row],[crankshaft degrees]]-B66) -> 0 | AN67: =(AM67-AM66)/(Table1[[#This Row],[crankshaft degrees]]-B66) -> 0 | AO67: =AM67*(((data!E$12/2)*6)/1000) -> 0 | AP67: =AN67*(((data!E$12/2)*6)^2/1000) -> 0 | AQ67: =AN67*(((data!E$12/2)*6/1000^3)) -> 0 | AT67: =(Table1[[#This Row],[Column8]]-H66)/(Table1[[#This Row],[crankshaft degrees]]-B66) -> 0.09855 | AU67: =(AT67-AT66)/(Table1[[#This Row],[crankshaft degrees]]-I66) -> 0.00013253968 | AV67: =AT67*(((data!E$12/2)*6)/1000) -> 2.06955 | AW67: =ABS(AV67) -> 2.06955 | AX67: =AU67*(((data!E$12/2)*6)^2/1000) -> 58.45 | AY67: =AU67*(((data!E$12/2)*6)^3/1000) -> 1227450
B68: =B67+2 -> 128 | C68: 0.13 | F68: =(-0.000003*B68^2+0.0011*B68)-(-0.000003*B68^2+0.0011*B68)*2 -> -0.091648 | G68: =IF(C68=0, 0, C68-F68) -> 0.221648 | H68: 1.2944 | N68: 3.55 | Q68: =(-0.0000045*B68^2+0.0015*B68) -> 0.118272 | R68: =IF(Table1[[#This Row],[IN lift corrected]]=0, 0,N68-Q68) -> 3.431728 | S68: 0 | AM68: =(Table1[[#This Row],[Column11]]-S67)/(Table1[[#This Row],[crankshaft degrees]]-B67) -> 0 | AN68: =(AM68-AM67)/(Table1[[#This Row],[crankshaft degrees]]-B67) -> 0 | AO68: =AM68*(((data!E$12/2)*6)/1000) -> 0 | AP68: =AN68*(((data!E$12/2)*6)^2/1000) -> 0 | AQ68: =AN68*(((data!E$12/2)*6/1000^3)) -> 0 | AT68: =(Table1[[#This Row],[Column8]]-H67)/(Table1[[#This Row],[crankshaft degrees]]-B67) -> 0.10555 | AU68: =(AT68-AT67)/(Table1[[#This Row],[crankshaft degrees]]-I67) -> 5.46875e-05 | AV68: =AT68*(((data!E$12/2)*6)/1000) -> 2.21655 | AW68: =ABS(AV68) -> 2.21655 | AX68: =AU68*(((data!E$12/2)*6)^2/1000) -> 24.117188 | AY68: =AU68*(((data!E$12/2)*6)^3/1000) -> 506460.94
B69: =B68+2 -> 130 | C69: 0.14 | F69: =(-0.000003*B69^2+0.0011*B69)-(-0.000003*B69^2+0.0011*B69)*2 -> -0.0923 | G69: =IF(C69=0, 0, C69-F69) -> 0.2323 | H69: 1.521 | N69: 3.75 | Q69: =(-0.0000045*B69^2+0.0015*B69) -> 0.11895 | R69: =IF(Table1[[#This Row],[IN lift corrected]]=0, 0,N69-Q69) -> 3.63105 | S69: 0 | AM69: =(Table1[[#This Row],[Column11]]-S68)/(Table1[[#This Row],[crankshaft degrees]]-B68) -> 0 | AN69: =(AM69-AM68)/(Table1[[#This Row],[crankshaft degrees]]-B68) -> 0 | AO69: =AM69*(((data!E$12/2)*6)/1000) -> 0 | AP69: =AN69*(((data!E$12/2)*6)^2/1000) -> 0 | AQ69: =AN69*(((data!E$12/2)*6/1000^3)) -> 0 | AT69: =(Table1[[#This Row],[Column8]]-H68)/(Table1[[#This Row],[crankshaft degrees]]-B68) -> 0.1133 | AU69: =(AT69-AT68)/(Table1[[#This Row],[crankshaft degrees]]-I68) -> 5.9615385e-05 | AV69: =AT69*(((data!E$12/2)*6)/1000) -> 2.3793 | AW69: =ABS(AV69) -> 2.3793 | AX69: =AU69*(((data!E$12/2)*6)^2/1000) -> 26.290385 | AY69: =AU69*(((data!E$12/2)*6)^3/1000) -> 552098.08
B70: =B69+2 -> 132 | C70: 0.16 | F70: =(-0.000003*B70^2+0.0011*B70)-(-0.000003*B70^2+0.0011*B70)*2 -> -0.092928 | G70: =IF(C70=0, 0, C70-F70) -> 0.252928 | H70: 1.7437 | N70: 3.94 | Q70: =(-0.0000045*B70^2+0.0015*B70) -> 0.119592 | R70: =IF(Table1[[#This Row],[IN lift corrected]]=0, 0,N70-Q70) -> 3.820408 | S70: 0 | AM70: =(Table1[[#This Row],[Column11]]-S69)/(Table1[[#This Row],[crankshaft degrees]]-B69) -> 0 | AN70: =(AM70-AM69)/(Table1[[#This Row],[crankshaft degrees]]-B69) -> 0 | AO70: =AM70*(((data!E$12/2)*6)/1000) -> 0 | AP70: =AN70*(((data!E$12/2)*6)^2/1000) -> 0 | AQ70: =AN70*(((data!E$12/2)*6/1000^3)) -> 0 | AT70: =(Table1[[#This Row],[Column8]]-H69)/(Table1[[#This Row],[crankshaft degrees]]-B69) -> 0.11135 | AU70: =(AT70-AT69)/(Table1[[#This Row],[crankshaft degrees]]-I69) -> -1.4772727e-05 | AV70: =AT70*(((data!E$12/2)*6)/1000) -> 2.33835 | AW70: =ABS(AV70) -> 2.33835 | AX70: =AU70*(((data!E$12/2)*6)^2/1000) -> -6.5147727 | AY70: =AU70*(((data!E$12/2)*6)^3/1000) -> -136810.23
B71: =B70+2 -> 134 | C71: 0.18 | F71: =(-0.000003*B71^2+0.0011*B71)-(-0.000003*B71^2+0.0011*B71)*2 -> -0.093532 | G71: =IF(C71=0, 0, C71-F71) -> 0.273532 | H71: 1.9614 | N71: 4.17 | Q71: =(-0.0000045*B71^2+0.0015*B71) -> 0.120198 | R71: =IF(Table1[[#This Row],[IN lift corrected]]=0, 0,N71-Q71) -> 4.049802 | S71: 0 | AM71: =(Table1[[#This Row],[Column11]]-S70)/(Table1[[#This Row],[crankshaft degrees]]-B70) -> 0 | AN71: =(AM71-AM70)/(Table1[[#This Row],[crankshaft degrees]]-B70) -> 0 | AO71: =AM71*(((data!E$12/2)*6)/1000) -> 0 | AP71: =AN71*(((data!E$12/2)*6)^2/1000) -> 0 | AQ71: =AN71*(((data!E$12/2)*6/1000^3)) -> 0 | AT71: =(Table1[[#This Row],[Column8]]-H70)/(Table1[[#This Row],[crankshaft degrees]]-B70) -> 0.10885 | AU71: =(AT71-AT70)/(Table1[[#This Row],[crankshaft degrees]]-I70) -> -1.8656716e-05 | AV71: =AT71*(((data!E$12/2)*6)/1000) -> 2.28585 | AW71: =ABS(AV71) -> 2.28585 | AX71: =AU71*(((data!E$12/2)*6)^2/1000) -> -8.2276119 | AY71: =AU71*(((data!E$12/2)*6)^3/1000) -> -172779.85
B72: =B71+2 -> 136 | C72: 0.2 | F72: =(-0.000003*B72^2+0.0011*B72)-(-0.000003*B72^2+0.0011*B72)*2 -> -0.094112 | G72: =IF(C72=0, 0, C72-F72) -> 0.294112 | H72: 2.185 | N72: 4.4 | Q72: =(-0.0000045*B72^2+0.0015*B72) -> 0.120768 | R72: =IF(Table1[[#This Row],[IN lift corrected]]=0, 0,N72-Q72) -> 4.279232 | S72: 0 | AM72: =(Table1[[#This Row],[Column11]]-S71)/(Table1[[#This Row],[crankshaft degrees]]-B71) -> 0 | AN72: =(AM72-AM71)/(Table1[[#This Row],[crankshaft degrees]]-B71) -> 0 | AO72: =AM72*(((data!E$12/2)*6)/1000) -> 0 | AP72: =AN72*(((data!E$12/2)*6)^2/1000) -> 0 | AQ72: =AN72*(((data!E$12/2)*6/1000^3)) -> 0 | AT72: =(Table1[[#This Row],[Column8]]-H71)/(Table1[[#This Row],[crankshaft degrees]]-B71) -> 0.1118 | AU72: =(AT72-AT71)/(Table1[[#This Row],[crankshaft degrees]]-I71) -> 2.1691176e-05 | AV72: =AT72*(((data!E$12/2)*6)/1000) -> 2.3478 | AW72: =ABS(AV72) -> 2.3478 | AX72: =AU72*(((data!E$12/2)*6)^2/1000) -> 9.5658088 | AY72: =AU72*(((data!E$12/2)*6)^3/1000) -> 200881.99
B73: =B72+2 -> 138 | C73: 0.22 | F73: =(-0.000003*B73^2+0.0011*B73)-(-0.000003*B73^2+0.0011*B73)*2 -> -0.094668 | G73: =IF(C73=0, 0, C73-F73) -> 0.314668 | H73: 2.4084 | N73: 4.65 | Q73: =(-0.0000045*B73^2+0.0015*B73) -> 0.121302 | R73: =IF(Table1[[#This Row],[IN lift corrected]]=0, 0,N73-Q73) -> 4.528698 | S73: 0 | AM73: =(Table1[[#This Row],[Column11]]-S72)/(Table1[[#This Row],[crankshaft degrees]]-B72) -> 0 | AN73: =(AM73-AM72)/(Table1[[#This Row],[crankshaft degrees]]-B72) -> 0 | AO73: =AM73*(((data!E$12/2)*6)/1000) -> 0 | AP73: =AN73*(((data!E$12/2)*6)^2/1000) -> 0 | AQ73: =AN73*(((data!E$12/2)*6/1000^3)) -> 0 | AT73: =(Table1[[#This Row],[Column8]]-H72)/(Table1[[#This Row],[crankshaft degrees]]-B72) -> 0.1117 | AU73: =(AT73-AT72)/(Table1[[#This Row],[crankshaft degrees]]-I72) -> -7.2463768e-07 | AV73: =AT73*(((data!E$12/2)*6)/1000) -> 2.3457 | AW73: =ABS(AV73) -> 2.3457 | AX73: =AU73*(((data!E$12/2)*6)^2/1000) -> -0.31956522 | AY73: =AU73*(((data!E$12/2)*6)^3/1000) -> -6710.8696
B74: =B73+2 -> 140 | C74: 0.235 | D74: -0.1 | E74: 0.1 | F74: =(-0.000003*B74^2+0.0011*B74)-(-0.000003*B74^2+0.0011*B74)*2 -> -0.0952 | G74: =IF(C74=0, 0, C74-F74) -> 0.3302 | H74: 2.6265 | N74: 4.87 | Q74: =(-0.0000045*B74^2+0.0015*B74) -> 0.1218 | R74: =IF(Table1[[#This Row],[IN lift corrected]]=0, 0,N74-Q74) -> 4.7482 | S74: 0 | AM74: =(Table1[[#This Row],[Column11]]-S73)/(Table1[[#This Row],[crankshaft degrees]]-B73) -> 0 | AN74: =(AM74-AM73)/(Table1[[#This Row],[crankshaft degrees]]-B73) -> 0 | AO74: =AM74*(((data!E$12/2)*6)/1000) -> 0 | AP74: =AN74*(((data!E$12/2)*6)^2/1000) -> 0 | AQ74: =AN74*(((data!E$12/2)*6/1000^3)) -> 0 | AT74: =(Table1[[#This Row],[Column8]]-H73)/(Table1[[#This Row],[crankshaft degrees]]-B73) -> 0.10905 | AU74: =(AT74-AT73)/(Table1[[#This Row],[crankshaft degrees]]-I73) -> -1.8928571e-05 | AV74: =AT74*(((data!E$12/2)*6)/1000) -> 2.29005 | AW74: =ABS(AV74) -> 2.29005 | AX74: =AU74*(((data!E$12/2)*6)^2/1000) -> -8.3475 | AY74: =AU74*(((data!E$12/2)*6)^3/1000) -> -175297.5
B75: =B74+2 -> 142 | C75: 0.25 | F75: =(-0.000003*B75^2+0.0011*B75)-(-0.000003*B75^2+0.0011*B75)*2 -> -0.095708 | G75: =IF(C75=0, 0, C75-F75) -> 0.345708 | H75: 2.8392 | N75: 5.12 | Q75: =(-0.0000045*B75^2+0.0015*B75) -> 0.122262 | R75: =IF(Table1[[#This Row],[IN lift corrected]]=0, 0,N75-Q75) -> 4.997738 | S75: 0 | AM75: =(Table1[[#This Row],[Column11]]-S74)/(Table1[[#This Row],[crankshaft degrees]]-B74) -> 0 | AN75: =(AM75-AM74)/(Table1[[#This Row],[crankshaft degrees]]-B74) -> 0 | AO75: =AM75*(((data!E$12/2)*6)/1000) -> 0 | AP75: =AN75*(((data!E$12/2)*6)^2/1000) -> 0 | AQ75: =AN75*(((data!E$12/2)*6/1000^3)) -> 0 | AT75: =(Table1[[#This Row],[Column8]]-H74)/(Table1[[#This Row],[crankshaft degrees]]-B74) -> 0.10635 | AU75: =(AT75-AT74)/(Table1[[#This Row],[crankshaft degrees]]-I74) -> -1.9014085e-05 | AV75: =AT75*(((data!E$12/2)*6)/1000) -> 2.23335 | AW75: =ABS(AV75) -> 2.23335 | AX75: =AU75*(((data!E$12/2)*6)^2/1000) -> -8.3852113 | AY75: =AU75*(((data!E$12/2)*6)^3/1000) -> -176089.44
B76: =B75+2 -> 144 | C76: 0.28 | F76: =(-0.000003*B76^2+0.0011*B76)-(-0.000003*B76^2+0.0011*B76)*2 -> -0.096192 | G76: =IF(C76=0, 0, C76-F76) -> 0.376192 | H76: 3.0545 | N76: 5.37 | O76: 0.14 | Q76: =(-0.0000045*B76^2+0.0015*B76) -> 0.122688 | R76: =IF(Table1[[#This Row],[IN lift corrected]]=0, 0,N76-Q76) -> 5.247312 | S76: 0 | AM76: =(Table1[[#This Row],[Column11]]-S75)/(Table1[[#This Row],[crankshaft degrees]]-B75) -> 0 | AN76: =(AM76-AM75)/(Table1[[#This Row],[crankshaft degrees]]-B75) -> 0 | AO76: =AM76*(((data!E$12/2)*6)/1000) -> 0 | AP76: =AN76*(((data!E$12/2)*6)^2/1000) -> 0 | AQ76: =AN76*(((data!E$12/2)*6/1000^3)) -> 0 | AT76: =(Table1[[#This Row],[Column8]]-H75)/(Table1[[#This Row],[crankshaft degrees]]-B75) -> 0.10765 | AU76: =(AT76-AT75)/(Table1[[#This Row],[crankshaft degrees]]-I75) -> 9.0277778e-06 | AV76: =AT76*(((data!E$12/2)*6)/1000) -> 2.26065 | AW76: =ABS(AV76) -> 2.26065 | AX76: =AU76*(((data!E$12/2)*6)^2/1000) -> 3.98125 | AY76: =AU76*(((data!E$12/2)*6)^3/1000) -> 83606.25
B77: =B76+2 -> 146 | C77: 0.29 | F77: =(-0.000003*B77^2+0.0011*B77)-(-0.000003*B77^2+0.0011*B77)*2 -> -0.096652 | G77: =IF(C77=0, 0, C77-F77) -> 0.386652 | H77: 3.2723 | N77: 5.64 | Q77: =(-0.0000045*B77^2+0.0015*B77) -> 0.123078 | R77: =IF(Table1[[#This Row],[IN lift corrected]]=0, 0,N77-Q77) -> 5.516922 | S77: 0 | AM77: =(Table1[[#This Row],[Column11]]-S76)/(Table1[[#This Row],[crankshaft degrees]]-B76) -> 0 | AN77: =(AM77-AM76)/(Table1[[#This Row],[crankshaft degrees]]-B76) -> 0 | AO77: =AM77*(((data!E$12/2)*6)/1000) -> 0 | AP77: =AN77*(((data!E$12/2)*6)^2/1000) -> 0 | AQ77: =AN77*(((data!E$12/2)*6/1000^3)) -> 0 | AT77: =(Table1[[#This Row],[Column8]]-H76)/(Table1[[#This Row],[crankshaft degrees]]-B76) -> 0.1089 | AU77: =(AT77-AT76)/(Table1[[#This Row],[crankshaft degrees]]-I76) -> 8.5616438e-06 | AV77: =AT77*(((data!E$12/2)*6)/1000) -> 2.2869 | AW77: =ABS(AV77) -> 2.2869 | AX77: =AU77*(((data!E$12/2)*6)^2/1000) -> 3.7756849 | AY77: =AU77*(((data!E$12/2)*6)^3/1000) -> 79289.384
B78: =B77+2 -> 148 | C78: 0.31 | F78: =(-0.000003*B78^2+0.0011*B78)-(-0.000003*B78^2+0.0011*B78)*2 -> -0.097088 | G78: =IF(C78=0, 0, C78-F78) -> 0.407088 | H78: 3.4889 | N78: 5.94 | Q78: =(-0.0000045*B78^2+0.0015*B78) -> 0.123432 | R78: =IF(Table1[[#This Row],[IN lift corrected]]=0, 0,N78-Q78) -> 5.816568 | S78: 0 | AM78: =(Table1[[#This Row],[Column11]]-S77)/(Table1[[#This Row],[crankshaft degrees]]-B77) -> 0 | AN78: =(AM78-AM77)/(Table1[[#This Row],[crankshaft degrees]]-B77) -> 0 | AO78: =AM78*(((data!E$12/2)*6)/1000) -> 0 | AP78: =AN78*(((data!E$12/2)*6)^2/1000) -> 0 | AQ78: =AN78*(((data!E$12/2)*6/1000^3)) -> 0 | AT78: =(Table1[[#This Row],[Column8]]-H77)/(Table1[[#This Row],[crankshaft degrees]]-B77) -> 0.1083 | AU78: =(AT78-AT77)/(Table1[[#This Row],[crankshaft degrees]]-I77) -> -4.0540541e-06 | AV78: =AT78*(((data!E$12/2)*6)/1000) -> 2.2743 | AW78: =ABS(AV78) -> 2.2743 | AX78: =AU78*(((data!E$12/2)*6)^2/1000) -> -1.7878378 | AY78: =AU78*(((data!E$12/2)*6)^3/1000) -> -37544.595
B79: =B78+2 -> 150 | C79: 0.33 | F79: =(-0.000003*B79^2+0.0011*B79)-(-0.000003*B79^2+0.0011*B79)*2 -> -0.0975 | G79: =IF(C79=0, 0, C79-F79) -> 0.4275 | H79: 3.7037 | N79: 6.24 | Q79: =(-0.0000045*B79^2+0.0015*B79) -> 0.12375 | R79: =IF(Table1[[#This Row],[IN lift corrected]]=0, 0,N79-Q79) -> 6.11625 | S79: 0 | AM79: =(Table1[[#This Row],[Column11]]-S78)/(Table1[[#This Row],[crankshaft degrees]]-B78) -> 0 | AN79: =(AM79-AM78)/(Table1[[#This Row],[crankshaft degrees]]-B78) -> 0 | AO79: =AM79*(((data!E$12/2)*6)/1000) -> 0 | AP79: =AN79*(((data!E$12/2)*6)^2/1000) -> 0 | AQ79: =AN79*(((data!E$12/2)*6/1000^3)) -> 0 | AT79: =(Table1[[#This Row],[Column8]]-H78)/(Table1[[#This Row],[crankshaft degrees]]-B78) -> 0.1074 | AU79: =(AT79-AT78)/(Table1[[#This Row],[crankshaft degrees]]-I78) -> -6e-06 | AV79: =AT79*(((data!E$12/2)*6)/1000) -> 2.2554 | AW79: =ABS(AV79) -> 2.2554 | AX79: =AU79*(((data!E$12/2)*6)^2/1000) -> -2.646 | AY79: =AU79*(((data!E$12/2)*6)^3/1000) -> -55566
B80: =B79+2 -> 152 | C80: 0.35 | F80: =(-0.000003*B80^2+0.0011*B80)-(-0.000003*B80^2+0.0011*B80)*2 -> -0.097888 | G80: =IF(C80=0, 0, C80-F80) -> 0.447888 | H80: 3.9129 | N80: 6.52 | Q80: =(-0.0000045*B80^2+0.0015*B80) -> 0.124032 | R80: =IF(Table1[[#This Row],[IN lift corrected]]=0, 0,N80-Q80) -> 6.395968 | S80: 0 | AM80: =(Table1[[#This Row],[Column11]]-S79)/(Table1[[#This Row],[crankshaft degrees]]-B79) -> 0 | AN80: =(AM80-AM79)/(Table1[[#This Row],[crankshaft degrees]]-B79) -> 0 | AO80: =AM80*(((data!E$12/2)*6)/1000) -> 0 | AP80: =AN80*(((data!E$12/2)*6)^2/1000) -> 0 | AQ80: =AN80*(((data!E$12/2)*6/1000^3)) -> 0 | AT80: =(Table1[[#This Row],[Column8]]-H79)/(Table1[[#This Row],[crankshaft degrees]]-B79) -> 0.1046 | AU80: =(AT80-AT79)/(Table1[[#This Row],[crankshaft degrees]]-I79) -> -1.8421053e-05 | AV80: =AT80*(((data!E$12/2)*6)/1000) -> 2.1966 | AW80: =ABS(AV80) -> 2.1966 | AX80: =AU80*(((data!E$12/2)*6)^2/1000) -> -8.1236842 | AY80: =AU80*(((data!E$12/2)*6)^3/1000) -> -170597.37
B81: =B80+2 -> 154 | C81: 0.37 | F81: =(-0.000003*B81^2+0.0011*B81)-(-0.000003*B81^2+0.0011*B81)*2 -> -0.098252 | G81: =IF(C81=0, 0, C81-F81) -> 0.468252 | H81: 4.1162 | N81: 6.82 | Q81: =(-0.0000045*B81^2+0.0015*B81) -> 0.124278 | R81: =IF(Table1[[#This Row],[IN lift corrected]]=0, 0,N81-Q81) -> 6.695722 | S81: 0 | AM81: =(Table1[[#This Row],[Column11]]-S80)/(Table1[[#This Row],[crankshaft degrees]]-B80) -> 0 | AN81: =(AM81-AM80)/(Table1[[#This Row],[crankshaft degrees]]-B80) -> 0 | AO81: =AM81*(((data!E$12/2)*6)/1000) -> 0 | AP81: =AN81*(((data!E$12/2)*6)^2/1000) -> 0 | AQ81: =AN81*(((data!E$12/2)*6/1000^3)) -> 0 | AT81: =(Table1[[#This Row],[Column8]]-H80)/(Table1[[#This Row],[crankshaft degrees]]-B80) -> 0.10165 | AU81: =(AT81-AT80)/(Table1[[#This Row],[crankshaft degrees]]-I80) -> -1.9155844e-05 | AV81: =AT81*(((data!E$12/2)*6)/1000) -> 2.13465 | AW81: =ABS(AV81) -> 2.13465 | AX81: =AU81*(((data!E$12/2)*6)^2/1000) -> -8.4477273 | AY81: =AU81*(((data!E$12/2)*6)^3/1000) -> -177402.27
B82: =B81+2 -> 156 | C82: 0.38 | F82: =(-0.000003*B82^2+0.0011*B82)-(-0.000003*B82^2+0.0011*B82)*2 -> -0.098592 | G82: =IF(C82=0, 0, C82-F82) -> 0.478592 | H82: 4.3144 | N82: 7.1 | Q82: =(-0.0000045*B82^2+0.0015*B82) -> 0.124488 | R82: =IF(Table1[[#This Row],[IN lift corrected]]=0, 0,N82-Q82) -> 6.975512 | S82: 0 | AM82: =(Table1[[#This Row],[Column11]]-S81)/(Table1[[#This Row],[crankshaft degrees]]-B81) -> 0 | AN82: =(AM82-AM81)/(Table1[[#This Row],[crankshaft degrees]]-B81) -> 0 | AO82: =AM82*(((data!E$12/2)*6)/1000) -> 0 | AP82: =AN82*(((data!E$12/2)*6)^2/1000) -> 0 | AQ82: =AN82*(((data!E$12/2)*6/1000^3)) -> 0 | AT82: =(Table1[[#This Row],[Column8]]-H81)/(Table1[[#This Row],[crankshaft degrees]]-B81) -> 0.0991 | AU82: =(AT82-AT81)/(Table1[[#This Row],[crankshaft degrees]]-I81) -> -1.6346154e-05 | AV82: =AT82*(((data!E$12/2)*6)/1000) -> 2.0811 | AW82: =ABS(AV82) -> 2.0811 | AX82: =AU82*(((data!E$12/2)*6)^2/1000) -> -7.2086538 | AY82: =AU82*(((data!E$12/2)*6)^3/1000) -> -151381.73
B83: =B82+2 -> 158 | C83: 0.41 | F83: =(-0.000003*B83^2+0.0011*B83)-(-0.000003*B83^2+0.0011*B83)*2 -> -0.098908 | G83: =IF(C83=0, 0, C83-F83) -> 0.508908 | H83: 4.514 | N83: 7.41 | Q83: =(-0.0000045*B83^2+0.0015*B83) -> 0.124662 | R83: =IF(Table1[[#This Row],[IN lift corrected]]=0, 0,N83-Q83) -> 7.285338 | S83: 0 | AM83: =(Table1[[#This Row],[Column11]]-S82)/(Table1[[#This Row],[crankshaft degrees]]-B82) -> 0 | AN83: =(AM83-AM82)/(Table1[[#This Row],[crankshaft degrees]]-B82) -> 0 | AO83: =AM83*(((data!E$12/2)*6)/1000) -> 0 | AP83: =AN83*(((data!E$12/2)*6)^2/1000) -> 0 | AQ83: =AN83*(((data!E$12/2)*6/1000^3)) -> 0 | AT83: =(Table1[[#This Row],[Column8]]-H82)/(Table1[[#This Row],[crankshaft degrees]]-B82) -> 0.0998 | AU83: =(AT83-AT82)/(Table1[[#This Row],[crankshaft degrees]]-I82) -> 4.4303797e-06 | AV83: =AT83*(((data!E$12/2)*6)/1000) -> 2.0958 | AW83: =ABS(AV83) -> 2.0958 | AX83: =AU83*(((data!E$12/2)*6)^2/1000) -> 1.9537975 | AY83: =AU83*(((data!E$12/2)*6)^3/1000) -> 41029.747
B84: =B83+2 -> 160 | C84: 0.43 | D84: -0.1 | E84: 0.1 | F84: =(-0.000003*B84^2+0.0011*B84)-(-0.000003*B84^2+0.0011*B84)*2 -> -0.0992 | G84: =IF(C84=0, 0, C84-F84) -> 0.5292 | H84: 4.7076 | N84: 7.66 | Q84: =(-0.0000045*B84^2+0.0015*B84) -> 0.1248 | R84: =IF(Table1[[#This Row],[IN lift corrected]]=0, 0,N84-Q84) -> 7.5352 | S84: 0 | AM84: =(Table1[[#This Row],[Column11]]-S83)/(Table1[[#This Row],[crankshaft degrees]]-B83) -> 0 | AN84: =(AM84-AM83)/(Table1[[#This Row],[crankshaft degrees]]-B83) -> 0 | AO84: =AM84*(((data!E$12/2)*6)/1000) -> 0 | AP84: =AN84*(((data!E$12/2)*6)^2/1000) -> 0 | AQ84: =AN84*(((data!E$12/2)*6/1000^3)) -> 0 | AT84: =(Table1[[#This Row],[Column8]]-H83)/(Table1[[#This Row],[crankshaft degrees]]-B83) -> 0.0968 | AU84: =(AT84-AT83)/(Table1[[#This Row],[crankshaft degrees]]-I83) -> -1.875e-05 | AV84: =AT84*(((data!E$12/2)*6)/1000) -> 2.0328 | AW84: =ABS(AV84) -> 2.0328 | AX84: =AU84*(((data!E$12/2)*6)^2/1000) -> -8.26875 | AY84: =AU84*(((data!E$12/2)*6)^3/1000) -> -173643.75
B85: =B84+2 -> 162 | C85: 0.445 | F85: =(-0.000003*B85^2+0.0011*B85)-(-0.000003*B85^2+0.0011*B85)*2 -> -0.099468 | G85: =IF(C85=0, 0, C85-F85) -> 0.544468 | H85: 4.8953 | N85: 7.94 | Q85: =(-0.0000045*B85^2+0.0015*B85) -> 0.124902 | R85: =IF(Table1[[#This Row],[IN lift corrected]]=0, 0,N85-Q85) -> 7.815098 | S85: 0 | AM85: =(Table1[[#This Row],[Column11]]-S84)/(Table1[[#This Row],[crankshaft degrees]]-B84) -> 0 | AN85: =(AM85-AM84)/(Table1[[#This Row],[crankshaft degrees]]-B84) -> 0 | AO85: =AM85*(((data!E$12/2)*6)/1000) -> 0 | AP85: =AN85*(((data!E$12/2)*6)^2/1000) -> 0 | AQ85: =AN85*(((data!E$12/2)*6/1000^3)) -> 0 | AT85: =(Table1[[#This Row],[Column8]]-H84)/(Table1[[#This Row],[crankshaft degrees]]-B84) -> 0.09385 | AU85: =(AT85-AT84)/(Table1[[#This Row],[crankshaft degrees]]-I84) -> -1.8209877e-05 | AV85: =AT85*(((data!E$12/2)*6)/1000) -> 1.97085 | AW85: =ABS(AV85) -> 1.97085 | AX85: =AU85*(((data!E$12/2)*6)^2/1000) -> -8.0305556 | AY85: =AU85*(((data!E$12/2)*6)^3/1000) -> -168641.67
B86: =B85+2 -> 164 | C86: 0.46 | F86: =(-0.000003*B86^2+0.0011*B86)-(-0.000003*B86^2+0.0011*B86)*2 -> -0.099712 | G86: =IF(C86=0, 0, C86-F86) -> 0.559712 | H86: 5.0769 | N86: 8.16 | O86: 0.14 | Q86: =(-0.0000045*B86^2+0.0015*B86) -> 0.124968 | R86: =IF(Table1[[#This Row],[IN lift corrected]]=0, 0,N86-Q86) -> 8.035032 | S86: 0 | AM86: =(Table1[[#This Row],[Column11]]-S85)/(Table1[[#This Row],[crankshaft degrees]]-B85) -> 0 | AN86: =(AM86-AM85)/(Table1[[#This Row],[crankshaft degrees]]-B85) -> 0 | AO86: =AM86*(((data!E$12/2)*6)/1000) -> 0 | AP86: =AN86*(((data!E$12/2)*6)^2/1000) -> 0 | AQ86: =AN86*(((data!E$12/2)*6/1000^3)) -> 0 | AT86: =(Table1[[#This Row],[Column8]]-H85)/(Table1[[#This Row],[crankshaft degrees]]-B85) -> 0.0908 | AU86: =(AT86-AT85)/(Table1[[#This Row],[crankshaft degrees]]-I85) -> -1.8597561e-05 | AV86: =AT86*(((data!E$12/2)*6)/1000) -> 1.9068 | AW86: =ABS(AV86) -> 1.9068 | AX86: =AU86*(((data!E$12/2)*6)^2/1000) -> -8.2015244 | AY86: =AU86*(((data!E$12/2)*6)^3/1000) -> -172232.01
B87: =B86+2 -> 166 | C87: 0.48 | F87: =(-0.000003*B87^2+0.0011*B87)-(-0.000003*B87^2+0.0011*B87)*2 -> -0.099932 | G87: =IF(C87=0, 0, C87-F87) -> 0.579932 | H87: 5.2523 | N87: 8.41 | Q87: =(-0.0000045*B87^2+0.0015*B87) -> 0.124998 | R87: =IF(Table1[[#This Row],[IN lift corrected]]=0, 0,N87-Q87) -> 8.285002 | S87: 0 | AM87: =(Table1[[#This Row],[Column11]]-S86)/(Table1[[#This Row],[crankshaft degrees]]-B86) -> 0 | AN87: =(AM87-AM86)/(Table1[[#This Row],[crankshaft degrees]]-B86) -> 0 | AO87: =AM87*(((data!E$12/2)*6)/1000) -> 0 | AP87: =AN87*(((data!E$12/2)*6)^2/1000) -> 0 | AQ87: =AN87*(((data!E$12/2)*6/1000^3)) -> 0 | AT87: =(Table1[[#This Row],[Column8]]-H86)/(Table1[[#This Row],[crankshaft degrees]]-B86) -> 0.0877 | AU87: =(AT87-AT86)/(Table1[[#This Row],[crankshaft degrees]]-I86) -> -1.8674699e-05 | AV87: =AT87*(((data!E$12/2)*6)/1000) -> 1.8417 | AW87: =ABS(AV87) -> 1.8417 | AX87: =AU87*(((data!E$12/2)*6)^2/1000) -> -8.2355422 | AY87: =AU87*(((data!E$12/2)*6)^3/1000) -> -172946.39
B88: =B87+2 -> 168 | C88: 0.51 | F88: =(-0.000003*B88^2+0.0011*B88)-(-0.000003*B88^2+0.0011*B88)*2 -> -0.100128 | G88: =IF(C88=0, 0, C88-F88) -> 0.610128 | H88: 5.4264 | N88: 8.65 | Q88: =(-0.0000045*B88^2+0.0015*B88) -> 0.124992 | R88: =IF(Table1[[#This Row],[IN lift corrected]]=0, 0,N88-Q88) -> 8.525008 | S88: 0 | AM88: =(Table1[[#This Row],[Column11]]-S87)/(Table1[[#This Row],[crankshaft degrees]]-B87) -> 0 | AN88: =(AM88-AM87)/(Table1[[#This Row],[crankshaft degrees]]-B87) -> 0 | AO88: =AM88*(((data!E$12/2)*6)/1000) -> 0 | AP88: =AN88*(((data!E$12/2)*6)^2/1000) -> 0 | AQ88: =AN88*(((data!E$12/2)*6/1000^3)) -> 0 | AT88: =(Table1[[#This Row],[Column8]]-H87)/(Table1[[#This Row],[crankshaft degrees]]-B87) -> 0.08705 | AU88: =(AT88-AT87)/(Table1[[#This Row],[crankshaft degrees]]-I87) -> -3.8690476e-06 | AV88: =AT88*(((data!E$12/2)*6)/1000) -> 1.82805 | AW88: =ABS(AV88) -> 1.82805 | AX88: =AU88*(((data!E$12/2)*6)^2/1000) -> -1.70625 | AY88: =AU88*(((data!E$12/2)*6)^3/1000) -> -35831.25
B89: =B88+2 -> 170 | C89: 0.535 | F89: =(-0.000003*B89^2+0.0011*B89)-(-0.000003*B89^2+0.0011*B89)*2 -> -0.1003 | G89: =IF(C89=0, 0, C89-F89) -> 0.6353 | H89: 5.6049 | N89: 8.83 | Q89: =(-0.0000045*B89^2+0.0015*B89) -> 0.12495 | R89: =IF(Table1[[#This Row],[IN lift corrected]]=0, 0,N89-Q89) -> 8.70505 | S89: 0 | AM89: =(Table1[[#This Row],[Column11]]-S88)/(Table1[[#This Row],[crankshaft degrees]]-B88) -> 0 | AN89: =(AM89-AM88)/(Table1[[#This Row],[crankshaft degrees]]-B88) -> 0 | AO89: =AM89*(((data!E$12/2)*6)/1000) -> 0 | AP89: =AN89*(((data!E$12/2)*6)^2/1000) -> 0 | AQ89: =AN89*(((data!E$12/2)*6/1000^3)) -> 0 | AT89: =(Table1[[#This Row],[Column8]]-H88)/(Table1[[#This Row],[crankshaft degrees]]-B88) -> 0.08925 | AU89: =(AT89-AT88)/(Table1[[#This Row],[crankshaft degrees]]-I88) -> 1.2941176e-05 | AV89: =AT89*(((data!E$12/2)*6)/1000) -> 1.87425 | AW89: =ABS(AV89) -> 1.87425 | AX89: =AU89*(((data!E$12/2)*6)^2/1000) -> 5.7070588 | AY89: =AU89*(((data!E$12/2)*6)^3/1000) -> 119848.24
B90: =B89+2 -> 172 | C90: 0.56 | F90: =(-0.000003*B90^2+0.0011*B90)-(-0.000003*B90^2+0.0011*B90)*2 -> -0.100448 | G90: =IF(C90=0, 0, C90-F90) -> 0.660448 | H90: 5.7772 | N90: 8.97 | Q90: =(-0.0000045*B90^2+0.0015*B90) -> 0.124872 | R90: =IF(Table1[[#This Row],[IN lift corrected]]=0, 0,N90-Q90) -> 8.845128 | S90: 0 | AM90: =(Table1[[#This Row],[Column11]]-S89)/(Table1[[#This Row],[crankshaft degrees]]-B89) -> 0 | AN90: =(AM90-AM89)/(Table1[[#This Row],[crankshaft degrees]]-B89) -> 0 | AO90: =AM90*(((data!E$12/2)*6)/1000) -> 0 | AP90: =AN90*(((data!E$12/2)*6)^2/1000) -> 0 | AQ90: =AN90*(((data!E$12/2)*6/1000^3)) -> 0 | AT90: =(Table1[[#This Row],[Column8]]-H89)/(Table1[[#This Row],[crankshaft degrees]]-B89) -> 0.08615 | AU90: =(AT90-AT89)/(Table1[[#This Row],[crankshaft degrees]]-I89) -> -1.8023256e-05 | AV90: =AT90*(((data!E$12/2)*6)/1000) -> 1.80915 | AW90: =ABS(AV90) -> 1.80915 | AX90: =AU90*(((data!E$12/2)*6)^2/1000) -> -7.9482558 | AY90: =AU90*(((data!E$12/2)*6)^3/1000) -> -166913.37
B91: =B90+2 -> 174 | C91: 0.59 | F91: =(-0.000003*B91^2+0.0011*B91)-(-0.000003*B91^2+0.0011*B91)*2 -> -0.100572 | G91: =IF(C91=0, 0, C91-F91) -> 0.690572 | H91: 5.9431 | N91: 9.05 | Q91: =(-0.0000045*B91^2+0.0015*B91) -> 0.124758 | R91: =IF(Table1[[#This Row],[IN lift corrected]]=0, 0,N91-Q91) -> 8.925242 | S91: 0 | AM91: =(Table1[[#This Row],[Column11]]-S90)/(Table1[[#This Row],[crankshaft degrees]]-B90) -> 0 | AN91: =(AM91-AM90)/(Table1[[#This Row],[crankshaft degrees]]-B90) -> 0 | AO91: =AM91*(((data!E$12/2)*6)/1000) -> 0 | AP91: =AN91*(((data!E$12/2)*6)^2/1000) -> 0 | AQ91: =AN91*(((data!E$12/2)*6/1000^3)) -> 0 | AT91: =(Table1[[#This Row],[Column8]]-H90)/(Table1[[#This Row],[crankshaft degrees]]-B90) -> 0.08295 | AU91: =(AT91-AT90)/(Table1[[#This Row],[crankshaft degrees]]-I90) -> -1.8390805e-05 | AV91: =AT91*(((data!E$12/2)*6)/1000) -> 1.74195 | AW91: =ABS(AV91) -> 1.74195 | AX91: =AU91*(((data!E$12/2)*6)^2/1000) -> -8.1103448 | AY91: =AU91*(((data!E$12/2)*6)^3/1000) -> -170317.24
B92: =B91+2 -> 176 | C92: 0.63 | F92: =(-0.000003*B92^2+0.0011*B92)-(-0.000003*B92^2+0.0011*B92)*2 -> -0.100672 | G92: =IF(C92=0, 0, C92-F92) -> 0.730672 | H92: 6.1026 | N92: 9.1 | Q92: =(-0.0000045*B92^2+0.0015*B92) -> 0.124608 | R92: =IF(Table1[[#This Row],[IN lift corrected]]=0, 0,N92-Q92) -> 8.975392 | S92: 0 | AM92: =(Table1[[#This Row],[Column11]]-S91)/(Table1[[#This Row],[crankshaft degrees]]-B91) -> 0 | AN92: =(AM92-AM91)/(Table1[[#This Row],[crankshaft degrees]]-B91) -> 0 | AO92: =AM92*(((data!E$12/2)*6)/1000) -> 0 | AP92: =AN92*(((data!E$12/2)*6)^2/1000) -> 0 | AQ92: =AN92*(((data!E$12/2)*6/1000^3)) -> 0 | AT92: =(Table1[[#This Row],[Column8]]-H91)/(Table1[[#This Row],[crankshaft degrees]]-B91) -> 0.07975 | AU92: =(AT92-AT91)/(Table1[[#This Row],[crankshaft degrees]]-I91) -> -1.8181818e-05 | AV92: =AT92*(((data!E$12/2)*6)/1000) -> 1.67475 | AW92: =ABS(AV92) -> 1.67475 | AX92: =AU92*(((data!E$12/2)*6)^2/1000) -> -8.0181818 | AY92: =AU92*(((data!E$12/2)*6)^3/1000) -> -168381.82
B93: =B92+2 -> 178 | C93: 0.67 | F93: =(-0.000003*B93^2+0.0011*B93)-(-0.000003*B93^2+0.0011*B93)*2 -> -0.100748 | G93: =IF(C93=0, 0, C93-F93) -> 0.770748 | H93: 6.2558 | N93: 9.1 | Q93: =(-0.0000045*B93^2+0.0015*B93) -> 0.124422 | R93: =IF(Table1[[#This Row],[IN lift corrected]]=0, 0,N93-Q93) -> 8.975578 | S93: 0 | AM93: =(Table1[[#This Row],[Column11]]-S92)/(Table1[[#This Row],[crankshaft degrees]]-B92) -> 0 | AN93: =(AM93-AM92)/(Table1[[#This Row],[crankshaft degrees]]-B92) -> 0 | AO93: =AM93*(((data!E$12/2)*6)/1000) -> 0 | AP93: =AN93*(((data!E$12/2)*6)^2/1000) -> 0 | AQ93: =AN93*(((data!E$12/2)*6/1000^3)) -> 0 | AT93: =(Table1[[#This Row],[Column8]]-H92)/(Table1[[#This Row],[crankshaft degrees]]-B92) -> 0.0766 | AU93: =(AT93-AT92)/(Table1[[#This Row],[crankshaft degrees]]-I92) -> -1.7696629e-05 | AV93: =AT93*(((data!E$12/2)*6)/1000) -> 1.6086 | AW93: =ABS(AV93) -> 1.6086 | AX93: =AU93*(((data!E$12/2)*6)^2/1000) -> -7.8042135 | AY93: =AU93*(((data!E$12/2)*6)^3/1000) -> -163888.48
B94: =B93+2 -> 180 | C94: 0.73 | D94: -0.1 | E94: 0.1 | F94: =(-0.000003*B94^2+0.0011*B94)-(-0.000003*B94^2+0.0011*B94)*2 -> -0.1008 | G94: =IF(C94=0, 0, C94-F94) -> 0.8308 | H94: 6.4024 | N94: 9.03 | Q94: =(-0.0000045*B94^2+0.0015*B94) -> 0.1242 | R94: =IF(Table1[[#This Row],[IN lift corrected]]=0, 0,N94-Q94) -> 8.9058 | S94: 0 | AM94: =(Table1[[#This Row],[Column11]]-S93)/(Table1[[#This Row],[crankshaft degrees]]-B93) -> 0 | AN94: =(AM94-AM93)/(Table1[[#This Row],[crankshaft degrees]]-B93) -> 0 | AO94: =AM94*(((data!E$12/2)*6)/1000) -> 0 | AP94: =AN94*(((data!E$12/2)*6)^2/1000) -> 0 | AQ94: =AN94*(((data!E$12/2)*6/1000^3)) -> 0 | AT94: =(Table1[[#This Row],[Column8]]-H93)/(Table1[[#This Row],[crankshaft degrees]]-B93) -> 0.0733 | AU94: =(AT94-AT93)/(Table1[[#This Row],[crankshaft degrees]]-I93) -> -1.8333333e-05 | AV94: =AT94*(((data!E$12/2)*6)/1000) -> 1.5393 | AW94: =ABS(AV94) -> 1.5393 | AX94: =AU94*(((data!E$12/2)*6)^2/1000) -> -8.085 | AY94: =AU94*(((data!E$12/2)*6)^3/1000) -> -169785
B95: =B94+2 -> 182 | C95: 0.77 | F95: =(-0.000003*B95^2+0.0011*B95)-(-0.000003*B95^2+0.0011*B95)*2 -> -0.100828 | G95: =IF(C95=0, 0, C95-F95) -> 0.870828 | H95: 6.5435 | N95: 8.9 | Q95: =(-0.0000045*B95^2+0.0015*B95) -> 0.123942 | R95: =IF(Table1[[#This Row],[IN lift corrected]]=0, 0,N95-Q95) -> 8.776058 | S95: 0 | AM95: =(Table1[[#This Row],[Column11]]-S94)/(Table1[[#This Row],[crankshaft degrees]]-B94) -> 0 | AN95: =(AM95-AM94)/(Table1[[#This Row],[crankshaft degrees]]-B94) -> 0 | AO95: =AM95*(((data!E$12/2)*6)/1000) -> 0 | AP95: =AN95*(((data!E$12/2)*6)^2/1000) -> 0 | AQ95: =AN95*(((data!E$12/2)*6/1000^3)) -> 0 | AT95: =(Table1[[#This Row],[Column8]]-H94)/(Table1[[#This Row],[crankshaft degrees]]-B94) -> 0.07055 | AU95: =(AT95-AT94)/(Table1[[#This Row],[crankshaft degrees]]-I94) -> -1.510989e-05 | AV95: =AT95*(((data!E$12/2)*6)/1000) -> 1.48155 | AW95: =ABS(AV95) -> 1.48155 | AX95: =AU95*(((data!E$12/2)*6)^2/1000) -> -6.6634615 | AY95: =AU95*(((data!E$12/2)*6)^3/1000) -> -139932.69
B96: =B95+2 -> 184 | C96: 0.82 | F96: =(-0.000003*B96^2+0.0011*B96)-(-0.000003*B96^2+0.0011*B96)*2 -> -0.100832 | G96: =IF(C96=0, 0, C96-F96) -> 0.920832 | H96: 6.6845 | N96: 8.71 | O96: 0.14 | Q96: =(-0.0000045*B96^2+0.0015*B96) -> 0.123648 | R96: =IF(Table1[[#This Row],[IN lift corrected]]=0, 0,N96-Q96) -> 8.586352 | S96: 0 | AM96: =(Table1[[#This Row],[Column11]]-S95)/(Table1[[#This Row],[crankshaft degrees]]-B95) -> 0 | AN96: =(AM96-AM95)/(Table1[[#This Row],[crankshaft degrees]]-B95) -> 0 | AO96: =AM96*(((data!E$12/2)*6)/1000) -> 0 | AP96: =AN96*(((data!E$12/2)*6)^2/1000) -> 0 | AQ96: =AN96*(((data!E$12/2)*6/1000^3)) -> 0 | AT96: =(Table1[[#This Row],[Column8]]-H95)/(Table1[[#This Row],[crankshaft degrees]]-B95) -> 0.0705 | AU96: =(AT96-AT95)/(Table1[[#This Row],[crankshaft degrees]]-I95) -> -2.7173913e-07 | AV96: =AT96*(((data!E$12/2)*6)/1000) -> 1.4805 | AW96: =ABS(AV96) -> 1.4805 | AX96: =AU96*(((data!E$12/2)*6)^2/1000) -> -0.11983696 | AY96: =AU96*(((data!E$12/2)*6)^3/1000) -> -2516.5761
B97: =B96+2 -> 186 | C97: 0.89 | F97: =(-0.000003*B97^2+0.0011*B97)-(-0.000003*B97^2+0.0011*B97)*2 -> -0.100812 | G97: =IF(C97=0, 0, C97-F97) -> 0.990812 | H97: 6.8189 | N97: 8.5 | Q97: =(-0.0000045*B97^2+0.0015*B97) -> 0.123318 | R97: =IF(Table1[[#This Row],[IN lift corrected]]=0, 0,N97-Q97) -> 8.376682 | S97: 0 | AM97: =(Table1[[#This Row],[Column11]]-S96)/(Table1[[#This Row],[crankshaft degrees]]-B96) -> 0 | AN97: =(AM97-AM96)/(Table1[[#This Row],[crankshaft degrees]]-B96) -> 0 | AO97: =AM97*(((data!E$12/2)*6)/1000) -> 0 | AP97: =AN97*(((data!E$12/2)*6)^2/1000) -> 0 | AQ97: =AN97*(((data!E$12/2)*6/1000^3)) -> 0 | AT97: =(Table1[[#This Row],[Column8]]-H96)/(Table1[[#This Row],[crankshaft degrees]]-B96) -> 0.0672 | AU97: =(AT97-AT96)/(Table1[[#This Row],[crankshaft degrees]]-I96) -> -1.7741935e-05 | AV97: =AT97*(((data!E$12/2)*6)/1000) -> 1.4112 | AW97: =ABS(AV97) -> 1.4112 | AX97: =AU97*(((data!E$12/2)*6)^2/1000) -> -7.8241935 | AY97: =AU97*(((data!E$12/2)*6)^3/1000) -> -164308.06
B98: =B97+2 -> 188 | C98: 0.95 | F98: =(-0.000003*B98^2+0.0011*B98)-(-0.000003*B98^2+0.0011*B98)*2 -> -0.100768 | G98: =IF(C98=0, 0, C98-F98) -> 1.050768 | H98: 6.9467 | N98: 8.26 | Q98: =(-0.0000045*B98^2+0.0015*B98) -> 0.122952 | R98: =IF(Table1[[#This Row],[IN lift corrected]]=0, 0,N98-Q98) -> 8.137048 | S98: 0 | AM98: =(Table1[[#This Row],[Column11]]-S97)/(Table1[[#This Row],[crankshaft degrees]]-B97) -> 0 | AN98: =(AM98-AM97)/(Table1[[#This Row],[crankshaft degrees]]-B97) -> 0 | AO98: =AM98*(((data!E$12/2)*6)/1000) -> 0 | AP98: =AN98*(((data!E$12/2)*6)^2/1000) -> 0 | AQ98: =AN98*(((data!E$12/2)*6/1000^3)) -> 0 | AT98: =(Table1[[#This Row],[Column8]]-H97)/(Table1[[#This Row],[crankshaft degrees]]-B97) -> 0.0639 | AU98: =(AT98-AT97)/(Table1[[#This Row],[crankshaft degrees]]-I97) -> -1.7553191e-05 | AV98: =AT98*(((data!E$12/2)*6)/1000) -> 1.3419 | AW98: =ABS(AV98) -> 1.3419 | AX98: =AU98*(((data!E$12/2)*6)^2/1000) -> -7.7409574 | AY98: =AU98*(((data!E$12/2)*6)^3/1000) -> -162560.11
B99: =B98+2 -> 190 | C99: 1.02 | F99: =(-0.000003*B99^2+0.0011*B99)-(-0.000003*B99^2+0.0011*B99)*2 -> -0.1007 | G99: =IF(C99=0, 0, C99-F99) -> 1.1207 | H99: 7.0679 | N99: 7.98 | Q99: =(-0.0000045*B99^2+0.0015*B99) -> 0.12255 | R99: =IF(Table1[[#This Row],[IN lift corrected]]=0, 0,N99-Q99) -> 7.85745 | S99: 0 | AM99: =(Table1[[#This Row],[Column11]]-S98)/(Table1[[#This Row],[crankshaft degrees]]-B98) -> 0 | AN99: =(AM99-AM98)/(Table1[[#This Row],[crankshaft degrees]]-B98) -> 0 | AO99: =AM99*(((data!E$12/2)*6)/1000) -> 0 | AP99: =AN99*(((data!E$12/2)*6)^2/1000) -> 0 | AQ99: =AN99*(((data!E$12/2)*6/1000^3)) -> 0 | AT99: =(Table1[[#This Row],[Column8]]-H98)/(Table1[[#This Row],[crankshaft degrees]]-B98) -> 0.0606 | AU99: =(AT99-AT98)/(Table1[[#This Row],[crankshaft degrees]]-I98) -> -1.7368421e-05 | AV99: =AT99*(((data!E$12/2)*6)/1000) -> 1.2726 | AW99: =ABS(AV99) -> 1.2726 | AX99: =AU99*(((data!E$12/2)*6)^2/1000) -> -7.6594737 | AY99: =AU99*(((data!E$12/2)*6)^3/1000) -> -160848.95
B100: =B99+2 -> 192 | C100: 1.1 | F100: =(-0.000003*B100^2+0.0011*B100)-(-0.000003*B100^2+0.0011*B100)*2 -> -0.100608 | G100: =IF(C100=0, 0, C100-F100) -> 1.200608 | H100: 7.1822 | N100: 7.7 | Q100: =(-0.0000045*B100^2+0.0015*B100) -> 0.122112 | R100: =IF(Table1[[#This Row],[IN lift corrected]]=0, 0,N100-Q100) -> 7.577888 | S100: 0 | AM100: =(Table1[[#This Row],[Column11]]-S99)/(Table1[[#This Row],[crankshaft degrees]]-B99) -> 0 | AN100: =(AM100-AM99)/(Table1[[#This Row],[crankshaft degrees]]-B99) -> 0 | AO100: =AM100*(((data!E$12/2)*6)/1000) -> 0 | AP100: =AN100*(((data!E$12/2)*6)^2/1000) -> 0 | AQ100: =AN100*(((data!E$12/2)*6/1000^3)) -> 0 | AT100: =(Table1[[#This Row],[Column8]]-H99)/(Table1[[#This Row],[crankshaft degrees]]-B99) -> 0.05715 | AU100: =(AT100-AT99)/(Table1[[#This Row],[crankshaft degrees]]-I99) -> -1.796875e-05 | AV100: =AT100*(((data!E$12/2)*6)/1000) -> 1.20015 | AW100: =ABS(AV100) -> 1.20015 | AX100: =AU100*(((data!E$12/2)*6)^2/1000) -> -7.9242187 | AY100: =AU100*(((data!E$12/2)*6)^3/1000) -> -166408.59
...

Sheet Sheet5
G2: RPM | H2: 1500 | I2: 2000 | J2: 2500 | K2: 3000 | L2: 3500 | M2: 4000 | N2: 4500 | O2: 5000 | P2: 5500 | Q2: 6000 | R2: 6500 | S2: 7000 | T2: 7500 | U2: 8000 | V2: 8500
G3: time per deg increment s | H3: =($B6-$B5)/(H2*6) -> 0.00022222222 | I3: =($B6-$B5)/(I2*6) -> 0.00016666667 | J3: =($B6-$B5)/(J2*6) -> 0.00013333333 | K3: =($B6-$B5)/(K2*6) -> 0.00011111111 | L3: =($B6-$B5)/(L2*6) -> 9.5238095e-05 | M3: =($B6-$B5)/(M2*6) -> 8.3333333e-05 | N3: =($B6-$B5)/(N2*6) -> 7.4074074e-05 | O3: =($B6-$B5)/(O2*6) -> 6.6666667e-05 | ... V3: =($B6-$B5)/(V2*6) -> 3.9215686e-05
B4: crank degrees | C4: inlet lift | D4: Cf | E4: median ave lift in time interval | F4: Cf in time interval | O4: flow-time
B5: 0 | C5: =valves!S4 -> 0 | D5: =(-0.5992*C5^2)+(15.995*C5) -> 0 | G5: total | H5: =SUM(H6:H365) -> 1.7479432 | I5: =SUM(I6:I365) -> 1.3109574 | J5: =SUM(J6:J365) -> 1.0487659 | K5: =SUM(K6:K365) -> 0.8739716 | L5: =SUM(L6:L365) -> 0.74911851 | M5: =SUM(M6:M365) -> 0.6554787 | N5: =SUM(N6:N365) -> 0.58264773 | O5: =SUM(O6:O365) -> 0.52438296 | ... V5: =SUM(V6:V365) -> 0.30846056
B6: =B5+2 -> 2 | C6: =valves!S5 -> 0 | D6: =(-0.5992*C6^2)+(15.995*C6) -> 0 | E6: =((C6-C5)/2)+C5 -> 0 | F6: =(-0.5992*E6^2)+(15.995*E6) -> 0 | H6: =$F6*H$3 -> 0 | I6: =$F6*I$3 -> 0 | J6: =$F6*J$3 -> 0 | K6: =$F6*K$3 -> 0 | L6: =$F6*L$3 -> 0 | M6: =$F6*M$3 -> 0 | N6: =$F6*N$3 -> 0 | O6: =$F6*O$3 -> 0 | ... V6: =$F6*V$3 -> 0
B7: =B6+2 -> 4 | C7: =valves!S6 -> 0 | D7: =(-0.5992*C7^2)+(15.995*C7) -> 0 | E7: =((C7-C6)/2)+C6 -> 0 | F7: =(-0.5992*E7^2)+(15.995*E7) -> 0 | H7: =$F7*H$3 -> 0 | I7: =$F7*I$3 -> 0 | J7: =$F7*J$3 -> 0 | K7: =$F7*K$3 -> 0 | L7: =$F7*L$3 -> 0 | M7: =$F7*M$3 -> 0 | N7: =$F7*N$3 -> 0 | O7: =$F7*O$3 -> 0 | ... V7: =$F7*V$3 -> 0
B8: =B7+2 -> 6 | C8: =valves!S7 -> 0 | D8: =(-0.5992*C8^2)+(15.995*C8) -> 0 | E8: =((C8-C7)/2)+C7 -> 0 | F8: =(-0.5992*E8^2)+(15.995*E8) -> 0 | H8: =$F8*H$3 -> 0 | I8: =$F8*I$3 -> 0 | J8: =$F8*J$3 -> 0 | K8: =$F8*K$3 -> 0 | L8: =$F8*L$3 -> 0 | M8: =$F8*M$3 -> 0 | N8: =$F8*N$3 -> 0 | O8: =$F8*O$3 -> 0 | ... V8: =$F8*V$3 -> 0
B9: =B8+2 -> 8 | C9: =valves!S8 -> 0 | D9: =(-0.5992*C9^2)+(15.995*C9) -> 0 | E9: =((C9-C8)/2)+C8 -> 0 | F9: =(-0.5992*E9^2)+(15.995*E9) -> 0 | H9: =$F9*H$3 -> 0 | I9: =$F9*I$3 -> 0 | J9: =$F9*J$3 -> 0 | K9: =$F9*K$3 -> 0 | L9: =$F9*L$3 -> 0 | M9: =$F9*M$3 -> 0 | N9: =$F9*N$3 -> 0 | O9: =$F9*O$3 -> 0 | ... V9: =$F9*V$3 -> 0
B10: =B9+2 -> 10 | C10: =valves!S9 -> 0 | D10: =(-0.5992*C10^2)+(15.995*C10) -> 0 | E10: =((C10-C9)/2)+C9 -> 0 | F10: =(-0.5992*E10^2)+(15.995*E10) -> 0 | H10: =$F10*H$3 -> 0 | I10: =$F10*I$3 -> 0 | J10: =$F10*J$3 -> 0 | K10: =$F10*K$3 -> 0 | L10: =$F10*L$3 -> 0 | M10: =$F10*M$3 -> 0 | N10: =$F10*N$3 -> 0 | O10: =$F10*O$3 -> 0 | ... V10: =$F10*V$3 -> 0
B11: =B10+2 -> 12 | C11: =valves!S10 -> 0 | D11: =(-0.5992*C11^2)+(15.995*C11) -> 0 | E11: =((C11-C10)/2)+C10 -> 0 | F11: =(-0.5992*E11^2)+(15.995*E11) -> 0 | H11: =$F11*H$3 -> 0 | I11: =$F11*I$3 -> 0 | J11: =$F11*J$3 -> 0 | K11: =$F11*K$3 -> 0 | L11: =$F11*L$3 -> 0 | M11: =$F11*M$3 -> 0 | N11: =$F11*N$3 -> 0 | O11: =$F11*O$3 -> 0 | ... V11: =$F11*V$3 -> 0
B12: =B11+2 -> 14 | C12: =valves!S11 -> 0 | D12: =(-0.5992*C12^2)+(15.995*C12) -> 0 | E12: =((C12-C11)/2)+C11 -> 0 | F12: =(-0.5992*E12^2)+(15.995*E12) -> 0 | H12: =$F12*H$3 -> 0 | I12: =$F12*I$3 -> 0 | J12: =$F12*J$3 -> 0 | K12: =$F12*K$3 -> 0 | L12: =$F12*L$3 -> 0 | M12: =$F12*M$3 -> 0 | N12: =$F12*N$3 -> 0 | O12: =$F12*O$3 -> 0 | ... V12: =$F12*V$3 -> 0
B13: =B12+2 -> 16 | C13: =valves!S12 -> 0 | D13: =(-0.5992*C13^2)+(15.995*C13) -> 0 | E13: =((C13-C12)/2)+C12 -> 0 | F13: =(-0.5992*E13^2)+(15.995*E13) -> 0 | H13: =$F13*H$3 -> 0 | I13: =$F13*I$3 -> 0 | J13: =$F13*J$3 -> 0 | K13: =$F13*K$3 -> 0 | L13: =$F13*L$3 -> 0 | M13: =$F13*M$3 -> 0 | N13: =$F13*N$3 -> 0 | O13: =$F13*O$3 -> 0 | ... V13: =$F13*V$3 -> 0
B14: =B13+2 -> 18 | C14: =valves!S13 -> 0 | D14: =(-0.5992*C14^2)+(15.995*C14) -> 0 | E14: =((C14-C13)/2)+C13 -> 0 | F14: =(-0.5992*E14^2)+(15.995*E14) -> 0 | H14: =$F14*H$3 -> 0 | I14: =$F14*I$3 -> 0 | J14: =$F14*J$3 -> 0 | K14: =$F14*K$3 -> 0 | L14: =$F14*L$3 -> 0 | M14: =$F14*M$3 -> 0 | N14: =$F14*N$3 -> 0 | O14: =$F14*O$3 -> 0 | ... V14: =$F14*V$3 -> 0
B15: =B14+2 -> 20 | C15: =valves!S14 -> 0 | D15: =(-0.5992*C15^2)+(15.995*C15) -> 0 | E15: =((C15-C14)/2)+C14 -> 0 | F15: =(-0.5992*E15^2)+(15.995*E15) -> 0 | H15: =$F15*H$3 -> 0 | I15: =$F15*I$3 -> 0 | J15: =$F15*J$3 -> 0 | K15: =$F15*K$3 -> 0 | L15: =$F15*L$3 -> 0 | M15: =$F15*M$3 -> 0 | N15: =$F15*N$3 -> 0 | O15: =$F15*O$3 -> 0 | ... V15: =$F15*V$3 -> 0
B16: =B15+2 -> 22 | C16: =valves!S15 -> 0 | D16: =(-0.5992*C16^2)+(15.995*C16) -> 0 | E16: =((C16-C15)/2)+C15 -> 0 | F16: =(-0.5992*E16^2)+(15.995*E16) -> 0 | H16: =$F16*H$3 -> 0 | I16: =$F16*I$3 -> 0 | J16: =$F16*J$3 -> 0 | K16: =$F16*K$3 -> 0 | L16: =$F16*L$3 -> 0 | M16: =$F16*M$3 -> 0 | N16: =$F16*N$3 -> 0 | O16: =$F16*O$3 -> 0 | ... V16: =$F16*V$3 -> 0
B17: =B16+2 -> 24 | C17: =valves!S16 -> 0 | D17: =(-0.5992*C17^2)+(15.995*C17) -> 0 | E17: =((C17-C16)/2)+C16 -> 0 | F17: =(-0.5992*E17^2)+(15.995*E17) -> 0 | H17: =$F17*H$3 -> 0 | I17: =$F17*I$3 -> 0 | J17: =$F17*J$3 -> 0 | K17: =$F17*K$3 -> 0 | L17: =$F17*L$3 -> 0 | M17: =$F17*M$3 -> 0 | N17: =$F17*N$3 -> 0 | O17: =$F17*O$3 -> 0 | ... V17: =$F17*V$3 -> 0
... B24: =B23+2 -> 38 | C24: =valves!S23 -> 0 | D24: =(-0.5992*C24^2)+(15.995*C24) -> 0 | E24: =((C24-C23)/2)+C23 -> 0 | F24: =(-0.5992*E24^2)+(15.995*E24) -> 0 | H24: =$F24*H$3 -> 0 | I24: =$F24*I$3 -> 0 | J24: =$F24*J$3 -> 0 | K24: =$F24*K$3 -> 0 | L24: =$F24*L$3 -> 0 | M24: =$F24*M$3 -> 0 | N24: =$F24*N$3 -> 0 | O24: =$F24*O$3 -> 0 | ... V24: =$F24*V$3 -> 0
B25: =B24+2 -> 40 | C25: =valves!S154 -> 0.0143 | D25: =(-0.5992*C25^2)+(15.995*C25) -> 0.22860597 | E25: =((C25-C24)/2)+C24 -> 0.00715 | F25: =(-0.5992*E25^2)+(15.995*E25) -> 0.11433362 | H25: =$F25*H$3 -> 2.5407471e-05 | I25: =$F25*I$3 -> 1.9055603e-05 | J25: =$F25*J$3 -> 1.5244482e-05 | K25: =$F25*K$3 -> 1.2703735e-05 | L25: =$F25*L$3 -> 1.0888916e-05 | M25: =$F25*M$3 -> 9.5278014e-06 | N25: =$F25*N$3 -> 8.4691568e-06 | O25: =$F25*O$3 -> 7.6222412e-06 | ... V25: =$F25*V$3 -> 4.4836713e-06
B26: =B25+2 -> 42 | C26: =valves!S155 -> 0.0257 | D26: =(-0.5992*C26^2)+(15.995*C26) -> 0.41067573 | E26: =((C26-C25)/2)+C25 -> 0.02 | F26: =(-0.5992*E26^2)+(15.995*E26) -> 0.31966032 | H26: =$F26*H$3 -> 7.1035627e-05 | I26: =$F26*I$3 -> 5.327672e-05 | J26: =$F26*J$3 -> 4.2621376e-05 | K26: =$F26*K$3 -> 3.5517813e-05 | L26: =$F26*L$3 -> 3.044384e-05 | M26: =$F26*M$3 -> 2.663836e-05 | N26: =$F26*N$3 -> 2.3678542e-05 | O26: =$F26*O$3 -> 2.1310688e-05 | ... V26: =$F26*V$3 -> 1.2535699e-05
B27: =B26+2 -> 44 | C27: =valves!S156 -> 0.0332 | D27: =(-0.5992*C27^2)+(15.995*C27) -> 0.53037354 | E27: =((C27-C26)/2)+C26 -> 0.02945 | F27: =(-0.5992*E27^2)+(15.995*E27) -> 0.47053306 | H27: =$F27*H$3 -> 0.0001045629 | I27: =$F27*I$3 -> 7.8422177e-05 | J27: =$F27*J$3 -> 6.2737742e-05 | K27: =$F27*K$3 -> 5.2281451e-05 | L27: =$F27*L$3 -> 4.4812673e-05 | M27: =$F27*M$3 -> 3.9211089e-05 | N27: =$F27*N$3 -> 3.4854301e-05 | O27: =$F27*O$3 -> 3.1368871e-05 | ... V27: =$F27*V$3 -> 1.8452277e-05
B28: =B27+2 -> 46 | C28: =valves!S157 -> 0.0483 | D28: =(-0.5992*C28^2)+(15.995*C28) -> 0.77116063 | E28: =((C28-C27)/2)+C27 -> 0.04075 | F28: =(-0.5992*E28^2)+(15.995*E28) -> 0.65080124 | H28: =$F28*H$3 -> 0.0001446225 | I28: =$F28*I$3 -> 0.00010846687 | J28: =$F28*J$3 -> 8.6773499e-05 | K28: =$F28*K$3 -> 7.2311249e-05 | L28: =$F28*L$3 -> 6.1981071e-05 | M28: =$F28*M$3 -> 5.4233437e-05 | N28: =$F28*N$3 -> 4.8207499e-05 | O28: =$F28*O$3 -> 4.3386749e-05 | ... V28: =$F28*V$3 -> 2.5521617e-05
B29: =B28+2 -> 48 | C29: =valves!S158 -> 0.0658 | D29: =(-0.5992*C29^2)+(15.995*C29) -> 1.0498767 | E29: =((C29-C28)/2)+C28 -> 0.05705 | F29: =(-0.5992*E29^2)+(15.995*E29) -> 0.91056453 | H29: =$F29*H$3 -> 0.00020234767 | I29: =$F29*I$3 -> 0.00015176076 | J29: =$F29*J$3 -> 0.0001214086 | K29: =$F29*K$3 -> 0.00010117384 | L29: =$F29*L$3 -> 8.6720432e-05 | M29: =$F29*M$3 -> 7.5880378e-05 | N29: =$F29*N$3 -> 6.7449225e-05 | O29: =$F29*O$3 -> 6.0704302e-05 | ... V29: =$F29*V$3 -> 3.5708413e-05
B30: =B29+2 -> 50 | C30: =valves!S159 -> 0.0834 | D30: =(-0.5992*C30^2)+(15.995*C30) -> 1.3298152 | E30: =((C30-C29)/2)+C29 -> 0.0746 | F30: =(-0.5992*E30^2)+(15.995*E30) -> 1.1898924 | H30: =$F30*H$3 -> 0.00026442052 | I30: =$F30*I$3 -> 0.00019831539 | J30: =$F30*J$3 -> 0.00015865231 | K30: =$F30*K$3 -> 0.00013221026 | L30: =$F30*L$3 -> 0.00011332308 | M30: =$F30*M$3 -> 9.9157696e-05 | N30: =$F30*N$3 -> 8.8140175e-05 | O30: =$F30*O$3 -> 7.9326157e-05 | ... V30: =$F30*V$3 -> 4.6662445e-05
B31: =B30+2 -> 52 | C31: =valves!S160 -> 0.1011 | D31: =(-0.5992*C31^2)+(15.995*C31) -> 1.61097 | E31: =((C31-C30)/2)+C30 -> 0.09225 | F31: =(-0.5992*E31^2)+(15.995*E31) -> 1.4704395 | H31: =$F31*H$3 -> 0.00032676434 | I31: =$F31*I$3 -> 0.00024507325 | J31: =$F31*J$3 -> 0.0001960586 | K31: =$F31*K$3 -> 0.00016338217 | L31: =$F31*L$3 -> 0.00014004186 | M31: =$F31*M$3 -> 0.00012253663 | N31: =$F31*N$3 -> 0.00010892145 | O31: =$F31*O$3 -> 9.8029301e-05 | ... V31: =$F31*V$3 -> 5.7664295e-05
B32: =B31+2 -> 54 | C32: =valves!S161 -> 0.1188 | D32: =(-0.5992*C32^2)+(15.995*C32) -> 1.8917492 | E32: =((C32-C31)/2)+C31 -> 0.10995 | F32: =(-0.5992*E32^2)+(15.995*E32) -> 1.7514065 | H32: =$F32*H$3 -> 0.00038920145 | I32: =$F32*I$3 -> 0.00029190109 | J32: =$F32*J$3 -> 0.00023352087 | K32: =$F32*K$3 -> 0.00019460072 | L32: =$F32*L$3 -> 0.00016680062 | M32: =$F32*M$3 -> 0.00014595054 | N32: =$F32*N$3 -> 0.00012973382 | O32: =$F32*O$3 -> 0.00011676043 | ... V32: =$F32*V$3 -> 6.8682609e-05
B33: =B32+2 -> 56 | C33: =valves!S162 -> 0.1365 | D33: =(-0.5992*C33^2)+(15.995*C33) -> 2.1721531 | E33: =((C33-C32)/2)+C32 -> 0.12765 | F33: =(-0.5992*E33^2)+(15.995*E33) -> 2.0319981 | H33: =$F33*H$3 -> 0.00045155513 | I33: =$F33*I$3 -> 0.00033866635 | J33: =$F33*J$3 -> 0.00027093308 | K33: =$F33*K$3 -> 0.00022577756 | L33: =$F33*L$3 -> 0.00019352363 | M33: =$F33*M$3 -> 0.00016933317 | N33: =$F33*N$3 -> 0.00015051838 | O33: =$F33*O$3 -> 0.00013546654 | ... V33: =$F33*V$3 -> 7.9686199e-05
B34: =B33+2 -> 58 | C34: =valves!S163 -> 0.1542 | D34: =(-0.5992*C34^2)+(15.995*C34) -> 2.4521814 | E34: =((C34-C33)/2)+C33 -> 0.14535 | F34: =(-0.5992*E34^2)+(15.995*E34) -> 2.3122142 | H34: =$F34*H$3 -> 0.00051382537 | I34: =$F34*I$3 -> 0.00038536903 | J34: =$F34*J$3 -> 0.00030829522 | K34: =$F34*K$3 -> 0.00025691269 | L34: =$F34*L$3 -> 0.00022021087 | M34: =$F34*M$3 -> 0.00019268451 | N34: =$F34*N$3 -> 0.00017127512 | O34: =$F34*O$3 -> 0.00015414761 | ... V34: =$F34*V$3 -> 9.0675066e-05
B35: =B34+2 -> 60 | C35: =valves!S164 -> 0.172 | D35: =(-0.5992*C35^2)+(15.995*C35) -> 2.7334133 | E35: =((C35-C34)/2)+C34 -> 0.1631 | F35: =(-0.5992*E35^2)+(15.995*E35) -> 2.5928448 | H35: =$F35*H$3 -> 0.00057618774 | I35: =$F35*I$3 -> 0.0004321408 | J35: =$F35*J$3 -> 0.00034571264 | K35: =$F35*K$3 -> 0.00028809387 | L35: =$F35*L$3 -> 0.0002469376 | M35: =$F35*M$3 -> 0.0002160704 | N35: =$F35*N$3 -> 0.00019206258 | O35: =$F35*O$3 -> 0.00017285632 | ... V35: =$F35*V$3 -> 0.00010168019
B36: =B35+2 -> 62 | C36: =valves!S165 -> 0.1882 | D36: =(-0.5992*C36^2)+(15.995*C36) -> 2.9890358 | E36: =((C36-C35)/2)+C35 -> 0.1801 | F36: =(-0.5992*E36^2)+(15.995*E36) -> 2.8612638 | H36: =$F36*H$3 -> 0.00063583641 | I36: =$F36*I$3 -> 0.00047687731 | J36: =$F36*J$3 -> 0.00038150185 | K36: =$F36*K$3 -> 0.0003179182 | L36: =$F36*L$3 -> 0.00027250132 | M36: =$F36*M$3 -> 0.00023843865 | N36: =$F36*N$3 -> 0.00021194547 | O36: =$F36*O$3 -> 0.00019075092 | ... V36: =$F36*V$3 -> 0.00011220643
... B365: =B364+2 -> 720 | C365: =valves!S494 -> 0 | D365: =(-0.5992*C365^2)+(15.995*C365) -> 0 | E365: =((C365-C364)/2)+C364 -> 0 | F365: =(-0.5992*E365^2)+(15.995*E365) -> 0 | H365: =$F365*H$3 -> 0 | I365: =$F365*I$3 -> 0 | J365: =$F365*J$3 -> 0 | K365: =$F365*K$3 -> 0 | L365: =$F365*L$3 -> 0 | M365: =$F365*M$3 -> 0 | N365: =$F365*N$3 -> 0 | O365: =$F365*O$3 -> 0 | ... V365: =$F365*V$3 -> 0
