Workbook

Sheet data
A1: data
H5: valvetrain
D6: technical info | H6: mass kg
D7: bore mm | E7: 87.5
D8: stroke mm | E8: 83.1
H9: intake
D10: crank radius mm | E10: 41.5 | H10: valve | I10: 0.032
D11: con rod length mm | E11: 146.25 | H11: spring | I11: 0.037
D12: rpm limit | E12: 7000 | H12: retainer | I12: 0.012
D13: compression ratio | E13: 10.8/1 | H13: bucket | I13: 0.033
H14: total | I14: =SUM(I10:I13) -> 0.114
D15: camshaft base circle mm | H15: exhaust
D16: intake | E16: 26 | H16: valve | I16: 0.031
D17: exhaust | E17: 26 | H17: spring | I17: 0.035
D18: valve clearance mm | H18: retainer | I18: 0.012
D19: intake | E19: 0.33 | H19: bucket | I19: 0.033
D20: exhaust | E20: 0.3 | H20: total | I20: =SUM(I16:I19) -> 0.111
H22: valve springs
H23: free length m | I23: 0.045
H24: installed length m | I24: 0.038
H25: rate Nm
H26: inlet | I26: 30000
H27: exhaust | I27: 21000

Sheet flow
H1: SuperFlow SF-110 Test Data
C4: Test Description: | K4: Test Number
C5: Head Description: | K5: Serial Number
C6: Intake Valve: | K6: Valve Seat Angle | N6: Degrees
C7: Intake Port: | K7: Port Volume | N7: cc
C8: Radiused Inlet: | K8: Port Length | N8: m
C9: Exhaust Valve: | K9: Exhaust Seat Angle | N9: Degrees
C10: Intake Manifold: | K10: Runner Length | N10: m
C11: Cylinder Bore: | D11: 87.5 | K11: Stroke | M11: 83.1 | N11: mm
C12: Test Operator: | K12: Head Porter
H14: Test Setup Data
D15: Diameter | F15: Stem | H15: Lift Increments | J15: Effective Area | L15: Leakage | N15: Seat Width
C16: Intake Valve | D16: 35 | E16: mm | F16: 5.5 | G16: mm | H16: 1.75 | I16: mm | J16: 18.77 | K16: sq.cm | L16: 0 | M16: litres/sec | O16: mm
C17: Exhaust Valve | D17: 30 | E17: mm | F17: 5.5 | G17: mm | H17: 1.5 | I17: mm | J17: 13.74 | K17: sq.cm | L17: 0 | M17: litres/sec | O17: mm
C19: Valve Lift/Diameter (L/D) Ratio | D19: =D20/$D16 -> 0.05 | E19: =E20/$D16 -> 0.1 | F19: =F20/$D16 -> 0.15 | G19: =G20/$D16 -> 0.2 | H19: =H20/$D16 -> 0.25 | I19: =I20/$D16 -> 0.3 | J19: =J20/$D16 -> 0.35 | K19: =K20/$D16 -> 0.4 | ... M19: =M20/$D16 -> 0.5
C20: A. Intake Valve Lift (mm) | D20: =H16 -> 1.75 | E20: =D20+$H16 -> 3.5 | F20: =E20+$H16 -> 5.25 | G20: =F20+$H16 -> 7 | H20: =G20+$H16 -> 8.75 | I20: =H20+$H16 -> 10.5 | J20: =I20+$H16 -> 12.25 | K20: =J20+$H16 -> 14 | L20: =K20+$H16 -> 15.75 | M20: =L20+$H16 -> 17.5
C21: B. Exhaust Valve Lift (mm) | D21: =$D17*D19 -> 1.5 | E21: =$D17*E19 -> 3 | F21: =$D17*F19 -> 4.5 | G21: =$D17*G19 -> 6 | H21: =$D17*H19 -> 7.5 | I21: =$D17*I19 -> 9 | J21: =$D17*J19 -> 10.5 | K21: =$D17*K19 -> 12 | ... M21: =$D17*M19 -> 15
C23: Range | D23: 1 | E23: 2 | F23: 3 | G23: 4 | H23: 5 | I23: 6 | K23: ideal flow | L23: 138cfm/sqinch
C24: E. Intake | D24: 16.5 | E24: 33.2 | F24: 69.7 | G24: 138.2 | H24: 207.8 | I24: 279.5 | K24: metric | L24: 420.2 | M24: l/s/sqcm
C25: F. Exhaust | D25: 19.5 | E25: 37.1 | F25: 75 | G25: 148.5 | H25: 219.6 | I25: 284.6
H27: Intake Valve Test Data
B28: 1 | C28: Test Number | D28: 1 | E28: 2 | F28: 3 | G28: 4 | H28: 5 | I28: 6 | J28: 7 | K28: 8 | L28: 9 | M28: 10 | N28: 11
B29: 2 | C29: Test Pressure | E29: 25 | F29: 25 | G29: 25 | H29: 25 | I29: 25 | J29: 25 | K29: 25 | L29: 25 | M29: 25
B30: 3 | C30: Valve Lift (A) | D30: 0 | E30: =D20 -> 1.75 | F30: =E20 -> 3.5 | G30: =F20 -> 5.25 | H30: =G20 -> 7 | I30: =H20 -> 8.75 | J30: =I20 -> 10.5 | K30: =J20 -> 12.25 | L30: =K20 -> 14 | M30: 15.2
B31: 4 | C31: Flow Range (1-6) | E31: 2 | F31: 3 | G31: 4 | H31: 4 | I31: 4 | J31: 4 | K31: 4 | L31: 4 | M31: 4
B32: 5 | C32: Flow Scale Reading (%) | E32: 82 | F32: 75 | G32: 51 | H32: 62 | I32: 68 | J32: 73 | K32: 76 | L32: 77 | M32: 78.5
B33: 6 | C33: Flow Scale (5./100) | E33: =E32/100 -> 0.82 | F33: =F32/100 -> 0.75 | G33: =G32/100 -> 0.51 | H33: =H32/100 -> 0.62 | I33: =I32/100 -> 0.68 | J33: =J32/100 -> 0.73 | K33: =K32/100 -> 0.76 | L33: =L32/100 -> 0.77 | M33: =M32/100 -> 0.785
B34: 7 | C34: Raw Test Flow l/s (6. x E) | E34: =E33*E24 -> 27.224 | F34: =F33*F24 -> 52.275 | G34: =G33*$G24 -> 70.482 | H34: =H33*$G24 -> 85.684 | I34: =I33*$G24 -> 93.976 | J34: =J33*$G24 -> 100.886 | K34: =K33*$G24 -> 105.032 | L34: =L33*$G24 -> 106.414 | M34: =M33*$G24 -> 108.487
B35: 8 | C35: Leakage (l/s) | E35: 0 | F35: 0 | G35: 0 | H35: 0 | I35: 0 | J35: 0 | K35: 0 | L35: 0 | M35: 0
B36: 9 | C36: Test Flow (l/s) (7-8) | D36: 0 | E36: =E34-E35 -> 27.224 | F36: =F34-F35 -> 52.275 | G36: =G34-G35 -> 70.482 | H36: =H34-H35 -> 85.684 | I36: =I34-I35 -> 93.976 | J36: =J34-J35 -> 100.886 | K36: =K34-K35 -> 105.032 | L36: =L34-L35 -> 106.414 | M36: =M34-M35 -> 108.487
B37: 10 | C37: Test Flow (l/s/sq cm) | D37: 0 | E37: =E36/$J16 -> 1.4503996 | F37: =F36/$J16 -> 2.7850293 | G37: =G36/$J16 -> 3.7550346 | H37: =H36/$J16 -> 4.5649441 | I37: =I36/$J16 -> 5.0067128 | J37: =J36/$J16 -> 5.3748535 | K37: =K36/$J16 -> 5.5957379 | L37: =L36/$J16 -> 5.669366 | M37: =M36/$J16 -> 5.7798082
B38: 11 | C38: Cf | D38: 0 | E38: =E37/$L24 -> 0.0034516887 | F38: =F37/$L24 -> 0.006627866 | G38: =G37/$L24 -> 0.0089363033 | H38: =H37/$L24 -> 0.010863741 | I38: =I37/$L24 -> 0.011915071 | J38: =J37/$L24 -> 0.012791179 | K38: =K37/$L24 -> 0.013316844 | L38: =L37/$L24 -> 0.013492066 | M38: =M37/$L24 -> 0.013754898
E39: Average Flow | G39: l/s | K39: Maximum Flow | L39: =MAX(E36:M36) -> 108.487 | M39: l/s
H41: Exhaust Valve Test Data
B42: 1 | C42: Test Number | D42: 1 | E42: 2 | F42: 3 | G42: 4 | H42: 5 | I42: 6 | J42: 7 | K42: 8 | L42: 9 | M42: 10 | N42: 11
B43: 2 | C43: Test Pressure | E43: 25 | F43: 25 | G43: 25 | H43: 25 | I43: 25 | J43: 25 | K43: 25 | L43: 25 | M43: 25 | N43: 25
B44: 3 | C44: Valve Lift (A) | D44: 0 | E44: =D21 -> 1.5 | F44: =E21 -> 3 | G44: =F21 -> 4.5 | H44: =G21 -> 6 | I44: =H21 -> 7.5 | J44: =I21 -> 9 | K44: =J21 -> 10.5 | L44: 10.9 | M44: =M21 -> 15
B45: 4 | C45: Flow Range (1-6) | E45: 1 | F45: 3 | G45: 3 | H45: 3 | I45: 3 | J45: 3 | K45: 4 | L45: 4
B46: 5 | C46: Flow Scale Reading (%) | E46: 93 | F46: 51 | G46: 73 | H46: 83 | I46: 89 | J46: 92.5 | K46: 49 | L46: 49
B47: 6 | C47: Flow Scale (5./100) | E47: =E46/100 -> 0.93 | F47: =F46/100 -> 0.51 | G47: =G46/100 -> 0.73 | H47: =H46/100 -> 0.83 | I47: =I46/100 -> 0.89 | J47: =J46/100 -> 0.925 | K47: =K46/100 -> 0.49 | L47: =L46/100 -> 0.49
...

Sheet piston
K2: piston velocity ms | M2: RPM
B3: crank angle degrees | C3: piston position from TDC mm | D3: piston velocity mm/deg | E3: piston acceleration mm/deg2 | F3: mean piston speed at max RPM m/s | G3: peak piston speed m/s | I3: 2000 | J3: 3000 | K3: 4000 | L3: 5000 | M3: 6000 | N3: =M3+1000 -> 7000 | O3: =N3+1000 -> 8000 | P3: =O3+1000 -> 9000 | S3: piston acceleration at max RPM m/s2
B4: 0 | C4: =data!E$10*(1-COS(RADIANS(B4))) + data!E$11 - SQRT(data!E$11^2 - (data!E$10*SIN(RADIANS(B4)))^2) -> 0 | D4: 0 | E4: 0 | F4: {=AVERAGE(ABS(H4:H364))} -> 0 | G4: {=MAX(ABS(H4:H364))} -> 0 | S4: =E4*(7000*6)^2/10000 -> 0 | T4: =ABS(S4) -> 0
B5: =B4+2 -> 2 | C5: =data!E$10*(1-COS(RADIANS(B5))) + data!E$11 - SQRT(data!E$11^2 - (data!E$10*SIN(RADIANS(B5)))^2) -> 0.032452332 | D5: =(C5-C4)/2 -> 0.016226166 | E5: =(D5-D4)/(C5-C4) -> 0.5 | I5: =($D5)*(I$3*6)/1000 -> 0.19471399 | J5: =($D5)*(J$3*6)/1000 -> 0.29207099 | K5: =($D5)*(K$3*6)/1000 -> 0.38942799 | L5: =($D5)*(L$3*6)/1000 -> 0.48678498 | M5: =($D5)*(M$3*6)/1000 -> 0.58414198 | N5: =($D5)*(N$3*6)/1000 -> 0.68149898 | O5: =($D5)*(O$3*6)/1000 -> 0.77885597 | P5: =($D5)*(P$3*6)/1000 -> 0.87621297 | S5: =E5*(7000*6)^2/10000 -> 88200 | T5: =ABS(S5) -> 88200
B6: =B5+2 -> 4 | C6: =data!E$10*(1-COS(RADIANS(B6))) + data!E$11 - SQRT(data!E$11^2 - (data!E$10*SIN(RADIANS(B6)))^2) -> 0.12974569 | D6: =(C6-C5)/2 -> 0.04864668 | E6: =(D6-D5)/(C6-C5) -> 0.33322432 | I6: =($D6)*(I$3*6)/1000 -> 0.58376017 | J6: =($D6)*(J$3*6)/1000 -> 0.87564025 | K6: =($D6)*(K$3*6)/1000 -> 1.1675203 | L6: =($D6)*(L$3*6)/1000 -> 1.4594004 | M6: =($D6)*(M$3*6)/1000 -> 1.7512805 | N6: =($D6)*(N$3*6)/1000 -> 2.0431606 | O6: =($D6)*(O$3*6)/1000 -> 2.3350407 | P6: =($D6)*(P$3*6)/1000 -> 2.6269207 | S6: =E6*(7000*6)^2/10000 -> 58780.771 | T6: =ABS(S6) -> 58780.771
B7: =B6+2 -> 6 | C7: =data!E$10*(1-COS(RADIANS(B7))) + data!E$11 - SQRT(data!E$11^2 - (data!E$10*SIN(RADIANS(B7)))^2) -> 0.29168934 | D7: =(C7-C6)/2 -> 0.080971821 | E7: =(D7-D6)/(C7-C6) -> 0.19960735 | I7: =($D7)*(I$3*6)/1000 -> 0.97166185 | J7: =($D7)*(J$3*6)/1000 -> 1.4574928 | K7: =($D7)*(K$3*6)/1000 -> 1.9433237 | L7: =($D7)*(L$3*6)/1000 -> 2.4291546 | M7: =($D7)*(M$3*6)/1000 -> 2.9149856 | N7: =($D7)*(N$3*6)/1000 -> 3.4008165 | O7: =($D7)*(O$3*6)/1000 -> 3.8866474 | P7: =($D7)*(P$3*6)/1000 -> 4.3724783 | S7: =E7*(7000*6)^2/10000 -> 35210.736 | T7: =ABS(S7) -> 35210.736
B8: =B7+2 -> 8 | C8: =data!E$10*(1-COS(RADIANS(B8))) + data!E$11 - SQRT(data!E$11^2 - (data!E$10*SIN(RADIANS(B8)))^2) -> 0.51796588 | D8: =(C8-C7)/2 -> 0.11313827 | E8: =(D8-D7)/(C8-C7) -> 0.14215548 | I8: =($D8)*(I$3*6)/1000 -> 1.3576593 | J8: =($D8)*(J$3*6)/1000 -> 2.0364889 | K8: =($D8)*(K$3*6)/1000 -> 2.7153185 | L8: =($D8)*(L$3*6)/1000 -> 3.3941481 | M8: =($D8)*(M$3*6)/1000 -> 4.0729778 | N8: =($D8)*(N$3*6)/1000 -> 4.7518074 | O8: =($D8)*(O$3*6)/1000 -> 5.430637 | P8: =($D8)*(P$3*6)/1000 -> 6.1094667 | S8: =E8*(7000*6)^2/10000 -> 25076.226 | T8: =ABS(S8) -> 25076.226
B9: =B8+2 -> 10 | C9: =data!E$10*(1-COS(RADIANS(B9))) + data!E$11 - SQRT(data!E$11^2 - (data!E$10*SIN(RADIANS(B9)))^2) -> 0.80813211 | D9: =(C9-C8)/2 -> 0.14508311 | E9: =(D9-D8)/(C9-C8) -> 0.11009152 | I9: =($D9)*(I$3*6)/1000 -> 1.7409974 | J9: =($D9)*(J$3*6)/1000 -> 2.611496 | K9: =($D9)*(K$3*6)/1000 -> 3.4819947 | L9: =($D9)*(L$3*6)/1000 -> 4.3524934 | M9: =($D9)*(M$3*6)/1000 -> 5.2229921 | N9: =($D9)*(N$3*6)/1000 -> 6.0934908 | O9: =($D9)*(O$3*6)/1000 -> 6.9639895 | P9: =($D9)*(P$3*6)/1000 -> 7.8344881 | S9: =E9*(7000*6)^2/10000 -> 19420.145 | T9: =ABS(S9) -> 19420.145
B10: =B9+2 -> 12 | C10: =data!E$10*(1-COS(RADIANS(B10))) + data!E$11 - SQRT(data!E$11^2 - (data!E$10*SIN(RADIANS(B10)))^2) -> 1.1616201 | D10: =(C10-C9)/2 -> 0.17674399 | E10: =(D10-D9)/(C10-C9) -> 0.08956705 | I10: =($D10)*(I$3*6)/1000 -> 2.1209279 | J10: =($D10)*(J$3*6)/1000 -> 3.1813918 | K10: =($D10)*(K$3*6)/1000 -> 4.2418557 | L10: =($D10)*(L$3*6)/1000 -> 5.3023197 | M10: =($D10)*(M$3*6)/1000 -> 6.3627836 | N10: =($D10)*(N$3*6)/1000 -> 7.4232475 | O10: =($D10)*(O$3*6)/1000 -> 8.4837115 | P10: =($D10)*(P$3*6)/1000 -> 9.5441754 | S10: =E10*(7000*6)^2/10000 -> 15799.628 | T10: =ABS(S10) -> 15799.628
B11: =B10+2 -> 14 | C11: =data!E$10*(1-COS(RADIANS(B11))) + data!E$11 - SQRT(data!E$11^2 - (data!E$10*SIN(RADIANS(B11)))^2) -> 1.5777386 | D11: =(C11-C10)/2 -> 0.20805926 | E11: =(D11-D10)/(C11-C10) -> 0.075255645 | I11: =($D11)*(I$3*6)/1000 -> 2.4967111 | J11: =($D11)*(J$3*6)/1000 -> 3.7450666 | K11: =($D11)*(K$3*6)/1000 -> 4.9934221 | L11: =($D11)*(L$3*6)/1000 -> 6.2417777 | M11: =($D11)*(M$3*6)/1000 -> 7.4901332 | N11: =($D11)*(N$3*6)/1000 -> 8.7384888 | O11: =($D11)*(O$3*6)/1000 -> 9.9868443 | P11: =($D11)*(P$3*6)/1000 -> 11.2352 | S11: =E11*(7000*6)^2/10000 -> 13275.096 | T11: =ABS(S11) -> 13275.096
B12: =B11+2 -> 16 | C12: =data!E$10*(1-COS(RADIANS(B12))) + data!E$11 - SQRT(data!E$11^2 - (data!E$10*SIN(RADIANS(B12)))^2) -> 2.0556749 | D12: =(C12-C11)/2 -> 0.23896815 | E12: =(D12-D11)/(C12-C11) -> 0.064671576 | I12: =($D12)*(I$3*6)/1000 -> 2.8676178 | J12: =($D12)*(J$3*6)/1000 -> 4.3014267 | K12: =($D12)*(K$3*6)/1000 -> 5.7352356 | L12: =($D12)*(L$3*6)/1000 -> 7.1690445 | M12: =($D12)*(M$3*6)/1000 -> 8.6028534 | N12: =($D12)*(N$3*6)/1000 -> 10.036662 | O12: =($D12)*(O$3*6)/1000 -> 11.470471 | P12: =($D12)*(P$3*6)/1000 -> 12.90428 | S12: =E12*(7000*6)^2/10000 -> 11408.066 | T12: =ABS(S12) -> 11408.066
B13: =B12+2 -> 18 | C13: =data!E$10*(1-COS(RADIANS(B13))) + data!E$11 - SQRT(data!E$11^2 - (data!E$10*SIN(RADIANS(B13)))^2) -> 2.5944968 | D13: =(C13-C12)/2 -> 0.26941094 | E13: =(D13-D12)/(C13-C12) -> 0.056498803 | I13: =($D13)*(I$3*6)/1000 -> 3.2329313 | J13: =($D13)*(J$3*6)/1000 -> 4.8493969 | K13: =($D13)*(K$3*6)/1000 -> 6.4658626 | L13: =($D13)*(L$3*6)/1000 -> 8.0823282 | M13: =($D13)*(M$3*6)/1000 -> 9.6987939 | N13: =($D13)*(N$3*6)/1000 -> 11.31526 | O13: =($D13)*(O$3*6)/1000 -> 12.931725 | P13: =($D13)*(P$3*6)/1000 -> 14.548191 | S13: =E13*(7000*6)^2/10000 -> 9966.3889 | T13: =ABS(S13) -> 9966.3889
B14: =B13+2 -> 20 | C14: =data!E$10*(1-COS(RADIANS(B14))) + data!E$11 - SQRT(data!E$11^2 - (data!E$10*SIN(RADIANS(B14)))^2) -> 3.193155 | D14: =(C14-C13)/2 -> 0.2993291 | E14: =(D14-D13)/(C14-C13) -> 0.049975352 | I14: =($D14)*(I$3*6)/1000 -> 3.5919491 | J14: =($D14)*(J$3*6)/1000 -> 5.3879237 | K14: =($D14)*(K$3*6)/1000 -> 7.1838983 | L14: =($D14)*(L$3*6)/1000 -> 8.9798729 | M14: =($D14)*(M$3*6)/1000 -> 10.775847 | N14: =($D14)*(N$3*6)/1000 -> 12.571822 | O14: =($D14)*(O$3*6)/1000 -> 14.367797 | P14: =($D14)*(P$3*6)/1000 -> 16.163771 | S14: =E14*(7000*6)^2/10000 -> 8815.6521 | T14: =ABS(S14) -> 8815.6521
B15: =B14+2 -> 22 | C15: =data!E$10*(1-COS(RADIANS(B15))) + data!E$11 - SQRT(data!E$11^2 - (data!E$10*SIN(RADIANS(B15)))^2) -> 3.8504858 | D15: =(C15-C14)/2 -> 0.32866543 | E15: =(D15-D14)/(C15-C14) -> 0.044629477 | I15: =($D15)*(I$3*6)/1000 -> 3.9439851 | J15: =($D15)*(J$3*6)/1000 -> 5.9159777 | K15: =($D15)*(K$3*6)/1000 -> 7.8879703 | L15: =($D15)*(L$3*6)/1000 -> 9.8599628 | M15: =($D15)*(M$3*6)/1000 -> 11.831955 | N15: =($D15)*(N$3*6)/1000 -> 13.803948 | O15: =($D15)*(O$3*6)/1000 -> 15.775941 | P15: =($D15)*(P$3*6)/1000 -> 17.747933 | S15: =E15*(7000*6)^2/10000 -> 7872.6397 | T15: =ABS(S15) -> 7872.6397
B16: =B15+2 -> 24 | C16: =data!E$10*(1-COS(RADIANS(B16))) + data!E$11 - SQRT(data!E$11^2 - (data!E$10*SIN(RADIANS(B16)))^2) -> 4.5652143 | D16: =(C16-C15)/2 -> 0.35736426 | E16: =(D16-D15)/(C16-C15) -> 0.040153476 | I16: =($D16)*(I$3*6)/1000 -> 4.2883711 | J16: =($D16)*(J$3*6)/1000 -> 6.4325567 | K16: =($D16)*(K$3*6)/1000 -> 8.5767423 | L16: =($D16)*(L$3*6)/1000 -> 10.720928 | M16: =($D16)*(M$3*6)/1000 -> 12.865113 | N16: =($D16)*(N$3*6)/1000 -> 15.009299 | O16: =($D16)*(O$3*6)/1000 -> 17.153485 | P16: =($D16)*(P$3*6)/1000 -> 19.29767 | S16: =E16*(7000*6)^2/10000 -> 7083.0731 | T16: =ABS(S16) -> 7083.0731
... B184: =B183+2 -> 360 | C184: =data!E$10*(1-COS(RADIANS(B184))) + data!E$11 - SQRT(data!E$11^2 - (data!E$10*SIN(RADIANS(B184)))^2) -> 0 | D184: =(C184-C183)/2 -> -0.016226166 | E184: =(D184-D183)/(C184-C183) -> -0.99901955 | I184: =($D184)*(I$3*6)/1000 -> -0.19471399 | J184: =($D184)*(J$3*6)/1000 -> -0.29207099 | K184: =($D184)*(K$3*6)/1000 -> -0.38942799 | L184: =($D184)*(L$3*6)/1000 -> -0.48678498 | M184: =($D184)*(M$3*6)/1000 -> -0.58414198 | N184: =($D184)*(N$3*6)/1000 -> -0.68149898 | O184: =($D184)*(O$3*6)/1000 -> -0.77885597 | P184: =($D184)*(P$3*6)/1000 -> -0.87621297 | S184: =E184*(7000*6)^2/10000 -> -176227.05 | T184: =ABS(S184) -> 176227.05
B185: 2 | C185: =data!E$10*(1-COS(RADIANS(B185))) + data!E$11 - SQRT(data!E$11^2 - (data!E$10*SIN(RADIANS(B185)))^2) -> 0.032452332
B186: =B185+2 -> 4 | C186: =data!E$10*(1-COS(RADIANS(B186))) + data!E$11 - SQRT(data!E$11^2 - (data!E$10*SIN(RADIANS(B186)))^2) -> 0.12974569
B187: =B186+2 -> 6 | C187: =data!E$10*(1-COS(RADIANS(B187))) + data!E$11 - SQRT(data!E$11^2 - (data!E$10*SIN(RADIANS(B187)))^2) -> 0.29168934
B188: =B187+2 -> 8 | C188: =data!E$10*(1-COS(RADIANS(B188))) + data!E$11 - SQRT(data!E$11^2 - (data!E$10*SIN(RADIANS(B188)))^2) -> 0.51796588
B189: =B188+2 -> 10 | C189: =data!E$10*(1-COS(RADIANS(B189))) + data!E$11 - SQRT(data!E$11^2 - (data!E$10*SIN(RADIANS(B189)))^2) -> 0.80813211
B190: =B189+2 -> 12 | C190: =data!E$10*(1-COS(RADIANS(B190))) + data!E$11 - SQRT(data!E$11^2 - (data!E$10*SIN(RADIANS(B190)))^2) -> 1.1616201
B191: =B190+2 -> 14 | C191: =data!E$10*(1-COS(RADIANS(B191))) + data!E$11 - SQRT(data!E$11^2 - (data!E$10*SIN(RADIANS(B191)))^2) -> 1.5777386
B192: =B191+2 -> 16 | C192: =data!E$10*(1-COS(RADIANS(B192))) + data!E$11 - SQRT(data!E$11^2 - (data!E$10*SIN(RADIANS(B192)))^2) -> 2.0556749
B193: =B192+2 -> 18 | C193: =data!E$10*(1-COS(RADIANS(B193))) + data!E$11 - SQRT(data!E$11^2 - (data!E$10*SIN(RADIANS(B193)))^2) -> 2.5944968
B194: =B193+2 -> 20 | C194: =data!E$10*(1-COS(RADIANS(B194))) + data!E$11 - SQRT(data!E$11^2 - (data!E$10*SIN(RADIANS(B194)))^2) -> 3.193155
B195: =B194+2 -> 22 | C195: =data!E$10*(1-COS(RADIANS(B195))) + data!E$11 - SQRT(data!E$11^2 - (data!E$10*SIN(RADIANS(B195)))^2) -> 3.8504858
B196: =B195+2 -> 24 | C196: =data!E$10*(1-COS(RADIANS(B196))) + data!E$11 - SQRT(data!E$11^2 - (data!E$10*SIN(RADIANS(B196)))^2) -> 4.5652143
B197: =B196+2 -> 26 | C197: =data!E$10*(1-COS(RADIANS(B197))) + data!E$11 - SQRT(data!E$11^2 - (data!E$10*SIN(RADIANS(B197)))^2) -> 5.3359575
... B364: =B363+2 -> 360 | C364: =data!E$10*(1-COS(RADIANS(B364))) + data!E$11 - SQRT(data!E$11^2 - (data!E$10*SIN(RADIANS(B364)))^2) -> 0

Sheet valves
AP1: inlet | AV1: exhaust
B2: crank degrees | C2: EX cam lift | D2: EX runout | F2: runout smoothed | G2: EX lift corrected | H2: valve lift | N2: IN cam lift | O2: IN runout | Q2: runout smoothed | R2: IN lift corrected | S2: valve lift | AL2: at 7000 rpm | AM2: velocity mm/deg | AN2: acceleration mm/deg | AO2: velocity m/s | AP2: acceleration m/s2 | AQ2: jerk | AT2: velocity mm/deg | AU2: acceleration mm/deg | AV2: velocity m/s | AX2: acceleration m/s2 | AY2: jerk | BN2: RPM
BJ3: 4000 | BK3: 4500 | BL3: 5000 | BM3: 5500 | BN3: 6000 | BO3: 6500 | BP3: 7000 | BQ3: 7500 | BR3: 8000 | BS3: 8500 | BT3: 9000 | BU3: 9500
B4: 0 | C4: 0 | D4: 0 | F4: =(-0.000003*B4^2+0.0011*B4)-(-0.000003*B4^2+0.0011*B4)*2 -> 0 | G4: =IF(C4=0, 0, C4-F4) -> 0 | H4: 0 | N4: 0 | Q4: =(-0.0000045*B4^2+0.0015*B4) -> 0 | R4: =IF(Table1[[#This Row],[IN lift corrected]]=0, 0,N4-Q4) -> 0 | S4: 0
B5: =B4+2 -> 2 | C5: 0 | F5: =(-0.000003*B5^2+0.0011*B5)-(-0.000003*B5^2+0.0011*B5)*2 -> -0.002188 | G5: =IF(C5=0, 0, C5-F5) -> 0 | H5: 0 | N5: 0 | Q5: =(-0.0000045*B5^2+0.0015*B5) -> 0.002982 | R5: =IF(Table1[[#This Row],[IN lift corrected]]=0, 0,N5-Q5) -> 0 | S5: 0 | AM5: =(Table1[[#This Row],[Column11]]-S4)/(Table1[[#This Row],[crankshaft degrees]]-B4) -> 0 | AN5: =(AM5-AM4)/(Table1[[#This Row],[crankshaft degrees]]-B4) -> 0 | AO5: =AM5*(((data!E$12/2)*6)/1000) -> 0 | AP5: =AN5*(((data!E$12/2)*6)^2/1000) -> 0 | AQ5: =AN5*(((data!E$12/2)*6/1000^3)) -> 0 | AT5: =(Table1[[#This Row],[Column8]]-H4)/(Table1[[#This Row],[crankshaft degrees]]-B4) -> 0 | AU5: =(AT5-AT4)/(Table1[[#This Row],[crankshaft degrees]]-B4) -> 0 | AV5: =AT5*(((data!E$12/2)*6)/1000) -> 0 | AW5: =ABS(AV5) -> 0 | AX5: =AU5*(((data!E$12/2)*6)^2/1000) -> 0 | AY5: =AU5*(((data!E$12/2)*6)^3/1000) -> 0 | BH5: max acc | BJ5: {=MIN($AN5:$AN364 * (((BJ3/2)*6)^2/1000))} -> -266.4 | BK5: {=MIN($AN5:$AN364 * (((BK3/2)*6)^2/1000))} -> -337.1625 | BL5: {=MIN($AN5:$AN364 * (((BL3/2)*6)^2/1000))} -> -416.25 | BM5: {=MIN($AN5:$AN364 * (((BM3/2)*6)^2/1000))} -> -503.6625 | BN5: {=MIN($AN5:$AN364 * (((BN3/2)*6)^2/1000))} -> -599.4 | BO5: {=MIN($AN5:$AN364 * (((BO3/2)*6)^2/1000))} -> -703.4625 | BP5: {=MIN($AN5:$AN364 * (((BP3/2)*6)^2/1000))} -> -815.85 | BQ5: {=MIN($AN5:$AN364 * (((BQ3/2)*6)^2/1000))} -> -936.5625 | ... BU5: {=MIN($AN5:$AN364 * (((BU3/2)*6)^2/1000))} -> -1502.6625
B6: =B5+2 -> 4 | C6: 0 | F6: =(-0.000003*B6^2+0.0011*B6)-(-0.000003*B6^2+0.0011*B6)*2 -> -0.004352 | G6: =IF(C6=0, 0, C6-F6) -> 0 | H6: 0 | N6: 0 | O6: 0.02 | Q6: =(-0.0000045*B6^2+0.0015*B6) -> 0.005928 | R6: =IF(Table1[[#This Row],[IN lift corrected]]=0, 0,N6-Q6) -> 0 | S6: 0 | AM6: =(Table1[[#This Row],[Column11]]-S5)/(Table1[[#This Row],[crankshaft degrees]]-B5) -> 0 | AN6: =(AM6-AM5)/(Table1[[#This Row],[crankshaft degrees]]-B5) -> 0 | AO6: =AM6*(((data!E$12/2)*6)/1000) -> 0 | AP6: =AN6*(((data!E$12/2)*6)^2/1000) -> 0 | AQ6: =AN6*(((data!E$12/2)*6/1000^3)) -> 0 | AT6: =(Table1[[#This Row],[Column8]]-H5)/(Table1[[#This Row],[crankshaft degrees]]-B5) -> 0 | AU6: =(AT6-AT5)/(Table1[[#This Row],[crankshaft degrees]]-I5) -> 0 | AV6: =AT6*(((data!E$12/2)*6)/1000) -> 0 | AW6: =ABS(AV6) -> 0 | AX6: =AU6*(((data!E$12/2)*6)^2/1000) -> 0 | AY6: =AU6*(((data!E$12/2)*6)^3/1000) -> 0 | BH6: lift @ max acc | BJ6: =INDEX(S:S, MATCH(MAX(AP:AP), AP:AP, 0)) -> 0.2967
B7: =B6+2 -> 6 | C7: 0 | F7: =(-0.000003*B7^2+0.0011*B7)-(-0.000003*B7^2+0.0011*B7)*2 -> -0.006492 | G7: =IF(C7=0, 0, C7-F7) -> 0 | H7: 0 | N7: 0 | Q7: =(-0.0000045*B7^2+0.0015*B7) -> 0.008838 | R7: =IF(Table1[[#This Row],[IN lift corrected]]=0, 0,N7-Q7) -> 0 | S7: 0 | AM7: =(Table1[[#This Row],[Column11]]-S6)/(Table1[[#This Row],[crankshaft degrees]]-B6) -> 0 | AN7: =(AM7-AM6)/(Table1[[#This Row],[crankshaft degrees]]-B6) -> 0 | AO7: =AM7*(((data!E$12/2)*6)/1000) -> 0 | AP7: =AN7*(((data!E$12/2)*6)^2/1000) -> 0 | AQ7: =AN7*(((data!E$12/2)*6/1000^3)) -> 0 | AT7: =(Table1[[#This Row],[Column8]]-H6)/(Table1[[#This Row],[crankshaft degrees]]-B6) -> 0 | AU7: =(AT7-AT6)/(Table1[[#This Row],[crankshaft degrees]]-I6) -> 0 | AV7: =AT7*(((data!E$12/2)*6)/1000) -> 0 | AW7: =ABS(AV7) -> 0 | AX7: =AU7*(((data!E$12/2)*6)^2/1000) -> 0 | AY7: =AU7*(((data!E$12/2)*6)^3/1000) -> 0
B8: =B7+2 -> 8 | C8: 0 | F8: =(-0.000003*B8^2+0.0011*B8)-(-0.000003*B8^2+0.0011*B8)*2 -> -0.008608 | G8: =IF(C8=0, 0, C8-F8) -> 0 | H8: 0 | N8: 0 | Q8: =(-0.0000045*B8^2+0.0015*B8) -> 0.011712 | R8: =IF(Table1[[#This Row],[IN lift corrected]]=0, 0,N8-Q8) -> 0 | S8: 0 | AM8: =(Table1[[#This Row],[Column11]]-S7)/(Table1[[#This Row],[crankshaft degrees]]-B7) -> 0 | AN8: =(AM8-AM7)/(Table1[[#This Row],[crankshaft degrees]]-B7) -> 0 | AO8: =AM8*(((data!E$12/2)*6)/1000) -> 0 | AP8: =AN8*(((data!E$12/2)*6)^2/1000) -> 0 | AQ8: =AN8*(((data!E$12/2)*6/1000^3)) -> 0 | AT8: =(Table1[[#This Row],[Column8]]-H7)/(Table1[[#This Row],[crankshaft degrees]]-B7) -> 0 | AU8: =(AT8-AT7)/(Table1[[#This Row],[crankshaft degrees]]-I7) -> 0 | AV8: =AT8*(((data!E$12/2)*6)/1000) -> 0 | AW8: =ABS(AV8) -> 0 | AX8: =AU8*(((data!E$12/2)*6)^2/1000) -> 0 | AY8: =AU8*(((data!E$12/2)*6)^3/1000) -> 0 | BG8: intake
B9: =B8+2 -> 10 | C9: 0 | F9: =(-0.000003*B9^2+0.0011*B9)-(-0.000003*B9^2+0.0011*B9)*2 -> -0.0107 | G9: =IF(C9=0, 0, C9-F9) -> 0 | H9: 0 | N9: 0 | Q9: =(-0.0000045*B9^2+0.0015*B9) -> 0.01455 | R9: =IF(Table1[[#This Row],[IN lift corrected]]=0, 0,N9-Q9) -> 0 | S9: 0 | AM9: =(Table1[[#This Row],[Column11]]-S8)/(Table1[[#This Row],[crankshaft degrees]]-B8) -> 0 | AN9: =(AM9-AM8)/(Table1[[#This Row],[crankshaft degrees]]-B8) -> 0 | AO9: =AM9*(((data!E$12/2)*6)/1000) -> 0 | AP9: =AN9*(((data!E$12/2)*6)^2/1000) -> 0 | AQ9: =AN9*(((data!E$12/2)*6/1000^3)) -> 0 | AT9: =(Table1[[#This Row],[Column8]]-H8)/(Table1[[#This Row],[crankshaft degrees]]-B8) -> 0 | AU9: =(AT9-AT8)/(Table1[[#This Row],[crankshaft degrees]]-I8) -> 0 | AV9: =AT9*(((data!E$12/2)*6)/1000) -> 0 | AW9: =ABS(AV9) -> 0 | AX9: =AU9*(((data!E$12/2)*6)^2/1000) -> 0 | AY9: =AU9*(((data!E$12/2)*6)^3/1000) -> 0 | BH9: contact force | BJ9: =BJ13+BJ11 -> 188.5314 | BK9: =BK13+BK11 -> 180.46447 | BL9: =BL13+BL11 -> 171.4485 | BM9: =BM13+BM11 -> 161.48347 | BN9: =BN13+BN11 -> 150.5694 | BO9: =BO13+BO11 -> 138.70627 | BP9: =BP13+BP11 -> 125.8941 | BQ9: =BQ13+BQ11 -> 112.13287 | ... BU9: =BU13+BU11 -> 47.597475
B10: =B9+2 -> 12 | C10: 0 | F10: =(-0.000003*B10^2+0.0011*B10)-(-0.000003*B10^2+0.0011*B10)*2 -> -0.012768 | G10: =IF(C10=0, 0, C10-F10) -> 0 | H10: 0 | N10: 0 | Q10: =(-0.0000045*B10^2+0.0015*B10) -> 0.017352 | R10: =IF(Table1[[#This Row],[IN lift corrected]]=0, 0,N10-Q10) -> 0 | S10: 0 | AM10: =(Table1[[#This Row],[Column11]]-S9)/(Table1[[#This Row],[crankshaft degrees]]-B9) -> 0 | AN10: =(AM10-AM9)/(Table1[[#This Row],[crankshaft degrees]]-B9) -> 0 | AO10: =AM10*(((data!E$12/2)*6)/1000) -> 0 | AP10: =AN10*(((data!E$12/2)*6)^2/1000) -> 0 | AQ10: =AN10*(((data!E$12/2)*6/1000^3)) -> 0 | AT10: =(Table1[[#This Row],[Column8]]-H9)/(Table1[[#This Row],[crankshaft degrees]]-B9) -> 0 | AU10: =(AT10-AT9)/(Table1[[#This Row],[crankshaft degrees]]-I9) -> 0 | AV10: =AT10*(((data!E$12/2)*6)/1000) -> 0 | AW10: =ABS(AV10) -> 0 | AX10: =AU10*(((data!E$12/2)*6)^2/1000) -> 0 | AY10: =AU10*(((data!E$12/2)*6)^3/1000) -> 0
B11: =B10+2 -> 14 | C11: 0 | F11: =(-0.000003*B11^2+0.0011*B11)-(-0.000003*B11^2+0.0011*B11)*2 -> -0.014812 | G11: =IF(C11=0, 0, C11-F11) -> 0 | H11: 0 | N11: 0 | Q11: =(-0.0000045*B11^2+0.0015*B11) -> 0.020118 | R11: =IF(Table1[[#This Row],[IN lift corrected]]=0, 0,N11-Q11) -> 0 | S11: 0 | AM11: =(Table1[[#This Row],[Column11]]-S10)/(Table1[[#This Row],[crankshaft degrees]]-B10) -> 0 | AN11: =(AM11-AM10)/(Table1[[#This Row],[crankshaft degrees]]-B10) -> 0 | AO11: =AM11*(((data!E$12/2)*6)/1000) -> 0 | AP11: =AN11*(((data!E$12/2)*6)^2/1000) -> 0 | AQ11: =AN11*(((data!E$12/2)*6/1000^3)) -> 0 | AT11: =(Table1[[#This Row],[Column8]]-H10)/(Table1[[#This Row],[crankshaft degrees]]-B10) -> 0 | AU11: =(AT11-AT10)/(Table1[[#This Row],[crankshaft degrees]]-I10) -> 0 | AV11: =AT11*(((data!E$12/2)*6)/1000) -> 0 | AW11: =ABS(AV11) -> 0 | AX11: =AU11*(((data!E$12/2)*6)^2/1000) -> 0 | AY11: =AU11*(((data!E$12/2)*6)^3/1000) -> 0 | BH11: ma | BJ11: =BJ5*data!$I14 -> -30.3696 | BK11: =BK5*data!$I14 -> -38.436525 | BL11: =BL5*data!$I14 -> -47.4525 | BM11: =BM5*data!$I14 -> -57.417525 | BN11: =BN5*data!$I14 -> -68.3316 | BO11: =BO5*data!$I14 -> -80.194725 | BP11: =BP5*data!$I14 -> -93.0069 | BQ11: =BQ5*data!$I14 -> -106.76813 | ... BU11: =BU5*data!$I14 -> -171.30353
B12: =B11+2 -> 16 | C12: 0 | F12: =(-0.000003*B12^2+0.0011*B12)-(-0.000003*B12^2+0.0011*B12)*2 -> -0.016832 | G12: =IF(C12=0, 0, C12-F12) -> 0 | H12: 0 | N12: 0.05 | Q12: =(-0.0000045*B12^2+0.0015*B12) -> 0.022848 | R12: =IF(Table1[[#This Row],[IN lift corrected]]=0, 0,N12-Q12) -> 0.027152 | S12: 0 | AM12: =(Table1[[#This Row],[Column11]]-S11)/(Table1[[#This Row],[crankshaft degrees]]-B11) -> 0 | AN12: =(AM12-AM11)/(Table1[[#This Row],[crankshaft degrees]]-B11) -> 0 | AO12: =AM12*(((data!E$12/2)*6)/1000) -> 0 | AP12: =AN12*(((data!E$12/2)*6)^2/1000) -> 0 | AQ12: =AN12*(((data!E$12/2)*6/1000^3)) -> 0 | AT12: =(Table1[[#This Row],[Column8]]-H11)/(Table1[[#This Row],[crankshaft degrees]]-B11) -> 0 | AU12: =(AT12-AT11)/(Table1[[#This Row],[crankshaft degrees]]-I11) -> 0 | AV12: =AT12*(((data!E$12/2)*6)/1000) -> 0 | AW12: =ABS(AV12) -> 0 | AX12: =AU12*(((data!E$12/2)*6)^2/1000) -> 0 | AY12: =AU12*(((data!E$12/2)*6)^3/1000) -> 0
B13: =B12+2 -> 18 | C13: 0 | F13: =(-0.000003*B13^2+0.0011*B13)-(-0.000003*B13^2+0.0011*B13)*2 -> -0.018828 | G13: =IF(C13=0, 0, C13-F13) -> 0 | H13: 0 | N13: 0.1 | Q13: =(-0.0000045*B13^2+0.0015*B13) -> 0.025542 | R13: =IF(Table1[[#This Row],[IN lift corrected]]=0, 0,N13-Q13) -> 0.074458 | S13: 0 | AM13: =(Table1[[#This Row],[Column11]]-S12)/(Table1[[#This Row],[crankshaft degrees]]-B12) -> 0 | AN13: =(AM13-AM12)/(Table1[[#This Row],[crankshaft degrees]]-B12) -> 0 | AO13: =AM13*(((data!E$12/2)*6)/1000) -> 0 | AP13: =AN13*(((data!E$12/2)*6)^2/1000) -> 0 | AQ13: =AN13*(((data!E$12/2)*6/1000^3)) -> 0 | AT13: =(Table1[[#This Row],[Column8]]-H12)/(Table1[[#This Row],[crankshaft degrees]]-B12) -> 0 | AU13: =(AT13-AT12)/(Table1[[#This Row],[crankshaft degrees]]-I12) -> 0 | AV13: =AT13*(((data!E$12/2)*6)/1000) -> 0 | AW13: =ABS(AV13) -> 0 | AX13: =AU13*(((data!E$12/2)*6)^2/1000) -> 0 | AY13: =AU13*(((data!E$12/2)*6)^3/1000) -> 0 | BH13: spring force N | BJ13: =data!$I26*((data!$I23-data!$I24)+valves!$BJ6/1000) -> 218.901 | BK13: =data!$I26*((data!$I23-data!$I24)+valves!$BJ6/1000) -> 218.901 | BL13: =data!$I26*((data!$I23-data!$I24)+valves!$BJ6/1000) -> 218.901 | BM13: =data!$I26*((data!$I23-data!$I24)+valves!$BJ6/1000) -> 218.901 | BN13: =data!$I26*((data!$I23-data!$I24)+valves!$BJ6/1000) -> 218.901 | BO13: =data!$I26*((data!$I23-data!$I24)+valves!$BJ6/1000) -> 218.901 | BP13: =data!$I26*((data!$I23-data!$I24)+valves!$BJ6/1000) -> 218.901 | BQ13: =data!$I26*((data!$I23-data!$I24)+valves!$BJ6/1000) -> 218.901 | ... BU13: =data!$I26*((data!$I23-data!$I24)+valves!$BJ6/1000) -> 218.901
B14: =B13+2 -> 20 | C14: 0 | D14: -0.02 | E14: 0.02 | F14: =(-0.000003*B14^2+0.0011*B14)-(-0.000003*B14^2+0.0011*B14)*2 -> -0.0208 | G14: =IF(C14=0, 0, C14-F14) -> 0 | H14: 0 | N14: 0.01 | Q14: =(-0.0000045*B14^2+0.0015*B14) -> 0.0282 | R14: =IF(Table1[[#This Row],[IN lift corrected]]=0, 0,N14-Q14) -> -0.0182 | S14: 0 | AM14: =(Table1[[#This Row],[Column11]]-S13)/(Table1[[#This Row],[crankshaft degrees]]-B13) -> 0 | AN14: =(AM14-AM13)/(Table1[[#This Row],[crankshaft degrees]]-B13) -> 0 | AO14: =AM14*(((data!E$12/2)*6)/1000) -> 0 | AP14: =AN14*(((data!E$12/2)*6)^2/1000) -> 0 | AQ14: =AN14*(((data!E$12/2)*6/1000^3)) -> 0 | AT14: =(Table1[[#This Row],[Column8]]-H13)/(Table1[[#This Row],[crankshaft degrees]]-B13) -> 0 | AU14: =(AT14-AT13)/(Table1[[#This Row],[crankshaft degrees]]-I13) -> 0 | AV14: =AT14*(((data!E$12/2)*6)/1000) -> 0 | AW14: =ABS(AV14) -> 0 | AX14: =AU14*(((data!E$12/2)*6)^2/1000) -> 0 | AY14: =AU14*(((data!E$12/2)*6)^3/1000) -> 0
B15: =B14+2 -> 22 | C15: 0 | F15: =(-0.000003*B15^2+0.0011*B15)-(-0.000003*B15^2+0.0011*B15)*2 -> -0.022748 | G15: =IF(C15=0, 0, C15-F15) -> 0 | H15: 0 | N15: 0.02 | Q15: =(-0.0000045*B15^2+0.0015*B15) -> 0.030822 | R15: =IF(Table1[[#This Row],[IN lift corrected]]=0, 0,N15-Q15) -> -0.010822 | S15: 0 | AM15: =(Table1[[#This Row],[Column11]]-S14)/(Table1[[#This Row],[crankshaft degrees]]-B14) -> 0 | AN15: =(AM15-AM14)/(Table1[[#This Row],[crankshaft degrees]]-B14) -> 0 | AO15: =AM15*(((data!E$12/2)*6)/1000) -> 0 | AP15: =AN15*(((data!E$12/2)*6)^2/1000) -> 0 | AQ15: =AN15*(((data!E$12/2)*6/1000^3)) -> 0 | AT15: =(Table1[[#This Row],[Column8]]-H14)/(Table1[[#This Row],[crankshaft degrees]]-B14) -> 0 | AU15: =(AT15-AT14)/(Table1[[#This Row],[crankshaft degrees]]-I14) -> 0 | AV15: =AT15*(((data!E$12/2)*6)/1000) -> 0 | AW15: =ABS(AV15) -> 0 | AX15: =AU15*(((data!E$12/2)*6)^2/1000) -> 0 | AY15: =AU15*(((data!E$12/2)*6)^3/1000) -> 0 | BG15: exhaust
B16: =B15+2 -> 24 | C16: 0 | F16: =(-0.000003*B16^2+0.0011*B16)-(-0.000003*B16^2+0.0011*B16)*2 -> -0.024672 | G16: =IF(C16=0, 0, C16-F16) -> 0 | H16: 0 | N16: 0.03 | O16: 0.04 | Q16: =(-0.0000045*B16^2+0.0015*B16) -> 0.033408 | R16: =IF(Table1[[#This Row],[IN lift corrected]]=0, 0,N16-Q16) -> -0.003408 | S16: 0 | AM16: =(Table1[[#This Row],[Column11]]-S15)/(Table1[[#This Row],[crankshaft degrees]]-B15) -> 0 | AN16: =(AM16-AM15)/(Table1[[#This Row],[crankshaft degrees]]-B15) -> 0 | AO16: =AM16*(((data!E$12/2)*6)/1000) -> 0 | AP16: =AN16*(((data!E$12/2)*6)^2/1000) -> 0 | AQ16: =AN16*(((data!E$12/2)*6/1000^3)) -> 0 | AT16: =(Table1[[#This Row],[Column8]]-H15)/(Table1[[#This Row],[crankshaft degrees]]-B15) -> 0 | AU16: =(AT16-AT15)/(Table1[[#This Row],[crankshaft degrees]]-I15) -> 0 | AV16: =AT16*(((data!E$12/2)*6)/1000) -> 0 | AW16: =ABS(AV16) -> 0 | AX16: =AU16*(((data!E$12/2)*6)^2/1000) -> 0 | AY16: =AU16*(((data!E$12/2)*6)^3/1000) -> 0 | BH16: contact force | BJ16: =BJ20+BJ18 -> 123.6603 | BK16: =BK20+BK18 -> 115.80566 | BL16: =BL20+BL18 -> 107.02695 | BM16: =BM20+BM18 -> 97.324162 | BN16: =BN20+BN18 -> 86.6973 | BO16: =BO20+BO18 -> 75.146362 | BP16: =BP20+BP18 -> 62.67135 | BQ16: =BQ20+BQ18 -> 49.272262 | ... BU16: =BU20+BU18 -> -13.564838
B17: =B16+2 -> 26 | C17: 0 | F17: =(-0.000003*B17^2+0.0011*B17)-(-0.000003*B17^2+0.0011*B17)*2 -> -0.026572 | G17: =IF(C17=0, 0, C17-F17) -> 0 | H17: 0 | N17: 0.04 | Q17: =(-0.0000045*B17^2+0.0015*B17) -> 0.035958 | R17: =IF(Table1[[#This Row],[IN lift corrected]]=0, 0,N17-Q17) -> 0.004042 | S17: 0 | AM17: =(Table1[[#This Row],[Column11]]-S16)/(Table1[[#This Row],[crankshaft degrees]]-B16) -> 0 | AN17: =(AM17-AM16)/(Table1[[#This Row],[crankshaft degrees]]-B16) -> 0 | AO17: =AM17*(((data!E$12/2)*6)/1000) -> 0 | AP17: =AN17*(((data!E$12/2)*6)^2/1000) -> 0 | AQ17: =AN17*(((data!E$12/2)*6/1000^3)) -> 0 | AT17: =(Table1[[#This Row],[Column8]]-H16)/(Table1[[#This Row],[crankshaft degrees]]-B16) -> 0 | AU17: =(AT17-AT16)/(Table1[[#This Row],[crankshaft degrees]]-I16) -> 0 | AV17: =AT17*(((data!E$12/2)*6)/1000) -> 0 | AW17: =ABS(AV17) -> 0 | AX17: =AU17*(((data!E$12/2)*6)^2/1000) -> 0 | AY17: =AU17*(((data!E$12/2)*6)^3/1000) -> 0
B18: =B17+2 -> 28 | C18: 0 | F18: =(-0.000003*B18^2+0.0011*B18)-(-0.000003*B18^2+0.0011*B18)*2 -> -0.028448 | G18: =IF(C18=0, 0, C18-F18) -> 0 | H18: 0 | N18: 0.05 | Q18: =(-0.0000045*B18^2+0.0015*B18) -> 0.038472 | R18: =IF(Table1[[#This Row],[IN lift corrected]]=0, 0,N18-Q18) -> 0.011528 | S18: 0 | AM18: =(Table1[[#This Row],[Column11]]-S17)/(Table1[[#This Row],[crankshaft degrees]]-B17) -> 0 | AN18: =(AM18-AM17)/(Table1[[#This Row],[crankshaft degrees]]-B17) -> 0 | AO18: =AM18*(((data!E$12/2)*6)/1000) -> 0 | AP18: =AN18*(((data!E$12/2)*6)^2/1000) -> 0 | AQ18: =AN18*(((data!E$12/2)*6/1000^3)) -> 0 | AT18: =(Table1[[#This Row],[Column8]]-H17)/(Table1[[#This Row],[crankshaft degrees]]-B17) -> 0 | AU18: =(AT18-AT17)/(Table1[[#This Row],[crankshaft degrees]]-I17) -> 0 | AV18: =AT18*(((data!E$12/2)*6)/1000) -> 0 | AW18: =ABS(AV18) -> 0 | AX18: =AU18*(((data!E$12/2)*6)^2/1000) -> 0 | AY18: =AU18*(((data!E$12/2)*6)^3/1000) -> 0 | BH18: ma | BJ18: =BJ5*data!$I20 -> -29.5704 | BK18: =BK5*data!$I20 -> -37.425038 | BL18: =BL5*data!$I20 -> -46.20375 | BM18: =BM5*data!$I20 -> -55.906538 | BN18: =BN5*data!$I20 -> -66.5334 | BO18: =BO5*data!$I20 -> -78.084338 | BP18: =BP5*data!$I20 -> -90.55935 | BQ18: =BQ5*data!$I20 -> -103.95844 | ... BU18: =BU5*data!$I20 -> -166.79554
B19: =B18+2 -> 30 | C19: 0 | F19: =(-0.000003*B19^2+0.0011*B19)-(-0.000003*B19^2+0.0011*B19)*2 -> -0.0303 | G19: =IF(C19=0, 0, C19-F19) -> 0 | H19: 0 | N19: 0.07 | Q19: =(-0.0000045*B19^2+0.0015*B19) -> 0.04095 | R19: =IF(Table1[[#This Row],[IN lift corrected]]=0, 0,N19-Q19) -> 0.02905 | S19: 0 | AM19: =(Table1[[#This Row],[Column11]]-S18)/(Table1[[#This Row],[crankshaft degrees]]-B18) -> 0 | AN19: =(AM19-AM18)/(Table1[[#This Row],[crankshaft degrees]]-B18) -> 0 | AO19: =AM19*(((data!E$12/2)*6)/1000) -> 0 | AP19: =AN19*(((data!E$12/2)*6)^2/1000) -> 0 | AQ19: =AN19*(((data!E$12/2)*6/1000^3)) -> 0 | AT19: =(Table1[[#This Row],[Column8]]-H18)/(Table1[[#This Row],[crankshaft degrees]]-B18) -> 0 | AU19: =(AT19-AT18)/(Table1[[#This Row],[crankshaft degrees]]-I18) -> 0 | AV19: =AT19*(((data!E$12/2)*6)/1000) -> 0 | AW19: =ABS(AV19) -> 0 | AX19: =AU19*(((data!E$12/2)*6)^2/1000) -> 0 | AY19: =AU19*(((data!E$12/2)*6)^3/1000) -> 0
B20: =B19+2 -> 32 | C20: 0 | F20: =(-0.000003*B20^2+0.0011*B20)-(-0.000003*B20^2+0.0011*B20)*2 -> -0.032128 | G20: =IF(C20=0, 0, C20-F20) -> 0 | H20: 0 | N20: 0.09 | Q20: =(-0.0000045*B20^2+0.0015*B20) -> 0.043392 | R20: =IF(Table1[[#This Row],[IN lift corrected]]=0, 0,N20-Q20) -> 0.046608 | S20: 0 | AM20: =(Table1[[#This Row],[Column11]]-S19)/(Table1[[#This Row],[crankshaft degrees]]-B19) -> 0 | AN20: =(AM20-AM19)/(Table1[[#This Row],[crankshaft degrees]]-B19) -> 0 | AO20: =AM20*(((data!E$12/2)*6)/1000) -> 0 | AP20: =AN20*(((data!E$12/2)*6)^2/1000) -> 0 | AQ20: =AN20*(((data!E$12/2)*6/1000^3)) -> 0 | AT20: =(Table1[[#This Row],[Column8]]-H19)/(Table1[[#This Row],[crankshaft degrees]]-B19) -> 0 | AU20: =(AT20-AT19)/(Table1[[#This Row],[crankshaft degrees]]-I19) -> 0 | AV20: =AT20*(((data!E$12/2)*6)/1000) -> 0 | AW20: =ABS(AV20) -> 0 | AX20: =AU20*(((data!E$12/2)*6)^2/1000) -> 0 | AY20: =AU20*(((data!E$12/2)*6)^3/1000) -> 0 | BH20: spring force N | BJ20: =data!$I27*((data!$I23-data!$I24)+valves!$BJ6/1000) -> 153.2307 | BK20: =data!$I27*((data!$I23-data!$I24)+valves!$BJ6/1000) -> 153.2307 | BL20: =data!$I27*((data!$I23-data!$I24)+valves!$BJ6/1000) -> 153.2307 | BM20: =data!$I27*((data!$I23-data!$I24)+valves!$BJ6/1000) -> 153.2307 | BN20: =data!$I27*((data!$I23-data!$I24)+valves!$BJ6/1000) -> 153.2307 | BO20: =data!$I27*((data!$I23-data!$I24)+valves!$BJ6/1000) -> 153.2307 | BP20: =data!$I27*((data!$I23-data!$I24)+valves!$BJ6/1000) -> 153.2307 | BQ20: =data!$I27*((data!$I23-data!$I24)+valves!$BJ6/1000) -> 153.2307 | ... BU20: =data!$I27*((data!$I23-data!$I24)+valves!$BJ6/1000) -> 153.2307
B21: =B20+2 -> 34 | C21: 0 | F21: =(-0.000003*B21^2+0.0011*B21)-(-0.000003*B21^2+0.0011*B21)*2 -> -0.033932 | G21: =IF(C21=0, 0, C21-F21) -> 0 | H21: 0 | N21: 0.1 | Q21: =(-0.0000045*B21^2+0.0015*B21) -> 0.045798 | R21: =IF(Table1[[#This Row],[IN lift corrected]]=0, 0,N21-Q21) -> 0.054202 | S21: 0 | AM21: =(Table1[[#This Row],[Column11]]-S20)/(Table1[[#This Row],[crankshaft degrees]]-B20) -> 0 | AN21: =(AM21-AM20)/(Table1[[#This Row],[crankshaft degrees]]-B20) -> 0 | AO21: =AM21*(((data!E$12/2)*6)/1000) -> 0 | AP21: =AN21*(((data!E$12/2)*6)^2/1000) -> 0 | AQ21: =AN21*(((data!E$12/2)*6/1000^3)) -> 0 | AT21: =(Table1[[#This Row],[Column8]]-H20)/(Table1[[#This Row],[crankshaft degrees]]-B20) -> 0 | AU21: =(AT21-AT20)/(Table1[[#This Row],[crankshaft degrees]]-I20) -> 0 | AV21: =AT21*(((data!E$12/2)*6)/1000) -> 0 | AW21: =ABS(AV21) -> 0 | AX21: =AU21*(((data!E$12/2)*6)^2/1000) -> 0 | AY21: =AU21*(((data!E$12/2)*6)^3/1000) -> 0
B22: =B21+2 -> 36 | C22: 0 | F22: =(-0.000003*B22^2+0.0011*B22)-(-0.000003*B22^2+0.0011*B22)*2 -> -0.035712 | G22: =IF(C22=0, 0, C22-F22) -> 0 | H22: 0 | N22: 0.12 | Q22: =(-0.0000045*B22^2+0.0015*B22) -> 0.048168 | R22: =IF(Table1[[#This Row],[IN lift corrected]]=0, 0,N22-Q22) -> 0.071832 | S22: 0 | AM22: =(Table1[[#This Row],[Column11]]-S21)/(Table1[[#This Row],[crankshaft degrees]]-B21) -> 0 | AN22: =(AM22-AM21)/(Table1[[#This Row],[crankshaft degrees]]-B21) -> 0 | AO22: =AM22*(((data!E$12/2)*6)/1000) -> 0 | AP22: =AN22*(((data!E$12/2)*6)^2/1000) -> 0 | AQ22: =AN22*(((data!E$12/2)*6/1000^3)) -> 0 | AT22: =(Table1[[#This Row],[Column8]]-H21)/(Table1[[#This Row],[crankshaft degrees]]-B21) -> 0 | AU22: =(AT22-AT21)/(Table1[[#This Row],[crankshaft degrees]]-I21) -> 0 | AV22: =AT22*(((data!E$12/2)*6)/1000) -> 0 | AW22: =ABS(AV22) -> 0 | AX22: =AU22*(((data!E$12/2)*6)^2/1000) -> 0 | AY22: =AU22*(((data!E$12/2)*6)^3/1000) -> 0
B23: =B22+2 -> 38 | C23: 0 | F23: =(-0.000003*B23^2+0.0011*B23)-(-0.000003*B23^2+0.0011*B23)*2 -> -0.037468 | G23: =IF(C23=0, 0, C23-F23) -> 0 | H23: 0 | N23: 0.14 | Q23: =(-0.0000045*B23^2+0.0015*B23) -> 0.050502 | R23: =IF(Table1[[#This Row],[IN lift corrected]]=0, 0,N23-Q23) -> 0.089498 | S23: 0 | AM23: =(Table1[[#This Row],[Column11]]-S22)/(Table1[[#This Row],[crankshaft degrees]]-B22) -> 0 | AN23: =(AM23-AM22)/(Table1[[#This Row],[crankshaft degrees]]-B22) -> 0 | AO23: =AM23*(((data!E$12/2)*6)/1000) -> 0 | AP23: =AN23*(((data!E$12/2)*6)^2/1000) -> 0 | AQ23: =AN23*(((data!E$12/2)*6/1000^3)) -> 0 | AT23: =(Table1[[#This Row],[Column8]]-H22)/(Table1[[#This Row],[crankshaft degrees]]-B22) -> 0 | AU23: =(AT23-AT22)/(Table1[[#This Row],[crankshaft degrees]]-I22) -> 0 | AV23: =AT23*(((data!E$12/2)*6)/1000) -> 0 | AW23: =ABS(AV23) -> 0 | AX23: =AU23*(((data!E$12/2)*6)^2/1000) -> 0 | AY23: =AU23*(((data!E$12/2)*6)^3/1000) -> 0
B24: =B23+2 -> 40 | C24: 0 | D24: -0.03 | E24: 0.03 | F24: =(-0.000003*B24^2+0.0011*B24)-(-0.000003*B24^2+0.0011*B24)*2 -> -0.0392 | G24: =IF(C24=0, 0, C24-F24) -> 0 | H24: 0 | N24: 0.16 | Q24: =(-0.0000045*B24^2+0.0015*B24) -> 0.0528 | R24: =IF(Table1[[#This Row],[IN lift corrected]]=0, 0,N24-Q24) -> 0.1072 | S24: 0 | AM24: =(Table1[[#This Row],[Column11]]-S23)/(Table1[[#This Row],[crankshaft degrees]]-B23) -> 0 | AN24: =(AM24-AM23)/(Table1[[#This Row],[crankshaft degrees]]-B23) -> 0 | AO24: =AM24*(((data!E$12/2)*6)/1000) -> 0 | AP24: =AN24*(((data!E$12/2)*6)^2/1000) -> 0 | AQ24: =AN24*(((data!E$12/2)*6/1000^3)) -> 0 | AT24: =(Table1[[#This Row],[Column8]]-H23)/(Table1[[#This Row],[crankshaft degrees]]-B23) -> 0 | AU24: =(AT24-AT23)/(Table1[[#This Row],[crankshaft degrees]]-I23) -> 0 | AV24: =AT24*(((data!E$12/2)*6)/1000) -> 0 | AW24: =ABS(AV24) -> 0 | AX24: =AU24*(((data!E$12/2)*6)^2/1000) -> 0 | AY24: =AU24*(((data!E$12/2)*6)^3/1000) -> 0
B25: =B24+2 -> 42 | C25: 0 | F25: =(-0.000003*B25^2+0.0011*B25)-(-0.000003*B25^2+0.0011*B25)*2 -> -0.040908 | G25: =IF(C25=0, 0, C25-F25) -> 0 | H25: 0 | N25: 0.18 | Q25: =(-0.0000045*B25^2+0.0015*B25) -> 0.055062 | R25: =IF(Table1[[#This Row],[IN lift corrected]]=0, 0,N25-Q25) -> 0.124938 | S25: 0 | AM25: =(Table1[[#This Row],[Column11]]-S24)/(Table1[[#This Row],[crankshaft degrees]]-B24) -> 0 | AN25: =(AM25-AM24)/(Table1[[#This Row],[crankshaft degrees]]-B24) -> 0 | AO25: =AM25*(((data!E$12/2)*6)/1000) -> 0 | AP25: =AN25*(((data!E$12/2)*6)^2/1000) -> 0 | AQ25: =AN25*(((data!E$12/2)*6/1000^3)) -> 0 | AT25: =(Table1[[#This Row],[Column8]]-H24)/(Table1[[#This Row],[crankshaft degrees]]-B24) -> 0 | AU25: =(AT25-AT24)/(Table1[[#This Row],[crankshaft degrees]]-I24) -> 0 | AV25: =AT25*(((data!E$12/2)*6)/1000) -> 0 | AW25: =ABS(AV25) -> 0 | AX25: =AU25*(((data!E$12/2)*6)^2/1000) -> 0 | AY25: =AU25*(((data!E$12/2)*6)^3/1000) -> 0
B26: =B25+2 -> 44 | C26: 0 | F26: =(-0.000003*B26^2+0.0011*B26)-(-0.000003*B26^2+0.0011*B26)*2 -> -0.042592 | G26: =IF(C26=0, 0, C26-F26) -> 0 | H26: 0 | N26: 0.2 | O26: 0.06 | Q26: =(-0.0000045*B26^2+0.0015*B26) -> 0.057288 | R26: =IF(Table1[[#This Row],[IN lift corrected]]=0, 0,N26-Q26) -> 0.142712 | S26: 0 | AM26: =(Table1[[#This Row],[Column11]]-S25)/(Table1[[#This Row],[crankshaft degrees]]-B25) -> 0 | AN26: =(AM26-AM25)/(Table1[[#This Row],[crankshaft degrees]]-B25) -> 0 | AO26: =AM26*(((data!E$12/2)*6)/1000) -> 0 | AP26: =AN26*(((data!E$12/2)*6)^2/1000) -> 0 | AQ26: =AN26*(((data!E$12/2)*6/1000^3)) -> 0 | AT26: =(Table1[[#This Row],[Column8]]-H25)/(Table1[[#This Row],[crankshaft degrees]]-B25) -> 0 | AU26: =(AT26-AT25)/(Table1[[#This Row],[crankshaft degrees]]-I25) -> 0 | AV26: =AT26*(((data!E$12/2)*6)/1000) -> 0 | AW26: =ABS(AV26) -> 0 | AX26: =AU26*(((data!E$12/2)*6)^2/1000) -> 0 | AY26: =AU26*(((data!E$12/2)*6)^3/1000) -> 0
B27: =B26+2 -> 46 | C27: 0 | F27: =(-0.000003*B27^2+0.0011*B27)-(-0.000003*B27^2+0.0011*B27)*2 -> -0.044252 | G27: =IF(C27=0, 0, C27-F27) -> 0 | H27: 0 | N27: 0.22 | Q27: =(-0.0000045*B27^2+0.0015*B27) -> 0.059478 | R27: =IF(Table1[[#This Row],[IN lift corrected]]=0, 0,N27-Q27) -> 0.160522 | S27: 0 | AM27: =(Table1[[#This Row],[Column11]]-S26)/(Table1[[#This Row],[crankshaft degrees]]-B26) -> 0 | AN27: =(AM27-AM26)/(Table1[[#This Row],[crankshaft degrees]]-B26) -> 0 | AO27: =AM27*(((data!E$12/2)*6)/1000) -> 0 | AP27: =AN27*(((data!E$12/2)*6)^2/1000) -> 0 | AQ27: =AN27*(((data!E$12/2)*6/1000^3)) -> 0 | AT27: =(Table1[[#This Row],[Column8]]-H26)/(Table1[[#This Row],[crankshaft degrees]]-B26) -> 0 | AU27: =(AT27-AT26)/(Table1[[#This Row],[crankshaft degrees]]-I26) -> 0 | AV27: =AT27*(((data!E$12/2)*6)/1000) -> 0 | AW27: =ABS(AV27) -> 0 | AX27: =AU27*(((data!E$12/2)*6)^2/1000) -> 0 | AY27: =AU27*(((data!E$12/2)*6)^3/1000) -> 0
B28: =B27+2 -> 48 | C28: 0 | F28: =(-0.000003*B28^2+0.0011*B28)-(-0.000003*B28^2+0.0011*B28)*2 -> -0.045888 | G28: =IF(C28=0, 0, C28-F28) -> 0 | H28: 0 | N28: 0.24 | Q28: =(-0.0000045*B28^2+0.0015*B28) -> 0.061632 | R28: =IF(Table1[[#This Row],[IN lift corrected]]=0, 0,N28-Q28) -> 0.178368 | S28: 0 | AM28: =(Table1[[#This Row],[Column11]]-S27)/(Table1[[#This Row],[crankshaft degrees]]-B27) -> 0 | AN28: =(AM28-AM27)/(Table1[[#This Row],[crankshaft degrees]]-B27) -> 0 | AO28: =AM28*(((data!E$12/2)*6)/1000) -> 0 | AP28: =AN28*(((data!E$12/2)*6)^2/1000) -> 0 | AQ28: =AN28*(((data!E$12/2)*6/1000^3)) -> 0 | AT28: =(Table1[[#This Row],[Column8]]-H27)/(Table1[[#This Row],[crankshaft degrees]]-B27) -> 0 | AU28: =(AT28-AT27)/(Table1[[#This Row],[crankshaft degrees]]-I27) -> 0 | AV28: =AT28*(((data!E$12/2)*6)/1000) -> 0 | AW28: =ABS(AV28) -> 0 | AX28: =AU28*(((data!E$12/2)*6)^2/1000) -> 0 | AY28: =AU28*(((data!E$12/2)*6)^3/1000) -> 0
B29: =B28+2 -> 50 | C29: 0 | F29: =(-0.000003*B29^2+0.0011*B29)-(-0.000003*B29^2+0.0011*B29)*2 -> -0.0475 | G29: =IF(C29=0, 0, C29-F29) -> 0 | H29: 0 | N29: 0.26 | Q29: =(-0.0000045*B29^2+0.0015*B29) -> 0.06375 | R29: =IF(Table1[[#This Row],[IN lift corrected]]=0, 0,N29-Q29) -> 0.19625 | S29: 0 | AM29: =(Table1[[#This Row],[Column11]]-S28)/(Table1[[#This Row],[crankshaft degrees]]-B28) -> 0 | AN29: =(AM29-AM28)/(Table1[[#This Row],[crankshaft degrees]]-B28) -> 0 | AO29: =AM29*(((data!E$12/2)*6)/1000) -> 0 | AP29: =AN29*(((data!E$12/2)*6)^2/1000) -> 0 | AQ29: =AN29*(((data!E$12/2)*6/1000^3)) -> 0 | AT29: =(Table1[[#This Row],[Column8]]-H28)/(Table1[[#This Row],[crankshaft degrees]]-B28) -> 0 | AU29: =(AT29-AT28)/(Table1[[#This Row],[crankshaft degrees]]-I28) -> 0 | AV29: =AT29*(((data!E$12/2)*6)/1000) -> 0 | AW29: =ABS(AV29) -> 0 | AX29: =AU29*(((data!E$12/2)*6)^2/1000) -> 0 | AY29: =AU29*(((data!E$12/2)*6)^3/1000) -> 0
B30: =B29+2 -> 52 | C30: 0 | F30: =(-0.000003*B30^2+0.0011*B30)-(-0.000003*B30^2+0.0011*B30)*2 -> -0.049088 | G30: =IF(C30=0, 0, C30-F30) -> 0 | H30: 0 | N30: 0.28 | Q30: =(-0.0000045*B30^2+0.0015*B30) -> 0.065832 | R30: =IF(Table1[[#This Row],[IN lift corrected]]=0, 0,N30-Q30) -> 0.214168 | S30: 0 | AM30: =(Table1[[#This Row],[Column11]]-S29)/(Table1[[#This Row],[crankshaft degrees]]-B29) -> 0 | AN30: =(AM30-AM29)/(Table1[[#This Row],[crankshaft degrees]]-B29) -> 0 | AO30: =AM30*(((data!E$12/2)*6)/1000) -> 0 | AP30: =AN30*(((data!E$12/2)*6)^2/1000) -> 0 | AQ30: =AN30*(((data!E$12/2)*6/1000^3)) -> 0 | AT30: =(Table1[[#This Row],[Column8]]-H29)/(Table1[[#This Row],[crankshaft degrees]]-B29) -> 0 | AU30: =(AT30-AT29)/(Table1[[#This Row],[crankshaft degrees]]-I29) -> 0 | AV30: =AT30*(((data!E$12/2)*6)/1000) -> 0 | AW30: =ABS(AV30) -> 0 | AX30: =AU30*(((data!E$12/2)*6)^2/1000) -> 0 | AY30: =AU30*(((data!E$12/2)*6)^3/1000) -> 0
B31: =B30+2 -> 54 | C31: 0 | F31: =(-0.000003*B31^2+0.0011*B31)-(-0.000003*B31^2+0.0011*B31)*2 -> -0.050652 | G31: =IF(C31=0, 0, C31-F31) -> 0 | H31: 0 | N31: 0.3 | Q31: =(-0.0000045*B31^2+0.0015*B31) -> 0.067878 | R31: =IF(Table1[[#This Row],[IN lift corrected]]=0, 0,N31-Q31) -> 0.232122 | S31: 0 | AM31: =(Table1[[#This Row],[Column11]]-S30)/(Table1[[#This Row],[crankshaft degrees]]-B30) -> 0 | AN31: =(AM31-AM30)/(Table1[[#This Row],[crankshaft degrees]]-B30) -> 0 | AO31: =AM31*(((data!E$12/2)*6)/1000) -> 0 | AP31: =AN31*(((data!E$12/2)*6)^2/1000) -> 0 | AQ31: =AN31*(((data!E$12/2)*6/1000^3)) -> 0 | AT31: =(Table1[[#This Row],[Column8]]-H30)/(Table1[[#This Row],[crankshaft degrees]]-B30) -> 0 | AU31: =(AT31-AT30)/(Table1[[#This Row],[crankshaft degrees]]-I30) -> 0 | AV31: =AT31*(((data!E$12/2)*6)/1000) -> 0 | AW31: =ABS(AV31) -> 0 | AX31: =AU31*(((data!E$12/2)*6)^2/1000) -> 0 | AY31: =AU31*(((data!E$12/2)*6)^3/1000) -> 0
B32: =B31+2 -> 56 | C32: 0 | F32: =(-0.000003*B32^2+0.0011*B32)-(-0.000003*B32^2+0.0011*B32)*2 -> -0.052192 | G32: =IF(C32=0, 0, C32-F32) -> 0 | H32: 0 | N32: 0.32 | Q32: =(-0.0000045*B32^2+0.0015*B32) -> 0.069888 | R32: =IF(Table1[[#This Row],[IN lift corrected]]=0, 0,N32-Q32) -> 0.250112 | S32: 0 | AM32: =(Table1[[#This Row],[Column11]]-S31)/(Table1[[#This Row],[crankshaft degrees]]-B31) -> 0 | AN32: =(AM32-AM31)/(Table1[[#This Row],[crankshaft degrees]]-B31) -> 0 | AO32: =AM32*(((data!E$12/2)*6)/1000) -> 0 | AP32: =AN32*(((data!E$12/2)*6)^2/1000) -> 0 | AQ32: =AN32*(((data!E$12/2)*6/1000^3)) -> 0 | AT32: =(Table1[[#This Row],[Column8]]-H31)/(Table1[[#This Row],[crankshaft degrees]]-B31) -> 0 | AU32: =(AT32-AT31)/(Table1[[#This Row],[crankshaft degrees]]-I31) -> 0 | AV32: =AT32*(((data!E$12/2)*6)/1000) -> 0 | AW32: =ABS(AV32) -> 0 | AX32: =AU32*(((data!E$12/2)*6)^2/1000) -> 0 | AY32: =AU32*(((data!E$12/2)*6)^3/1000) -> 0
B33: =B32+2 -> 58 | C33: 0 | F33: =(-0.000003*B33^2+0.0011*B33)-(-0.000003*B33^2+0.0011*B33)*2 -> -0.053708 | G33: =IF(C33=0, 0, C33-F33) -> 0 | H33: 0 | N33: 0.34 | Q33: =(-0.0000045*B33^2+0.0015*B33) -> 0.071862 | R33: =IF(Table1[[#This Row],[IN lift corrected]]=0, 0,N33-Q33) -> 0.268138 | S33: 0 | AM33: =(Table1[[#This Row],[Column11]]-S32)/(Table1[[#This Row],[crankshaft degrees]]-B32) -> 0 | AN33: =(AM33-AM32)/(Table1[[#This Row],[crankshaft degrees]]-B32) -> 0 | AO33: =AM33*(((data!E$12/2)*6)/1000) -> 0 | AP33: =AN33*(((data!E$12/2)*6)^2/1000) -> 0 | AQ33: =AN33*(((data!E$12/2)*6/1000^3)) -> 0 | AT33: =(Table1[[#This Row],[Column8]]-H32)/(Table1[[#This Row],[crankshaft degrees]]-B32) -> 0 | AU33: =(AT33-AT32)/(Table1[[#This Row],[crankshaft degrees]]-I32) -> 0 | AV33: =AT33*(((data!E$12/2)*6)/1000) -> 0 | AW33: =ABS(AV33) -> 0 | AX33: =AU33*(((data!E$12/2)*6)^2/1000) -> 0 | AY33: =AU33*(((data!E$12/2)*6)^3/1000) -> 0
B34: =B33+2 -> 60 | C34: 0 | D34: -0.05 | E34: 0.05 | F34: =(-0.000003*B34^2+0.0011*B34)-(-0.000003*B34^2+0.0011*B34)*2 -> -0.0552 | G34: =IF(C34=0, 0, C34-F34) -> 0 | H34: 0 | N34: 0.35 | Q34: =(-0.0000045*B34^2+0.0015*B34) -> 0.0738 | R34: =IF(Table1[[#This Row],[IN lift corrected]]=0, 0,N34-Q34) -> 0.2762 | S34: 0 | AM34: =(Table1[[#This Row],[Column11]]-S33)/(Table1[[#This Row],[crankshaft degrees]]-B33) -> 0 | AN34: =(AM34-AM33)/(Table1[[#This Row],[crankshaft degrees]]-B33) -> 0 | AO34: =AM34*(((data!E$12/2)*6)/1000) -> 0 | AP34: =AN34*(((data!E$12/2)*6)^2/1000) -> 0 | AQ34: =AN34*(((data!E$12/2)*6/1000^3)) -> 0 | AT34: =(Table1[[#This Row],[Column8]]-H33)/(Table1[[#This Row],[crankshaft degrees]]-B33) -> 0 | AU34: =(AT34-AT33)/(Table1[[#This Row],[crankshaft degrees]]-I33) -> 0 | AV34: =AT34*(((data!E$12/2)*6)/1000) -> 0 | AW34: =ABS(AV34) -> 0 | AX34: =AU34*(((data!E$12/2)*6)^2/1000) -> 0 | AY34: =AU34*(((data!E$12/2)*6)^3/1000) -> 0
B35: =B34+2 -> 62 | C35: 0 | F35: =(-0.000003*B35^2+0.0011*B35)-(-0.000003*B35^2+0.0011*B35)*2 -> -0.056668 | G35: =IF(C35=0, 0, C35-F35) -> 0 | H35: 0 | N35: 0.37 | Q35: =(-0.0000045*B35^2+0.0015*B35) -> 0.075702 | R35: =IF(Table1[[#This Row],[IN lift corrected]]=0, 0,N35-Q35) -> 0.294298 | S35: 0 | AM35: =(Table1[[#This Row],[Column11]]-S34)/(Table1[[#This Row],[crankshaft degrees]]-B34) -> 0 | AN35: =(AM35-AM34)/(Table1[[#This Row],[crankshaft degrees]]-B34) -> 0 | AO35: =AM35*(((data!E$12/2)*6)/1000) -> 0 | AP35: =AN35*(((data!E$12/2)*6)^2/1000) -> 0 | AQ35: =AN35*(((data!E$12/2)*6/1000^3)) -> 0 | AT35: =(Table1[[#This Row],[Column8]]-H34)/(Table1[[#This Row],[crankshaft degrees]]-B34) -> 0 | AU35: =(AT35-AT34)/(Table1[[#This Row],[crankshaft degrees]]-I34) -> 0 | AV35: =AT35*(((data!E$12/2)*6)/1000) -> 0 | AW35: =ABS(AV35) -> 0 | AX35: =AU35*(((data!E$12/2)*6)^2/1000) -> 0 | AY35: =AU35*(((data!E$12/2)*6)^3/1000) -> 0
B36: =B35+2 -> 64 | C36: 0 | F36: =(-0.000003*B36^2+0.0011*B36)-(-0.000003*B36^2+0.0011*B36)*2 -> -0.058112 | G36: =IF(C36=0, 0, C36-F36) -> 0 | H36: 0 | N36: 0.39 | O36: 0.08 | Q36: =(-0.0000045*B36^2+0.0015*B36) -> 0.077568 | R36: =IF(Table1[[#This Row],[IN lift corrected]]=0, 0,N36-Q36) -> 0.312432 | S36: 0 | AM36: =(Table1[[#This Row],[Column11]]-S35)/(Table1[[#This Row],[crankshaft degrees]]-B35) -> 0 | AN36: =(AM36-AM35)/(Table1[[#This Row],[crankshaft degrees]]-B35) -> 0 | AO36: =AM36*(((data!E$12/2)*6)/1000) -> 0 | AP36: =AN36*(((data!E$12/2)*6)^2/1000) -> 0 | AQ36: =AN36*(((data!E$12/2)*6/1000^3)) -> 0 | AT36: =(Table1[[#This Row],[Column8]]-H35)/(Table1[[#This Row],[crankshaft degrees]]-B35) -> 0 | AU36: =(AT36-AT35)/(Table1[[#This Row],[crankshaft degrees]]-I35) -> 0 | AV36: =AT36*(((data!E$12/2)*6)/1000) -> 0 | AW36: =ABS(AV36) -> 0 | AX36: =AU36*(((data!E$12/2)*6)^2/1000) -> 0 | AY36: =AU36*(((data!E$12/2)*6)^3/1000) -> 0
B37: =B36+2 -> 66 | C37: 0 | F37: =(-0.000003*B37^2+0.0011*B37)-(-0.000003*B37^2+0.0011*B37)*2 -> -0.059532 | G37: =IF(C37=0, 0, C37-F37) -> 0 | H37: 0.0121 | N37: 0.41 | Q37: =(-0.0000045*B37^2+0.0015*B37) -> 0.079398 | R37: =IF(Table1[[#This Row],[IN lift corrected]]=0, 0,N37-Q37) -> 0.330602 | S37: 0 | AM37: =(Table1[[#This Row],[Column11]]-S36)/(Table1[[#This Row],[crankshaft degrees]]-B36) -> 0 | AN37: =(AM37-AM36)/(Table1[[#This Row],[crankshaft degrees]]-B36) -> 0 | AO37: =AM37*(((data!E$12/2)*6)/1000) -> 0 | AP37: =AN37*(((data!E$12/2)*6)^2/1000) -> 0 | AQ37: =AN37*(((data!E$12/2)*6/1000^3)) -> 0 | AT37: =(Table1[[#This Row],[Column8]]-H36)/(Table1[[#This Row],[crankshaft degrees]]-B36) -> 0.00605 | AU37: =(AT37-AT36)/(Table1[[#This Row],[crankshaft degrees]]-I36) -> 9.1666667e-05 | AV37: =AT37*(((data!E$12/2)*6)/1000) -> 0.12705 | AW37: =ABS(AV37) -> 0.12705 | AX37: =AU37*(((data!E$12/2)*6)^2/1000) -> 40.425 | AY37: =AU37*(((data!E$12/2)*6)^3/1000) -> 848925
B38: =B37+2 -> 68 | C38: 0 | F38: =(-0.000003*B38^2+0.0011*B38)-(-0.000003*B38^2+0.0011*B38)*2 -> -0.060928 | G38: =IF(C38=0, 0, C38-F38) -> 0 | H38: 0.0374 | N38: 0.44 | Q38: =(-0.0000045*B38^2+0.0015*B38) -> 0.081192 | R38: =IF(Table1[[#This Row],[IN lift corrected]]=0, 0,N38-Q38) -> 0.358808 | S38: 0 | AM38: =(Table1[[#This Row],[Column11]]-S37)/(Table1[[#This Row],[crankshaft degrees]]-B37) -> 0 | AN38: =(AM38-AM37)/(Table1[[#This Row],[crankshaft degrees]]-B37) -> 0 | AO38: =AM38*(((data!E$12/2)*6)/1000) -> 0 | AP38: =AN38*(((data!E$12/2)*6)^2/1000) -> 0 | AQ38: =AN38*(((data!E$12/2)*6/1000^3)) -> 0 | AT38: =(Table1[[#This Row],[Column8]]-H37)/(Table1[[#This Row],[crankshaft degrees]]-B37) -> 0.01265 | AU38: =(AT38-AT37)/(Table1[[#This Row],[crankshaft degrees]]-I37) -> 9.7058824e-05 | AV38: =AT38*(((data!E$12/2)*6)/1000) -> 0.26565 | AW38: =ABS(AV38) -> 0.26565 | AX38: =AU38*(((data!E$12/2)*6)^2/1000) -> 42.802941 | AY38: =AU38*(((data!E$12/2)*6)^3/1000) -> 898861.76
B39: =B38+2 -> 70 | C39: 0 | F39: =(-0.000003*B39^2+0.0011*B39)-(-0.000003*B39^2+0.0011*B39)*2 -> -0.0623 | G39: =IF(C39=0, 0, C39-F39) -> 0 | H39: 0.058 | N39: 0.47 | Q39: =(-0.0000045*B39^2+0.0015*B39) -> 0.08295 | R39: =IF(Table1[[#This Row],[IN lift corrected]]=0, 0,N39-Q39) -> 0.38705 | S39: 0 | AM39: =(Table1[[#This Row],[Column11]]-S38)/(Table1[[#This Row],[crankshaft degrees]]-B38) -> 0 | AN39: =(AM39-AM38)/(Table1[[#This Row],[crankshaft degrees]]-B38) -> 0 | AO39: =AM39*(((data!E$12/2)*6)/1000) -> 0 | AP39: =AN39*(((data!E$12/2)*6)^2/1000) -> 0 | AQ39: =AN39*(((data!E$12/2)*6/1000^3)) -> 0 | AT39: =(Table1[[#This Row],[Column8]]-H38)/(Table1[[#This Row],[crankshaft degrees]]-B38) -> 0.0103 | AU39: =(AT39-AT38)/(Table1[[#This Row],[crankshaft degrees]]-I38) -> -3.3571429e-05 | AV39: =AT39*(((data!E$12/2)*6)/1000) -> 0.2163 | AW39: =ABS(AV39) -> 0.2163 | AX39: =AU39*(((data!E$12/2)*6)^2/1000) -> -14.805 | AY39: =AU39*(((data!E$12/2)*6)^3/1000) -> -310905
B40: =B39+2 -> 72 | C40: 0 | F40: =(-0.000003*B40^2+0.0011*B40)-(-0.000003*B40^2+0.0011*B40)*2 -> -0.063648 | G40: =IF(C40=0, 0, C40-F40) -> 0 | H40: 0.0741 | N40: 0.5 | Q40: =(-0.0000045*B40^2+0.0015*B40) -> 0.084672 | R40: =IF(Table1[[#This Row],[IN lift corrected]]=0, 0,N40-Q40) -> 0.415328 | S40: 0 | AM40: =(Table1[[#This Row],[Column11]]-S39)/(Table1[[#This Row],[crankshaft degrees]]-B39) -> 0 | AN40: =(AM40-AM39)/(Table1[[#This Row],[crankshaft degrees]]-B39) -> 0 | AO40: =AM40*(((data!E$12/2)*6)/1000) -> 0 | AP40: =AN40*(((data!E$12/2)*6)^2/1000) -> 0 | AQ40: =AN40*(((data!E$12/2)*6/1000^3)) -> 0 | AT40: =(Table1[[#This Row],[Column8]]-H39)/(Table1[[#This Row],[crankshaft degrees]]-B39) -> 0.00805 | AU40: =(AT40-AT39)/(Table1[[#This Row],[crankshaft degrees]]-I39) -> -3.125e-05 | AV40: =AT40*(((data!E$12/2)*6)/1000) -> 0.16905 | AW40: =ABS(AV40) -> 0.16905 | AX40: =AU40*(((data!E$12/2)*6)^2/1000) -> -13.78125 | AY40: =AU40*(((data!E$12/2)*6)^3/1000) -> -289406.25
...

Sheet Sheet5
G2: RPM | H2: 1500 | I2: 2000 | J2: 2500 | K2: 3000 | L2: 3500 | M2: 4000 | N2: 4500 | O2: 5000 | P2: 5500 | Q2: 6000 | R2: 6500 | S2: 7000 | T2: 7500 | U2: 8000 | V2: 8500
G3: time per deg increment s | H3: =($B6-$B5)/(H2*6) -> 0.00022222222 | I3: =($B6-$B5)/(I2*6) -> 0.00016666667 | J3: =($B6-$B5)/(J2*6) -> 0.00013333333 | K3: =($B6-$B5)/(K2*6) -> 0.00011111111 | L3: =($B6-$B5)/(L2*6) -> 9.5238095e-05 | M3: =($B6-$B5)/(M2*6) -> 8.3333333e-05 | N3: =($B6-$B5)/(N2*6) -> 7.4074074e-05 | O3: =($B6-$B5)/(O2*6) -> 6.6666667e-05 | ... V3: =($B6-$B5)/(V2*6) -> 3.9215686e-05
B4: crank degrees | C4: inlet lift | D4: Cf | E4: median ave lift in time interval | F4: Cf in time interval | O4: flow-time
B5: 0 | C5: =valves!S4 -> 0 | D5: =(-0.5992*C5^2)+(15.995*C5) -> 0 | G5: total | H5: =SUM(H6:H365) -> 1.7479432 | I5: =SUM(I6:I365) -> 1.3109574 | J5: =SUM(J6:J365) -> 1.0487659 | K5: =SUM(K6:K365) -> 0.8739716 | L5: =SUM(L6:L365) -> 0.74911851 | M5: =SUM(M6:M365) -> 0.6554787 | N5: =SUM(N6:N365) -> 0.58264773 | O5: =SUM(O6:O365) -> 0.52438296 | ... V5: =SUM(V6:V365) -> 0.30846056
B6: =B5+2 -> 2 | C6: =valves!S5 -> 0 | D6: =(-0.5992*C6^2)+(15.995*C6) -> 0 | E6: =((C6-C5)/2)+C5 -> 0 | F6: =(-0.5992*E6^2)+(15.995*E6) -> 0 | H6: =$F6*H$3 -> 0 | I6: =$F6*I$3 -> 0 | J6: =$F6*J$3 -> 0 | K6: =$F6*K$3 -> 0 | L6: =$F6*L$3 -> 0 | M6: =$F6*M$3 -> 0 | N6: =$F6*N$3 -> 0 | O6: =$F6*O$3 -> 0 | ... V6: =$F6*V$3 -> 0
B7: =B6+2 -> 4 | C7: =valves!S6 -> 0 | D7: =(-0.5992*C7^2)+(15.995*C7) -> 0 | E7: =((C7-C6)/2)+C6 -> 0 | F7: =(-0.5992*E7^2)+(15.995*E7) -> 0 | H7: =$F7*H$3 -> 0 | I7: =$F7*I$3 -> 0 | J7: =$F7*J$3 -> 0 | K7: =$F7*K$3 -> 0 | L7: =$F7*L$3 -> 0 | M7: =$F7*M$3 -> 0 | N7: =$F7*N$3 -> 0 | O7: =$F7*O$3 -> 0 | ... V7: =$F7*V$3 -> 0
B8: =B7+2 -> 6 | C8: =valves!S7 -> 0 | D8: =(-0.5992*C8^2)+(15.995*C8) -> 0 | E8: =((C8-C7)/2)+C7 -> 0 | F8: =(-0.5992*E8^2)+(15.995*E8) -> 0 | H8: =$F8*H$3 -> 0 | I8: =$F8*I$3 -> 0 | J8: =$F8*J$3 -> 0 | K8: =$F8*K$3 -> 0 | L8: =$F8*L$3 -> 0 | M8: =$F8*M$3 -> 0 | N8: =$F8*N$3 -> 0 | O8: =$F8*O$3 -> 0 | ... V8: =$F8*V$3 -> 0
B9: =B8+2 -> 8 | C9: =valves!S8 -> 0 | D9: =(-0.5992*C9^2)+(15.995*C9) -> 0 | E9: =((C9-C8)/2)+C8 -> 0 | F9: =(-0.5992*E9^2)+(15.995*E9) -> 0 | H9: =$F9*H$3 -> 0 | I9: =$F9*I$3 -> 0 | J9: =$F9*J$3 -> 0 | K9: =$F9*K$3 -> 0 | L9: =$F9*L$3 -> 0 | M9: =$F9*M$3 -> 0 | N9: =$F9*N$3 -> 0 | O9: =$F9*O$3 -> 0 | ... V9: =$F9*V$3 -> 0
B10: =B9+2 -> 10 | C10: =valves!S9 -> 0 | D10: =(-0.5992*C10^2)+(15.995*C10) -> 0 | E10: =((C10-C9)/2)+C9 -> 0 | F10: =(-0.5992*E10^2)+(15.995*E10) -> 0 | H10: =$F10*H$3 -> 0 | I10: =$F10*I$3 -> 0 | J10: =$F10*J$3 -> 0 | K10: =$F10*K$3 -> 0 | L10: =$F10*L$3 -> 0 | M10: =$F10*M$3 -> 0 | N10: =$F10*N$3 -> 0 | O10: =$F10*O$3 -> 0 | ... V10: =$F10*V$3 -> 0
B11: =B10+2 -> 12 | C11: =valves!S10 -> 0 | D11: =(-0.5992*C11^2)+(15.995*C11) -> 0 | E11: =((C11-C10)/2)+C10 -> 0 | F11: =(-0.5992*E11^2)+(15.995*E11) -> 0 | H11: =$F11*H$3 -> 0 | I11: =$F11*I$3 -> 0 | J11: =$F11*J$3 -> 0 | K11: =$F11*K$3 -> 0 | L11: =$F11*L$3 -> 0 | M11: =$F11*M$3 -> 0 | N11: =$F11*N$3 -> 0 | O11: =$F11*O$3 -> 0 | ... V11: =$F11*V$3 -> 0
B12: =B11+2 -> 14 | C12: =valves!S11 -> 0 | D12: =(-0.5992*C12^2)+(15.995*C12) -> 0 | E12: =((C12-C11)/2)+C11 -> 0 | F12: =(-0.5992*E12^2)+(15.995*E12) -> 0 | H12: =$F12*H$3 -> 0 | I12: =$F12*I$3 -> 0 | J12: =$F12*J$3 -> 0 | K12: =$F12*K$3 -> 0 | L12: =$F12*L$3 -> 0 | M12: =$F12*M$3 -> 0 | N12: =$F12*N$3 -> 0 | O12: =$F12*O$3 -> 0 | ... V12: =$F12*V$3 -> 0
B13: =B12+2 -> 16 | C13: =valves!S12 -> 0 | D13: =(-0.5992*C13^2)+(15.995*C13) -> 0 | E13: =((C13-C12)/2)+C12 -> 0 | F13: =(-0.5992*E13^2)+(15.995*E13) -> 0 | H13: =$F13*H$3 -> 0 | I13: =$F13*I$3 -> 0 | J13: =$F13*J$3 -> 0 | K13: =$F13*K$3 -> 0 | L13: =$F13*L$3 -> 0 | M13: =$F13*M$3 -> 0 | N13: =$F13*N$3 -> 0 | O13: =$F13*O$3 -> 0 | ... V13: =$F13*V$3 -> 0
B14: =B13+2 -> 18 | C14: =valves!S13 -> 0 | D14: =(-0.5992*C14^2)+(15.995*C14) -> 0 | E14: =((C14-C13)/2)+C13 -> 0 | F14: =(-0.5992*E14^2)+(15.995*E14) -> 0 | H14: =$F14*H$3 -> 0 | I14: =$F14*I$3 -> 0 | J14: =$F14*J$3 -> 0 | K14: =$F14*K$3 -> 0 | L14: =$F14*L$3 -> 0 | M14: =$F14*M$3 -> 0 | N14: =$F14*N$3 -> 0 | O14: =$F14*O$3 -> 0 | ... V14: =$F14*V$3 -> 0
B15: =B14+2 -> 20 | C15: =valves!S14 -> 0 | D15: =(-0.5992*C15^2)+(15.995*C15) -> 0 | E15: =((C15-C14)/2)+C14 -> 0 | F15: =(-0.5992*E15^2)+(15.995*E15) -> 0 | H15: =$F15*H$3 -> 0 | I15: =$F15*I$3 -> 0 | J15: =$F15*J$3 -> 0 | K15: =$F15*K$3 -> 0 | L15: =$F15*L$3 -> 0 | M15: =$F15*M$3 -> 0 | N15: =$F15*N$3 -> 0 | O15: =$F15*O$3 -> 0 | ... V15: =$F15*V$3 -> 0
B16: =B15+2 -> 22 | C16: =valves!S15 -> 0 | D16: =(-0.5992*C16^2)+(15.995*C16) -> 0 | E16: =((C16-C15)/2)+C15 -> 0 | F16: =(-0.5992*E16^2)+(15.995*E16) -> 0 | H16: =$F16*H$3 -> 0 | I16: =$F16*I$3 -> 0 | J16: =$F16*J$3 -> 0 | K16: =$F16*K$3 -> 0 | L16: =$F16*L$3 -> 0 | M16: =$F16*M$3 -> 0 | N16: =$F16*N$3 -> 0 | O16: =$F16*O$3 -> 0 | ... V16: =$F16*V$3 -> 0
B17: =B16+2 -> 24 | C17: =valves!S16 -> 0 | D17: =(-0.5992*C17^2)+(15.995*C17) -> 0 | E17: =((C17-C16)/2)+C16 -> 0 | F17: =(-0.5992*E17^2)+(15.995*E17) -> 0 | H17: =$F17*H$3 -> 0 | I17: =$F17*I$3 -> 0 | J17: =$F17*J$3 -> 0 | K17: =$F17*K$3 -> 0 | L17: =$F17*L$3 -> 0 | M17: =$F17*M$3 -> 0 | N17: =$F17*N$3 -> 0 | O17: =$F17*O$3 -> 0 | ... V17: =$F17*V$3 -> 0
