Workbook

Sheet Student Feedback
B3: MARKING CRITERIA and STUDENT FEEDBACK
B5: This section details the assessment criteria. The extent to which these are demonstrated by you determines your mark. The
B6: marks available for each criterion are shown. Lecturers will use the space provided to comment on the achievement of the
B7: task(s), including those areas in which you have performed well and areas that would benefit from development/improvement.
B9: Common Assessment Criteria Applied | J9: Marks Available | K9: Marks Awarded
B10: 1. Engagement with Literature Skills
B12: A fair and well balanced overview on web security and the various issues that could be encountered. Other issues such as session hijacking and encryption of data would have have been a welcome addition. Link to research are also present | J12: =IF('Marking Criteria'!D41 = 0, "", 'Marking Criteria'!D41) -> 15 | K12: =IF('Marking Criteria'!H41 = 0, "", 'Marking Criteria'!H41) -> 12
B18: 2. Knowledge and Understanding Skills
B20: You have a set of tables for this website and have been implemented. However, the inclusion of a ERD would be useful and more importantly, there a no links between your tables i.e. the relationship | J20: =IF('Marking Criteria'!D42 = 0, "", 'Marking Criteria'!D42) -> 15 | K20: =IF('Marking Criteria'!H42 = 0, "", 'Marking Criteria'!H42) -> 7
B26: 3. Cognitive and Intellectual Skills
B28: Some elements of research have been put into the website i.e. the login, access levels and (in places) protection from SQL Injection via prepared statements | J28: =IF('Marking Criteria'!D43 = 0, "", 'Marking Criteria'!D43) -> 15 | K28: =IF('Marking Criteria'!H43 = 0, "", 'Marking Criteria'!H43) -> 7
B34: 4. Practical Application Skills
B36: For your first data driven website, the end product does show good use of PHP/querying of the supplied database. Some web security issues have been coded in places (but a consistant approach across the website should be observed). You PHP code also dynamically create HTML strings that are injected. Soem functionality is missing i.e. the ability to manage data with some tables (sense of time and/or lack of it being devoted to the site/coursework). Finally, the website is built around a bootstrap way of thinking and has adopted bootstraps own dashboard (with subtle mods - making a template from it). A number of minor issues stops the higher grade | J36: =IF('Marking Criteria'!D44 = 0, "", 'Marking Criteria'!D44) -> 55 | K36: =IF('Marking Criteria'!H44 = 0, "", 'Marking Criteria'!H44) -> 27
B42: 5. Transferable Skills for Life and Professional Practice
J44: =IF('Marking Criteria'!D45 = 0, "", 'Marking Criteria'!D45) | K44: =IF('Marking Criteria'!H45 = 0, "", 'Marking Criteria'!H45)
B51: Assignment Mark (Assessment marks are subject to ratification at the Exam | H51: Late Submission Penalties (tick if appropriate) | J51: ='Marking Criteria'!M40 -> 53
B52: Board. These comments and marks are to give feedback on module work and are for | H52: Late Submission ?
B53: guidance only until they are confirmed. ) | H53: 1st/2nd/3rd attempt? | I53: 1st

Sheet Marking Criteria
B8: Assignment Marking Agreement Form (not to be seen by students)
C9: Marking scheme | I9: Marks available | J9: 1st marker | K9: 2nd marker (Sample 2nd Marking) | L9: 3rd marker (if required) | M9: ß AGREED MARK AWARDED | N9: Error ?
B10: 1 | C10: Engagement with Literature Skills
N11: =IF(J11>I11,"*",IF(K11>I11,"*",IF(L11>I11,"*"," ")))
C12: Investigation and analysis of the security issues affecting dynamic websites | I12: 15 | J12: 12 | K12: 12 | N12: =IF(J12>I12,"*",IF(K12>I12,"*",IF(L12>I12,"*"," ")))
N14: =IF(J14>I14,"*",IF(K14>I14,"*",IF(L14>I14,"*"," ")))
B15: 2 | C15: Knowledge and Understanding of Subject | N15: =IF(J15>I15,"*",IF(K15>I15,"*",IF(L15>I15,"*"," ")))
N16: =IF(J16>I17,"*",IF(K16>I17,"*",IF(L16>I17,"*"," ")))
C17: Database Structure and Design | I17: 15 | J17: 7 | K17: 7 | N17: =IF(J17>I18,"*",IF(K17>I18,"*",IF(L17>I18,"*"," "))) -> *
N18: =IF(J18>I19,"*",IF(K18>I19,"*",IF(L18>I19,"*"," ")))
N19: =IF(J19>I20,"*",IF(K19>I20,"*",IF(L19>I20,"*"," ")))
N21: =IF(J21>I21,"*",IF(K21>I21,"*",IF(L21>I21,"*"," ")))
B22: 3 | C22: Cognitive and Intellectual Skills | N22: =IF(J22>I22,"*",IF(K22>I22,"*",IF(L22>I22,"*"," ")))
N23: =IF(J23>I23,"*",IF(K23>I23,"*",IF(L23>I23,"*"," ")))
C24: Discussion from literature review and how it links the website that has been developed | I24: 15 | J24: 7 | K24: 7 | N24: =IF(J24>I24,"*",IF(K24>I24,"*",IF(L24>I24,"*"," ")))
N25: =IF(J25>I25,"*",IF(K25>I25,"*",IF(L25>I25,"*"," ")))
N26: =IF(J26>I26,"*",IF(K26>I26,"*",IF(L26>I26,"*"," ")))
N27: =IF(J27>I27,"*",IF(K27>I27,"*",IF(L27>I27,"*"," ")))
B28: 4 | C28: Practical Application Skills | N28: =IF(J28>I28,"*",IF(K28>I28,"*",IF(L28>I28,"*"," ")))
N29: =IF(J29>I29,"*",IF(K29>I29,"*",IF(L29>I29,"*"," ")))
C30: Range of backend coding demonstrated | I30: 40 | J30: 20 | K30: 20 | N30: =IF(J30>I30,"*",IF(K30>I30,"*",IF(L30>I30,"*"," ")))
N31: =IF(J31>I31,"*",IF(K31>I31,"*",IF(L31>I31,"*"," ")))
C32: Integration of website | I32: 15 | J32: 7 | K32: 7 | N32: =IF(J32>I32,"*",IF(K32>I32,"*",IF(L32>I32,"*"," ")))
N33: =IF(J33>I33,"*",IF(K33>I33,"*",IF(L33>I33,"*"," ")))
N34: =IF(J34>I34,"*",IF(K34>I34,"*",IF(L34>I34,"*"," ")))
B35: 5 | C35: Transferable Skills for Life and Professional Practice | N35: =IF(J35>I35,"*",IF(K35>I35,"*",IF(L35>I35,"*"," ")))
N36: =IF(J36>I36,"*",IF(K36>I36,"*",IF(L36>I36,"*"," ")))
N37: =IF(J37>I37,"*",IF(K37>I37,"*",IF(L37>I37,"*"," ")))
N39: =IF(J39>I39,"*",IF(K39>I39,"*",IF(L39>I39,"*"," ")))
C40: Totals | G40: Days Late ? | H40: 0 | I40: =SUM(I11:I39) -> 100 | J40: =SUM(J11:J39) -> 53 | K40: =SUM(K11:K39) -> 53 | L40: =SUM(L11:L39) -> 0 | M40: =IF(L40<>0, L40,IF(K40<>0,K40,IF(J40<>0,J40,0))) -> 53 | N40: =IF(H40>0,"*","")
C41: Sec1 | D41: =SUM(I11:I14) -> 15 | E41: =SUM(J11:J14) -> 12 | F41: =SUM(K11:K14) -> 12 | G41: =SUM(L11:L14) -> 0 | H41: =IF(G41>0,G41,IF(F41>0,F41,IF(E41>0,E41,0))) -> 12
C42: Sec2 | D42: =SUM(I17:I21) -> 15 | E42: =SUM(J16:J21) -> 7 | F42: =SUM(K16:K21) -> 7 | G42: =SUM(L16:L21) -> 0 | H42: =IF(G42>0,G42,IF(F42>0,F42,IF(E42>0,E42,0))) -> 7
C43: Sec3 | D43: =SUM(I23:I27) -> 15 | E43: =SUM(J23:J27) -> 7 | F43: =SUM(K23:K27) -> 7 | G43: =SUM(L23:L27) -> 0 | H43: =IF(G43>0,G43,IF(F43>0,F43,IF(E43>0,E43,0))) -> 7
C44: Sec4 | D44: =SUM(I29:I34) -> 55 | E44: =SUM(J29:J34) -> 27 | F44: =SUM(K29:K34) -> 27 | G44: =SUM(L29:L34) -> 0 | H44: =IF(G44>0,G44,IF(F44>0,F44,IF(E44>0,E44,0))) -> 27
C45: Sec5 | D45: =SUM(I36:I39) -> 0 | E45: =SUM(J36:J39) -> 0 | F45: =SUM(K36:K39) -> 0 | G45: =SUM(L36:L39) -> 0 | H45: =IF(G45>0,G45,IF(F45>0,F45,IF(E45>0,E45,0))) -> 0
B46: 1st Marker Name | E46: Paul John | H46: 1st Marker Signature | J46: Paul John
B47: 2nd Marker Name | E47: Clive Prosser | H47: 2nd Marker Signature | J47: Clive Prosser
B48: 3rd Marker Name | H48: 3rd Marker Signature
B49: Reasons for awarding the final mark where there is more than one marker
B50: Type 1: second (or double) as sampling or moderation has been used
B52: Notes:
B53: 1 | C53: The 3rd marker may be used where there is more than a 10 percentage point difference (in the TOTAL mark) between markers 1 and 2 OR when it is not possible to get agreement between markers 1 and 2. Reasons must be given where an agreed mark is given.
B54: 2 | C54: This form is for internal use only and is NOT to be returned to the student. The final agreed marks must be transferred to the student feedback sheet in the assignment specification.
B55: 3 | C55: The external examiner MUST be shown this form.
