Workbook

Sheet Design Book Title
A1: GU-DD-001
A2: Issue 1
C5: Design Book
C10: HESH Example for course 2024 Beng
C15: Teamcentre Document Number | M15: Issue | P15: Date
C16: Insert TC document number here | P16: date issued

Sheet Requirements Set
A1: ACTIVITY SUMMARY
B4: Level 1 | C4: Originator | D4: Priority | E4: Level 2 | F4: Requirement type (NSF v F)
C6: MoD | D6: 1 | E6: The main customer requires that the system must not cause injury to the operator when functioning
D7: 4 | E7: The main customer requires that the system shall comply to all relevant legislation
D8: 2 | E8: The main customer requires that the system shall be to a reasonable cost as for the customer to procure 1000
D9: 3 | E9: The main customer requires that the system shall be fully operational and safe to store in temperatures up to 70 down to -30C
D10: 5 | E10: The main customer requires that the Munition shall contribute to a system reliability of 99% (Confidence??)
C12: Crew | D12: 1 | E12: The tank crew requires that the system must function promptly on ignition | F12: Firing interval < 10ms
C13: Crew | D13: 2 | E13: The tank crew requires that the system shall deliver the effect against structure targets | F13: 0.5m REBAR wall penetration
C14: Crew | D14: 3 | E14: The tank crew requires that the system shall deliver the effect accurately | F14: Prob hit 90% @ 1000m
C15: Crew | D15: 4 | E15: The tank crew required the round to be loaded easily | F15: 3 rpm min, 0 missloads in 9 repeats
C16: Crew | D16: 5 | E16: The tank crew require that the system MUST be safe and suitable for service | F16: Environmental test sequence, etc.
C18: Safety | D18: 1 | E18: The HSE require that there shall not cause harm to the operators during manufacture in accordance with Health and Safety at Work.
C19: Safety | D19: 2 | E19: DOSR require the munition shall be safe to operate in accordance with TBD.
C20: Safety | D20: 3 | E20: The HSE require that the munition shall not degrade during storage in accordance with TBD.
C21: Safety | D21: 4 | E21: The munition shall not have unwanted harmful effects on the environment in accordance with TBD.
C22: Safety | D22: 5 | E22: The munition shall be safe in storage for up the x years TBD
C24: logistics | D24: 1 | E24: Logistics require that the system shall be suitable to travel on land.
C25: logistics | D25: 2 | E25: Logistics require that the system shall suitable to travel on aircraft.
C26: logistics | D26: 3 | E26: Logistics require that the system shall have environmental factors protection
C27: logistics | D27: 4 | E27: Logistics require that the system shall be secure Transport (Incognito or Escort)
D28: 5 | E28: Logistics require that the system shall be suitable to travel by sea.

Sheet Rationalised Req PW
C2: 1 | D2: 2 | E2: 3 | F2: 4 | G2: 5 | H2: Calc | J2: Calc
B3: Pairwise comparison of requirements 1 = No Preference, Reciprocal = 1 2 = Slight Preference, Reciprocal = 0.5 5 = Preference, Reciprocal = 0.2 9 = Strong preference = 0.11 | C3: The main customer requires that the system must not cause injury to the operator when functioning | D3: The main customer requires that the system shall comply to all relevant legislation | E3: The main customer requires that the system shall be to a reasonable cost as for the customer to procure 1000 | F3: The main customer requires that the system shall be fully operational and safe to store in temperatures up to 70 down to -30C | G3: The main customer requires that the Munition shall contribute to a system reliability of 99% (Confidence??) | H3: Row Product | I3: nth root of row product | J3: Total Normalised
A4: 1 | B4: The main customer requires that the system must not cause injury to the operator when functioning | C4: 1 | D4: 0.5 | E4: 5 | F4: 2 | G4: 2 | H4: =+C4*D4*E4*F4*G4 -> 10 | I4: =POWER(H4,1/5) -> 1.5848932 | J4: =+I4/$I$9*$J$9 -> 21.993976
A5: 2 | B5: The main customer requires that the system shall comply to all relevant legislation | C5: 2 | D5: 1 | E5: 5 | F5: 9 | G5: 5 | H5: =+C5*D5*E5*F5*G5 -> 450 | I5: =POWER(H5,1/5) -> 3.3934582 | J5: =+I5/$I$9*$J$9 -> 47.091903
A6: 3 | B6: The main customer requires that the system shall be to a reasonable cost as for the customer to procure 1000 | C6: 0.2 | D6: 0.2 | E6: 1 | F6: 2 | G6: 5 | H6: =+C6*D6*E6*F6*G6 -> 0.4 | I6: =POWER(H6,1/5) -> 0.83255321 | J6: =+I6/$I$9*$J$9 -> 11.553558
A7: 4 | B7: The main customer requires that the system shall be fully operational and safe to store in temperatures up to 70 down to -30C | C7: 0.5 | D7: 0.11 | E7: 0.5 | F7: 1 | G7: 5 | H7: =+C7*D7*E7*F7*G7 -> 0.1375 | I7: =POWER(H7,1/5) -> 0.67245084 | J7: =+I7/$I$9*$J$9 -> 9.3317755
A8: 5 | B8: The main customer requires that the Munition shall contribute to a system reliability of 99% (Confidence??) | C8: 0.5 | D8: 0.2 | E8: 0.2 | F8: 0.2 | G8: 1 | H8: =+C8*D8*E8*F8*G8 -> 0.004 | I8: =POWER(H8,1/17) -> 0.72267779 | J8: =+I8/$I$9*$J$9 -> 10.028788
H9: =SUM(H4:H8) -> 460.5415 | I9: =SUM(I4:I8) -> 7.2060332 | J9: 100
C11: 1 | D11: 2 | E11: 3 | F11: 4 | G11: 5 | H11: Calc | J11: Calc
B12: Pairwise comparison of requirements 1 = No Preference, Reciprocal = 1 2 = Slight Preference, Reciprocal = 0.5 5 = Preference, Reciprocal = 0.2 9 = Strong preference = 0.11 | C12: The tank crew requires that the system must function promptly on ignition | D12: The tank crew requires that the system shall deliver the effect against structure targets | E12: The tank crew requires that the system shall deliver the effect accurately | F12: The tank crew required the round to be loaded easily | G12: The tank crew require that the system MUST be safe and suitable for service | H12: Row Product | I12: nth root of row product | J12: Total Normalised
A13: 1 | B13: The tank crew requires that the system must function promptly on ignition | C13: 1 | D13: 1 | E13: 5 | F13: 2 | G13: 0.1 | H13: =+C13*D13*E13*F13*G13 -> 1 | I13: =POWER(H13,1/5) -> 1 | J13: =+I13/$I$18*$J$18 -> 21.700952
A14: 2 | B14: The tank crew requires that the system shall deliver the effect against structure targets | C14: 1 | D14: 1 | E14: 1 | F14: 0.5 | G14: 0.1 | H14: =+C14*D14*E14*F14*G14 -> 0.05 | I14: =POWER(H14,1/5) -> 0.54928027 | J14: =+I14/$I$18*$J$18 -> 11.919905
A15: 3 | B15: The tank crew requires that the system shall deliver the effect accurately | C15: 0.5 | D15: 1 | E15: 1 | F15: 1 | G15: 0.1 | H15: =+C15*D15*E15*F15*G15 -> 0.05 | I15: =POWER(H15,1/5) -> 0.54928027 | J15: =+I15/$I$18*$J$18 -> 11.919905
A16: 4 | B16: The tank crew required the round to be loaded easily | C16: 2 | D16: 2 | E16: 1 | F16: 1 | G16: 0.1 | H16: =+C16*D16*E16*F16*G16 -> 0.4 | I16: =POWER(H16,1/5) -> 0.83255321 | J16: =+I16/$I$18*$J$18 -> 18.067197
A17: 5 | B17: The tank crew require that the system MUST be safe and suitable for service | C17: 9 | D17: 9 | E17: 9 | F17: 9 | G17: 1 | H17: =+C17*D17*E17*F17*G17 -> 6561 | I17: =POWER(H17,1/17) -> 1.6769791 | J17: =+I17/$I$18*$J$18 -> 36.392042
H18: =SUM(H13:H17) -> 6562.5 | I18: =SUM(I13:I17) -> 4.6080928 | J18: 100
C20: 1 | D20: 2 | E20: 3 | F20: 4 | G20: 5 | H20: Calc | J20: Calc
B21: Pairwise comparison of requirements 1 = No Preference, Reciprocal = 1 2 = Slight Preference, Reciprocal = 0.5 5 = Preference, Reciprocal = 0.2 9 = Strong preference = 0.11 | C21: The HSE require that there shall not cause harm to the operators during manufacture in accordance with Health and Safety at Work. | D21: DOSR require the munition shall be safe to operate in accordance with TBD. | E21: The HSE require that the munition shall not degrade during storage in accordance with TBD. | F21: The munition shall not have unwanted harmful effects on the environment in accordance with TBD. | G21: The munition shall be safe in storage for up the x years TBD | H21: Row Product | I21: nth root of row product | J21: Total Normalised
A22: 1 | B22: The HSE require that there shall not cause harm to the operators during manufacture in accordance with Health and Safety at Work. | C22: 1 | D22: 1 | E22: 5 | F22: 9 | G22: 2 | H22: =+C22*D22*E22*F22*G22 -> 90 | I22: =POWER(H22,1/5) -> 2.4595095 | J22: =+I22/$I$27*$J$27 -> 33.879263
A23: 2 | B23: DOSR require the munition shall be safe to operate in accordance with TBD. | C23: 1 | D23: 1 | E23: 9 | F23: 9 | G23: 2 | H23: =+C23*D23*E23*F23*G23 -> 162 | I23: =POWER(H23,1/5) -> 2.7663237 | J23: =+I23/$I$27*$J$27 -> 38.105569
A24: 3 | B24: The HSE require that the munition shall not degrade during storage in accordance with TBD. | C24: 0.2 | D24: 0.11 | E24: 1 | F24: 2 | G24: 5 | H24: =+C24*D24*E24*F24*G24 -> 0.22 | I24: =POWER(H24,1/5) -> 0.73872796 | J24: =+I24/$I$27*$J$27 -> 10.175833
A25: 4 | B25: The munition shall not have unwanted harmful effects on the environment in accordance with TBD. | C25: 0.11 | D25: 0.11 | E25: 0.5 | F25: 1 | G25: 9 | H25: =+C25*D25*E25*F25*G25 -> 0.05445 | I25: =POWER(H25,1/5) -> 0.55872689 | J25: =+I25/$I$27*$J$27 -> 7.6963538
A26: 5 | B26: The munition shall be safe in storage for up the x years TBD | C26: 0.5 | D26: 0.5 | E26: 0.2 | F26: 0.11 | G26: 1 | H26: =+C26*D26*E26*F26*G26 -> 0.0055 | I26: =POWER(H26,1/17) -> 0.73634299 | J26: =+I26/$I$27*$J$27 -> 10.142981
H27: =SUM(H22:H26) -> 252.27995 | I27: =SUM(I22:I26) -> 7.2596311 | J27: 100
C29: 1 | D29: 2 | E29: 3 | F29: 4 | G29: 5 | H29: Calc | J29: Calc
B30: Pairwise comparison of requirements 1 = No Preference, Reciprocal = 1 2 = Slight Preference, Reciprocal = 0.5 5 = Preference, Reciprocal = 0.2 9 = Strong preference = 0.11 | C30: Logistics require that the system shall be suitable to travel on land. | D30: Logistics require that the system shall suitable to travel on aircraft. | E30: Logistics require that the system shall have environmental factors protection | F30: Logistics require that the system shall be secure Transport (Incognito or Escort) | G30: Logistics require that the system shall be suitable to travel by sea. | H30: Row Product | I30: nth root of row product | J30: Total Normalised
A31: 1 | B31: Logistics require that the system shall be suitable to travel on land. | C31: 1 | D31: 2 | E31: 1 | F31: 2 | G31: 5 | H31: =+C31*D31*E31*F31*G31 -> 20 | I31: =POWER(H31,1/5) -> 1.8205642 | J31: =+I31/$I$36*$J$36 -> 30.033263
A32: 2 | B32: Logistics require that the system shall suitable to travel on aircraft. | C32: 0.5 | D32: 1 | E32: 1 | F32: 2 | G32: 1 | H32: =+C32*D32*E32*F32*G32 -> 1 | I32: =POWER(H32,1/5) -> 1 | J32: =+I32/$I$36*$J$36 -> 16.496679
A33: 3 | B33: Logistics require that the system shall have environmental factors protection | C33: 1 | D33: 1 | E33: 1 | F33: 2 | G33: 9 | H33: =+C33*D33*E33*F33*G33 -> 18 | I33: =POWER(H33,1/5) -> 1.7826025 | J33: =+I33/$I$36*$J$36 -> 29.40702
A34: 4 | B34: Logistics require that the system shall be secure Transport (Incognito or Escort) | C34: 0.5 | D34: 0.5 | E34: 0.5 | F34: 1 | G34: 1 | H34: =+C34*D34*E34*F34*G34 -> 0.125 | I34: =POWER(H34,1/5) -> 0.65975396 | J34: =+I34/$I$36*$J$36 -> 10.883749
A35: 5 | B35: Logistics require that the system shall be suitable to travel by sea. | C35: 0.2 | D35: 1 | E35: 0.11 | F35: 1 | G35: 1 | H35: =+C35*D35*E35*F35*G35 -> 0.022 | I35: =POWER(H35,1/17) -> 0.79890558 | J35: =+I35/$I$36*$J$36 -> 13.179289
H36: =SUM(H31:H35) -> 39.147 | I36: =SUM(I31:I35) -> 6.0618262 | J36: 100

Sheet Required Functionality
A1: ACTIVITY SUMMARY
B2: Developed from Generic Munition Use Case
B4: Level 1 | C4: Level 1 | D4: Level 2
C6: From Use case
B7: To deliver defeat effect to a target set efficiently, safely, and accurately at a range up to 2km, launched from a 120mm smooth bore weapon | C7: Prepare weapon | D7: Clear launcher
D8: Arm Weapon
D9: Identify Round
D10: Unpack Round
D11: Load Weapon
C12: Engage Target | D12: Acquire target
D13: Aim Weapon
D14: Initiate / Activate Weapon
D15: Provide Motive Force
C16: Deliver Effect | D16: Satbilise projectile
D17: Manouvre Munition
D18: Track to Target
C19: Manage Effect | D19: Create Terminal Effect
D20: Defeat Target
C21: Manage Missfire | D21: Manage Dud
D22: DeMil

Sheet Concept
A1: ACTIVITY SUMMARY

Sheet Design QFD 1
B2: How | C2: Importance | D2: Clear launcher | E2: Arm Weapon | F2: Identify Round | G2: Unpack Round | H2: Load Weapon | I2: Acquire target | J2: Aim Weapon | K2: Initiate Weapon | L2: Provide Motive Force | M2: Satbilise projectile | N2: Manouvre Munition | O2: Track to Target | P2: Create Terminal Effect | Q2: Defeat Target | R2: Manage Dud | S2: DeMil
B3: Requirements | V3: Add requirements detail and definition in here.
B4: The main customer requires that the system must not cause injury to the operator when functioning | C4: =VALUE('Rationalised Req PW'!J4) -> 21.993976 | D4: 3 | H4: 3 | K4: 9 | L4: 1 | P4: 3 | R4: 3 | S4: 1
B5: The main customer requires that the system shall comply to all relevant legislation | C5: =VALUE('Rationalised Req PW'!J5) -> 47.091903 | S5: 9
B6: The main customer requires that the system shall be to a reasonable cost as for the customer to procure 1000 | C6: =VALUE('Rationalised Req PW'!J6) -> 11.553558 | E6: 1 | Q6: 3 | S6: 1
B7: The main customer requires that the system shall be fully operational and safe to store in temperatures up to 70 down to -30C | C7: =VALUE('Rationalised Req PW'!J7) -> 9.3317755 | G7: 3 | H7: 3 | L7: 1 | P7: 1
B8: The main customer requires that the Munition shall contribute to a system reliability of 99% (Confidence??) | C8: =VALUE('Rationalised Req PW'!J8) -> 10.028788 | I8: 1 | J8: 9 | K8: 3 | P8: 3 | Q8: 9
B10: The tank crew requires that the system must function promptly on ignition | C10: =VALUE('Rationalised Req PW'!J13) -> 21.700952 | H10: 9 | K10: 9 | L10: 3 | P10: 3 | Q10: 9 | V10: Firing interval < 10ms
B11: The tank crew requires that the system shall deliver the effect against structure targets | C11: =VALUE('Rationalised Req PW'!J14) -> 11.919905 | F11: 9 | G11: 3 | H11: 3 | I11: 9 | J11: 9 | K11: 9 | L11: 9 | M11: 3 | N11: 3 | O11: 9 | P11: 9 | Q11: 9 | V11: 0.5m REBAR wall penetration
B12: The tank crew requires that the system shall deliver the effect accurately | C12: =VALUE('Rationalised Req PW'!J15) -> 11.919905 | E12: 9 | F12: 3 | I12: 9 | J12: 9 | K12: 9 | L12: 9 | M12: 9 | N12: 9 | O12: 9 | Q12: 3 | V12: Prob hit 90% @ 1000m
B13: The tank crew required the round to be loaded easily | C13: =VALUE('Rationalised Req PW'!J16) -> 18.067197 | F13: 9 | G13: 9 | H13: 9 | R13: 9 | S13: 9 | V13: 3 rpm min, 0 missloads in 9 repeats
B14: The tank crew require that the system MUST be safe and suitable for service | C14: =VALUE('Rationalised Req PW'!J17) -> 36.392042 | D14: 3 | E14: 3 | F14: 9 | G14: 3 | H14: 9 | I14: 1 | J14: 3 | K14: 9 | L14: 9 | M14: 9 | N14: 9 | O14: 9 | P14: 9 | Q14: 9 | R14: 9 | S14: 9 | V14: Environmental test sequence, etc.
B16: The HSE require that there shall not cause harm to the operators during manufacture in accordance with Health and Safety at Work. | C16: =VALUE('Rationalised Req PW'!J22) -> 33.879263 | D16: 1 | E16: 9 | F16: 1 | G16: 3 | H16: 9 | K16: 9 | L16: 9 | M16: 9 | N16: 9 | O16: 3 | P16: 3 | R16: 9 | S16: 9
B17: DOSR require the munition shall be safe to operate in accordance with TBD. | C17: =VALUE('Rationalised Req PW'!J23) -> 38.105569 | E17: 9 | G17: 3 | H17: 3 | K17: 9 | L17: 9 | M17: 3 | N17: 3 | O17: 3 | P17: 9 | Q17: 9 | R17: 9 | S17: 9
B18: The HSE require that the munition shall not degrade during storage in accordance with TBD. | C18: =VALUE('Rationalised Req PW'!J24) -> 10.175833 | G18: 1 | K18: 3 | P18: 9 | Q18: 9 | R18: 9 | S18: 9
B19: The munition shall not have unwanted harmful effects on the environment in accordance with TBD. | C19: =VALUE('Rationalised Req PW'!J25) -> 7.6963538 | E19: 3 | F19: 1 | G19: 1 | H19: 3 | K19: 9 | L19: 9 | M19: 3 | N19: 3 | O19: 1 | P19: 9 | Q19: 9 | R19: 3 | S19: 3
B20: The munition shall be safe in storage for up the x years TBD | C20: =VALUE('Rationalised Req PW'!J26) -> 10.142981
B22: Logistics require that the system shall be suitable to travel on land. | C22: =VALUE('Rationalised Req PW'!J31) -> 30.033263 | D22: 1 | E22: 3 | F22: 1 | G22: 1 | H22: 9 | I22: 1 | J22: 1 | K22: 1 | L22: 1 | M22: 1 | N22: 1 | O22: 1 | P22: 3 | Q22: 1
B23: Logistics require that the system shall suitable to travel on aircraft. | C23: =VALUE('Rationalised Req PW'!J32) -> 16.496679 | D23: 1 | E23: 3 | G23: 1 | H23: 1 | I23: 1 | K23: 1 | L23: 1 | M23: 1 | N23: 1 | O23: 1 | P23: 1 | Q23: 1 | R23: 1 | S23: 1
B24: Logistics require that the system shall have environmental factors protection | C24: =VALUE('Rationalised Req PW'!J33) -> 29.40702 | D24: 3 | E24: 3 | G24: 3 | H24: 3 | J24: 1 | K24: 3 | L24: 3 | M24: 3 | N24: 3 | O24: 1 | P24: 9 | Q24: 3 | S24: 1
B25: Logistics require that the system shall be secure Transport (Incognito or Escort) | C25: =VALUE('Rationalised Req PW'!J34) -> 10.883749 | D25: 1 | E25: 1 | F25: 1 | G25: 1 | H25: 1 | I25: 1 | J25: 1 | K25: 1 | L25: 1 | N25: 1 | O25: 1 | P25: 1 | Q25: 3 | R25: 1 | S25: 1
B26: Logistics require that the system shall be suitable to travel by sea. | C26: =VALUE('Rationalised Req PW'!J35) -> 13.179289 | D26: 1 | E26: 3 | F26: 1 | H26: 1 | I26: 1 | J26: 1 | K26: 1 | L26: 1 | M26: 1 | O26: 1 | Q26: 1 | R26: 1
D28: =SUMPRODUCT($C$3:$C$27,D3:D27) -> 367.85136 | E28: =SUMPRODUCT($C$3:$C$27,E3:E27) -> 1177.1939 | F28: =SUMPRODUCT($C$3:$C$27,F3:F27) -> 728.84393 | G28: =SUMPRODUCT($C$3:$C$27,G3:G27) -> 714.99737 | H28: =SUMPRODUCT($C$3:$C$27,H3:H27) -> 1656.578 | I28: =SUMPRODUCT($C$3:$C$27,I3:I27) -> 331.57209 | J28: =SUMPRODUCT($C$3:$C$27,J3:J27) -> 497.49682 | K28: =SUMPRODUCT($C$3:$C$27,K3:K27) -> 1871.8996 | ... U28: =SUMPRODUCT($C$3:$C$27,U3:U27) -> 0
B30: Target
B31: Benchmark
B32: Ideal Value
B33: How Much??? Derive target values for each function. This will determine how well the existing design performs and how well our modified version will perform | H33: 3 rounds per minute, no of missloads, zero damage to round

Sheet Funtional Metrics
A1: ACTIVITY SUMMARY | F1: Tests / Trials / Metrics
B2: Function:- Provide Motive force Test method and relationship to requirements | C2: Importance | D2: Relationship | F2: Closed Vessel Test | G2: Proof firings | H2: SET
B3: Requirements | AF3: Add requirements detail and definition in here.
B4: The main customer requires that the system must not cause injury to the operator when functioning | C4: =VALUE('Rationalised Req PW'!J4) -> 21.993976 | D4: 1 | F4: 9
B5: The main customer requires that the system shall comply to all relevant legislation | C5: =VALUE('Rationalised Req PW'!J5) -> 47.091903
B6: The main customer requires that the system shall be to a reasonable cost as for the customer to procure 1000 | C6: =VALUE('Rationalised Req PW'!J6) -> 11.553558
B7: The main customer requires that the system shall be fully operational and safe to store in temperatures up to 70 down to -30C | C7: =VALUE('Rationalised Req PW'!J7) -> 9.3317755 | D7: 1 | F7: 9
B8: The main customer requires that the Munition shall contribute to a system reliability of 99% (Confidence??) | C8: =VALUE('Rationalised Req PW'!J8) -> 10.028788
B10: The tank crew requires that the system must function promptly on ignition | C10: =VALUE('Rationalised Req PW'!J13) -> 21.700952 | D10: 3 | F10: 9 | G10: 9
B11: The tank crew requires that the system shall deliver the effect against structure targets | C11: =VALUE('Rationalised Req PW'!J14) -> 11.919905 | D11: 9 | F11: 9 | G11: 3
B12: The tank crew requires that the system shall deliver the effect accurately | C12: =VALUE('Rationalised Req PW'!J16) -> 18.067197 | D12: 9 | F12: 9 | G12: 9
B13: The tank crew required the round to be loaded easily | C13: =VALUE('Rationalised Req PW'!J17) -> 36.392042 | G13: 3
B14: The tank crew require that the system MUST be safe and suitable for service | C14: =VALUE('Rationalised Req PW'!J17) -> 36.392042 | D14: 9 | F14: 9 | G14: 9 | H14: 9
B16: The HSE require that there shall not cause harm to the operators during manufacture in accordance with Health and Safety at Work. | C16: =VALUE('Rationalised Req PW'!J22) -> 33.879263 | D16: 9
B17: DOSR require the munition shall be safe to operate in accordance with TBD. | C17: =VALUE('Rationalised Req PW'!J23) -> 38.105569 | D17: 9
B18: The HSE require that the munition shall not degrade during storage in accordance with TBD. | C18: =VALUE('Rationalised Req PW'!J24) -> 10.175833
B19: The munition shall not have unwanted harmful effects on the environment in accordance with TBD. | C19: =VALUE('Rationalised Req PW'!J25) -> 7.6963538 | D19: 9
B20: The munition shall be safe in storage for up the x years TBD | C20: =VALUE('Rationalised Req PW'!J26) -> 10.142981
B22: Logistics require that the system shall be suitable to travel on land. | C22: =VALUE('Rationalised Req PW'!J31) -> 30.033263 | D22: 1
B23: Logistics require that the system shall suitable to travel on aircraft. | C23: =VALUE('Rationalised Req PW'!J32) -> 16.496679 | D23: 1
B24: Logistics require that the system shall have environmental factors protection | C24: =VALUE('Rationalised Req PW'!J33) -> 29.40702 | D24: 3
B25: Logistics require that the system shall be secure Transport (Incognito or Escort) | C25: =VALUE('Rationalised Req PW'!J34) -> 10.883749 | D25: 1
B26: Logistics require that the system shall be suitable to travel by sea. | C26: =VALUE('Rationalised Req PW'!J35) -> 13.179289 | D26: 1
D29: =SUMPRODUCT($C$3:$C$28,D3:D28) -> 1569.7856 | E29: =SUMPRODUCT($C$3:$C$28,E3:E28) -> 0 | F29: =SUMPRODUCT($C$3:$C$28,F3:F28) -> 1074.6526 | G29: =SUMPRODUCT($C$3:$C$28,G3:G28) -> 830.37756 | H29: =SUMPRODUCT($C$3:$C$28,H3:H28) -> 327.52838 | I29: =SUMPRODUCT($C$3:$C$28,I3:I28) -> 0 | J29: =SUMPRODUCT($C$3:$C$28,J3:J28) -> 0 | K29: =SUMPRODUCT($C$3:$C$28,K3:K28) -> 0 | ... Z29: =SUMPRODUCT($C$3:$C$28,Z3:Z28) -> 0 | AD29: =SUMPRODUCT($C$3:$C$28,AD3:AD28) -> 0 | AE29: =SUMPRODUCT($C$3:$C$28,AE3:AE28) -> 0
B31: Target
B32: Benchmark
B33: Ideal Value
B34: How Much??? Derive target values for each function. This will determine how well the existing design performs and how well our modified version will perform

Sheet Design QFD 1 (2)
B2: How | C2: Importance
B3: Requirements | AD3: Add requirements detail and definition in here.
D24: =SUMPRODUCT($C$3:$C$23,D3:D23) -> 0 | E24: =SUMPRODUCT($C$3:$C$23,E3:E23) -> 0 | F24: =SUMPRODUCT($C$3:$C$23,F3:F23) -> 0 | G24: =SUMPRODUCT($C$3:$C$23,G3:G23) -> 0 | H24: =SUMPRODUCT($C$3:$C$23,H3:H23) -> 0 | I24: =SUMPRODUCT($C$3:$C$23,I3:I23) -> 0 | J24: =SUMPRODUCT($C$3:$C$23,J3:J23) -> 0 | K24: =SUMPRODUCT($C$3:$C$23,K3:K23) -> 0 | ... AC24: =SUMPRODUCT($C$3:$C$23,AC3:AC23) -> 0
B26: Target
B27: Benchmark
B28: Ideal Value
B29: How Much??? Derive target values for each function. This will determine how well the existing design performs and how well our modified version will perform

Sheet Function Means Analysis
A1: ACTIVITY SUMMARY
B2: Function | C2: Means
A3: From Functional Decomposition | B3: Clear launcher
B4: Arm Weapon
B5: Identify Round
B6: Unpack Round
B7: Load Weapon
B8: Acquire target
B9: Aim Weapon
B10: Initiate Weapon | U10: both green and blue
B11: Provide Motive Force | U11: both blue and orange
B12: Satbilise projectile | U12: both green and orange
B13: Manouvre Munition | U13: green, blue and orange
B14: Track to Target
B15: Create Terminal Effect
B16: Defeat Target
B17: Manage Dud
B18: DeMil

Sheet  System Pugh
A1: ACTIVITY SUMMARY
B4: ="Project Name: "&'[1]Design Book Title'!C10 -> Project Name: HESH Example for course
D6: Relative Importance Equal | E6: Relative importance Weighted | F6: Existing HESH round | G6: MOD | H6: Logistics | I6: Tank Crew | J6: Regulators
B7: WHATs - Customer Requirements | C7: How much:- From QFD 1
B8: The main customer requires that the system must not cause injury to the operator when functioning | D8: 5 | E8: =VALUE('Design QFD 1'!C4) -> 21.993976 | F8: 0 | G8: 0 | H8: 0 | I8: 2 | J8: 1
B9: The main customer requires that the system shall comply to all relevant legislation | D9: 5 | E9: =VALUE('Design QFD 1'!C5) -> 47.091903 | F9: 0 | G9: 1 | H9: 0 | I9: -1 | J9: 1
B10: The main customer requires that the system shall be to a reasonable cost as for the customer to procure 1000 | D10: 5 | E10: =VALUE('Design QFD 1'!C6) -> 11.553558 | F10: 0 | G10: -1 | H10: 0 | I10: -1 | J10: -1
B11: The main customer requires that the system shall be fully operational and safe to store in temperatures up to 70 down to -30C | D11: 5 | E11: =VALUE('Design QFD 1'!C7) -> 9.3317755 | F11: 0 | G11: 0 | H11: 0 | I11: -2 | J11: 0
B12: The main customer requires that the Munition shall contribute to a system reliability of 99% (Confidence??) | D12: 5 | E12: =VALUE('Design QFD 1'!C8) -> 10.028788 | F12: 0 | G12: 1 | H12: 0 | I12: 0 | J12: 0
B14: Lethality - The tank crew requires that the system will destroy or defeat the range of targets specified. | D14: 5 | E14: =VALUE('Design QFD 1'!C10) -> 21.700952 | F14: 0 | G14: 2 | H14: 0 | I14: 1 | J14: 1
B15: The Tank Crew requires the system safety shall be managed in accordance with Defence Standard 00-056 and control all hazards and reduce the associated risks to an ALARP level within the operational envelope. | D15: 5 | E15: =VALUE('Design QFD 1'!C11) -> 11.919905 | F15: 0 | G15: 1 | H15: 0 | I15: -1 | J15: 0
B16: Human Factors - The Tank Crew shall be able to readily handle the munition within the confines of the environment. | D16: 5 | E16: =VALUE('Design QFD 1'!C12) -> 11.919905 | F16: 0 | G16: -1 | H16: -2 | I16: 1 | J16: 0
B17: Storage - The munition shall be able to stored, handled and transported in existing UN approved containers. | D17: 5 | E17: =VALUE('Design QFD 1'!C13) -> 18.067197 | F17: 0 | G17: -1 | H17: 0 | I17: -1 | J17: 0
B18: Use - The tank crew shall easily identify the required munition | D18: 5 | E18: =VALUE('Design QFD 1'!C14) -> 36.392042 | F18: 0 | G18: 1 | H18: 0 | I18: -1 | J18: 1
B20: The HSE require that there shall not cause harm to the operators during manufacture in accordance with Health and Safety at Work. | D20: 5 | E20: =VALUE('Design QFD 1'!C16) -> 33.879263 | F20: 0 | G20: 0 | H20: 0 | I20: 1 | J20: 1
B21: DOSR require the munition shall be safe to operate in accordance with TBD. | D21: 5 | E21: =VALUE('Design QFD 1'!C17) -> 38.105569 | F21: 0 | G21: 0 | H21: -1 | I21: 0 | J21: 1
... B30: Logistics require that the system shall be suitable to travel by sea. | D30: 5 | E30: =VALUE('Design QFD 1'!C26) -> 13.179289 | F30: 0 | G30: 0 | H30: 0 | I30: 0 | J30: 0
B32: Unit Cost | D32: 5 | F32: 0 | G32: -2 | H32: -1 | I32: -1 | J32: -2
B33: Development Cost | D33: 5 | F33: 0 | G33: -2 | H33: -1 | I33: -1 | J33: -2
B34: Technology Rediness | D34: 5 | F34: 0 | G34: 0 | H34: 0 | I34: -4 | J34: 0
F41: =SUMPRODUCT($D$8:$D$39,F8:F39) -> 0 | G41: =SUMPRODUCT($D$8:$D$39,G8:G39) -> -5 | H41: =SUMPRODUCT($D$8:$D$39,H8:H39) -> -25 | I41: =SUMPRODUCT($D$8:$D$39,I8:I39) -> -45 | J41: =SUMPRODUCT($D$8:$D$39,J8:J39) -> 5
F42: =SUMPRODUCT($E$8:$E$39,F8:F39) -> 0 | G42: =SUMPRODUCT($E$8:$E$39,G8:G39) -> 107.29388 | H42: =SUMPRODUCT($E$8:$E$39,H8:H39) -> -61.945378 | I42: =SUMPRODUCT($E$8:$E$39,I8:I39) -> -44.822546 | J42: =SUMPRODUCT($E$8:$E$39,J8:J39) -> 187.61015
B43: Ranking | D43: 100 | F43: =+F41-F42 -> 0 | G43: =+G41-G42 -> -112.29388 | H43: =+H41-H42 -> 36.945378 | I43: =+I41-I42 -> -0.17745431 | J43: =+J41-J42 -> -182.61015
BD58: 0 | BH58: 0 | BL58: 0 | BP58: 0 | BT58: 0
BD62: 0 | BH62: 0 | BL62: 0 | BP62: 0 | BT62: 0

Sheet Design QFD 2
A1: ACTIVITY SUMMARY
C2: Design feature | D2: Importance | F2: Importance
C3: Functionality | AB3: Functionality Detail
D4: =VALUE('Design QFD 1'!D28) -> 367.85136 | E4: 10 | F4: =+D4/E4 -> 36.785136
D5: =VALUE('Design QFD 1'!E28) -> 1177.1939 | E5: 10 | F5: =+D5/E5 -> 117.71939
D6: =VALUE('Design QFD 1'!F28) -> 728.84393 | E6: 10 | F6: =+D6/E6 -> 72.884393
D7: =VALUE('Design QFD 1'!G28) -> 714.99737 | E7: 10 | F7: =+D7/E7 -> 71.499737
D8: =VALUE('Design QFD 1'!H28) -> 1656.578 | E8: 10 | F8: =+D8/E8 -> 165.6578
D9: =VALUE('Design QFD 1'!I28) -> 331.57209 | E9: 10 | F9: =+D9/E9 -> 33.157209
D10: =VALUE('Design QFD 1'!J28) -> 497.49682 | E10: 10 | F10: =+D10/E10 -> 49.749682
D11: =VALUE('Design QFD 1'!K28) -> 1871.8996 | E11: 10 | F11: =+D11/E11 -> 187.18996
D12: =VALUE('Design QFD 1'!L28) -> 1514.46 | E12: 10 | F12: =+D12/E12 -> 151.446
D13: =VALUE('Design QFD 1'!M28) -> 1060.8167 | E13: 10 | F13: =+D13/E13 -> 106.08167
D14: =VALUE('Design QFD 1'!N28) -> 1058.5211 | E14: 10 | F14: =+D14/E14 -> 105.85211
D15: =VALUE('Design QFD 1'!O28) -> 865.73751 | E15: 10 | F15: =+D15/E15 -> 86.573751
D16: =VALUE('Design QFD 1'!P28) -> 1592.8914 | E16: 10 | F16: =+D16/E16 -> 159.28914
D17: =VALUE('Design QFD 1'!Q28) -> 1475.1769 | E17: 10 | F17: =+D17/E17 -> 147.51769
D18: =VALUE('Design QFD 1'!R28) -> 1359.2098 | E18: 10 | F18: =+D18/E18 -> 135.92098
D19: =VALUE('Design QFD 1'!S28) -> 1766.8303 | E19: 10 | F19: =+D19/E19 -> 176.68303
D20: =VALUE('Design QFD 1 (2)'!$T$24) -> 0 | E20: 10 | F20: =+D20/E20 -> 0
D21: =VALUE('Design QFD 1'!D45) -> 0 | E21: 10 | F21: =+D21/E21 -> 0
G22: =SUMPRODUCT($F$3:$F$21,G3:G21) -> 0 | H22: =SUMPRODUCT($F$3:$F$21,H3:H21) -> 0 | I22: =SUMPRODUCT($F$3:$F$21,I3:I21) -> 0 | J22: =SUMPRODUCT($F$3:$F$21,J3:J21) -> 0 | K22: =SUMPRODUCT($F$3:$F$21,K3:K21) -> 0 | L22: =SUMPRODUCT($F$3:$F$21,L3:L21) -> 0 | M22: =SUMPRODUCT($F$3:$F$21,M3:M21) -> 0 | N22: =SUMPRODUCT($F$3:$F$21,N3:N21) -> 0 | ... AA22: =SUMPRODUCT($F$3:$F$21,AA3:AA21) -> 0
C24: Target
C25: Benchmark
C26: Ideal Value
C27: How Much???

Sheet Prime P Diagram (Given)
A1: ACTIVITY SUMMARY
A2: P-Diagram
A3: Author: | E3: Noise Factors | G3: External | L3: Noise Factors | N3: Unit to unit | P3: Noise Factor | R3: Deterioration
A4: Date:
A5: Issue: 1
A6: System:
B22: Signal factors | I22: Hesh Munition | Q22: Outputs
L31: Control Factors

Sheet Prime "What Why"
A1: ACTIVITY SUMMARY
G2: =VALUE('Design QFD 2'!#REF!) -> #REF!
A3: If insert rows/columns, copy formulae in purple cells.
M4: NOISE FACTORS | AC4: Relative Importance of noise in meeting performance via control factor
A5: Performance Characteristics | B5: Design control parameters | C5: Weighting | D5: Unit to Unit Variation | M5: Deterioration | T5: External
C6: of design | D6: Mfg | M6: Raw Mat'l | T6: Environment | Z6: Human | AB6: Total
C7: control parameter
AB9: =SUM(D9:AA9) -> 0 | AC9: =+AB9*C9 -> 0
AB10: =SUM(D10:AA10) -> 0 | AC10: =+AB10*C10 -> 0
AB11: =SUM(D11:AA11) -> 0 | AC11: =+AB11*C11 -> 0
AB12: =SUM(D12:AA12) -> 0 | AC12: =+AB12*C12 -> 0
AB13: =SUM(D13:AA13) -> 0 | AC13: =+AB13*C13 -> 0
AB14: =SUM(D14:AA14) -> 0 | AC14: =+AB14*C14 -> 0
AB15: =SUM(D15:AA15) -> 0 | AC15: =+AB15*C15 -> 0
AB16: =SUM(D16:AA16) -> 0 | AC16: =+AB16*C16 -> 0
AB17: =SUM(D17:AA17) -> 0 | AC17: =+AB17*C17 -> 0
AB18: =SUM(D18:AA18) -> 0 | AC18: =+AB18*C18 -> 0
B19: Relative importance of noise factor: | D19: =SUMPRODUCT($C9:$C18,D9:D18) -> 0 | E19: =SUMPRODUCT($C9:$C18,E9:E18) -> 0 | F19: =SUMPRODUCT($C9:$C18,F9:F18) -> 0 | G19: =SUMPRODUCT($C9:$C18,G9:G18) -> 0 | H19: =SUMPRODUCT($C9:$C18,H9:H18) -> 0 | I19: =SUMPRODUCT($C9:$C18,I9:I18) -> 0 | J19: =SUMPRODUCT($C9:$C18,J9:J18) -> 0 | K19: =SUMPRODUCT($C9:$C18,K9:K18) -> 0 | ... AA19: =SUMPRODUCT($C9:$C18,AA9:AA18) -> 0
B21: Team:
B22: Date completed:
C23: 100

Sheet P-Diagram 2 (Derived)
A1: ACTIVITY SUMMARY
A2: P-Diagram
A3: Author: | E3: Noise Factors | G3: External | L3: Noise Factors | N3: Unit to unit | P3: Noise Factor | R3: Deterioration
A4: Date:
A5: Issue: 1
A6: System:
B22: Signal factors | I22: Hesh Munition | Q22: Outputs
L31: Control Factors

Sheet What Why 2
A1: ACTIVITY SUMMARY
G2: =VALUE('Design QFD 2'!#REF!) -> #REF!
A3: If insert rows/columns, copy formulae in purple cells.
M4: NOISE FACTORS | AC4: Relative Importance of noise in meeting performance via control factor
A5: Performance Characteristics | B5: Design control parameters | C5: Weighting | D5: Unit to Unit Variation | M5: Deterioration | T5: External
C6: of design | D6: Mfg | M6: Raw Mat'l | T6: Environment | Z6: Human | AB6: Total
C7: control parameter
AB9: =SUM(D9:AA9) -> 0 | AC9: =+AB9*C9 -> 0
AB10: =SUM(D10:AA10) -> 0 | AC10: =+AB10*C10 -> 0
AB11: =SUM(D11:AA11) -> 0 | AC11: =+AB11*C11 -> 0
AB12: =SUM(D12:AA12) -> 0 | AC12: =+AB12*C12 -> 0
AB13: =SUM(D13:AA13) -> 0 | AC13: =+AB13*C13 -> 0
AB14: =SUM(D14:AA14) -> 0 | AC14: =+AB14*C14 -> 0
AB15: =SUM(D15:AA15) -> 0 | AC15: =+AB15*C15 -> 0
AB16: =SUM(D16:AA16) -> 0 | AC16: =+AB16*C16 -> 0
AB17: =SUM(D17:AA17) -> 0 | AC17: =+AB17*C17 -> 0
AB18: =SUM(D18:AA18) -> 0 | AC18: =+AB18*C18 -> 0
B19: Relative importance of noise factor: | D19: =SUMPRODUCT($C9:$C18,D9:D18) -> 0 | E19: =SUMPRODUCT($C9:$C18,E9:E18) -> 0 | F19: =SUMPRODUCT($C9:$C18,F9:F18) -> 0 | G19: =SUMPRODUCT($C9:$C18,G9:G18) -> 0 | H19: =SUMPRODUCT($C9:$C18,H9:H18) -> 0 | I19: =SUMPRODUCT($C9:$C18,I9:I18) -> 0 | J19: =SUMPRODUCT($C9:$C18,J9:J18) -> 0 | K19: =SUMPRODUCT($C9:$C18,K9:K18) -> 0 | ... AA19: =SUMPRODUCT($C9:$C18,AA9:AA18) -> 0
B21: Team:
B22: Date completed:
C23: 100

Sheet P-Diagram 3 (Target Defeat)
A1: ACTIVITY SUMMARY
A2: P-Diagram
A3: Author: | E3: Noise Factors | G3: External | L3: Noise Factors | N3: Unit to unit | P3: Noise Factor | R3: Deterioration
A4: Date:
A5: Issue: 1
A6: System:
B22: Signal factors Prox PD Delay | I22: Hesh Munition | Q22: Defeat Target
L31: Control Factors

Sheet what why 3 (Target Defeat)
A1: ACTIVITY SUMMARY
I2: =VALUE('Design QFD 2'!#REF!) -> #REF!
A3: If insert rows/columns, copy formulae in purple cells.
O4: NOISE FACTORS | AE4: Relative Importance of noise in meeting performance via control factor
A5: Performance Characteristics | B5: Design control parameters | E5: Weighting | F5: Unit to Unit Variation | O5: Deterioration | V5: External
E6: of design | F6: Mfg | O6: Raw Mat'l | V6: Environment | AB6: Human | AD6: Total
E7: control parameter
C8: Soft and Squidgy | D8: Soft Skin Vehicles | E8: Buildings | F8: Shell Mtl
F9: 3 | AD9: =SUM(F9:AC9) -> 3 | AE9: =+AD9*E9 -> 0
F10: 9 | AD10: =SUM(F10:AC10) -> 9 | AE10: =+AD10*E10 -> 0
F11: 1 | AD11: =SUM(F11:AC11) -> 1 | AE11: =+AD11*E11 -> 0
AD12: =SUM(F12:AC12) -> 0 | AE12: =+AD12*E12 -> 0
AD13: =SUM(F13:AC13) -> 0 | AE13: =+AD13*E13 -> 0
AD14: =SUM(F14:AC14) -> 0 | AE14: =+AD14*E14 -> 0
AD15: =SUM(F15:AC15) -> 0 | AE15: =+AD15*E15 -> 0
AD16: =SUM(F16:AC16) -> 0 | AE16: =+AD16*E16 -> 0
AD17: =SUM(F17:AC17) -> 0 | AE17: =+AD17*E17 -> 0
AD18: =SUM(F18:AC18) -> 0 | AE18: =+AD18*E18 -> 0
B19: Relative importance of noise factor: | F19: =SUMPRODUCT($E9:$E18,F9:F18) -> 0 | G19: =SUMPRODUCT($E9:$E18,G9:G18) -> 0 | H19: =SUMPRODUCT($E9:$E18,H9:H18) -> 0 | I19: =SUMPRODUCT($E9:$E18,I9:I18) -> 0 | J19: =SUMPRODUCT($E9:$E18,J9:J18) -> 0 | K19: =SUMPRODUCT($E9:$E18,K9:K18) -> 0 | L19: =SUMPRODUCT($E9:$E18,L9:L18) -> 0 | M19: =SUMPRODUCT($E9:$E18,M9:M18) -> 0 | ... AC19: =SUMPRODUCT($E9:$E18,AC9:AC18) -> 0
B21: Team:
B22: Date completed:
E23: 100

Sheet What Why 3.1 (Building)
A1: ACTIVITY SUMMARY
G2: =VALUE('Design QFD 2'!#REF!) -> #REF!
A3: If insert rows/columns, copy formulae in purple cells.
M4: NOISE FACTORS | AC4: Relative Importance of noise in meeting performance via control factor
A5: Performance Characteristics | B5: Design control parameters | C5: Weighting | D5: Unit to Unit Variation | M5: Deterioration | T5: External
C6: of design | D6: Mfg | M6: Raw Mat'l | T6: Environment | Z6: Human | AB6: Total
C7: control parameter
AB9: =SUM(D9:AA9) -> 0 | AC9: =+AB9*C9 -> 0
AB10: =SUM(D10:AA10) -> 0 | AC10: =+AB10*C10 -> 0
AB11: =SUM(D11:AA11) -> 0 | AC11: =+AB11*C11 -> 0
AB12: =SUM(D12:AA12) -> 0 | AC12: =+AB12*C12 -> 0
AB13: =SUM(D13:AA13) -> 0 | AC13: =+AB13*C13 -> 0
AB14: =SUM(D14:AA14) -> 0 | AC14: =+AB14*C14 -> 0
AB15: =SUM(D15:AA15) -> 0 | AC15: =+AB15*C15 -> 0
AB16: =SUM(D16:AA16) -> 0 | AC16: =+AB16*C16 -> 0
AB17: =SUM(D17:AA17) -> 0 | AC17: =+AB17*C17 -> 0
AB18: =SUM(D18:AA18) -> 0 | AC18: =+AB18*C18 -> 0
B19: Relative importance of noise factor: | D19: =SUMPRODUCT($C9:$C18,D9:D18) -> 0 | E19: =SUMPRODUCT($C9:$C18,E9:E18) -> 0 | F19: =SUMPRODUCT($C9:$C18,F9:F18) -> 0 | G19: =SUMPRODUCT($C9:$C18,G9:G18) -> 0 | H19: =SUMPRODUCT($C9:$C18,H9:H18) -> 0 | I19: =SUMPRODUCT($C9:$C18,I9:I18) -> 0 | J19: =SUMPRODUCT($C9:$C18,J9:J18) -> 0 | K19: =SUMPRODUCT($C9:$C18,K9:K18) -> 0 | ... AA19: =SUMPRODUCT($C9:$C18,AA9:AA18) -> 0
B21: Team:
B22: Date completed:
C23: 100

Sheet What Why 3.2 (Human)
A1: ACTIVITY SUMMARY
G2: =VALUE('Design QFD 2'!#REF!) -> #REF!
A3: If insert rows/columns, copy formulae in purple cells.
M4: NOISE FACTORS | AC4: Relative Importance of noise in meeting performance via control factor
A5: Performance Characteristics | B5: Design control parameters | C5: Weighting | D5: Unit to Unit Variation | M5: Deterioration | T5: External
C6: of design | D6: Mfg | M6: Raw Mat'l | T6: Environment | Z6: Human | AB6: Total
C7: control parameter
AB9: =SUM(D9:AA9) -> 0 | AC9: =+AB9*C9 -> 0
AB10: =SUM(D10:AA10) -> 0 | AC10: =+AB10*C10 -> 0
AB11: =SUM(D11:AA11) -> 0 | AC11: =+AB11*C11 -> 0
AB12: =SUM(D12:AA12) -> 0 | AC12: =+AB12*C12 -> 0
AB13: =SUM(D13:AA13) -> 0 | AC13: =+AB13*C13 -> 0
AB14: =SUM(D14:AA14) -> 0 | AC14: =+AB14*C14 -> 0
AB15: =SUM(D15:AA15) -> 0 | AC15: =+AB15*C15 -> 0
AB16: =SUM(D16:AA16) -> 0 | AC16: =+AB16*C16 -> 0
AB17: =SUM(D17:AA17) -> 0 | AC17: =+AB17*C17 -> 0
AB18: =SUM(D18:AA18) -> 0 | AC18: =+AB18*C18 -> 0
B19: Relative importance of noise factor: | D19: =SUMPRODUCT($C9:$C18,D9:D18) -> 0 | E19: =SUMPRODUCT($C9:$C18,E9:E18) -> 0 | F19: =SUMPRODUCT($C9:$C18,F9:F18) -> 0 | G19: =SUMPRODUCT($C9:$C18,G9:G18) -> 0 | H19: =SUMPRODUCT($C9:$C18,H9:H18) -> 0 | I19: =SUMPRODUCT($C9:$C18,I9:I18) -> 0 | J19: =SUMPRODUCT($C9:$C18,J9:J18) -> 0 | K19: =SUMPRODUCT($C9:$C18,K9:K18) -> 0 | ... AA19: =SUMPRODUCT($C9:$C18,AA9:AA18) -> 0
B21: Team:
B22: Date completed:
C23: 100

Sheet QFD2 Most Important Bit
A1: ACTIVITY SUMMARY
B2: Design feature | C2: Importance | E2: Importance
B3: Functionality | AA3: Functionality Detail
C4: 100 | D4: 10 | E4: =+C4/D4 -> 10
C5: 100 | D5: 10 | E5: =+C5/D5 -> 10
C6: 100 | D6: 10 | E6: =+C6/D6 -> 10
C7: 100 | D7: 10 | E7: =+C7/D7 -> 10
C8: 100 | D8: 10 | E8: =+C8/D8 -> 10
C9: 100 | D9: 10 | E9: =+C9/D9 -> 10
C10: 100 | D10: 10 | E10: =+C10/D10 -> 10
C11: 100 | D11: 10 | E11: =+C11/D11 -> 10
C12: 100 | D12: 10 | E12: =+C12/D12 -> 10
C13: 100 | D13: 10 | E13: =+C13/D13 -> 10
C14: 100 | D14: 10 | E14: =+C14/D14 -> 10
C15: 100 | D15: 10 | E15: =+C15/D15 -> 10
... C26: 100 | D26: 10 | E26: =+C26/D26 -> 10
F27: =SUMPRODUCT($E$3:$E$26,F3:F26) -> 0 | G27: =SUMPRODUCT($E$3:$E$26,G3:G26) -> 0 | H27: =SUMPRODUCT($E$3:$E$26,H3:H26) -> 0 | I27: =SUMPRODUCT($E$3:$E$26,I3:I26) -> 0 | J27: =SUMPRODUCT($E$3:$E$26,J3:J26) -> 0 | K27: =SUMPRODUCT($E$3:$E$26,K3:K26) -> 0 | L27: =SUMPRODUCT($E$3:$E$26,L3:L26) -> 0 | M27: =SUMPRODUCT($E$3:$E$26,M3:M26) -> 0 | ... Z27: =SUMPRODUCT($E$3:$E$26,Z3:Z26) -> 0
B29: Target
B30: Benchmark
B31: Ideal Value | F31: Yellow to Std XYD, Font, Paint type, Compatibility | P31: Green to Std XYD, Paint type, compatibility
B32: How Much???

Sheet P Diagram Component
A1: ACTIVITY SUMMARY
A2: P-Diagram
A3: Author: | E3: Noise Factors | G3: External | L3: Noise Factors | N3: Unit to unit | P3: Noise Factor | R3: Deterioration
A4: Date:
A5: Issue: 1
A6: System:
B22: Signal factors | I22: Shell Body Base component | Q22: System compatibility
L31: Control Factors

Sheet What Why Component
A1: ACTIVITY SUMMARY
G2: =VALUE('Design QFD 2'!#REF!) -> #REF!
A3: If insert rows/columns, copy formulae in purple cells.
M4: NOISE FACTORS | Y4: Relative Importance of noise in meeting performance via control factor
A5: Performance Characteristics | B5: Design control parameters | C5: Weighting | D5: Unit to Unit Variation | M5: Deterioration
C6: of design | D6: Mfg | M6: Raw Mat'l | V6: Human | X6: Total
C7: control parameter
Z8: Highlight important factors
X9: =SUM(D9:W9) -> 0 | Y9: =+X9*C9 -> 0
X10: =SUM(D10:W10) -> 0 | Y10: =+X10*C10 -> 0
X11: =SUM(D11:W11) -> 0 | Y11: =+X11*C11 -> 0
X12: =SUM(D12:W12) -> 0 | Y12: =+X12*C12 -> 0
X13: =SUM(D13:W13) -> 0 | Y13: =+X13*C13 -> 0
X14: =SUM(D14:W14) -> 0 | Y14: =+X14*C14 -> 0
X15: =SUM(D15:W15) -> 0 | Y15: =+X15*C15 -> 0
X16: =SUM(D16:W16) -> 0 | Y16: =+X16*C16 -> 0
X17: =SUM(D17:W17) -> 0 | Y17: =+X17*C17 -> 0
X18: =SUM(D18:W18) -> 0 | Y18: =+X18*C18 -> 0
X19: =SUM(D19:W19) -> 0 | Y19: =+X19*C19 -> 0
X20: =SUM(D20:W20) -> 0 | Y20: =+X20*C20 -> 0
... X35: =SUM(D35:W35) -> 0 | Y35: =+X35*C35 -> 0
B36: Relative importance of noise factor: | D36: =SUMPRODUCT($C9:$C35,D9:D35) -> 0 | E36: =SUMPRODUCT($C9:$C35,E9:E35) -> 0 | F36: =SUMPRODUCT($C9:$C35,F9:F35) -> 0 | G36: =SUMPRODUCT($C9:$C35,G9:G35) -> 0 | H36: =SUMPRODUCT($C9:$C35,H9:H35) -> 0 | I36: =SUMPRODUCT($C9:$C35,I9:I35) -> 0 | J36: =SUMPRODUCT($C9:$C35,J9:J35) -> 0 | K36: =SUMPRODUCT($C9:$C35,K9:K35) -> 0 | ... W36: =SUMPRODUCT($C9:$C35,W9:W35) -> 0
B38: Team:
B39: Date completed:
C40: 100

Sheet Control Importances (Base)

Sheet Noise importances (Base)

Sheet Manufacturing Requirements
A6: ACTIVITY SUMMARY

Sheet Process Map 
A1: ACTIVITY SUMMARY

Sheet Manufacturing QFD 1
A1: ACTIVITY SUMMARY
B2: Manufacturing Functionality | C2: Importance
B3: Manufacturing Requirements | U3: Manufacturing Requirements detail
B4: Manufacturing Costs
B5: Labour | C5: 5
B6: Equipment capital cost | C6: 5
B7: Service / Operating Cost | C7: 5
B8: Set up cost | C8: 5
B9: Material Cost - Metal Bits | C9: 5
B10: Material Cost - Energetic Bits | C10: 5
B11: Material Cost - other | C11: 5
B12: Maintenance Cost
B13: Manufacturing Capacity | C13: 5
B14: Target production rate XX per month | C14: 5
B15: Reliable Manufacture | C15: 5
B16: Repeatable performance | C16: 5
B17: Effective Maintenance | C17: 5
B18: Low system outage | C18: 5
B19: Quality | C19: 5
B20: Defect Free | C20: 5
B21: Effective test and inspection | C21: 5
B22: Safety | C22: 5
B23: Explosive | C23: 5
B24: Non-Explosive | C24: 5
C25: 5
C26: 5
C27: 5
C28: 5
D29: =SUMPRODUCT($C$3:$C$28,D3:D28) -> 0 | E29: =SUMPRODUCT($C$3:$C$28,E3:E28) -> 0 | F29: =SUMPRODUCT($C$3:$C$28,F3:F28) -> 0 | G29: =SUMPRODUCT($C$3:$C$28,G3:G28) -> 0 | H29: =SUMPRODUCT($C$3:$C$28,H3:H28) -> 0 | I29: =SUMPRODUCT($C$3:$C$28,I3:I28) -> 0 | J29: =SUMPRODUCT($C$3:$C$28,J3:J28) -> 0 | K29: =SUMPRODUCT($C$3:$C$28,K3:K28) -> 0 | ... T29: =SUMPRODUCT($C$3:$C$28,T3:T28) -> 0
B32: Target
B33: Benchmark
B34: Ideal Value
B35: Functionality Detail/ insert specifications for each operation

Sheet QFD 2 Manufacturing
A1: ACTIVITY SUMMARY
B2: Design feature | C2: Importance | E2: Importance
B3: Functionality | AB3: Functionality Detail
C4: =VALUE('Manufacturing QFD 1'!D29) -> 0 | D4: 10 | E4: =+C4/D4 -> 0
C5: =VALUE('Manufacturing QFD 1'!E29) -> 0 | D5: 10 | E5: =+C5/D5 -> 0
C6: =VALUE('Manufacturing QFD 1'!F29) -> 0 | D6: 10 | E6: =+C6/D6 -> 0
C7: =VALUE('Manufacturing QFD 1'!G29) -> 0 | D7: 10 | E7: =+C7/D7 -> 0
C8: =VALUE('Manufacturing QFD 1'!H29) -> 0 | D8: 10 | E8: =+C8/D8 -> 0
C9: =VALUE('Manufacturing QFD 1'!I29) -> 0 | D9: 10 | E9: =+C9/D9 -> 0
C10: =VALUE('Manufacturing QFD 1'!J29) -> 0 | D10: 10 | E10: =+C10/D10 -> 0
C11: =VALUE('Manufacturing QFD 1'!K29) -> 0 | D11: 10 | E11: =+C11/D11 -> 0
C12: =VALUE('Manufacturing QFD 1'!L29) -> 0 | D12: 10 | E12: =+C12/D12 -> 0
C13: =VALUE('Manufacturing QFD 1'!M29) -> 0 | D13: 10 | E13: =+C13/D13 -> 0
D14: 10 | E14: =+C14/D14 -> 0
F15: =SUMPRODUCT($E$3:$E$14,F3:F14) -> 0 | G15: =SUMPRODUCT($E$3:$E$14,G3:G14) -> 0 | H15: =SUMPRODUCT($E$3:$E$14,H3:H14) -> 0 | I15: =SUMPRODUCT($E$3:$E$14,I3:I14) -> 0 | J15: =SUMPRODUCT($E$3:$E$14,J3:J14) -> 0 | K15: =SUMPRODUCT($E$3:$E$14,K3:K14) -> 0 | L15: =SUMPRODUCT($E$3:$E$14,L3:L14) -> 0 | M15: =SUMPRODUCT($E$3:$E$14,M3:M14) -> 0 | ... AA15: =SUMPRODUCT($E$3:$E$14,AA3:AA14) -> 0
B17: Target
B18: Benchmark
B19: Ideal Value
B20: How Much???

Sheet Means importance

Sheet Process FMA
A1: ACTIVITY SUMMARY
B2: Function | C2: Means
B3: Forge Shell | C3: Forge from Cast Billet | D3: Forge from machined billet
B4: Form Cavity | C4: Hot Forging | D4: Drill | E4: ALM | F4: Two Piece
B5: Head Shell | C5: Swage | D5: Press | E5: ALM
B6: Coarse M/C | C6: Hand lathe | D6: CNC | E6: Robot | F6: Hand set
B7: Fine M/C | C7: Hand lathe | D7: CNC | E7: Robot | F7: Hand set
B8: Clean Shell | C8: Ultrasonic | D8: Brush and Blow | E8: Bath clean | F8: Vacuum
B9: Form Wire | C9: Hot form | D9: Cold form | E9: ALM | F9: Don't
B10: Coil Wire | C10: Hot form | D10: Cold form | E10: ALM | F10: Don't
B11: Harden Wire | C11: Hot form | D11: Cold form | E11: ALM | F11: Don't
B12: Insert Wire | C12: manual | D12: robot | E12: form in situ | F12: ALM
B13: Surface Finish | C13: Oxsilan | D13: Varnish | E13: Bitumen | F13: Hylamar | G13: rextac/epilene
B14: Paint | C14: Water based | D14: Powder coat | E14: Brush | F14: Don't
B15: Cure paint | C15: Oven | D15: Hot air blow | E15: Air dry
B16: Make Fins | C16: Hand M/C | D16: CNC | E16: Robot | F16: ALM
B17: Coarse MC | C17: Hand M/C | D17: CNC | E17: Robot | F17: ALM
B18: Fine M/C | C18: Hand M/C | D18: CNC | E18: Robot | F18: ALM
B19: Anodise | C19: Sulphuric Acid | D19: Black anodise | E19: Chromic acid | F19: ALM
B20: Clean Shell | C20: Hand M/C | D20: CNC | E20: Robot | F20: ALM
B21: Obtain tracer
B22: Cap Holder | C22: Manual | D22: Robot | E22: Buy in capped holder | F22: Fortress
B23: Load Primer | C23: Manual | D23: Weigh | E23: Volumetric | F23: Robot | G23: Fortress
B24: Load Pre-mag | C24: Manual | D24: Weigh | E24: Volumetric | F24: Robot | G24: Fortress
B25: Seal Primer | C25: Manual | D25: Brush | E25: Adhesive | F25: Varnish | G25: Ultrasound
B26: Assemble primer | C26: Manual | D26: Robot | E26: Buy in filled primer | F26: Fortress
B27: Pack | C27: Manual | D27: Robot | E27: Air Handler | F27: Semi Auto
B28: Roll Liner | C28: Manual | D28: Auto | E28: Buy in rolled liner
B29: Seal Liner | C29: Manual | D29: Auto | E29: Buy in Sealed Liner
B30: Line Primer body | C30: Manual | D30: Auto
B31: Fill Body | C31: Cast Cure | D31: Press Fill | E31: Melt Cast IM | F31: Melt cast RTA | G31: Melt Cast Cream TNT
B32: Liquefy Contents | C32: Cast cure | D32: Melt cast | E32: Powder press
B33: Mix | C33: Incorporator | D33: Hand | E33: High Shear | F33: RAM | G33: Ram in case
B34: Fill Shell | C34: Pour | D34: Pump | E34: Press | F34: Inject
B35: Fit Filling Aid | C35: Hand | D35: robot | E35: Don't
B36: Warm Shell | C36: Oven | D36: Warm air | E36: Condition in shop | F36: Don't
B37: Move in | C37: hover pallet | D37: Conveyer | E37: heated box | F37: Manual | G37: Robot | H37: Powered conveyer
B38: Move out | C38: hover pallet | D38: Conveyer | E38: heated box | F38: Manual | G38: Robot | H38: Powered conveyer
B39: Solidify Contents | C39: Cure in oven | D39: Cure at RT | E39: Cool | F39: Cool and Probe | G39: Don't (press)
B40: Remove Filling Aid | C40: Hand | D40: Robot | E40: Don't
...

Sheet Process Pugh
A1: ACTIVITY SUMMARY
C4: ="Project Name: "&'Design Book Title'!C10 -> Project Name: HESH Example for course 2024 Beng
D6: Relative Importance Equal | E6: Relative importance Weighted | F6: Benchmark design Melt Cast Manual | G6: Alternative manufacturing method 1. Melt Cast IM Automatic | H6: Alternative manufacturing method 2 Cast Cure IM Automatic
B7: WHATs - Customer Requirements | C7: How much:- From QFD 1
D8: 5
D9: 5
D10: 5
D11: 5
D12: 5
D13: 5
D14: 5
D15: 5
D16: 5
D17: 5
D18: 5
D19: 5
... D22: 5
D23: Un Weighted | F23: =SUMPRODUCT($D$8:$D$22,F8:F22) -> 0 | G23: =SUMPRODUCT($D$8:$D$22,G8:G22) -> 0 | H23: =SUMPRODUCT($D$8:$D$22,H8:H22) -> 0
D24: Weighted | F24: =SUMPRODUCT($E$8:$E$22,F8:F22) -> 0 | G24: =SUMPRODUCT($E$8:$E$22,G8:G22) -> 0 | H24: =SUMPRODUCT($E$8:$E$22,H8:H22) -> 0
B25: Ranking | D25: 100 | F25: =+F23-F24 -> 0 | G25: =+G23-G24 -> 0 | H25: =+H23-H24 -> 0
BB40: 0 | BF40: 0 | BJ40: 0 | BN40: 0 | BR40: 0
BB44: 0 | BF44: 0 | BJ44: 0 | BN44: 0 | BR44: 0

Sheet QFD 3
A1: ACTIVITY SUMMARY
B2: Process Features | E2: Importance
B4: Important design features | AJ4: Functionality Details
C5: 50 | D5: 10 | E5: 3
C6: 50 | D6: 10 | E6: 2
C7: 50 | D7: 10 | E7: 3
C8: 50 | D8: 10 | E8: 3
C9: 50 | D9: 10 | E9: 3
C10: 50 | D10: 10 | E10: 3
C11: 50 | D11: 10 | E11: 3
C12: 50 | D12: 10 | E12: 3
C13: 50 | D13: 10 | E13: 3
C14: 50 | D14: 10 | E14: 5
C15: 50 | D15: 10 | E15: 3
C16: 50 | D16: 10 | E16: 5
C19: 50 | D19: 10
F20: =SUMPRODUCT($E$5:$E$19,F5:F19) -> 0 | G20: =SUMPRODUCT($E$5:$E$19,G5:G19) -> 0 | H20: =SUMPRODUCT($E$5:$E$19,H5:H19) -> 0 | I20: =SUMPRODUCT($E$5:$E$19,I5:I19) -> 0 | J20: =SUMPRODUCT($E$5:$E$19,J5:J19) -> 0 | K20: =SUMPRODUCT($E$5:$E$19,K5:K19) -> 0 | L20: =SUMPRODUCT($E$5:$E$19,L5:L19) -> 0 | M20: =SUMPRODUCT($E$5:$E$19,M5:M19) -> 0 | ... AI20: =SUMPRODUCT($E$5:$E$19,AI5:AI19) -> 0
B22: Target
B23: Benchmark
B24: Ideal Value
B25: Process Features Details

Sheet 1st Key P Diagram
A1: ACTIVITY SUMMARY
A5: P-Diagram
A6: Author: | E6: Noise Factors | G6: External | L6: Noise Factors | N6: Unit to unit | P6: Noise Factor | R6: Deterioration
A7: Date:
A8: Issue: 1
A9: System:
L38: Control Factors

Sheet 1st Key  "What Why"
A1: ACTIVITY SUMMARY
A3: If insert rows/columns, copy formulae in purple cells.
V4: Relative Importance of noise in meeting performance via control factor
A5: Performance Characteristics Ys: | B5: Design control parameters | C5: Weighting of design control parameter. | D5: Unit to Unit Variation | L5: Deterioration | Q5: External
D6: Mfg | Q6: Environment | S6: Human | U6: Total
U9: =SUM(D9:T9) -> 0 | V9: =+U9*C9 -> 0
U10: =SUM(D10:T10) -> 0 | V10: =+U10*C10 -> 0
U11: =SUM(D11:T11) -> 0 | V11: =+U11*C11 -> 0
U12: =SUM(D12:T12) -> 0 | V12: =+U12*C12 -> 0
U13: =SUM(D13:T13) -> 0 | V13: =+U13*C13 -> 0
U14: =SUM(D14:T14) -> 0 | V14: =+U14*C14 -> 0
U15: =SUM(D15:T15) -> 0 | V15: =+U15*C15 -> 0
U16: =SUM(D16:T16) -> 0 | V16: =+U16*C16 -> 0
U17: =SUM(D17:T17) -> 0 | V17: =+U17*C17 -> 0
U18: =SUM(D18:T18) -> 0 | V18: =+U18*C18 -> 0
U19: =SUM(D19:T19) -> 0 | V19: =+U19*C19 -> 0
U20: =SUM(D20:T20) -> 0 | V20: =+U20*C20 -> 0
B21: Relative importance of noise factor: | D21: =SUMPRODUCT($C9:$C20,D9:D20) -> 0 | E21: =SUMPRODUCT($C9:$C20,E9:E20) -> 0 | F21: =SUMPRODUCT($C9:$C20,F9:F20) -> 0 | G21: =SUMPRODUCT($C9:$C20,G9:G20) -> 0 | H21: =SUMPRODUCT($C9:$C20,H9:H20) -> 0 | I21: =SUMPRODUCT($C9:$C20,I9:I20) -> 0 | J21: =SUMPRODUCT($C9:$C20,J9:J20) -> 0 | K21: =SUMPRODUCT($C9:$C20,K9:K20) -> 0 | ... T21: =SUMPRODUCT($C9:$C20,T9:T20) -> 0
B23: Team:
B24: Date completed:

Sheet 1st QFD4
A1: ACTIVITY SUMMARY
E3: Operational assessment | L3: Process Controls
E4: manufacturing controlas and Aids | F4: Difficulty | G4: Frequency | H4: Severity | I4: Detectability | J4: RPN
B5: Process parameters | C5: Target Values
J6: =+F6*G6*H6*I6 -> 0
J7: =+F7*G7*H7*I7 -> 0
J8: =+F8*G8*H8*I8 -> 0
J9: =+F9*G9*H9*I9 -> 0
J10: =+F10*G10*H10*I10 -> 0
J11: =+F11*G11*H11*I11 -> 0
J12: =+F12*G12*H12*I12 -> 0
L13: =SUMPRODUCT($J$6:$J$12,L6:L12) -> 0 | M13: =SUMPRODUCT($J$6:$J$12,M6:M12) -> 0 | N13: =SUMPRODUCT($J$6:$J$12,N6:N12) -> 0 | O13: =SUMPRODUCT($J$6:$J$12,O6:O12) -> 0 | P13: =SUMPRODUCT($J$6:$J$12,P6:P12) -> 0 | Q13: =SUMPRODUCT($J$6:$J$12,Q6:Q12) -> 0 | R13: =SUMPRODUCT($J$6:$J$12,R6:R12) -> 0 | S13: =SUMPRODUCT($J$6:$J$12,S6:S12) -> 0 | ... AB13: =SUMPRODUCT($J$6:$J$12,AB6:AB12) -> 0

Sheet 2nd Key P Diag
A5: P-Diagram
A6: Author: | E6: Noise Factors | G6: External | L6: Noise Factors | N6: Unit to unit | P6: Noise Factor | R6: Deterioration
A7: Date:
A8: Issue: 1
A9: System:
L38: Control Factors

Sheet 2nd Key What Why
A3: If insert rows/columns, copy formulae in purple cells.
X4: Relative Importance of noise in meeting performance via control factor
A5: Performance Characteristics Ys: | B5: Design control parameters | C5: Weighting | D5: External | I5: Unit to Unit | R5: Deterioration
C6: of design | D6: Mfg | S6: Environment | U6: Human | W6: Total
C7: control parameter
A9: Produce Pellets | W9: =SUM(D9:V9) -> 0 | X9: =+W9*C9 -> 0
W10: =SUM(D10:V10) -> 0 | X10: =+W10*C10 -> 0
W11: =SUM(D11:V11) -> 0 | X11: =+W11*C11 -> 0
W12: =SUM(D12:V12) -> 0 | X12: =+W12*C12 -> 0
W13: =SUM(D13:V13) -> 0 | X13: =+W13*C13 -> 0
W14: =SUM(D14:V14) -> 0 | X14: =+W14*C14 -> 0
W15: =SUM(D15:V15) -> 0 | X15: =+W15*C15 -> 0
W16: =SUM(D16:V16) -> 0 | X16: =+W16*C16 -> 0
W17: =SUM(D17:V17) -> 0 | X17: =+W17*C17 -> 0
W18: =SUM(D18:V18) -> 0 | X18: =+W18*C18 -> 0
B19: Relative importance of noise factor: | D19: =SUMPRODUCT($C9:$C18,D9:D18) -> 0 | E19: =SUMPRODUCT($C9:$C18,E9:E18) -> 0 | F19: =SUMPRODUCT($C9:$C18,F9:F18) -> 0 | G19: =SUMPRODUCT($C9:$C18,G9:G18) -> 0 | H19: =SUMPRODUCT($C9:$C18,H9:H18) -> 0 | I19: =SUMPRODUCT($C9:$C18,I9:I18) -> 0 | J19: =SUMPRODUCT($C9:$C18,J9:J18) -> 0 | K19: =SUMPRODUCT($C9:$C18,K9:K18) -> 0 | ... V19: =SUMPRODUCT($C9:$C18,V9:V18) -> 0
B20: Direct factor severity assessment
B21: Team:
B22: Date completed:

Sheet 2nd QFD 4 
E3: Operational assessment | L3: Process Controls
E4: manufacturing controls and Aids | F4: Difficulty | G4: Frequency | H4: Severity | I4: Detectability | J4: RPN
B5: Process parameters | C5: Target Values
J6: =+F6*G6*H6*I6 -> 0
J7: =+F7*G7*H7*I7 -> 0
J8: =+F8*G8*H8*I8 -> 0
J9: =+F9*G9*H9*I9 -> 0
J10: =+F10*G10*H10*I10 -> 0
J11: =+F11*G11*H11*I11 -> 0
J12: =+F12*G12*H12*I12 -> 0
J13: =+F13*G13*H13*I13 -> 0
J14: =+F14*G14*H14*I14 -> 0
J15: =+F15*G15*H15*I15 -> 0
L16: =SUMPRODUCT($J$6:$J$15,L6:L15) -> 0 | M16: =SUMPRODUCT($J$6:$J$15,M6:M15) -> 0 | N16: =SUMPRODUCT($J$6:$J$15,N6:N15) -> 0 | O16: =SUMPRODUCT($J$6:$J$15,O6:O15) -> 0 | P16: =SUMPRODUCT($J$6:$J$15,P6:P15) -> 0 | Q16: =SUMPRODUCT($J$6:$J$15,Q6:Q15) -> 0 | R16: =SUMPRODUCT($J$6:$J$15,R6:R15) -> 0 | S16: =SUMPRODUCT($J$6:$J$15,S6:S15) -> 0 | ... AJ16: =SUMPRODUCT($J$6:$J$15,AJ6:AJ15) -> 0
