Workbook

Sheet CW1
A1: Spreadsheet - Statistical Programming - 2021/2
C2: Task 1 / 50 | D2: Task 2 / 50 | E2: TOTAL | F2: Comments
A3: MARTIN ANDREW | B3: DARZINS | C3: 48 | D3: 26 | E3: =SUM(C3:D3) -> 74
A4: THERESA ALEXANDRA EILEEN | B4: DARZINS | C4: 46 | D4: 6 | E4: =SUM(C4:D4) -> 52
A5: JOHN REGINALD | B5: DUNKLEY-WILLIAMS | C5: 39 | D5: 29 | E5: =SUM(C5:D5) -> 68
A6: JAMES | B6: EVANS | C6: 49 | D6: 45 | E6: =SUM(C6:D6) -> 94
A7: BRANDON PHILIP | B7: GORMAN | C7: 48 | D7: 8 | E7: =SUM(C7:D7) -> 56
A8: CHRISTOPHER JAMES | B8: HOPKINS | C8: 47 | D8: 8 | E8: =SUM(C8:D8) -> 55
A9: BRYONI | B9: KEIGHLEY | C9: 48 | D9: 12 | E9: =SUM(C9:D9) -> 60
A10: STEVEN ALEXANDER | B10: MOON | C10: 44 | D10: 46 | E10: =SUM(C10:D10) -> 90
A11: KATIE | B11: REES | C11: 49 | D11: 39 | E11: =SUM(C11:D11) -> 88
A12: ASHLEIGH | B12: SIMONS | C12: 35 | D12: 32 | E12: =SUM(C12:D12) -> 67
A13: OSVALDAS | B13: STANELIS | C13: 41 | D13: 9 | E13: 40 | F13: Late
A14: EMILY ROSE | B14: STOCKDALE | C14: 40 | D14: 37 | E14: =SUM(C14:D14) -> 77
B16: Mean | C16: =AVERAGE(C3:C14) -> 44.5 | D16: =AVERAGE(D3:D14) -> 24.75 | E16: =AVERAGE(E3:E14) -> 68.416667
B17: SD | C17: =STDEV(C3:C14) -> 4.6612523 | D17: =STDEV(D3:D14) -> 15.404397 | E17: =STDEV(E3:E14) -> 16.768251

Sheet CW2
C1: Task 1 | D1: Task 2 | E1: Overall | F1: Notes
A2: MARTIN ANDREW | B2: DARZINS | C2: 34 | D2: 36 | E2: =SUM(C2:D2) -> 70
A3: THERESA ALEXANDRA EILEEN | B3: DARZINS | C3: 32 | D3: 24 | E3: =SUM(C3:D3) -> 56
A4: JOHN REGINALD | B4: DUNKLEY-WILLIAMS | C4: 38 | D4: 27 | E4: =SUM(C4:D4) -> 65
A5: JAMES | B5: EVANS | C5: 0 | D5: 0 | E5: =SUM(C5:D5) -> 0 | F5: EC
A6: BRANDON PHILIP | B6: GORMAN | C6: 39 | D6: 29 | E6: =SUM(C6:D6) -> 68
A7: CHRISTOPHER JAMES | B7: HOPKINS | C7: 25 | D7: 14 | E7: =SUM(C7:D7) -> 39
A8: BRYONI | B8: KEIGHLEY | C8: 0 | D8: 0 | E8: =SUM(C8:D8) -> 0 | F8: EC
A9: STEVEN ALEXANDER | B9: MOON | C9: 31 | D9: 39 | E9: =SUM(C9:D9) -> 70
A10: KATIE | B10: REES | C10: 0 | D10: 0 | E10: =SUM(C10:D10) -> 0 | F10: DNS, EC?
A11: ASHLEIGH | B11: SIMONS | C11: 0 | D11: 0 | E11: =SUM(C11:D11) -> 0 | F11: DNS, EC?
A12: OSVALDAS | B12: STANELIS | C12: 0 | D12: 0 | E12: =SUM(C12:D12) -> 0 | F12: DNS
A13: EMILY ROSE | B13: STOCKDALE | C13: 39 | D13: 38 | E13: =SUM(C13:D13) -> 77 | F13: EC
B15: Mean | C15: =AVERAGE(C2:C13) -> 19.833333 | D15: =AVERAGE(D2:D13) -> 17.25 | E15: =AVERAGE(E2:E13) -> 37.083333
B16: SD | C16: =STDEV(C2:C13) -> 17.918164 | D16: =STDEV(D2:D13) -> 16.602984 | E16: =STDEV(E2:E13) -> 34.022608

Sheet Overall
C1: CW1 | D1: CW2 | E1: TOTAL
A2: MARTIN ANDREW | B2: DARZINS | C2: ='CW1'!E3 -> 74 | D2: ='CW2'!E2 -> 70 | E2: =(C2+D2)/2 -> 72
A3: THERESA ALEXANDRA EILEEN | B3: DARZINS | C3: ='CW1'!E4 -> 52 | D3: ='CW2'!E3 -> 56 | E3: =(C3+D3)/2 -> 54
A4: JOHN REGINALD | B4: DUNKLEY-WILLIAMS | C4: ='CW1'!E5 -> 68 | D4: ='CW2'!E4 -> 65 | E4: =(C4+D4)/2 -> 66.5
A5: JAMES | B5: EVANS | C5: ='CW1'!E6 -> 94 | D5: ='CW2'!E5 -> 0 | E5: =(C5+D5)/2 -> 47 | F5: CW2 NS. EC?
A6: BRANDON PHILIP | B6: GORMAN | C6: ='CW1'!E7 -> 56 | D6: ='CW2'!E6 -> 68 | E6: =(C6+D6)/2 -> 62
A7: CHRISTOPHER JAMES | B7: HOPKINS | C7: ='CW1'!E8 -> 55 | D7: ='CW2'!E7 -> 39 | E7: =(C7+D7)/2 -> 47
A8: BRYONI | B8: KEIGHLEY | C8: ='CW1'!E9 -> 60 | D8: ='CW2'!E8 -> 0 | E8: =(C8+D8)/2 -> 30 | F8: CW2 NS. EC?
A9: STEVEN ALEXANDER | B9: MOON | C9: ='CW1'!E10 -> 90 | D9: ='CW2'!E9 -> 70 | E9: =(C9+D9)/2 -> 80
A10: KATIE | B10: REES | C10: ='CW1'!E11 -> 88 | D10: ='CW2'!E10 -> 0 | E10: =(C10+D10)/2 -> 44 | F10: CW2 NS. EC?
A11: ASHLEIGH | B11: SIMONS | C11: ='CW1'!E12 -> 67 | D11: ='CW2'!E11 -> 0 | E11: =(C11+D11)/2 -> 33.5 | F11: CW2 NS. EC?
A12: OSVALDAS | B12: STANELIS | C12: ='CW1'!E13 -> 40 | D12: ='CW2'!E12 -> 0 | E12: =(C12+D12)/2 -> 20 | F12: CW2NS
A13: EMILY ROSE | B13: STOCKDALE | C13: ='CW1'!E14 -> 77 | D13: ='CW2'!E13 -> 77 | E13: =(C13+D13)/2 -> 77
