Workbook

Sheet Budget
A1: Glengarnock Castle - Community Archaeology Project
A2: BUDGET
A3: Resource | B3: Rate | C3: Days | D3: Sub total | E3: Total
A4: Project Team
A5: Project Executive | B5: 250 | C5: =GANTT!X49 -> 5.5 | D5: =B5*C5 -> 1375
A6: Project Assurance Officer | B6: 250 | C6: =GANTT!X50 -> 5.5 | D6: =B6*C6 -> 1375
A7: Project Manager | B7: 200 | C7: =GANTT!X51 -> 36 | D7: =B7*C7 -> 7200
A8: Expert Team Leader | B8: 170 | C8: =GANTT!X52 -> 9 | D8: =B8*C8 -> 1530
A9: Expert - Fieldwork Strategy | B9: 140 | C9: =GANTT!X53 -> 11 | D9: =B9*C9 -> 1540
A10: Expert - On site and online communication | B10: 120 | C10: =GANTT!X54 -> 11 | D10: =B10*C10 -> 1320
A11: Expert - Geophysical and Topographical Survey and reporting | B11: 180 | C11: =GANTT!X55 -> 10 | D11: =B11*C11 -> 1800
A12: Expert - Fieldwork Supervisor, Post excavation processes, assessment/analysis reporting | B12: 130 | C12: =GANTT!X56 -> 27.5 | D12: =B12*C12 -> 3575
A13: Expert - Fieldwork Supervisor | B13: 120 | C13: =GANTT!X57 -> 8.5 | D13: =B13*C13 -> 1020
A14: Expert - Historic Building recording Fieldwork, pottery and small finds specialist assessment reporting and analysis | B14: 180 | C14: =GANTT!X58 -> 14 | D14: =B14*C14 -> 2520
A15: Expert - Historic Building recording Fieldwork and specialist reporting and analysis | B15: 180 | C15: =GANTT!X59 -> 10 | D15: =B15*C15 -> 1800
A16: Expert - Specialist zooarchaeological assessment reporting and analysis | B16: 200 | C16: =GANTT!X60 -> 10 | D16: =B16*C16 -> 2000
A17: Expert - Specialist Paleoenvironmental assessment reporting and analysis | B17: 200 | C17: =GANTT!X61 -> 12 | D17: =B17*C17 -> 2400
E18: =SUM(D5:D17) -> 29455
A19: Other costs
A20: Travel / expenses | D20: 1500
A21: Accommodation | D21: 2000
A22: Van Hire | D22: 300
A23: Site Consumables (Finds Bags, sample bags, labels, records sheets etc) | D23: 200
A24: Site Welfare | D24: 1800
A25: Archive Deposition Fees | D25: 1200
E27: =SUM(D20:D25) -> 7000
B29: SUB-TOTAL | C29: =SUM(C5:C18) -> 170 | E29: =SUM(E5:E27) -> 36455
A31: Overheads (10% of sub total) | E31: =E29*0.1 -> 3645.5
B33: TOTAL | E33: =E29+E31 -> 40100.5
A35: (Please note: For the purposes of this assignment, all budgeted rates and costs are fictional)

Sheet GANTT
A1: Product No./Name
B2: 44348 | C2: 44378 | D2: 44409 | E2: 44440 | F2: 44470 | G2: 44501 | H2: 44531 | I2: 44562 | J2: 44593 | K2: 44621 | L2: 44652 | M2: 44682 | N2: 44713 | O2: 44743 | P2: 44774 | Q2: 44805 | R2: 44835 | S2: 44866 | T2: 44896 | U2: 44927 | V2: 44958 | W2: 44986
A4: 1 - Finalised PD & Risk Log | B4: 13
A5: 2 - Permissions | B5: 1
A6: 3 - RAMS/H&S Plan | B6: 1
A7: 4 - Field Archive | C7: 20.5
A8: 5 - Social Timeline/Dig Broadcast | C8: 4
A9: 6 - Stratigraphic Assessment | D9: 2.5
A10: 7 - Specialist Finds Assessment | E10: 0.5 | F10: 2.5 | G10: 1.5 | H10: 0.5 | I10: 5.5
A11: 8 - Integrated Assessment Report | J11: 0.5 | K11: 3
A12: 9 - Updated Project Design | K12: 12
A13: 10 - Finalised UPD & Risk Log | L13: 2.5 | M13: 4.5
A14: 11 - Permissions | M14: 1
A15: 12 - RAMS/H&S Plan | M15: 1
A16: 13 - Field Archive | M16: 21
A17: 14 - Social Timeline/Dig Broadcast | M17: 4
A18: 15 - Stratigraphic Assessment | N18: 2.5
A19: 16 - Specialist Finds Assessment | O19: 0.5 | P19: 2 | Q19: 1 | R19: 2 | S19: 2
A20: 17 - Integrated Assessment Report | S20: 0.5 | T20: 3
A21: 18 - Post Excavation Research Design | P21: 2 | Q21: 1 | R21: 3 | S21: 6 | T21: 3
A22: 19 - Draft Analysis Report | P22: 3 | Q22: 2 | R22: 3 | S22: 6 | T22: 7.5
A23: 20 - Approval of Final Analysis Report | T23: 7
A24: 21 - Full Dissemination of Results | W24: 2
A25: 22 - Project Archive Deposition | T25: 1 | U25: 2 | V25: 2 | W25: 1
A26: 23 - End of Project Report | W26: 3
A28: Total Person Days | B28: =SUM(B4:B26) -> 15 | C28: =SUM(C4:C26) -> 24.5 | D28: =SUM(D4:D26) -> 2.5 | E28: =SUM(E4:E26) -> 0.5 | F28: =SUM(F4:F26) -> 2.5 | G28: =SUM(G4:G26) -> 1.5 | H28: =SUM(H4:H26) -> 0.5 | I28: =SUM(I4:I26) -> 5.5 | ... W28: =SUM(W4:W26) -> 6
A30: Staff Cost Per Month | B30: =SUM((B49*Budget!$B$5)+(B50*Budget!$B$6)+(GANTT!B51*Budget!$B$7)+(GANTT!B52*Budget!$B$8)+(GANTT!B53*Budget!$B$9)+(GANTT!B54*Budget!$B$10)+(GANTT!B55*Budget!$B$11)+(GANTT!B56*Budget!$B$12)+(GANTT!B57*Budget!$B$13)+(GANTT!B58*Budget!$B$14)+(GANTT!B59*Budget!$B$15)+(GANTT!B60*Budget!$B$16)+(GANTT!B61*Budget!$B$17)) -> 2820 | C30: =SUM((C49*Budget!$B$5)+(C50*Budget!$B$6)+(GANTT!C51*Budget!$B$7)+(GANTT!C52*Budget!$B$8)+(GANTT!C53*Budget!$B$9)+(GANTT!C54*Budget!$B$10)+(GANTT!C55*Budget!$B$11)+(GANTT!C56*Budget!$B$12)+(GANTT!C57*Budget!$B$13)+(GANTT!C58*Budget!$B$14)+(GANTT!C59*Budget!$B$15)+(GANTT!C60*Budget!$B$16)+(GANTT!C61*Budget!$B$17)) -> 3560 | D30: =SUM((D49*Budget!$B$5)+(D50*Budget!$B$6)+(GANTT!D51*Budget!$B$7)+(GANTT!D52*Budget!$B$8)+(GANTT!D53*Budget!$B$9)+(GANTT!D54*Budget!$B$10)+(GANTT!D55*Budget!$B$11)+(GANTT!D56*Budget!$B$12)+(GANTT!D57*Budget!$B$13)+(GANTT!D58*Budget!$B$14)+(GANTT!D59*Budget!$B$15)+(GANTT!D60*Budget!$B$16)+(GANTT!D61*Budget!$B$17)) -> 360 | E30: =SUM((E49*Budget!$B$5)+(E50*Budget!$B$6)+(GANTT!E51*Budget!$B$7)+(GANTT!E52*Budget!$B$8)+(GANTT!E53*Budget!$B$9)+(GANTT!E54*Budget!$B$10)+(GANTT!E55*Budget!$B$11)+(GANTT!E56*Budget!$B$12)+(GANTT!E57*Budget!$B$13)+(GANTT!E58*Budget!$B$14)+(GANTT!E59*Budget!$B$15)+(GANTT!E60*Budget!$B$16)+(GANTT!E61*Budget!$B$17)) -> 100 | F30: =SUM((F49*Budget!$B$5)+(F50*Budget!$B$6)+(GANTT!F51*Budget!$B$7)+(GANTT!F52*Budget!$B$8)+(GANTT!F53*Budget!$B$9)+(GANTT!F54*Budget!$B$10)+(GANTT!F55*Budget!$B$11)+(GANTT!F56*Budget!$B$12)+(GANTT!F57*Budget!$B$13)+(GANTT!F58*Budget!$B$14)+(GANTT!F59*Budget!$B$15)+(GANTT!F60*Budget!$B$16)+(GANTT!F61*Budget!$B$17)) -> 460 | G30: =SUM((G49*Budget!$B$5)+(G50*Budget!$B$6)+(GANTT!G51*Budget!$B$7)+(GANTT!G52*Budget!$B$8)+(GANTT!G53*Budget!$B$9)+(GANTT!G54*Budget!$B$10)+(GANTT!G55*Budget!$B$11)+(GANTT!G56*Budget!$B$12)+(GANTT!G57*Budget!$B$13)+(GANTT!G58*Budget!$B$14)+(GANTT!G59*Budget!$B$15)+(GANTT!G60*Budget!$B$16)+(GANTT!G61*Budget!$B$17)) -> 280 | H30: =SUM((H49*Budget!$B$5)+(H50*Budget!$B$6)+(GANTT!H51*Budget!$B$7)+(GANTT!H52*Budget!$B$8)+(GANTT!H53*Budget!$B$9)+(GANTT!H54*Budget!$B$10)+(GANTT!H55*Budget!$B$11)+(GANTT!H56*Budget!$B$12)+(GANTT!H57*Budget!$B$13)+(GANTT!H58*Budget!$B$14)+(GANTT!H59*Budget!$B$15)+(GANTT!H60*Budget!$B$16)+(GANTT!H61*Budget!$B$17)) -> 100 | I30: =SUM((I49*Budget!$B$5)+(I50*Budget!$B$6)+(GANTT!I51*Budget!$B$7)+(GANTT!I52*Budget!$B$8)+(GANTT!I53*Budget!$B$9)+(GANTT!I54*Budget!$B$10)+(GANTT!I55*Budget!$B$11)+(GANTT!I56*Budget!$B$12)+(GANTT!I57*Budget!$B$13)+(GANTT!I58*Budget!$B$14)+(GANTT!I59*Budget!$B$15)+(GANTT!I60*Budget!$B$16)+(GANTT!I61*Budget!$B$17)) -> 1150 | ... W30: =SUM((W49*Budget!$B$5)+(W50*Budget!$B$6)+(GANTT!W51*Budget!$B$7)+(GANTT!W52*Budget!$B$8)+(GANTT!W53*Budget!$B$9)+(GANTT!W54*Budget!$B$10)+(GANTT!W55*Budget!$B$11)+(GANTT!W56*Budget!$B$12)+(GANTT!W57*Budget!$B$13)+(GANTT!W58*Budget!$B$14)+(GANTT!W59*Budget!$B$15)+(GANTT!W60*Budget!$B$16)+(GANTT!W61*Budget!$B$17)) -> 1300 | Y30: =SUM(B30:W30) -> 29455
A31: Travel / expenses | C31: 750 | M31: 750 | Y31: =SUM(B31:W31) -> 1500
A32: Accommodation | C32: 1000 | M32: 1000 | Y32: =SUM(B32:W32) -> 2000
A33: Van Hire | C33: 150 | M33: 150 | Y33: =SUM(B33:W33) -> 300
A34: Site Consumables (Finds Bags, sample bags, labels, records sheets etc) | C34: 100 | M34: 100 | Y34: =SUM(B34:W34) -> 200
A35: Site Welfare | C35: 900 | M35: 900 | Y35: =SUM(B35:W35) -> 1800
A36: Archive Deposition Fees | W36: 1200 | Y36: =SUM(B36:W36) -> 1200
A38: TOTAL COST PER MONTH (Less overheads) | B38: =SUM(B30:B36) -> 2820 | C38: =SUM(C30:C36) -> 6460 | D38: =SUM(D30:D36) -> 360 | E38: =SUM(E30:E36) -> 100 | F38: =SUM(F30:F36) -> 460 | G38: =SUM(G30:G36) -> 280 | H38: =SUM(H30:H36) -> 100 | I38: =SUM(I30:I36) -> 1150 | ... W38: =SUM(W30:W36) -> 2500 | Y38: =SUM(Y30:Y36) -> 36455
A40: (Please note: For the purposes of this assignment all resources, rates and costs are fictional) | Y40: =Y38-SUM(B38:W38) -> 0 | Z40: Check Sum
A48: Person Days by Team Role
A49: Project Executive | B49: 0.5 | I49: 0.5 | K49: 0.5 | M49: 1 | S49: 1 | T49: 1 | W49: 1 | X49: =SUM(B49:W49) -> 5.5
A50: Project Assurance Officer | B50: 0.5 | I50: 0.5 | K50: 0.5 | M50: 1 | S50: 1 | T50: 1 | W50: 1 | X50: =SUM(B50:W50) -> 5.5
A51: Project Manager | B51: 6 | C51: 0.5 | D51: 0.5 | E51: 0.5 | F51: 0.5 | G51: 0.5 | H51: 0.5 | I51: 0.5 | J51: 0.5 | K51: 3 | L51: 1 | M51: 3 | N51: 0.5 | O51: 0.5 | P51: 1 | Q51: 1 | R51: 2 | S51: 2.5 | T51: 3.5 | U51: 2 | V51: 2 | W51: 4 | X51: =SUM(B51:W51) -> 36
A52: Expert Team Leader | B52: 1 | C52: 2 | K52: 1 | M52: 2.5 | R52: 1 | S52: 1 | T52: 0.5 | X52: =SUM(B52:W52) -> 9
...
