Workbook

Sheet Centre of Gravity
A1: Honda CBR1000RR 2006 | B1: No Rider, Level | C1: Rider, Level | D1: No Rider, Lifted | E1: Rider, Lifted | G1: Zero SR/F 2021 | H1: No Rider, Level | I1: Rider, Level | J1: No Rider, Lifted | K1: Rider, Lifted
A2: Front wheel Weight (Kg) | B2: 104.4 | C2: 134 | D2: 112 | E2: 147.2 | G2: Front wheel Weight (Kg) | H2: 117.7 | I2: 145.3 | J2: 124.7 | K2: 159.2
A3: Rear Wheel Weight (Kg) (weight of stool included) | B3: 94.65 | C3: 137.2 | D3: 109.2 | E3: 146 | G3: Rear Wheel Weight (Kg) (weight of stool included) | H3: 106.85 | I3: 152.6 | J3: 122.8 | K3: 161.1
A4: Rider Weight (kg) | B4: 72.15 | G4: Rider Weight (kg) | H4: 73.15
A5: Stool Weight (Kg) | B5: 22.15 | G5: Stool Weight (Kg) | H5: 22.15
A7: Wheelbase (m) | B7: 1.39 | G7: Wheelbase (m) | H7: 1.45
A9: Rav (m) | B9: 0.3054 | G9: Rav (m) | H9: 0.3074
A11: Stool Height (m) | B11: 0.35 | G11: Stool Height (m) | H11: 0.35
A13: Angle of Bike (Radians) | B13: =ASIN(B11/B7) -> 0.25453825 | G13: Angle of Bike (Radians) | H13: =ASIN(H11/H7) -> 0.24378694
A14: Angle of Bike (degrees) | B14: =B13*180/PI() -> 14.583967 | G14: Angle of Bike (degrees) | H14: =H13*180/PI() -> 13.967963
A16: Xcog (m) | B16: =B3*B7/(B2+B3) -> 0.66095705 | G16: Xcog (m) | H16: =H3*H7/(H2+H3) -> 0.68996883
A17: Xcog (m) with rider | B17: =C3*B7/(C2+C3) -> 0.70320059 | G17: Xcog (m) with rider | H17: =I3*H7/(I2+I3) -> 0.74276603
A18: Ycog (m) | B18: =((B7*(B3-D3+B5))/((B2+B3)*TAN(B13)))+B9 -> 0.50938088 | G18: Ycog (m) | H18: =((H7*(H3-J3+H5))/((H2+H3)*TAN(H13)))+H9 -> 0.46835749
A19: Ycog (m) with rider | B19: =((B7*(C3-E3+B5))/((C2+C3)*TAN(B13)))+B9 -> 0.56838418 | G19: Ycog (m) with rider | H19: =((H7*(I3-K3+H5))/((I2+I3)*TAN(H13)))+H9 -> 0.5745128
A20: Percentage for Xcog along wheelbase | B20: =(B16/$B$7)*100 -> 47.550867 | G20: Percentage for Xcog along wheelbase | H20: =(H16/$H$7)*100 -> 47.584057
A21: Percentage for Xcog with rider along wheelbase | B21: =(B17/$B$7)*100 -> 50.589971 | G21: Percentage for Xcog with rider along wheelbase | H21: =(H17/$H$7)*100 -> 51.225243

Sheet Gearbox V4S
A1: Gear Calc Panigale V4S 2021 | D1: wheel diameter | E1: width | F1: aspect ratio | G1: rim size | J1: Chain Length | S1: 3000
D2: =((((((((E2/25.4)*(F2/100))+(G2/2))*2)*PI())*25.4)/PI())/1000) -> 0.6718 | E2: 200 | F2: 60 | G2: 17 | J2: Chain Size (inches) | K2: Front sprocket | L2: Rear sprocket | M2: Chain | N2: Distance between front sprocket and pivot (mm) | O2: Swingarm Length (mm) | S2: =S1+500 -> 3500
A3: Primary | B3: 30 | C3: 54 | J3: 0.625 | K3: =B4 -> 16 | L3: =C4 -> 41 | M3: 114 | N3: 95 | O3: =(0.5*(M3-(0.5*(K3+L3)))*25.4*J3)-N3 -> 583.65625 | S3: =S2+500 -> 4000 | T3: 14 | U3: 38
A4: Final | B4: 16 | C4: 41 | S4: =S3+500 -> 4500 | T4: 15 | U4: 39
A5: Wheel diameter(m) | B5: =D2 -> 0.6718 | S5: =S4+500 -> 5000 | T5: 16 | U5: 40
A6: RPM (rpm gear 1-5) (rpm in 6th) | B6: 14500 | S6: =S5+500 -> 5500 | T6: 17 | U6: 41
S7: =S6+500 -> 6000 | T7: 18 | U7: 42
A8: Ratios | B8: Input | C8: Output | D8: Speed (km/h) | E8: Speed (mph) | F8: Revs (Next gear) | G8: Rev Fall | S8: =S7+500 -> 6500 | U8: 43
A9: 1st gear | B9: 14 | C9: 38 | D9: =((($B$6*60)*(B9/C9)*($B$3/$C$3)*$B$5*PI())/1000)*($B$4/$C$4) -> 146.66186 | E9: =D9*0.621 -> 91.077014 | F9: =$B$6*(B9/C9)*(C10/B10) -> 11312.693 | G9: =$B$6-F9 -> 3187.3065 | S9: =S8+500 -> 7000 | U9: 44
A10: 2nd | B10: 17 | C10: 36 | D10: =((($B$6*60)*(B10/C10)*($B$3/$C$3)*$B$5*PI())/1000)*($B$4/$C$4) -> 187.98326 | E10: =D10*0.621 -> 116.7376 | F10: =$B$6*(B10/C10)*(C11/B11) -> 11892.544 | G10: =$B$6-F10 -> 2607.4561 | S10: =S9+500 -> 7500
A11: 3rd | B11: 19 | C11: 33 | D11: =((($B$6*60)*(B11/C11)*($B$3/$C$3)*$B$5*PI())/1000)*($B$4/$C$4) -> 229.19884 | E11: =D11*0.621 -> 142.33248 | F11: =$B$6*(B11/C11)*(C12/B12) -> 12721.501 | G11: =$B$6-F11 -> 1778.4993 | S11: =S10+500 -> 8000
A12: 4th | B12: 21 | C12: 32 | D12: =((($B$6*60)*(B12/C12)*($B$3/$C$3)*$B$5*PI())/1000)*($B$4/$C$4) -> 261.24144 | E12: =D12*0.621 -> 162.23093 | F12: =$B$6*(B12/C12)*(C13/B13) -> 12975.852 | G12: =$B$6-F12 -> 1524.1477 | S12: =S11+500 -> 8500
A13: 5th | B13: 22 | C13: 30 | D13: =((($B$6*60)*(B13/C13)*($B$3/$C$3)*$B$5*PI())/1000)*($B$4/$C$4) -> 291.92694 | E13: =D13*0.621 -> 181.28663 | F13: =$B$6*(B13/C13)*(C14/B14) -> 13291.667 | G13: =$B$6-F13 -> 1208.3333 | S13: =S12+500 -> 9000
A14: 6th | B14: 24 | C14: 30 | D14: =(((B6*60)*(B14/C14)*($B$3/$C$3)*$B$5*PI())/1000)*($B$4/$C$4) -> 318.46575 | E14: =D14*0.621 -> 197.76723 | S14: =S13+500 -> 9500
S15: =S14+500 -> 10000
S16: =S15+500 -> 10500
S17: =S16+500 -> 11000
S18: =S17+500 -> 11500
S19: =S18+500 -> 12000
S20: =S19+500 -> 12500
S21: =S20+500 -> 13000
S22: =S21+500 -> 13500
S23: =S22+500 -> 14000
S24: =S23+500 -> 14500
S25: =S24+500 -> 15000

Sheet Shift Point Data V4S
A1: RPM | B1: Power(hp) | C1: Torque (Nm) | D1: Power (kW) | F1: Road Speed 1st (km/h) | G1: Road Speed 2nd | H1: Road Speed 3rd | I1: Road Speed 4th | J1: Road Speed 5th | K1: Road Speed 6th | M1: Driving force 1st (N) | N1: Driving force 2nd (N) | O1: Driving force 3rd (N) | P1: Driving force 4th (N) | Q1: Driving force 5th (N) | R1: Driving force 6th (N)
A2: 4000 | B2: 41 | C2: 54 | D2: =B2/1.341 -> 30.574198 | F2: =(((A2*60)*('Gearbox V4S'!$B$9/'Gearbox V4S'!$C$9)*('Gearbox V4S'!$B$3/'Gearbox V4S'!$C$3)*'Gearbox V4S'!$B$5*PI())/1000)*('Gearbox V4S'!$B$4/'Gearbox V4S'!$C$4) -> 40.458444 | G2: =(((A2*60)*('Gearbox V4S'!$B$10/'Gearbox V4S'!$C$10)*('Gearbox V4S'!$B$3/'Gearbox V4S'!$C$3)*'Gearbox V4S'!$B$5*PI())/1000)*('Gearbox V4S'!$B$4/'Gearbox V4S'!$C$4) -> 51.85745 | H2: =(((A2*60)*('Gearbox V4S'!$B$11/'Gearbox V4S'!$C$11)*('Gearbox V4S'!$B$3/'Gearbox V4S'!$C$3)*'Gearbox V4S'!$B$5*PI())/1000)*('Gearbox V4S'!$B$4/'Gearbox V4S'!$C$4) -> 63.227265 | I2: =(((A2*60)*('Gearbox V4S'!$B$12/'Gearbox V4S'!$C$12)*('Gearbox V4S'!$B$3/'Gearbox V4S'!$C$3)*'Gearbox V4S'!$B$5*PI())/1000)*('Gearbox V4S'!$B$4/'Gearbox V4S'!$C$4) -> 72.066603 | J2: =(((A2*60)*('Gearbox V4S'!$B$13/'Gearbox V4S'!$C$13)*('Gearbox V4S'!$B$3/'Gearbox V4S'!$C$3)*'Gearbox V4S'!$B$5*PI())/1000)*('Gearbox V4S'!$B$4/'Gearbox V4S'!$C$4) -> 80.531569 | K2: =(((A2*60)*('Gearbox V4S'!$B$14/'Gearbox V4S'!$C$14)*('Gearbox V4S'!$B$3/'Gearbox V4S'!$C$3)*'Gearbox V4S'!$B$5*PI())/1000)*('Gearbox V4S'!$B$4/'Gearbox V4S'!$C$4) -> 87.852621 | M2: =(D2*1000)/(F2/3.6) -> 2720.498 | N2: =(D2*1000)/(G2/3.6) -> 2122.4938 | O2: =(D2*1000)/(H2/3.6) -> 1740.8173 | P2: =(D2*1000)/(I2/3.6) -> 1527.2971 | Q2: =(D2*1000)/(J2/3.6) -> 1366.7574 | R2: =(D2*1000)/(K2/3.6) -> 1252.8609
A3: =A2+500 -> 4500 | B3: 48 | C3: 56 | D3: =B3/1.341 -> 35.794183 | F3: =(((A3*60)*('Gearbox V4S'!$B$9/'Gearbox V4S'!$C$9)*('Gearbox V4S'!$B$3/'Gearbox V4S'!$C$3)*'Gearbox V4S'!$B$5*PI())/1000)*('Gearbox V4S'!$B$4/'Gearbox V4S'!$C$4) -> 45.515749 | G3: =(((A3*60)*('Gearbox V4S'!$B$10/'Gearbox V4S'!$C$10)*('Gearbox V4S'!$B$3/'Gearbox V4S'!$C$3)*'Gearbox V4S'!$B$5*PI())/1000)*('Gearbox V4S'!$B$4/'Gearbox V4S'!$C$4) -> 58.339631 | H3: =(((A3*60)*('Gearbox V4S'!$B$11/'Gearbox V4S'!$C$11)*('Gearbox V4S'!$B$3/'Gearbox V4S'!$C$3)*'Gearbox V4S'!$B$5*PI())/1000)*('Gearbox V4S'!$B$4/'Gearbox V4S'!$C$4) -> 71.130673 | I3: =(((A3*60)*('Gearbox V4S'!$B$12/'Gearbox V4S'!$C$12)*('Gearbox V4S'!$B$3/'Gearbox V4S'!$C$3)*'Gearbox V4S'!$B$5*PI())/1000)*('Gearbox V4S'!$B$4/'Gearbox V4S'!$C$4) -> 81.074928 | J3: =(((A3*60)*('Gearbox V4S'!$B$13/'Gearbox V4S'!$C$13)*('Gearbox V4S'!$B$3/'Gearbox V4S'!$C$3)*'Gearbox V4S'!$B$5*PI())/1000)*('Gearbox V4S'!$B$4/'Gearbox V4S'!$C$4) -> 90.598015 | K3: =(((A3*60)*('Gearbox V4S'!$B$14/'Gearbox V4S'!$C$14)*('Gearbox V4S'!$B$3/'Gearbox V4S'!$C$3)*'Gearbox V4S'!$B$5*PI())/1000)*('Gearbox V4S'!$B$4/'Gearbox V4S'!$C$4) -> 98.834198 | M3: =(D3*1000)/(F3/3.6) -> 2831.0873 | N3: =(D3*1000)/(G3/3.6) -> 2208.774 | O3: =(D3*1000)/(H3/3.6) -> 1811.5822 | P3: =(D3*1000)/(I3/3.6) -> 1589.3824 | Q3: =(D3*1000)/(J3/3.6) -> 1422.3166 | R3: =(D3*1000)/(K3/3.6) -> 1303.7902
A4: =A3+500 -> 5000 | B4: 56 | C4: 58 | D4: =B4/1.341 -> 41.759881 | F4: =(((A4*60)*('Gearbox V4S'!$B$9/'Gearbox V4S'!$C$9)*('Gearbox V4S'!$B$3/'Gearbox V4S'!$C$3)*'Gearbox V4S'!$B$5*PI())/1000)*('Gearbox V4S'!$B$4/'Gearbox V4S'!$C$4) -> 50.573055 | G4: =(((A4*60)*('Gearbox V4S'!$B$10/'Gearbox V4S'!$C$10)*('Gearbox V4S'!$B$3/'Gearbox V4S'!$C$3)*'Gearbox V4S'!$B$5*PI())/1000)*('Gearbox V4S'!$B$4/'Gearbox V4S'!$C$4) -> 64.821812 | H4: =(((A4*60)*('Gearbox V4S'!$B$11/'Gearbox V4S'!$C$11)*('Gearbox V4S'!$B$3/'Gearbox V4S'!$C$3)*'Gearbox V4S'!$B$5*PI())/1000)*('Gearbox V4S'!$B$4/'Gearbox V4S'!$C$4) -> 79.034081 | I4: =(((A4*60)*('Gearbox V4S'!$B$12/'Gearbox V4S'!$C$12)*('Gearbox V4S'!$B$3/'Gearbox V4S'!$C$3)*'Gearbox V4S'!$B$5*PI())/1000)*('Gearbox V4S'!$B$4/'Gearbox V4S'!$C$4) -> 90.083254 | J4: =(((A4*60)*('Gearbox V4S'!$B$13/'Gearbox V4S'!$C$13)*('Gearbox V4S'!$B$3/'Gearbox V4S'!$C$3)*'Gearbox V4S'!$B$5*PI())/1000)*('Gearbox V4S'!$B$4/'Gearbox V4S'!$C$4) -> 100.66446 | K4: =(((A4*60)*('Gearbox V4S'!$B$14/'Gearbox V4S'!$C$14)*('Gearbox V4S'!$B$3/'Gearbox V4S'!$C$3)*'Gearbox V4S'!$B$5*PI())/1000)*('Gearbox V4S'!$B$4/'Gearbox V4S'!$C$4) -> 109.81578 | M4: =(D4*1000)/(F4/3.6) -> 2972.6417 | N4: =(D4*1000)/(G4/3.6) -> 2319.2127 | O4: =(D4*1000)/(H4/3.6) -> 1902.1613 | P4: =(D4*1000)/(I4/3.6) -> 1668.8515 | Q4: =(D4*1000)/(J4/3.6) -> 1493.4324 | R4: =(D4*1000)/(K4/3.6) -> 1368.9797
A5: =A4+500 -> 5500 | B5: 68 | C5: 65 | D5: =B5/1.341 -> 50.708427 | F5: =(((A5*60)*('Gearbox V4S'!$B$9/'Gearbox V4S'!$C$9)*('Gearbox V4S'!$B$3/'Gearbox V4S'!$C$3)*'Gearbox V4S'!$B$5*PI())/1000)*('Gearbox V4S'!$B$4/'Gearbox V4S'!$C$4) -> 55.63036 | G5: =(((A5*60)*('Gearbox V4S'!$B$10/'Gearbox V4S'!$C$10)*('Gearbox V4S'!$B$3/'Gearbox V4S'!$C$3)*'Gearbox V4S'!$B$5*PI())/1000)*('Gearbox V4S'!$B$4/'Gearbox V4S'!$C$4) -> 71.303993 | H5: =(((A5*60)*('Gearbox V4S'!$B$11/'Gearbox V4S'!$C$11)*('Gearbox V4S'!$B$3/'Gearbox V4S'!$C$3)*'Gearbox V4S'!$B$5*PI())/1000)*('Gearbox V4S'!$B$4/'Gearbox V4S'!$C$4) -> 86.937489 | I5: =(((A5*60)*('Gearbox V4S'!$B$12/'Gearbox V4S'!$C$12)*('Gearbox V4S'!$B$3/'Gearbox V4S'!$C$3)*'Gearbox V4S'!$B$5*PI())/1000)*('Gearbox V4S'!$B$4/'Gearbox V4S'!$C$4) -> 99.091579 | J5: =(((A5*60)*('Gearbox V4S'!$B$13/'Gearbox V4S'!$C$13)*('Gearbox V4S'!$B$3/'Gearbox V4S'!$C$3)*'Gearbox V4S'!$B$5*PI())/1000)*('Gearbox V4S'!$B$4/'Gearbox V4S'!$C$4) -> 110.73091 | K5: =(((A5*60)*('Gearbox V4S'!$B$14/'Gearbox V4S'!$C$14)*('Gearbox V4S'!$B$3/'Gearbox V4S'!$C$3)*'Gearbox V4S'!$B$5*PI())/1000)*('Gearbox V4S'!$B$4/'Gearbox V4S'!$C$4) -> 120.79735 | M5: =(D5*1000)/(F5/3.6) -> 3281.4876 | N5: =(D5*1000)/(G5/3.6) -> 2560.1699 | O5: =(D5*1000)/(H5/3.6) -> 2099.7884 | P5: =(D5*1000)/(I5/3.6) -> 1842.2386 | Q5: =(D5*1000)/(J5/3.6) -> 1648.5942 | R5: =(D5*1000)/(K5/3.6) -> 1511.2114
A6: =A5+500 -> 6000 | B6: 75 | C6: 65 | D6: =B6/1.341 -> 55.928412 | F6: =(((A6*60)*('Gearbox V4S'!$B$9/'Gearbox V4S'!$C$9)*('Gearbox V4S'!$B$3/'Gearbox V4S'!$C$3)*'Gearbox V4S'!$B$5*PI())/1000)*('Gearbox V4S'!$B$4/'Gearbox V4S'!$C$4) -> 60.687666 | G6: =(((A6*60)*('Gearbox V4S'!$B$10/'Gearbox V4S'!$C$10)*('Gearbox V4S'!$B$3/'Gearbox V4S'!$C$3)*'Gearbox V4S'!$B$5*PI())/1000)*('Gearbox V4S'!$B$4/'Gearbox V4S'!$C$4) -> 77.786175 | H6: =(((A6*60)*('Gearbox V4S'!$B$11/'Gearbox V4S'!$C$11)*('Gearbox V4S'!$B$3/'Gearbox V4S'!$C$3)*'Gearbox V4S'!$B$5*PI())/1000)*('Gearbox V4S'!$B$4/'Gearbox V4S'!$C$4) -> 94.840897 | I6: =(((A6*60)*('Gearbox V4S'!$B$12/'Gearbox V4S'!$C$12)*('Gearbox V4S'!$B$3/'Gearbox V4S'!$C$3)*'Gearbox V4S'!$B$5*PI())/1000)*('Gearbox V4S'!$B$4/'Gearbox V4S'!$C$4) -> 108.0999 | J6: =(((A6*60)*('Gearbox V4S'!$B$13/'Gearbox V4S'!$C$13)*('Gearbox V4S'!$B$3/'Gearbox V4S'!$C$3)*'Gearbox V4S'!$B$5*PI())/1000)*('Gearbox V4S'!$B$4/'Gearbox V4S'!$C$4) -> 120.79735 | K6: =(((A6*60)*('Gearbox V4S'!$B$14/'Gearbox V4S'!$C$14)*('Gearbox V4S'!$B$3/'Gearbox V4S'!$C$3)*'Gearbox V4S'!$B$5*PI())/1000)*('Gearbox V4S'!$B$4/'Gearbox V4S'!$C$4) -> 131.77893 | M6: =(D6*1000)/(F6/3.6) -> 3317.6804 | N6: =(D6*1000)/(G6/3.6) -> 2588.407 | O6: =(D6*1000)/(H6/3.6) -> 2122.9479 | P6: =(D6*1000)/(I6/3.6) -> 1862.5574 | Q6: =(D6*1000)/(J6/3.6) -> 1666.7773 | R6: =(D6*1000)/(K6/3.6) -> 1527.8792
A7: =A6+500 -> 6500 | B7: 84 | C7: 67 | D7: =B7/1.341 -> 62.639821 | F7: =(((A7*60)*('Gearbox V4S'!$B$9/'Gearbox V4S'!$C$9)*('Gearbox V4S'!$B$3/'Gearbox V4S'!$C$3)*'Gearbox V4S'!$B$5*PI())/1000)*('Gearbox V4S'!$B$4/'Gearbox V4S'!$C$4) -> 65.744971 | G7: =(((A7*60)*('Gearbox V4S'!$B$10/'Gearbox V4S'!$C$10)*('Gearbox V4S'!$B$3/'Gearbox V4S'!$C$3)*'Gearbox V4S'!$B$5*PI())/1000)*('Gearbox V4S'!$B$4/'Gearbox V4S'!$C$4) -> 84.268356 | H7: =(((A7*60)*('Gearbox V4S'!$B$11/'Gearbox V4S'!$C$11)*('Gearbox V4S'!$B$3/'Gearbox V4S'!$C$3)*'Gearbox V4S'!$B$5*PI())/1000)*('Gearbox V4S'!$B$4/'Gearbox V4S'!$C$4) -> 102.74431 | I7: =(((A7*60)*('Gearbox V4S'!$B$12/'Gearbox V4S'!$C$12)*('Gearbox V4S'!$B$3/'Gearbox V4S'!$C$3)*'Gearbox V4S'!$B$5*PI())/1000)*('Gearbox V4S'!$B$4/'Gearbox V4S'!$C$4) -> 117.10823 | J7: =(((A7*60)*('Gearbox V4S'!$B$13/'Gearbox V4S'!$C$13)*('Gearbox V4S'!$B$3/'Gearbox V4S'!$C$3)*'Gearbox V4S'!$B$5*PI())/1000)*('Gearbox V4S'!$B$4/'Gearbox V4S'!$C$4) -> 130.8638 | K7: =(((A7*60)*('Gearbox V4S'!$B$14/'Gearbox V4S'!$C$14)*('Gearbox V4S'!$B$3/'Gearbox V4S'!$C$3)*'Gearbox V4S'!$B$5*PI())/1000)*('Gearbox V4S'!$B$4/'Gearbox V4S'!$C$4) -> 142.76051 | M7: =(D7*1000)/(F7/3.6) -> 3429.9712 | N7: =(D7*1000)/(G7/3.6) -> 2676.0147 | O7: =(D7*1000)/(H7/3.6) -> 2194.8015 | P7: =(D7*1000)/(I7/3.6) -> 1925.5979 | Q7: =(D7*1000)/(J7/3.6) -> 1723.1913 | R7: =(D7*1000)/(K7/3.6) -> 1579.592
A8: =A7+500 -> 7000 | B8: 95 | C8: 72 | D8: =B8/1.341 -> 70.842655 | F8: =(((A8*60)*('Gearbox V4S'!$B$9/'Gearbox V4S'!$C$9)*('Gearbox V4S'!$B$3/'Gearbox V4S'!$C$3)*'Gearbox V4S'!$B$5*PI())/1000)*('Gearbox V4S'!$B$4/'Gearbox V4S'!$C$4) -> 70.802277 | G8: =(((A8*60)*('Gearbox V4S'!$B$10/'Gearbox V4S'!$C$10)*('Gearbox V4S'!$B$3/'Gearbox V4S'!$C$3)*'Gearbox V4S'!$B$5*PI())/1000)*('Gearbox V4S'!$B$4/'Gearbox V4S'!$C$4) -> 90.750537 | H8: =(((A8*60)*('Gearbox V4S'!$B$11/'Gearbox V4S'!$C$11)*('Gearbox V4S'!$B$3/'Gearbox V4S'!$C$3)*'Gearbox V4S'!$B$5*PI())/1000)*('Gearbox V4S'!$B$4/'Gearbox V4S'!$C$4) -> 110.64771 | I8: =(((A8*60)*('Gearbox V4S'!$B$12/'Gearbox V4S'!$C$12)*('Gearbox V4S'!$B$3/'Gearbox V4S'!$C$3)*'Gearbox V4S'!$B$5*PI())/1000)*('Gearbox V4S'!$B$4/'Gearbox V4S'!$C$4) -> 126.11656 | J8: =(((A8*60)*('Gearbox V4S'!$B$13/'Gearbox V4S'!$C$13)*('Gearbox V4S'!$B$3/'Gearbox V4S'!$C$3)*'Gearbox V4S'!$B$5*PI())/1000)*('Gearbox V4S'!$B$4/'Gearbox V4S'!$C$4) -> 140.93025 | K8: =(((A8*60)*('Gearbox V4S'!$B$14/'Gearbox V4S'!$C$14)*('Gearbox V4S'!$B$3/'Gearbox V4S'!$C$3)*'Gearbox V4S'!$B$5*PI())/1000)*('Gearbox V4S'!$B$4/'Gearbox V4S'!$C$4) -> 153.74209 | M8: =(D8*1000)/(F8/3.6) -> 3602.0531 | N8: =(D8*1000)/(G8/3.6) -> 2810.2705 | O8: =(D8*1000)/(H8/3.6) -> 2304.9148 | P8: =(D8*1000)/(I8/3.6) -> 2022.2052 | Q8: =(D8*1000)/(J8/3.6) -> 1809.6439 | R8: =(D8*1000)/(K8/3.6) -> 1658.8402
A9: =A8+500 -> 7500 | B9: 108 | C9: 75 | D9: =B9/1.341 -> 80.536913 | F9: =(((A9*60)*('Gearbox V4S'!$B$9/'Gearbox V4S'!$C$9)*('Gearbox V4S'!$B$3/'Gearbox V4S'!$C$3)*'Gearbox V4S'!$B$5*PI())/1000)*('Gearbox V4S'!$B$4/'Gearbox V4S'!$C$4) -> 75.859582 | G9: =(((A9*60)*('Gearbox V4S'!$B$10/'Gearbox V4S'!$C$10)*('Gearbox V4S'!$B$3/'Gearbox V4S'!$C$3)*'Gearbox V4S'!$B$5*PI())/1000)*('Gearbox V4S'!$B$4/'Gearbox V4S'!$C$4) -> 97.232718 | H9: =(((A9*60)*('Gearbox V4S'!$B$11/'Gearbox V4S'!$C$11)*('Gearbox V4S'!$B$3/'Gearbox V4S'!$C$3)*'Gearbox V4S'!$B$5*PI())/1000)*('Gearbox V4S'!$B$4/'Gearbox V4S'!$C$4) -> 118.55112 | I9: =(((A9*60)*('Gearbox V4S'!$B$12/'Gearbox V4S'!$C$12)*('Gearbox V4S'!$B$3/'Gearbox V4S'!$C$3)*'Gearbox V4S'!$B$5*PI())/1000)*('Gearbox V4S'!$B$4/'Gearbox V4S'!$C$4) -> 135.12488 | J9: =(((A9*60)*('Gearbox V4S'!$B$13/'Gearbox V4S'!$C$13)*('Gearbox V4S'!$B$3/'Gearbox V4S'!$C$3)*'Gearbox V4S'!$B$5*PI())/1000)*('Gearbox V4S'!$B$4/'Gearbox V4S'!$C$4) -> 150.99669 | K9: =(((A9*60)*('Gearbox V4S'!$B$14/'Gearbox V4S'!$C$14)*('Gearbox V4S'!$B$3/'Gearbox V4S'!$C$3)*'Gearbox V4S'!$B$5*PI())/1000)*('Gearbox V4S'!$B$4/'Gearbox V4S'!$C$4) -> 164.72366 | M9: =(D9*1000)/(F9/3.6) -> 3821.9679 | N9: =(D9*1000)/(G9/3.6) -> 2981.8449 | O9: =(D9*1000)/(H9/3.6) -> 2445.636 | P9: =(D9*1000)/(I9/3.6) -> 2145.6662 | Q9: =(D9*1000)/(J9/3.6) -> 1920.1274 | R9: =(D9*1000)/(K9/3.6) -> 1760.1168
A10: =A9+500 -> 8000 | B10: 118 | C10: 78 | D10: =B10/1.341 -> 87.994034 | F10: =(((A10*60)*('Gearbox V4S'!$B$9/'Gearbox V4S'!$C$9)*('Gearbox V4S'!$B$3/'Gearbox V4S'!$C$3)*'Gearbox V4S'!$B$5*PI())/1000)*('Gearbox V4S'!$B$4/'Gearbox V4S'!$C$4) -> 80.916888 | G10: =(((A10*60)*('Gearbox V4S'!$B$10/'Gearbox V4S'!$C$10)*('Gearbox V4S'!$B$3/'Gearbox V4S'!$C$3)*'Gearbox V4S'!$B$5*PI())/1000)*('Gearbox V4S'!$B$4/'Gearbox V4S'!$C$4) -> 103.7149 | H10: =(((A10*60)*('Gearbox V4S'!$B$11/'Gearbox V4S'!$C$11)*('Gearbox V4S'!$B$3/'Gearbox V4S'!$C$3)*'Gearbox V4S'!$B$5*PI())/1000)*('Gearbox V4S'!$B$4/'Gearbox V4S'!$C$4) -> 126.45453 | I10: =(((A10*60)*('Gearbox V4S'!$B$12/'Gearbox V4S'!$C$12)*('Gearbox V4S'!$B$3/'Gearbox V4S'!$C$3)*'Gearbox V4S'!$B$5*PI())/1000)*('Gearbox V4S'!$B$4/'Gearbox V4S'!$C$4) -> 144.13321 | J10: =(((A10*60)*('Gearbox V4S'!$B$13/'Gearbox V4S'!$C$13)*('Gearbox V4S'!$B$3/'Gearbox V4S'!$C$3)*'Gearbox V4S'!$B$5*PI())/1000)*('Gearbox V4S'!$B$4/'Gearbox V4S'!$C$4) -> 161.06314 | K10: =(((A10*60)*('Gearbox V4S'!$B$14/'Gearbox V4S'!$C$14)*('Gearbox V4S'!$B$3/'Gearbox V4S'!$C$3)*'Gearbox V4S'!$B$5*PI())/1000)*('Gearbox V4S'!$B$4/'Gearbox V4S'!$C$4) -> 175.70524 | M10: =(D10*1000)/(F10/3.6) -> 3914.8629 | N10: =(D10*1000)/(G10/3.6) -> 3054.3203 | O10: =(D10*1000)/(H10/3.6) -> 2505.0785 | P10: =(D10*1000)/(I10/3.6) -> 2197.8178 | Q10: =(D10*1000)/(J10/3.6) -> 1966.7972 | R10: =(D10*1000)/(K10/3.6) -> 1802.8974
A11: =A10+500 -> 8500 | B11: 123 | C11: 76 | D11: =B11/1.341 -> 91.722595 | F11: =(((A11*60)*('Gearbox V4S'!$B$9/'Gearbox V4S'!$C$9)*('Gearbox V4S'!$B$3/'Gearbox V4S'!$C$3)*'Gearbox V4S'!$B$5*PI())/1000)*('Gearbox V4S'!$B$4/'Gearbox V4S'!$C$4) -> 85.974193 | G11: =(((A11*60)*('Gearbox V4S'!$B$10/'Gearbox V4S'!$C$10)*('Gearbox V4S'!$B$3/'Gearbox V4S'!$C$3)*'Gearbox V4S'!$B$5*PI())/1000)*('Gearbox V4S'!$B$4/'Gearbox V4S'!$C$4) -> 110.19708 | H11: =(((A11*60)*('Gearbox V4S'!$B$11/'Gearbox V4S'!$C$11)*('Gearbox V4S'!$B$3/'Gearbox V4S'!$C$3)*'Gearbox V4S'!$B$5*PI())/1000)*('Gearbox V4S'!$B$4/'Gearbox V4S'!$C$4) -> 134.35794 | I11: =(((A11*60)*('Gearbox V4S'!$B$12/'Gearbox V4S'!$C$12)*('Gearbox V4S'!$B$3/'Gearbox V4S'!$C$3)*'Gearbox V4S'!$B$5*PI())/1000)*('Gearbox V4S'!$B$4/'Gearbox V4S'!$C$4) -> 153.14153 | J11: =(((A11*60)*('Gearbox V4S'!$B$13/'Gearbox V4S'!$C$13)*('Gearbox V4S'!$B$3/'Gearbox V4S'!$C$3)*'Gearbox V4S'!$B$5*PI())/1000)*('Gearbox V4S'!$B$4/'Gearbox V4S'!$C$4) -> 171.12958 | K11: =(((A11*60)*('Gearbox V4S'!$B$14/'Gearbox V4S'!$C$14)*('Gearbox V4S'!$B$3/'Gearbox V4S'!$C$3)*'Gearbox V4S'!$B$5*PI())/1000)*('Gearbox V4S'!$B$4/'Gearbox V4S'!$C$4) -> 186.68682 | M11: =(D11*1000)/(F11/3.6) -> 3840.703 | N11: =(D11*1000)/(G11/3.6) -> 2996.4618 | O11: =(D11*1000)/(H11/3.6) -> 2457.6244 | P11: =(D11*1000)/(I11/3.6) -> 2156.1841 | Q11: =(D11*1000)/(J11/3.6) -> 1929.5398 | R11: =(D11*1000)/(K11/3.6) -> 1768.7448
A12: =A11+500 -> 9000 | B12: 138 | C12: 80 | D12: =B12/1.341 -> 102.90828 | F12: =(((A12*60)*('Gearbox V4S'!$B$9/'Gearbox V4S'!$C$9)*('Gearbox V4S'!$B$3/'Gearbox V4S'!$C$3)*'Gearbox V4S'!$B$5*PI())/1000)*('Gearbox V4S'!$B$4/'Gearbox V4S'!$C$4) -> 91.031499 | G12: =(((A12*60)*('Gearbox V4S'!$B$10/'Gearbox V4S'!$C$10)*('Gearbox V4S'!$B$3/'Gearbox V4S'!$C$3)*'Gearbox V4S'!$B$5*PI())/1000)*('Gearbox V4S'!$B$4/'Gearbox V4S'!$C$4) -> 116.67926 | H12: =(((A12*60)*('Gearbox V4S'!$B$11/'Gearbox V4S'!$C$11)*('Gearbox V4S'!$B$3/'Gearbox V4S'!$C$3)*'Gearbox V4S'!$B$5*PI())/1000)*('Gearbox V4S'!$B$4/'Gearbox V4S'!$C$4) -> 142.26135 | I12: =(((A12*60)*('Gearbox V4S'!$B$12/'Gearbox V4S'!$C$12)*('Gearbox V4S'!$B$3/'Gearbox V4S'!$C$3)*'Gearbox V4S'!$B$5*PI())/1000)*('Gearbox V4S'!$B$4/'Gearbox V4S'!$C$4) -> 162.14986 | J12: =(((A12*60)*('Gearbox V4S'!$B$13/'Gearbox V4S'!$C$13)*('Gearbox V4S'!$B$3/'Gearbox V4S'!$C$3)*'Gearbox V4S'!$B$5*PI())/1000)*('Gearbox V4S'!$B$4/'Gearbox V4S'!$C$4) -> 181.19603 | K12: =(((A12*60)*('Gearbox V4S'!$B$14/'Gearbox V4S'!$C$14)*('Gearbox V4S'!$B$3/'Gearbox V4S'!$C$3)*'Gearbox V4S'!$B$5*PI())/1000)*('Gearbox V4S'!$B$4/'Gearbox V4S'!$C$4) -> 197.6684 | M12: =(D12*1000)/(F12/3.6) -> 4069.688 | N12: =(D12*1000)/(G12/3.6) -> 3175.1126 | O12: =(D12*1000)/(H12/3.6) -> 2604.1494 | P12: =(D12*1000)/(I12/3.6) -> 2284.7371 | Q12: =(D12*1000)/(J12/3.6) -> 2044.5801 | R12: =(D12*1000)/(K12/3.6) -> 1874.1984
A13: =A12+500 -> 9500 | B13: 149 | C13: 82 | D13: =B13/1.341 -> 111.11111 | F13: =(((A13*60)*('Gearbox V4S'!$B$9/'Gearbox V4S'!$C$9)*('Gearbox V4S'!$B$3/'Gearbox V4S'!$C$3)*'Gearbox V4S'!$B$5*PI())/1000)*('Gearbox V4S'!$B$4/'Gearbox V4S'!$C$4) -> 96.088804 | G13: =(((A13*60)*('Gearbox V4S'!$B$10/'Gearbox V4S'!$C$10)*('Gearbox V4S'!$B$3/'Gearbox V4S'!$C$3)*'Gearbox V4S'!$B$5*PI())/1000)*('Gearbox V4S'!$B$4/'Gearbox V4S'!$C$4) -> 123.16144 | H13: =(((A13*60)*('Gearbox V4S'!$B$11/'Gearbox V4S'!$C$11)*('Gearbox V4S'!$B$3/'Gearbox V4S'!$C$3)*'Gearbox V4S'!$B$5*PI())/1000)*('Gearbox V4S'!$B$4/'Gearbox V4S'!$C$4) -> 150.16475 | I13: =(((A13*60)*('Gearbox V4S'!$B$12/'Gearbox V4S'!$C$12)*('Gearbox V4S'!$B$3/'Gearbox V4S'!$C$3)*'Gearbox V4S'!$B$5*PI())/1000)*('Gearbox V4S'!$B$4/'Gearbox V4S'!$C$4) -> 171.15818 | J13: =(((A13*60)*('Gearbox V4S'!$B$13/'Gearbox V4S'!$C$13)*('Gearbox V4S'!$B$3/'Gearbox V4S'!$C$3)*'Gearbox V4S'!$B$5*PI())/1000)*('Gearbox V4S'!$B$4/'Gearbox V4S'!$C$4) -> 191.26248 | K13: =(((A13*60)*('Gearbox V4S'!$B$14/'Gearbox V4S'!$C$14)*('Gearbox V4S'!$B$3/'Gearbox V4S'!$C$3)*'Gearbox V4S'!$B$5*PI())/1000)*('Gearbox V4S'!$B$4/'Gearbox V4S'!$C$4) -> 208.64997 | M13: =(D13*1000)/(F13/3.6) -> 4162.8159 | N13: =(D13*1000)/(G13/3.6) -> 3247.7697 | O13: =(D13*1000)/(H13/3.6) -> 2663.7409 | P13: =(D13*1000)/(I13/3.6) -> 2337.0194 | Q13: =(D13*1000)/(J13/3.6) -> 2091.3668 | R13: =(D13*1000)/(K13/3.6) -> 1917.0863
A14: =A13+500 -> 10000 | B14: 156 | C14: 81 | D14: =B14/1.341 -> 116.3311 | F14: =(((A14*60)*('Gearbox V4S'!$B$9/'Gearbox V4S'!$C$9)*('Gearbox V4S'!$B$3/'Gearbox V4S'!$C$3)*'Gearbox V4S'!$B$5*PI())/1000)*('Gearbox V4S'!$B$4/'Gearbox V4S'!$C$4) -> 101.14611 | G14: =(((A14*60)*('Gearbox V4S'!$B$10/'Gearbox V4S'!$C$10)*('Gearbox V4S'!$B$3/'Gearbox V4S'!$C$3)*'Gearbox V4S'!$B$5*PI())/1000)*('Gearbox V4S'!$B$4/'Gearbox V4S'!$C$4) -> 129.64362 | H14: =(((A14*60)*('Gearbox V4S'!$B$11/'Gearbox V4S'!$C$11)*('Gearbox V4S'!$B$3/'Gearbox V4S'!$C$3)*'Gearbox V4S'!$B$5*PI())/1000)*('Gearbox V4S'!$B$4/'Gearbox V4S'!$C$4) -> 158.06816 | I14: =(((A14*60)*('Gearbox V4S'!$B$12/'Gearbox V4S'!$C$12)*('Gearbox V4S'!$B$3/'Gearbox V4S'!$C$3)*'Gearbox V4S'!$B$5*PI())/1000)*('Gearbox V4S'!$B$4/'Gearbox V4S'!$C$4) -> 180.16651 | J14: =(((A14*60)*('Gearbox V4S'!$B$13/'Gearbox V4S'!$C$13)*('Gearbox V4S'!$B$3/'Gearbox V4S'!$C$3)*'Gearbox V4S'!$B$5*PI())/1000)*('Gearbox V4S'!$B$4/'Gearbox V4S'!$C$4) -> 201.32892 | K14: =(((A14*60)*('Gearbox V4S'!$B$14/'Gearbox V4S'!$C$14)*('Gearbox V4S'!$B$3/'Gearbox V4S'!$C$3)*'Gearbox V4S'!$B$5*PI())/1000)*('Gearbox V4S'!$B$4/'Gearbox V4S'!$C$4) -> 219.63155 | M14: =(D14*1000)/(F14/3.6) -> 4140.4652 | N14: =(D14*1000)/(G14/3.6) -> 3230.332 | O14: =(D14*1000)/(H14/3.6) -> 2649.439 | P14: =(D14*1000)/(I14/3.6) -> 2324.4717 | Q14: =(D14*1000)/(J14/3.6) -> 2080.138 | R14: =(D14*1000)/(K14/3.6) -> 1906.7932
... A22: =A21+500 -> 14000 | B22: 187 | C22: 71 | D22: =B22/1.341 -> 139.44817 | F22: =(((A22*60)*('Gearbox V4S'!$B$9/'Gearbox V4S'!$C$9)*('Gearbox V4S'!$B$3/'Gearbox V4S'!$C$3)*'Gearbox V4S'!$B$5*PI())/1000)*('Gearbox V4S'!$B$4/'Gearbox V4S'!$C$4) -> 141.60455 | G22: =(((A22*60)*('Gearbox V4S'!$B$10/'Gearbox V4S'!$C$10)*('Gearbox V4S'!$B$3/'Gearbox V4S'!$C$3)*'Gearbox V4S'!$B$5*PI())/1000)*('Gearbox V4S'!$B$4/'Gearbox V4S'!$C$4) -> 181.50107 | H22: =(((A22*60)*('Gearbox V4S'!$B$11/'Gearbox V4S'!$C$11)*('Gearbox V4S'!$B$3/'Gearbox V4S'!$C$3)*'Gearbox V4S'!$B$5*PI())/1000)*('Gearbox V4S'!$B$4/'Gearbox V4S'!$C$4) -> 221.29543 | I22: =(((A22*60)*('Gearbox V4S'!$B$12/'Gearbox V4S'!$C$12)*('Gearbox V4S'!$B$3/'Gearbox V4S'!$C$3)*'Gearbox V4S'!$B$5*PI())/1000)*('Gearbox V4S'!$B$4/'Gearbox V4S'!$C$4) -> 252.23311 | J22: =(((A22*60)*('Gearbox V4S'!$B$13/'Gearbox V4S'!$C$13)*('Gearbox V4S'!$B$3/'Gearbox V4S'!$C$3)*'Gearbox V4S'!$B$5*PI())/1000)*('Gearbox V4S'!$B$4/'Gearbox V4S'!$C$4) -> 281.86049 | K22: =(((A22*60)*('Gearbox V4S'!$B$14/'Gearbox V4S'!$C$14)*('Gearbox V4S'!$B$3/'Gearbox V4S'!$C$3)*'Gearbox V4S'!$B$5*PI())/1000)*('Gearbox V4S'!$B$4/'Gearbox V4S'!$C$4) -> 307.48417 | M22: =(D22*1000)/(F22/3.6) -> 3545.1785 | N22: =(D22*1000)/(G22/3.6) -> 2765.8978 | O22: =(D22*1000)/(H22/3.6) -> 2268.5214 | P22: =(D22*1000)/(I22/3.6) -> 1990.2757 | Q22: =(D22*1000)/(J22/3.6) -> 1781.0706 | R22: =(D22*1000)/(K22/3.6) -> 1632.648
A23: 14300 | B23: 183 | C23: 67 | D23: =B23/1.341 -> 136.46532 | F23: =(((A23*60)*('Gearbox V4S'!$B$9/'Gearbox V4S'!$C$9)*('Gearbox V4S'!$B$3/'Gearbox V4S'!$C$3)*'Gearbox V4S'!$B$5*PI())/1000)*('Gearbox V4S'!$B$4/'Gearbox V4S'!$C$4) -> 144.63894 | G23: =(((A23*60)*('Gearbox V4S'!$B$10/'Gearbox V4S'!$C$10)*('Gearbox V4S'!$B$3/'Gearbox V4S'!$C$3)*'Gearbox V4S'!$B$5*PI())/1000)*('Gearbox V4S'!$B$4/'Gearbox V4S'!$C$4) -> 185.39038 | H23: =(((A23*60)*('Gearbox V4S'!$B$11/'Gearbox V4S'!$C$11)*('Gearbox V4S'!$B$3/'Gearbox V4S'!$C$3)*'Gearbox V4S'!$B$5*PI())/1000)*('Gearbox V4S'!$B$4/'Gearbox V4S'!$C$4) -> 226.03747 | I23: =(((A23*60)*('Gearbox V4S'!$B$12/'Gearbox V4S'!$C$12)*('Gearbox V4S'!$B$3/'Gearbox V4S'!$C$3)*'Gearbox V4S'!$B$5*PI())/1000)*('Gearbox V4S'!$B$4/'Gearbox V4S'!$C$4) -> 257.63811 | J23: =(((A23*60)*('Gearbox V4S'!$B$13/'Gearbox V4S'!$C$13)*('Gearbox V4S'!$B$3/'Gearbox V4S'!$C$3)*'Gearbox V4S'!$B$5*PI())/1000)*('Gearbox V4S'!$B$4/'Gearbox V4S'!$C$4) -> 287.90036 | K23: =(((A23*60)*('Gearbox V4S'!$B$14/'Gearbox V4S'!$C$14)*('Gearbox V4S'!$B$3/'Gearbox V4S'!$C$3)*'Gearbox V4S'!$B$5*PI())/1000)*('Gearbox V4S'!$B$4/'Gearbox V4S'!$C$4) -> 314.07312 | M23: =(D23*1000)/(F23/3.6) -> 3396.5624 | N23: =(D23*1000)/(G23/3.6) -> 2649.9496 | O23: =(D23*1000)/(H23/3.6) -> 2173.4236 | P23: =(D23*1000)/(I23/3.6) -> 1906.842 | Q23: =(D23*1000)/(J23/3.6) -> 1706.4069 | R23: =(D23*1000)/(K23/3.6) -> 1564.2064

Sheet Power Torque Curve V4S

Sheet Shift Point Chart V4S

Sheet Power Speed Requirements V4S
A1: Top Speed (km/h) | B1: Top speed (m/s) | C1: Mass of bike (kg) | D1: Rider Mass (kg) | E1: Frontal Area (m2) | F1: Frontal Area with rider (m2) | G1: Coeffient of Drag | H1: Density of air (at 20°C and 987 mbar)
A2: ='Shift Point Data V4S'!K23 -> 314.07312 | B2: =A2/3.6 -> 87.242533 | C2: 195 | D2: 75 | E2: 0.37752083 | F2: 0.42776182 | G2: 0.75 | H2: 1.167
A5: Rolling Resistance (N) | B5: Rolling Resistance with Rider (N) | C5: Aero Drag Force (N) | D5: Aero Drag Force with Rider (N) | E5: Resistance to Motion (N) | F5: Resistance to Motion with Rider (N) | G5: Driving force at top speed (N)
A6: =0.02*C2*9.81 -> 38.259 | B6: =0.02*(C2+D2)*9.81 -> 52.974 | C6: =0.5*H2*G2*E2*B2*B2 -> 1257.4756 | D6: =0.5*H2*G2*F2*B2*B2 -> 1424.8222 | E6: =A6+C6 -> 1295.7346 | F6: =B6+D6 -> 1477.7962 | G6: ='Shift Point Data V4S'!R23 -> 1564.2064
