Workbook

Sheet Equivalent Mass
A1: Gold SV | B1: I | G1: SV Gold (Wet) | K1: SV Black (Dry)
B2: mass | C2: =12.35-0.55 -> 11.8 | D2: I | E2: =C2*(C3^2)*(((4905*C4*C6^2)/C5^2)-1) -> 1159020.6 | G2: Mass of Wheel and Spindle | H2: 12.35 | K2: Mass of Wheel and Spindle | L2: 11.15
B3: radius of spindle | C3: 6 | D3: Em | E3: =E2/(317^2) -> 11.533806 | G3: Mass of Spindle | H3: 0.55 | K3: Mass of Spindle | L3: 0.55
C4: 143 | D4: m* | E4: =E3+C2 -> 23.333806 | G4: Mass of Wheel (m) | H4: =H2-H3 -> 11.8 | K4: Mass of Wheel (m) | L4: =L2-L3 -> 10.6
B5: s | C5: 1000
B6: t | C6: 62.38 | G6: Radius of Spindle (r) | H6: 6 | K6: Radius of Spindle (r) | L6: 6
G7: Height of Roll (h) | H7: 143 | K7: Height of Roll (h) | L7: 143
G8: Distance of Roll (s) | H8: 1000 | K8: Distance of Roll (s) | L8: 1000
G9: Rolling Tyre Radius | H9: 317 | K9: Rolling Tyre Radius | L9: 315
A10: Black SV | B10: I
B11: m | C11: =10.6-0.55 -> 10.05 | D11: I | E11: =C11*(C12^2)*(((4905*C13*C15^2)/C14^2)-1) -> 3557155.5 | G11: Time Taken | K11: Time Taken
B12: r | C12: 6 | D12: Em | E12: =E11/(317^2) -> 35.398456 | G12: Roll 1 | H12: 0.00073032407 | K12: Roll 1 | L12: 0.00067962963
B13: h | C13: 143 | D13: m* | E13: =E12+C11 -> 45.448456 | G13: Roll 2 | H13: 0.00072534722 | K13: Roll 2 | L13: 0.00069236111
B14: s | C14: 1000 | G14: Roll 3 | H14: 0.00071064815 | K14: Roll 3 | L14: 0.00067418981
B15: t | C15: 118.4 | G15: Average Time (t) | H15: =SUM(H12:H14)/3 -> 0.00072210648 | I15: 62.38 | K15: Average Time (t) | L15: =SUM(L12:L14)/3 -> 0.00068206019 | M15: 58.9
A16: MX | B16: I
B17: m | C17: =10.6-0.55 -> 10.05 | D17: I | E17: =C17*(C18^2)*(((4905*C19*C21^2)/C20^2)-1) -> 3557155.5 | G17: Inertia | H17: =H4*H6^2*(((4905*H7*I15^2)/H8^2)-1) -> 1159020.6 | K17: Inertia | L17: =L4*L6^2*(((4905*L7*M15^2)/L8^2)-1) -> 928187.02
B18: r | C18: 6 | D18: Em | E18: =E17/(317^2) -> 35.398456 | G18: Equivalent Mass | H18: =H17/H9^2 -> 11.533806 | K18: Equivalent Mass | L18: =L17/L9^2 -> 9.3543666
B19: h | C19: 143 | D19: m* | E19: =E18+C17 -> 45.448456 | G19: Effective Mass (m*) | H19: =H18+H4 -> 23.333806 | K19: Effective Mass (m*) | L19: =L18+L4 -> 19.954367
B20: s | C20: 1000
B21: t | C21: 118.4
A22: RS250 | B22: I
B23: m | C23: =10.6-0.55 -> 10.05 | D23: I | E23: =C23*(C24^2)*(((4905*C25*C27^2)/C26^2)-1) -> 3557155.5
B24: r | C24: 6 | D24: Em | E24: =E23/(317^2) -> 35.398456
B25: h | C25: 143 | D25: m* | E25: =E24+C23 -> 45.448456
B26: s | C26: 1000
B27: t | C27: 118.4

Sheet CoG
A2: CoG
A3: Ducati Panigale (Without Rider) | K3: Ducati Panigale (With Rider) | V3: Ducati
A4: Wr | B4: 87.7 | H4: X CoG | I4: =(B4*F9)/B6 -> 0.68039058 | K4: Wr | L4: 129.1 | R4: X CoG | S4: =(L4*P9)/L6 -> 0.72039638 | V4: Rake | W4: 25.5 | X4: degrees
A5: Wf | B5: 99.2 | E5: Fwr | F5: 0.31 | H5: Y CoG | I5: =((F9*(B4-B10))/(B6*TAN(RADIANS(B8))))+F7 -> 0.53049768 | J5: HUH | K5: Wf | L5: 130.75 | O5: Fwr | P5: 0.31 | R5: Y CoG | S5: =((L4-L10)*L9)/(L6*TAN(RADIANS(13.56)))+L7 -> 0.64122049 | V5: Trail | W5: 0.1 | X5: m
A6: Wt | B6: =B4+B5 -> 186.9 | E6: Rwr | F6: 0.32 | K6: Wt | L6: =L4+L5 -> 259.85 | O6: Rwr | P6: 0.32 | V6: Wheel Radius | W6: 0.31 | X6: m
A7: Rav | B7: =F7 -> 0.315 | E7: Rav | F7: =(F6+F5)/2 -> 0.315 | H7: % Load F | I7: =B5/B6*100 -> 53.076512 | K7: Rav | L7: =P7 -> 0.315 | O7: Rav | P7: =(P6+P5)/2 -> 0.315 | R7: % Load F | S7: =L5/L6*100 -> 50.317491 | V7: Triple Clamp offset | W7: 0.2774 | X7: m
A8: Θ | B8: =ASIN(F10/F9)/3.14159265359*180 -> 13.561135 | H8: % Load R | I8: =B4/B6*100 -> 46.923488 | K8: Θ | L8: =ASIN(P10/P9)/3.14159265359*180 -> 13.561135 | R8: % Load R | S8: =L4/L6*100 -> 49.682509 | V8: Wheel Base | W8: 1437 | X8: m
A9: Wb | B9: =F9 -> 1.45 | E9: Wheelbase | F9: 1.45 | K9: Wb | L9: =P9 -> 1.45 | O9: Wheelbase | P9: 1.45 | W9: (1454>?)
A10: Wr-Lifted | B10: 81 | E10: Elevation | F10: 0.34 | K10: Wr-Lifted | L10: 115 | O10: Elevation | P10: 0.34
A13: Bucci Pit Bike (Without Rider) | K13: Bucci Pit Bike (With Rider)
A14: Wr | B14: 35.35 | H14: X CoG | I14: =(B14*F19)/B16 -> 0.59121951 | K14: Wr | L14: 76.3 | R14: X CoG | S14: =(L14*P19)/L16 -> 0.67522124
A15: Wf | B15: 36.4 | E15: Fwr | F15: 0.24 | H15: Y CoG | I15: =(F19*(B14-B20))/(B16*TAN(RADIANS(16.46)))+F17 -> 0.47208813 | K15: Wf | L15: 59.3 | O15: Fwr | P15: 0.24 | R15: Y CoG | S15: =((L14-L20)*L19)/(L16*TAN(RADIANS(13.56)))+L17 -> 0.85458677
A16: Wt | B16: =B14+B15 -> 71.75 | E16: Rwr | F16: 0.24 | K16: Wt | L16: =L14+L15 -> 135.6 | O16: Rwr | P16: 0.24
A17: Rav | B17: =F17 -> 0.24 | E17: Rav | F17: =(F16+F15)/2 -> 0.24 | H17: % Load F | I17: =B15/B16*100 -> 50.731707 | K17: Rav | L17: =P17 -> 0.24 | O17: Rav | P17: =(P16+P15)/2 -> 0.24 | R17: % Load F | S17: =L15/L16*100 -> 43.731563
A18: Θ | B18: =ASIN(F20/F19)/3.14159265359*180 -> 16.45925 | H18: % Load R | I18: =B14/B16*100 -> 49.268293 | K18: Θ | L18: =ASIN(P20/P19)/3.14159265359*180 -> 16.45925 | R18: % Load R | S18: =L14/L16*100 -> 56.268437
A19: Wb | B19: =F19 -> 1.2 | E19: Wheelbase | F19: 1.2 | K19: Wb | L19: =P19 -> 1.2 | O19: Wheelbase | P19: 1.2
A20: Wr-Lifted | B20: 31.25 | E20: Elevation | F20: 0.34 | K20: Wr-Lifted | L20: 59.55 | O20: Elevation | P20: 0.34
A24: Kawasaki Ninja 400 (Without Rider) | K24: Kawasaki Ninja 400 (With Rider) | V24: Ninja
A25: Wr | B25: 79.68 | H25: X CoG | I25: =(B25*F30)/B27 -> 0.6624 | K25: Wr | L25: 122.5 | R25: X CoG | S25: =(L25*P30)/L27 -> 0.7224359 | V25: Rake | W25: 24.5 | X25: degrees
A26: Wf | B26: 86.32 | E26: Fwr | F26: 0.31 | H26: Y CoG | I26: =(F30*(B25-B31))/(B27*TAN(RADIANS(16.46)))+F28 -> 0.46919181 | K26: Wf | L26: 111.5 | O26: Fwr | P26: 0.31 | R26: Y CoG | S26: =(P30*(L25-L31))/(L27*TAN(RADIANS(16.46)))+P28 -> 0.66830211 | V26: Trail | W26: 0.94 | X26: m
A27: Wt | B27: =B25+B26 -> 166 | E27: Rwr | F27: 0.32 | K27: Wt | L27: =L25+L26 -> 234 | O27: Rwr | P27: 0.32 | V27: Wheel Radius | W27: 0.31 | X27: m
A28: Rav | B28: =F28 -> 0.315 | E28: Rav | F28: =(F27+F26)/2 -> 0.315 | H28: % Load F | I28: =B26/B27*100 -> 52 | K28: Rav | L28: =P28 -> 0.315 | O28: Rav | P28: =(P27+P26)/2 -> 0.315 | R28: % Load F | S28: =L26/L27*100 -> 47.649573 | V28: Triple Clamp offset | W28: 0.3196 | X28: m
A29: Θ | B29: =ASIN(F31/F30)/3.14159265359*180 -> 14.263214 | H29: % Load R | I29: =B25/B27*100 -> 48 | K29: Θ | L29: =ASIN(P31/P30)/3.14159265359*180 -> 14.263214 | R29: % Load R | S29: =L25/L27*100 -> 52.350427 | V29: Wheelbase | W29: 0.137 | X29: m
A30: Wb | B30: =F30 -> 1.38 | E30: Wheelbase | F30: 1.38 | K30: Wb | L30: =P30 -> 1.38 | O30: Wheelbase | P30: 1.38
A31: Wr-Lifted | B31: 74.2 | E31: Elevation | F31: 0.34 | K31: Wr-Lifted | L31: 104.8 | O31: Elevation | P31: 0.34

Sheet Gearing Calculator
A1: Supersport 400 Kawasaki Ninja 2021
A2: Gear Ratios
A3: Primary Reduction Ratio | B3: 2.219 | C3: (71/32) | E3: Tyres | L3: To Doooo
F4: Width | G4: Profile | H4: Size | L4: Drop down box rpm
A5: 1st Gear | B5: 2.929 | C5: (41/14) | E5: Front | F5: 110 | G5: 70 | H5: 17 | L5: Dist sprocket swing arm calculation?
A6: 2nd Gear | B6: 2.056 | C6: (37/18) | E6: Rear | F6: 150 | G6: 60 | H6: 17
A7: 3rd Gear | B7: 1.619 | C7: (34/21)
A8: 4th Gear | B8: 1.333 | C8: (32/24)
A9: 5th Gear | B9: 1.154 | C9: (30/26)
A10: 6th Gear | B10: 1.037 | C10: (28/27)
A12: Final Reduction Ratio | B12: 2.929 | C12: (41/14)
A14: Supersport 400 Kawasaki Ninja 2021
A15: Primary | B15: 32 | C15: 71 | E15: Tyres | J15: Chain sizes
A16: Final | B16: 14 | C16: 41 | F16: Width | G16: Profile | H16: Size
E17: Front | F17: 110 | G17: 70 | H17: 17 | J17: 5/8" | K17: 0.625
A18: Wheel Diameter | B18: =(((((F19/25.4*G19/100+H19/2)*2)*PI())*25.4)/PI())/1000 -> 0.6118
A19: RPM | B19: 10000 | E19: Rear | F19: 150 | G19: 60 | H19: 17
A21: Ratios | D21: Wheel Speed | E21: RPM Falls to | F21: RPM Falls by | H21: Chain Length
A22: 1st Gear | B22: 14 | C22: 41 | D22: =((B19*60*(B22/C22)*B18*PI()*(B15/C15)/1000)*(B16/C16)) -> 60.602506 | E22: =B19*(B22/C22)*(C23/B23) -> 7018.9702 | F22: =B19-E22 -> 2981.0298 | H22: Chain Size | I22: Front Sprocket | J22: Rear Sprocket | K22: Chain | L22: Distance between front sprocket and swing arm | M22: Swing arm length
A23: 2nd Gear | B23: 18 | C23: 37 | D23: =((B19*60*(B23/C23)*B18*PI()*(B15/C15)/1000)*(B16/C16)) -> 86.341022 | E23: =B19*(B23/C23)*(C24/B24) -> 7876.4479 | F23: =B19-E23 -> 2123.5521 | H23: 0.625 | I23: 19 | J23: 49 | K23: 132 | L23: 0.08636 | M23: 541
A24: 3rd Gear | B24: 21 | C24: 34 | D24: =((B19*60*(B24/C24)*B18*PI()*(B15/C15)/1000)*(B16/C16)) -> 109.61924 | E24: =B19*(B24/C24)*(C25/B25) -> 8235.2941 | F24: =B19-E24 -> 1764.7059
A25: 4th Gear | B25: 24 | C25: 32 | D25: =((B19*60*(B25/C25)*B18*PI()*(B15/C15)/1000)*(B16/C16)) -> 133.10908 | E25: =B19*(B25/C25)*(C26/B26) -> 8653.8462 | F25: =B19-E25 -> 1346.1538
A26: 5th Gear | B26: 26 | C26: 30 | D26: =((B19*60*(B26/C26)*B18*PI()*(B15/C15)/1000)*(B16/C16)) -> 153.81493 | E26: =B19*(B26/C26)*(C27/B27) -> 8987.6543 | F26: =B19-E26 -> 1012.3457
A27: 6th Gear | B27: 27 | C27: 28 | D27: =((B19*60*(B27/C27)*B18*PI()*(B15/C15)/1000)*(B16/C16)) -> 171.14024
A29: Find power curve for next week

Sheet Driving Force v Road Speed

Sheet Road Speed
G2: Road Speed | H2: (km/h) | N2: Driving Force | O2: (Nm) | W2: lb-ft
B3: RPM | C3: Power (hp) | D3: Torque (nm) | E3: Power (kw) | G3: 1st gear | H3: 2nd gear | I3: 3rd gear | J3: 4th gear | K3: 5th gear | L3: 6th gear | N3: 1st | O3: 2nd | P3: 3rd | Q3: 4th | R3: 5th | S3: 6th | W3: 16
B4: 3000 | C4: 10 | D4: =W3*1.35581795 -> 21.693087 | E4: =C4*0.7457 -> 7.457 | G4: =((B4*60*('Gearing Calculator'!B$22/'Gearing Calculator'!C$22)*'Gearing Calculator'!B$18*PI()*('Gearing Calculator'!B$15/'Gearing Calculator'!C$15)/1000)*('Gearing Calculator'!B$16/'Gearing Calculator'!C$16)) -> 18.180752 | H4: =((B4*60*('Gearing Calculator'!B$23/'Gearing Calculator'!C$23)*'Gearing Calculator'!B$18*PI()*('Gearing Calculator'!B$15/'Gearing Calculator'!C$15)/1000)*('Gearing Calculator'!B$16/'Gearing Calculator'!C$16)) -> 25.902307 | I4: =((B4*60*('Gearing Calculator'!B$24/'Gearing Calculator'!C$24)*'Gearing Calculator'!B$18*PI()*('Gearing Calculator'!B$15/'Gearing Calculator'!C$15)/1000)*('Gearing Calculator'!B$16/'Gearing Calculator'!C$16)) -> 32.885772 | J4: =((B4*60*('Gearing Calculator'!B$25/'Gearing Calculator'!C$25)*'Gearing Calculator'!B$18*PI()*('Gearing Calculator'!B$15/'Gearing Calculator'!C$15)/1000)*('Gearing Calculator'!B$16/'Gearing Calculator'!C$16)) -> 39.932723 | K4: =((B4*60*('Gearing Calculator'!B$26/'Gearing Calculator'!C$26)*'Gearing Calculator'!B$18*PI()*('Gearing Calculator'!B$15/'Gearing Calculator'!C$15)/1000)*('Gearing Calculator'!B$16/'Gearing Calculator'!C$16)) -> 46.14448 | L4: =((B4*60*('Gearing Calculator'!B$27/'Gearing Calculator'!C$27)*'Gearing Calculator'!B$18*PI()*('Gearing Calculator'!B$15/'Gearing Calculator'!C$15)/1000)*('Gearing Calculator'!B$16/'Gearing Calculator'!C$16)) -> 51.342072 | N4: =($E4*1000)/(G4*(1000/3600)) -> 1476.5726 | O4: =($E4*1000)/(H4*(1000/3600)) -> 1036.4019 | P4: =($E4*1000)/(I4*(1000/3600)) -> 816.31656 | Q4: =($E4*1000)/(J4*(1000/3600)) -> 672.2607 | R4: =($E4*1000)/(K4*(1000/3600)) -> 581.76406 | S4: =($E4*1000)/(L4*(1000/3600)) -> 522.86943 | W4: 15.5
B5: 3500 | C5: 12 | D5: =W4*1.35581795 -> 21.015178 | E5: =C5*0.7457 -> 8.9484 | G5: =((B5*60*('Gearing Calculator'!B$22/'Gearing Calculator'!C$22)*'Gearing Calculator'!B$18*PI()*('Gearing Calculator'!B$15/'Gearing Calculator'!C$15)/1000)*('Gearing Calculator'!B$16/'Gearing Calculator'!C$16)) -> 21.210877 | H5: =((B5*60*('Gearing Calculator'!B$23/'Gearing Calculator'!C$23)*'Gearing Calculator'!B$18*PI()*('Gearing Calculator'!B$15/'Gearing Calculator'!C$15)/1000)*('Gearing Calculator'!B$16/'Gearing Calculator'!C$16)) -> 30.219358 | I5: =((B5*60*('Gearing Calculator'!B$24/'Gearing Calculator'!C$24)*'Gearing Calculator'!B$18*PI()*('Gearing Calculator'!B$15/'Gearing Calculator'!C$15)/1000)*('Gearing Calculator'!B$16/'Gearing Calculator'!C$16)) -> 38.366734 | J5: =((B5*60*('Gearing Calculator'!B$25/'Gearing Calculator'!C$25)*'Gearing Calculator'!B$18*PI()*('Gearing Calculator'!B$15/'Gearing Calculator'!C$15)/1000)*('Gearing Calculator'!B$16/'Gearing Calculator'!C$16)) -> 46.588176 | K5: =((B5*60*('Gearing Calculator'!B$26/'Gearing Calculator'!C$26)*'Gearing Calculator'!B$18*PI()*('Gearing Calculator'!B$15/'Gearing Calculator'!C$15)/1000)*('Gearing Calculator'!B$16/'Gearing Calculator'!C$16)) -> 53.835226 | L5: =((B5*60*('Gearing Calculator'!B$27/'Gearing Calculator'!C$27)*'Gearing Calculator'!B$18*PI()*('Gearing Calculator'!B$15/'Gearing Calculator'!C$15)/1000)*('Gearing Calculator'!B$16/'Gearing Calculator'!C$16)) -> 59.899084 | N5: =($E5*1000)/(G5*(1000/3600)) -> 1518.7604 | O5: =($E5*1000)/(H5*(1000/3600)) -> 1066.0134 | P5: =($E5*1000)/(I5*(1000/3600)) -> 839.63989 | Q5: =($E5*1000)/(J5*(1000/3600)) -> 691.46815 | R5: =($E5*1000)/(K5*(1000/3600)) -> 598.3859 | S5: =($E5*1000)/(L5*(1000/3600)) -> 537.80856 | W5: 16.5
B6: 4000 | C6: 13 | D6: =W5*1.35581795 -> 22.370996 | E6: =C6*0.7457 -> 9.6941 | G6: =((B6*60*('Gearing Calculator'!B$22/'Gearing Calculator'!C$22)*'Gearing Calculator'!B$18*PI()*('Gearing Calculator'!B$15/'Gearing Calculator'!C$15)/1000)*('Gearing Calculator'!B$16/'Gearing Calculator'!C$16)) -> 24.241002 | H6: =((B6*60*('Gearing Calculator'!B$23/'Gearing Calculator'!C$23)*'Gearing Calculator'!B$18*PI()*('Gearing Calculator'!B$15/'Gearing Calculator'!C$15)/1000)*('Gearing Calculator'!B$16/'Gearing Calculator'!C$16)) -> 34.536409 | I6: =((B6*60*('Gearing Calculator'!B$24/'Gearing Calculator'!C$24)*'Gearing Calculator'!B$18*PI()*('Gearing Calculator'!B$15/'Gearing Calculator'!C$15)/1000)*('Gearing Calculator'!B$16/'Gearing Calculator'!C$16)) -> 43.847696 | J6: =((B6*60*('Gearing Calculator'!B$25/'Gearing Calculator'!C$25)*'Gearing Calculator'!B$18*PI()*('Gearing Calculator'!B$15/'Gearing Calculator'!C$15)/1000)*('Gearing Calculator'!B$16/'Gearing Calculator'!C$16)) -> 53.24363 | K6: =((B6*60*('Gearing Calculator'!B$26/'Gearing Calculator'!C$26)*'Gearing Calculator'!B$18*PI()*('Gearing Calculator'!B$15/'Gearing Calculator'!C$15)/1000)*('Gearing Calculator'!B$16/'Gearing Calculator'!C$16)) -> 61.525973 | L6: =((B6*60*('Gearing Calculator'!B$27/'Gearing Calculator'!C$27)*'Gearing Calculator'!B$18*PI()*('Gearing Calculator'!B$15/'Gearing Calculator'!C$15)/1000)*('Gearing Calculator'!B$16/'Gearing Calculator'!C$16)) -> 68.456096 | N6: =($E6*1000)/(G6*(1000/3600)) -> 1439.6583 | O6: =($E6*1000)/(H6*(1000/3600)) -> 1010.4919 | P6: =($E6*1000)/(I6*(1000/3600)) -> 795.90865 | Q6: =($E6*1000)/(J6*(1000/3600)) -> 655.45418 | R6: =($E6*1000)/(K6*(1000/3600)) -> 567.21996 | S6: =($E6*1000)/(L6*(1000/3600)) -> 509.7977 | W6: 19
B7: 4500 | C7: 17 | D7: =W6*1.35581795 -> 25.760541 | E7: =C7*0.7457 -> 12.6769 | G7: =((B7*60*('Gearing Calculator'!B$22/'Gearing Calculator'!C$22)*'Gearing Calculator'!B$18*PI()*('Gearing Calculator'!B$15/'Gearing Calculator'!C$15)/1000)*('Gearing Calculator'!B$16/'Gearing Calculator'!C$16)) -> 27.271128 | H7: =((B7*60*('Gearing Calculator'!B$23/'Gearing Calculator'!C$23)*'Gearing Calculator'!B$18*PI()*('Gearing Calculator'!B$15/'Gearing Calculator'!C$15)/1000)*('Gearing Calculator'!B$16/'Gearing Calculator'!C$16)) -> 38.85346 | I7: =((B7*60*('Gearing Calculator'!B$24/'Gearing Calculator'!C$24)*'Gearing Calculator'!B$18*PI()*('Gearing Calculator'!B$15/'Gearing Calculator'!C$15)/1000)*('Gearing Calculator'!B$16/'Gearing Calculator'!C$16)) -> 49.328657 | J7: =((B7*60*('Gearing Calculator'!B$25/'Gearing Calculator'!C$25)*'Gearing Calculator'!B$18*PI()*('Gearing Calculator'!B$15/'Gearing Calculator'!C$15)/1000)*('Gearing Calculator'!B$16/'Gearing Calculator'!C$16)) -> 59.899084 | K7: =((B7*60*('Gearing Calculator'!B$26/'Gearing Calculator'!C$26)*'Gearing Calculator'!B$18*PI()*('Gearing Calculator'!B$15/'Gearing Calculator'!C$15)/1000)*('Gearing Calculator'!B$16/'Gearing Calculator'!C$16)) -> 69.216719 | L7: =((B7*60*('Gearing Calculator'!B$27/'Gearing Calculator'!C$27)*'Gearing Calculator'!B$18*PI()*('Gearing Calculator'!B$15/'Gearing Calculator'!C$15)/1000)*('Gearing Calculator'!B$16/'Gearing Calculator'!C$16)) -> 77.013108 | N7: =($E7*1000)/(G7*(1000/3600)) -> 1673.4489 | O7: =($E7*1000)/(H7*(1000/3600)) -> 1174.5888 | P7: =($E7*1000)/(I7*(1000/3600)) -> 925.15877 | Q7: =($E7*1000)/(J7*(1000/3600)) -> 761.89546 | R7: =($E7*1000)/(K7*(1000/3600)) -> 659.33261 | S7: =($E7*1000)/(L7*(1000/3600)) -> 592.58536 | W7: 22
B8: 5000 | C8: 20 | D8: =W7*1.35581795 -> 29.827995 | E8: =C8*0.7457 -> 14.914 | G8: =((B8*60*('Gearing Calculator'!B$22/'Gearing Calculator'!C$22)*'Gearing Calculator'!B$18*PI()*('Gearing Calculator'!B$15/'Gearing Calculator'!C$15)/1000)*('Gearing Calculator'!B$16/'Gearing Calculator'!C$16)) -> 30.301253 | H8: =((B8*60*('Gearing Calculator'!B$23/'Gearing Calculator'!C$23)*'Gearing Calculator'!B$18*PI()*('Gearing Calculator'!B$15/'Gearing Calculator'!C$15)/1000)*('Gearing Calculator'!B$16/'Gearing Calculator'!C$16)) -> 43.170511 | I8: =((B8*60*('Gearing Calculator'!B$24/'Gearing Calculator'!C$24)*'Gearing Calculator'!B$18*PI()*('Gearing Calculator'!B$15/'Gearing Calculator'!C$15)/1000)*('Gearing Calculator'!B$16/'Gearing Calculator'!C$16)) -> 54.809619 | J8: =((B8*60*('Gearing Calculator'!B$25/'Gearing Calculator'!C$25)*'Gearing Calculator'!B$18*PI()*('Gearing Calculator'!B$15/'Gearing Calculator'!C$15)/1000)*('Gearing Calculator'!B$16/'Gearing Calculator'!C$16)) -> 66.554538 | K8: =((B8*60*('Gearing Calculator'!B$26/'Gearing Calculator'!C$26)*'Gearing Calculator'!B$18*PI()*('Gearing Calculator'!B$15/'Gearing Calculator'!C$15)/1000)*('Gearing Calculator'!B$16/'Gearing Calculator'!C$16)) -> 76.907466 | L8: =((B8*60*('Gearing Calculator'!B$27/'Gearing Calculator'!C$27)*'Gearing Calculator'!B$18*PI()*('Gearing Calculator'!B$15/'Gearing Calculator'!C$15)/1000)*('Gearing Calculator'!B$16/'Gearing Calculator'!C$16)) -> 85.57012 | N8: =($E8*1000)/(G8*(1000/3600)) -> 1771.8871 | O8: =($E8*1000)/(H8*(1000/3600)) -> 1243.6823 | P8: =($E8*1000)/(I8*(1000/3600)) -> 979.57987 | Q8: =($E8*1000)/(J8*(1000/3600)) -> 806.71284 | R8: =($E8*1000)/(K8*(1000/3600)) -> 698.11688 | S8: =($E8*1000)/(L8*(1000/3600)) -> 627.44332 | W8: 21.5
B9: 5500 | C9: 22 | D9: =W8*1.35581795 -> 29.150086 | E9: =C9*0.7457 -> 16.4054 | G9: =((B9*60*('Gearing Calculator'!B$22/'Gearing Calculator'!C$22)*'Gearing Calculator'!B$18*PI()*('Gearing Calculator'!B$15/'Gearing Calculator'!C$15)/1000)*('Gearing Calculator'!B$16/'Gearing Calculator'!C$16)) -> 33.331378 | H9: =((B9*60*('Gearing Calculator'!B$23/'Gearing Calculator'!C$23)*'Gearing Calculator'!B$18*PI()*('Gearing Calculator'!B$15/'Gearing Calculator'!C$15)/1000)*('Gearing Calculator'!B$16/'Gearing Calculator'!C$16)) -> 47.487562 | I9: =((B9*60*('Gearing Calculator'!B$24/'Gearing Calculator'!C$24)*'Gearing Calculator'!B$18*PI()*('Gearing Calculator'!B$15/'Gearing Calculator'!C$15)/1000)*('Gearing Calculator'!B$16/'Gearing Calculator'!C$16)) -> 60.290581 | J9: =((B9*60*('Gearing Calculator'!B$25/'Gearing Calculator'!C$25)*'Gearing Calculator'!B$18*PI()*('Gearing Calculator'!B$15/'Gearing Calculator'!C$15)/1000)*('Gearing Calculator'!B$16/'Gearing Calculator'!C$16)) -> 73.209992 | K9: =((B9*60*('Gearing Calculator'!B$26/'Gearing Calculator'!C$26)*'Gearing Calculator'!B$18*PI()*('Gearing Calculator'!B$15/'Gearing Calculator'!C$15)/1000)*('Gearing Calculator'!B$16/'Gearing Calculator'!C$16)) -> 84.598213 | L9: =((B9*60*('Gearing Calculator'!B$27/'Gearing Calculator'!C$27)*'Gearing Calculator'!B$18*PI()*('Gearing Calculator'!B$15/'Gearing Calculator'!C$15)/1000)*('Gearing Calculator'!B$16/'Gearing Calculator'!C$16)) -> 94.127132 | N9: =($E9*1000)/(G9*(1000/3600)) -> 1771.8871 | O9: =($E9*1000)/(H9*(1000/3600)) -> 1243.6823 | P9: =($E9*1000)/(I9*(1000/3600)) -> 979.57987 | Q9: =($E9*1000)/(J9*(1000/3600)) -> 806.71284 | R9: =($E9*1000)/(K9*(1000/3600)) -> 698.11688 | S9: =($E9*1000)/(L9*(1000/3600)) -> 627.44332 | W9: 21
B10: 6000 | C10: 24 | D10: =W9*1.35581795 -> 28.472177 | E10: =C10*0.7457 -> 17.8968 | G10: =((B10*60*('Gearing Calculator'!B$22/'Gearing Calculator'!C$22)*'Gearing Calculator'!B$18*PI()*('Gearing Calculator'!B$15/'Gearing Calculator'!C$15)/1000)*('Gearing Calculator'!B$16/'Gearing Calculator'!C$16)) -> 36.361504 | H10: =((B10*60*('Gearing Calculator'!B$23/'Gearing Calculator'!C$23)*'Gearing Calculator'!B$18*PI()*('Gearing Calculator'!B$15/'Gearing Calculator'!C$15)/1000)*('Gearing Calculator'!B$16/'Gearing Calculator'!C$16)) -> 51.804613 | I10: =((B10*60*('Gearing Calculator'!B$24/'Gearing Calculator'!C$24)*'Gearing Calculator'!B$18*PI()*('Gearing Calculator'!B$15/'Gearing Calculator'!C$15)/1000)*('Gearing Calculator'!B$16/'Gearing Calculator'!C$16)) -> 65.771543 | J10: =((B10*60*('Gearing Calculator'!B$25/'Gearing Calculator'!C$25)*'Gearing Calculator'!B$18*PI()*('Gearing Calculator'!B$15/'Gearing Calculator'!C$15)/1000)*('Gearing Calculator'!B$16/'Gearing Calculator'!C$16)) -> 79.865445 | K10: =((B10*60*('Gearing Calculator'!B$26/'Gearing Calculator'!C$26)*'Gearing Calculator'!B$18*PI()*('Gearing Calculator'!B$15/'Gearing Calculator'!C$15)/1000)*('Gearing Calculator'!B$16/'Gearing Calculator'!C$16)) -> 92.288959 | L10: =((B10*60*('Gearing Calculator'!B$27/'Gearing Calculator'!C$27)*'Gearing Calculator'!B$18*PI()*('Gearing Calculator'!B$15/'Gearing Calculator'!C$15)/1000)*('Gearing Calculator'!B$16/'Gearing Calculator'!C$16)) -> 102.68414 | N10: =($E10*1000)/(G10*(1000/3600)) -> 1771.8871 | O10: =($E10*1000)/(H10*(1000/3600)) -> 1243.6823 | P10: =($E10*1000)/(I10*(1000/3600)) -> 979.57987 | Q10: =($E10*1000)/(J10*(1000/3600)) -> 806.71284 | R10: =($E10*1000)/(K10*(1000/3600)) -> 698.11688 | S10: =($E10*1000)/(L10*(1000/3600)) -> 627.44332 | W10: 22
B11: 6500 | C11: 26 | D11: =W10*1.35581795 -> 29.827995 | E11: =C11*0.7457 -> 19.3882 | G11: =((B11*60*('Gearing Calculator'!B$22/'Gearing Calculator'!C$22)*'Gearing Calculator'!B$18*PI()*('Gearing Calculator'!B$15/'Gearing Calculator'!C$15)/1000)*('Gearing Calculator'!B$16/'Gearing Calculator'!C$16)) -> 39.391629 | H11: =((B11*60*('Gearing Calculator'!B$23/'Gearing Calculator'!C$23)*'Gearing Calculator'!B$18*PI()*('Gearing Calculator'!B$15/'Gearing Calculator'!C$15)/1000)*('Gearing Calculator'!B$16/'Gearing Calculator'!C$16)) -> 56.121664 | I11: =((B11*60*('Gearing Calculator'!B$24/'Gearing Calculator'!C$24)*'Gearing Calculator'!B$18*PI()*('Gearing Calculator'!B$15/'Gearing Calculator'!C$15)/1000)*('Gearing Calculator'!B$16/'Gearing Calculator'!C$16)) -> 71.252505 | J11: =((B11*60*('Gearing Calculator'!B$25/'Gearing Calculator'!C$25)*'Gearing Calculator'!B$18*PI()*('Gearing Calculator'!B$15/'Gearing Calculator'!C$15)/1000)*('Gearing Calculator'!B$16/'Gearing Calculator'!C$16)) -> 86.520899 | K11: =((B11*60*('Gearing Calculator'!B$26/'Gearing Calculator'!C$26)*'Gearing Calculator'!B$18*PI()*('Gearing Calculator'!B$15/'Gearing Calculator'!C$15)/1000)*('Gearing Calculator'!B$16/'Gearing Calculator'!C$16)) -> 99.979706 | L11: =((B11*60*('Gearing Calculator'!B$27/'Gearing Calculator'!C$27)*'Gearing Calculator'!B$18*PI()*('Gearing Calculator'!B$15/'Gearing Calculator'!C$15)/1000)*('Gearing Calculator'!B$16/'Gearing Calculator'!C$16)) -> 111.24116 | N11: =($E11*1000)/(G11*(1000/3600)) -> 1771.8871 | O11: =($E11*1000)/(H11*(1000/3600)) -> 1243.6823 | P11: =($E11*1000)/(I11*(1000/3600)) -> 979.57987 | Q11: =($E11*1000)/(J11*(1000/3600)) -> 806.71284 | R11: =($E11*1000)/(K11*(1000/3600)) -> 698.11688 | S11: =($E11*1000)/(L11*(1000/3600)) -> 627.44332 | W11: 22.5
B12: 7000 | C12: 30 | D12: =W11*1.35581795 -> 30.505904 | E12: =C12*0.7457 -> 22.371 | G12: =((B12*60*('Gearing Calculator'!B$22/'Gearing Calculator'!C$22)*'Gearing Calculator'!B$18*PI()*('Gearing Calculator'!B$15/'Gearing Calculator'!C$15)/1000)*('Gearing Calculator'!B$16/'Gearing Calculator'!C$16)) -> 42.421754 | H12: =((B12*60*('Gearing Calculator'!B$23/'Gearing Calculator'!C$23)*'Gearing Calculator'!B$18*PI()*('Gearing Calculator'!B$15/'Gearing Calculator'!C$15)/1000)*('Gearing Calculator'!B$16/'Gearing Calculator'!C$16)) -> 60.438715 | I12: =((B12*60*('Gearing Calculator'!B$24/'Gearing Calculator'!C$24)*'Gearing Calculator'!B$18*PI()*('Gearing Calculator'!B$15/'Gearing Calculator'!C$15)/1000)*('Gearing Calculator'!B$16/'Gearing Calculator'!C$16)) -> 76.733467 | J12: =((B12*60*('Gearing Calculator'!B$25/'Gearing Calculator'!C$25)*'Gearing Calculator'!B$18*PI()*('Gearing Calculator'!B$15/'Gearing Calculator'!C$15)/1000)*('Gearing Calculator'!B$16/'Gearing Calculator'!C$16)) -> 93.176353 | K12: =((B12*60*('Gearing Calculator'!B$26/'Gearing Calculator'!C$26)*'Gearing Calculator'!B$18*PI()*('Gearing Calculator'!B$15/'Gearing Calculator'!C$15)/1000)*('Gearing Calculator'!B$16/'Gearing Calculator'!C$16)) -> 107.67045 | L12: =((B12*60*('Gearing Calculator'!B$27/'Gearing Calculator'!C$27)*'Gearing Calculator'!B$18*PI()*('Gearing Calculator'!B$15/'Gearing Calculator'!C$15)/1000)*('Gearing Calculator'!B$16/'Gearing Calculator'!C$16)) -> 119.79817 | N12: =($E12*1000)/(G12*(1000/3600)) -> 1898.4505 | O12: =($E12*1000)/(H12*(1000/3600)) -> 1332.5167 | P12: =($E12*1000)/(I12*(1000/3600)) -> 1049.5499 | Q12: =($E12*1000)/(J12*(1000/3600)) -> 864.33518 | R12: =($E12*1000)/(K12*(1000/3600)) -> 747.98237 | S12: =($E12*1000)/(L12*(1000/3600)) -> 672.2607 | W12: 23
B13: 7500 | C13: 34 | D13: =W12*1.35581795 -> 31.183813 | E13: =C13*0.7457 -> 25.3538 | G13: =((B13*60*('Gearing Calculator'!B$22/'Gearing Calculator'!C$22)*'Gearing Calculator'!B$18*PI()*('Gearing Calculator'!B$15/'Gearing Calculator'!C$15)/1000)*('Gearing Calculator'!B$16/'Gearing Calculator'!C$16)) -> 45.45188 | H13: =((B13*60*('Gearing Calculator'!B$23/'Gearing Calculator'!C$23)*'Gearing Calculator'!B$18*PI()*('Gearing Calculator'!B$15/'Gearing Calculator'!C$15)/1000)*('Gearing Calculator'!B$16/'Gearing Calculator'!C$16)) -> 64.755767 | I13: =((B13*60*('Gearing Calculator'!B$24/'Gearing Calculator'!C$24)*'Gearing Calculator'!B$18*PI()*('Gearing Calculator'!B$15/'Gearing Calculator'!C$15)/1000)*('Gearing Calculator'!B$16/'Gearing Calculator'!C$16)) -> 82.214429 | J13: =((B13*60*('Gearing Calculator'!B$25/'Gearing Calculator'!C$25)*'Gearing Calculator'!B$18*PI()*('Gearing Calculator'!B$15/'Gearing Calculator'!C$15)/1000)*('Gearing Calculator'!B$16/'Gearing Calculator'!C$16)) -> 99.831807 | K13: =((B13*60*('Gearing Calculator'!B$26/'Gearing Calculator'!C$26)*'Gearing Calculator'!B$18*PI()*('Gearing Calculator'!B$15/'Gearing Calculator'!C$15)/1000)*('Gearing Calculator'!B$16/'Gearing Calculator'!C$16)) -> 115.3612 | L13: =((B13*60*('Gearing Calculator'!B$27/'Gearing Calculator'!C$27)*'Gearing Calculator'!B$18*PI()*('Gearing Calculator'!B$15/'Gearing Calculator'!C$15)/1000)*('Gearing Calculator'!B$16/'Gearing Calculator'!C$16)) -> 128.35518 | N13: =($E13*1000)/(G13*(1000/3600)) -> 2008.1387 | O13: =($E13*1000)/(H13*(1000/3600)) -> 1409.5066 | P13: =($E13*1000)/(I13*(1000/3600)) -> 1110.1905 | Q13: =($E13*1000)/(J13*(1000/3600)) -> 914.27455 | R13: =($E13*1000)/(K13*(1000/3600)) -> 791.19913 | S13: =($E13*1000)/(L13*(1000/3600)) -> 711.10243 | W13: 25
B14: 8000 | C14: 36 | D14: =W13*1.35581795 -> 33.895449 | E14: =C14*0.7457 -> 26.8452 | G14: =((B14*60*('Gearing Calculator'!B$22/'Gearing Calculator'!C$22)*'Gearing Calculator'!B$18*PI()*('Gearing Calculator'!B$15/'Gearing Calculator'!C$15)/1000)*('Gearing Calculator'!B$16/'Gearing Calculator'!C$16)) -> 48.482005 | H14: =((B14*60*('Gearing Calculator'!B$23/'Gearing Calculator'!C$23)*'Gearing Calculator'!B$18*PI()*('Gearing Calculator'!B$15/'Gearing Calculator'!C$15)/1000)*('Gearing Calculator'!B$16/'Gearing Calculator'!C$16)) -> 69.072818 | I14: =((B14*60*('Gearing Calculator'!B$24/'Gearing Calculator'!C$24)*'Gearing Calculator'!B$18*PI()*('Gearing Calculator'!B$15/'Gearing Calculator'!C$15)/1000)*('Gearing Calculator'!B$16/'Gearing Calculator'!C$16)) -> 87.695391 | J14: =((B14*60*('Gearing Calculator'!B$25/'Gearing Calculator'!C$25)*'Gearing Calculator'!B$18*PI()*('Gearing Calculator'!B$15/'Gearing Calculator'!C$15)/1000)*('Gearing Calculator'!B$16/'Gearing Calculator'!C$16)) -> 106.48726 | K14: =((B14*60*('Gearing Calculator'!B$26/'Gearing Calculator'!C$26)*'Gearing Calculator'!B$18*PI()*('Gearing Calculator'!B$15/'Gearing Calculator'!C$15)/1000)*('Gearing Calculator'!B$16/'Gearing Calculator'!C$16)) -> 123.05195 | L14: =((B14*60*('Gearing Calculator'!B$27/'Gearing Calculator'!C$27)*'Gearing Calculator'!B$18*PI()*('Gearing Calculator'!B$15/'Gearing Calculator'!C$15)/1000)*('Gearing Calculator'!B$16/'Gearing Calculator'!C$16)) -> 136.91219 | N14: =($E14*1000)/(G14*(1000/3600)) -> 1993.373 | O14: =($E14*1000)/(H14*(1000/3600)) -> 1399.1426 | P14: =($E14*1000)/(I14*(1000/3600)) -> 1102.0274 | Q14: =($E14*1000)/(J14*(1000/3600)) -> 907.55194 | R14: =($E14*1000)/(K14*(1000/3600)) -> 785.38149 | S14: =($E14*1000)/(L14*(1000/3600)) -> 705.87373 | W14: 25
B15: 8500 | C15: 40 | D15: =W14*1.35581795 -> 33.895449 | E15: =C15*0.7457 -> 29.828 | G15: =((B15*60*('Gearing Calculator'!B$22/'Gearing Calculator'!C$22)*'Gearing Calculator'!B$18*PI()*('Gearing Calculator'!B$15/'Gearing Calculator'!C$15)/1000)*('Gearing Calculator'!B$16/'Gearing Calculator'!C$16)) -> 51.51213 | H15: =((B15*60*('Gearing Calculator'!B$23/'Gearing Calculator'!C$23)*'Gearing Calculator'!B$18*PI()*('Gearing Calculator'!B$15/'Gearing Calculator'!C$15)/1000)*('Gearing Calculator'!B$16/'Gearing Calculator'!C$16)) -> 73.389869 | I15: =((B15*60*('Gearing Calculator'!B$24/'Gearing Calculator'!C$24)*'Gearing Calculator'!B$18*PI()*('Gearing Calculator'!B$15/'Gearing Calculator'!C$15)/1000)*('Gearing Calculator'!B$16/'Gearing Calculator'!C$16)) -> 93.176353 | J15: =((B15*60*('Gearing Calculator'!B$25/'Gearing Calculator'!C$25)*'Gearing Calculator'!B$18*PI()*('Gearing Calculator'!B$15/'Gearing Calculator'!C$15)/1000)*('Gearing Calculator'!B$16/'Gearing Calculator'!C$16)) -> 113.14271 | K15: =((B15*60*('Gearing Calculator'!B$26/'Gearing Calculator'!C$26)*'Gearing Calculator'!B$18*PI()*('Gearing Calculator'!B$15/'Gearing Calculator'!C$15)/1000)*('Gearing Calculator'!B$16/'Gearing Calculator'!C$16)) -> 130.74269 | L15: =((B15*60*('Gearing Calculator'!B$27/'Gearing Calculator'!C$27)*'Gearing Calculator'!B$18*PI()*('Gearing Calculator'!B$15/'Gearing Calculator'!C$15)/1000)*('Gearing Calculator'!B$16/'Gearing Calculator'!C$16)) -> 145.4692 | N15: =($E15*1000)/(G15*(1000/3600)) -> 2084.5731 | O15: =($E15*1000)/(H15*(1000/3600)) -> 1463.1556 | P15: =($E15*1000)/(I15*(1000/3600)) -> 1152.4469 | Q15: =($E15*1000)/(J15*(1000/3600)) -> 949.07393 | R15: =($E15*1000)/(K15*(1000/3600)) -> 821.31397 | S15: =($E15*1000)/(L15*(1000/3600)) -> 738.16861 | W15: 24.5
... B21: 12000 | C21: 41 | D21: =W20*1.35581795 -> 21.693087 | E21: =C21*0.7457 -> 30.5737 | G21: =((B21*60*('Gearing Calculator'!B$22/'Gearing Calculator'!C$22)*'Gearing Calculator'!B$18*PI()*('Gearing Calculator'!B$15/'Gearing Calculator'!C$15)/1000)*('Gearing Calculator'!B$16/'Gearing Calculator'!C$16)) -> 72.723007 | H21: =((B21*60*('Gearing Calculator'!B$23/'Gearing Calculator'!C$23)*'Gearing Calculator'!B$18*PI()*('Gearing Calculator'!B$15/'Gearing Calculator'!C$15)/1000)*('Gearing Calculator'!B$16/'Gearing Calculator'!C$16)) -> 103.60923 | I21: =((B21*60*('Gearing Calculator'!B$24/'Gearing Calculator'!C$24)*'Gearing Calculator'!B$18*PI()*('Gearing Calculator'!B$15/'Gearing Calculator'!C$15)/1000)*('Gearing Calculator'!B$16/'Gearing Calculator'!C$16)) -> 131.54309 | J21: =((B21*60*('Gearing Calculator'!B$25/'Gearing Calculator'!C$25)*'Gearing Calculator'!B$18*PI()*('Gearing Calculator'!B$15/'Gearing Calculator'!C$15)/1000)*('Gearing Calculator'!B$16/'Gearing Calculator'!C$16)) -> 159.73089 | K21: =((B21*60*('Gearing Calculator'!B$26/'Gearing Calculator'!C$26)*'Gearing Calculator'!B$18*PI()*('Gearing Calculator'!B$15/'Gearing Calculator'!C$15)/1000)*('Gearing Calculator'!B$16/'Gearing Calculator'!C$16)) -> 184.57792 | L21: =((B21*60*('Gearing Calculator'!B$27/'Gearing Calculator'!C$27)*'Gearing Calculator'!B$18*PI()*('Gearing Calculator'!B$15/'Gearing Calculator'!C$15)/1000)*('Gearing Calculator'!B$16/'Gearing Calculator'!C$16)) -> 205.36829 | N21: =($E21*1000)/(G21*(1000/3600)) -> 1513.4869 | O21: =($E21*1000)/(H21*(1000/3600)) -> 1062.312 | P21: =($E21*1000)/(I21*(1000/3600)) -> 836.72447 | Q21: =($E21*1000)/(J21*(1000/3600)) -> 689.06721 | R21: =($E21*1000)/(K21*(1000/3600)) -> 596.30817 | S21: =($E21*1000)/(L21*(1000/3600)) -> 535.94117 | W21: 15
B22: 12500 | C22: 36 | D22: =W21*1.35581795 -> 20.337269 | E22: =C22*0.7457 -> 26.8452 | G22: =((B22*60*('Gearing Calculator'!B$22/'Gearing Calculator'!C$22)*'Gearing Calculator'!B$18*PI()*('Gearing Calculator'!B$15/'Gearing Calculator'!C$15)/1000)*('Gearing Calculator'!B$16/'Gearing Calculator'!C$16)) -> 75.753133 | H22: =((B22*60*('Gearing Calculator'!B$23/'Gearing Calculator'!C$23)*'Gearing Calculator'!B$18*PI()*('Gearing Calculator'!B$15/'Gearing Calculator'!C$15)/1000)*('Gearing Calculator'!B$16/'Gearing Calculator'!C$16)) -> 107.92628 | I22: =((B22*60*('Gearing Calculator'!B$24/'Gearing Calculator'!C$24)*'Gearing Calculator'!B$18*PI()*('Gearing Calculator'!B$15/'Gearing Calculator'!C$15)/1000)*('Gearing Calculator'!B$16/'Gearing Calculator'!C$16)) -> 137.02405 | J22: =((B22*60*('Gearing Calculator'!B$25/'Gearing Calculator'!C$25)*'Gearing Calculator'!B$18*PI()*('Gearing Calculator'!B$15/'Gearing Calculator'!C$15)/1000)*('Gearing Calculator'!B$16/'Gearing Calculator'!C$16)) -> 166.38634 | K22: =((B22*60*('Gearing Calculator'!B$26/'Gearing Calculator'!C$26)*'Gearing Calculator'!B$18*PI()*('Gearing Calculator'!B$15/'Gearing Calculator'!C$15)/1000)*('Gearing Calculator'!B$16/'Gearing Calculator'!C$16)) -> 192.26866 | L22: =((B22*60*('Gearing Calculator'!B$27/'Gearing Calculator'!C$27)*'Gearing Calculator'!B$18*PI()*('Gearing Calculator'!B$15/'Gearing Calculator'!C$15)/1000)*('Gearing Calculator'!B$16/'Gearing Calculator'!C$16)) -> 213.9253 | N22: =($E22*1000)/(G22*(1000/3600)) -> 1275.7587 | O22: =($E22*1000)/(H22*(1000/3600)) -> 895.45125 | P22: =($E22*1000)/(I22*(1000/3600)) -> 705.29751 | Q22: =($E22*1000)/(J22*(1000/3600)) -> 580.83324 | R22: =($E22*1000)/(K22*(1000/3600)) -> 502.64415 | S22: =($E22*1000)/(L22*(1000/3600)) -> 451.75919
G24: x | N24: y

Sheet Powercurve

Sheet Resistance to Motion
A1: Aero Drag Force | C1: FD = ½ρ x CD x A x V^2 | E1: Total Aero Drag | G1: Total Force needed | I1: Total Power needed | L1: km/h | M1: m/s | N1: Resistance to Motion (n)
A2: rho | B2: 1.167 | E2: =0.5*B2*B3*B4*B5^2 -> 607.85677 | F2: (n) | G2: =E2+E8 -> 653.76757 | H2: (n) | I2: =G2*B5 -> 38850.138 | J2: (w) | L2: =(3.6*M2) -> 18 | M2: 5 | N2: =(0.5*B2*B3*B4*(M2^2))+E8 -> 50.214112
A3: Cd | B3: 0.5 | C3: (find average) italian dudes book | I3: =I2/1000 -> 38.850138 | J3: (Kw) | L3: =(3.6*M3) -> 36 | M3: 10 | N3: =(0.5*B2*B3*B4*M3^2)+E8 -> 63.12405
A4: A | B4: 0.59 | C4: m^2 | L4: =(3.6*M4) -> 54 | M4: 15 | N4: =(0.5*B2*B3*B4*M4^2)+E8 -> 84.640613
A5: V | B5: =213.93*(1000/3600) -> 59.425 | C5: top speed in m/s | L5: =(3.6*M5) -> 72 | M5: 20 | N5: =(0.5*B2*B3*B4*M5^2)+E8 -> 114.7638
L6: =(3.6*M6) -> 90 | M6: 25 | N6: =(0.5*B2*B3*B4*M6^2)+E8 -> 153.49361
A7: Rolling Resistance | C7: FW = 0.02 x m x g | E7: Total Rolling Resistance | L7: =(3.6*M7) -> 108 | M7: 30 | N7: =(0.5*B2*B3*B4*M7^2)+E8 -> 200.83005
A8: Mass | B8: =CoG!L27 -> 234 | E8: =0.02*B8*B9 -> 45.9108 | F8: (n) | L8: =(3.6*M8) -> 126 | M8: 35 | N8: =(0.5*B2*B3*B4*M8^2)+E8 -> 256.77311
A9: Gravity | B9: 9.81 | L9: =(3.6*M9) -> 144 | M9: 40 | N9: =(0.5*B2*B3*B4*M9^2)+E8 -> 321.3228
L10: =(3.6*M10) -> 162 | M10: 45 | N10: =(0.5*B2*B3*B4*M10^2)+E8 -> 394.47911
L11: =(3.6*M11) -> 180 | M11: 50 | N11: =(0.5*B2*B3*B4*M11^2)+E8 -> 476.24205
K12: mph | L12: =(3.6*M12) -> 198 | M12: 55 | N12: =(0.5*B2*B3*B4*M12^2)+E8 -> 566.61161
K13: =L13*0.621371 -> 132.94108 | L13: =(3.6*M13) -> 213.948 | M13: 59.43 | N13: =(0.5*B2*B3*B4*B5^2)+E8 -> 653.76757

Sheet notes
A1: Factors
A2: air resistance | C2: Section 2 | L2: Section 1
A3: rolling resistance | J3: Sketch in Solidworks
A4: HP | J4: closed sketch
A5: Road speed v Driving force | B5: theoretical | J5: CoG
A6: Work out frontal area | B6: front photo | J6: Talk about calculations®
A7: Work out CoEffient of drag | B7: standard unit for coeffient of drag | J7: all measurements diagram
C10: Section 3 | L10: Section 4
A11: Talk about rake,trail | J11: moto 3
A12: swing arm length | J12: Ducati wsbk
A13: how it would affect the handling | J13: see section 1*
A14: There differences
C16: Section 5 | G16: Aero Drag Force | I16: FD = ½ρ x CD x A x V^2
A17: Compare moto 3 to ninja | B17: Compare and contrast | G17: rho | H17: 1.167 | J17: =0.5*H17*H18*H19*H20^2 -> 620.77671 | K17: n | L17: Total Force needed | N17: Power needed
A18: Ducati racebike to roadbike | B18: Compare and contrast | G18: Cd | H18: 0.6 | I18: (find average) | J18: aero force | L18: =J17+G23 -> 653.34591 | M18: n | N18: =L18*H20 -> 38825.081 | O18: w
A19: Points made in section 3 | G19: A | H19: 0.502117 | I19: m^2 | N19: =N18/1000 -> 38.825081 | O19: kw
G20: V | H20: =213.93*(1000/3600) -> 59.425 | I20: top speed in m/s
A22: Ninja | C22: Ducati | G22: Rolling Resistance | I22: FW = 0.02 x m x g
A23: Rake | B23: 24.5 | C23: Rake | D23: 25.5 | F23: Ninja | G23: =0.02*CoG!B27*9.81 -> 32.5692 | H23: nm
A24: Trail | B24: 94 | C24: Trail | D24: 0.1
A25: Wheel Radius | B25: 0.31 | C25: Wheel Radius | D25: 0.31
A26: Triple Clamp offset | B26: 31.96 | C26: Triple Clamp offset | D26: 27.74
