Workbook

Sheet FP1
L1: EVENT: | R1: Race 1 | X1: CIRCUIT: | AD1: Silverstone
L2: RIDER | X2: FASTEST LAP
L3: DATE: | X3: CIRCUIT KM: | AD3: 5.89
A4: LAPS: | C4: RUN 1 | H4: RUN 2 | N4: SESSION: | R4: FP1 | T4: RUN 1 | X4: RUN 2 | AB4: RUN 3 | AF4: RUN 4
A5: 1 | C5: Out | N5: TIME | T5: 0.39930556
A6: 2 | C6: 0.0020060764 | N6: CONDITION | T6: Wet
A7: 3 | C7: In | N7: TRK TEMP | Q7: AIR TEMP
A8: 4 | N8: WIND DIRECTION | T8: None
A9: 5 | N9: ENGINE NO. | T9: 198
A10: 6 | N10: ENGINE MILEAGE LOWER | T10: =(AD3*COUNTA(C5:G24))+1000 -> 1017.67 | X10: =(AD$3*COUNTA(H$5:L$24))+T10 -> 1017.67 | AB10: =(AD$3*COUNTA(C$28:G$47))+X10 -> 1017.67 | AF10: =(AD$3*COUNTA(H$28:L$47))+AB10 -> 1017.67
A11: 7 | N11: ENGINE MILEAGE UPPER | T11: =(AD3*COUNTA(C5:G24))+0 -> 17.67 | X11: =(AD$3*COUNTA(H$5:L$24))+T11 -> 17.67 | AB11: =(AD$3*COUNTA(C$28:G$47))+X11 -> 17.67 | AF11: =(AD$3*COUNTA(H$28:L$47))+AB11 -> 17.67
A12: 8 | N12: MAP | T12: FP1
A13: 9 | N13: FUEL (In/Out) | T13: 14 | V13: 10.5
A14: 10 | N14: TRAIL (Real/Ground)
A15: 11 | N15: SAG/RAKE
A16: 12 | N16: FORK TYPE/CARTRIDGE | T16: K-Tech
A17: 13 | N17: DAMPING
A18: 14 | N18: FORK HEIGHT | T18: 12
A19: 15 | N19: TOP OUT SPRINGS | T19: 125x1
A20: 16 | N20: OIL HEIGHT | T20: 215
A21: 17 | N21: SPRINGS | T21: 9.5 / 9.5
A22: 18 | N22: PRELOAD | T22: 4
A23: 19 | N23: COMPRESSION | T23: 18
A24: 20 | N24: REBOUND | T24: 18
A25: Best | C25: =IF(OR(C5 = "Out/In", C6 = "In", C5 = 0), "no time", MIN(C5:G24)) -> 0.0020060764 | H25: =IF(OR(H5 = "Out/In", H6 = "In", H5 = 0), "no time", MIN(H5:L24)) -> no time | N25: STEERING DAMPER
N26: FRONT WHEEL SIZE | T26: Std
A27: LAPS: | C27: RUN 3 | H27: RUN 4 | N27: FRONT DISC SIZE | T27: Std
A28: 1 | N28: FRONT TYRE TYPE/SIZE | T28: SCR
A29: 2 | N29: FRONT PRESSURE (Out/In) | T29: 2.2
A30: 3 | N30: SWING ARM TYPE | T30: Std
A31: 4 | N31: SWING ARM PIVOT | T31: Std
A32: 5 | N32: SWING ARM LENGTH | T32: 559
A33: 6 | N33: LINKAGE | T33: Std
A34: 7 | N34: GEARING | T34: 14/39
A35: 8 | N35: SHOCK TYPE | T35: K-Tech
A36: 9 | N36: SHOCK LENGTH | T36: 300
A37: 10 | N37: SAG/SWINGARM ANGLE
A38: 11 | N38: DAMPING
A39: 12 | N39: TOP OUT SPRING | T39: 8x80
A40: 13 | N40: SPRING | T40: 90
A41: 14 | N41: PRELOAD | T41: 10
A42: 15 | N42: COMPRESSION | T42: 9
A43: 16 | N43: BYPASS | T43: 15
A44: 17 | N44: REBOUND | T44: 14
A45: 18 | N45: CLUTCH MAIN/SLIP
A46: 19 | N46: REAR WHEEL SIZE | T46: Std
A47: 20 | N47: REAR TYRE TYPE/SIZE | T47: SCR
A48: Best | C48: =IF(OR(C28 = "Out/In", C29 = "In", C28 = 0), "no time", MIN(C28:G47)) -> no time | H48: =IF(OR(H28 = "Out/In", H29 = "In", H28 = 0), "no time", MIN(H28:L47)) -> no time | N48: REAR PRESSURE (Out/In) | T48: 1.6
A49: RUN 1 | E49: Turn | G49: F | H49: R | I49: Fastest lap of session. | Q49: =IF(AND(C25 = "no time", H25 = "no time", C48 = "no time", H48 = "no time"), "no time",MIN(C25,H25,C48,H48)) -> 0.0020060764
A50: Max F | C50: 102 | E50: 1 | G50: 57 | H50: 23 | I50: Jake engine dropped oil, session stopped. Not long enough to get a feeling.
A51: Max R | C51: 28 | E51: 10 | G51: 54 | H51: 22
A52: Avg F | C52: 41 | E52: 14 | G52: 58 | H52: 24
A53: Avg R | C53: 20 | E53: 17 | G53: 43 | H53: 25
A54: RUN 2 | E54: Turn | G54: F | H54: R
A55: Max F | E55: =E50 -> 1
A56: Max R | E56: =E51 -> 10
A57: Avg F | E57: =E52 -> 14
A58: Avg R | E58: =E53 -> 17
A59: RUN 3 | E59: Turn | G59: F | H59: R | I59: Session Mileage | Q59: =(AD3*COUNTA(C5:G24))+(AD3*COUNTA(H5:L24))+(AD3*COUNTA(C28:G47))+(AD3*COUNTA(H28:L47)) -> 17.67
A60: Max F | E60: =E50 -> 1
A61: Max R | E61: =E51 -> 10
A62: Avg F | E62: =E52 -> 14
A63: Avg R | E63: =E53 -> 17
A64: RUN 4 | E64: Turn | G64: F | H64: R | I64: Total Fuel Used | M64: =T13+X13+AB13+AF13-V13-Z13-AD13-AH13 -> 3.5 | O64: l/lap | S64: =IF(AND(C25 = "no time", H25 = "no time", C48 = "no time", H48 = "no time"), 0, M64/(COUNTA(C5:L24)+COUNTA(C28:L47))) -> 1.1666667
A65: Max F | E65: =E50 -> 1
A66: Max R | E66: =E51 -> 10
A67: Avg F | E67: =E52 -> 14
A68: Avg R | E68: =E53 -> 17

Sheet FP2
L1: EVENT: | R1: ='FP1'!R1:W1 -> Race 1 | X1: CIRCUIT: | AD1: ='FP1'!AD1:AI1 -> Silverstone | AK1: Bar | AL1: PSI
L2: RIDER | R2: ='FP1'!R2:W2 -> 0 | X2: FASTEST LAP | AD2: ='FP1'!AD2:AI2 -> 0 | AK2: 1 | AL2: 14.50377
L3: DATE: | R3: ='FP1'!R3:W3 -> 0 | X3: CIRCUIT KM: | AD3: ='FP1'!AD3:AI3 -> 5.89
A4: LAPS: | C4: RUN 1 | H4: RUN 2 | N4: SESSION: | R4: FP2 | T4: RUN 1 | X4: RUN 2 | AB4: RUN 3 | AF4: RUN 4
A5: 1 | C5: Out | H5: Out/In | N5: TIME | T5: 0.62847222
A6: 2 | C6: 0.0017880671 | N6: CONDITION | T6: Damp Bits
A7: 3 | C7: 0.0017196065 | N7: TRK TEMP | Q7: AIR TEMP
A8: 4 | C8: 0.0016994213 | N8: WIND DIRECTION | T8: None
A9: 5 | C9: In | N9: ENGINE NO. | T9: ='FP1'!T9:W9 -> 198
A10: 6 | N10: ENGINE MILEAGE LOWER | T10: =(AD$3*COUNTA(C$5:G$24))+'FP1'!AF10 -> 1047.12 | X10: =(AD$3*COUNTA(H$5:L$24))+T10 -> 1053.01 | AB10: =(AD$3*COUNTA(C$28:G$47))+X10 -> 1053.01 | AF10: =(AD$3*COUNTA(H$28:L$47))+AB10 -> 1053.01
A11: 7 | N11: ENGINE MILEAGE UPPER | T11: =(AD$3*COUNTA(C$5:G$24))+'FP1'!AF11 -> 47.12 | X11: =(AD$3*COUNTA(H$5:L$24))+T11 -> 53.01 | AB11: =(AD$3*COUNTA(C$28:G$47))+X11 -> 53.01 | AF11: =(AD$3*COUNTA(H$28:L$47))+AB11 -> 53.01
A12: 8 | N12: MAP | T12: FP2
A13: 9 | N13: FUEL (In/Out) | T13: 10 | X13: 4 | Z13: 8.8
A14: 10 | N14: TRAIL (Real/Ground)
A15: 11 | N15: SAG/RAKE
A16: 12 | N16: FORK TYPE/CARTRIDGE | T16: K-Tech
A17: 13 | N17: DAMPING
A18: 14 | N18: FORK HEIGHT | T18: 12
A19: 15 | N19: TOP OUT SPRINGS | T19: 125x1
A20: 16 | N20: OIL HEIGHT | T20: 215
A21: 17 | N21: SPRINGS | T21: 9.5 / 10.0
A22: 18 | N22: PRELOAD | T22: 10 | X22: 8
A23: 19 | N23: COMPRESSION | T23: 12 | X23: 10
A24: 20 | N24: REBOUND | T24: 12
A25: Best | C25: =IF(OR(C5 = "Out/In", C6 = "In", C5 = 0), "no time", MIN(C5:G24)) -> 0.0016994213 | H25: =IF(OR(H5 = "Out/In", H6 = "In", H5 = 0), "no time", MIN(H5:L24)) -> no time | N25: STEERING DAMPER
N26: FRONT WHEEL SIZE | T26: Std
A27: LAPS: | C27: RUN 3 | H27: RUN 4 | N27: FRONT DISC SIZE | T27: Std
A28: 1 | N28: FRONT TYRE TYPE/SIZE | T28: SC1
A29: 2 | N29: FRONT PRESSURE (Out/In) | T29: 2.2
A30: 3 | N30: SWING ARM TYPE | T30: Std
A31: 4 | N31: SWING ARM PIVOT | T31: Std
A32: 5 | N32: SWING ARM LENGTH | T32: 559
A33: 6 | N33: LINKAGE | T33: Std
A34: 7 | N34: GEARING | T34: 14/39
A35: 8 | N35: SHOCK TYPE | T35: K-Tech
A36: 9 | N36: SHOCK LENGTH | T36: 300
A37: 10 | N37: SAG/SWINGARM ANGLE
A38: 11 | N38: DAMPING
A39: 12 | N39: TOP OUT SPRING | T39: 8x80
A40: 13 | N40: SPRING | T40: 90
A41: 14 | N41: PRELOAD | T41: 16
A42: 15 | N42: COMPRESSION | T42: 9
A43: 16 | N43: BYPASS | T43: 8
A44: 17 | N44: REBOUND | T44: 14
A45: 18 | N45: CLUTCH MAIN/SLIP
A46: 19 | N46: REAR WHEEL SIZE | T46: Std
A47: 20 | N47: REAR TYRE TYPE/SIZE | T47: SC1
A48: Best | C48: =IF(OR(C28 = "Out/In", C29 = "In", C28 = 0), "no time", MIN(C28:G47)) -> no time | H48: =IF(OR(H28 = "Out/In", H29 = "In", H28 = 0), "no time", MIN(H28:L47)) -> no time | N48: REAR PRESSURE (Out/In) | T48: 1.6
A49: RUN 1 | E49: Turn | G49: F | H49: R | I49: Fastest lap of session. | Q49: =IF(AND(C25 = "no time", H25 = "no time", C48 = "no time", H48 = "no time"), "no time",MIN(C25,H25,C48,H48)) -> 0.0016994213
A50: Max F | E50: ='FP1'!E50:F50 -> 1
A51: Max R | E51: ='FP1'!E51:F51 -> 10
A52: Avg F | E52: ='FP1'!E52:F52 -> 14
A53: Avg R | E53: ='FP1'!E53:F53 -> 17
A54: RUN 2 | E54: Turn | G54: F | H54: R | I54: Fastest lap before this session. | Q54: ='FP1'!Q49:T49 -> 0.0020060764
A55: Max F | E55: =E50 -> 1
A56: Max R | E56: =E51 -> 10
A57: Avg F | E57: =E52 -> 14
A58: Avg R | E58: =E53 -> 17
A59: RUN 3 | E59: Turn | G59: F | H59: R | I59: Session Mileage | Q59: =(AD3*COUNTA(C5:G24))+(AD3*COUNTA(H5:L24))+(AD3*COUNTA(C28:G47))+(AD3*COUNTA(H28:L47)) -> 35.34
A60: Max F | E60: =E50 -> 1
A61: Max R | E61: =E51 -> 10
A62: Avg F | E62: =E52 -> 14
A63: Avg R | E63: =E53 -> 17
A64: RUN 4 | E64: Turn | G64: F | H64: R | I64: Total Fuel Used | M64: =T13+X13+AB13+AF13-V13-Z13-AD13-AH13 -> 5.2 | O64: l/lap | S64: =IF(AND(C25 = "no time", H25 = "no time", C48 = "no time", H48 = "no time"), 0, M64/(COUNTA(C5:L24)+COUNTA(C28:L47))) -> 0.86666667
A65: Max F | E65: =E50 -> 1
A66: Max R | E66: =E51 -> 10
A67: Avg F | E67: =E52 -> 14
A68: Avg R | E68: =E53 -> 17

Sheet QP
L1: EVENT: | R1: ='FP1'!R1:W1 -> Race 1 | X1: CIRCUIT: | AD1: ='FP1'!AD1:AI1 -> Silverstone | AK1: Bar | AL1: PSI
L2: RIDER | R2: ='FP1'!R2:W2 -> 0 | X2: FASTEST LAP | AD2: ='FP1'!AD2:AI2 -> 0 | AK2: 1 | AL2: 14.50377
L3: DATE: | R3: ='FP1'!R3:W3+1 -> 1 | X3: CIRCUIT KM: | AD3: ='FP1'!AD3:AI3 -> 5.89
A4: LAPS: | C4: RUN 1 | H4: RUN 2 | N4: SESSION: | R4: FP3 | T4: RUN 1 | X4: RUN 2 | AB4: RUN 3 | AF4: RUN 4
A5: 1 | C5: Out | H5: Out | N5: TIME | T5: 0.45833333
A6: 2 | C6: 0.0018092477 | H6: 0.0016531597 | N6: CONDITION | T6: Wet
A7: 3 | C7: 0.0017535301 | H7: 0.0016315741 | N7: TRK TEMP | Q7: AIR TEMP
A8: 4 | C8: 0.0016961343 | H8: 0.0016259375 | N8: WIND DIRECTION
A9: 5 | C9: 0.0016889236 | H9: 0.0016122454 | N9: ENGINE NO.
A10: 6 | C10: 0.0016741551 | H10: In | N10: ENGINE MILEAGE LOWER | T10: =(AD$3*COUNTA(C$5:G$24))+120 -> 161.23 | X10: =(AD$3*COUNTA(H$5:L$24))+T10 -> 196.57 | AB10: =(AD$3*COUNTA(C$28:G$47))+X10 -> 196.57 | AF10: =(AD$3*COUNTA(H$28:L$47))+AB10 -> 196.57
A11: 7 | C11: In | N11: ENGINE MILEAGE UPPER | T11: =(AD$3*COUNTA(C$5:G$24))+120 -> 161.23 | X11: =(AD$3*COUNTA(H$5:L$24))+T11 -> 196.57 | AB11: =(AD$3*COUNTA(C$28:G$47))+X11 -> 196.57 | AF11: =(AD$3*COUNTA(H$28:L$47))+AB11 -> 196.57
A12: 8 | N12: MAP | T12: QP
A13: 9 | N13: FUEL (In/Out) | T13: 10 | X13: 4 | Z13: 1
A14: 10 | N14: TRAIL (Real/Ground)
A15: 11 | N15: SAG/RAKE
A16: 12 | N16: FORK TYPE/CARTRIDGE | T16: K-Tech
A17: 13 | N17: DAMPING
A18: 14 | N18: FORK HEIGHT | T18: 12
A19: 15 | N19: TOP OUT SPRINGS | T19: 125x1
A20: 16 | N20: OIL HEIGHT | T20: 215
A21: 17 | N21: SPRINGS | T21: 9.5 / 10.0
A22: 18 | N22: PRELOAD | T22: 8
A23: 19 | N23: COMPRESSION | T23: 10
A24: 20 | N24: REBOUND | T24: 12
A25: Best | C25: =IF(OR(C5 = "Out/In", C6 = "In", C5 = 0), "no time", MIN(C5:G24)) -> 0.0016741551 | H25: =IF(OR(H5 = "Out/In", H6 = "In", H5 = 0), "no time", MIN(H5:L24)) -> 0.0016122454 | N25: STEERING DAMPER
N26: FRONT WHEEL SIZE | T26: Std
A27: LAPS: | C27: RUN 3 | H27: RUN 4 | N27: FRONT DISC SIZE | T27: Std
A28: 1 | N28: FRONT TYRE TYPE/SIZE | T28: SCR | X28: SCR
A29: 2 | N29: FRONT PRESSURE (Out/In) | T29: 2.1 | X29: 2.1
A30: 3 | N30: SWING ARM TYPE | T30: Std
A31: 4 | N31: SWING ARM PIVOT | T31: Std
A32: 5 | N32: SWING ARM LENGTH | T32: 559
A33: 6 | N33: LINKAGE | T33: Std
A34: 7 | N34: GEARING | T34: 14/39
A35: 8 | N35: SHOCK TYPE | T35: K-Tech
A36: 9 | N36: SHOCK LENGTH | T36: 301
A37: 10 | N37: SAG/SWINGARM ANGLE
A38: 11 | N38: DAMPING
A39: 12 | N39: TOP OUT SPRING | T39: 8x80
A40: 13 | N40: SPRING | T40: 95
A41: 14 | N41: PRELOAD | T41: 14
A42: 15 | N42: COMPRESSION | T42: 9
A43: 16 | N43: BYPASS | T43: 8
A44: 17 | N44: REBOUND | T44: 14
A45: 18 | N45: CLUTCH MAIN/SLIP
A46: 19 | N46: REAR WHEEL SIZE | T46: Std
A47: 20 | N47: REAR TYRE TYPE/SIZE | T47: SCR | X47: SC1
A48: Best | C48: =IF(OR(C28 = "Out/In", C29 = "In", C28 = 0), "no time", MIN(C28:G47)) -> no time | H48: =IF(OR(H28 = "Out/In", H29 = "In", H28 = 0), "no time", MIN(H28:L47)) -> no time | N48: REAR PRESSURE (Out/In) | T48: =29/AL2 -> 1.9994801 | X48: 1.6
A49: RUN 1 | E49: Turn | G49: F | H49: R | I49: Fastest lap of session. | Q49: =IF(AND(C25 = "no time", H25 = "no time", C48 = "no time", H48 = "no time"), "no time",MIN(C25,H25,C48,H48)) -> 0.0016122454
A50: Max F | E50: ='FP2'!E50:F50 -> 1
A51: Max R | E51: ='FP2'!E51:F51 -> 10
A52: Avg F | E52: ='FP2'!E52:F52 -> 14
A53: Avg R | E53: ='FP2'!E53:F53 -> 17
A54: RUN 2 | E54: Turn | G54: F | H54: R | I54: Fastest lap before this session. | Q54: =IF('FP2'!Q49:T49 = 0, 'FP2'!Q54:T54, MIN('FP2'!Q54:T54,'FP2'!Q49:T49)) -> 0.0016994213
A55: Max F | E55: =E50 -> 1
A56: Max R | E56: =E51 -> 10
A57: Avg F | E57: =E52 -> 14
A58: Avg R | E58: =E53 -> 17
A59: RUN 3 | E59: Turn | G59: F | H59: R | I59: Session Mileage | Q59: =(AD3*COUNTA(C5:G24))+(AD3*COUNTA(H5:L24))+(AD3*COUNTA(C28:G47))+(AD3*COUNTA(H28:L47)) -> 76.57
A60: Max F | E60: =E50 -> 1
A61: Max R | E61: =E51 -> 10
A62: Avg F | E62: =E52 -> 14
A63: Avg R | E63: =E53 -> 17
A64: RUN 4 | E64: Turn | G64: F | H64: R | I64: Total Fuel Used | M64: =T13+X13+AB13+AF13-V13-Z13-AD13-AH13 -> 13 | O64: l/lap | S64: =IF(AND(C25 = "no time", H25 = "no time", C48 = "no time", H48 = "no time"), 0, M64/(COUNTA(C5:L24)+COUNTA(C28:L47))) -> 1
A65: Max F | E65: =E50 -> 1
A66: Max R | E66: =E51 -> 10
A67: Avg F | E67: =E52 -> 14
A68: Avg R | E68: =E53 -> 17

Sheet RACE 1
L1: EVENT: | R1: ='FP1'!R1:W1 -> Race 1 | X1: CIRCUIT: | AD1: ='FP1'!AD1:AI1 -> Silverstone | AK1: Bar | AL1: PSI
L2: RIDER | R2: ='FP1'!R2:W2 -> 0 | X2: FASTEST LAP | AD2: ='FP1'!AD2:AI2 -> 0 | AK2: 1 | AL2: 14.50377
L3: DATE: | R3: ='FP1'!R3:W3+1 -> 1 | X3: CIRCUIT KM: | AD3: ='FP1'!AD3:AI3 -> 5.89
A4: LAPS: | C4: RUN 1 | H4: RUN 2 | N4: SESSION: | R4: QP | T4: RUN 1 | X4: RUN 2 | AB4: RUN 3 | AF4: RUN 4
A5: 1 | C5: Sighting | H5: Out | N5: TIME | T5: 0.72222222
A6: 2 | C6: WU | H6: In | N6: CONDITION | T6: Damp Patches | X6: Wet | AB6: Wet
A7: 3 | C7: 0.0016358681 | N7: TRK TEMP | Q7: AIR TEMP
A8: 4 | C8: 0.0015810069 | N8: WIND DIRECTION
A9: 5 | C9: 0.0018309838 | N9: ENGINE NO. | T9: =QP!T9:W9 -> 0
A10: 6 | C10: In | N10: ENGINE MILEAGE LOWER | T10: =(AD$3*COUNTA(C$5:G$24))+QP!AF10 -> 231.91 | X10: =(AD$3*COUNTA(H$5:L$24))+T10 -> 243.69 | AB10: =(AD$3*COUNTA(C$28:G$47))+X10 -> 249.58 | AF10: =(AD$3*COUNTA(H$28:L$47))+AB10 -> 249.58
A11: 7 | N11: ENGINE MILEAGE UPPER | T11: =(AD$3*COUNTA(C$5:G$24))+QP!AF11 -> 231.91 | X11: =(AD$3*COUNTA(H$5:L$24))+T11 -> 243.69 | AB11: =(AD$3*COUNTA(C$28:G$47))+X11 -> 249.58 | AF11: =(AD$3*COUNTA(H$28:L$47))+AB11 -> 249.58
A12: 8 | N12: MAP | T12: Race 1
A13: 9 | N13: FUEL (In/Out) | T13: 15
A14: 10 | N14: TRAIL (Real/Ground)
A15: 11 | N15: SAG/RAKE
A16: 12 | N16: FORK TYPE/CARTRIDGE | T16: K-Tech
A17: 13 | N17: DAMPING
A18: 14 | N18: FORK HEIGHT | T18: 12
A19: 15 | N19: TOP OUT SPRINGS | T19: 125x1
A20: 16 | N20: OIL HEIGHT | T20: 215
A21: 17 | N21: SPRINGS | T21: 9.5 / 10.0
A22: 18 | N22: PRELOAD | T22: 6
A23: 19 | N23: COMPRESSION | T23: 8
A24: 20 | N24: REBOUND | T24: 12
A25: Best | C25: =IF(OR(C5 = "Out/In", C6 = "In", C5 = 0), "no time", MIN(C5:G24)) -> 0.0015810069 | H25: =IF(OR(H5 = "Out/In", H6 = "In", H5 = 0), "no time", MIN(H5:L24)) -> no time | N25: STEERING DAMPER
N26: FRONT WHEEL SIZE | T26: Std
A27: LAPS: | C27: RUN 3 | H27: RUN 4 | N27: FRONT DISC SIZE | T27: Std
A28: 1 | C28: Out/In | N28: FRONT TYRE TYPE/SIZE | T28: SC1
A29: 2 | N29: FRONT PRESSURE (Out/In) | T29: 2.2
A30: 3 | N30: SWING ARM TYPE | T30: Std
A31: 4 | N31: SWING ARM PIVOT | T31: Std
A32: 5 | N32: SWING ARM LENGTH | T32: 559
A33: 6 | N33: LINKAGE | T33: Std
A34: 7 | N34: GEARING | T34: 14/39
A35: 8 | N35: SHOCK TYPE | T35: K-Tech
A36: 9 | N36: SHOCK LENGTH | T36: 301
A37: 10 | N37: SAG/SWINGARM ANGLE
A38: 11 | N38: DAMPING
A39: 12 | N39: TOP OUT SPRING | T39: 8x80
A40: 13 | N40: SPRING | T40: 95
A41: 14 | N41: PRELOAD | T41: 13
A42: 15 | N42: COMPRESSION | T42: 11
A43: 16 | N43: BYPASS | T43: 8
A44: 17 | N44: REBOUND | T44: 14
A45: 18 | N45: CLUTCH MAIN/SLIP
A46: 19 | N46: REAR WHEEL SIZE | T46: Std
A47: 20 | N47: REAR TYRE TYPE/SIZE | T47: SC1
A48: Best | C48: =IF(OR(C28 = "Out/In", C29 = "In", C28 = 0), "no time", MIN(C28:G47)) -> no time | H48: =IF(OR(H28 = "Out/In", H29 = "In", H28 = 0), "no time", MIN(H28:L47)) -> no time | N48: REAR PRESSURE (Out/In) | T48: 1.6
A49: RUN 1 | E49: Turn | G49: F | H49: R | I49: Fastest lap of session. | Q49: =IF(AND(C25 = "no time", H25 = "no time", C48 = "no time", H48 = "no time"), "no time",MIN(C25,H25,C48,H48)) -> 0.0015810069
A50: Max F | E50: =QP!E50:F50 -> 1 | I50: On grid thought rear wheel was out of balance. After session, complained of chatter.
A51: Max R | E51: =QP!E51:F51 -> 10
A52: Avg F | E52: =QP!E52:F52 -> 14
A53: Avg R | E53: =QP!E53:F53 -> 17
A54: RUN 2 | E54: Turn | G54: F | H54: R | I54: Fastest lap before this session. | Q54: =IF(QP!Q49:T49 = 0, QP!Q54:T54, MIN(QP!Q54:T54,QP!Q49:T49)) -> 0.0016122454
A55: Max F | E55: =E50 -> 1 | I55: Started from back of grid, missed 1 min pit time.
A56: Max R | E56: =E51 -> 10
A57: Avg F | E57: =E52 -> 14
A58: Avg R | E58: =E53 -> 17
A59: RUN 3 | E59: Turn | G59: F | H59: R | I59: Session Mileage | Q59: =(AD3*COUNTA(C5:G24))+(AD3*COUNTA(H5:L24))+(AD3*COUNTA(C28:G47))+(AD3*COUNTA(H28:L47)) -> 53.01
A60: Max F | E60: =E50 -> 1 | I60: Cancelled start, race aborted.
A61: Max R | E61: =E51 -> 10
A62: Avg F | E62: =E52 -> 14
A63: Avg R | E63: =E53 -> 17
A64: RUN 4 | E64: Turn | G64: F | H64: R | I64: Total Fuel Used | M64: =T13+X13+AB13+AF13-V13-Z13-AD13-AH13 -> 15 | O64: l/lap | S64: =IF(AND(C25 = "no time", H25 = "no time", C48 = "no time", H48 = "no time"), 0, M64/(COUNTA(C5:L24)+COUNTA(C28:L47))) -> 1.6666667
A65: Max F | E65: =E50 -> 1
A66: Max R | E66: =E51 -> 10
A67: Avg F | E67: =E52 -> 14
A68: Avg R | E68: =E53 -> 17

Sheet WU
L1: EVENT: | R1: ='FP1'!R1:W1 -> Race 1 | X1: CIRCUIT: | AD1: ='FP1'!AD1:AI1 -> Silverstone | AK1: Bar | AL1: PSI
L2: RIDER | R2: ='FP1'!R2:W2 -> 0 | X2: FASTEST LAP | AD2: ='FP1'!AD2:AI2 -> 0 | AK2: 1 | AL2: 14.50377
L3: DATE: | R3: ='FP1'!R3:W3+2 -> 2 | X3: CIRCUIT KM: | AD3: ='FP1'!AD3:AI3 -> 5.89
A4: LAPS: | C4: RUN 1 | H4: RUN 2 | N4: SESSION: | R4: WU | T4: RUN 1 | X4: RUN 2 | AB4: RUN 3 | AF4: RUN 4
A5: 1 | C5: Out | N5: TIME | T5: 0.42361111
A6: 2 | C6: 0.0016458449 | N6: CONDITION | T6: Dry
A7: 3 | C7: 0.0016110995 | N7: TRK TEMP | Q7: AIR TEMP
A8: 4 | C8: 0.0015902662 | N8: WIND DIRECTION
A9: 5 | C9: In | N9: ENGINE NO. | T9: ='RACE 1'!T9 -> 0
A10: 6 | N10: ENGINE MILEAGE LOWER | T10: =(AD$3*COUNTA(C$5:G$24))+'RACE 1'!AF10 -> 279.03 | X10: =(AD$3*COUNTA(H$5:L$24))+T10 -> 279.03 | AB10: =(AD$3*COUNTA(C$28:G$47))+X10 -> 279.03 | AF10: =(AD$3*COUNTA(H$28:L$47))+AB10 -> 279.03
A11: 7 | N11: ENGINE MILEAGE UPPER | T11: =(AD$3*COUNTA(C$5:G$24))+'RACE 1'!AF11 -> 279.03 | X11: =(AD$3*COUNTA(H$5:L$24))+T11 -> 279.03 | AB11: =(AD$3*COUNTA(C$28:G$47))+X11 -> 279.03 | AF11: =(AD$3*COUNTA(H$28:L$47))+AB11 -> 279.03
A12: 8 | N12: MAP | T12: WU
A13: 9 | N13: FUEL (In/Out) | T13: 10 | V13: 5.2
A14: 10 | N14: TRAIL (Real/Ground)
A15: 11 | N15: SAG/RAKE
A16: 12 | N16: FORK TYPE/CARTRIDGE | T16: K-Tech
A17: 13 | N17: DAMPING
A18: 14 | N18: FORK HEIGHT | T18: 12
A19: 15 | N19: TOP OUT SPRINGS | T19: 125x1
A20: 16 | N20: OIL HEIGHT | T20: 215
A21: 17 | N21: SPRINGS | T21: 9.0 / 9.5
A22: 18 | N22: PRELOAD | T22: 10
A23: 19 | N23: COMPRESSION | T23: 8
A24: 20 | N24: REBOUND | T24: 8
A25: Best | C25: =IF(OR(C5 = "Out/In", C6 = "In", C5 = 0), "no time", MIN(C5:G24)) -> 0.0015902662 | H25: =IF(OR(H5 = "Out/In", H6 = "In", H5 = 0), "no time", MIN(H5:L24)) -> no time | N25: STEERING DAMPER
N26: FRONT WHEEL SIZE | T26: Std
A27: LAPS: | C27: RUN 3 | H27: RUN 4 | N27: FRONT DISC SIZE | T27: Std
A28: 1 | N28: FRONT TYRE TYPE/SIZE | T28: SC1
A29: 2 | N29: FRONT PRESSURE (Out/In) | T29: 2.2
A30: 3 | N30: SWING ARM TYPE | T30: Std
A31: 4 | N31: SWING ARM PIVOT | T31: Std
A32: 5 | N32: SWING ARM LENGTH | T32: 559
A33: 6 | N33: LINKAGE | T33: Std
A34: 7 | N34: GEARING | T34: 14/39
A35: 8 | N35: SHOCK TYPE | T35: K-Tech
A36: 9 | N36: SHOCK LENGTH | T36: 301
A37: 10 | N37: SAG/SWINGARM ANGLE
A38: 11 | N38: DAMPING
A39: 12 | N39: TOP OUT SPRING | T39: 8x80
A40: 13 | N40: SPRING | T40: 95
A41: 14 | N41: PRELOAD | T41: 13
A42: 15 | N42: COMPRESSION | T42: 11
A43: 16 | N43: BYPASS | T43: 8
A44: 17 | N44: REBOUND | T44: 14
A45: 18 | N45: CLUTCH MAIN/SLIP
A46: 19 | N46: REAR WHEEL SIZE | T46: Std
A47: 20 | N47: REAR TYRE TYPE/SIZE | T47: SC1
A48: Best | C48: =IF(OR(C28 = "Out/In", C29 = "In", C28 = 0), "no time", MIN(C28:G47)) -> no time | H48: =IF(OR(H28 = "Out/In", H29 = "In", H28 = 0), "no time", MIN(H28:L47)) -> no time | N48: REAR PRESSURE (Out/In) | T48: 1.6
A49: RUN 1 | E49: Turn | G49: F | H49: R | I49: Fastest lap of session. | Q49: =IF(AND(C25 = "no time", H25 = "no time", C48 = "no time", H48 = "no time"), "no time",MIN(C25,H25,C48,H48)) -> 0.0015902662
A50: Max F | E50: ='RACE 1'!E50:F50 -> 1 | I50: T1 would like more support. T2, T3, T4 better, front still creeping a little. Change of direction feels ok, but on data rear lifts a lot, spins. T16 feels ok
A51: Max R | E51: ='RACE 1'!E51:F51 -> 10
A52: Avg F | E52: ='RACE 1'!E52:F52 -> 14
A53: Avg R | E53: ='RACE 1'!E53:F53 -> 17
A54: RUN 2 | E54: Turn | G54: F | H54: R | I54: Fastest lap before this session. | Q54: =IF('RACE 1'!Q49:T49 = 0, 'RACE 1'!Q54:T54, MIN('RACE 1'!Q54:T54,'RACE 1'!Q49:T49)) -> 0.0015810069
A55: Max F | E55: =E50 -> 1
A56: Max R | E56: =E51 -> 10
A57: Avg F | E57: =E52 -> 14
A58: Avg R | E58: =E53 -> 17
A59: RUN 3 | E59: Turn | G59: F | H59: R | I59: Session Mileage | Q59: =(AD3*COUNTA(C5:G24))+(AD3*COUNTA(H5:L24))+(AD3*COUNTA(C28:G47))+(AD3*COUNTA(H28:L47)) -> 29.45
A60: Max F | E60: =E50 -> 1
A61: Max R | E61: =E51 -> 10
A62: Avg F | E62: =E52 -> 14
A63: Avg R | E63: =E53 -> 17
A64: RUN 4 | E64: Turn | G64: F | H64: R | I64: Total Fuel Used | M64: =T13+X13+AB13+AF13-V13-Z13-AD13-AH13 -> 4.8 | O64: l/lap | S64: =IF(AND(C25 = "no time", H25 = "no time", C48 = "no time", H48 = "no time"), 0, M64/(COUNTA(C5:L24)+COUNTA(C28:L47))) -> 0.96
A65: Max F | E65: =E50 -> 1
A66: Max R | E66: =E51 -> 10
A67: Avg F | E67: =E52 -> 14
A68: Avg R | E68: =E53 -> 17

Sheet RACE 2
L1: EVENT: | R1: ='FP1'!R1:W1 -> Race 1 | X1: CIRCUIT | AD1: ='FP1'!AD1:AI1 -> Silverstone | AK1: Bar | AL1: PSI
L2: RIDER | R2: ='FP1'!R2:W2 -> 0 | X2: FASTEST LAP | AD2: ='FP1'!AD2:AI2 -> 0 | AK2: 1 | AL2: 14.50377
L3: DATE: | R3: ='FP1'!R3:W3+2 -> 2 | X3: CIRCUIT KM: | AD3: ='FP1'!AD3:AI3 -> 5.89
A4: LAPS: | C4: RACE 1 | F4: ± | H4: POS | J4: LAPS | L4: RACE 1 | O4: ± | Q4: POS | T4: SESSION | X4: RACE | AB4: RACE 1 | AF4: RACE 2
A5: 39 | J5: 19 | T5: TIME | AB5: 0.65277778
A6: 38 | J6: 18 | T6: CONDITION | AB6: Dry
A7: 37 | J7: 17 | T7: TRK TEMP | X7: AIR TEMP
A8: 36 | J8: 16 | T8: WIND DIRECTION
A9: 35 | J9: 15 | T9: ENGINE NO. | AB9: =WU!T9 -> 0
A10: 34 | J10: 14 | T10: ENGINE MILEAGE LOWER | AB10: =AD$3*COUNTA(C$5:E$24,L$5:N$24)+WU!AF10 -> 279.03 | AF10: =(COUNTA(C$28:E$47,L$28:N$47)*AD$3)+AB10 -> 279.03
A11: 33 | J11: 13 | T11: ENGINE MILEAGE UPPER | AB11: =AD$3*COUNTA(C$5:E$24,L$5:N$24)+WU!AF11 -> 279.03 | AF11: =(COUNTA(C$28:E$47,L$28:N$47)*AD$3)+AB11 -> 279.03
A12: 32 | J12: 12 | T12: MAP | AB12: Race 2
A13: 31 | J13: 11 | T13: FUEL (In/Out) | AB13: 17
A14: 30 | J14: 10 | T14: TRAIL (Real/Ground)
A15: 29 | J15: 9 | T15: SAG/RAKE
A16: 28 | J16: 8 | T16: FORK TYPE / CARTRIDGE | AB16: K-Tech
A17: 27 | J17: 7 | T17: DAMPING SETTING
A18: 26 | J18: 6 | T18: FORK HEIGHT | AB18: 12
A19: 25 | J19: 5 | T19: TOP OUT SPRINGS | AB19: 125x1
A20: 24 | J20: 4 | T20: OIL HEIGHT | AB20: 215
A21: 23 | J21: 3 | T21: SPRINGS | AB21: 9.0 / 9.0
A22: 22 | J22: 2 | T22: PRELOAD | AB22: 12
A23: 21 | J23: 1 | T23: COMPRESSION | AB23: 8
A24: 20 | J24: 0 | T24: REBOUND | AB24: 8
H25: Best Lap | L25: =IF(L24=0, "no time", MIN(L5:N23,C5:E24)) -> no time | T25: STEERING DAMPER
T26: FRONT WHEEL SIZE | AB26: Std
A27: LAPS: | C27: RACE 2 | F27: ± | H27: POS | J27: LAPS | L27: RACE 2 | O27: ± | Q27: POS | T27: FRONT DISC SIZE | AB27: Std
A28: 39 | J28: 19 | T28: FRONT TYRE TYPE/SIZE | AB28: SC1
A29: 38 | J29: 18 | T29: FRONT PRESSURE (Out/In) | AB29: 2.2
A30: 37 | J30: 17 | T30: SWING ARM TYPE | AB30: Std
A31: 36 | J31: 16 | T31: SWING ARM PIVOT | AB31: Std
A32: 35 | J32: 15 | T32: SWING ARM LENGTH | AB32: 559
A33: 34 | J33: 14 | T33: LINKAGE | AB33: Std
A34: 33 | J34: 13 | T34: GEARING | AB34: 14/39
A35: 32 | J35: 12 | T35: SHOCK TYPE | AB35: K-Tech
A36: 31 | J36: 11 | T36: SHOCK LENGTH | AB36: 300?
A37: 30 | J37: 10 | T37: SAG/SWINGARM ANGLE
A38: 29 | J38: 9 | T38: TOP OUT SPRING | AB38: 8x80
A39: 28 | J39: 8 | T39: DAMPING SETTING
A40: 27 | J40: 7 | T40: SPRING | AB40: 95
A41: 26 | J41: 6 | T41: PRELOAD | AB41: 13
A42: 25 | J42: 5 | T42: COMPRESSION | AB42: 11
A43: 24 | J43: 4 | T43: BYPASS | AB43: 8
A44: 23 | J44: 3 | T44: REBOUND | AB44: 11
A45: 22 | J45: 2 | T45: CLUTCH MAIN/SLIP
A46: 21 | J46: 1 | T46: REAR WHEEL SIZE | AB46: Std
A47: 20 | J47: 0 | T47: REAR TYRE TYPE/SIZE | AB47: SC1
H48: Best Lap | L48: =IF(L47=0, "no time", MIN(L28:N47,C28:E47)) -> no time | T48: REAR PRESSURE (Out/In) | AB48: 1.6
A49: RACE 1
A50: Ride height from 339mm to 338mm. Clutch slipped, no adjustment. Pulled out lap 2.
A57: Total Fuel Used | E57: =AB13-AD13 -> 17 | I57: l/lap | O57: =IF(L25="no time",0,E57/(COUNTA(L5:N24)+(COUNTA(C5:E24)))) -> 0
A58: Total Mileage | E58: =WU!Q59+'RACE 1'!Q59+QP!Q59+'FP2'!Q59+'FP1'!Q59+(AD3*COUNTA(C5:E24,L5:N24)) -> 212.04 | I58: Fastest lap of weekend | O58: =MIN('RACE 2'!L25,WU!C25,WU!H25,WU!C48,WU!H48,'RACE 1'!C25:G25,'RACE 1'!H25:L25,'RACE 1'!C48:G48,'RACE 1'!H48:L48,QP!C25:G25,QP!H25:L25,QP!C48:G48,QP!H48:L48,'FP2'!C25:G25,'FP2'!H25:L25,'FP2'!C48:G48,'FP2'!H48:L48,'FP1'!C25:G25,'FP1'!H25:L25,'FP1'!C48:G48,'FP1'!H48:L48) -> 0.0015810069
A59: RACE 2
A67: Total Fuel Used | E67: =AF13-AH13 -> 0 | I67: l/lap | O67: =IF(L48 = "no time", 0, E67/(COUNTA(L28:N47)+(COUNTA(C28:E47)))) -> 0
A68: Total Mileage | E68: =WU!Q59+'RACE 1'!Q59+QP!Q59+'FP2'!Q59+'FP1'!Q59+(AD3*COUNTA(C5:E24,L5:N24))+(AD3*COUNTA(C28:E47,L28:N47)) -> 212.04 | I68: Fastest lap of weekend | O68: =MIN('RACE 2'!L25,L48,WU!C25,WU!H25,WU!C48,WU!H48,'RACE 1'!C25:G25,'RACE 1'!H25:L25,'RACE 1'!C48:G48,'RACE 1'!H48:L48,QP!C25:G25,QP!H25:L25,QP!C48:G48,QP!H48:L48,'FP2'!C25:G25,'FP2'!H25:L25,'FP2'!C48:G48,'FP2'!H48:L48,'FP1'!C25:G25,'FP1'!H25:L25,'FP1'!C48:G48,'FP1'!H48:L48) -> 0.0015810069

Sheet Fuel Calculation
A1: Laps in Race | B1: 12
A2: Total Laps | B2: =B1+3 -> 15
A3: l/lap | B3: =AVERAGE(WU!S64,'RACE 1'!S64,QP!S64:T64,'FP2'!S64:T64,'FP1'!S64:T64) -> 1.132
A4: Litres for race | B4: =(B3*B2)+1 -> 17.98
