Workbook

Sheet SUMMARY
A1: Rev - | B1: PROJECT NAME
A2: 26th December | B2: SUMMARY
A4: Item | B4: Description | D4: Quantity | E4: Unit | F4: Rate | G4: Total
A6: 1.00 | B6: Groundworks | D6: 1 | E6: item | F6: ='1. Groundworks'!F100 -> 0 | G6: =F6*D6 -> 0
A8: 2.00 | B8: Brickwork | D8: 1 | E8: item | F8: ='2. Brickwork'!F100 -> 0 | G8: =F8*D8 -> 0
A10: 3.00 | B10: Steelwork | D10: 1 | E10: item | F10: ='3. Steelwork'!F100 -> 0 | G10: =F10*D10 -> 0
A12: 4.00 | B12: First Fix Carpentry | D12: 1 | E12: item | F12: ='4. First Fix Carpentry'!F100 -> 0 | G12: =F12*D12 -> 0
A14: 5.00 | B14: Second Fix Carpentry | D14: 1 | E14: item | F14: ='5. Second Fix Carpentry'!F100 -> 0 | G14: =F14*D14 -> 0
A16: 6.00 | B16: Dry-Lining & Plastering | D16: 1 | E16: item | F16: ='6. Dry-lining'!F100 -> 0 | G16: =F16*D16 -> 0
A18: 7.00 | B18: Painting & Wall Papering | D18: 1 | E18: item | F18: ='7. Painting & Wall Papering'!F100 -> 0 | G18: =F18*D18 -> 0
A20: 8.00 | B20: Tiling | D20: 1 | E20: item | F20: ='8. Tiling'!F100 -> 0 | G20: =F20*D20 -> 0
A22: 9.00 | B22: Floor Finishes | D22: 1 | E22: item | F22: ='9. Floor Finishes'!F100 -> 0 | G22: =F22*D22 -> 0
A24: 10.00 | B24: Roof Finishes & Cladding | D24: 1 | E24: item | F24: ='10. Roof Finishes & Cladding'!F100 -> 0 | G24: =F24*D24 -> 0
A26: 11.00 | B26: Rainwater Systems | D26: 1 | E26: item | F26: ='11. Rainwater Systems'!F100 -> 0 | G26: =F26*D26 -> 0
A28: 12.00 | B28: Architectural Metalwork & Glazing | D28: 1 | E28: item | F28: ='12. Arch Metal & Glazing'!F100 -> 0 | G28: =F28*D28 -> 0
A30: 13.00 | B30: Windows & External Doors | D30: 1 | E30: item | F30: ='13. Windows & External Doors'!F100 -> 0 | G30: =F30*D30 -> 0
A32: 14.00 | B32: Joinery, Kitchens, Fixtures & Fittings | D32: 1 | E32: item | F32: ='14. Joinery & Kitchens'!F100 -> 0 | G32: =F32*D32 -> 0
A34: 15.00 | B34: Mechanical / Plumbing & Heating | D34: 1 | E34: item | F34: ='15. Mechanical-Plumbing'!F100 -> 0 | G34: =F34*D34 -> 0
A36: 16.00 | B36: Electrical | D36: 1 | E36: item | F36: ='16. Electrical'!F100 -> 0 | G36: =F36*D36 -> 0
A38: 17.00 | B38: Utilities | D38: 1 | E38: item | F38: ='17. Utilities'!F100 -> 0 | G38: =F38*D38 -> 0
A40: 18.00 | B40: Hard & Soft Landscaping | D40: 1 | E40: item | F40: ='18. Hard & Soft Landscaping'!F100 -> 0 | G40: =F40*D40 -> 0
A42: 19.00 | B42: Scaffolding | D42: 1 | E42: item | F42: ='19. Scaffolding'!F100 -> 0 | G42: =F42*D42 -> 0
A44: 20.00 | B44: Other Items | D44: 1 | E44: item | F44: ='20. Other CDP Items'!F100 -> 0 | G44: =F44*D44 -> 0
A46: TOTAL | G46: =SUM(G5:G45) -> 0

Sheet 1. Groundworks
A1: =SUMMARY!A1 -> Rev - | B1: =SUMMARY!B1 -> PROJECT NAME
A2: =SUMMARY!$A$6 -> 1.00 | B2: =SUMMARY!B6 -> Groundworks
A4: Item | B4: Description | C4: Quantity | D4: Unit | E4: Rate | F4: Total
A6: 1.01 | B6: Site Preparation & Excavating
A8: 1.01.1 | D8: m | E8: 0 | F8: =E8*C8 -> 0
A10: 1.01.2 | D10: m2 | E10: 0 | F10: =E10*C10 -> 0
A12: 1.01.3 | D12: m3 | E12: 0 | F12: =E12*C12 -> 0
A14: 1.01.4 | D14: mm | E14: 0 | F14: =E14*C14 -> 0
A16: 1.01.5 | D16: nr | E16: 0 | F16: =E16*C16 -> 0
A18: 1.01.6 | D18: kg | E18: 0 | F18: =E18*C18 -> 0
A20: 1.01.7 | D20: t | E20: 0 | F20: =E20*C20 -> 0
A22: 1.01.8 | D22: h | E22: 0 | F22: =E22*C22 -> 0
A24: 1.01.9 | D24: pc sum | E24: 0 | F24: =E24*C24 -> 0
A26: 1.01.10 | D26: prov sum | E26: 0 | F26: =E26*C26 -> 0
A28: 1.01.11 | D28: % | E28: 0 | F28: =E28*C28 -> 0
A30: 1.02 | B30: Foundations
A32: 1.02.1 | E32: 0 | F32: =E32*C32 -> 0
A34: 1.03 | B34: Below Ground Drainage
A36: 1.03.1 | E36: 0 | F36: =E36*C36 -> 0
B100: Total | F100: =SUM(F5:F99) -> 0

Sheet 2. Brickwork
A1: =SUMMARY!A1 -> Rev - | B1: =SUMMARY!B1 -> PROJECT NAME
A2: =SUMMARY!$A$8 -> 2.00 | B2: =SUMMARY!B8 -> Brickwork
A4: Item | B4: Description | C4: Quantity | D4: Unit | E4: Rate | F4: Total
A6: 2.01 | B6: External Masonry Walls
A8: 2.01.1 | B8: Wall Type 1 | D8: m | E8: 0 | F8: =E8*C8 -> 0
A10: 2.01.2 | B10: Wall Type 2 | D10: m2 | E10: 0 | F10: =E10*C10 -> 0
A12: 2.01.3 | B12: Wall Type 3 | D12: m3 | E12: 0 | F12: =E12*C12 -> 0
A14: 2.01.4 | B14: Wall Type 4 | D14: mm | E14: 0 | F14: =E14*C14 -> 0
A16: 2.01.5 | B16: Wall Type 5 | D16: nr | E16: 0 | F16: =E16*C16 -> 0
A18: 2.01.6 | B18: Wall Type 6 | D18: kg | E18: 0 | F18: =E18*C18 -> 0
A20: 2.01.7 | B20: Wall Type 7 | D20: t | E20: 0 | F20: =E20*C20 -> 0
A22: 2.01.8 | B22: Wall Type 8 | D22: h | E22: 0 | F22: =E22*C22 -> 0
A24: 2.01.9 | B24: Wall Type 9 | D24: pc sum | E24: 0 | F24: =E24*C24 -> 0
A26: 2.01.10 | B26: Wall Type 10 | D26: prov sum | E26: 0 | F26: =E26*C26 -> 0
A28: 2.01.11 | B28: Wall Type 11 | D28: % | E28: 0 | F28: =E28*C28 -> 0
A30: 2.02 | B30: Internal Masonry Walls
A32: 2.02.1 | B32: Internal Wall Type 1 | E32: 0 | F32: =E32*C32 -> 0
A34: 2.03 | B34: Brickwork Lintels
A36: 2.03.1 | B36: Lintel Type 1 | E36: 0 | F36: =E36*C36 -> 0
E100: Total | F100: =SUM(F5:F99) -> 0

Sheet 3. Steelwork
A1: =SUMMARY!A1 -> Rev - | B1: =SUMMARY!B1 -> PROJECT NAME
A2: =SUMMARY!$A$10 -> 3.00 | B2: =SUMMARY!B10 -> Steelwork
A4: Item | B4: Description | C4: Quantity | D4: Unit | E4: Rate | F4: Total
A6: 3.01 | B6: Structural Steelwork
A8: 3.01.1 | B8: Column Type 1 | D8: m | E8: 0 | F8: =E8*C8 -> 0
A10: 3.01.2 | B10: Column Type 2 | D10: m2 | E10: 0 | F10: =E10*C10 -> 0
A12: 3.01.3 | B12: Column Type 3 | D12: m3 | E12: 0 | F12: =E12*C12 -> 0
A14: 3.01.4 | B14: Column Type 4 | D14: mm | E14: 0 | F14: =E14*C14 -> 0
A16: 3.01.5 | B16: Column Type 5 | D16: nr | E16: 0 | F16: =E16*C16 -> 0
A18: 3.01.6 | B18: Column Type 6 | D18: kg | E18: 0 | F18: =E18*C18 -> 0
A20: 3.01.7 | B20: Column Type 7 | D20: t | E20: 0 | F20: =E20*C20 -> 0
A22: 3.01.8 | B22: Column Type 8 | D22: h | E22: 0 | F22: =E22*C22 -> 0
A24: 3.01.9 | B24: Column Type 9 | D24: pc sum | E24: 0 | F24: =E24*C24 -> 0
A26: 3.01.10 | B26: Column Type 10 | D26: prov sum | E26: 0 | F26: =E26*C26 -> 0
A28: 3.01.11 | B28: Column Type 11 | D28: % | E28: 0 | F28: =E28*C28 -> 0
A30: 3.02 | B30: Structural Steelwork
A32: 3.02.1 | B32: Beam Type 1 | E32: 0 | F32: =E32*C32 -> 0
A34: 3.03 | B34: Design
A36: 3.03.1 | B36: Steel Connection Design | E36: 0 | F36: =E36*C36 -> 0
E100: Total | F100: =SUM(F5:F99) -> 0

Sheet 4. First Fix Carpentry
A1: =SUMMARY!A1 -> Rev - | B1: =SUMMARY!B1 -> PROJECT NAME
A2: =SUMMARY!$A$12 -> 4.00 | B2: =SUMMARY!B12 -> First Fix Carpentry
A4: Item | B4: Description | C4: Quantity | D4: Unit | E4: Rate | F4: Total
A6: 4.01 | B6: Structural Timber
A8: 4.01.1 | B8: Floor Type 1 | D8: m | E8: 0 | F8: =E8*C8 -> 0
A10: 4.01.2 | B10: Floor Type 2 | D10: m2 | E10: 0 | F10: =E10*C10 -> 0
A12: 4.01.3 | B12: Floor Type 3 | D12: m3 | E12: 0 | F12: =E12*C12 -> 0
A14: 4.01.4 | B14: Floor Type 4 | D14: mm | E14: 0 | F14: =E14*C14 -> 0
A16: 4.01.5 | B16: Floor Type 5 | D16: nr | E16: 0 | F16: =E16*C16 -> 0
A18: 4.01.6 | B18: Floor Type 6 | D18: kg | E18: 0 | F18: =E18*C18 -> 0
A20: 4.01.7 | B20: Floor Type 7 | D20: t | E20: 0 | F20: =E20*C20 -> 0
A22: 4.01.8 | B22: Floor Type 8 | D22: h | E22: 0 | F22: =E22*C22 -> 0
A24: 4.01.9 | B24: Floor Type 9 | D24: pc sum | E24: 0 | F24: =E24*C24 -> 0
A26: 4.01.10 | B26: Floor Type 10 | D26: prov sum | E26: 0 | F26: =E26*C26 -> 0
A28: 4.01.11 | B28: Floor Type 11 | D28: % | E28: 0 | F28: =E28*C28 -> 0
A30: 4.02 | B30: Structural Timber
A32: 4.02.1 | B32: Wall Type 1 | E32: 0 | F32: =E32*C32 -> 0
A34: 4.03 | B34: Staircases
A36: 4.03.1 | B36: Stair Type 1 | E36: 0 | F36: =E36*C36 -> 0
E100: Total | F100: =SUM(F5:F99) -> 0

Sheet 5. Second Fix Carpentry
A1: =SUMMARY!A1 -> Rev - | B1: =SUMMARY!B1 -> PROJECT NAME
A2: =SUMMARY!$A$14 -> 5.00 | B2: =SUMMARY!B14 -> Second Fix Carpentry
A4: Item | B4: Description | C4: Quantity | D4: Unit | E4: Rate | F4: Total
A6: 5.01 | B6: Internal Doors
A8: 5.01.1 | B8: Door Type 1 | D8: m | E8: 0 | F8: =E8*C8 -> 0
A10: 5.01.2 | B10: Door Type 2 | D10: m2 | E10: 0 | F10: =E10*C10 -> 0
A12: 5.01.3 | B12: Door Type 3 | D12: m3 | E12: 0 | F12: =E12*C12 -> 0
A14: 5.01.4 | B14: Door Type 4 | D14: mm | E14: 0 | F14: =E14*C14 -> 0
A16: 5.01.5 | B16: Door Type 5 | D16: nr | E16: 0 | F16: =E16*C16 -> 0
A18: 5.01.6 | B18: Door Type 6 | D18: kg | E18: 0 | F18: =E18*C18 -> 0
A20: 5.01.7 | B20: Door Type 7 | D20: t | E20: 0 | F20: =E20*C20 -> 0
A22: 5.01.8 | B22: Door Type 8 | D22: h | E22: 0 | F22: =E22*C22 -> 0
A24: 5.01.9 | B24: Door Type 9 | D24: pc sum | E24: 0 | F24: =E24*C24 -> 0
A26: 5.01.10 | B26: Door Type 10 | D26: prov sum | E26: 0 | F26: =E26*C26 -> 0
A28: 5.01.11 | B28: Door Type 11 | D28: % | E28: 0 | F28: =E28*C28 -> 0
A30: 5.02 | B30: Skirting
A32: 5.02.1 | B32: Skirting Type 1 | E32: 0 | F32: =E32*C32 -> 0
A34: 5.03 | B34: Window Boards
A36: 5.03.1 | B36: Window Board Type 1 | E36: 0 | F36: =E36*C36 -> 0
X83: Skirting Measure
X84: =((12.2+0.5+0.4+1.9+1+2.3+0.4+1.4+5.7)*2) -> 51.6 | Y84: B
X85: =(5.3+0.8+0.6+1+1+2.3+1.2+10.9+1.3+0.8+1.9+0.5)+((0.4+4.6+4.9+0.5+3.7+3.2+4.1)*2)+((6.1+7.2+0.4+2.1+3.7+1.7)*2)+(5.3+10.6+0.2+2+2+2.7+0.9+1.7) -> 138.2 | Y85: GF
X86: =(4.1+3.4+0.5+0.3+9.3+6.4+0.5+2.4+0.4+5.2+1.5+3.5+0.3+6.1)+(1.5+2.5+0.4+0.1+7.4+1.8+3.5+0.9+1.2+0.5+11.8+1.4+4.1+0.6+7.2)+((6.6+5.2+1.1+2.4+6.7+0.6+1.3+2.5+0.7+1.2)*2)+(0.5+7.6+3.4+0.3+0.9+2.1+1.9+11+0.8+3.6) -> 177.5 | Y86: 1F
X87: =(1.1+2.1+0.1+3.2+7.3+4.1+5+0.1+10.2+1.2+2.5+5.7+0.8+1+11.8+1.7+1.7+3.7)+((2.1+3.1+4.6+8.7+0.1+2.5)*2)+(2.2+3.2+4.5+4.7+1.5+3.7) -> 125.3 | Y87: 2F
X88: =SUM(X84:X87) -> 492.6
E100: Total | F100: =SUM(F5:F99) -> 0

Sheet 6. Dry-lining
A1: =SUMMARY!A1 -> Rev - | B1: =SUMMARY!B1 -> PROJECT NAME
A2: =SUMMARY!$A$16 -> 6.00 | B2: =SUMMARY!B16 -> Dry-Lining & Plastering
A4: Item | B4: Description | C4: Quantity | D4: Unit | E4: Rate | F4: Total
A6: 6.01 | B6: Walls
A8: 6.01.1 | B8: Wall Type 1 | D8: m | E8: 0 | F8: =E8*C8 -> 0
A10: 6.01.2 | B10: Wall Type 2 | D10: m2 | E10: 0 | F10: =E10*C10 -> 0
A12: 6.01.3 | B12: Wall Type 3 | D12: m3 | E12: 0 | F12: =E12*C12 -> 0
A14: 6.01.4 | B14: Wall Type 4 | D14: mm | E14: 0 | F14: =E14*C14 -> 0
A16: 6.01.5 | B16: Wall Type 5 | D16: nr | E16: 0 | F16: =E16*C16 -> 0
A18: 6.01.6 | B18: Wall Type 6 | D18: kg | E18: 0 | F18: =E18*C18 -> 0
A20: 6.01.7 | B20: Wall Type 7 | D20: t | E20: 0 | F20: =E20*C20 -> 0
A22: 6.01.8 | B22: Wall Type 8 | D22: h | E22: 0 | F22: =E22*C22 -> 0
A24: 6.01.9 | B24: Wall Type 9 | D24: pc sum | E24: 0 | F24: =E24*C24 -> 0
A26: 6.01.10 | B26: Wall Type 10 | D26: prov sum | E26: 0 | F26: =E26*C26 -> 0
A28: 6.01.11 | B28: Wall Type 11 | D28: % | E28: 0 | F28: =E28*C28 -> 0
A30: 6.02 | B30: Ceilings
A32: 6.02.1 | B32: Ceiling Type 1 | E32: 0 | F32: =E32*C32 -> 0
A34: 6.03 | B34: Details
A36: 6.03.1 | B36: Boxing in of SVP/RWP Pipes | E36: 0 | F36: =E36*C36 -> 0
E100: Total | F100: =SUM(F5:F99) -> 0

Sheet 7. Painting & Wall Papering
A1: =SUMMARY!A1 -> Rev - | B1: =SUMMARY!$B$1 -> PROJECT NAME
A2: =SUMMARY!$A$18 -> 7.00 | B2: =SUMMARY!B18 -> Painting & Wall Papering
A4: Item | B4: Description | C4: Quantity | D4: Unit | E4: Rate | F4: Total
A6: 7.01 | B6: Wall Finishes
A8: 7.01.1 | B8: Paint Finish Type 1 | D8: m | E8: 0 | F8: =E8*C8 -> 0
A10: 7.01.2 | B10: Paint Finish Type 2 | D10: m2 | E10: 0 | F10: =E10*C10 -> 0
A12: 7.01.3 | B12: Paint Finish Type 3 | D12: m3 | E12: 0 | F12: =E12*C12 -> 0
A14: 7.01.4 | B14: Paint Finish Type 4 | D14: mm | E14: 0 | F14: =E14*C14 -> 0
A16: 7.01.5 | B16: Paint Finish Type 5 | D16: nr | E16: 0 | F16: =E16*C16 -> 0
A18: 7.01.6 | B18: Paint Finish Type 6 | D18: kg | E18: 0 | F18: =E18*C18 -> 0
A20: 7.01.7 | B20: Paint Finish Type 7 | D20: t | E20: 0 | F20: =E20*C20 -> 0
A22: 7.01.8 | B22: Paint Finish Type 8 | D22: h | E22: 0 | F22: =E22*C22 -> 0
A24: 7.01.9 | B24: Paint Finish Type 9 | D24: pc sum | E24: 0 | F24: =E24*C24 -> 0
A26: 7.01.10 | B26: Paint Finish Type 10 | D26: prov sum | E26: 0 | F26: =E26*C26 -> 0
A28: 7.01.11 | B28: Paint Finish Type 11 | D28: % | E28: 0 | F28: =E28*C28 -> 0
A30: 7.02 | B30: Ceiling Finishes
A32: 7.02.1 | B32: Ceiling Type | E32: 0 | F32: =E32*C32 -> 0
A34: 7.03 | B34: Timber Treatment / Finishes
A36: 7.03.1 | B36: Skirtings | E36: 0 | F36: =E36*C36 -> 0
E100: Total | F100: =SUM(F5:F99) -> 0

Sheet 8. Tiling
A1: =SUMMARY!A1 -> Rev - | B1: =SUMMARY!$B$1 -> PROJECT NAME
A2: =SUMMARY!$A$20 -> 8.00 | B2: =SUMMARY!B20 -> Tiling
A4: Item | B4: Description | C4: Quantity | D4: Unit | E4: Rate | F4: Total
A6: 8.01 | B6: Tile Wall Finishes
A8: 8.01.1 | B8: Tile Type 1 | D8: m | E8: 0 | F8: =E8*C8 -> 0
A10: 8.01.2 | B10: Tile Type 2 | D10: m2 | E10: 0 | F10: =E10*C10 -> 0
A12: 8.01.3 | B12: Tile Type 3 | D12: m3 | E12: 0 | F12: =E12*C12 -> 0
A14: 8.01.4 | B14: Tile Type 4 | D14: mm | E14: 0 | F14: =E14*C14 -> 0
A16: 8.01.5 | B16: Tile Type 5 | D16: nr | E16: 0 | F16: =E16*C16 -> 0
A18: 8.01.6 | B18: Tile Type 6 | D18: kg | E18: 0 | F18: =E18*C18 -> 0
A20: 8.01.7 | B20: Tile Type 7 | D20: t | E20: 0 | F20: =E20*C20 -> 0
A22: 8.01.8 | B22: Tile Type 8 | D22: h | E22: 0 | F22: =E22*C22 -> 0
A24: 8.01.9 | B24: Tile Type 9 | D24: pc sum | E24: 0 | F24: =E24*C24 -> 0
A26: 8.01.10 | B26: Tile Type 10 | D26: prov sum | E26: 0 | F26: =E26*C26 -> 0
A28: 8.01.11 | B28: Tile Type 11 | D28: % | E28: 0 | F28: =E28*C28 -> 0
A30: 8.02 | B30: Tile Floor Finishes
A32: 8.02.1 | B32: Tile Type 1 | E32: 0 | F32: =E32*C32 -> 0
A34: 8.03 | B34: Details
A36: 8.02.3 | B36: EO Shower Niche | E36: 0 | F36: =E36*C36 -> 0
E100: Total | F100: =SUM(F5:F80) -> 0

Sheet 9. Floor Finishes
A1: =SUMMARY!A1 -> Rev - | B1: =SUMMARY!B1 -> PROJECT NAME
A2: =SUMMARY!$A$22 -> 9.00 | B2: =SUMMARY!B22 -> Floor Finishes
A4: Item | B4: Description | C4: Quantity | D4: Unit | E4: Rate | F4: Total
A6: 9.01 | B6: Timber Flooring
A8: 9.01.1 | B8: Timber Floor Type 1 | D8: m | E8: 0 | F8: =E8*C8 -> 0
A10: 9.01.2 | B10: Timber Floor Type 2 | D10: m2 | E10: 0 | F10: =E10*C10 -> 0
A12: 9.01.3 | B12: Timber Floor Type 3 | D12: m3 | E12: 0 | F12: =E12*C12 -> 0
A14: 9.01.4 | B14: Timber Floor Type 4 | D14: mm | E14: 0 | F14: =E14*C14 -> 0
A16: 9.01.5 | B16: Timber Floor Type 5 | D16: nr | E16: 0 | F16: =E16*C16 -> 0
A18: 9.01.6 | B18: Timber Floor Type 6 | D18: kg | E18: 0 | F18: =E18*C18 -> 0
A20: 9.01.7 | B20: Timber Floor Type 7 | D20: t | E20: 0 | F20: =E20*C20 -> 0
A22: 9.01.8 | B22: Timber Floor Type 8 | D22: h | E22: 0 | F22: =E22*C22 -> 0
A24: 9.01.9 | B24: Timber Floor Type 9 | D24: pc sum | E24: 0 | F24: =E24*C24 -> 0
A26: 9.01.10 | B26: Timber Floor Type 10 | D26: prov sum | E26: 0 | F26: =E26*C26 -> 0
A28: 9.01.11 | B28: Timber Floor Type 11 | D28: % | E28: 0 | F28: =E28*C28 -> 0
A30: 9.02 | B30: Carpeting
A32: 9.02.1 | B32: Carpet Type 1 | E32: 0 | F32: =E32*C32 -> 0
A34: 9.03 | B34: Door Thresholds
A36: 9.03.1 | B36: Door Threshold Type 1 | E36: 0 | F36: =E36*C36 -> 0
E100: Total | F100: =SUM(F5:F99) -> 0

Sheet 10. Roof Finishes & Cladding
A1: =SUMMARY!A1 -> Rev - | B1: =SUMMARY!$B$1 -> PROJECT NAME
A2: =SUMMARY!$A$24 -> 10.00 | B2: =SUMMARY!B24 -> Roof Finishes & Cladding
A4: Item | B4: Description | C4: Quantity | D4: Unit | E4: Rate | F4: Total
A6: 10.01 | B6: Slate Roofing
A8: 10.01.1 | B8: Slate Roofing Type 1 | D8: m | E8: 0 | F8: =E8*C8 -> 0
A10: 10.01.2 | B10: Slate Roofing Type 2 | D10: m2 | E10: 0 | F10: =E10*C10 -> 0
A12: 10.01.3 | B12: Slate Roofing Type 3 | D12: m3 | E12: 0 | F12: =E12*C12 -> 0
A14: 10.01.4 | B14: Slate Roofing Type 4 | D14: mm | E14: 0 | F14: =E14*C14 -> 0
A16: 10.01.5 | B16: Slate Roofing Type 5 | D16: nr | E16: 0 | F16: =E16*C16 -> 0
A18: 10.01.6 | B18: Slate Roofing Type 6 | D18: kg | E18: 0 | F18: =E18*C18 -> 0
A20: 10.01.7 | B20: Slate Roofing Type 7 | D20: t | E20: 0 | F20: =E20*C20 -> 0
A22: 10.01.8 | B22: Slate Roofing Type 8 | D22: h | E22: 0 | F22: =E22*C22 -> 0
A24: 10.01.9 | B24: Slate Roofing Type 9 | D24: pc sum | E24: 0 | F24: =E24*C24 -> 0
A26: 10.01.10 | B26: Slate Roofing Type 10 | D26: prov sum | E26: 0 | F26: =E26*C26 -> 0
A28: 10.01.11 | B28: Slate Roofing Type 11 | D28: % | E28: 0 | F28: =E28*C28 -> 0
A30: 10.02 | B30: Flat Roofing
A32: 10.02.1 | B32: Flat Roofing Type 1 | E32: 0 | F32: =E32*C32 -> 0
A34: 10.03 | B34: Details
A36: 10.03.1 | B36: Waterpoofing to SVP penetrations | E36: 0 | F36: =E36*C36 -> 0
E100: Total | F100: =SUM(F5:F99) -> 0

Sheet 11. Rainwater Systems
A1: =SUMMARY!A1 -> Rev - | B1: =SUMMARY!B1 -> PROJECT NAME
A2: =SUMMARY!$A$26 -> 11.00 | B2: =SUMMARY!B26 -> Rainwater Systems
A4: Item | B4: Description | C4: Quantity | D4: Unit | E4: Rate | F4: Total
A6: 11.01 | B6: Rainwater Pipes/Systems
A8: 11.01.1 | B8: Rainwater Pipe Type 1 | D8: m | E8: 0 | F8: =E8*C8 -> 0
A10: 11.01.2 | B10: Rainwater Pipe Type 2 | D10: m2 | E10: 0 | F10: =E10*C10 -> 0
A12: 11.01.3 | B12: Rainwater Pipe Type 3 | D12: m3 | E12: 0 | F12: =E12*C12 -> 0
A14: 11.01.4 | B14: Rainwater Pipe Type 4 | D14: mm | E14: 0 | F14: =E14*C14 -> 0
A16: 11.01.5 | B16: Rainwater Pipe Type 5 | D16: nr | E16: 0 | F16: =E16*C16 -> 0
A18: 11.01.6 | B18: Rainwater Pipe Type 6 | D18: kg | E18: 0 | F18: =E18*C18 -> 0
A20: 11.01.7 | B20: Rainwater Pipe Type 7 | D20: t | E20: 0 | F20: =E20*C20 -> 0
A22: 11.01.8 | B22: Rainwater Pipe Type 8 | D22: h | E22: 0 | F22: =E22*C22 -> 0
A24: 11.01.9 | B24: Rainwater Pipe Type 9 | D24: pc sum | E24: 0 | F24: =E24*C24 -> 0
A26: 11.01.10 | B26: Rainwater Pipe Type 10 | D26: prov sum | E26: 0 | F26: =E26*C26 -> 0
A28: 11.01.11 | B28: Rainwater Pipe Type 11 | D28: % | E28: 0 | F28: =E28*C28 -> 0
A30: 11.02 | B30: Guttering
A32: 11.02.1 | B32: Guttering Type 1 | E32: 0 | F32: =E32*C32 -> 0
A34: 11.03 | B34: Outlets/Details
A36: 11.03.1 | B36: Rainwater Outlet Type 1 | E36: 0 | F36: =E36*C36 -> 0
E100: Total | F100: =SUM(F5:F78) -> 0

Sheet 12. Arch Metal & Glazing
A1: =SUMMARY!A1 -> Rev - | B1: =SUMMARY!B1 -> PROJECT NAME
A2: =SUMMARY!$A$28 -> 12.00 | B2: =SUMMARY!B28 -> Architectural Metalwork & Glazing
A4: Item | B4: Description | C4: Quantity | D4: Unit | E4: Rate | F4: Total
A6: 12.01 | B6: Glass Balustrades
A8: 12.01.1 | B8: Balustrade Type 1 | D8: m | E8: 0 | F8: =E8*C8 -> 0
A10: 12.01.2 | B10: Balustrade Type 2 | D10: m2 | E10: 0 | F10: =E10*C10 -> 0
A12: 12.01.3 | B12: Balustrade Type 3 | D12: m3 | E12: 0 | F12: =E12*C12 -> 0
A14: 12.01.4 | B14: Balustrade Type 4 | D14: mm | E14: 0 | F14: =E14*C14 -> 0
A16: 12.01.5 | B16: Balustrade Type 5 | D16: nr | E16: 0 | F16: =E16*C16 -> 0
A18: 12.01.6 | B18: Balustrade Type 6 | D18: kg | E18: 0 | F18: =E18*C18 -> 0
A20: 12.01.7 | B20: Balustrade Type 7 | D20: t | E20: 0 | F20: =E20*C20 -> 0
A22: 12.01.8 | B22: Balustrade Type 8 | D22: h | E22: 0 | F22: =E22*C22 -> 0
A24: 12.01.9 | B24: Balustrade Type 9 | D24: pc sum | E24: 0 | F24: =E24*C24 -> 0
A26: 12.01.10 | B26: Balustrade Type 10 | D26: prov sum | E26: 0 | F26: =E26*C26 -> 0
A28: 12.01.11 | B28: Balustrade Type 11 | D28: % | E28: 0 | F28: =E28*C28 -> 0
A30: 12.02 | B30: Metalwork Railings
A32: 12.02.1 | B32: Railing Type 1 | E32: 0 | F32: =E32*C32 -> 0
A34: 12.03 | B34: Metalwork Gates
A36: 12.03.1 | B36: Gate Type 1 | E36: 0 | F36: =E36*C36 -> 0
E100: Total | F100: =SUM(F5:F99) -> 0

Sheet 13. Windows & External Doors
A1: =SUMMARY!A1 -> Rev - | B1: =SUMMARY!B1 -> PROJECT NAME
A2: =SUMMARY!$A$30 -> 13.00 | B2: =SUMMARY!B30 -> Windows & External Doors
A4: Item | B4: Description | C4: Quantity | D4: Unit | E4: Rate | F4: Total
A6: 13.01 | B6: Windows
A8: 13.01.01 | B8: Window Type 1 | D8: m | E8: 0 | F8: =E8*C8 -> 0
A10: 13.01.02 | B10: Window Type 2 | D10: m2 | E10: 0 | F10: =E10*C10 -> 0
A12: 13.01.03 | B12: Window Type 3 | D12: m3 | E12: 0 | F12: =E12*C12 -> 0
A14: 13.01.04 | B14: Window Type 4 | D14: mm | E14: 0 | F14: =E14*C14 -> 0
A16: 13.01.05 | B16: Window Type 5 | D16: nr | E16: 0 | F16: =E16*C16 -> 0
A18: 13.01.06 | B18: Window Type 6 | D18: kg | E18: 0 | F18: =E18*C18 -> 0
A20: 13.01.07 | B20: Window Type 7 | D20: t | E20: 0 | F20: =E20*C20 -> 0
A22: 13.01.08 | B22: Window Type 8 | D22: h | E22: 0 | F22: =E22*C22 -> 0
A24: 13.01.09 | B24: Window Type 9 | D24: pc sum | E24: 0 | F24: =E24*C24 -> 0
A26: 13.01.10 | B26: Window Type 10 | D26: prov sum | E26: 0 | F26: =E26*C26 -> 0
A28: 13.01.11 | B28: Window Type 11 | D28: % | E28: 0 | F28: =E28*C28 -> 0
A30: 13.02 | B30: External Doors
A32: 13.02.1 | B32: External Door Type 1 | E32: 0 | F32: =E32*C32 -> 0
A34: 13.03 | B34: Sliding Doors
A36: 13.03.1 | B36: External Sliding Door Type 1 | E36: 0 | F36: =E36*C36 -> 0
E100: Total | F100: =SUM(F5:F99) -> 0

Sheet 14. Joinery & Kitchens
A1: =SUMMARY!A1 -> Rev - | B1: =SUMMARY!B1 -> PROJECT NAME
A2: =SUMMARY!$A$32 -> 14.00 | B2: =SUMMARY!B32 -> Joinery, Kitchens, Fixtures & Fittings
A4: Item | B4: Description | C4: Quantity | D4: Unit | E4: Rate | F4: Total
A6: 14.01 | B6: Kitchens
A8: 14.01.1 | B8: Kitchen Type 1 | D8: m | E8: 0 | F8: =E8*C8 -> 0
A10: 14.01.2 | B10: Kitchen Type 2 | D10: m2 | E10: 0 | F10: =E10*C10 -> 0
A12: 14.01.3 | B12: Kitchen Type 3 | D12: m3 | E12: 0 | F12: =E12*C12 -> 0
A14: 14.01.4 | B14: Kitchen Type 4 | D14: mm | E14: 0 | F14: =E14*C14 -> 0
A16: 14.01.5 | B16: Kitchen Type 5 | D16: nr | E16: 0 | F16: =E16*C16 -> 0
A18: 14.01.6 | B18: Kitchen Type 6 | D18: kg | E18: 0 | F18: =E18*C18 -> 0
A20: 14.01.7 | B20: Kitchen Type 7 | D20: t | E20: 0 | F20: =E20*C20 -> 0
A22: 14.01.8 | B22: Kitchen Type 8 | D22: h | E22: 0 | F22: =E22*C22 -> 0
A24: 14.01.9 | B24: Kitchen Type 9 | D24: pc sum | E24: 0 | F24: =E24*C24 -> 0
A26: 14.01.10 | B26: Kitchen Type 10 | D26: prov sum | E26: 0 | F26: =E26*C26 -> 0
A28: 14.01.11 | B28: Kitchen Type 11 | D28: % | E28: 0 | F28: =E28*C28 -> 0
A30: 14.02 | B30: Bedroom Joinery
A32: 14.02.1 | B32: Wardrobe Type 1 | E32: 0 | F32: =E32*C32 -> 0
A34: 14.03 | B34: Bathroom Joinery
A36: 14.03.1 | B36: Vanity Unit Type 1 | E36: 0 | F36: =E36*C36 -> 0
E100: Total | F100: =SUM(F5:F99) -> 0

Sheet 15. Mechanical-Plumbing
A1: =SUMMARY!A1 -> Rev - | B1: =SUMMARY!B1 -> PROJECT NAME
A2: =SUMMARY!$A$34 -> 15.00 | B2: =SUMMARY!B34 -> Mechanical / Plumbing & Heating
A4: Item | B4: Description | C4: Quantity | D4: Unit | E4: Rate | F4: Total
A6: 15.01 | B6: Mechanical and Public Health
A8: 15.01.1 | B8: Above Ground Drainage | C8: 1 | D8: item | E8: 0 | F8: =E8*C8 -> 0
A10: 15.01.2 | B10: Hot and Cold Water System Distribution | C10: 1 | D10: item | E10: 0 | F10: =E10*C10 -> 0
A12: 15.01.3 | B12: Heating Installations and Controls | C12: 1 | D12: item | E12: 0 | F12: =E12*C12 -> 0
A14: 15.01.4 | B14: Gas Installations | C14: 1 | D14: item | E14: 0 | F14: =E14*C14 -> 0
A16: 15.01.5 | B16: Wet Underlfoor Heating System | C16: 1 | D16: item | E16: 0 | F16: =E16*C16 -> 0
A18: 15.01.6 | B18: Installation of Sanittaryware | C18: 1 | D18: item | E18: 0 | F18: =E18*C18 -> 0
A20: 15.01.7 | B20: Supply of Sanitaryware | C20: 1 | D20: item | E20: 0 | F20: =E20*C20 -> 0
A22: 15.01.8 | B22: Testing and Commissioning | C22: 1 | D22: item | E22: 0 | F22: 0
A24: 15.01.9 | B24: BWIC | C24: 1 | D24: item | E24: 0 | F24: 0
A26: 15.01.10 | B26: Prelims | D26: weeks | E26: 0 | F26: 0
A28: 15.01.11 | B28: Design / Working Drawings | C28: 1 | D28: item | E28: 0 | F28: 0
E100: Total | F100: =SUM(F5:F99) -> 0

Sheet 16. Electrical
A1: =SUMMARY!A1 -> Rev - | B1: =SUMMARY!B1 -> PROJECT NAME
A2: =SUMMARY!$A$36 -> 16.00 | B2: =SUMMARY!B36 -> Electrical
A4: Item | B4: Description | C4: Quantity | D4: Unit | E4: Rate | F4: Total
A6: 16.01 | B6: Electrical
A8: 16.01.1 | B8: Mains Power Distribution | C8: 1 | D8: item | E8: 0 | F8: =E8*C8 -> 0
A10: 16.01.2 | B10: Small Power | C10: 1 | D10: item | E10: 0 | F10: =E10*C10 -> 0
A12: 16.01.3 | B12: Installaion of Luminaires / Lighiting | C12: 1 | D12: item | E12: 0 | F12: =E12*C12 -> 0
A14: 16.01.4 | B14: Supply of Luminaires / Lighiting | C14: 1 | D14: item | E14: 0 | F14: =E14*C14 -> 0
A16: 16.01.5 | B16: Lighitng Controls | C16: 1 | D16: item | E16: 0 | F16: =E16*C16 -> 0
A18: 16.01.6 | B18: Power Supplies to Heating and Mechanical Services | C18: 1 | D18: item | E18: 0 | F18: =E18*C18 -> 0
A20: 16.01.7 | B20: Smoke / Heat Detection | C20: 1 | D20: item | E20: 0 | F20: =E20*C20 -> 0
A22: 16.01.8 | B22: Door Access / Control Systems | C22: 1 | D22: item | E22: 0 | F22: =E22*C22 -> 0
A24: 16.01.9 | B24: Data and Telecoms | C24: 1 | D24: item | E24: 0 | F24: =E24*C24 -> 0
A26: 16.01.10 | B26: Bathroom and Kitchen Ventilation Systems | C26: 1 | D26: item | E26: 0 | F26: =E26*C26 -> 0
A28: 16.01.11 | B28: Satelite, Aerials, and TV Points | C28: 1 | D28: item | E28: 0 | F28: =E28*C28 -> 0
A30: 16.01.12 | B30: AV Installation | C30: 1 | D30: item | E30: 0 | F30: =E30*C30 -> 0
... A42: 16.01.17 | B42: BWIC | C42: 1 | D42: item | E42: 0 | F42: =E42*C42 -> 0
A44: 16.01.18 | B44: Prelims | D44: weeks | E44: 0 | F44: 0
A46: 16.01.19 | B46: Design / Working Drawings | C46: 1 | D46: item | E46: 0 | F46: 0
E100: Total | F100: =SUM(F5:F99) -> 0

Sheet 17. Utilities
A1: =SUMMARY!A1 -> Rev - | B1: =SUMMARY!B1 -> PROJECT NAME
A2: =SUMMARY!$A$38 -> 17.00 | B2: =SUMMARY!B38 -> Utilities
A4: Item | B4: Description | C4: Quantity | D4: Unit | E4: Rate | F4: Total
A6: 17.01 | B6: Electric | C6: 1 | D6: item | E6: 0 | F6: =E6*C6 -> 0
A8: 17.02 | B8: Water | C8: 1 | D8: item | E8: 0 | F8: =E8*C8 -> 0
A10: 17.03 | B10: Gas | C10: 1 | D10: item | E10: 0 | F10: =E10*C10 -> 0
A12: 17.04 | B12: Data / Telecoms | C12: 1 | D12: item | E12: 0 | F12: =E12*C12 -> 0
E100: Total | F100: =SUM(F5:F99) -> 0

Sheet 18. Hard & Soft Landscaping
A1: =SUMMARY!A1 -> Rev - | B1: =SUMMARY!B1 -> PROJECT NAME
A2: =SUMMARY!$A$40 -> 18.00 | B2: =SUMMARY!$B$40 -> Hard & Soft Landscaping
A4: Item | B4: Description | C4: Quantity | D4: Unit | E4: Rate | F4: Total
A6: 18.01 | B6: Fencing
A8: 18.01.1 | B8: Fence Type 1 | D8: m | E8: 0 | F8: =E8*C8 -> 0
A10: 18.01.2 | B10: Fence Type 2 | D10: m2 | E10: 0 | F10: =E10*C10 -> 0
A12: 18.01.3 | B12: Fence Type 3 | D12: m3 | E12: 0 | F12: =E12*C12 -> 0
A14: 18.01.4 | B14: Fence Type 4 | D14: mm | E14: 0 | F14: =E14*C14 -> 0
A16: 18.01.5 | B16: Fence Type 5 | D16: nr | E16: 0 | F16: =E16*C16 -> 0
A18: 18.01.6 | B18: Fence Type 6 | D18: kg | E18: 0 | F18: =E18*C18 -> 0
A20: 18.01.7 | B20: Fence Type 7 | D20: t | E20: 0 | F20: =E20*C20 -> 0
A22: 18.01.8 | B22: Fence Type 8 | D22: h | E22: 0 | F22: =E22*C22 -> 0
A24: 18.01.9 | B24: Fence Type 9 | D24: pc sum | E24: 0 | F24: =E24*C24 -> 0
A26: 18.01.10 | B26: Fence Type 10 | D26: prov sum | E26: 0 | F26: =E26*C26 -> 0
A28: 18.01.11 | B28: Fence Type 11 | D28: % | E28: 0 | F28: =E28*C28 -> 0
A30: 18.02 | B30: Paving / External Floor Finishes
A32: 18.02.1 | B32: Paving Type 1 | E32: 0 | F32: =E32*C32 -> 0
A34: 18.03 | B34: Planters
A36: 18.03.1 | B36: Planter Type 1 | E36: 0 | F36: =E36*C36 -> 0
E100: Total | F100: =SUM(F5:F99) -> 0

Sheet 19. Scaffolding
A1: =SUMMARY!A1 -> Rev - | B1: =SUMMARY!B1 -> PROJECT NAME
A2: =SUMMARY!$A$42 -> 19.00 | B2: =SUMMARY!B42 -> Scaffolding
A4: Item | B4: Description | C4: Quantity | D4: Unit | E4: Rate | F4: Total
A6: 19.01 | B6: Access Scaffolding
A8: 19.01.1 | B8: Elevation 1 | D8: m | E8: 0 | F8: =E8*C8 -> 0
A10: 19.01.2 | B10: Elevation 2 | D10: m2 | E10: 0 | F10: =E10*C10 -> 0
A12: 19.01.3 | B12: Elevation 3 | D12: m3 | E12: 0 | F12: =E12*C12 -> 0
A14: 19.01.4 | B14: Elevation 4 | D14: mm | E14: 0 | F14: =E14*C14 -> 0
A16: 19.01.5 | B16: Elevation 5 | D16: nr | E16: 0 | F16: =E16*C16 -> 0
A18: 19.01.6 | B18: Elevation 6 | D18: kg | E18: 0 | F18: =E18*C18 -> 0
A20: 19.01.7 | B20: Elevation 7 | D20: t | E20: 0 | F20: =E20*C20 -> 0
A22: 19.01.8 | B22: Elevation 8 | D22: h | E22: 0 | F22: =E22*C22 -> 0
A24: 19.01.9 | B24: Elevation 9 | D24: pc sum | E24: 0 | F24: =E24*C24 -> 0
A26: 19.01.10 | B26: Elevation 10 | D26: prov sum | E26: 0 | F26: =E26*C26 -> 0
A28: 19.01.11 | B28: Elevation 11 | D28: % | E28: 0 | F28: =E28*C28 -> 0
A30: 19.02 | B30: Temporary Roof
A32: 19.02.1 | B32: Temp Roof To Existing Building | E32: 0 | F32: =E32*C32 -> 0
A34: 19.03 | B34: Temporary Floors
A36: 19.03.1 | B36: 1st Floor Crash Deck | E36: 0 | F36: =E36*C36 -> 0
E100: Total | F100: =SUM(F5:F99) -> 0

Sheet 20. Other CDP Items
A1: =SUMMARY!A1 -> Rev - | B1: =SUMMARY!B1 -> PROJECT NAME
A2: =SUMMARY!A44 -> 20.00 | B2: =SUMMARY!B44 -> Other Items
A4: Item | B4: Description | C4: Quantity | D4: Unit | E4: Rate | F4: Total
A6: 20.01 | B6: Other Items
D8: m | E8: 0 | F8: =E8*C8 -> 0
D10: m2 | E10: 0 | F10: =E10*C10 -> 0
D12: m3 | E12: 0 | F12: =E12*C12 -> 0
D14: mm | E14: 0 | F14: =E14*C14 -> 0
D16: nr | E16: 0 | F16: =E16*C16 -> 0
D18: kg | E18: 0 | F18: =E18*C18 -> 0
D20: t | E20: 0 | F20: =E20*C20 -> 0
D22: h | E22: 0 | F22: =E22*C22 -> 0
D24: pc sum | E24: 0 | F24: =E24*C24 -> 0
D26: prov sum | E26: 0 | F26: =E26*C26 -> 0
D28: % | E28: 0 | F28: =E28*C28 -> 0
E100: Total | F100: =SUM(F5:F99) -> 0
