Workbook

Sheet Task 1 Fuel Blend 
A1: Stoichometric
D3: Fuel Blend 50:50 | G3: Molecular Weight (Kg/kmol) | L3: Chemical Balance Equation 50:50 Blend
L4: CH3OH + C8H18 + x(O2 + 3.76N2) à n1CO2 + n2H2O + n3N2
D5: ISOOCTANE | E5: METHANOL | G5: Carbon | H5: 12.0107
D6: C8H18 | E6: CH3OH | G6: Hydrogen | H6: 1.00784 | L6: Products | P6: Reaction
G7: Oxygen | H7: 15.9994
C8: Carbon | D8: 8 | E8: 1 | G8: Nitrogen | H8: 14.0067 | L8: Carbon | M8: 9 | P8: CO2 | Q8: 9 | R8: n1
C9: Hydrogen | D9: 18 | E9: 4 | L9: Hydrogen | M9: 22 | P9: H20 | Q9: =M9/2 -> 11 | R9: n2
C10: Oxygen | D10: 0 | E10: 1 | L10: Oxygen | M10: 1 | P10: x | Q10: =((Q8*2)+Q9-1)/2 -> 14 | R10: x
P11: N2 | Q11: =3.76*Q10 -> 52.64 | R11: n3
C13: Fuel Mass (kg/kmol) | G13: Total Blended Fuel Mass (Kg/kmol)
C14: ISO-OCTANE | E14: METHANOL | L14: Lower Heating Value (LHV) | Q14: Higher Heating Value (HHV)
C15: =(D8*H5)+(D9*H6) -> 114.22672 | E15: =(E8*H5)+(E9*H6)+(E10*H7) -> 32.04146 | G15: =C15+E15 -> 146.26818
L16: Enthaply needed for product (MJ/kmol) | N16: =-(Data!B16+Data!B17) -> 460.7 | Q16: Enthaply needed for product (MJ/kmol) | U16: =-(Data!B16+Data!B17) -> 460.7
C17: Mass Percentages (%)
C18: ISO-OCTANE | D18: METHANOL | L18: Enthaply realsed from reaction (MJ/kmol) | N18: =-((Q8*Data!B13)+('Task 1 Fuel Blend '!Q9*Data!B14)+('Task 1 Fuel Blend '!Q11*0)) -> 6201.3 | Q18: Enthaply realsed from reaction (MJ/kmol) | U18: =-((Q8*Data!B13)+('Task 1 Fuel Blend '!Q9*Data!C14)+('Task 1 Fuel Blend '!Q11*0)) -> 6685.3
C19: =(C15/G15)*100 -> 78.094032 | D19: =(E15/G15)*100 -> 21.905968
L20: Net ethalpy (MJ/kmol) | N20: =N18-N16 -> 5740.6 | Q20: Net ethalpy (MJ/kmol) | U20: =U18-U16 -> 6224.6
C22: Air Mass (Kg/kmol) | D22: Total Blended Fuel Mass (Kg/kmol) | G22: AFR | L22: LHV (MJ/kg) | N22: =N20/D24 -> 39.247087 | Q22: HHV (MJ/kg) | U22: =U20/G15 -> 42.556077
C24: =Q10*((2*H7)+3.76*(2*H8)) -> 1922.6086 | D24: =G15 -> 146.26818 | G24: =C24/D24 -> 13.144408
C28: Mass of CO2 | E28: CO2 per kg of fuel
C29: =M8*((H5+(2*H7))) -> 396.0855 | E29: =C29/D24 -> 2.7079403

Sheet Lean NOx Model 
S1: NET ENTHALPY TABLES
C2: Fuel | F2: φ | K2: Lower Heating Value (LHV) | P2: Number of Kmols of Mixture | S2: Total | T2: n1*CO2 | U2: n2*H20 | V2: n4*N2 | W2: n3*O2 | X2: Temp (K) | AA2: Enthalpy | AB2: Temp
C3: ISO-OCTANE | F3: 1 | K3: Enthaply needed for product (MJ/kmol) | M3: =-(F3*Data!B16) -> 259.2 | S3: =T3+U3+V3+W3 -> 51.923468 | T3: =$G$7*(((8.5770134353*10^-19)*(X3^6))-((1.0374875556*10^-14)*(X3^5))+((4.9689475953*10^-11)*(X3^4))-((1.2019118054*10^-7)*(X3^3))+((1.5650954893*10^-4)*(X3^2))-((4.8239362033*10^-2)*(X3))+5.2084519626) -> 7.4853613 | U3: =$G$8*(((6.6506859177*10^-19)*(X3^6))-((7.8984343104*10^-15)*(X3^5))+((3.6879849877*10^-11)*(X3^4))-((8.6386228559*10^-8)*(X3^3))+((1.1074017861*10^-4)*(X3^2))-((3.1241611608*10^-2)*(X3))+(3.3006694533)) -> 7.6264855 | V3: =$G$10*(((5.9376621671*10^-19)*(X3^6))-((7.1020711589*10^-15)*(X3^5))+((3.3460896805*10^-11)*(X3^4))-((7.8909601634*10^-8)*(X3^3))+((9.8599769212*10^-5)*(X3^2))-((2.8172899156*10^-2)*(X3))+(3.05378908)) -> 36.811621 | W3: =$G$9*(((6.4958291549*10^-19)*(X3^6))-((7.8224528491*10^-15)*(X3^5))+((3.7120417697*10^-11)*(X3^4))-((8.798317617*10^-8)*(X3^3))+((1.0982327235*10^-4)*(X3^2))-((3.2606444641*10^-2)*(X3))+(3.5786489003)) -> 0 | X3: 200 | Z3: Above | AA3: {=MIN(IF(S3:S70>(M7),S3:S70))} -> 5089.9221 | AB3: =VLOOKUP(AA3,S3:X70,6,FALSE) -> 2400
C4: C8H18 | P4: =((Data!D3*((Data!D5/4)*Data!D4)*10^-6))/(Data!D7*Data!D6) -> 6.5681391e-06 | S4: =T4+U4+V4+W4 -> 70.685627 | T4: =$G$7*(((8.5770134353*10^-19)*(X4^6))-((1.0374875556*10^-14)*(X4^5))+((4.9689475953*10^-11)*(X4^4))-((1.2019118054*10^-7)*(X4^3))+((1.5650954893*10^-4)*(X4^2))-((4.8239362033*10^-2)*(X4))+5.2084519626) -> 9.8931861 | U4: =$G$8*(((6.6506859177*10^-19)*(X4^6))-((7.8984343104*10^-15)*(X4^5))+((3.6879849877*10^-11)*(X4^4))-((8.6386228559*10^-8)*(X4^3))+((1.1074017861*10^-4)*(X4^2))-((3.1241611608*10^-2)*(X4))+(3.3006694533)) -> 10.784285 | V4: =$G$10*(((5.9376621671*10^-19)*(X4^6))-((7.1020711589*10^-15)*(X4^5))+((3.3460896805*10^-11)*(X4^4))-((7.8909601634*10^-8)*(X4^3))+((9.8599769212*10^-5)*(X4^2))-((2.8172899156*10^-2)*(X4))+(3.05378908)) -> 50.008156 | W4: =$G$9*(((6.4958291549*10^-19)*(X4^6))-((7.8224528491*10^-15)*(X4^5))+((3.7120417697*10^-11)*(X4^4))-((8.798317617*10^-8)*(X4^3))+((1.0982327235*10^-4)*(X4^2))-((3.2606444641*10^-2)*(X4))+(3.5786489003)) -> 0 | X4: 250 | Z4: Below | AA4: {=MAX(IF(S3:S70<(M7),S3:S70))} -> 4952.928 | AB4: =VLOOKUP(AA4,S3:X70,6,FALSE) -> 2350
K5: Enthaply realsed from reaction (MJ/kmol) | M5: =-((G7*Data!B13)+('Lean NOx Model '!G8*Data!B14)+('Lean NOx Model '!G10*0)) -> 5324.2 | S5: =T5+U5+V5+W5 -> 105.62037 | T5: =$G$7*(((8.5770134353*10^-19)*(X5^6))-((1.0374875556*10^-14)*(X5^5))+((4.9689475953*10^-11)*(X5^4))-((1.2019118054*10^-7)*(X5^3))+((1.5650954893*10^-4)*(X5^2))-((4.8239362033*10^-2)*(X5))+5.2084519626) -> 15.353467 | U5: =$G$8*(((6.6506859177*10^-19)*(X5^6))-((7.8984343104*10^-15)*(X5^5))+((3.6879849877*10^-11)*(X5^4))-((8.6386228559*10^-8)*(X5^3))+((1.1074017861*10^-4)*(X5^2))-((3.1241611608*10^-2)*(X5))+(3.3006694533)) -> 16.303446 | V5: =$G$10*(((5.9376621671*10^-19)*(X5^6))-((7.1020711589*10^-15)*(X5^5))+((3.3460896805*10^-11)*(X5^4))-((7.8909601634*10^-8)*(X5^3))+((9.8599769212*10^-5)*(X5^2))-((2.8172899156*10^-2)*(X5))+(3.05378908)) -> 73.96346 | W5: =$G$9*(((6.4958291549*10^-19)*(X5^6))-((7.8224528491*10^-15)*(X5^5))+((3.7120417697*10^-11)*(X5^4))-((8.798317617*10^-8)*(X5^3))+((1.0982327235*10^-4)*(X5^2))-((3.2606444641*10^-2)*(X5))+(3.5786489003)) -> 0 | X5: 298
C6: Products | F6: Reaction | P6: Alpha | S6: =T6+U6+V6+W6 -> 107.40218 | T6: =$G$7*(((8.5770134353*10^-19)*(X6^6))-((1.0374875556*10^-14)*(X6^5))+((4.9689475953*10^-11)*(X6^4))-((1.2019118054*10^-7)*(X6^3))+((1.5650954893*10^-4)*(X6^2))-((4.8239362033*10^-2)*(X6))+5.2084519626) -> 15.64192 | U6: =$G$8*(((6.6506859177*10^-19)*(X6^6))-((7.8984343104*10^-15)*(X6^5))+((3.6879849877*10^-11)*(X6^4))-((8.6386228559*10^-8)*(X6^3))+((1.1074017861*10^-4)*(X6^2))-((3.1241611608*10^-2)*(X6))+(3.3006694533)) -> 16.581531 | V6: =$G$10*(((5.9376621671*10^-19)*(X6^6))-((7.1020711589*10^-15)*(X6^5))+((3.3460896805*10^-11)*(X6^4))-((7.8909601634*10^-8)*(X6^3))+((9.8599769212*10^-5)*(X6^2))-((2.8172899156*10^-2)*(X6))+(3.05378908)) -> 75.178728 | W6: =$G$9*(((6.4958291549*10^-19)*(X6^6))-((7.8224528491*10^-15)*(X6^5))+((3.7120417697*10^-11)*(X6^4))-((8.798317617*10^-8)*(X6^3))+((1.0982327235*10^-4)*(X6^2))-((3.2606444641*10^-2)*(X6))+(3.5786489003)) -> 0 | X6: 300
C7: Carbon | D7: =8*F3 -> 8 | F7: CO2 | G7: =D7 -> 8 | H7: n1 | K7: Net ethalpy (MJ/kmol) | M7: =M5-M3 -> 5065 | S7: =T7+U7+V7+W7 -> 159.62056 | T7: =$G$7*(((8.5770134353*10^-19)*(X7^6))-((1.0374875556*10^-14)*(X7^5))+((4.9689475953*10^-11)*(X7^4))-((1.2019118054*10^-7)*(X7^3))+((1.5650954893*10^-4)*(X7^2))-((4.8239362033*10^-2)*(X7))+5.2084519626) -> 24.293094 | U7: =$G$8*(((6.6506859177*10^-19)*(X7^6))-((7.8984343104*10^-15)*(X7^5))+((3.6879849877*10^-11)*(X7^4))-((8.6386228559*10^-8)*(X7^3))+((1.1074017861*10^-4)*(X7^2))-((3.1241611608*10^-2)*(X7))+(3.3006694533)) -> 24.67021 | V7: =$G$10*(((5.9376621671*10^-19)*(X7^6))-((7.1020711589*10^-15)*(X7^5))+((3.3460896805*10^-11)*(X7^4))-((7.8909601634*10^-8)*(X7^3))+((9.8599769212*10^-5)*(X7^2))-((2.8172899156*10^-2)*(X7))+(3.05378908)) -> 110.65725 | W7: =$G$9*(((6.4958291549*10^-19)*(X7^6))-((7.8224528491*10^-15)*(X7^5))+((3.7120417697*10^-11)*(X7^4))-((8.798317617*10^-8)*(X7^3))+((1.0982327235*10^-4)*(X7^2))-((3.2606444641*10^-2)*(X7))+(3.5786489003)) -> 0 | X7: 350
C8: Hydrogen | D8: =18*F3 -> 18 | F8: H2O | G8: =D8/2 -> 9 | H8: n2 | P8: =P4/((F3+12.5*(1+3.76))) -> 1.0856428e-07 | S8: =T8+U8+V8+W8 -> 225.13206 | T8: =$G$7*(((8.5770134353*10^-19)*(X8^6))-((1.0374875556*10^-14)*(X8^5))+((4.9689475953*10^-11)*(X8^4))-((1.2019118054*10^-7)*(X8^3))+((1.5650954893*10^-4)*(X8^2))-((4.8239362033*10^-2)*(X8))+5.2084519626) -> 35.450595 | U8: =$G$8*(((6.6506859177*10^-19)*(X8^6))-((7.8984343104*10^-15)*(X8^5))+((3.6879849877*10^-11)*(X8^4))-((8.6386228559*10^-8)*(X8^3))+((1.1074017861*10^-4)*(X8^2))-((3.1241611608*10^-2)*(X8))+(3.3006694533)) -> 34.737328 | V8: =$G$10*(((5.9376621671*10^-19)*(X8^6))-((7.1020711589*10^-15)*(X8^5))+((3.3460896805*10^-11)*(X8^4))-((7.8909601634*10^-8)*(X8^3))+((9.8599769212*10^-5)*(X8^2))-((2.8172899156*10^-2)*(X8))+(3.05378908)) -> 154.94414 | W8: =$G$9*(((6.4958291549*10^-19)*(X8^6))-((7.8224528491*10^-15)*(X8^5))+((3.7120417697*10^-11)*(X8^4))-((8.798317617*10^-8)*(X8^3))+((1.0982327235*10^-4)*(X8^2))-((3.2606444641*10^-2)*(X8))+(3.5786489003)) -> 0 | X8: 400
C9: Oxygen | D9: =0*F3 -> 0 | F9: O2 | G9: =((2*G11)-(2*G7)-G8)/2 -> 0 | H9: n3 | K9: LHV (MJ/kg) | M9: =M7/C15 -> 44.341639 | S9: =T9+U9+V9+W9 -> 301.95655 | T9: =$G$7*(((8.5770134353*10^-19)*(X9^6))-((1.0374875556*10^-14)*(X9^5))+((4.9689475953*10^-11)*(X9^4))-((1.2019118054*10^-7)*(X9^3))+((1.5650954893*10^-4)*(X9^2))-((4.8239362033*10^-2)*(X9))+5.2084519626) -> 48.758056 | U9: =$G$8*(((6.6506859177*10^-19)*(X9^6))-((7.8984343104*10^-15)*(X9^5))+((3.6879849877*10^-11)*(X9^4))-((8.6386228559*10^-8)*(X9^3))+((1.1074017861*10^-4)*(X9^2))-((3.1241611608*10^-2)*(X9))+(3.3006694533)) -> 46.502675 | V9: =$G$10*(((5.9376621671*10^-19)*(X9^6))-((7.1020711589*10^-15)*(X9^5))+((3.3460896805*10^-11)*(X9^4))-((7.8909601634*10^-8)*(X9^3))+((9.8599769212*10^-5)*(X9^2))-((2.8172899156*10^-2)*(X9))+(3.05378908)) -> 206.69582 | W9: =$G$9*(((6.4958291549*10^-19)*(X9^6))-((7.8224528491*10^-15)*(X9^5))+((3.7120417697*10^-11)*(X9^4))-((8.798317617*10^-8)*(X9^3))+((1.0982327235*10^-4)*(X9^2))-((3.2606444641*10^-2)*(X9))+(3.5786489003)) -> 0 | X9: 450
F10: N2 | G10: =3.76*G11 -> 47 | H10: n4 | P10: Total Exhuast kmol | S10: =T10+U10+V10+W10 -> 388.32759 | T10: =$G$7*(((8.5770134353*10^-19)*(X10^6))-((1.0374875556*10^-14)*(X10^5))+((4.9689475953*10^-11)*(X10^4))-((1.2019118054*10^-7)*(X10^3))+((1.5650954893*10^-4)*(X10^2))-((4.8239362033*10^-2)*(X10))+5.2084519626) -> 63.896317 | U10: =$G$8*(((6.6506859177*10^-19)*(X10^6))-((7.8984343104*10^-15)*(X10^5))+((3.6879849877*10^-11)*(X10^4))-((8.6386228559*10^-8)*(X10^3))+((1.1074017861*10^-4)*(X10^2))-((3.1241611608*10^-2)*(X10))+(3.3006694533)) -> 59.716674 | V10: =$G$10*(((5.9376621671*10^-19)*(X10^6))-((7.1020711589*10^-15)*(X10^5))+((3.3460896805*10^-11)*(X10^4))-((7.8909601634*10^-8)*(X10^3))+((9.8599769212*10^-5)*(X10^2))-((2.8172899156*10^-2)*(X10))+(3.05378908)) -> 264.7146 | W10: =$G$9*(((6.4958291549*10^-19)*(X10^6))-((7.8224528491*10^-15)*(X10^5))+((3.7120417697*10^-11)*(X10^4))-((8.798317617*10^-8)*(X10^3))+((1.0982327235*10^-4)*(X10^2))-((3.2606444641*10^-2)*(X10))+(3.5786489003)) -> 0 | X10: 500
F11: x | G11: =((2*(G7/F3)+(G8/F3)))/2 -> 12.5 | S11: =T11+U11+V11+W11 -> 482.67802 | T11: =$G$7*(((8.5770134353*10^-19)*(X11^6))-((1.0374875556*10^-14)*(X11^5))+((4.9689475953*10^-11)*(X11^4))-((1.2019118054*10^-7)*(X11^3))+((1.5650954893*10^-4)*(X11^2))-((4.8239362033*10^-2)*(X11))+5.2084519626) -> 80.580974 | U11: =$G$8*(((6.6506859177*10^-19)*(X11^6))-((7.8984343104*10^-15)*(X11^5))+((3.6879849877*10^-11)*(X11^4))-((8.6386228559*10^-8)*(X11^3))+((1.1074017861*10^-4)*(X11^2))-((3.1241611608*10^-2)*(X11))+(3.3006694533)) -> 74.158279 | V11: =$G$10*(((5.9376621671*10^-19)*(X11^6))-((7.1020711589*10^-15)*(X11^5))+((3.3460896805*10^-11)*(X11^4))-((7.8909601634*10^-8)*(X11^3))+((9.8599769212*10^-5)*(X11^2))-((2.8172899156*10^-2)*(X11))+(3.05378908)) -> 327.93877 | W11: =$G$9*(((6.4958291549*10^-19)*(X11^6))-((7.8224528491*10^-15)*(X11^5))+((3.7120417697*10^-11)*(X11^4))-((8.798317617*10^-8)*(X11^3))+((1.0982327235*10^-4)*(X11^2))-((3.2606444641*10^-2)*(X11))+(3.5786489003)) -> 0 | X11: 550
P12: =P8*(G7+G8+G9+G10) -> 6.9481141e-06 | S12: =T12+U12+V12+W12 -> 583.62607 | T12: =$G$7*(((8.5770134353*10^-19)*(X12^6))-((1.0374875556*10^-14)*(X12^5))+((4.9689475953*10^-11)*(X12^4))-((1.2019118054*10^-7)*(X12^3))+((1.5650954893*10^-4)*(X12^2))-((4.8239362033*10^-2)*(X12))+5.2084519626) -> 98.56 | U12: =$G$8*(((6.6506859177*10^-19)*(X12^6))-((7.8984343104*10^-15)*(X12^5))+((3.6879849877*10^-11)*(X12^4))-((8.6386228559*10^-8)*(X12^3))+((1.1074017861*10^-4)*(X12^2))-((3.1241611608*10^-2)*(X12))+(3.3006694533)) -> 89.632954 | V12: =$G$10*(((5.9376621671*10^-19)*(X12^6))-((7.1020711589*10^-15)*(X12^5))+((3.3460896805*10^-11)*(X12^4))-((7.8909601634*10^-8)*(X12^3))+((9.8599769212*10^-5)*(X12^2))-((2.8172899156*10^-2)*(X12))+(3.05378908)) -> 395.43311 | W12: =$G$9*(((6.4958291549*10^-19)*(X12^6))-((7.8224528491*10^-15)*(X12^5))+((3.7120417697*10^-11)*(X12^4))-((8.798317617*10^-8)*(X12^3))+((1.0982327235*10^-4)*(X12^2))-((3.2606444641*10^-2)*(X12))+(3.5786489003)) -> 0 | X12: 600
S13: =T13+U13+V13+W13 -> 689.96182 | T13: =$G$7*(((8.5770134353*10^-19)*(X13^6))-((1.0374875556*10^-14)*(X13^5))+((4.9689475953*10^-11)*(X13^4))-((1.2019118054*10^-7)*(X13^3))+((1.5650954893*10^-4)*(X13^2))-((4.8239362033*10^-2)*(X13))+5.2084519626) -> 117.61144 | U13: =$G$8*(((6.6506859177*10^-19)*(X13^6))-((7.8984343104*10^-15)*(X13^5))+((3.6879849877*10^-11)*(X13^4))-((8.6386228559*10^-8)*(X13^3))+((1.1074017861*10^-4)*(X13^2))-((3.1241611608*10^-2)*(X13))+(3.3006694533)) -> 105.97071 | V13: =$G$10*(((5.9376621671*10^-19)*(X13^6))-((7.1020711589*10^-15)*(X13^5))+((3.3460896805*10^-11)*(X13^4))-((7.8909601634*10^-8)*(X13^3))+((9.8599769212*10^-5)*(X13^2))-((2.8172899156*10^-2)*(X13))+(3.05378908)) -> 466.37966 | W13: =$G$9*(((6.4958291549*10^-19)*(X13^6))-((7.8224528491*10^-15)*(X13^5))+((3.7120417697*10^-11)*(X13^4))-((8.798317617*10^-8)*(X13^3))+((1.0982327235*10^-4)*(X13^2))-((3.2606444641*10^-2)*(X13))+(3.5786489003)) -> 0 | X13: 650
C14: Fuel Mass (Kg/kmol) | P14: [N2] | S14: =T14+U14+V14+W14 -> 800.63421 | T14: =$G$7*(((8.5770134353*10^-19)*(X14^6))-((1.0374875556*10^-14)*(X14^5))+((4.9689475953*10^-11)*(X14^4))-((1.2019118054*10^-7)*(X14^3))+((1.5650954893*10^-4)*(X14^2))-((4.8239362033*10^-2)*(X14))+5.2084519626) -> 137.54119 | U14: =$G$8*(((6.6506859177*10^-19)*(X14^6))-((7.8984343104*10^-15)*(X14^5))+((3.6879849877*10^-11)*(X14^4))-((8.6386228559*10^-8)*(X14^3))+((1.1074017861*10^-4)*(X14^2))-((3.1241611608*10^-2)*(X14))+(3.3006694533)) -> 123.02423 | V14: =$G$10*(((5.9376621671*10^-19)*(X14^6))-((7.1020711589*10^-15)*(X14^5))+((3.3460896805*10^-11)*(X14^4))-((7.8909601634*10^-8)*(X14^3))+((9.8599769212*10^-5)*(X14^2))-((2.8172899156*10^-2)*(X14))+(3.05378908)) -> 540.0688 | W14: =$G$9*(((6.4958291549*10^-19)*(X14^6))-((7.8224528491*10^-15)*(X14^5))+((3.7120417697*10^-11)*(X14^4))-((8.798317617*10^-8)*(X14^3))+((1.0982327235*10^-4)*(X14^2))-((3.2606444641*10^-2)*(X14))+(3.5786489003)) -> 0 | X14: 700
C15: =(D7*Data!K4)+(D8*Data!K5) -> 114.22672 | G15: Pressure (Bar) | H15: Flame Temp | I15: Nox/° | J15: Total/Cycle | K15: PPM | S15: =T15+U15+V15+W15 -> 914.7385 | T15: =$G$7*(((8.5770134353*10^-19)*(X15^6))-((1.0374875556*10^-14)*(X15^5))+((4.9689475953*10^-11)*(X15^4))-((1.2019118054*10^-7)*(X15^3))+((1.5650954893*10^-4)*(X15^2))-((4.8239362033*10^-2)*(X15))+5.2084519626) -> 158.18083 | U15: =$G$8*(((6.6506859177*10^-19)*(X15^6))-((7.8984343104*10^-15)*(X15^5))+((3.6879849877*10^-11)*(X15^4))-((8.6386228559*10^-8)*(X15^3))+((1.1074017861*10^-4)*(X15^2))-((3.1241611608*10^-2)*(X15))+(3.3006694533)) -> 140.66702 | V15: =$G$10*(((5.9376621671*10^-19)*(X15^6))-((7.1020711589*10^-15)*(X15^5))+((3.3460896805*10^-11)*(X15^4))-((7.8909601634*10^-8)*(X15^3))+((9.8599769212*10^-5)*(X15^2))-((2.8172899156*10^-2)*(X15))+(3.05378908)) -> 615.89065 | W15: =$G$9*(((6.4958291549*10^-19)*(X15^6))-((7.8224528491*10^-15)*(X15^5))+((3.7120417697*10^-11)*(X15^4))-((8.798317617*10^-8)*(X15^3))+((1.0982327235*10^-4)*(X15^2))-((3.2606444641*10^-2)*(X15))+(3.5786489003)) -> 0 | X15: 750
G16: 10 | H16: =AB4+(AB3-AB4)*((M7-AA4)/(AA3-AA4)) -> 2390.904 | I16: =(((4.17*10^13)*($P$16)*(($P$20)^0.5)*EXP(-67837/H16))/(Data!$D$8*6))*(Data!$D$10*10^-6) -> 0 | J16: =SUM(I16:I31) -> 0 | K16: =(J16/P12)*10^6 -> 0 | P16: =(G10*P8)/(Data!D10*10^-6) -> 0.12756303 | S16: =T16+U16+V16+W16 -> 1031.5041 | T16: =$G$7*(((8.5770134353*10^-19)*(X16^6))-((1.0374875556*10^-14)*(X16^5))+((4.9689475953*10^-11)*(X16^4))-((1.2019118054*10^-7)*(X16^3))+((1.5650954893*10^-4)*(X16^2))-((4.8239362033*10^-2)*(X16))+5.2084519626) -> 179.3856 | U16: =$G$8*(((6.6506859177*10^-19)*(X16^6))-((7.8984343104*10^-15)*(X16^5))+((3.6879849877*10^-11)*(X16^4))-((8.6386228559*10^-8)*(X16^3))+((1.1074017861*10^-4)*(X16^2))-((3.1241611608*10^-2)*(X16))+(3.3006694533)) -> 158.79165 | V16: =$G$10*(((5.9376621671*10^-19)*(X16^6))-((7.1020711589*10^-15)*(X16^5))+((3.3460896805*10^-11)*(X16^4))-((7.8909601634*10^-8)*(X16^3))+((9.8599769212*10^-5)*(X16^2))-((2.8172899156*10^-2)*(X16))+(3.05378908)) -> 693.32684 | W16: =$G$9*(((6.4958291549*10^-19)*(X16^6))-((7.8224528491*10^-15)*(X16^5))+((3.7120417697*10^-11)*(X16^4))-((8.798317617*10^-8)*(X16^3))+((1.0982327235*10^-4)*(X16^2))-((3.2606444641*10^-2)*(X16))+(3.5786489003)) -> 0 | X16: 800
C17: Air Mass (Kg/kmol) | G17: 12 | H17: =H16*(G17/G16)^((Data!$D$9-1)/(Data!$D$9)) -> 2455.0882 | I17: =(((4.17*10^13)*($P$16)*(($P$20)^0.5)*EXP(-67837/H17))/(Data!$D$8*6))*(Data!$D$10*10^-6) -> 0 | S17: =T17+U17+V17+W17 -> 1150.283 | T17: =$G$7*(((8.5770134353*10^-19)*(X17^6))-((1.0374875556*10^-14)*(X17^5))+((4.9689475953*10^-11)*(X17^4))-((1.2019118054*10^-7)*(X17^3))+((1.5650954893*10^-4)*(X17^2))-((4.8239362033*10^-2)*(X17))+5.2084519626) -> 201.03237 | U17: =$G$8*(((6.6506859177*10^-19)*(X17^6))-((7.8984343104*10^-15)*(X17^5))+((3.6879849877*10^-11)*(X17^4))-((8.6386228559*10^-8)*(X17^3))+((1.1074017861*10^-4)*(X17^2))-((3.1241611608*10^-2)*(X17))+(3.3006694533)) -> 177.30811 | V17: =$G$10*(((5.9376621671*10^-19)*(X17^6))-((7.1020711589*10^-15)*(X17^5))+((3.3460896805*10^-11)*(X17^4))-((7.8909601634*10^-8)*(X17^3))+((9.8599769212*10^-5)*(X17^2))-((2.8172899156*10^-2)*(X17))+(3.05378908)) -> 771.94248 | W17: =$G$9*(((6.4958291549*10^-19)*(X17^6))-((7.8224528491*10^-15)*(X17^5))+((3.7120417697*10^-11)*(X17^4))-((8.798317617*10^-8)*(X17^3))+((1.0982327235*10^-4)*(X17^2))-((3.2606444641*10^-2)*(X17))+(3.5786489003)) -> 0 | X17: 850
C18: =G11*((2*Data!K6)+3.76*(2*Data!K7)) -> 1716.6148 | G18: 14 | H18: =H17*(G18/G17)^((Data!$D$9-1)/(Data!$D$9)) -> 2510.6976 | I18: =(((4.17*10^13)*($P$16)*(($P$20)^0.5)*EXP(-67837/H18))/(Data!$D$8*6))*(Data!$D$10*10^-6) -> 0 | P18: [O2] | S18: =T18+U18+V18+W18 -> 1270.5384 | T18: =$G$7*(((8.5770134353*10^-19)*(X18^6))-((1.0374875556*10^-14)*(X18^5))+((4.9689475953*10^-11)*(X18^4))-((1.2019118054*10^-7)*(X18^3))+((1.5650954893*10^-4)*(X18^2))-((4.8239362033*10^-2)*(X18))+5.2084519626) -> 223.0177 | U18: =$G$8*(((6.6506859177*10^-19)*(X18^6))-((7.8984343104*10^-15)*(X18^5))+((3.6879849877*10^-11)*(X18^4))-((8.6386228559*10^-8)*(X18^3))+((1.1074017861*10^-4)*(X18^2))-((3.1241611608*10^-2)*(X18))+(3.3006694533)) -> 196.14214 | V18: =$G$10*(((5.9376621671*10^-19)*(X18^6))-((7.1020711589*10^-15)*(X18^5))+((3.3460896805*10^-11)*(X18^4))-((7.8909601634*10^-8)*(X18^3))+((9.8599769212*10^-5)*(X18^2))-((2.8172899156*10^-2)*(X18))+(3.05378908)) -> 851.37856 | W18: =$G$9*(((6.4958291549*10^-19)*(X18^6))-((7.8224528491*10^-15)*(X18^5))+((3.7120417697*10^-11)*(X18^4))-((8.798317617*10^-8)*(X18^3))+((1.0982327235*10^-4)*(X18^2))-((3.2606444641*10^-2)*(X18))+(3.5786489003)) -> 0 | X18: 900
G19: 16 | H19: =H18*(G19/G18)^((Data!$D$9-1)/(Data!$D$9)) -> 2559.8858 | I19: =(((4.17*10^13)*($P$16)*(($P$20)^0.5)*EXP(-67837/H19))/(Data!$D$8*6))*(Data!$D$10*10^-6) -> 0 | S19: =T19+U19+V19+W19 -> 1391.8343 | T19: =$G$7*(((8.5770134353*10^-19)*(X19^6))-((1.0374875556*10^-14)*(X19^5))+((4.9689475953*10^-11)*(X19^4))-((1.2019118054*10^-7)*(X19^3))+((1.5650954893*10^-4)*(X19^2))-((4.8239362033*10^-2)*(X19))+5.2084519626) -> 245.25608 | U19: =$G$8*(((6.6506859177*10^-19)*(X19^6))-((7.8984343104*10^-15)*(X19^5))+((3.6879849877*10^-11)*(X19^4))-((8.6386228559*10^-8)*(X19^3))+((1.1074017861*10^-4)*(X19^2))-((3.1241611608*10^-2)*(X19))+(3.3006694533)) -> 215.23368 | V19: =$G$10*(((5.9376621671*10^-19)*(X19^6))-((7.1020711589*10^-15)*(X19^5))+((3.3460896805*10^-11)*(X19^4))-((7.8909601634*10^-8)*(X19^3))+((9.8599769212*10^-5)*(X19^2))-((2.8172899156*10^-2)*(X19))+(3.05378908)) -> 931.34457 | W19: =$G$9*(((6.4958291549*10^-19)*(X19^6))-((7.8224528491*10^-15)*(X19^5))+((3.7120417697*10^-11)*(X19^4))-((8.798317617*10^-8)*(X19^3))+((1.0982327235*10^-4)*(X19^2))-((3.2606444641*10^-2)*(X19))+(3.5786489003)) -> 0 | X19: 950
C20: AFR | G20: 18 | H20: =H19*(G20/G19)^((Data!$D$9-1)/(Data!$D$9)) -> 2604.0721 | I20: =(((4.17*10^13)*($P$16)*(($P$20)^0.5)*EXP(-67837/H20))/(Data!$D$8*6))*(Data!$D$10*10^-6) -> 0 | P20: =(G9*P8)/(Data!D10*10^-6) -> 0 | S20: =T20+U20+V20+W20 -> 1513.825 | T20: =$G$7*(((8.5770134353*10^-19)*(X20^6))-((1.0374875556*10^-14)*(X20^5))+((4.9689475953*10^-11)*(X20^4))-((1.2019118054*10^-7)*(X20^3))+((1.5650954893*10^-4)*(X20^2))-((4.8239362033*10^-2)*(X20))+5.2084519626) -> 267.67808 | U20: =$G$8*(((6.6506859177*10^-19)*(X20^6))-((7.8984343104*10^-15)*(X20^5))+((3.6879849877*10^-11)*(X20^4))-((8.6386228559*10^-8)*(X20^3))+((1.1074017861*10^-4)*(X20^2))-((3.1241611608*10^-2)*(X20))+(3.3006694533)) -> 234.53543 | V20: =$G$10*(((5.9376621671*10^-19)*(X20^6))-((7.1020711589*10^-15)*(X20^5))+((3.3460896805*10^-11)*(X20^4))-((7.8909601634*10^-8)*(X20^3))+((9.8599769212*10^-5)*(X20^2))-((2.8172899156*10^-2)*(X20))+(3.05378908)) -> 1011.6115 | W20: =$G$9*(((6.4958291549*10^-19)*(X20^6))-((7.8224528491*10^-15)*(X20^5))+((3.7120417697*10^-11)*(X20^4))-((8.798317617*10^-8)*(X20^3))+((1.0982327235*10^-4)*(X20^2))-((3.2606444641*10^-2)*(X20))+(3.5786489003)) -> 0 | X20: 1000
G21: 20 | H21: =H20*(G21/G20)^((Data!$D$9-1)/(Data!$D$9)) -> 2644.244 | I21: =(((4.17*10^13)*($P$16)*(($P$20)^0.5)*EXP(-67837/H21))/(Data!$D$8*6))*(Data!$D$10*10^-6) -> 0 | S21: =T21+U21+V21+W21 -> 1636.2453 | T21: =$G$7*(((8.5770134353*10^-19)*(X21^6))-((1.0374875556*10^-14)*(X21^5))+((4.9689475953*10^-11)*(X21^4))-((1.2019118054*10^-7)*(X21^3))+((1.5650954893*10^-4)*(X21^2))-((4.8239362033*10^-2)*(X21))+5.2084519626) -> 290.22874 | U21: =$G$8*(((6.6506859177*10^-19)*(X21^6))-((7.8984343104*10^-15)*(X21^5))+((3.6879849877*10^-11)*(X21^4))-((8.6386228559*10^-8)*(X21^3))+((1.1074017861*10^-4)*(X21^2))-((3.1241611608*10^-2)*(X21))+(3.3006694533)) -> 254.01135 | V21: =$G$10*(((5.9376621671*10^-19)*(X21^6))-((7.1020711589*10^-15)*(X21^5))+((3.3460896805*10^-11)*(X21^4))-((7.8909601634*10^-8)*(X21^3))+((9.8599769212*10^-5)*(X21^2))-((2.8172899156*10^-2)*(X21))+(3.05378908)) -> 1092.0052 | W21: =$G$9*(((6.4958291549*10^-19)*(X21^6))-((7.8224528491*10^-15)*(X21^5))+((3.7120417697*10^-11)*(X21^4))-((8.798317617*10^-8)*(X21^3))+((1.0982327235*10^-4)*(X21^2))-((3.2606444641*10^-2)*(X21))+(3.5786489003)) -> 0 | X21: 1050
C22: =C18/C15 -> 15.028137 | G22: 22 | H22: =H21*(G22/G21)^((Data!$D$9-1)/(Data!$D$9)) -> 2681.1175 | I22: =(((4.17*10^13)*($P$16)*(($P$20)^0.5)*EXP(-67837/H22))/(Data!$D$8*6))*(Data!$D$10*10^-6) -> 0 | S22: =T22+U22+V22+W22 -> 1758.9011 | T22: =$G$7*(((8.5770134353*10^-19)*(X22^6))-((1.0374875556*10^-14)*(X22^5))+((4.9689475953*10^-11)*(X22^4))-((1.2019118054*10^-7)*(X22^3))+((1.5650954893*10^-4)*(X22^2))-((4.8239362033*10^-2)*(X22))+5.2084519626) -> 312.8659 | U22: =$G$8*(((6.6506859177*10^-19)*(X22^6))-((7.8984343104*10^-15)*(X22^5))+((3.6879849877*10^-11)*(X22^4))-((8.6386228559*10^-8)*(X22^3))+((1.1074017861*10^-4)*(X22^2))-((3.1241611608*10^-2)*(X22))+(3.3006694533)) -> 273.6354 | V22: =$G$10*(((5.9376621671*10^-19)*(X22^6))-((7.1020711589*10^-15)*(X22^5))+((3.3460896805*10^-11)*(X22^4))-((7.8909601634*10^-8)*(X22^3))+((9.8599769212*10^-5)*(X22^2))-((2.8172899156*10^-2)*(X22))+(3.05378908)) -> 1172.3998 | W22: =$G$9*(((6.4958291549*10^-19)*(X22^6))-((7.8224528491*10^-15)*(X22^5))+((3.7120417697*10^-11)*(X22^4))-((8.798317617*10^-8)*(X22^3))+((1.0982327235*10^-4)*(X22^2))-((3.2606444641*10^-2)*(X22))+(3.5786489003)) -> 0 | X22: 1100
G23: 24 | H23: =H22*(G23/G22)^((Data!$D$9-1)/(Data!$D$9)) -> 2715.2292 | I23: =(((4.17*10^13)*($P$16)*(($P$20)^0.5)*EXP(-67837/H23))/(Data!$D$8*6))*(Data!$D$10*10^-6) -> 0 | S23: =T23+U23+V23+W23 -> 1881.6607 | T23: =$G$7*(((8.5770134353*10^-19)*(X23^6))-((1.0374875556*10^-14)*(X23^5))+((4.9689475953*10^-11)*(X23^4))-((1.2019118054*10^-7)*(X23^3))+((1.5650954893*10^-4)*(X23^2))-((4.8239362033*10^-2)*(X23))+5.2084519626) -> 335.55873 | U23: =$G$8*(((6.6506859177*10^-19)*(X23^6))-((7.8984343104*10^-15)*(X23^5))+((3.6879849877*10^-11)*(X23^4))-((8.6386228559*10^-8)*(X23^3))+((1.1074017861*10^-4)*(X23^2))-((3.1241611608*10^-2)*(X23))+(3.3006694533)) -> 293.39016 | V23: =$G$10*(((5.9376621671*10^-19)*(X23^6))-((7.1020711589*10^-15)*(X23^5))+((3.3460896805*10^-11)*(X23^4))-((7.8909601634*10^-8)*(X23^3))+((9.8599769212*10^-5)*(X23^2))-((2.8172899156*10^-2)*(X23))+(3.05378908)) -> 1252.7118 | W23: =$G$9*(((6.4958291549*10^-19)*(X23^6))-((7.8224528491*10^-15)*(X23^5))+((3.7120417697*10^-11)*(X23^4))-((8.798317617*10^-8)*(X23^3))+((1.0982327235*10^-4)*(X23^2))-((3.2606444641*10^-2)*(X23))+(3.5786489003)) -> 0 | X23: 1150
G24: 26 | H24: =H23*(G24/G23)^((Data!$D$9-1)/(Data!$D$9)) -> 2746.9921 | I24: =(((4.17*10^13)*($P$16)*(($P$20)^0.5)*EXP(-67837/H24))/(Data!$D$8*6))*(Data!$D$10*10^-6) -> 0 | S24: =T24+U24+V24+W24 -> 2004.4462 | T24: =$G$7*(((8.5770134353*10^-19)*(X24^6))-((1.0374875556*10^-14)*(X24^5))+((4.9689475953*10^-11)*(X24^4))-((1.2019118054*10^-7)*(X24^3))+((1.5650954893*10^-4)*(X24^2))-((4.8239362033*10^-2)*(X24))+5.2084519626) -> 358.28622 | U24: =$G$8*(((6.6506859177*10^-19)*(X24^6))-((7.8984343104*10^-15)*(X24^5))+((3.6879849877*10^-11)*(X24^4))-((8.6386228559*10^-8)*(X24^3))+((1.1074017861*10^-4)*(X24^2))-((3.1241611608*10^-2)*(X24))+(3.3006694533)) -> 313.26569 | V24: =$G$10*(((5.9376621671*10^-19)*(X24^6))-((7.1020711589*10^-15)*(X24^5))+((3.3460896805*10^-11)*(X24^4))-((7.8909601634*10^-8)*(X24^3))+((9.8599769212*10^-5)*(X24^2))-((2.8172899156*10^-2)*(X24))+(3.05378908)) -> 1332.8943 | W24: =$G$9*(((6.4958291549*10^-19)*(X24^6))-((7.8224528491*10^-15)*(X24^5))+((3.7120417697*10^-11)*(X24^4))-((8.798317617*10^-8)*(X24^3))+((1.0982327235*10^-4)*(X24^2))-((3.2606444641*10^-2)*(X24))+(3.5786489003)) -> 0 | X24: 1200
G25: 28 | H25: =H24*(G25/G24)^((Data!$D$9-1)/(Data!$D$9)) -> 2776.731 | I25: =(((4.17*10^13)*($P$16)*(($P$20)^0.5)*EXP(-67837/H25))/(Data!$D$8*6))*(Data!$D$10*10^-6) -> 0 | S25: =T25+U25+V25+W25 -> 2127.2255 | T25: =$G$7*(((8.5770134353*10^-19)*(X25^6))-((1.0374875556*10^-14)*(X25^5))+((4.9689475953*10^-11)*(X25^4))-((1.2019118054*10^-7)*(X25^3))+((1.5650954893*10^-4)*(X25^2))-((4.8239362033*10^-2)*(X25))+5.2084519626) -> 381.03585 | U25: =$G$8*(((6.6506859177*10^-19)*(X25^6))-((7.8984343104*10^-15)*(X25^5))+((3.6879849877*10^-11)*(X25^4))-((8.6386228559*10^-8)*(X25^3))+((1.1074017861*10^-4)*(X25^2))-((3.1241611608*10^-2)*(X25))+(3.3006694533)) -> 333.25834 | V25: =$G$10*(((5.9376621671*10^-19)*(X25^6))-((7.1020711589*10^-15)*(X25^5))+((3.3460896805*10^-11)*(X25^4))-((7.8909601634*10^-8)*(X25^3))+((9.8599769212*10^-5)*(X25^2))-((2.8172899156*10^-2)*(X25))+(3.05378908)) -> 1412.9313 | W25: =$G$9*(((6.4958291549*10^-19)*(X25^6))-((7.8224528491*10^-15)*(X25^5))+((3.7120417697*10^-11)*(X25^4))-((8.798317617*10^-8)*(X25^3))+((1.0982327235*10^-4)*(X25^2))-((3.2606444641*10^-2)*(X25))+(3.5786489003)) -> 0 | X25: 1250
G26: 30 | H26: =H25*(G26/G25)^((Data!$D$9-1)/(Data!$D$9)) -> 2804.7066 | I26: =(((4.17*10^13)*($P$16)*(($P$20)^0.5)*EXP(-67837/H26))/(Data!$D$8*6))*(Data!$D$10*10^-6) -> 0 | S26: =T26+U26+V26+W26 -> 2250.005 | T26: =$G$7*(((8.5770134353*10^-19)*(X26^6))-((1.0374875556*10^-14)*(X26^5))+((4.9689475953*10^-11)*(X26^4))-((1.2019118054*10^-7)*(X26^3))+((1.5650954893*10^-4)*(X26^2))-((4.8239362033*10^-2)*(X26))+5.2084519626) -> 403.80225 | U26: =$G$8*(((6.6506859177*10^-19)*(X26^6))-((7.8984343104*10^-15)*(X26^5))+((3.6879849877*10^-11)*(X26^4))-((8.6386228559*10^-8)*(X26^3))+((1.1074017861*10^-4)*(X26^2))-((3.1241611608*10^-2)*(X26))+(3.3006694533)) -> 353.36967 | V26: =$G$10*(((5.9376621671*10^-19)*(X26^6))-((7.1020711589*10^-15)*(X26^5))+((3.3460896805*10^-11)*(X26^4))-((7.8909601634*10^-8)*(X26^3))+((9.8599769212*10^-5)*(X26^2))-((2.8172899156*10^-2)*(X26))+(3.05378908)) -> 1492.8331 | W26: =$G$9*(((6.4958291549*10^-19)*(X26^6))-((7.8224528491*10^-15)*(X26^5))+((3.7120417697*10^-11)*(X26^4))-((8.798317617*10^-8)*(X26^3))+((1.0982327235*10^-4)*(X26^2))-((3.2606444641*10^-2)*(X26))+(3.5786489003)) -> 0 | X26: 1300
G27: 32 | H27: =H26*(G27/G26)^((Data!$D$9-1)/(Data!$D$9)) -> 2831.1312 | I27: =(((4.17*10^13)*($P$16)*(($P$20)^0.5)*EXP(-67837/H27))/(Data!$D$8*6))*(Data!$D$10*10^-6) -> 0 | S27: =T27+U27+V27+W27 -> 2372.8222 | T27: =$G$7*(((8.5770134353*10^-19)*(X27^6))-((1.0374875556*10^-14)*(X27^5))+((4.9689475953*10^-11)*(X27^4))-((1.2019118054*10^-7)*(X27^3))+((1.5650954893*10^-4)*(X27^2))-((4.8239362033*10^-2)*(X27))+5.2084519626) -> 426.58604 | U27: =$G$8*(((6.6506859177*10^-19)*(X27^6))-((7.8984343104*10^-15)*(X27^5))+((3.6879849877*10^-11)*(X27^4))-((8.6386228559*10^-8)*(X27^3))+((1.1074017861*10^-4)*(X27^2))-((3.1241611608*10^-2)*(X27))+(3.3006694533)) -> 373.60545 | V27: =$G$10*(((5.9376621671*10^-19)*(X27^6))-((7.1020711589*10^-15)*(X27^5))+((3.3460896805*10^-11)*(X27^4))-((7.8909601634*10^-8)*(X27^3))+((9.8599769212*10^-5)*(X27^2))-((2.8172899156*10^-2)*(X27))+(3.05378908)) -> 1572.6307 | W27: =$G$9*(((6.4958291549*10^-19)*(X27^6))-((7.8224528491*10^-15)*(X27^5))+((3.7120417697*10^-11)*(X27^4))-((8.798317617*10^-8)*(X27^3))+((1.0982327235*10^-4)*(X27^2))-((3.2606444641*10^-2)*(X27))+(3.5786489003)) -> 0 | X27: 1350
G28: 34 | H28: =H27*(G28/G27)^((Data!$D$9-1)/(Data!$D$9)) -> 2856.1799 | I28: =(((4.17*10^13)*($P$16)*(($P$20)^0.5)*EXP(-67837/H28))/(Data!$D$8*6))*(Data!$D$10*10^-6) -> 0 | S28: =T28+U28+V28+W28 -> 2495.7394 | T28: =$G$7*(((8.5770134353*10^-19)*(X28^6))-((1.0374875556*10^-14)*(X28^5))+((4.9689475953*10^-11)*(X28^4))-((1.2019118054*10^-7)*(X28^3))+((1.5650954893*10^-4)*(X28^2))-((4.8239362033*10^-2)*(X28))+5.2084519626) -> 449.3926 | U28: =$G$8*(((6.6506859177*10^-19)*(X28^6))-((7.8984343104*10^-15)*(X28^5))+((3.6879849877*10^-11)*(X28^4))-((8.6386228559*10^-8)*(X28^3))+((1.1074017861*10^-4)*(X28^2))-((3.1241611608*10^-2)*(X28))+(3.3006694533)) -> 393.97469 | V28: =$G$10*(((5.9376621671*10^-19)*(X28^6))-((7.1020711589*10^-15)*(X28^5))+((3.3460896805*10^-11)*(X28^4))-((7.8909601634*10^-8)*(X28^3))+((9.8599769212*10^-5)*(X28^2))-((2.8172899156*10^-2)*(X28))+(3.05378908)) -> 1652.3721 | W28: =$G$9*(((6.4958291549*10^-19)*(X28^6))-((7.8224528491*10^-15)*(X28^5))+((3.7120417697*10^-11)*(X28^4))-((8.798317617*10^-8)*(X28^3))+((1.0982327235*10^-4)*(X28^2))-((3.2606444641*10^-2)*(X28))+(3.5786489003)) -> 0 | X28: 1400
G29: 36 | H29: =H28*(G29/G28)^((Data!$D$9-1)/(Data!$D$9)) -> 2879.9995 | I29: =(((4.17*10^13)*($P$16)*(($P$20)^0.5)*EXP(-67837/H29))/(Data!$D$8*6))*(Data!$D$10*10^-6) -> 0 | S29: =T29+U29+V29+W29 -> 2618.8373 | T29: =$G$7*(((8.5770134353*10^-19)*(X29^6))-((1.0374875556*10^-14)*(X29^5))+((4.9689475953*10^-11)*(X29^4))-((1.2019118054*10^-7)*(X29^3))+((1.5650954893*10^-4)*(X29^2))-((4.8239362033*10^-2)*(X29))+5.2084519626) -> 472.23109 | U29: =$G$8*(((6.6506859177*10^-19)*(X29^6))-((7.8984343104*10^-15)*(X29^5))+((3.6879849877*10^-11)*(X29^4))-((8.6386228559*10^-8)*(X29^3))+((1.1074017861*10^-4)*(X29^2))-((3.1241611608*10^-2)*(X29))+(3.3006694533)) -> 414.48878 | V29: =$G$10*(((5.9376621671*10^-19)*(X29^6))-((7.1020711589*10^-15)*(X29^5))+((3.3460896805*10^-11)*(X29^4))-((7.8909601634*10^-8)*(X29^3))+((9.8599769212*10^-5)*(X29^2))-((2.8172899156*10^-2)*(X29))+(3.05378908)) -> 1732.1175 | W29: =$G$9*(((6.4958291549*10^-19)*(X29^6))-((7.8224528491*10^-15)*(X29^5))+((3.7120417697*10^-11)*(X29^4))-((8.798317617*10^-8)*(X29^3))+((1.0982327235*10^-4)*(X29^2))-((3.2606444641*10^-2)*(X29))+(3.5786489003)) -> 0 | X29: 1450
G30: 38 | H30: =H29*(G30/G29)^((Data!$D$9-1)/(Data!$D$9)) -> 2902.7136 | I30: =(((4.17*10^13)*($P$16)*(($P$20)^0.5)*EXP(-67837/H30))/(Data!$D$8*6))*(Data!$D$10*10^-6) -> 0 | S30: =T30+U30+V30+W30 -> 2742.2096 | T30: =$G$7*(((8.5770134353*10^-19)*(X30^6))-((1.0374875556*10^-14)*(X30^5))+((4.9689475953*10^-11)*(X30^4))-((1.2019118054*10^-7)*(X30^3))+((1.5650954893*10^-4)*(X30^2))-((4.8239362033*10^-2)*(X30))+5.2084519626) -> 495.1134 | U30: =$G$8*(((6.6506859177*10^-19)*(X30^6))-((7.8984343104*10^-15)*(X30^5))+((3.6879849877*10^-11)*(X30^4))-((8.6386228559*10^-8)*(X30^3))+((1.1074017861*10^-4)*(X30^2))-((3.1241611608*10^-2)*(X30))+(3.3006694533)) -> 435.16066 | V30: =$G$10*(((5.9376621671*10^-19)*(X30^6))-((7.1020711589*10^-15)*(X30^5))+((3.3460896805*10^-11)*(X30^4))-((7.8909601634*10^-8)*(X30^3))+((9.8599769212*10^-5)*(X30^2))-((2.8172899156*10^-2)*(X30))+(3.05378908)) -> 1811.9356 | W30: =$G$9*(((6.4958291549*10^-19)*(X30^6))-((7.8224528491*10^-15)*(X30^5))+((3.7120417697*10^-11)*(X30^4))-((8.798317617*10^-8)*(X30^3))+((1.0982327235*10^-4)*(X30^2))-((3.2606444641*10^-2)*(X30))+(3.5786489003)) -> 0 | X30: 1500
G31: 40 | H31: =H30*(G31/G30)^((Data!$D$9-1)/(Data!$D$9)) -> 2924.428 | I31: =(((4.17*10^13)*($P$16)*(($P$20)^0.5)*EXP(-67837/H31))/(Data!$D$8*6))*(Data!$D$10*10^-6) -> 0 | S31: =T31+U31+V31+W31 -> 2865.9576 | T31: =$G$7*(((8.5770134353*10^-19)*(X31^6))-((1.0374875556*10^-14)*(X31^5))+((4.9689475953*10^-11)*(X31^4))-((1.2019118054*10^-7)*(X31^3))+((1.5650954893*10^-4)*(X31^2))-((4.8239362033*10^-2)*(X31))+5.2084519626) -> 518.05326 | U31: =$G$8*(((6.6506859177*10^-19)*(X31^6))-((7.8984343104*10^-15)*(X31^5))+((3.6879849877*10^-11)*(X31^4))-((8.6386228559*10^-8)*(X31^3))+((1.1074017861*10^-4)*(X31^2))-((3.1241611608*10^-2)*(X31))+(3.3006694533)) -> 456.00406 | V31: =$G$10*(((5.9376621671*10^-19)*(X31^6))-((7.1020711589*10^-15)*(X31^5))+((3.3460896805*10^-11)*(X31^4))-((7.8909601634*10^-8)*(X31^3))+((9.8599769212*10^-5)*(X31^2))-((2.8172899156*10^-2)*(X31))+(3.05378908)) -> 1891.9002 | W31: =$G$9*(((6.4958291549*10^-19)*(X31^6))-((7.8224528491*10^-15)*(X31^5))+((3.7120417697*10^-11)*(X31^4))-((8.798317617*10^-8)*(X31^3))+((1.0982327235*10^-4)*(X31^2))-((3.2606444641*10^-2)*(X31))+(3.5786489003)) -> 0 | X31: 1550
S32: =T32+U32+V32+W32 -> 2990.1852 | T32: =$G$7*(((8.5770134353*10^-19)*(X32^6))-((1.0374875556*10^-14)*(X32^5))+((4.9689475953*10^-11)*(X32^4))-((1.2019118054*10^-7)*(X32^3))+((1.5650954893*10^-4)*(X32^2))-((4.8239362033*10^-2)*(X32))+5.2084519626) -> 541.06542 | U32: =$G$8*(((6.6506859177*10^-19)*(X32^6))-((7.8984343104*10^-15)*(X32^5))+((3.6879849877*10^-11)*(X32^4))-((8.6386228559*10^-8)*(X32^3))+((1.1074017861*10^-4)*(X32^2))-((3.1241611608*10^-2)*(X32))+(3.3006694533)) -> 477.03288 | V32: =$G$10*(((5.9376621671*10^-19)*(X32^6))-((7.1020711589*10^-15)*(X32^5))+((3.3460896805*10^-11)*(X32^4))-((7.8909601634*10^-8)*(X32^3))+((9.8599769212*10^-5)*(X32^2))-((2.8172899156*10^-2)*(X32))+(3.05378908)) -> 1972.0869 | W32: =$G$9*(((6.4958291549*10^-19)*(X32^6))-((7.8224528491*10^-15)*(X32^5))+((3.7120417697*10^-11)*(X32^4))-((8.798317617*10^-8)*(X32^3))+((1.0982327235*10^-4)*(X32^2))-((3.2606444641*10^-2)*(X32))+(3.5786489003)) -> 0 | X32: 1600
S33: =T33+U33+V33+W33 -> 3114.995 | T33: =$G$7*(((8.5770134353*10^-19)*(X33^6))-((1.0374875556*10^-14)*(X33^5))+((4.9689475953*10^-11)*(X33^4))-((1.2019118054*10^-7)*(X33^3))+((1.5650954893*10^-4)*(X33^2))-((4.8239362033*10^-2)*(X33))+5.2084519626) -> 564.16485 | U33: =$G$8*(((6.6506859177*10^-19)*(X33^6))-((7.8984343104*10^-15)*(X33^5))+((3.6879849877*10^-11)*(X33^4))-((8.6386228559*10^-8)*(X33^3))+((1.1074017861*10^-4)*(X33^2))-((3.1241611608*10^-2)*(X33))+(3.3006694533)) -> 498.2605 | V33: =$G$10*(((5.9376621671*10^-19)*(X33^6))-((7.1020711589*10^-15)*(X33^5))+((3.3460896805*10^-11)*(X33^4))-((7.8909601634*10^-8)*(X33^3))+((9.8599769212*10^-5)*(X33^2))-((2.8172899156*10^-2)*(X33))+(3.05378908)) -> 2052.5697 | W33: =$G$9*(((6.4958291549*10^-19)*(X33^6))-((7.8224528491*10^-15)*(X33^5))+((3.7120417697*10^-11)*(X33^4))-((8.798317617*10^-8)*(X33^3))+((1.0982327235*10^-4)*(X33^2))-((3.2606444641*10^-2)*(X33))+(3.5786489003)) -> 0 | X33: 1650
S34: =T34+U34+V34+W34 -> 3240.4845 | T34: =$G$7*(((8.5770134353*10^-19)*(X34^6))-((1.0374875556*10^-14)*(X34^5))+((4.9689475953*10^-11)*(X34^4))-((1.2019118054*10^-7)*(X34^3))+((1.5650954893*10^-4)*(X34^2))-((4.8239362033*10^-2)*(X34))+5.2084519626) -> 587.36611 | U34: =$G$8*(((6.6506859177*10^-19)*(X34^6))-((7.8984343104*10^-15)*(X34^5))+((3.6879849877*10^-11)*(X34^4))-((8.6386228559*10^-8)*(X34^3))+((1.1074017861*10^-4)*(X34^2))-((3.1241611608*10^-2)*(X34))+(3.3006694533)) -> 519.69929 | V34: =$G$10*(((5.9376621671*10^-19)*(X34^6))-((7.1020711589*10^-15)*(X34^5))+((3.3460896805*10^-11)*(X34^4))-((7.8909601634*10^-8)*(X34^3))+((9.8599769212*10^-5)*(X34^2))-((2.8172899156*10^-2)*(X34))+(3.05378908)) -> 2133.4191 | W34: =$G$9*(((6.4958291549*10^-19)*(X34^6))-((7.8224528491*10^-15)*(X34^5))+((3.7120417697*10^-11)*(X34^4))-((8.798317617*10^-8)*(X34^3))+((1.0982327235*10^-4)*(X34^2))-((3.2606444641*10^-2)*(X34))+(3.5786489003)) -> 0 | X34: 1700
S35: =T35+U35+V35+W35 -> 3366.7421 | T35: =$G$7*(((8.5770134353*10^-19)*(X35^6))-((1.0374875556*10^-14)*(X35^5))+((4.9689475953*10^-11)*(X35^4))-((1.2019118054*10^-7)*(X35^3))+((1.5650954893*10^-4)*(X35^2))-((4.8239362033*10^-2)*(X35))+5.2084519626) -> 610.68269 | U35: =$G$8*(((6.6506859177*10^-19)*(X35^6))-((7.8984343104*10^-15)*(X35^5))+((3.6879849877*10^-11)*(X35^4))-((8.6386228559*10^-8)*(X35^3))+((1.1074017861*10^-4)*(X35^2))-((3.1241611608*10^-2)*(X35))+(3.3006694533)) -> 541.36012 | V35: =$G$10*(((5.9376621671*10^-19)*(X35^6))-((7.1020711589*10^-15)*(X35^5))+((3.3460896805*10^-11)*(X35^4))-((7.8909601634*10^-8)*(X35^3))+((9.8599769212*10^-5)*(X35^2))-((2.8172899156*10^-2)*(X35))+(3.05378908)) -> 2214.6992 | W35: =$G$9*(((6.4958291549*10^-19)*(X35^6))-((7.8224528491*10^-15)*(X35^5))+((3.7120417697*10^-11)*(X35^4))-((8.798317617*10^-8)*(X35^3))+((1.0982327235*10^-4)*(X35^2))-((3.2606444641*10^-2)*(X35))+(3.5786489003)) -> 0 | X35: 1750
S36: =T36+U36+V36+W36 -> 3493.8446 | T36: =$G$7*(((8.5770134353*10^-19)*(X36^6))-((1.0374875556*10^-14)*(X36^5))+((4.9689475953*10^-11)*(X36^4))-((1.2019118054*10^-7)*(X36^3))+((1.5650954893*10^-4)*(X36^2))-((4.8239362033*10^-2)*(X36))+5.2084519626) -> 634.12655 | U36: =$G$8*(((6.6506859177*10^-19)*(X36^6))-((7.8984343104*10^-15)*(X36^5))+((3.6879849877*10^-11)*(X36^4))-((8.6386228559*10^-8)*(X36^3))+((1.1074017861*10^-4)*(X36^2))-((3.1241611608*10^-2)*(X36))+(3.3006694533)) -> 563.25194 | V36: =$G$10*(((5.9376621671*10^-19)*(X36^6))-((7.1020711589*10^-15)*(X36^5))+((3.3460896805*10^-11)*(X36^4))-((7.8909601634*10^-8)*(X36^3))+((9.8599769212*10^-5)*(X36^2))-((2.8172899156*10^-2)*(X36))+(3.05378908)) -> 2296.4662 | W36: =$G$9*(((6.4958291549*10^-19)*(X36^6))-((7.8224528491*10^-15)*(X36^5))+((3.7120417697*10^-11)*(X36^4))-((8.798317617*10^-8)*(X36^3))+((1.0982327235*10^-4)*(X36^2))-((3.2606444641*10^-2)*(X36))+(3.5786489003)) -> 0 | X36: 1800
S37: =T37+U37+V37+W37 -> 3621.855 | T37: =$G$7*(((8.5770134353*10^-19)*(X37^6))-((1.0374875556*10^-14)*(X37^5))+((4.9689475953*10^-11)*(X37^4))-((1.2019118054*10^-7)*(X37^3))+((1.5650954893*10^-4)*(X37^2))-((4.8239362033*10^-2)*(X37))+5.2084519626) -> 657.7076 | U37: =$G$8*(((6.6506859177*10^-19)*(X37^6))-((7.8984343104*10^-15)*(X37^5))+((3.6879849877*10^-11)*(X37^4))-((8.6386228559*10^-8)*(X37^3))+((1.1074017861*10^-4)*(X37^2))-((3.1241611608*10^-2)*(X37))+(3.3006694533)) -> 585.38144 | V37: =$G$10*(((5.9376621671*10^-19)*(X37^6))-((7.1020711589*10^-15)*(X37^5))+((3.3460896805*10^-11)*(X37^4))-((7.8909601634*10^-8)*(X37^3))+((9.8599769212*10^-5)*(X37^2))-((2.8172899156*10^-2)*(X37))+(3.05378908)) -> 2378.766 | W37: =$G$9*(((6.4958291549*10^-19)*(X37^6))-((7.8224528491*10^-15)*(X37^5))+((3.7120417697*10^-11)*(X37^4))-((8.798317617*10^-8)*(X37^3))+((1.0982327235*10^-4)*(X37^2))-((3.2606444641*10^-2)*(X37))+(3.5786489003)) -> 0 | X37: 1850
S38: =T38+U38+V38+W38 -> 3750.8199 | T38: =$G$7*(((8.5770134353*10^-19)*(X38^6))-((1.0374875556*10^-14)*(X38^5))+((4.9689475953*10^-11)*(X38^4))-((1.2019118054*10^-7)*(X38^3))+((1.5650954893*10^-4)*(X38^2))-((4.8239362033*10^-2)*(X38))+5.2084519626) -> 681.43339 | U38: =$G$8*(((6.6506859177*10^-19)*(X38^6))-((7.8984343104*10^-15)*(X38^5))+((3.6879849877*10^-11)*(X38^4))-((8.6386228559*10^-8)*(X38^3))+((1.1074017861*10^-4)*(X38^2))-((3.1241611608*10^-2)*(X38))+(3.3006694533)) -> 607.75278 | V38: =$G$10*(((5.9376621671*10^-19)*(X38^6))-((7.1020711589*10^-15)*(X38^5))+((3.3460896805*10^-11)*(X38^4))-((7.8909601634*10^-8)*(X38^3))+((9.8599769212*10^-5)*(X38^2))-((2.8172899156*10^-2)*(X38))+(3.05378908)) -> 2461.6337 | W38: =$G$9*(((6.4958291549*10^-19)*(X38^6))-((7.8224528491*10^-15)*(X38^5))+((3.7120417697*10^-11)*(X38^4))-((8.798317617*10^-8)*(X38^3))+((1.0982327235*10^-4)*(X38^2))-((3.2606444641*10^-2)*(X38))+(3.5786489003)) -> 0 | X38: 1900
S39: =T39+U39+V39+W39 -> 3880.768 | T39: =$G$7*(((8.5770134353*10^-19)*(X39^6))-((1.0374875556*10^-14)*(X39^5))+((4.9689475953*10^-11)*(X39^4))-((1.2019118054*10^-7)*(X39^3))+((1.5650954893*10^-4)*(X39^2))-((4.8239362033*10^-2)*(X39))+5.2084519626) -> 705.30877 | U39: =$G$8*(((6.6506859177*10^-19)*(X39^6))-((7.8984343104*10^-15)*(X39^5))+((3.6879849877*10^-11)*(X39^4))-((8.6386228559*10^-8)*(X39^3))+((1.1074017861*10^-4)*(X39^2))-((3.1241611608*10^-2)*(X39))+(3.3006694533)) -> 630.36739 | V39: =$G$10*(((5.9376621671*10^-19)*(X39^6))-((7.1020711589*10^-15)*(X39^5))+((3.3460896805*10^-11)*(X39^4))-((7.8909601634*10^-8)*(X39^3))+((9.8599769212*10^-5)*(X39^2))-((2.8172899156*10^-2)*(X39))+(3.05378908)) -> 2545.0919 | W39: =$G$9*(((6.4958291549*10^-19)*(X39^6))-((7.8224528491*10^-15)*(X39^5))+((3.7120417697*10^-11)*(X39^4))-((8.798317617*10^-8)*(X39^3))+((1.0982327235*10^-4)*(X39^2))-((3.2606444641*10^-2)*(X39))+(3.5786489003)) -> 0 | X39: 1950
S40: =T40+U40+V40+W40 -> 4011.7096 | T40: =$G$7*(((8.5770134353*10^-19)*(X40^6))-((1.0374875556*10^-14)*(X40^5))+((4.9689475953*10^-11)*(X40^4))-((1.2019118054*10^-7)*(X40^3))+((1.5650954893*10^-4)*(X40^2))-((4.8239362033*10^-2)*(X40))+5.2084519626) -> 729.3357 | U40: =$G$8*(((6.6506859177*10^-19)*(X40^6))-((7.8984343104*10^-15)*(X40^5))+((3.6879849877*10^-11)*(X40^4))-((8.6386228559*10^-8)*(X40^3))+((1.1074017861*10^-4)*(X40^2))-((3.1241611608*10^-2)*(X40))+(3.3006694533)) -> 653.2238 | V40: =$G$10*(((5.9376621671*10^-19)*(X40^6))-((7.1020711589*10^-15)*(X40^5))+((3.3460896805*10^-11)*(X40^4))-((7.8909601634*10^-8)*(X40^3))+((9.8599769212*10^-5)*(X40^2))-((2.8172899156*10^-2)*(X40))+(3.05378908)) -> 2629.1501 | W40: =$G$9*(((6.4958291549*10^-19)*(X40^6))-((7.8224528491*10^-15)*(X40^5))+((3.7120417697*10^-11)*(X40^4))-((8.798317617*10^-8)*(X40^3))+((1.0982327235*10^-4)*(X40^2))-((3.2606444641*10^-2)*(X40))+(3.5786489003)) -> 0 | X40: 2000
...

Sheet Lean NOx Model (with EGR)
U1: NET ENTHALPY TABLE
C2: Fuel | F2: φ | J2: E.G.R | M2: Lower Heating Value (LHV) | R2: Number of Kmols in Mixture | U2: Total | V2: n1*CO2 | W2: n2*H20 | X2: n4*N2 | Y2: n3*O2 | Z2: Temp (K) | AC2: Enthalpy | AD2: Temp
C3: ISO-OCTANE | F3: 1 | M3: Enthaply needed for product (MJ/kmol) | O3: =-(F3*Data!B16) -> 259.2 | U3: =V3+W3+X3+Y3 -> 51.923468 | V3: =$J$7*(((8.5770134353*10^-19)*(Z3^6))-((1.0374875556*10^-14)*(Z3^5))+((4.9689475953*10^-11)*(Z3^4))-((1.2019118054*10^-7)*(Z3^3))+((1.5650954893*10^-4)*(Z3^2))-((4.8239362033*10^-2)*(Z3))+5.2084519626) -> 7.4853613 | W3: =$J$8*(((6.6506859177*10^-19)*(Z3^6))-((7.8984343104*10^-15)*(Z3^5))+((3.6879849877*10^-11)*(Z3^4))-((8.6386228559*10^-8)*(Z3^3))+((1.1074017861*10^-4)*(Z3^2))-((3.1241611608*10^-2)*(Z3))+(3.3006694533)) -> 7.6264855 | X3: =$J$10*(((5.9376621671*10^-19)*(Z3^6))-((7.1020711589*10^-15)*(Z3^5))+((3.3460896805*10^-11)*(Z3^4))-((7.8909601634*10^-8)*(Z3^3))+((9.8599769212*10^-5)*(Z3^2))-((2.8172899156*10^-2)*(Z3))+(3.05378908)) -> 36.811621 | Y3: =$J$9*(((6.4958291549*10^-19)*(Z3^6))-((7.8224528491*10^-15)*(Z3^5))+((3.7120417697*10^-11)*(Z3^4))-((8.798317617*10^-8)*(Z3^3))+((1.0982327235*10^-4)*(Z3^2))-((3.2606444641*10^-2)*(Z3))+(3.5786489003)) -> 0 | Z3: 200 | AB3: Above | AC3: {=MIN(IF(U3:U70>(O7),U3:U70))} -> 5089.9221 | AD3: =VLOOKUP(AC3,U3:Z70,6,FALSE) -> 2400
C4: C8H18 | J4: 0 | R4: =((Data!D3*((Data!D5/4)*Data!D4)*10^-6))/(Data!D7*Data!D6) -> 6.5681391e-06 | U4: =V4+W4+X4+Y4 -> 70.685627 | V4: =$J$7*(((8.5770134353*10^-19)*(Z4^6))-((1.0374875556*10^-14)*(Z4^5))+((4.9689475953*10^-11)*(Z4^4))-((1.2019118054*10^-7)*(Z4^3))+((1.5650954893*10^-4)*(Z4^2))-((4.8239362033*10^-2)*(Z4))+5.2084519626) -> 9.8931861 | W4: =$J$8*(((6.6506859177*10^-19)*(Z4^6))-((7.8984343104*10^-15)*(Z4^5))+((3.6879849877*10^-11)*(Z4^4))-((8.6386228559*10^-8)*(Z4^3))+((1.1074017861*10^-4)*(Z4^2))-((3.1241611608*10^-2)*(Z4))+(3.3006694533)) -> 10.784285 | X4: =$J$10*(((5.9376621671*10^-19)*(Z4^6))-((7.1020711589*10^-15)*(Z4^5))+((3.3460896805*10^-11)*(Z4^4))-((7.8909601634*10^-8)*(Z4^3))+((9.8599769212*10^-5)*(Z4^2))-((2.8172899156*10^-2)*(Z4))+(3.05378908)) -> 50.008156 | Y4: =$J$9*(((6.4958291549*10^-19)*(Z4^6))-((7.8224528491*10^-15)*(Z4^5))+((3.7120417697*10^-11)*(Z4^4))-((8.798317617*10^-8)*(Z4^3))+((1.0982327235*10^-4)*(Z4^2))-((3.2606444641*10^-2)*(Z4))+(3.5786489003)) -> 0 | Z4: 250 | AB4: Below | AC4: {=MAX(IF(U3:U70<(O7),U3:U70))} -> 4952.928 | AD4: =VLOOKUP(AC4,U3:Z70,6,FALSE) -> 2350
M5: Enthaply realsed from reaction (MJ/kmol) | O5: =-((G7*Data!B13)+('Lean NOx Model (with EGR)'!G8*Data!B14)+('Lean NOx Model (with EGR)'!G10*0)) -> 5324.2 | U5: =V5+W5+X5+Y5 -> 105.62037 | V5: =$J$7*(((8.5770134353*10^-19)*(Z5^6))-((1.0374875556*10^-14)*(Z5^5))+((4.9689475953*10^-11)*(Z5^4))-((1.2019118054*10^-7)*(Z5^3))+((1.5650954893*10^-4)*(Z5^2))-((4.8239362033*10^-2)*(Z5))+5.2084519626) -> 15.353467 | W5: =$J$8*(((6.6506859177*10^-19)*(Z5^6))-((7.8984343104*10^-15)*(Z5^5))+((3.6879849877*10^-11)*(Z5^4))-((8.6386228559*10^-8)*(Z5^3))+((1.1074017861*10^-4)*(Z5^2))-((3.1241611608*10^-2)*(Z5))+(3.3006694533)) -> 16.303446 | X5: =$J$10*(((5.9376621671*10^-19)*(Z5^6))-((7.1020711589*10^-15)*(Z5^5))+((3.3460896805*10^-11)*(Z5^4))-((7.8909601634*10^-8)*(Z5^3))+((9.8599769212*10^-5)*(Z5^2))-((2.8172899156*10^-2)*(Z5))+(3.05378908)) -> 73.96346 | Y5: =$J$9*(((6.4958291549*10^-19)*(Z5^6))-((7.8224528491*10^-15)*(Z5^5))+((3.7120417697*10^-11)*(Z5^4))-((8.798317617*10^-8)*(Z5^3))+((1.0982327235*10^-4)*(Z5^2))-((3.2606444641*10^-2)*(Z5))+(3.5786489003)) -> 0 | Z5: 298
C6: Products | F6: Reaction | J6: With EGR | R6: Alpha | U6: =V6+W6+X6+Y6 -> 107.40218 | V6: =$J$7*(((8.5770134353*10^-19)*(Z6^6))-((1.0374875556*10^-14)*(Z6^5))+((4.9689475953*10^-11)*(Z6^4))-((1.2019118054*10^-7)*(Z6^3))+((1.5650954893*10^-4)*(Z6^2))-((4.8239362033*10^-2)*(Z6))+5.2084519626) -> 15.64192 | W6: =$J$8*(((6.6506859177*10^-19)*(Z6^6))-((7.8984343104*10^-15)*(Z6^5))+((3.6879849877*10^-11)*(Z6^4))-((8.6386228559*10^-8)*(Z6^3))+((1.1074017861*10^-4)*(Z6^2))-((3.1241611608*10^-2)*(Z6))+(3.3006694533)) -> 16.581531 | X6: =$J$10*(((5.9376621671*10^-19)*(Z6^6))-((7.1020711589*10^-15)*(Z6^5))+((3.3460896805*10^-11)*(Z6^4))-((7.8909601634*10^-8)*(Z6^3))+((9.8599769212*10^-5)*(Z6^2))-((2.8172899156*10^-2)*(Z6))+(3.05378908)) -> 75.178728 | Y6: =$J$9*(((6.4958291549*10^-19)*(Z6^6))-((7.8224528491*10^-15)*(Z6^5))+((3.7120417697*10^-11)*(Z6^4))-((8.798317617*10^-8)*(Z6^3))+((1.0982327235*10^-4)*(Z6^2))-((3.2606444641*10^-2)*(Z6))+(3.5786489003)) -> 0 | Z6: 300
C7: Carbon | D7: =8*F3 -> 8 | F7: CO2 | G7: =D7 -> 8 | H7: n1 | J7: =(G7*(1+(J4/100))) -> 8 | M7: Net ethalpy (MJ/kmol) | O7: =O5-O3 -> 5065 | U7: =V7+W7+X7+Y7 -> 159.62056 | V7: =$J$7*(((8.5770134353*10^-19)*(Z7^6))-((1.0374875556*10^-14)*(Z7^5))+((4.9689475953*10^-11)*(Z7^4))-((1.2019118054*10^-7)*(Z7^3))+((1.5650954893*10^-4)*(Z7^2))-((4.8239362033*10^-2)*(Z7))+5.2084519626) -> 24.293094 | W7: =$J$8*(((6.6506859177*10^-19)*(Z7^6))-((7.8984343104*10^-15)*(Z7^5))+((3.6879849877*10^-11)*(Z7^4))-((8.6386228559*10^-8)*(Z7^3))+((1.1074017861*10^-4)*(Z7^2))-((3.1241611608*10^-2)*(Z7))+(3.3006694533)) -> 24.67021 | X7: =$J$10*(((5.9376621671*10^-19)*(Z7^6))-((7.1020711589*10^-15)*(Z7^5))+((3.3460896805*10^-11)*(Z7^4))-((7.8909601634*10^-8)*(Z7^3))+((9.8599769212*10^-5)*(Z7^2))-((2.8172899156*10^-2)*(Z7))+(3.05378908)) -> 110.65725 | Y7: =$J$9*(((6.4958291549*10^-19)*(Z7^6))-((7.8224528491*10^-15)*(Z7^5))+((3.7120417697*10^-11)*(Z7^4))-((8.798317617*10^-8)*(Z7^3))+((1.0982327235*10^-4)*(Z7^2))-((3.2606444641*10^-2)*(Z7))+(3.5786489003)) -> 0 | Z7: 350
C8: Hydrogen | D8: =18*F3 -> 18 | F8: H2O | G8: =D8/2 -> 9 | H8: n2 | J8: =(G8*(1+J4/100)) -> 9 | R8: =R4/((F3+12.5*(1+3.76))) -> 1.0856428e-07 | U8: =V8+W8+X8+Y8 -> 225.13206 | V8: =$J$7*(((8.5770134353*10^-19)*(Z8^6))-((1.0374875556*10^-14)*(Z8^5))+((4.9689475953*10^-11)*(Z8^4))-((1.2019118054*10^-7)*(Z8^3))+((1.5650954893*10^-4)*(Z8^2))-((4.8239362033*10^-2)*(Z8))+5.2084519626) -> 35.450595 | W8: =$J$8*(((6.6506859177*10^-19)*(Z8^6))-((7.8984343104*10^-15)*(Z8^5))+((3.6879849877*10^-11)*(Z8^4))-((8.6386228559*10^-8)*(Z8^3))+((1.1074017861*10^-4)*(Z8^2))-((3.1241611608*10^-2)*(Z8))+(3.3006694533)) -> 34.737328 | X8: =$J$10*(((5.9376621671*10^-19)*(Z8^6))-((7.1020711589*10^-15)*(Z8^5))+((3.3460896805*10^-11)*(Z8^4))-((7.8909601634*10^-8)*(Z8^3))+((9.8599769212*10^-5)*(Z8^2))-((2.8172899156*10^-2)*(Z8))+(3.05378908)) -> 154.94414 | Y8: =$J$9*(((6.4958291549*10^-19)*(Z8^6))-((7.8224528491*10^-15)*(Z8^5))+((3.7120417697*10^-11)*(Z8^4))-((8.798317617*10^-8)*(Z8^3))+((1.0982327235*10^-4)*(Z8^2))-((3.2606444641*10^-2)*(Z8))+(3.5786489003)) -> 0 | Z8: 400
C9: Oxygen | D9: =0*F3 -> 0 | F9: O2 | G9: =((2*G11)-(2*G7)-G8)/2 -> 0 | H9: n3 | J9: =(G9*(1+(J4/100))) -> 0 | M9: LHV (MJ/kg) | O9: =O7/C15 -> 44.341639 | U9: =V9+W9+X9+Y9 -> 301.95655 | V9: =$J$7*(((8.5770134353*10^-19)*(Z9^6))-((1.0374875556*10^-14)*(Z9^5))+((4.9689475953*10^-11)*(Z9^4))-((1.2019118054*10^-7)*(Z9^3))+((1.5650954893*10^-4)*(Z9^2))-((4.8239362033*10^-2)*(Z9))+5.2084519626) -> 48.758056 | W9: =$J$8*(((6.6506859177*10^-19)*(Z9^6))-((7.8984343104*10^-15)*(Z9^5))+((3.6879849877*10^-11)*(Z9^4))-((8.6386228559*10^-8)*(Z9^3))+((1.1074017861*10^-4)*(Z9^2))-((3.1241611608*10^-2)*(Z9))+(3.3006694533)) -> 46.502675 | X9: =$J$10*(((5.9376621671*10^-19)*(Z9^6))-((7.1020711589*10^-15)*(Z9^5))+((3.3460896805*10^-11)*(Z9^4))-((7.8909601634*10^-8)*(Z9^3))+((9.8599769212*10^-5)*(Z9^2))-((2.8172899156*10^-2)*(Z9))+(3.05378908)) -> 206.69582 | Y9: =$J$9*(((6.4958291549*10^-19)*(Z9^6))-((7.8224528491*10^-15)*(Z9^5))+((3.7120417697*10^-11)*(Z9^4))-((8.798317617*10^-8)*(Z9^3))+((1.0982327235*10^-4)*(Z9^2))-((3.2606444641*10^-2)*(Z9))+(3.5786489003)) -> 0 | Z9: 450
F10: N2 | G10: =3.76*G11 -> 47 | H10: n4 | J10: =(G10*(1+(J4/100))) -> 47 | R10: Total Exhuast kmol | U10: =V10+W10+X10+Y10 -> 388.32759 | V10: =$J$7*(((8.5770134353*10^-19)*(Z10^6))-((1.0374875556*10^-14)*(Z10^5))+((4.9689475953*10^-11)*(Z10^4))-((1.2019118054*10^-7)*(Z10^3))+((1.5650954893*10^-4)*(Z10^2))-((4.8239362033*10^-2)*(Z10))+5.2084519626) -> 63.896317 | W10: =$J$8*(((6.6506859177*10^-19)*(Z10^6))-((7.8984343104*10^-15)*(Z10^5))+((3.6879849877*10^-11)*(Z10^4))-((8.6386228559*10^-8)*(Z10^3))+((1.1074017861*10^-4)*(Z10^2))-((3.1241611608*10^-2)*(Z10))+(3.3006694533)) -> 59.716674 | X10: =$J$10*(((5.9376621671*10^-19)*(Z10^6))-((7.1020711589*10^-15)*(Z10^5))+((3.3460896805*10^-11)*(Z10^4))-((7.8909601634*10^-8)*(Z10^3))+((9.8599769212*10^-5)*(Z10^2))-((2.8172899156*10^-2)*(Z10))+(3.05378908)) -> 264.7146 | Y10: =$J$9*(((6.4958291549*10^-19)*(Z10^6))-((7.8224528491*10^-15)*(Z10^5))+((3.7120417697*10^-11)*(Z10^4))-((8.798317617*10^-8)*(Z10^3))+((1.0982327235*10^-4)*(Z10^2))-((3.2606444641*10^-2)*(Z10))+(3.5786489003)) -> 0 | Z10: 500
F11: x | G11: =((2*(G7/F3)+(G8/F3)))/2 -> 12.5 | J11: 12.5 | U11: =V11+W11+X11+Y11 -> 482.67802 | V11: =$J$7*(((8.5770134353*10^-19)*(Z11^6))-((1.0374875556*10^-14)*(Z11^5))+((4.9689475953*10^-11)*(Z11^4))-((1.2019118054*10^-7)*(Z11^3))+((1.5650954893*10^-4)*(Z11^2))-((4.8239362033*10^-2)*(Z11))+5.2084519626) -> 80.580974 | W11: =$J$8*(((6.6506859177*10^-19)*(Z11^6))-((7.8984343104*10^-15)*(Z11^5))+((3.6879849877*10^-11)*(Z11^4))-((8.6386228559*10^-8)*(Z11^3))+((1.1074017861*10^-4)*(Z11^2))-((3.1241611608*10^-2)*(Z11))+(3.3006694533)) -> 74.158279 | X11: =$J$10*(((5.9376621671*10^-19)*(Z11^6))-((7.1020711589*10^-15)*(Z11^5))+((3.3460896805*10^-11)*(Z11^4))-((7.8909601634*10^-8)*(Z11^3))+((9.8599769212*10^-5)*(Z11^2))-((2.8172899156*10^-2)*(Z11))+(3.05378908)) -> 327.93877 | Y11: =$J$9*(((6.4958291549*10^-19)*(Z11^6))-((7.8224528491*10^-15)*(Z11^5))+((3.7120417697*10^-11)*(Z11^4))-((8.798317617*10^-8)*(Z11^3))+((1.0982327235*10^-4)*(Z11^2))-((3.2606444641*10^-2)*(Z11))+(3.5786489003)) -> 0 | Z11: 550
R12: =R8*(J7+J8+J9+J10) -> 6.9481141e-06 | U12: =V12+W12+X12+Y12 -> 583.62607 | V12: =$J$7*(((8.5770134353*10^-19)*(Z12^6))-((1.0374875556*10^-14)*(Z12^5))+((4.9689475953*10^-11)*(Z12^4))-((1.2019118054*10^-7)*(Z12^3))+((1.5650954893*10^-4)*(Z12^2))-((4.8239362033*10^-2)*(Z12))+5.2084519626) -> 98.56 | W12: =$J$8*(((6.6506859177*10^-19)*(Z12^6))-((7.8984343104*10^-15)*(Z12^5))+((3.6879849877*10^-11)*(Z12^4))-((8.6386228559*10^-8)*(Z12^3))+((1.1074017861*10^-4)*(Z12^2))-((3.1241611608*10^-2)*(Z12))+(3.3006694533)) -> 89.632954 | X12: =$J$10*(((5.9376621671*10^-19)*(Z12^6))-((7.1020711589*10^-15)*(Z12^5))+((3.3460896805*10^-11)*(Z12^4))-((7.8909601634*10^-8)*(Z12^3))+((9.8599769212*10^-5)*(Z12^2))-((2.8172899156*10^-2)*(Z12))+(3.05378908)) -> 395.43311 | Y12: =$J$9*(((6.4958291549*10^-19)*(Z12^6))-((7.8224528491*10^-15)*(Z12^5))+((3.7120417697*10^-11)*(Z12^4))-((8.798317617*10^-8)*(Z12^3))+((1.0982327235*10^-4)*(Z12^2))-((3.2606444641*10^-2)*(Z12))+(3.5786489003)) -> 0 | Z12: 600
U13: =V13+W13+X13+Y13 -> 689.96182 | V13: =$J$7*(((8.5770134353*10^-19)*(Z13^6))-((1.0374875556*10^-14)*(Z13^5))+((4.9689475953*10^-11)*(Z13^4))-((1.2019118054*10^-7)*(Z13^3))+((1.5650954893*10^-4)*(Z13^2))-((4.8239362033*10^-2)*(Z13))+5.2084519626) -> 117.61144 | W13: =$J$8*(((6.6506859177*10^-19)*(Z13^6))-((7.8984343104*10^-15)*(Z13^5))+((3.6879849877*10^-11)*(Z13^4))-((8.6386228559*10^-8)*(Z13^3))+((1.1074017861*10^-4)*(Z13^2))-((3.1241611608*10^-2)*(Z13))+(3.3006694533)) -> 105.97071 | X13: =$J$10*(((5.9376621671*10^-19)*(Z13^6))-((7.1020711589*10^-15)*(Z13^5))+((3.3460896805*10^-11)*(Z13^4))-((7.8909601634*10^-8)*(Z13^3))+((9.8599769212*10^-5)*(Z13^2))-((2.8172899156*10^-2)*(Z13))+(3.05378908)) -> 466.37966 | Y13: =$J$9*(((6.4958291549*10^-19)*(Z13^6))-((7.8224528491*10^-15)*(Z13^5))+((3.7120417697*10^-11)*(Z13^4))-((8.798317617*10^-8)*(Z13^3))+((1.0982327235*10^-4)*(Z13^2))-((3.2606444641*10^-2)*(Z13))+(3.5786489003)) -> 0 | Z13: 650
C14: Fuel Mass (Kg/kmol) | R14: [N2] | U14: =V14+W14+X14+Y14 -> 800.63421 | V14: =$J$7*(((8.5770134353*10^-19)*(Z14^6))-((1.0374875556*10^-14)*(Z14^5))+((4.9689475953*10^-11)*(Z14^4))-((1.2019118054*10^-7)*(Z14^3))+((1.5650954893*10^-4)*(Z14^2))-((4.8239362033*10^-2)*(Z14))+5.2084519626) -> 137.54119 | W14: =$J$8*(((6.6506859177*10^-19)*(Z14^6))-((7.8984343104*10^-15)*(Z14^5))+((3.6879849877*10^-11)*(Z14^4))-((8.6386228559*10^-8)*(Z14^3))+((1.1074017861*10^-4)*(Z14^2))-((3.1241611608*10^-2)*(Z14))+(3.3006694533)) -> 123.02423 | X14: =$J$10*(((5.9376621671*10^-19)*(Z14^6))-((7.1020711589*10^-15)*(Z14^5))+((3.3460896805*10^-11)*(Z14^4))-((7.8909601634*10^-8)*(Z14^3))+((9.8599769212*10^-5)*(Z14^2))-((2.8172899156*10^-2)*(Z14))+(3.05378908)) -> 540.0688 | Y14: =$J$9*(((6.4958291549*10^-19)*(Z14^6))-((7.8224528491*10^-15)*(Z14^5))+((3.7120417697*10^-11)*(Z14^4))-((8.798317617*10^-8)*(Z14^3))+((1.0982327235*10^-4)*(Z14^2))-((3.2606444641*10^-2)*(Z14))+(3.5786489003)) -> 0 | Z14: 700
C15: =(D7*Data!K4)+(D8*Data!K5) -> 114.22672 | H15: Pressure (Bar) | I15: Flame Temp | J15: Nox/° | K15: Total/Cycle | L15: PPM | U15: =V15+W15+X15+Y15 -> 914.7385 | V15: =$J$7*(((8.5770134353*10^-19)*(Z15^6))-((1.0374875556*10^-14)*(Z15^5))+((4.9689475953*10^-11)*(Z15^4))-((1.2019118054*10^-7)*(Z15^3))+((1.5650954893*10^-4)*(Z15^2))-((4.8239362033*10^-2)*(Z15))+5.2084519626) -> 158.18083 | W15: =$J$8*(((6.6506859177*10^-19)*(Z15^6))-((7.8984343104*10^-15)*(Z15^5))+((3.6879849877*10^-11)*(Z15^4))-((8.6386228559*10^-8)*(Z15^3))+((1.1074017861*10^-4)*(Z15^2))-((3.1241611608*10^-2)*(Z15))+(3.3006694533)) -> 140.66702 | X15: =$J$10*(((5.9376621671*10^-19)*(Z15^6))-((7.1020711589*10^-15)*(Z15^5))+((3.3460896805*10^-11)*(Z15^4))-((7.8909601634*10^-8)*(Z15^3))+((9.8599769212*10^-5)*(Z15^2))-((2.8172899156*10^-2)*(Z15))+(3.05378908)) -> 615.89065 | Y15: =$J$9*(((6.4958291549*10^-19)*(Z15^6))-((7.8224528491*10^-15)*(Z15^5))+((3.7120417697*10^-11)*(Z15^4))-((8.798317617*10^-8)*(Z15^3))+((1.0982327235*10^-4)*(Z15^2))-((3.2606444641*10^-2)*(Z15))+(3.5786489003)) -> 0 | Z15: 750
H16: 10 | I16: =AD4+(AD3-AD4)*((O7-AC4)/(AC3-AC4)) -> 2390.904 | J16: =(((4.17*10^13)*($R$16)*(($R$20)^0.5)*EXP(-67837/I16))/(Data!$D$8*6))*(Data!$D$10*10^-6) -> 0 | K16: =SUM(J16:J31) -> 0 | L16: =(K16/R12)*10^6 -> 0 | R16: =(J10*R8)/(Data!D10*10^-6) -> 0.12756303 | U16: =V16+W16+X16+Y16 -> 1031.5041 | V16: =$J$7*(((8.5770134353*10^-19)*(Z16^6))-((1.0374875556*10^-14)*(Z16^5))+((4.9689475953*10^-11)*(Z16^4))-((1.2019118054*10^-7)*(Z16^3))+((1.5650954893*10^-4)*(Z16^2))-((4.8239362033*10^-2)*(Z16))+5.2084519626) -> 179.3856 | W16: =$J$8*(((6.6506859177*10^-19)*(Z16^6))-((7.8984343104*10^-15)*(Z16^5))+((3.6879849877*10^-11)*(Z16^4))-((8.6386228559*10^-8)*(Z16^3))+((1.1074017861*10^-4)*(Z16^2))-((3.1241611608*10^-2)*(Z16))+(3.3006694533)) -> 158.79165 | X16: =$J$10*(((5.9376621671*10^-19)*(Z16^6))-((7.1020711589*10^-15)*(Z16^5))+((3.3460896805*10^-11)*(Z16^4))-((7.8909601634*10^-8)*(Z16^3))+((9.8599769212*10^-5)*(Z16^2))-((2.8172899156*10^-2)*(Z16))+(3.05378908)) -> 693.32684 | Y16: =$J$9*(((6.4958291549*10^-19)*(Z16^6))-((7.8224528491*10^-15)*(Z16^5))+((3.7120417697*10^-11)*(Z16^4))-((8.798317617*10^-8)*(Z16^3))+((1.0982327235*10^-4)*(Z16^2))-((3.2606444641*10^-2)*(Z16))+(3.5786489003)) -> 0 | Z16: 800
C17: Air Mass (Kg/kmol) | H17: 12 | I17: =I16*(H17/H16)^((Data!$D$9-1)/(Data!$D$9)) -> 2455.0882 | J17: =(((4.17*10^13)*($R$16)*(($R$20)^0.5)*EXP(-67837/I17))/(Data!$D$8*6))*(Data!$D$10*10^-6) -> 0 | U17: =V17+W17+X17+Y17 -> 1150.283 | V17: =$J$7*(((8.5770134353*10^-19)*(Z17^6))-((1.0374875556*10^-14)*(Z17^5))+((4.9689475953*10^-11)*(Z17^4))-((1.2019118054*10^-7)*(Z17^3))+((1.5650954893*10^-4)*(Z17^2))-((4.8239362033*10^-2)*(Z17))+5.2084519626) -> 201.03237 | W17: =$J$8*(((6.6506859177*10^-19)*(Z17^6))-((7.8984343104*10^-15)*(Z17^5))+((3.6879849877*10^-11)*(Z17^4))-((8.6386228559*10^-8)*(Z17^3))+((1.1074017861*10^-4)*(Z17^2))-((3.1241611608*10^-2)*(Z17))+(3.3006694533)) -> 177.30811 | X17: =$J$10*(((5.9376621671*10^-19)*(Z17^6))-((7.1020711589*10^-15)*(Z17^5))+((3.3460896805*10^-11)*(Z17^4))-((7.8909601634*10^-8)*(Z17^3))+((9.8599769212*10^-5)*(Z17^2))-((2.8172899156*10^-2)*(Z17))+(3.05378908)) -> 771.94248 | Y17: =$J$9*(((6.4958291549*10^-19)*(Z17^6))-((7.8224528491*10^-15)*(Z17^5))+((3.7120417697*10^-11)*(Z17^4))-((8.798317617*10^-8)*(Z17^3))+((1.0982327235*10^-4)*(Z17^2))-((3.2606444641*10^-2)*(Z17))+(3.5786489003)) -> 0 | Z17: 850
