Workbook

Sheet Task 1 Fuel Blend 
A1: Stoichometric
D3: Fuel Blend 50:50 | G3: Molecular Weight (Kg/kmol) | L3: Chemical Balance Equation 50:50 Blend
L4: CH3OH + C8H18 + x(O2 + 3.76N2) à n1CO2 + n2H2O + n3N2
D5: ISOOCTANE | E5: METHANOL | G5: Carbon | H5: 12.0107
D6: C8H18 | E6: CH3OH | G6: Hydrogen | H6: 1.00784 | L6: Products | P6: Reaction
G7: Oxygen | H7: 15.9994
C8: Carbon | D8: 8 | E8: 1 | G8: Nitrogen | H8: 14.0067 | L8: Carbon | M8: 9 | P8: CO2 | Q8: 9 | R8: n1
C9: Hydrogen | D9: 18 | E9: 4 | L9: Hydrogen | M9: 22 | P9: H20 | Q9: =M9/2 -> 11 | R9: n2
C10: Oxygen | D10: 0 | E10: 1 | L10: Oxygen | M10: 1 | P10: x | Q10: =((Q8*2)+Q9-1)/2 -> 14 | R10: x
P11: N2 | Q11: =3.76*Q10 -> 52.64 | R11: n3
C13: Fuel Mass (kg/kmol) | G13: Total Blended Fuel Mass (Kg/kmol)
C14: ISO-OCTANE | E14: METHANOL | L14: Lower Heating Value (LHV) | Q14: Higher Heating Value (HHV)
C15: =(D8*H5)+(D9*H6) -> 114.22672 | E15: =(E8*H5)+(E9*H6)+(E10*H7) -> 32.04146 | G15: =C15+E15 -> 146.26818
L16: Enthaply needed for product (MJ/kmol) | N16: =-(Data!B16+Data!B17) -> 460.7 | Q16: Enthaply needed for product (MJ/kmol) | U16: =-(Data!B16+Data!B17) -> 460.7
C17: Mass Percentages (%)
C18: ISO-OCTANE | D18: METHANOL | L18: Enthaply realsed from reaction (MJ/kmol) | N18: =-((Q8*Data!B13)+('Task 1 Fuel Blend '!Q9*Data!B14)+('Task 1 Fuel Blend '!Q11*0)) -> 6201.3 | Q18: Enthaply realsed from reaction (MJ/kmol) | U18: =-((Q8*Data!B13)+('Task 1 Fuel Blend '!Q9*Data!C14)+('Task 1 Fuel Blend '!Q11*0)) -> 6685.3
C19: =(C15/G15)*100 -> 78.094032 | D19: =(E15/G15)*100 -> 21.905968
L20: Net ethalpy (MJ/kmol) | N20: =N18-N16 -> 5740.6 | Q20: Net ethalpy (MJ/kmol) | U20: =U18-U16 -> 6224.6
C22: Air Mass (Kg/kmol) | D22: Total Blended Fuel Mass (Kg/kmol) | G22: AFR | L22: LHV (MJ/kg) | N22: =N20/D24 -> 39.247087 | Q22: HHV (MJ/kg) | U22: =U20/G15 -> 42.556077
C24: =Q10*((2*H7)+3.76*(2*H8)) -> 1922.6086 | D24: =G15 -> 146.26818 | G24: =C24/D24 -> 13.144408
C28: Mass of CO2 | E28: CO2 per kg of fuel
C29: =M8*((H5+(2*H7))) -> 396.0855 | E29: =C29/D24 -> 2.7079403

Sheet Lean NOx Model 
S1: NET ENTHALPY TABLES
C2: Fuel | F2: φ | K2: Lower Heating Value (LHV) | P2: Number of Kmols of Mixture | S2: Total | T2: n1*CO2 | U2: n2*H20 | V2: n4*N2 | W2: n3*O2 | X2: Temp (K) | AA2: Enthalpy | AB2: Temp
C3: ISO-OCTANE | F3: 1 | K3: Enthaply needed for product (MJ/kmol) | M3: =-(F3*Data!B16) -> 259.2 | S3: =T3+U3+V3+W3 -> 51.923468 | T3: =$G$7*(((8.5770134353*10^-19)*(X3^6))-((1.0374875556*10^-14)*(X3^5))+((4.9689475953*10^-11)*(X3^4))-((1.2019118054*10^-7)*(X3^3))+((1.5650954893*10^-4)*(X3^2))-((4.8239362033*10^-2)*(X3))+5.2084519626) -> 7.4853613 | U3: =$G$8*(((6.6506859177*10^-19)*(X3^6))-((7.8984343104*10^-15)*(X3^5))+((3.6879849877*10^-11)*(X3^4))-((8.6386228559*10^-8)*(X3^3))+((1.1074017861*10^-4)*(X3^2))-((3.1241611608*10^-2)*(X3))+(3.3006694533)) -> 7.6264855 | V3: =$G$10*(((5.9376621671*10^-19)*(X3^6))-((7.1020711589*10^-15)*(X3^5))+((3.3460896805*10^-11)*(X3^4))-((7.8909601634*10^-8)*(X3^3))+((9.8599769212*10^-5)*(X3^2))-((2.8172899156*10^-2)*(X3))+(3.05378908)) -> 36.811621 | W3: =$G$9*(((6.4958291549*10^-19)*(X3^6))-((7.8224528491*10^-15)*(X3^5))+((3.7120417697*10^-11)*(X3^4))-((8.798317617*10^-8)*(X3^3))+((1.0982327235*10^-4)*(X3^2))-((3.2606444641*10^-2)*(X3))+(3.5786489003)) -> 0 | X3: 200 | Z3: Above | AA3: {=MIN(IF(S3:S70>(M7),S3:S70))} -> 5089.9221 | AB3: =VLOOKUP(AA3,S3:X70,6,FALSE) -> 2400
C4: C8H18 | P4: =((Data!D3*((Data!D5/4)*Data!D4)*10^-6))/(Data!D7*Data!D6) -> 6.5681391e-06 | S4: =T4+U4+V4+W4 -> 70.685627 | T4: =$G$7*(((8.5770134353*10^-19)*(X4^6))-((1.0374875556*10^-14)*(X4^5))+((4.9689475953*10^-11)*(X4^4))-((1.2019118054*10^-7)*(X4^3))+((1.5650954893*10^-4)*(X4^2))-((4.8239362033*10^-2)*(X4))+5.2084519626) -> 9.8931861 | U4: =$G$8*(((6.6506859177*10^-19)*(X4^6))-((7.8984343104*10^-15)*(X4^5))+((3.6879849877*10^-11)*(X4^4))-((8.6386228559*10^-8)*(X4^3))+((1.1074017861*10^-4)*(X4^2))-((3.1241611608*10^-2)*(X4))+(3.3006694533)) -> 10.784285 | V4: =$G$10*(((5.9376621671*10^-19)*(X4^6))-((7.1020711589*10^-15)*(X4^5))+((3.3460896805*10^-11)*(X4^4))-((7.8909601634*10^-8)*(X4^3))+((9.8599769212*10^-5)*(X4^2))-((2.8172899156*10^-2)*(X4))+(3.05378908)) -> 50.008156 | W4: =$G$9*(((6.4958291549*10^-19)*(X4^6))-((7.8224528491*10^-15)*(X4^5))+((3.7120417697*10^-11)*(X4^4))-((8.798317617*10^-8)*(X4^3))+((1.0982327235*10^-4)*(X4^2))-((3.2606444641*10^-2)*(X4))+(3.5786489003)) -> 0 | X4: 250 | Z4: Below | AA4: {=MAX(IF(S3:S70<(M7),S3:S70))} -> 4952.928 | AB4: =VLOOKUP(AA4,S3:X70,6,FALSE) -> 2350
K5: Enthaply realsed from reaction (MJ/kmol) | M5: =-((G7*Data!B13)+('Lean NOx Model '!G8*Data!B14)+('Lean NOx Model '!G10*0)) -> 5324.2 | S5: =T5+U5+V5+W5 -> 105.62037 | T5: =$G$7*(((8.5770134353*10^-19)*(X5^6))-((1.0374875556*10^-14)*(X5^5))+((4.9689475953*10^-11)*(X5^4))-((1.2019118054*10^-7)*(X5^3))+((1.5650954893*10^-4)*(X5^2))-((4.8239362033*10^-2)*(X5))+5.2084519626) -> 15.353467 | U5: =$G$8*(((6.6506859177*10^-19)*(X5^6))-((7.8984343104*10^-15)*(X5^5))+((3.6879849877*10^-11)*(X5^4))-((8.6386228559*10^-8)*(X5^3))+((1.1074017861*10^-4)*(X5^2))-((3.1241611608*10^-2)*(X5))+(3.3006694533)) -> 16.303446 | V5: =$G$10*(((5.9376621671*10^-19)*(X5^6))-((7.1020711589*10^-15)*(X5^5))+((3.3460896805*10^-11)*(X5^4))-((7.8909601634*10^-8)*(X5^3))+((9.8599769212*10^-5)*(X5^2))-((2.8172899156*10^-2)*(X5))+(3.05378908)) -> 73.96346 | W5: =$G$9*(((6.4958291549*10^-19)*(X5^6))-((7.8224528491*10^-15)*(X5^5))+((3.7120417697*10^-11)*(X5^4))-((8.798317617*10^-8)*(X5^3))+((1.0982327235*10^-4)*(X5^2))-((3.2606444641*10^-2)*(X5))+(3.5786489003)) -> 0 | X5: 298
C6: Products | F6: Reaction | P6: Alpha | S6: =T6+U6+V6+W6 -> 107.40218 | T6: =$G$7*(((8.5770134353*10^-19)*(X6^6))-((1.0374875556*10^-14)*(X6^5))+((4.9689475953*10^-11)*(X6^4))-((1.2019118054*10^-7)*(X6^3))+((1.5650954893*10^-4)*(X6^2))-((4.8239362033*10^-2)*(X6))+5.2084519626) -> 15.64192 | U6: =$G$8*(((6.6506859177*10^-19)*(X6^6))-((7.8984343104*10^-15)*(X6^5))+((3.6879849877*10^-11)*(X6^4))-((8.6386228559*10^-8)*(X6^3))+((1.1074017861*10^-4)*(X6^2))-((3.1241611608*10^-2)*(X6))+(3.3006694533)) -> 16.581531 | V6: =$G$10*(((5.9376621671*10^-19)*(X6^6))-((7.1020711589*10^-15)*(X6^5))+((3.3460896805*10^-11)*(X6^4))-((7.8909601634*10^-8)*(X6^3))+((9.8599769212*10^-5)*(X6^2))-((2.8172899156*10^-2)*(X6))+(3.05378908)) -> 75.178728 | W6: =$G$9*(((6.4958291549*10^-19)*(X6^6))-((7.8224528491*10^-15)*(X6^5))+((3.7120417697*10^-11)*(X6^4))-((8.798317617*10^-8)*(X6^3))+((1.0982327235*10^-4)*(X6^2))-((3.2606444641*10^-2)*(X6))+(3.5786489003)) -> 0 | X6: 300
C7: Carbon | D7: =8*F3 -> 8 | F7: CO2 | G7: =D7 -> 8 | H7: n1 | K7: Net ethalpy (MJ/kmol) | M7: =M5-M3 -> 5065 | S7: =T7+U7+V7+W7 -> 159.62056 | T7: =$G$7*(((8.5770134353*10^-19)*(X7^6))-((1.0374875556*10^-14)*(X7^5))+((4.9689475953*10^-11)*(X7^4))-((1.2019118054*10^-7)*(X7^3))+((1.5650954893*10^-4)*(X7^2))-((4.8239362033*10^-2)*(X7))+5.2084519626) -> 24.293094 | U7: =$G$8*(((6.6506859177*10^-19)*(X7^6))-((7.8984343104*10^-15)*(X7^5))+((3.6879849877*10^-11)*(X7^4))-((8.6386228559*10^-8)*(X7^3))+((1.1074017861*10^-4)*(X7^2))-((3.1241611608*10^-2)*(X7))+(3.3006694533)) -> 24.67021 | V7: =$G$10*(((5.9376621671*10^-19)*(X7^6))-((7.1020711589*10^-15)*(X7^5))+((3.3460896805*10^-11)*(X7^4))-((7.8909601634*10^-8)*(X7^3))+((9.8599769212*10^-5)*(X7^2))-((2.8172899156*10^-2)*(X7))+(3.05378908)) -> 110.65725 | W7: =$G$9*(((6.4958291549*10^-19)*(X7^6))-((7.8224528491*10^-15)*(X7^5))+((3.7120417697*10^-11)*(X7^4))-((8.798317617*10^-8)*(X7^3))+((1.0982327235*10^-4)*(X7^2))-((3.2606444641*10^-2)*(X7))+(3.5786489003)) -> 0 | X7: 350
C8: Hydrogen | D8: =18*F3 -> 18 | F8: H2O | G8: =D8/2 -> 9 | H8: n2 | P8: =P4/((F3+12.5*(1+3.76))) -> 1.0856428e-07 | S8: =T8+U8+V8+W8 -> 225.13206 | T8: =$G$7*(((8.5770134353*10^-19)*(X8^6))-((1.0374875556*10^-14)*(X8^5))+((4.9689475953*10^-11)*(X8^4))-((1.2019118054*10^-7)*(X8^3))+((1.5650954893*10^-4)*(X8^2))-((4.8239362033*10^-2)*(X8))+5.2084519626) -> 35.450595 | U8: =$G$8*(((6.6506859177*10^-19)*(X8^6))-((7.8984343104*10^-15)*(X8^5))+((3.6879849877*10^-11)*(X8^4))-((8.6386228559*10^-8)*(X8^3))+((1.1074017861*10^-4)*(X8^2))-((3.1241611608*10^-2)*(X8))+(3.3006694533)) -> 34.737328 | V8: =$G$10*(((5.9376621671*10^-19)*(X8^6))-((7.1020711589*10^-15)*(X8^5))+((3.3460896805*10^-11)*(X8^4))-((7.8909601634*10^-8)*(X8^3))+((9.8599769212*10^-5)*(X8^2))-((2.8172899156*10^-2)*(X8))+(3.05378908)) -> 154.94414 | W8: =$G$9*(((6.4958291549*10^-19)*(X8^6))-((7.8224528491*10^-15)*(X8^5))+((3.7120417697*10^-11)*(X8^4))-((8.798317617*10^-8)*(X8^3))+((1.0982327235*10^-4)*(X8^2))-((3.2606444641*10^-2)*(X8))+(3.5786489003)) -> 0 | X8: 400
C9: Oxygen | D9: =0*F3 -> 0 | F9: O2 | G9: =((2*G11)-(2*G7)-G8)/2 -> 0 | H9: n3 | K9: LHV (MJ/kg) | M9: =M7/C15 -> 44.341639 | S9: =T9+U9+V9+W9 -> 301.95655 | T9: =$G$7*(((8.5770134353*10^-19)*(X9^6))-((1.0374875556*10^-14)*(X9^5))+((4.9689475953*10^-11)*(X9^4))-((1.2019118054*10^-7)*(X9^3))+((1.5650954893*10^-4)*(X9^2))-((4.8239362033*10^-2)*(X9))+5.2084519626) -> 48.758056 | U9: =$G$8*(((6.6506859177*10^-19)*(X9^6))-((7.8984343104*10^-15)*(X9^5))+((3.6879849877*10^-11)*(X9^4))-((8.6386228559*10^-8)*(X9^3))+((1.1074017861*10^-4)*(X9^2))-((3.1241611608*10^-2)*(X9))+(3.3006694533)) -> 46.502675 | V9: =$G$10*(((5.9376621671*10^-19)*(X9^6))-((7.1020711589*10^-15)*(X9^5))+((3.3460896805*10^-11)*(X9^4))-((7.8909601634*10^-8)*(X9^3))+((9.8599769212*10^-5)*(X9^2))-((2.8172899156*10^-2)*(X9))+(3.05378908)) -> 206.69582 | W9: =$G$9*(((6.4958291549*10^-19)*(X9^6))-((7.8224528491*10^-15)*(X9^5))+((3.7120417697*10^-11)*(X9^4))-((8.798317617*10^-8)*(X9^3))+((1.0982327235*10^-4)*(X9^2))-((3.2606444641*10^-2)*(X9))+(3.5786489003)) -> 0 | X9: 450
F10: N2 | G10: =3.76*G11 -> 47 | H10: n4 | P10: Total Exhuast kmol | S10: =T10+U10+V10+W10 -> 388.32759 | T10: =$G$7*(((8.5770134353*10^-19)*(X10^6))-((1.0374875556*10^-14)*(X10^5))+((4.9689475953*10^-11)*(X10^4))-((1.2019118054*10^-7)*(X10^3))+((1.5650954893*10^-4)*(X10^2))-((4.8239362033*10^-2)*(X10))+5.2084519626) -> 63.896317 | U10: =$G$8*(((6.6506859177*10^-19)*(X10^6))-((7.8984343104*10^-15)*(X10^5))+((3.6879849877*10^-11)*(X10^4))-((8.6386228559*10^-8)*(X10^3))+((1.1074017861*10^-4)*(X10^2))-((3.1241611608*10^-2)*(X10))+(3.3006694533)) -> 59.716674 | V10: =$G$10*(((5.9376621671*10^-19)*(X10^6))-((7.1020711589*10^-15)*(X10^5))+((3.3460896805*10^-11)*(X10^4))-((7.8909601634*10^-8)*(X10^3))+((9.8599769212*10^-5)*(X10^2))-((2.8172899156*10^-2)*(X10))+(3.05378908)) -> 264.7146 | W10: =$G$9*(((6.4958291549*10^-19)*(X10^6))-((7.8224528491*10^-15)*(X10^5))+((3.7120417697*10^-11)*(X10^4))-((8.798317617*10^-8)*(X10^3))+((1.0982327235*10^-4)*(X10^2))-((3.2606444641*10^-2)*(X10))+(3.5786489003)) -> 0 | X10: 500
F11: x | G11: =((2*(G7/F3)+(G8/F3)))/2 -> 12.5 | S11: =T11+U11+V11+W11 -> 482.67802 | T11: =$G$7*(((8.5770134353*10^-19)*(X11^6))-((1.0374875556*10^-14)*(X11^5))+((4.9689475953*10^-11)*(X11^4))-((1.2019118054*10^-7)*(X11^3))+((1.5650954893*10^-4)*(X11^2))-((4.8239362033*10^-2)*(X11))+5.2084519626) -> 80.580974 | U11: =$G$8*(((6.6506859177*10^-19)*(X11^6))-((7.8984343104*10^-15)*(X11^5))+((3.6879849877*10^-11)*(X11^4))-((8.6386228559*10^-8)*(X11^3))+((1.1074017861*10^-4)*(X11^2))-((3.1241611608*10^-2)*(X11))+(3.3006694533)) -> 74.158279 | V11: =$G$10*(((5.9376621671*10^-19)*(X11^6))-((7.1020711589*10^-15)*(X11^5))+((3.3460896805*10^-11)*(X11^4))-((7.8909601634*10^-8)*(X11^3))+((9.8599769212*10^-5)*(X11^2))-((2.8172899156*10^-2)*(X11))+(3.05378908)) -> 327.93877 | W11: =$G$9*(((6.4958291549*10^-19)*(X11^6))-((7.8224528491*10^-15)*(X11^5))+((3.7120417697*10^-11)*(X11^4))-((8.798317617*10^-8)*(X11^3))+((1.0982327235*10^-4)*(X11^2))-((3.2606444641*10^-2)*(X11))+(3.5786489003)) -> 0 | X11: 550
P12: =P8*(G7+G8+G9+G10) -> 6.9481141e-06 | S12: =T12+U12+V12+W12 -> 583.62607 | T12: =$G$7*(((8.5770134353*10^-19)*(X12^6))-((1.0374875556*10^-14)*(X12^5))+((4.9689475953*10^-11)*(X12^4))-((1.2019118054*10^-7)*(X12^3))+((1.5650954893*10^-4)*(X12^2))-((4.8239362033*10^-2)*(X12))+5.2084519626) -> 98.56 | U12: =$G$8*(((6.6506859177*10^-19)*(X12^6))-((7.8984343104*10^-15)*(X12^5))+((3.6879849877*10^-11)*(X12^4))-((8.6386228559*10^-8)*(X12^3))+((1.1074017861*10^-4)*(X12^2))-((3.1241611608*10^-2)*(X12))+(3.3006694533)) -> 89.632954 | V12: =$G$10*(((5.9376621671*10^-19)*(X12^6))-((7.1020711589*10^-15)*(X12^5))+((3.3460896805*10^-11)*(X12^4))-((7.8909601634*10^-8)*(X12^3))+((9.8599769212*10^-5)*(X12^2))-((2.8172899156*10^-2)*(X12))+(3.05378908)) -> 395.43311 | W12: =$G$9*(((6.4958291549*10^-19)*(X12^6))-((7.8224528491*10^-15)*(X12^5))+((3.7120417697*10^-11)*(X12^4))-((8.798317617*10^-8)*(X12^3))+((1.0982327235*10^-4)*(X12^2))-((3.2606444641*10^-2)*(X12))+(3.5786489003)) -> 0 | X12: 600
S13: =T13+U13+V13+W13 -> 689.96182 | T13: =$G$7*(((8.5770134353*10^-19)*(X13^6))-((1.0374875556*10^-14)*(X13^5))+((4.9689475953*10^-11)*(X13^4))-((1.2019118054*10^-7)*(X13^3))+((1.5650954893*10^-4)*(X13^2))-((4.8239362033*10^-2)*(X13))+5.2084519626) -> 117.61144 | U13: =$G$8*(((6.6506859177*10^-19)*(X13^6))-((7.8984343104*10^-15)*(X13^5))+((3.6879849877*10^-11)*(X13^4))-((8.6386228559*10^-8)*(X13^3))+((1.1074017861*10^-4)*(X13^2))-((3.1241611608*10^-2)*(X13))+(3.3006694533)) -> 105.97071 | V13: =$G$10*(((5.9376621671*10^-19)*(X13^6))-((7.1020711589*10^-15)*(X13^5))+((3.3460896805*10^-11)*(X13^4))-((7.8909601634*10^-8)*(X13^3))+((9.8599769212*10^-5)*(X13^2))-((2.8172899156*10^-2)*(X13))+(3.05378908)) -> 466.37966 | W13: =$G$9*(((6.4958291549*10^-19)*(X13^6))-((7.8224528491*10^-15)*(X13^5))+((3.7120417697*10^-11)*(X13^4))-((8.798317617*10^-8)*(X13^3))+((1.0982327235*10^-4)*(X13^2))-((3.2606444641*10^-2)*(X13))+(3.5786489003)) -> 0 | X13: 650
C14: Fuel Mass (Kg/kmol) | P14: [N2] | S14: =T14+U14+V14+W14 -> 800.63421 | T14: =$G$7*(((8.5770134353*10^-19)*(X14^6))-((1.0374875556*10^-14)*(X14^5))+((4.9689475953*10^-11)*(X14^4))-((1.2019118054*10^-7)*(X14^3))+((1.5650954893*10^-4)*(X14^2))-((4.8239362033*10^-2)*(X14))+5.2084519626) -> 137.54119 | U14: =$G$8*(((6.6506859177*10^-19)*(X14^6))-((7.8984343104*10^-15)*(X14^5))+((3.6879849877*10^-11)*(X14^4))-((8.6386228559*10^-8)*(X14^3))+((1.1074017861*10^-4)*(X14^2))-((3.1241611608*10^-2)*(X14))+(3.3006694533)) -> 123.02423 | V14: =$G$10*(((5.9376621671*10^-19)*(X14^6))-((7.1020711589*10^-15)*(X14^5))+((3.3460896805*10^-11)*(X14^4))-((7.8909601634*10^-8)*(X14^3))+((9.8599769212*10^-5)*(X14^2))-((2.8172899156*10^-2)*(X14))+(3.05378908)) -> 540.0688 | W14: =$G$9*(((6.4958291549*10^-19)*(X14^6))-((7.8224528491*10^-15)*(X14^5))+((3.7120417697*10^-11)*(X14^4))-((8.798317617*10^-8)*(X14^3))+((1.0982327235*10^-4)*(X14^2))-((3.2606444641*10^-2)*(X14))+(3.5786489003)) -> 0 | X14: 700
C15: =(D7*Data!K4)+(D8*Data!K5) -> 114.22672 | G15: Pressure (Bar) | H15: Flame Temp | I15: Nox/° | J15: Total/Cycle | K15: PPM | S15: =T15+U15+V15+W15 -> 914.7385 | T15: =$G$7*(((8.5770134353*10^-19)*(X15^6))-((1.0374875556*10^-14)*(X15^5))+((4.9689475953*10^-11)*(X15^4))-((1.2019118054*10^-7)*(X15^3))+((1.5650954893*10^-4)*(X15^2))-((4.8239362033*10^-2)*(X15))+5.2084519626) -> 158.18083 | U15: =$G$8*(((6.6506859177*10^-19)*(X15^6))-((7.8984343104*10^-15)*(X15^5))+((3.6879849877*10^-11)*(X15^4))-((8.6386228559*10^-8)*(X15^3))+((1.1074017861*10^-4)*(X15^2))-((3.1241611608*10^-2)*(X15))+(3.3006694533)) -> 140.66702 | V15: =$G$10*(((5.9376621671*10^-19)*(X15^6))-((7.1020711589*10^-15)*(X15^5))+((3.3460896805*10^-11)*(X15^4))-((7.8909601634*10^-8)*(X15^3))+((9.8599769212*10^-5)*(X15^2))-((2.8172899156*10^-2)*(X15))+(3.05378908)) -> 615.89065 | W15: =$G$9*(((6.4958291549*10^-19)*(X15^6))-((7.8224528491*10^-15)*(X15^5))+((3.7120417697*10^-11)*(X15^4))-((8.798317617*10^-8)*(X15^3))+((1.0982327235*10^-4)*(X15^2))-((3.2606444641*10^-2)*(X15))+(3.5786489003)) -> 0 | X15: 750
G16: 10 | H16: =AB4+(AB3-AB4)*((M7-AA4)/(AA3-AA4)) -> 2390.904 | I16: =(((4.17*10^13)*($P$16)*(($P$20)^0.5)*EXP(-67837/H16))/(Data!$D$8*6))*(Data!$D$10*10^-6) -> 0 | J16: =SUM(I16:I31) -> 0 | K16: =(J16/P12)*10^6 -> 0 | P16: =(G10*P8)/(Data!D10*10^-6) -> 0.12756303 | S16: =T16+U16+V16+W16 -> 1031.5041 | T16: =$G$7*(((8.5770134353*10^-19)*(X16^6))-((1.0374875556*10^-14)*(X16^5))+((4.9689475953*10^-11)*(X16^4))-((1.2019118054*10^-7)*(X16^3))+((1.5650954893*10^-4)*(X16^2))-((4.8239362033*10^-2)*(X16))+5.2084519626) -> 179.3856 | U16: =$G$8*(((6.6506859177*10^-19)*(X16^6))-((7.8984343104*10^-15)*(X16^5))+((3.6879849877*10^-11)*(X16^4))-((8.6386228559*10^-8)*(X16^3))+((1.1074017861*10^-4)*(X16^2))-((3.1241611608*10^-2)*(X16))+(3.3006694533)) -> 158.79165 | V16: =$G$10*(((5.9376621671*10^-19)*(X16^6))-((7.1020711589*10^-15)*(X16^5))+((3.3460896805*10^-11)*(X16^4))-((7.8909601634*10^-8)*(X16^3))+((9.8599769212*10^-5)*(X16^2))-((2.8172899156*10^-2)*(X16))+(3.05378908)) -> 693.32684 | W16: =$G$9*(((6.4958291549*10^-19)*(X16^6))-((7.8224528491*10^-15)*(X16^5))+((3.7120417697*10^-11)*(X16^4))-((8.798317617*10^-8)*(X16^3))+((1.0982327235*10^-4)*(X16^2))-((3.2606444641*10^-2)*(X16))+(3.5786489003)) -> 0 | X16: 800
C17: Air Mass (Kg/kmol) | G17: 12 | H17: =H16*(G17/G16)^((Data!$D$9-1)/(Data!$D$9)) -> 2455.0882 | I17: =(((4.17*10^13)*($P$16)*(($P$20)^0.5)*EXP(-67837/H17))/(Data!$D$8*6))*(Data!$D$10*10^-6) -> 0 | S17: =T17+U17+V17+W17 -> 1150.283 | T17: =$G$7*(((8.5770134353*10^-19)*(X17^6))-((1.0374875556*10^-14)*(X17^5))+((4.9689475953*10^-11)*(X17^4))-((1.2019118054*10^-7)*(X17^3))+((1.5650954893*10^-4)*(X17^2))-((4.8239362033*10^-2)*(X17))+5.2084519626) -> 201.03237 | U17: =$G$8*(((6.6506859177*10^-19)*(X17^6))-((7.8984343104*10^-15)*(X17^5))+((3.6879849877*10^-11)*(X17^4))-((8.6386228559*10^-8)*(X17^3))+((1.1074017861*10^-4)*(X17^2))-((3.1241611608*10^-2)*(X17))+(3.3006694533)) -> 177.30811 | V17: =$G$10*(((5.9376621671*10^-19)*(X17^6))-((7.1020711589*10^-15)*(X17^5))+((3.3460896805*10^-11)*(X17^4))-((7.8909601634*10^-8)*(X17^3))+((9.8599769212*10^-5)*(X17^2))-((2.8172899156*10^-2)*(X17))+(3.05378908)) -> 771.94248 | W17: =$G$9*(((6.4958291549*10^-19)*(X17^6))-((7.8224528491*10^-15)*(X17^5))+((3.7120417697*10^-11)*(X17^4))-((8.798317617*10^-8)*(X17^3))+((1.0982327235*10^-4)*(X17^2))-((3.2606444641*10^-2)*(X17))+(3.5786489003)) -> 0 | X17: 850
C18: =G11*((2*Data!K6)+3.76*(2*Data!K7)) -> 1716.6148 | G18: 14 | H18: =H17*(G18/G17)^((Data!$D$9-1)/(Data!$D$9)) -> 2510.6976 | I18: =(((4.17*10^13)*($P$16)*(($P$20)^0.5)*EXP(-67837/H18))/(Data!$D$8*6))*(Data!$D$10*10^-6) -> 0 | P18: [O2] | S18: =T18+U18+V18+W18 -> 1270.5384 | T18: =$G$7*(((8.5770134353*10^-19)*(X18^6))-((1.0374875556*10^-14)*(X18^5))+((4.9689475953*10^-11)*(X18^4))-((1.2019118054*10^-7)*(X18^3))+((1.5650954893*10^-4)*(X18^2))-((4.8239362033*10^-2)*(X18))+5.2084519626) -> 223.0177 | U18: =$G$8*(((6.6506859177*10^-19)*(X18^6))-((7.8984343104*10^-15)*(X18^5))+((3.6879849877*10^-11)*(X18^4))-((8.6386228559*10^-8)*(X18^3))+((1.1074017861*10^-4)*(X18^2))-((3.1241611608*10^-2)*(X18))+(3.3006694533)) -> 196.14214 | V18: =$G$10*(((5.9376621671*10^-19)*(X18^6))-((7.1020711589*10^-15)*(X18^5))+((3.3460896805*10^-11)*(X18^4))-((7.8909601634*10^-8)*(X18^3))+((9.8599769212*10^-5)*(X18^2))-((2.8172899156*10^-2)*(X18))+(3.05378908)) -> 851.37856 | W18: =$G$9*(((6.4958291549*10^-19)*(X18^6))-((7.8224528491*10^-15)*(X18^5))+((3.7120417697*10^-11)*(X18^4))-((8.798317617*10^-8)*(X18^3))+((1.0982327235*10^-4)*(X18^2))-((3.2606444641*10^-2)*(X18))+(3.5786489003)) -> 0 | X18: 900
G19: 16 | H19: =H18*(G19/G18)^((Data!$D$9-1)/(Data!$D$9)) -> 2559.8858 | I19: =(((4.17*10^13)*($P$16)*(($P$20)^0.5)*EXP(-67837/H19))/(Data!$D$8*6))*(Data!$D$10*10^-6) -> 0 | S19: =T19+U19+V19+W19 -> 1391.8343 | T19: =$G$7*(((8.5770134353*10^-19)*(X19^6))-((1.0374875556*10^-14)*(X19^5))+((4.9689475953*10^-11)*(X19^4))-((1.2019118054*10^-7)*(X19^3))+((1.5650954893*10^-4)*(X19^2))-((4.8239362033*10^-2)*(X19))+5.2084519626) -> 245.25608 | U19: =$G$8*(((6.6506859177*10^-19)*(X19^6))-((7.8984343104*10^-15)*(X19^5))+((3.6879849877*10^-11)*(X19^4))-((8.6386228559*10^-8)*(X19^3))+((1.1074017861*10^-4)*(X19^2))-((3.1241611608*10^-2)*(X19))+(3.3006694533)) -> 215.23368 | V19: =$G$10*(((5.9376621671*10^-19)*(X19^6))-((7.1020711589*10^-15)*(X19^5))+((3.3460896805*10^-11)*(X19^4))-((7.8909601634*10^-8)*(X19^3))+((9.8599769212*10^-5)*(X19^2))-((2.8172899156*10^-2)*(X19))+(3.05378908)) -> 931.34457 | W19: =$G$9*(((6.4958291549*10^-19)*(X19^6))-((7.8224528491*10^-15)*(X19^5))+((3.7120417697*10^-11)*(X19^4))-((8.798317617*10^-8)*(X19^3))+((1.0982327235*10^-4)*(X19^2))-((3.2606444641*10^-2)*(X19))+(3.5786489003)) -> 0 | X19: 950
C20: AFR | G20: 18 | H20: =H19*(G20/G19)^((Data!$D$9-1)/(Data!$D$9)) -> 2604.0721 | I20: =(((4.17*10^13)*($P$16)*(($P$20)^0.5)*EXP(-67837/H20))/(Data!$D$8*6))*(Data!$D$10*10^-6) -> 0 | P20: =(G9*P8)/(Data!D10*10^-6) -> 0 | S20: =T20+U20+V20+W20 -> 1513.825 | T20: =$G$7*(((8.5770134353*10^-19)*(X20^6))-((1.0374875556*10^-14)*(X20^5))+((4.9689475953*10^-11)*(X20^4))-((1.2019118054*10^-7)*(X20^3))+((1.5650954893*10^-4)*(X20^2))-((4.8239362033*10^-2)*(X20))+5.2084519626) -> 267.67808 | U20: =$G$8*(((6.6506859177*10^-19)*(X20^6))-((7.8984343104*10^-15)*(X20^5))+((3.6879849877*10^-11)*(X20^4))-((8.6386228559*10^-8)*(X20^3))+((1.1074017861*10^-4)*(X20^2))-((3.1241611608*10^-2)*(X20))+(3.3006694533)) -> 234.53543 | V20: =$G$10*(((5.9376621671*10^-19)*(X20^6))-((7.1020711589*10^-15)*(X20^5))+((3.3460896805*10^-11)*(X20^4))-((7.8909601634*10^-8)*(X20^3))+((9.8599769212*10^-5)*(X20^2))-((2.8172899156*10^-2)*(X20))+(3.05378908)) -> 1011.6115 | W20: =$G$9*(((6.4958291549*10^-19)*(X20^6))-((7.8224528491*10^-15)*(X20^5))+((3.7120417697*10^-11)*(X20^4))-((8.798317617*10^-8)*(X20^3))+((1.0982327235*10^-4)*(X20^2))-((3.2606444641*10^-2)*(X20))+(3.5786489003)) -> 0 | X20: 1000
G21: 20 | H21: =H20*(G21/G20)^((Data!$D$9-1)/(Data!$D$9)) -> 2644.244 | I21: =(((4.17*10^13)*($P$16)*(($P$20)^0.5)*EXP(-67837/H21))/(Data!$D$8*6))*(Data!$D$10*10^-6) -> 0 | S21: =T21+U21+V21+W21 -> 1636.2453 | T21: =$G$7*(((8.5770134353*10^-19)*(X21^6))-((1.0374875556*10^-14)*(X21^5))+((4.9689475953*10^-11)*(X21^4))-((1.2019118054*10^-7)*(X21^3))+((1.5650954893*10^-4)*(X21^2))-((4.8239362033*10^-2)*(X21))+5.2084519626) -> 290.22874 | U21: =$G$8*(((6.6506859177*10^-19)*(X21^6))-((7.8984343104*10^-15)*(X21^5))+((3.6879849877*10^-11)*(X21^4))-((8.6386228559*10^-8)*(X21^3))+((1.1074017861*10^-4)*(X21^2))-((3.1241611608*10^-2)*(X21))+(3.3006694533)) -> 254.01135 | V21: =$G$10*(((5.9376621671*10^-19)*(X21^6))-((7.1020711589*10^-15)*(X21^5))+((3.3460896805*10^-11)*(X21^4))-((7.8909601634*10^-8)*(X21^3))+((9.8599769212*10^-5)*(X21^2))-((2.8172899156*10^-2)*(X21))+(3.05378908)) -> 1092.0052 | W21: =$G$9*(((6.4958291549*10^-19)*(X21^6))-((7.8224528491*10^-15)*(X21^5))+((3.7120417697*10^-11)*(X21^4))-((8.798317617*10^-8)*(X21^3))+((1.0982327235*10^-4)*(X21^2))-((3.2606444641*10^-2)*(X21))+(3.5786489003)) -> 0 | X21: 1050
C22: =C18/C15 -> 15.028137 | G22: 22 | H22: =H21*(G22/G21)^((Data!$D$9-1)/(Data!$D$9)) -> 2681.1175 | I22: =(((4.17*10^13)*($P$16)*(($P$20)^0.5)*EXP(-67837/H22))/(Data!$D$8*6))*(Data!$D$10*10^-6) -> 0 | S22: =T22+U22+V22+W22 -> 1758.9011 | T22: =$G$7*(((8.5770134353*10^-19)*(X22^6))-((1.0374875556*10^-14)*(X22^5))+((4.9689475953*10^-11)*(X22^4))-((1.2019118054*10^-7)*(X22^3))+((1.5650954893*10^-4)*(X22^2))-((4.8239362033*10^-2)*(X22))+5.2084519626) -> 312.8659 | U22: =$G$8*(((6.6506859177*10^-19)*(X22^6))-((7.8984343104*10^-15)*(X22^5))+((3.6879849877*10^-11)*(X22^4))-((8.6386228559*10^-8)*(X22^3))+((1.1074017861*10^-4)*(X22^2))-((3.1241611608*10^-2)*(X22))+(3.3006694533)) -> 273.6354 | V22: =$G$10*(((5.9376621671*10^-19)*(X22^6))-((7.1020711589*10^-15)*(X22^5))+((3.3460896805*10^-11)*(X22^4))-((7.8909601634*10^-8)*(X22^3))+((9.8599769212*10^-5)*(X22^2))-((2.8172899156*10^-2)*(X22))+(3.05378908)) -> 1172.3998 | W22: =$G$9*(((6.4958291549*10^-19)*(X22^6))-((7.8224528491*10^-15)*(X22^5))+((3.7120417697*10^-11)*(X22^4))-((8.798317617*10^-8)*(X22^3))+((1.0982327235*10^-4)*(X22^2))-((3.2606444641*10^-2)*(X22))+(3.5786489003)) -> 0 | X22: 1100
G23: 24 | H23: =H22*(G23/G22)^((Data!$D$9-1)/(Data!$D$9)) -> 2715.2292 | I23: =(((4.17*10^13)*($P$16)*(($P$20)^0.5)*EXP(-67837/H23))/(Data!$D$8*6))*(Data!$D$10*10^-6) -> 0 | S23: =T23+U23+V23+W23 -> 1881.6607 | T23: =$G$7*(((8.5770134353*10^-19)*(X23^6))-((1.0374875556*10^-14)*(X23^5))+((4.9689475953*10^-11)*(X23^4))-((1.2019118054*10^-7)*(X23^3))+((1.5650954893*10^-4)*(X23^2))-((4.8239362033*10^-2)*(X23))+5.2084519626) -> 335.55873 | U23: =$G$8*(((6.6506859177*10^-19)*(X23^6))-((7.8984343104*10^-15)*(X23^5))+((3.6879849877*10^-11)*(X23^4))-((8.6386228559*10^-8)*(X23^3))+((1.1074017861*10^-4)*(X23^2))-((3.1241611608*10^-2)*(X23))+(3.3006694533)) -> 293.39016 | V23: =$G$10*(((5.9376621671*10^-19)*(X23^6))-((7.1020711589*10^-15)*(X23^5))+((3.3460896805*10^-11)*(X23^4))-((7.8909601634*10^-8)*(X23^3))+((9.8599769212*10^-5)*(X23^2))-((2.8172899156*10^-2)*(X23))+(3.05378908)) -> 1252.7118 | W23: =$G$9*(((6.4958291549*10^-19)*(X23^6))-((7.8224528491*10^-15)*(X23^5))+((3.7120417697*10^-11)*(X23^4))-((8.798317617*10^-8)*(X23^3))+((1.0982327235*10^-4)*(X23^2))-((3.2606444641*10^-2)*(X23))+(3.5786489003)) -> 0 | X23: 1150
G24: 26 | H24: =H23*(G24/G23)^((Data!$D$9-1)/(Data!$D$9)) -> 2746.9921 | I24: =(((4.17*10^13)*($P$16)*(($P$20)^0.5)*EXP(-67837/H24))/(Data!$D$8*6))*(Data!$D$10*10^-6) -> 0 | S24: =T24+U24+V24+W24 -> 2004.4462 | T24: =$G$7*(((8.5770134353*10^-19)*(X24^6))-((1.0374875556*10^-14)*(X24^5))+((4.9689475953*10^-11)*(X24^4))-((1.2019118054*10^-7)*(X24^3))+((1.5650954893*10^-4)*(X24^2))-((4.8239362033*10^-2)*(X24))+5.2084519626) -> 358.28622 | U24: =$G$8*(((6.6506859177*10^-19)*(X24^6))-((7.8984343104*10^-15)*(X24^5))+((3.6879849877*10^-11)*(X24^4))-((8.6386228559*10^-8)*(X24^3))+((1.1074017861*10^-4)*(X24^2))-((3.1241611608*10^-2)*(X24))+(3.3006694533)) -> 313.26569 | V24: =$G$10*(((5.9376621671*10^-19)*(X24^6))-((7.1020711589*10^-15)*(X24^5))+((3.3460896805*10^-11)*(X24^4))-((7.8909601634*10^-8)*(X24^3))+((9.8599769212*10^-5)*(X24^2))-((2.8172899156*10^-2)*(X24))+(3.05378908)) -> 1332.8943 | W24: =$G$9*(((6.4958291549*10^-19)*(X24^6))-((7.8224528491*10^-15)*(X24^5))+((3.7120417697*10^-11)*(X24^4))-((8.798317617*10^-8)*(X24^3))+((1.0982327235*10^-4)*(X24^2))-((3.2606444641*10^-2)*(X24))+(3.5786489003)) -> 0 | X24: 1200
G25: 28 | H25: =H24*(G25/G24)^((Data!$D$9-1)/(Data!$D$9)) -> 2776.731 | I25: =(((4.17*10^13)*($P$16)*(($P$20)^0.5)*EXP(-67837/H25))/(Data!$D$8*6))*(Data!$D$10*10^-6) -> 0 | S25: =T25+U25+V25+W25 -> 2127.2255 | T25: =$G$7*(((8.5770134353*10^-19)*(X25^6))-((1.0374875556*10^-14)*(X25^5))+((4.9689475953*10^-11)*(X25^4))-((1.2019118054*10^-7)*(X25^3))+((1.5650954893*10^-4)*(X25^2))-((4.8239362033*10^-2)*(X25))+5.2084519626) -> 381.03585 | U25: =$G$8*(((6.6506859177*10^-19)*(X25^6))-((7.8984343104*10^-15)*(X25^5))+((3.6879849877*10^-11)*(X25^4))-((8.6386228559*10^-8)*(X25^3))+((1.1074017861*10^-4)*(X25^2))-((3.1241611608*10^-2)*(X25))+(3.3006694533)) -> 333.25834 | V25: =$G$10*(((5.9376621671*10^-19)*(X25^6))-((7.1020711589*10^-15)*(X25^5))+((3.3460896805*10^-11)*(X25^4))-((7.8909601634*10^-8)*(X25^3))+((9.8599769212*10^-5)*(X25^2))-((2.8172899156*10^-2)*(X25))+(3.05378908)) -> 1412.9313 | W25: =$G$9*(((6.4958291549*10^-19)*(X25^6))-((7.8224528491*10^-15)*(X25^5))+((3.7120417697*10^-11)*(X25^4))-((8.798317617*10^-8)*(X25^3))+((1.0982327235*10^-4)*(X25^2))-((3.2606444641*10^-2)*(X25))+(3.5786489003)) -> 0 | X25: 1250
G26: 30 | H26: =H25*(G26/G25)^((Data!$D$9-1)/(Data!$D$9)) -> 2804.7066 | I26: =(((4.17*10^13)*($P$16)*(($P$20)^0.5)*EXP(-67837/H26))/(Data!$D$8*6))*(Data!$D$10*10^-6) -> 0 | S26: =T26+U26+V26+W26 -> 2250.005 | T26: =$G$7*(((8.5770134353*10^-19)*(X26^6))-((1.0374875556*10^-14)*(X26^5))+((4.9689475953*10^-11)*(X26^4))-((1.2019118054*10^-7)*(X26^3))+((1.5650954893*10^-4)*(X26^2))-((4.8239362033*10^-2)*(X26))+5.2084519626) -> 403.80225 | U26: =$G$8*(((6.6506859177*10^-19)*(X26^6))-((7.8984343104*10^-15)*(X26^5))+((3.6879849877*10^-11)*(X26^4))-((8.6386228559*10^-8)*(X26^3))+((1.1074017861*10^-4)*(X26^2))-((3.1241611608*10^-2)*(X26))+(3.3006694533)) -> 353.36967 | V26: =$G$10*(((5.9376621671*10^-19)*(X26^6))-((7.1020711589*10^-15)*(X26^5))+((3.3460896805*10^-11)*(X26^4))-((7.8909601634*10^-8)*(X26^3))+((9.8599769212*10^-5)*(X26^2))-((2.8172899156*10^-2)*(X26))+(3.05378908)) -> 1492.8331 | W26: =$G$9*(((6.4958291549*10^-19)*(X26^6))-((7.8224528491*10^-15)*(X26^5))+((3.7120417697*10^-11)*(X26^4))-((8.798317617*10^-8)*(X26^3))+((1.0982327235*10^-4)*(X26^2))-((3.2606444641*10^-2)*(X26))+(3.5786489003)) -> 0 | X26: 1300
G27: 32 | H27: =H26*(G27/G26)^((Data!$D$9-1)/(Data!$D$9)) -> 2831.1312 | I27: =(((4.17*10^13)*($P$16)*(($P$20)^0.5)*EXP(-67837/H27))/(Data!$D$8*6))*(Data!$D$10*10^-6) -> 0 | S27: =T27+U27+V27+W27 -> 2372.8222 | T27: =$G$7*(((8.5770134353*10^-19)*(X27^6))-((1.0374875556*10^-14)*(X27^5))+((4.9689475953*10^-11)*(X27^4))-((1.2019118054*10^-7)*(X27^3))+((1.5650954893*10^-4)*(X27^2))-((4.8239362033*10^-2)*(X27))+5.2084519626) -> 426.58604 | U27: =$G$8*(((6.6506859177*10^-19)*(X27^6))-((7.8984343104*10^-15)*(X27^5))+((3.6879849877*10^-11)*(X27^4))-((8.6386228559*10^-8)*(X27^3))+((1.1074017861*10^-4)*(X27^2))-((3.1241611608*10^-2)*(X27))+(3.3006694533)) -> 373.60545 | V27: =$G$10*(((5.9376621671*10^-19)*(X27^6))-((7.1020711589*10^-15)*(X27^5))+((3.3460896805*10^-11)*(X27^4))-((7.8909601634*10^-8)*(X27^3))+((9.8599769212*10^-5)*(X27^2))-((2.8172899156*10^-2)*(X27))+(3.05378908)) -> 1572.6307 | W27: =$G$9*(((6.4958291549*10^-19)*(X27^6))-((7.8224528491*10^-15)*(X27^5))+((3.7120417697*10^-11)*(X27^4))-((8.798317617*10^-8)*(X27^3))+((1.0982327235*10^-4)*(X27^2))-((3.2606444641*10^-2)*(X27))+(3.5786489003)) -> 0 | X27: 1350
G28: 34 | H28: =H27*(G28/G27)^((Data!$D$9-1)/(Data!$D$9)) -> 2856.1799 | I28: =(((4.17*10^13)*($P$16)*(($P$20)^0.5)*EXP(-67837/H28))/(Data!$D$8*6))*(Data!$D$10*10^-6) -> 0 | S28: =T28+U28+V28+W28 -> 2495.7394 | T28: =$G$7*(((8.5770134353*10^-19)*(X28^6))-((1.0374875556*10^-14)*(X28^5))+((4.9689475953*10^-11)*(X28^4))-((1.2019118054*10^-7)*(X28^3))+((1.5650954893*10^-4)*(X28^2))-((4.8239362033*10^-2)*(X28))+5.2084519626) -> 449.3926 | U28: =$G$8*(((6.6506859177*10^-19)*(X28^6))-((7.8984343104*10^-15)*(X28^5))+((3.6879849877*10^-11)*(X28^4))-((8.6386228559*10^-8)*(X28^3))+((1.1074017861*10^-4)*(X28^2))-((3.1241611608*10^-2)*(X28))+(3.3006694533)) -> 393.97469 | V28: =$G$10*(((5.9376621671*10^-19)*(X28^6))-((7.1020711589*10^-15)*(X28^5))+((3.3460896805*10^-11)*(X28^4))-((7.8909601634*10^-8)*(X28^3))+((9.8599769212*10^-5)*(X28^2))-((2.8172899156*10^-2)*(X28))+(3.05378908)) -> 1652.3721 | W28: =$G$9*(((6.4958291549*10^-19)*(X28^6))-((7.8224528491*10^-15)*(X28^5))+((3.7120417697*10^-11)*(X28^4))-((8.798317617*10^-8)*(X28^3))+((1.0982327235*10^-4)*(X28^2))-((3.2606444641*10^-2)*(X28))+(3.5786489003)) -> 0 | X28: 1400
G29: 36 | H29: =H28*(G29/G28)^((Data!$D$9-1)/(Data!$D$9)) -> 2879.9995 | I29: =(((4.17*10^13)*($P$16)*(($P$20)^0.5)*EXP(-67837/H29))/(Data!$D$8*6))*(Data!$D$10*10^-6) -> 0 | S29: =T29+U29+V29+W29 -> 2618.8373 | T29: =$G$7*(((8.5770134353*10^-19)*(X29^6))-((1.0374875556*10^-14)*(X29^5))+((4.9689475953*10^-11)*(X29^4))-((1.2019118054*10^-7)*(X29^3))+((1.5650954893*10^-4)*(X29^2))-((4.8239362033*10^-2)*(X29))+5.2084519626) -> 472.23109 | U29: =$G$8*(((6.6506859177*10^-19)*(X29^6))-((7.8984343104*10^-15)*(X29^5))+((3.6879849877*10^-11)*(X29^4))-((8.6386228559*10^-8)*(X29^3))+((1.1074017861*10^-4)*(X29^2))-((3.1241611608*10^-2)*(X29))+(3.3006694533)) -> 414.48878 | V29: =$G$10*(((5.9376621671*10^-19)*(X29^6))-((7.1020711589*10^-15)*(X29^5))+((3.3460896805*10^-11)*(X29^4))-((7.8909601634*10^-8)*(X29^3))+((9.8599769212*10^-5)*(X29^2))-((2.8172899156*10^-2)*(X29))+(3.05378908)) -> 1732.1175 | W29: =$G$9*(((6.4958291549*10^-19)*(X29^6))-((7.8224528491*10^-15)*(X29^5))+((3.7120417697*10^-11)*(X29^4))-((8.798317617*10^-8)*(X29^3))+((1.0982327235*10^-4)*(X29^2))-((3.2606444641*10^-2)*(X29))+(3.5786489003)) -> 0 | X29: 1450
G30: 38 | H30: =H29*(G30/G29)^((Data!$D$9-1)/(Data!$D$9)) -> 2902.7136 | I30: =(((4.17*10^13)*($P$16)*(($P$20)^0.5)*EXP(-67837/H30))/(Data!$D$8*6))*(Data!$D$10*10^-6) -> 0 | S30: =T30+U30+V30+W30 -> 2742.2096 | T30: =$G$7*(((8.5770134353*10^-19)*(X30^6))-((1.0374875556*10^-14)*(X30^5))+((4.9689475953*10^-11)*(X30^4))-((1.2019118054*10^-7)*(X30^3))+((1.5650954893*10^-4)*(X30^2))-((4.8239362033*10^-2)*(X30))+5.2084519626) -> 495.1134 | U30: =$G$8*(((6.6506859177*10^-19)*(X30^6))-((7.8984343104*10^-15)*(X30^5))+((3.6879849877*10^-11)*(X30^4))-((8.6386228559*10^-8)*(X30^3))+((1.1074017861*10^-4)*(X30^2))-((3.1241611608*10^-2)*(X30))+(3.3006694533)) -> 435.16066 | V30: =$G$10*(((5.9376621671*10^-19)*(X30^6))-((7.1020711589*10^-15)*(X30^5))+((3.3460896805*10^-11)*(X30^4))-((7.8909601634*10^-8)*(X30^3))+((9.8599769212*10^-5)*(X30^2))-((2.8172899156*10^-2)*(X30))+(3.05378908)) -> 1811.9356 | W30: =$G$9*(((6.4958291549*10^-19)*(X30^6))-((7.8224528491*10^-15)*(X30^5))+((3.7120417697*10^-11)*(X30^4))-((8.798317617*10^-8)*(X30^3))+((1.0982327235*10^-4)*(X30^2))-((3.2606444641*10^-2)*(X30))+(3.5786489003)) -> 0 | X30: 1500
G31: 40 | H31: =H30*(G31/G30)^((Data!$D$9-1)/(Data!$D$9)) -> 2924.428 | I31: =(((4.17*10^13)*($P$16)*(($P$20)^0.5)*EXP(-67837/H31))/(Data!$D$8*6))*(Data!$D$10*10^-6) -> 0 | S31: =T31+U31+V31+W31 -> 2865.9576 | T31: =$G$7*(((8.5770134353*10^-19)*(X31^6))-((1.0374875556*10^-14)*(X31^5))+((4.9689475953*10^-11)*(X31^4))-((1.2019118054*10^-7)*(X31^3))+((1.5650954893*10^-4)*(X31^2))-((4.8239362033*10^-2)*(X31))+5.2084519626) -> 518.05326 | U31: =$G$8*(((6.6506859177*10^-19)*(X31^6))-((7.8984343104*10^-15)*(X31^5))+((3.6879849877*10^-11)*(X31^4))-((8.6386228559*10^-8)*(X31^3))+((1.1074017861*10^-4)*(X31^2))-((3.1241611608*10^-2)*(X31))+(3.3006694533)) -> 456.00406 | V31: =$G$10*(((5.9376621671*10^-19)*(X31^6))-((7.1020711589*10^-15)*(X31^5))+((3.3460896805*10^-11)*(X31^4))-((7.8909601634*10^-8)*(X31^3))+((9.8599769212*10^-5)*(X31^2))-((2.8172899156*10^-2)*(X31))+(3.05378908)) -> 1891.9002 | W31: =$G$9*(((6.4958291549*10^-19)*(X31^6))-((7.8224528491*10^-15)*(X31^5))+((3.7120417697*10^-11)*(X31^4))-((8.798317617*10^-8)*(X31^3))+((1.0982327235*10^-4)*(X31^2))-((3.2606444641*10^-2)*(X31))+(3.5786489003)) -> 0 | X31: 1550
S32: =T32+U32+V32+W32 -> 2990.1852 | T32: =$G$7*(((8.5770134353*10^-19)*(X32^6))-((1.0374875556*10^-14)*(X32^5))+((4.9689475953*10^-11)*(X32^4))-((1.2019118054*10^-7)*(X32^3))+((1.5650954893*10^-4)*(X32^2))-((4.8239362033*10^-2)*(X32))+5.2084519626) -> 541.06542 | U32: =$G$8*(((6.6506859177*10^-19)*(X32^6))-((7.8984343104*10^-15)*(X32^5))+((3.6879849877*10^-11)*(X32^4))-((8.6386228559*10^-8)*(X32^3))+((1.1074017861*10^-4)*(X32^2))-((3.1241611608*10^-2)*(X32))+(3.3006694533)) -> 477.03288 | V32: =$G$10*(((5.9376621671*10^-19)*(X32^6))-((7.1020711589*10^-15)*(X32^5))+((3.3460896805*10^-11)*(X32^4))-((7.8909601634*10^-8)*(X32^3))+((9.8599769212*10^-5)*(X32^2))-((2.8172899156*10^-2)*(X32))+(3.05378908)) -> 1972.0869 | W32: =$G$9*(((6.4958291549*10^-19)*(X32^6))-((7.8224528491*10^-15)*(X32^5))+((3.7120417697*10^-11)*(X32^4))-((8.798317617*10^-8)*(X32^3))+((1.0982327235*10^-4)*(X32^2))-((3.2606444641*10^-2)*(X32))+(3.5786489003)) -> 0 | X32: 1600
S33: =T33+U33+V33+W33 -> 3114.995 | T33: =$G$7*(((8.5770134353*10^-19)*(X33^6))-((1.0374875556*10^-14)*(X33^5))+((4.9689475953*10^-11)*(X33^4))-((1.2019118054*10^-7)*(X33^3))+((1.5650954893*10^-4)*(X33^2))-((4.8239362033*10^-2)*(X33))+5.2084519626) -> 564.16485 | U33: =$G$8*(((6.6506859177*10^-19)*(X33^6))-((7.8984343104*10^-15)*(X33^5))+((3.6879849877*10^-11)*(X33^4))-((8.6386228559*10^-8)*(X33^3))+((1.1074017861*10^-4)*(X33^2))-((3.1241611608*10^-2)*(X33))+(3.3006694533)) -> 498.2605 | V33: =$G$10*(((5.9376621671*10^-19)*(X33^6))-((7.1020711589*10^-15)*(X33^5))+((3.3460896805*10^-11)*(X33^4))-((7.8909601634*10^-8)*(X33^3))+((9.8599769212*10^-5)*(X33^2))-((2.8172899156*10^-2)*(X33))+(3.05378908)) -> 2052.5697 | W33: =$G$9*(((6.4958291549*10^-19)*(X33^6))-((7.8224528491*10^-15)*(X33^5))+((3.7120417697*10^-11)*(X33^4))-((8.798317617*10^-8)*(X33^3))+((1.0982327235*10^-4)*(X33^2))-((3.2606444641*10^-2)*(X33))+(3.5786489003)) -> 0 | X33: 1650
S34: =T34+U34+V34+W34 -> 3240.4845 | T34: =$G$7*(((8.5770134353*10^-19)*(X34^6))-((1.0374875556*10^-14)*(X34^5))+((4.9689475953*10^-11)*(X34^4))-((1.2019118054*10^-7)*(X34^3))+((1.5650954893*10^-4)*(X34^2))-((4.8239362033*10^-2)*(X34))+5.2084519626) -> 587.36611 | U34: =$G$8*(((6.6506859177*10^-19)*(X34^6))-((7.8984343104*10^-15)*(X34^5))+((3.6879849877*10^-11)*(X34^4))-((8.6386228559*10^-8)*(X34^3))+((1.1074017861*10^-4)*(X34^2))-((3.1241611608*10^-2)*(X34))+(3.3006694533)) -> 519.69929 | V34: =$G$10*(((5.9376621671*10^-19)*(X34^6))-((7.1020711589*10^-15)*(X34^5))+((3.3460896805*10^-11)*(X34^4))-((7.8909601634*10^-8)*(X34^3))+((9.8599769212*10^-5)*(X34^2))-((2.8172899156*10^-2)*(X34))+(3.05378908)) -> 2133.4191 | W34: =$G$9*(((6.4958291549*10^-19)*(X34^6))-((7.8224528491*10^-15)*(X34^5))+((3.7120417697*10^-11)*(X34^4))-((8.798317617*10^-8)*(X34^3))+((1.0982327235*10^-4)*(X34^2))-((3.2606444641*10^-2)*(X34))+(3.5786489003)) -> 0 | X34: 1700
S35: =T35+U35+V35+W35 -> 3366.7421 | T35: =$G$7*(((8.5770134353*10^-19)*(X35^6))-((1.0374875556*10^-14)*(X35^5))+((4.9689475953*10^-11)*(X35^4))-((1.2019118054*10^-7)*(X35^3))+((1.5650954893*10^-4)*(X35^2))-((4.8239362033*10^-2)*(X35))+5.2084519626) -> 610.68269 | U35: =$G$8*(((6.6506859177*10^-19)*(X35^6))-((7.8984343104*10^-15)*(X35^5))+((3.6879849877*10^-11)*(X35^4))-((8.6386228559*10^-8)*(X35^3))+((1.1074017861*10^-4)*(X35^2))-((3.1241611608*10^-2)*(X35))+(3.3006694533)) -> 541.36012 | V35: =$G$10*(((5.9376621671*10^-19)*(X35^6))-((7.1020711589*10^-15)*(X35^5))+((3.3460896805*10^-11)*(X35^4))-((7.8909601634*10^-8)*(X35^3))+((9.8599769212*10^-5)*(X35^2))-((2.8172899156*10^-2)*(X35))+(3.05378908)) -> 2214.6992 | W35: =$G$9*(((6.4958291549*10^-19)*(X35^6))-((7.8224528491*10^-15)*(X35^5))+((3.7120417697*10^-11)*(X35^4))-((8.798317617*10^-8)*(X35^3))+((1.0982327235*10^-4)*(X35^2))-((3.2606444641*10^-2)*(X35))+(3.5786489003)) -> 0 | X35: 1750
S36: =T36+U36+V36+W36 -> 3493.8446 | T36: =$G$7*(((8.5770134353*10^-19)*(X36^6))-((1.0374875556*10^-14)*(X36^5))+((4.9689475953*10^-11)*(X36^4))-((1.2019118054*10^-7)*(X36^3))+((1.5650954893*10^-4)*(X36^2))-((4.8239362033*10^-2)*(X36))+5.2084519626) -> 634.12655 | U36: =$G$8*(((6.6506859177*10^-19)*(X36^6))-((7.8984343104*10^-15)*(X36^5))+((3.6879849877*10^-11)*(X36^4))-((8.6386228559*10^-8)*(X36^3))+((1.1074017861*10^-4)*(X36^2))-((3.1241611608*10^-2)*(X36))+(3.3006694533)) -> 563.25194 | V36: =$G$10*(((5.9376621671*10^-19)*(X36^6))-((7.1020711589*10^-15)*(X36^5))+((3.3460896805*10^-11)*(X36^4))-((7.8909601634*10^-8)*(X36^3))+((9.8599769212*10^-5)*(X36^2))-((2.8172899156*10^-2)*(X36))+(3.05378908)) -> 2296.4662 | W36: =$G$9*(((6.4958291549*10^-19)*(X36^6))-((7.8224528491*10^-15)*(X36^5))+((3.7120417697*10^-11)*(X36^4))-((8.798317617*10^-8)*(X36^3))+((1.0982327235*10^-4)*(X36^2))-((3.2606444641*10^-2)*(X36))+(3.5786489003)) -> 0 | X36: 1800
S37: =T37+U37+V37+W37 -> 3621.855 | T37: =$G$7*(((8.5770134353*10^-19)*(X37^6))-((1.0374875556*10^-14)*(X37^5))+((4.9689475953*10^-11)*(X37^4))-((1.2019118054*10^-7)*(X37^3))+((1.5650954893*10^-4)*(X37^2))-((4.8239362033*10^-2)*(X37))+5.2084519626) -> 657.7076 | U37: =$G$8*(((6.6506859177*10^-19)*(X37^6))-((7.8984343104*10^-15)*(X37^5))+((3.6879849877*10^-11)*(X37^4))-((8.6386228559*10^-8)*(X37^3))+((1.1074017861*10^-4)*(X37^2))-((3.1241611608*10^-2)*(X37))+(3.3006694533)) -> 585.38144 | V37: =$G$10*(((5.9376621671*10^-19)*(X37^6))-((7.1020711589*10^-15)*(X37^5))+((3.3460896805*10^-11)*(X37^4))-((7.8909601634*10^-8)*(X37^3))+((9.8599769212*10^-5)*(X37^2))-((2.8172899156*10^-2)*(X37))+(3.05378908)) -> 2378.766 | W37: =$G$9*(((6.4958291549*10^-19)*(X37^6))-((7.8224528491*10^-15)*(X37^5))+((3.7120417697*10^-11)*(X37^4))-((8.798317617*10^-8)*(X37^3))+((1.0982327235*10^-4)*(X37^2))-((3.2606444641*10^-2)*(X37))+(3.5786489003)) -> 0 | X37: 1850
S38: =T38+U38+V38+W38 -> 3750.8199 | T38: =$G$7*(((8.5770134353*10^-19)*(X38^6))-((1.0374875556*10^-14)*(X38^5))+((4.9689475953*10^-11)*(X38^4))-((1.2019118054*10^-7)*(X38^3))+((1.5650954893*10^-4)*(X38^2))-((4.8239362033*10^-2)*(X38))+5.2084519626) -> 681.43339 | U38: =$G$8*(((6.6506859177*10^-19)*(X38^6))-((7.8984343104*10^-15)*(X38^5))+((3.6879849877*10^-11)*(X38^4))-((8.6386228559*10^-8)*(X38^3))+((1.1074017861*10^-4)*(X38^2))-((3.1241611608*10^-2)*(X38))+(3.3006694533)) -> 607.75278 | V38: =$G$10*(((5.9376621671*10^-19)*(X38^6))-((7.1020711589*10^-15)*(X38^5))+((3.3460896805*10^-11)*(X38^4))-((7.8909601634*10^-8)*(X38^3))+((9.8599769212*10^-5)*(X38^2))-((2.8172899156*10^-2)*(X38))+(3.05378908)) -> 2461.6337 | W38: =$G$9*(((6.4958291549*10^-19)*(X38^6))-((7.8224528491*10^-15)*(X38^5))+((3.7120417697*10^-11)*(X38^4))-((8.798317617*10^-8)*(X38^3))+((1.0982327235*10^-4)*(X38^2))-((3.2606444641*10^-2)*(X38))+(3.5786489003)) -> 0 | X38: 1900
S39: =T39+U39+V39+W39 -> 3880.768 | T39: =$G$7*(((8.5770134353*10^-19)*(X39^6))-((1.0374875556*10^-14)*(X39^5))+((4.9689475953*10^-11)*(X39^4))-((1.2019118054*10^-7)*(X39^3))+((1.5650954893*10^-4)*(X39^2))-((4.8239362033*10^-2)*(X39))+5.2084519626) -> 705.30877 | U39: =$G$8*(((6.6506859177*10^-19)*(X39^6))-((7.8984343104*10^-15)*(X39^5))+((3.6879849877*10^-11)*(X39^4))-((8.6386228559*10^-8)*(X39^3))+((1.1074017861*10^-4)*(X39^2))-((3.1241611608*10^-2)*(X39))+(3.3006694533)) -> 630.36739 | V39: =$G$10*(((5.9376621671*10^-19)*(X39^6))-((7.1020711589*10^-15)*(X39^5))+((3.3460896805*10^-11)*(X39^4))-((7.8909601634*10^-8)*(X39^3))+((9.8599769212*10^-5)*(X39^2))-((2.8172899156*10^-2)*(X39))+(3.05378908)) -> 2545.0919 | W39: =$G$9*(((6.4958291549*10^-19)*(X39^6))-((7.8224528491*10^-15)*(X39^5))+((3.7120417697*10^-11)*(X39^4))-((8.798317617*10^-8)*(X39^3))+((1.0982327235*10^-4)*(X39^2))-((3.2606444641*10^-2)*(X39))+(3.5786489003)) -> 0 | X39: 1950
S40: =T40+U40+V40+W40 -> 4011.7096 | T40: =$G$7*(((8.5770134353*10^-19)*(X40^6))-((1.0374875556*10^-14)*(X40^5))+((4.9689475953*10^-11)*(X40^4))-((1.2019118054*10^-7)*(X40^3))+((1.5650954893*10^-4)*(X40^2))-((4.8239362033*10^-2)*(X40))+5.2084519626) -> 729.3357 | U40: =$G$8*(((6.6506859177*10^-19)*(X40^6))-((7.8984343104*10^-15)*(X40^5))+((3.6879849877*10^-11)*(X40^4))-((8.6386228559*10^-8)*(X40^3))+((1.1074017861*10^-4)*(X40^2))-((3.1241611608*10^-2)*(X40))+(3.3006694533)) -> 653.2238 | V40: =$G$10*(((5.9376621671*10^-19)*(X40^6))-((7.1020711589*10^-15)*(X40^5))+((3.3460896805*10^-11)*(X40^4))-((7.8909601634*10^-8)*(X40^3))+((9.8599769212*10^-5)*(X40^2))-((2.8172899156*10^-2)*(X40))+(3.05378908)) -> 2629.1501 | W40: =$G$9*(((6.4958291549*10^-19)*(X40^6))-((7.8224528491*10^-15)*(X40^5))+((3.7120417697*10^-11)*(X40^4))-((8.798317617*10^-8)*(X40^3))+((1.0982327235*10^-4)*(X40^2))-((3.2606444641*10^-2)*(X40))+(3.5786489003)) -> 0 | X40: 2000
S41: =T41+U41+V41+W41 -> 4143.6353 | T41: =$G$7*(((8.5770134353*10^-19)*(X41^6))-((1.0374875556*10^-14)*(X41^5))+((4.9689475953*10^-11)*(X41^4))-((1.2019118054*10^-7)*(X41^3))+((1.5650954893*10^-4)*(X41^2))-((4.8239362033*10^-2)*(X41))+5.2084519626) -> 753.5131 | U41: =$G$8*(((6.6506859177*10^-19)*(X41^6))-((7.8984343104*10^-15)*(X41^5))+((3.6879849877*10^-11)*(X41^4))-((8.6386228559*10^-8)*(X41^3))+((1.1074017861*10^-4)*(X41^2))-((3.1241611608*10^-2)*(X41))+(3.3006694533)) -> 676.31761 | V41: =$G$10*(((5.9376621671*10^-19)*(X41^6))-((7.1020711589*10^-15)*(X41^5))+((3.3460896805*10^-11)*(X41^4))-((7.8909601634*10^-8)*(X41^3))+((9.8599769212*10^-5)*(X41^2))-((2.8172899156*10^-2)*(X41))+(3.05378908)) -> 2713.8046 | W41: =$G$9*(((6.4958291549*10^-19)*(X41^6))-((7.8224528491*10^-15)*(X41^5))+((3.7120417697*10^-11)*(X41^4))-((8.798317617*10^-8)*(X41^3))+((1.0982327235*10^-4)*(X41^2))-((3.2606444641*10^-2)*(X41))+(3.5786489003)) -> 0 | X41: 2050
S42: =T42+U42+V42+W42 -> 4276.516 | T42: =$G$7*(((8.5770134353*10^-19)*(X42^6))-((1.0374875556*10^-14)*(X42^5))+((4.9689475953*10^-11)*(X42^4))-((1.2019118054*10^-7)*(X42^3))+((1.5650954893*10^-4)*(X42^2))-((4.8239362033*10^-2)*(X42))+5.2084519626) -> 777.83678 | U42: =$G$8*(((6.6506859177*10^-19)*(X42^6))-((7.8984343104*10^-15)*(X42^5))+((3.6879849877*10^-11)*(X42^4))-((8.6386228559*10^-8)*(X42^3))+((1.1074017861*10^-4)*(X42^2))-((3.1241611608*10^-2)*(X42))+(3.3006694533)) -> 699.64143 | V42: =$G$10*(((5.9376621671*10^-19)*(X42^6))-((7.1020711589*10^-15)*(X42^5))+((3.3460896805*10^-11)*(X42^4))-((7.8909601634*10^-8)*(X42^3))+((9.8599769212*10^-5)*(X42^2))-((2.8172899156*10^-2)*(X42))+(3.05378908)) -> 2799.0378 | W42: =$G$9*(((6.4958291549*10^-19)*(X42^6))-((7.8224528491*10^-15)*(X42^5))+((3.7120417697*10^-11)*(X42^4))-((8.798317617*10^-8)*(X42^3))+((1.0982327235*10^-4)*(X42^2))-((3.2606444641*10^-2)*(X42))+(3.5786489003)) -> 0 | X42: 2100
S43: =T43+U43+V43+W43 -> 4410.3034 | T43: =$G$7*(((8.5770134353*10^-19)*(X43^6))-((1.0374875556*10^-14)*(X43^5))+((4.9689475953*10^-11)*(X43^4))-((1.2019118054*10^-7)*(X43^3))+((1.5650954893*10^-4)*(X43^2))-((4.8239362033*10^-2)*(X43))+5.2084519626) -> 802.29946 | U43: =$G$8*(((6.6506859177*10^-19)*(X43^6))-((7.8984343104*10^-15)*(X43^5))+((3.6879849877*10^-11)*(X43^4))-((8.6386228559*10^-8)*(X43^3))+((1.1074017861*10^-4)*(X43^2))-((3.1241611608*10^-2)*(X43))+(3.3006694533)) -> 723.18502 | V43: =$G$10*(((5.9376621671*10^-19)*(X43^6))-((7.1020711589*10^-15)*(X43^5))+((3.3460896805*10^-11)*(X43^4))-((7.8909601634*10^-8)*(X43^3))+((9.8599769212*10^-5)*(X43^2))-((2.8172899156*10^-2)*(X43))+(3.05378908)) -> 2884.8189 | W43: =$G$9*(((6.4958291549*10^-19)*(X43^6))-((7.8224528491*10^-15)*(X43^5))+((3.7120417697*10^-11)*(X43^4))-((8.798317617*10^-8)*(X43^3))+((1.0982327235*10^-4)*(X43^2))-((3.2606444641*10^-2)*(X43))+(3.5786489003)) -> 0 | X43: 2150
... S70: =T70+U70+V70+W70 -> 8119.5141 | T70: =$G$7*(((8.5770134353*10^-19)*(X70^6))-((1.0374875556*10^-14)*(X70^5))+((4.9689475953*10^-11)*(X70^4))-((1.2019118054*10^-7)*(X70^3))+((1.5650954893*10^-4)*(X70^2))-((4.8239362033*10^-2)*(X70))+5.2084519626) -> 1476.372 | U70: =$G$8*(((6.6506859177*10^-19)*(X70^6))-((7.8984343104*10^-15)*(X70^5))+((3.6879849877*10^-11)*(X70^4))-((8.6386228559*10^-8)*(X70^3))+((1.1074017861*10^-4)*(X70^2))-((3.1241611608*10^-2)*(X70))+(3.3006694533)) -> 1396.4587 | V70: =$G$10*(((5.9376621671*10^-19)*(X70^6))-((7.1020711589*10^-15)*(X70^5))+((3.3460896805*10^-11)*(X70^4))-((7.8909601634*10^-8)*(X70^3))+((9.8599769212*10^-5)*(X70^2))-((2.8172899156*10^-2)*(X70))+(3.05378908)) -> 5246.6833 | W70: =$G$9*(((6.4958291549*10^-19)*(X70^6))-((7.8224528491*10^-15)*(X70^5))+((3.7120417697*10^-11)*(X70^4))-((8.798317617*10^-8)*(X70^3))+((1.0982327235*10^-4)*(X70^2))-((3.2606444641*10^-2)*(X70))+(3.5786489003)) -> 0 | X70: 3500

Sheet Lean NOx Model (with EGR)
U1: NET ENTHALPY TABLE
C2: Fuel | F2: φ | J2: E.G.R | M2: Lower Heating Value (LHV) | R2: Number of Kmols in Mixture | U2: Total | V2: n1*CO2 | W2: n2*H20 | X2: n4*N2 | Y2: n3*O2 | Z2: Temp (K) | AC2: Enthalpy | AD2: Temp
C3: ISO-OCTANE | F3: 1 | M3: Enthaply needed for product (MJ/kmol) | O3: =-(F3*Data!B16) -> 259.2 | U3: =V3+W3+X3+Y3 -> 51.923468 | V3: =$J$7*(((8.5770134353*10^-19)*(Z3^6))-((1.0374875556*10^-14)*(Z3^5))+((4.9689475953*10^-11)*(Z3^4))-((1.2019118054*10^-7)*(Z3^3))+((1.5650954893*10^-4)*(Z3^2))-((4.8239362033*10^-2)*(Z3))+5.2084519626) -> 7.4853613 | W3: =$J$8*(((6.6506859177*10^-19)*(Z3^6))-((7.8984343104*10^-15)*(Z3^5))+((3.6879849877*10^-11)*(Z3^4))-((8.6386228559*10^-8)*(Z3^3))+((1.1074017861*10^-4)*(Z3^2))-((3.1241611608*10^-2)*(Z3))+(3.3006694533)) -> 7.6264855 | X3: =$J$10*(((5.9376621671*10^-19)*(Z3^6))-((7.1020711589*10^-15)*(Z3^5))+((3.3460896805*10^-11)*(Z3^4))-((7.8909601634*10^-8)*(Z3^3))+((9.8599769212*10^-5)*(Z3^2))-((2.8172899156*10^-2)*(Z3))+(3.05378908)) -> 36.811621 | Y3: =$J$9*(((6.4958291549*10^-19)*(Z3^6))-((7.8224528491*10^-15)*(Z3^5))+((3.7120417697*10^-11)*(Z3^4))-((8.798317617*10^-8)*(Z3^3))+((1.0982327235*10^-4)*(Z3^2))-((3.2606444641*10^-2)*(Z3))+(3.5786489003)) -> 0 | Z3: 200 | AB3: Above | AC3: {=MIN(IF(U3:U70>(O7),U3:U70))} -> 5089.9221 | AD3: =VLOOKUP(AC3,U3:Z70,6,FALSE) -> 2400
C4: C8H18 | J4: 0 | R4: =((Data!D3*((Data!D5/4)*Data!D4)*10^-6))/(Data!D7*Data!D6) -> 6.5681391e-06 | U4: =V4+W4+X4+Y4 -> 70.685627 | V4: =$J$7*(((8.5770134353*10^-19)*(Z4^6))-((1.0374875556*10^-14)*(Z4^5))+((4.9689475953*10^-11)*(Z4^4))-((1.2019118054*10^-7)*(Z4^3))+((1.5650954893*10^-4)*(Z4^2))-((4.8239362033*10^-2)*(Z4))+5.2084519626) -> 9.8931861 | W4: =$J$8*(((6.6506859177*10^-19)*(Z4^6))-((7.8984343104*10^-15)*(Z4^5))+((3.6879849877*10^-11)*(Z4^4))-((8.6386228559*10^-8)*(Z4^3))+((1.1074017861*10^-4)*(Z4^2))-((3.1241611608*10^-2)*(Z4))+(3.3006694533)) -> 10.784285 | X4: =$J$10*(((5.9376621671*10^-19)*(Z4^6))-((7.1020711589*10^-15)*(Z4^5))+((3.3460896805*10^-11)*(Z4^4))-((7.8909601634*10^-8)*(Z4^3))+((9.8599769212*10^-5)*(Z4^2))-((2.8172899156*10^-2)*(Z4))+(3.05378908)) -> 50.008156 | Y4: =$J$9*(((6.4958291549*10^-19)*(Z4^6))-((7.8224528491*10^-15)*(Z4^5))+((3.7120417697*10^-11)*(Z4^4))-((8.798317617*10^-8)*(Z4^3))+((1.0982327235*10^-4)*(Z4^2))-((3.2606444641*10^-2)*(Z4))+(3.5786489003)) -> 0 | Z4: 250 | AB4: Below | AC4: {=MAX(IF(U3:U70<(O7),U3:U70))} -> 4952.928 | AD4: =VLOOKUP(AC4,U3:Z70,6,FALSE) -> 2350
M5: Enthaply realsed from reaction (MJ/kmol) | O5: =-((G7*Data!B13)+('Lean NOx Model (with EGR)'!G8*Data!B14)+('Lean NOx Model (with EGR)'!G10*0)) -> 5324.2 | U5: =V5+W5+X5+Y5 -> 105.62037 | V5: =$J$7*(((8.5770134353*10^-19)*(Z5^6))-((1.0374875556*10^-14)*(Z5^5))+((4.9689475953*10^-11)*(Z5^4))-((1.2019118054*10^-7)*(Z5^3))+((1.5650954893*10^-4)*(Z5^2))-((4.8239362033*10^-2)*(Z5))+5.2084519626) -> 15.353467 | W5: =$J$8*(((6.6506859177*10^-19)*(Z5^6))-((7.8984343104*10^-15)*(Z5^5))+((3.6879849877*10^-11)*(Z5^4))-((8.6386228559*10^-8)*(Z5^3))+((1.1074017861*10^-4)*(Z5^2))-((3.1241611608*10^-2)*(Z5))+(3.3006694533)) -> 16.303446 | X5: =$J$10*(((5.9376621671*10^-19)*(Z5^6))-((7.1020711589*10^-15)*(Z5^5))+((3.3460896805*10^-11)*(Z5^4))-((7.8909601634*10^-8)*(Z5^3))+((9.8599769212*10^-5)*(Z5^2))-((2.8172899156*10^-2)*(Z5))+(3.05378908)) -> 73.96346 | Y5: =$J$9*(((6.4958291549*10^-19)*(Z5^6))-((7.8224528491*10^-15)*(Z5^5))+((3.7120417697*10^-11)*(Z5^4))-((8.798317617*10^-8)*(Z5^3))+((1.0982327235*10^-4)*(Z5^2))-((3.2606444641*10^-2)*(Z5))+(3.5786489003)) -> 0 | Z5: 298
C6: Products | F6: Reaction | J6: With EGR | R6: Alpha | U6: =V6+W6+X6+Y6 -> 107.40218 | V6: =$J$7*(((8.5770134353*10^-19)*(Z6^6))-((1.0374875556*10^-14)*(Z6^5))+((4.9689475953*10^-11)*(Z6^4))-((1.2019118054*10^-7)*(Z6^3))+((1.5650954893*10^-4)*(Z6^2))-((4.8239362033*10^-2)*(Z6))+5.2084519626) -> 15.64192 | W6: =$J$8*(((6.6506859177*10^-19)*(Z6^6))-((7.8984343104*10^-15)*(Z6^5))+((3.6879849877*10^-11)*(Z6^4))-((8.6386228559*10^-8)*(Z6^3))+((1.1074017861*10^-4)*(Z6^2))-((3.1241611608*10^-2)*(Z6))+(3.3006694533)) -> 16.581531 | X6: =$J$10*(((5.9376621671*10^-19)*(Z6^6))-((7.1020711589*10^-15)*(Z6^5))+((3.3460896805*10^-11)*(Z6^4))-((7.8909601634*10^-8)*(Z6^3))+((9.8599769212*10^-5)*(Z6^2))-((2.8172899156*10^-2)*(Z6))+(3.05378908)) -> 75.178728 | Y6: =$J$9*(((6.4958291549*10^-19)*(Z6^6))-((7.8224528491*10^-15)*(Z6^5))+((3.7120417697*10^-11)*(Z6^4))-((8.798317617*10^-8)*(Z6^3))+((1.0982327235*10^-4)*(Z6^2))-((3.2606444641*10^-2)*(Z6))+(3.5786489003)) -> 0 | Z6: 300
C7: Carbon | D7: =8*F3 -> 8 | F7: CO2 | G7: =D7 -> 8 | H7: n1 | J7: =(G7*(1+(J4/100))) -> 8 | M7: Net ethalpy (MJ/kmol) | O7: =O5-O3 -> 5065 | U7: =V7+W7+X7+Y7 -> 159.62056 | V7: =$J$7*(((8.5770134353*10^-19)*(Z7^6))-((1.0374875556*10^-14)*(Z7^5))+((4.9689475953*10^-11)*(Z7^4))-((1.2019118054*10^-7)*(Z7^3))+((1.5650954893*10^-4)*(Z7^2))-((4.8239362033*10^-2)*(Z7))+5.2084519626) -> 24.293094 | W7: =$J$8*(((6.6506859177*10^-19)*(Z7^6))-((7.8984343104*10^-15)*(Z7^5))+((3.6879849877*10^-11)*(Z7^4))-((8.6386228559*10^-8)*(Z7^3))+((1.1074017861*10^-4)*(Z7^2))-((3.1241611608*10^-2)*(Z7))+(3.3006694533)) -> 24.67021 | X7: =$J$10*(((5.9376621671*10^-19)*(Z7^6))-((7.1020711589*10^-15)*(Z7^5))+((3.3460896805*10^-11)*(Z7^4))-((7.8909601634*10^-8)*(Z7^3))+((9.8599769212*10^-5)*(Z7^2))-((2.8172899156*10^-2)*(Z7))+(3.05378908)) -> 110.65725 | Y7: =$J$9*(((6.4958291549*10^-19)*(Z7^6))-((7.8224528491*10^-15)*(Z7^5))+((3.7120417697*10^-11)*(Z7^4))-((8.798317617*10^-8)*(Z7^3))+((1.0982327235*10^-4)*(Z7^2))-((3.2606444641*10^-2)*(Z7))+(3.5786489003)) -> 0 | Z7: 350
C8: Hydrogen | D8: =18*F3 -> 18 | F8: H2O | G8: =D8/2 -> 9 | H8: n2 | J8: =(G8*(1+J4/100)) -> 9 | R8: =R4/((F3+12.5*(1+3.76))) -> 1.0856428e-07 | U8: =V8+W8+X8+Y8 -> 225.13206 | V8: =$J$7*(((8.5770134353*10^-19)*(Z8^6))-((1.0374875556*10^-14)*(Z8^5))+((4.9689475953*10^-11)*(Z8^4))-((1.2019118054*10^-7)*(Z8^3))+((1.5650954893*10^-4)*(Z8^2))-((4.8239362033*10^-2)*(Z8))+5.2084519626) -> 35.450595 | W8: =$J$8*(((6.6506859177*10^-19)*(Z8^6))-((7.8984343104*10^-15)*(Z8^5))+((3.6879849877*10^-11)*(Z8^4))-((8.6386228559*10^-8)*(Z8^3))+((1.1074017861*10^-4)*(Z8^2))-((3.1241611608*10^-2)*(Z8))+(3.3006694533)) -> 34.737328 | X8: =$J$10*(((5.9376621671*10^-19)*(Z8^6))-((7.1020711589*10^-15)*(Z8^5))+((3.3460896805*10^-11)*(Z8^4))-((7.8909601634*10^-8)*(Z8^3))+((9.8599769212*10^-5)*(Z8^2))-((2.8172899156*10^-2)*(Z8))+(3.05378908)) -> 154.94414 | Y8: =$J$9*(((6.4958291549*10^-19)*(Z8^6))-((7.8224528491*10^-15)*(Z8^5))+((3.7120417697*10^-11)*(Z8^4))-((8.798317617*10^-8)*(Z8^3))+((1.0982327235*10^-4)*(Z8^2))-((3.2606444641*10^-2)*(Z8))+(3.5786489003)) -> 0 | Z8: 400
C9: Oxygen | D9: =0*F3 -> 0 | F9: O2 | G9: =((2*G11)-(2*G7)-G8)/2 -> 0 | H9: n3 | J9: =(G9*(1+(J4/100))) -> 0 | M9: LHV (MJ/kg) | O9: =O7/C15 -> 44.341639 | U9: =V9+W9+X9+Y9 -> 301.95655 | V9: =$J$7*(((8.5770134353*10^-19)*(Z9^6))-((1.0374875556*10^-14)*(Z9^5))+((4.9689475953*10^-11)*(Z9^4))-((1.2019118054*10^-7)*(Z9^3))+((1.5650954893*10^-4)*(Z9^2))-((4.8239362033*10^-2)*(Z9))+5.2084519626) -> 48.758056 | W9: =$J$8*(((6.6506859177*10^-19)*(Z9^6))-((7.8984343104*10^-15)*(Z9^5))+((3.6879849877*10^-11)*(Z9^4))-((8.6386228559*10^-8)*(Z9^3))+((1.1074017861*10^-4)*(Z9^2))-((3.1241611608*10^-2)*(Z9))+(3.3006694533)) -> 46.502675 | X9: =$J$10*(((5.9376621671*10^-19)*(Z9^6))-((7.1020711589*10^-15)*(Z9^5))+((3.3460896805*10^-11)*(Z9^4))-((7.8909601634*10^-8)*(Z9^3))+((9.8599769212*10^-5)*(Z9^2))-((2.8172899156*10^-2)*(Z9))+(3.05378908)) -> 206.69582 | Y9: =$J$9*(((6.4958291549*10^-19)*(Z9^6))-((7.8224528491*10^-15)*(Z9^5))+((3.7120417697*10^-11)*(Z9^4))-((8.798317617*10^-8)*(Z9^3))+((1.0982327235*10^-4)*(Z9^2))-((3.2606444641*10^-2)*(Z9))+(3.5786489003)) -> 0 | Z9: 450
F10: N2 | G10: =3.76*G11 -> 47 | H10: n4 | J10: =(G10*(1+(J4/100))) -> 47 | R10: Total Exhuast kmol | U10: =V10+W10+X10+Y10 -> 388.32759 | V10: =$J$7*(((8.5770134353*10^-19)*(Z10^6))-((1.0374875556*10^-14)*(Z10^5))+((4.9689475953*10^-11)*(Z10^4))-((1.2019118054*10^-7)*(Z10^3))+((1.5650954893*10^-4)*(Z10^2))-((4.8239362033*10^-2)*(Z10))+5.2084519626) -> 63.896317 | W10: =$J$8*(((6.6506859177*10^-19)*(Z10^6))-((7.8984343104*10^-15)*(Z10^5))+((3.6879849877*10^-11)*(Z10^4))-((8.6386228559*10^-8)*(Z10^3))+((1.1074017861*10^-4)*(Z10^2))-((3.1241611608*10^-2)*(Z10))+(3.3006694533)) -> 59.716674 | X10: =$J$10*(((5.9376621671*10^-19)*(Z10^6))-((7.1020711589*10^-15)*(Z10^5))+((3.3460896805*10^-11)*(Z10^4))-((7.8909601634*10^-8)*(Z10^3))+((9.8599769212*10^-5)*(Z10^2))-((2.8172899156*10^-2)*(Z10))+(3.05378908)) -> 264.7146 | Y10: =$J$9*(((6.4958291549*10^-19)*(Z10^6))-((7.8224528491*10^-15)*(Z10^5))+((3.7120417697*10^-11)*(Z10^4))-((8.798317617*10^-8)*(Z10^3))+((1.0982327235*10^-4)*(Z10^2))-((3.2606444641*10^-2)*(Z10))+(3.5786489003)) -> 0 | Z10: 500
F11: x | G11: =((2*(G7/F3)+(G8/F3)))/2 -> 12.5 | J11: 12.5 | U11: =V11+W11+X11+Y11 -> 482.67802 | V11: =$J$7*(((8.5770134353*10^-19)*(Z11^6))-((1.0374875556*10^-14)*(Z11^5))+((4.9689475953*10^-11)*(Z11^4))-((1.2019118054*10^-7)*(Z11^3))+((1.5650954893*10^-4)*(Z11^2))-((4.8239362033*10^-2)*(Z11))+5.2084519626) -> 80.580974 | W11: =$J$8*(((6.6506859177*10^-19)*(Z11^6))-((7.8984343104*10^-15)*(Z11^5))+((3.6879849877*10^-11)*(Z11^4))-((8.6386228559*10^-8)*(Z11^3))+((1.1074017861*10^-4)*(Z11^2))-((3.1241611608*10^-2)*(Z11))+(3.3006694533)) -> 74.158279 | X11: =$J$10*(((5.9376621671*10^-19)*(Z11^6))-((7.1020711589*10^-15)*(Z11^5))+((3.3460896805*10^-11)*(Z11^4))-((7.8909601634*10^-8)*(Z11^3))+((9.8599769212*10^-5)*(Z11^2))-((2.8172899156*10^-2)*(Z11))+(3.05378908)) -> 327.93877 | Y11: =$J$9*(((6.4958291549*10^-19)*(Z11^6))-((7.8224528491*10^-15)*(Z11^5))+((3.7120417697*10^-11)*(Z11^4))-((8.798317617*10^-8)*(Z11^3))+((1.0982327235*10^-4)*(Z11^2))-((3.2606444641*10^-2)*(Z11))+(3.5786489003)) -> 0 | Z11: 550
R12: =R8*(J7+J8+J9+J10) -> 6.9481141e-06 | U12: =V12+W12+X12+Y12 -> 583.62607 | V12: =$J$7*(((8.5770134353*10^-19)*(Z12^6))-((1.0374875556*10^-14)*(Z12^5))+((4.9689475953*10^-11)*(Z12^4))-((1.2019118054*10^-7)*(Z12^3))+((1.5650954893*10^-4)*(Z12^2))-((4.8239362033*10^-2)*(Z12))+5.2084519626) -> 98.56 | W12: =$J$8*(((6.6506859177*10^-19)*(Z12^6))-((7.8984343104*10^-15)*(Z12^5))+((3.6879849877*10^-11)*(Z12^4))-((8.6386228559*10^-8)*(Z12^3))+((1.1074017861*10^-4)*(Z12^2))-((3.1241611608*10^-2)*(Z12))+(3.3006694533)) -> 89.632954 | X12: =$J$10*(((5.9376621671*10^-19)*(Z12^6))-((7.1020711589*10^-15)*(Z12^5))+((3.3460896805*10^-11)*(Z12^4))-((7.8909601634*10^-8)*(Z12^3))+((9.8599769212*10^-5)*(Z12^2))-((2.8172899156*10^-2)*(Z12))+(3.05378908)) -> 395.43311 | Y12: =$J$9*(((6.4958291549*10^-19)*(Z12^6))-((7.8224528491*10^-15)*(Z12^5))+((3.7120417697*10^-11)*(Z12^4))-((8.798317617*10^-8)*(Z12^3))+((1.0982327235*10^-4)*(Z12^2))-((3.2606444641*10^-2)*(Z12))+(3.5786489003)) -> 0 | Z12: 600
U13: =V13+W13+X13+Y13 -> 689.96182 | V13: =$J$7*(((8.5770134353*10^-19)*(Z13^6))-((1.0374875556*10^-14)*(Z13^5))+((4.9689475953*10^-11)*(Z13^4))-((1.2019118054*10^-7)*(Z13^3))+((1.5650954893*10^-4)*(Z13^2))-((4.8239362033*10^-2)*(Z13))+5.2084519626) -> 117.61144 | W13: =$J$8*(((6.6506859177*10^-19)*(Z13^6))-((7.8984343104*10^-15)*(Z13^5))+((3.6879849877*10^-11)*(Z13^4))-((8.6386228559*10^-8)*(Z13^3))+((1.1074017861*10^-4)*(Z13^2))-((3.1241611608*10^-2)*(Z13))+(3.3006694533)) -> 105.97071 | X13: =$J$10*(((5.9376621671*10^-19)*(Z13^6))-((7.1020711589*10^-15)*(Z13^5))+((3.3460896805*10^-11)*(Z13^4))-((7.8909601634*10^-8)*(Z13^3))+((9.8599769212*10^-5)*(Z13^2))-((2.8172899156*10^-2)*(Z13))+(3.05378908)) -> 466.37966 | Y13: =$J$9*(((6.4958291549*10^-19)*(Z13^6))-((7.8224528491*10^-15)*(Z13^5))+((3.7120417697*10^-11)*(Z13^4))-((8.798317617*10^-8)*(Z13^3))+((1.0982327235*10^-4)*(Z13^2))-((3.2606444641*10^-2)*(Z13))+(3.5786489003)) -> 0 | Z13: 650
C14: Fuel Mass (Kg/kmol) | R14: [N2] | U14: =V14+W14+X14+Y14 -> 800.63421 | V14: =$J$7*(((8.5770134353*10^-19)*(Z14^6))-((1.0374875556*10^-14)*(Z14^5))+((4.9689475953*10^-11)*(Z14^4))-((1.2019118054*10^-7)*(Z14^3))+((1.5650954893*10^-4)*(Z14^2))-((4.8239362033*10^-2)*(Z14))+5.2084519626) -> 137.54119 | W14: =$J$8*(((6.6506859177*10^-19)*(Z14^6))-((7.8984343104*10^-15)*(Z14^5))+((3.6879849877*10^-11)*(Z14^4))-((8.6386228559*10^-8)*(Z14^3))+((1.1074017861*10^-4)*(Z14^2))-((3.1241611608*10^-2)*(Z14))+(3.3006694533)) -> 123.02423 | X14: =$J$10*(((5.9376621671*10^-19)*(Z14^6))-((7.1020711589*10^-15)*(Z14^5))+((3.3460896805*10^-11)*(Z14^4))-((7.8909601634*10^-8)*(Z14^3))+((9.8599769212*10^-5)*(Z14^2))-((2.8172899156*10^-2)*(Z14))+(3.05378908)) -> 540.0688 | Y14: =$J$9*(((6.4958291549*10^-19)*(Z14^6))-((7.8224528491*10^-15)*(Z14^5))+((3.7120417697*10^-11)*(Z14^4))-((8.798317617*10^-8)*(Z14^3))+((1.0982327235*10^-4)*(Z14^2))-((3.2606444641*10^-2)*(Z14))+(3.5786489003)) -> 0 | Z14: 700
C15: =(D7*Data!K4)+(D8*Data!K5) -> 114.22672 | H15: Pressure (Bar) | I15: Flame Temp | J15: Nox/° | K15: Total/Cycle | L15: PPM | U15: =V15+W15+X15+Y15 -> 914.7385 | V15: =$J$7*(((8.5770134353*10^-19)*(Z15^6))-((1.0374875556*10^-14)*(Z15^5))+((4.9689475953*10^-11)*(Z15^4))-((1.2019118054*10^-7)*(Z15^3))+((1.5650954893*10^-4)*(Z15^2))-((4.8239362033*10^-2)*(Z15))+5.2084519626) -> 158.18083 | W15: =$J$8*(((6.6506859177*10^-19)*(Z15^6))-((7.8984343104*10^-15)*(Z15^5))+((3.6879849877*10^-11)*(Z15^4))-((8.6386228559*10^-8)*(Z15^3))+((1.1074017861*10^-4)*(Z15^2))-((3.1241611608*10^-2)*(Z15))+(3.3006694533)) -> 140.66702 | X15: =$J$10*(((5.9376621671*10^-19)*(Z15^6))-((7.1020711589*10^-15)*(Z15^5))+((3.3460896805*10^-11)*(Z15^4))-((7.8909601634*10^-8)*(Z15^3))+((9.8599769212*10^-5)*(Z15^2))-((2.8172899156*10^-2)*(Z15))+(3.05378908)) -> 615.89065 | Y15: =$J$9*(((6.4958291549*10^-19)*(Z15^6))-((7.8224528491*10^-15)*(Z15^5))+((3.7120417697*10^-11)*(Z15^4))-((8.798317617*10^-8)*(Z15^3))+((1.0982327235*10^-4)*(Z15^2))-((3.2606444641*10^-2)*(Z15))+(3.5786489003)) -> 0 | Z15: 750
H16: 10 | I16: =AD4+(AD3-AD4)*((O7-AC4)/(AC3-AC4)) -> 2390.904 | J16: =(((4.17*10^13)*($R$16)*(($R$20)^0.5)*EXP(-67837/I16))/(Data!$D$8*6))*(Data!$D$10*10^-6) -> 0 | K16: =SUM(J16:J31) -> 0 | L16: =(K16/R12)*10^6 -> 0 | R16: =(J10*R8)/(Data!D10*10^-6) -> 0.12756303 | U16: =V16+W16+X16+Y16 -> 1031.5041 | V16: =$J$7*(((8.5770134353*10^-19)*(Z16^6))-((1.0374875556*10^-14)*(Z16^5))+((4.9689475953*10^-11)*(Z16^4))-((1.2019118054*10^-7)*(Z16^3))+((1.5650954893*10^-4)*(Z16^2))-((4.8239362033*10^-2)*(Z16))+5.2084519626) -> 179.3856 | W16: =$J$8*(((6.6506859177*10^-19)*(Z16^6))-((7.8984343104*10^-15)*(Z16^5))+((3.6879849877*10^-11)*(Z16^4))-((8.6386228559*10^-8)*(Z16^3))+((1.1074017861*10^-4)*(Z16^2))-((3.1241611608*10^-2)*(Z16))+(3.3006694533)) -> 158.79165 | X16: =$J$10*(((5.9376621671*10^-19)*(Z16^6))-((7.1020711589*10^-15)*(Z16^5))+((3.3460896805*10^-11)*(Z16^4))-((7.8909601634*10^-8)*(Z16^3))+((9.8599769212*10^-5)*(Z16^2))-((2.8172899156*10^-2)*(Z16))+(3.05378908)) -> 693.32684 | Y16: =$J$9*(((6.4958291549*10^-19)*(Z16^6))-((7.8224528491*10^-15)*(Z16^5))+((3.7120417697*10^-11)*(Z16^4))-((8.798317617*10^-8)*(Z16^3))+((1.0982327235*10^-4)*(Z16^2))-((3.2606444641*10^-2)*(Z16))+(3.5786489003)) -> 0 | Z16: 800
C17: Air Mass (Kg/kmol) | H17: 12 | I17: =I16*(H17/H16)^((Data!$D$9-1)/(Data!$D$9)) -> 2455.0882 | J17: =(((4.17*10^13)*($R$16)*(($R$20)^0.5)*EXP(-67837/I17))/(Data!$D$8*6))*(Data!$D$10*10^-6) -> 0 | U17: =V17+W17+X17+Y17 -> 1150.283 | V17: =$J$7*(((8.5770134353*10^-19)*(Z17^6))-((1.0374875556*10^-14)*(Z17^5))+((4.9689475953*10^-11)*(Z17^4))-((1.2019118054*10^-7)*(Z17^3))+((1.5650954893*10^-4)*(Z17^2))-((4.8239362033*10^-2)*(Z17))+5.2084519626) -> 201.03237 | W17: =$J$8*(((6.6506859177*10^-19)*(Z17^6))-((7.8984343104*10^-15)*(Z17^5))+((3.6879849877*10^-11)*(Z17^4))-((8.6386228559*10^-8)*(Z17^3))+((1.1074017861*10^-4)*(Z17^2))-((3.1241611608*10^-2)*(Z17))+(3.3006694533)) -> 177.30811 | X17: =$J$10*(((5.9376621671*10^-19)*(Z17^6))-((7.1020711589*10^-15)*(Z17^5))+((3.3460896805*10^-11)*(Z17^4))-((7.8909601634*10^-8)*(Z17^3))+((9.8599769212*10^-5)*(Z17^2))-((2.8172899156*10^-2)*(Z17))+(3.05378908)) -> 771.94248 | Y17: =$J$9*(((6.4958291549*10^-19)*(Z17^6))-((7.8224528491*10^-15)*(Z17^5))+((3.7120417697*10^-11)*(Z17^4))-((8.798317617*10^-8)*(Z17^3))+((1.0982327235*10^-4)*(Z17^2))-((3.2606444641*10^-2)*(Z17))+(3.5786489003)) -> 0 | Z17: 850
C18: =G11*((2*Data!K6)+3.76*(2*Data!K7)) -> 1716.6148 | H18: 14 | I18: =I17*(H18/H17)^((Data!$D$9-1)/(Data!$D$9)) -> 2510.6976 | J18: =(((4.17*10^13)*($R$16)*(($R$20)^0.5)*EXP(-67837/I18))/(Data!$D$8*6))*(Data!$D$10*10^-6) -> 0 | R18: [O2] | U18: =V18+W18+X18+Y18 -> 1270.5384 | V18: =$J$7*(((8.5770134353*10^-19)*(Z18^6))-((1.0374875556*10^-14)*(Z18^5))+((4.9689475953*10^-11)*(Z18^4))-((1.2019118054*10^-7)*(Z18^3))+((1.5650954893*10^-4)*(Z18^2))-((4.8239362033*10^-2)*(Z18))+5.2084519626) -> 223.0177 | W18: =$J$8*(((6.6506859177*10^-19)*(Z18^6))-((7.8984343104*10^-15)*(Z18^5))+((3.6879849877*10^-11)*(Z18^4))-((8.6386228559*10^-8)*(Z18^3))+((1.1074017861*10^-4)*(Z18^2))-((3.1241611608*10^-2)*(Z18))+(3.3006694533)) -> 196.14214 | X18: =$J$10*(((5.9376621671*10^-19)*(Z18^6))-((7.1020711589*10^-15)*(Z18^5))+((3.3460896805*10^-11)*(Z18^4))-((7.8909601634*10^-8)*(Z18^3))+((9.8599769212*10^-5)*(Z18^2))-((2.8172899156*10^-2)*(Z18))+(3.05378908)) -> 851.37856 | Y18: =$J$9*(((6.4958291549*10^-19)*(Z18^6))-((7.8224528491*10^-15)*(Z18^5))+((3.7120417697*10^-11)*(Z18^4))-((8.798317617*10^-8)*(Z18^3))+((1.0982327235*10^-4)*(Z18^2))-((3.2606444641*10^-2)*(Z18))+(3.5786489003)) -> 0 | Z18: 900
H19: 16 | I19: =I18*(H19/H18)^((Data!$D$9-1)/(Data!$D$9)) -> 2559.8858 | J19: =(((4.17*10^13)*($R$16)*(($R$20)^0.5)*EXP(-67837/I19))/(Data!$D$8*6))*(Data!$D$10*10^-6) -> 0 | U19: =V19+W19+X19+Y19 -> 1391.8343 | V19: =$J$7*(((8.5770134353*10^-19)*(Z19^6))-((1.0374875556*10^-14)*(Z19^5))+((4.9689475953*10^-11)*(Z19^4))-((1.2019118054*10^-7)*(Z19^3))+((1.5650954893*10^-4)*(Z19^2))-((4.8239362033*10^-2)*(Z19))+5.2084519626) -> 245.25608 | W19: =$J$8*(((6.6506859177*10^-19)*(Z19^6))-((7.8984343104*10^-15)*(Z19^5))+((3.6879849877*10^-11)*(Z19^4))-((8.6386228559*10^-8)*(Z19^3))+((1.1074017861*10^-4)*(Z19^2))-((3.1241611608*10^-2)*(Z19))+(3.3006694533)) -> 215.23368 | X19: =$J$10*(((5.9376621671*10^-19)*(Z19^6))-((7.1020711589*10^-15)*(Z19^5))+((3.3460896805*10^-11)*(Z19^4))-((7.8909601634*10^-8)*(Z19^3))+((9.8599769212*10^-5)*(Z19^2))-((2.8172899156*10^-2)*(Z19))+(3.05378908)) -> 931.34457 | Y19: =$J$9*(((6.4958291549*10^-19)*(Z19^6))-((7.8224528491*10^-15)*(Z19^5))+((3.7120417697*10^-11)*(Z19^4))-((8.798317617*10^-8)*(Z19^3))+((1.0982327235*10^-4)*(Z19^2))-((3.2606444641*10^-2)*(Z19))+(3.5786489003)) -> 0 | Z19: 950
C20: AFR | H20: 18 | I20: =I19*(H20/H19)^((Data!$D$9-1)/(Data!$D$9)) -> 2604.0721 | J20: =(((4.17*10^13)*($R$16)*(($R$20)^0.5)*EXP(-67837/I20))/(Data!$D$8*6))*(Data!$D$10*10^-6) -> 0 | R20: =(J9*R8)/(Data!D10*10^-6) -> 0 | U20: =V20+W20+X20+Y20 -> 1513.825 | V20: =$J$7*(((8.5770134353*10^-19)*(Z20^6))-((1.0374875556*10^-14)*(Z20^5))+((4.9689475953*10^-11)*(Z20^4))-((1.2019118054*10^-7)*(Z20^3))+((1.5650954893*10^-4)*(Z20^2))-((4.8239362033*10^-2)*(Z20))+5.2084519626) -> 267.67808 | W20: =$J$8*(((6.6506859177*10^-19)*(Z20^6))-((7.8984343104*10^-15)*(Z20^5))+((3.6879849877*10^-11)*(Z20^4))-((8.6386228559*10^-8)*(Z20^3))+((1.1074017861*10^-4)*(Z20^2))-((3.1241611608*10^-2)*(Z20))+(3.3006694533)) -> 234.53543 | X20: =$J$10*(((5.9376621671*10^-19)*(Z20^6))-((7.1020711589*10^-15)*(Z20^5))+((3.3460896805*10^-11)*(Z20^4))-((7.8909601634*10^-8)*(Z20^3))+((9.8599769212*10^-5)*(Z20^2))-((2.8172899156*10^-2)*(Z20))+(3.05378908)) -> 1011.6115 | Y20: =$J$9*(((6.4958291549*10^-19)*(Z20^6))-((7.8224528491*10^-15)*(Z20^5))+((3.7120417697*10^-11)*(Z20^4))-((8.798317617*10^-8)*(Z20^3))+((1.0982327235*10^-4)*(Z20^2))-((3.2606444641*10^-2)*(Z20))+(3.5786489003)) -> 0 | Z20: 1000
H21: 20 | I21: =I20*(H21/H20)^((Data!$D$9-1)/(Data!$D$9)) -> 2644.244 | J21: =(((4.17*10^13)*($R$16)*(($R$20)^0.5)*EXP(-67837/I21))/(Data!$D$8*6))*(Data!$D$10*10^-6) -> 0 | U21: =V21+W21+X21+Y21 -> 1636.2453 | V21: =$J$7*(((8.5770134353*10^-19)*(Z21^6))-((1.0374875556*10^-14)*(Z21^5))+((4.9689475953*10^-11)*(Z21^4))-((1.2019118054*10^-7)*(Z21^3))+((1.5650954893*10^-4)*(Z21^2))-((4.8239362033*10^-2)*(Z21))+5.2084519626) -> 290.22874 | W21: =$J$8*(((6.6506859177*10^-19)*(Z21^6))-((7.8984343104*10^-15)*(Z21^5))+((3.6879849877*10^-11)*(Z21^4))-((8.6386228559*10^-8)*(Z21^3))+((1.1074017861*10^-4)*(Z21^2))-((3.1241611608*10^-2)*(Z21))+(3.3006694533)) -> 254.01135 | X21: =$J$10*(((5.9376621671*10^-19)*(Z21^6))-((7.1020711589*10^-15)*(Z21^5))+((3.3460896805*10^-11)*(Z21^4))-((7.8909601634*10^-8)*(Z21^3))+((9.8599769212*10^-5)*(Z21^2))-((2.8172899156*10^-2)*(Z21))+(3.05378908)) -> 1092.0052 | Y21: =$J$9*(((6.4958291549*10^-19)*(Z21^6))-((7.8224528491*10^-15)*(Z21^5))+((3.7120417697*10^-11)*(Z21^4))-((8.798317617*10^-8)*(Z21^3))+((1.0982327235*10^-4)*(Z21^2))-((3.2606444641*10^-2)*(Z21))+(3.5786489003)) -> 0 | Z21: 1050
C22: =C18/C15 -> 15.028137 | H22: 22 | I22: =I21*(H22/H21)^((Data!$D$9-1)/(Data!$D$9)) -> 2681.1175 | J22: =(((4.17*10^13)*($R$16)*(($R$20)^0.5)*EXP(-67837/I22))/(Data!$D$8*6))*(Data!$D$10*10^-6) -> 0 | U22: =V22+W22+X22+Y22 -> 1758.9011 | V22: =$J$7*(((8.5770134353*10^-19)*(Z22^6))-((1.0374875556*10^-14)*(Z22^5))+((4.9689475953*10^-11)*(Z22^4))-((1.2019118054*10^-7)*(Z22^3))+((1.5650954893*10^-4)*(Z22^2))-((4.8239362033*10^-2)*(Z22))+5.2084519626) -> 312.8659 | W22: =$J$8*(((6.6506859177*10^-19)*(Z22^6))-((7.8984343104*10^-15)*(Z22^5))+((3.6879849877*10^-11)*(Z22^4))-((8.6386228559*10^-8)*(Z22^3))+((1.1074017861*10^-4)*(Z22^2))-((3.1241611608*10^-2)*(Z22))+(3.3006694533)) -> 273.6354 | X22: =$J$10*(((5.9376621671*10^-19)*(Z22^6))-((7.1020711589*10^-15)*(Z22^5))+((3.3460896805*10^-11)*(Z22^4))-((7.8909601634*10^-8)*(Z22^3))+((9.8599769212*10^-5)*(Z22^2))-((2.8172899156*10^-2)*(Z22))+(3.05378908)) -> 1172.3998 | Y22: =$J$9*(((6.4958291549*10^-19)*(Z22^6))-((7.8224528491*10^-15)*(Z22^5))+((3.7120417697*10^-11)*(Z22^4))-((8.798317617*10^-8)*(Z22^3))+((1.0982327235*10^-4)*(Z22^2))-((3.2606444641*10^-2)*(Z22))+(3.5786489003)) -> 0 | Z22: 1100
H23: 24 | I23: =I22*(H23/H22)^((Data!$D$9-1)/(Data!$D$9)) -> 2715.2292 | J23: =(((4.17*10^13)*($R$16)*(($R$20)^0.5)*EXP(-67837/I23))/(Data!$D$8*6))*(Data!$D$10*10^-6) -> 0 | U23: =V23+W23+X23+Y23 -> 1881.6607 | V23: =$J$7*(((8.5770134353*10^-19)*(Z23^6))-((1.0374875556*10^-14)*(Z23^5))+((4.9689475953*10^-11)*(Z23^4))-((1.2019118054*10^-7)*(Z23^3))+((1.5650954893*10^-4)*(Z23^2))-((4.8239362033*10^-2)*(Z23))+5.2084519626) -> 335.55873 | W23: =$J$8*(((6.6506859177*10^-19)*(Z23^6))-((7.8984343104*10^-15)*(Z23^5))+((3.6879849877*10^-11)*(Z23^4))-((8.6386228559*10^-8)*(Z23^3))+((1.1074017861*10^-4)*(Z23^2))-((3.1241611608*10^-2)*(Z23))+(3.3006694533)) -> 293.39016 | X23: =$J$10*(((5.9376621671*10^-19)*(Z23^6))-((7.1020711589*10^-15)*(Z23^5))+((3.3460896805*10^-11)*(Z23^4))-((7.8909601634*10^-8)*(Z23^3))+((9.8599769212*10^-5)*(Z23^2))-((2.8172899156*10^-2)*(Z23))+(3.05378908)) -> 1252.7118 | Y23: =$J$9*(((6.4958291549*10^-19)*(Z23^6))-((7.8224528491*10^-15)*(Z23^5))+((3.7120417697*10^-11)*(Z23^4))-((8.798317617*10^-8)*(Z23^3))+((1.0982327235*10^-4)*(Z23^2))-((3.2606444641*10^-2)*(Z23))+(3.5786489003)) -> 0 | Z23: 1150
H24: 26 | I24: =I23*(H24/H23)^((Data!$D$9-1)/(Data!$D$9)) -> 2746.9921 | J24: =(((4.17*10^13)*($R$16)*(($R$20)^0.5)*EXP(-67837/I24))/(Data!$D$8*6))*(Data!$D$10*10^-6) -> 0 | U24: =V24+W24+X24+Y24 -> 2004.4462 | V24: =$J$7*(((8.5770134353*10^-19)*(Z24^6))-((1.0374875556*10^-14)*(Z24^5))+((4.9689475953*10^-11)*(Z24^4))-((1.2019118054*10^-7)*(Z24^3))+((1.5650954893*10^-4)*(Z24^2))-((4.8239362033*10^-2)*(Z24))+5.2084519626) -> 358.28622 | W24: =$J$8*(((6.6506859177*10^-19)*(Z24^6))-((7.8984343104*10^-15)*(Z24^5))+((3.6879849877*10^-11)*(Z24^4))-((8.6386228559*10^-8)*(Z24^3))+((1.1074017861*10^-4)*(Z24^2))-((3.1241611608*10^-2)*(Z24))+(3.3006694533)) -> 313.26569 | X24: =$J$10*(((5.9376621671*10^-19)*(Z24^6))-((7.1020711589*10^-15)*(Z24^5))+((3.3460896805*10^-11)*(Z24^4))-((7.8909601634*10^-8)*(Z24^3))+((9.8599769212*10^-5)*(Z24^2))-((2.8172899156*10^-2)*(Z24))+(3.05378908)) -> 1332.8943 | Y24: =$J$9*(((6.4958291549*10^-19)*(Z24^6))-((7.8224528491*10^-15)*(Z24^5))+((3.7120417697*10^-11)*(Z24^4))-((8.798317617*10^-8)*(Z24^3))+((1.0982327235*10^-4)*(Z24^2))-((3.2606444641*10^-2)*(Z24))+(3.5786489003)) -> 0 | Z24: 1200
H25: 28 | I25: =I24*(H25/H24)^((Data!$D$9-1)/(Data!$D$9)) -> 2776.731 | J25: =(((4.17*10^13)*($R$16)*(($R$20)^0.5)*EXP(-67837/I25))/(Data!$D$8*6))*(Data!$D$10*10^-6) -> 0 | U25: =V25+W25+X25+Y25 -> 2127.2255 | V25: =$J$7*(((8.5770134353*10^-19)*(Z25^6))-((1.0374875556*10^-14)*(Z25^5))+((4.9689475953*10^-11)*(Z25^4))-((1.2019118054*10^-7)*(Z25^3))+((1.5650954893*10^-4)*(Z25^2))-((4.8239362033*10^-2)*(Z25))+5.2084519626) -> 381.03585 | W25: =$J$8*(((6.6506859177*10^-19)*(Z25^6))-((7.8984343104*10^-15)*(Z25^5))+((3.6879849877*10^-11)*(Z25^4))-((8.6386228559*10^-8)*(Z25^3))+((1.1074017861*10^-4)*(Z25^2))-((3.1241611608*10^-2)*(Z25))+(3.3006694533)) -> 333.25834 | X25: =$J$10*(((5.9376621671*10^-19)*(Z25^6))-((7.1020711589*10^-15)*(Z25^5))+((3.3460896805*10^-11)*(Z25^4))-((7.8909601634*10^-8)*(Z25^3))+((9.8599769212*10^-5)*(Z25^2))-((2.8172899156*10^-2)*(Z25))+(3.05378908)) -> 1412.9313 | Y25: =$J$9*(((6.4958291549*10^-19)*(Z25^6))-((7.8224528491*10^-15)*(Z25^5))+((3.7120417697*10^-11)*(Z25^4))-((8.798317617*10^-8)*(Z25^3))+((1.0982327235*10^-4)*(Z25^2))-((3.2606444641*10^-2)*(Z25))+(3.5786489003)) -> 0 | Z25: 1250
H26: 30 | I26: =I25*(H26/H25)^((Data!$D$9-1)/(Data!$D$9)) -> 2804.7066 | J26: =(((4.17*10^13)*($R$16)*(($R$20)^0.5)*EXP(-67837/I26))/(Data!$D$8*6))*(Data!$D$10*10^-6) -> 0 | U26: =V26+W26+X26+Y26 -> 2250.005 | V26: =$J$7*(((8.5770134353*10^-19)*(Z26^6))-((1.0374875556*10^-14)*(Z26^5))+((4.9689475953*10^-11)*(Z26^4))-((1.2019118054*10^-7)*(Z26^3))+((1.5650954893*10^-4)*(Z26^2))-((4.8239362033*10^-2)*(Z26))+5.2084519626) -> 403.80225 | W26: =$J$8*(((6.6506859177*10^-19)*(Z26^6))-((7.8984343104*10^-15)*(Z26^5))+((3.6879849877*10^-11)*(Z26^4))-((8.6386228559*10^-8)*(Z26^3))+((1.1074017861*10^-4)*(Z26^2))-((3.1241611608*10^-2)*(Z26))+(3.3006694533)) -> 353.36967 | X26: =$J$10*(((5.9376621671*10^-19)*(Z26^6))-((7.1020711589*10^-15)*(Z26^5))+((3.3460896805*10^-11)*(Z26^4))-((7.8909601634*10^-8)*(Z26^3))+((9.8599769212*10^-5)*(Z26^2))-((2.8172899156*10^-2)*(Z26))+(3.05378908)) -> 1492.8331 | Y26: =$J$9*(((6.4958291549*10^-19)*(Z26^6))-((7.8224528491*10^-15)*(Z26^5))+((3.7120417697*10^-11)*(Z26^4))-((8.798317617*10^-8)*(Z26^3))+((1.0982327235*10^-4)*(Z26^2))-((3.2606444641*10^-2)*(Z26))+(3.5786489003)) -> 0 | Z26: 1300
H27: 32 | I27: =I26*(H27/H26)^((Data!$D$9-1)/(Data!$D$9)) -> 2831.1312 | J27: =(((4.17*10^13)*($R$16)*(($R$20)^0.5)*EXP(-67837/I27))/(Data!$D$8*6))*(Data!$D$10*10^-6) -> 0 | U27: =V27+W27+X27+Y27 -> 2372.8222 | V27: =$J$7*(((8.5770134353*10^-19)*(Z27^6))-((1.0374875556*10^-14)*(Z27^5))+((4.9689475953*10^-11)*(Z27^4))-((1.2019118054*10^-7)*(Z27^3))+((1.5650954893*10^-4)*(Z27^2))-((4.8239362033*10^-2)*(Z27))+5.2084519626) -> 426.58604 | W27: =$J$8*(((6.6506859177*10^-19)*(Z27^6))-((7.8984343104*10^-15)*(Z27^5))+((3.6879849877*10^-11)*(Z27^4))-((8.6386228559*10^-8)*(Z27^3))+((1.1074017861*10^-4)*(Z27^2))-((3.1241611608*10^-2)*(Z27))+(3.3006694533)) -> 373.60545 | X27: =$J$10*(((5.9376621671*10^-19)*(Z27^6))-((7.1020711589*10^-15)*(Z27^5))+((3.3460896805*10^-11)*(Z27^4))-((7.8909601634*10^-8)*(Z27^3))+((9.8599769212*10^-5)*(Z27^2))-((2.8172899156*10^-2)*(Z27))+(3.05378908)) -> 1572.6307 | Y27: =$J$9*(((6.4958291549*10^-19)*(Z27^6))-((7.8224528491*10^-15)*(Z27^5))+((3.7120417697*10^-11)*(Z27^4))-((8.798317617*10^-8)*(Z27^3))+((1.0982327235*10^-4)*(Z27^2))-((3.2606444641*10^-2)*(Z27))+(3.5786489003)) -> 0 | Z27: 1350
H28: 34 | I28: =I27*(H28/H27)^((Data!$D$9-1)/(Data!$D$9)) -> 2856.1799 | J28: =(((4.17*10^13)*($R$16)*(($R$20)^0.5)*EXP(-67837/I28))/(Data!$D$8*6))*(Data!$D$10*10^-6) -> 0 | U28: =V28+W28+X28+Y28 -> 2495.7394 | V28: =$J$7*(((8.5770134353*10^-19)*(Z28^6))-((1.0374875556*10^-14)*(Z28^5))+((4.9689475953*10^-11)*(Z28^4))-((1.2019118054*10^-7)*(Z28^3))+((1.5650954893*10^-4)*(Z28^2))-((4.8239362033*10^-2)*(Z28))+5.2084519626) -> 449.3926 | W28: =$J$8*(((6.6506859177*10^-19)*(Z28^6))-((7.8984343104*10^-15)*(Z28^5))+((3.6879849877*10^-11)*(Z28^4))-((8.6386228559*10^-8)*(Z28^3))+((1.1074017861*10^-4)*(Z28^2))-((3.1241611608*10^-2)*(Z28))+(3.3006694533)) -> 393.97469 | X28: =$J$10*(((5.9376621671*10^-19)*(Z28^6))-((7.1020711589*10^-15)*(Z28^5))+((3.3460896805*10^-11)*(Z28^4))-((7.8909601634*10^-8)*(Z28^3))+((9.8599769212*10^-5)*(Z28^2))-((2.8172899156*10^-2)*(Z28))+(3.05378908)) -> 1652.3721 | Y28: =$J$9*(((6.4958291549*10^-19)*(Z28^6))-((7.8224528491*10^-15)*(Z28^5))+((3.7120417697*10^-11)*(Z28^4))-((8.798317617*10^-8)*(Z28^3))+((1.0982327235*10^-4)*(Z28^2))-((3.2606444641*10^-2)*(Z28))+(3.5786489003)) -> 0 | Z28: 1400
H29: 36 | I29: =I28*(H29/H28)^((Data!$D$9-1)/(Data!$D$9)) -> 2879.9995 | J29: =(((4.17*10^13)*($R$16)*(($R$20)^0.5)*EXP(-67837/I29))/(Data!$D$8*6))*(Data!$D$10*10^-6) -> 0 | U29: =V29+W29+X29+Y29 -> 2618.8373 | V29: =$J$7*(((8.5770134353*10^-19)*(Z29^6))-((1.0374875556*10^-14)*(Z29^5))+((4.9689475953*10^-11)*(Z29^4))-((1.2019118054*10^-7)*(Z29^3))+((1.5650954893*10^-4)*(Z29^2))-((4.8239362033*10^-2)*(Z29))+5.2084519626) -> 472.23109 | W29: =$J$8*(((6.6506859177*10^-19)*(Z29^6))-((7.8984343104*10^-15)*(Z29^5))+((3.6879849877*10^-11)*(Z29^4))-((8.6386228559*10^-8)*(Z29^3))+((1.1074017861*10^-4)*(Z29^2))-((3.1241611608*10^-2)*(Z29))+(3.3006694533)) -> 414.48878 | X29: =$J$10*(((5.9376621671*10^-19)*(Z29^6))-((7.1020711589*10^-15)*(Z29^5))+((3.3460896805*10^-11)*(Z29^4))-((7.8909601634*10^-8)*(Z29^3))+((9.8599769212*10^-5)*(Z29^2))-((2.8172899156*10^-2)*(Z29))+(3.05378908)) -> 1732.1175 | Y29: =$J$9*(((6.4958291549*10^-19)*(Z29^6))-((7.8224528491*10^-15)*(Z29^5))+((3.7120417697*10^-11)*(Z29^4))-((8.798317617*10^-8)*(Z29^3))+((1.0982327235*10^-4)*(Z29^2))-((3.2606444641*10^-2)*(Z29))+(3.5786489003)) -> 0 | Z29: 1450
H30: 38 | I30: =I29*(H30/H29)^((Data!$D$9-1)/(Data!$D$9)) -> 2902.7136 | J30: =(((4.17*10^13)*($R$16)*(($R$20)^0.5)*EXP(-67837/I30))/(Data!$D$8*6))*(Data!$D$10*10^-6) -> 0 | U30: =V30+W30+X30+Y30 -> 2742.2096 | V30: =$J$7*(((8.5770134353*10^-19)*(Z30^6))-((1.0374875556*10^-14)*(Z30^5))+((4.9689475953*10^-11)*(Z30^4))-((1.2019118054*10^-7)*(Z30^3))+((1.5650954893*10^-4)*(Z30^2))-((4.8239362033*10^-2)*(Z30))+5.2084519626) -> 495.1134 | W30: =$J$8*(((6.6506859177*10^-19)*(Z30^6))-((7.8984343104*10^-15)*(Z30^5))+((3.6879849877*10^-11)*(Z30^4))-((8.6386228559*10^-8)*(Z30^3))+((1.1074017861*10^-4)*(Z30^2))-((3.1241611608*10^-2)*(Z30))+(3.3006694533)) -> 435.16066 | X30: =$J$10*(((5.9376621671*10^-19)*(Z30^6))-((7.1020711589*10^-15)*(Z30^5))+((3.3460896805*10^-11)*(Z30^4))-((7.8909601634*10^-8)*(Z30^3))+((9.8599769212*10^-5)*(Z30^2))-((2.8172899156*10^-2)*(Z30))+(3.05378908)) -> 1811.9356 | Y30: =$J$9*(((6.4958291549*10^-19)*(Z30^6))-((7.8224528491*10^-15)*(Z30^5))+((3.7120417697*10^-11)*(Z30^4))-((8.798317617*10^-8)*(Z30^3))+((1.0982327235*10^-4)*(Z30^2))-((3.2606444641*10^-2)*(Z30))+(3.5786489003)) -> 0 | Z30: 1500
H31: 40 | I31: =I30*(H31/H30)^((Data!$D$9-1)/(Data!$D$9)) -> 2924.428 | J31: =(((4.17*10^13)*($R$16)*(($R$20)^0.5)*EXP(-67837/I31))/(Data!$D$8*6))*(Data!$D$10*10^-6) -> 0 | U31: =V31+W31+X31+Y31 -> 2865.9576 | V31: =$J$7*(((8.5770134353*10^-19)*(Z31^6))-((1.0374875556*10^-14)*(Z31^5))+((4.9689475953*10^-11)*(Z31^4))-((1.2019118054*10^-7)*(Z31^3))+((1.5650954893*10^-4)*(Z31^2))-((4.8239362033*10^-2)*(Z31))+5.2084519626) -> 518.05326 | W31: =$J$8*(((6.6506859177*10^-19)*(Z31^6))-((7.8984343104*10^-15)*(Z31^5))+((3.6879849877*10^-11)*(Z31^4))-((8.6386228559*10^-8)*(Z31^3))+((1.1074017861*10^-4)*(Z31^2))-((3.1241611608*10^-2)*(Z31))+(3.3006694533)) -> 456.00406 | X31: =$J$10*(((5.9376621671*10^-19)*(Z31^6))-((7.1020711589*10^-15)*(Z31^5))+((3.3460896805*10^-11)*(Z31^4))-((7.8909601634*10^-8)*(Z31^3))+((9.8599769212*10^-5)*(Z31^2))-((2.8172899156*10^-2)*(Z31))+(3.05378908)) -> 1891.9002 | Y31: =$J$9*(((6.4958291549*10^-19)*(Z31^6))-((7.8224528491*10^-15)*(Z31^5))+((3.7120417697*10^-11)*(Z31^4))-((8.798317617*10^-8)*(Z31^3))+((1.0982327235*10^-4)*(Z31^2))-((3.2606444641*10^-2)*(Z31))+(3.5786489003)) -> 0 | Z31: 1550
U32: =V32+W32+X32+Y32 -> 2990.1852 | V32: =$J$7*(((8.5770134353*10^-19)*(Z32^6))-((1.0374875556*10^-14)*(Z32^5))+((4.9689475953*10^-11)*(Z32^4))-((1.2019118054*10^-7)*(Z32^3))+((1.5650954893*10^-4)*(Z32^2))-((4.8239362033*10^-2)*(Z32))+5.2084519626) -> 541.06542 | W32: =$J$8*(((6.6506859177*10^-19)*(Z32^6))-((7.8984343104*10^-15)*(Z32^5))+((3.6879849877*10^-11)*(Z32^4))-((8.6386228559*10^-8)*(Z32^3))+((1.1074017861*10^-4)*(Z32^2))-((3.1241611608*10^-2)*(Z32))+(3.3006694533)) -> 477.03288 | X32: =$J$10*(((5.9376621671*10^-19)*(Z32^6))-((7.1020711589*10^-15)*(Z32^5))+((3.3460896805*10^-11)*(Z32^4))-((7.8909601634*10^-8)*(Z32^3))+((9.8599769212*10^-5)*(Z32^2))-((2.8172899156*10^-2)*(Z32))+(3.05378908)) -> 1972.0869 | Y32: =$J$9*(((6.4958291549*10^-19)*(Z32^6))-((7.8224528491*10^-15)*(Z32^5))+((3.7120417697*10^-11)*(Z32^4))-((8.798317617*10^-8)*(Z32^3))+((1.0982327235*10^-4)*(Z32^2))-((3.2606444641*10^-2)*(Z32))+(3.5786489003)) -> 0 | Z32: 1600
U33: =V33+W33+X33+Y33 -> 3114.995 | V33: =$J$7*(((8.5770134353*10^-19)*(Z33^6))-((1.0374875556*10^-14)*(Z33^5))+((4.9689475953*10^-11)*(Z33^4))-((1.2019118054*10^-7)*(Z33^3))+((1.5650954893*10^-4)*(Z33^2))-((4.8239362033*10^-2)*(Z33))+5.2084519626) -> 564.16485 | W33: =$J$8*(((6.6506859177*10^-19)*(Z33^6))-((7.8984343104*10^-15)*(Z33^5))+((3.6879849877*10^-11)*(Z33^4))-((8.6386228559*10^-8)*(Z33^3))+((1.1074017861*10^-4)*(Z33^2))-((3.1241611608*10^-2)*(Z33))+(3.3006694533)) -> 498.2605 | X33: =$J$10*(((5.9376621671*10^-19)*(Z33^6))-((7.1020711589*10^-15)*(Z33^5))+((3.3460896805*10^-11)*(Z33^4))-((7.8909601634*10^-8)*(Z33^3))+((9.8599769212*10^-5)*(Z33^2))-((2.8172899156*10^-2)*(Z33))+(3.05378908)) -> 2052.5697 | Y33: =$J$9*(((6.4958291549*10^-19)*(Z33^6))-((7.8224528491*10^-15)*(Z33^5))+((3.7120417697*10^-11)*(Z33^4))-((8.798317617*10^-8)*(Z33^3))+((1.0982327235*10^-4)*(Z33^2))-((3.2606444641*10^-2)*(Z33))+(3.5786489003)) -> 0 | Z33: 1650
U34: =V34+W34+X34+Y34 -> 3240.4845 | V34: =$J$7*(((8.5770134353*10^-19)*(Z34^6))-((1.0374875556*10^-14)*(Z34^5))+((4.9689475953*10^-11)*(Z34^4))-((1.2019118054*10^-7)*(Z34^3))+((1.5650954893*10^-4)*(Z34^2))-((4.8239362033*10^-2)*(Z34))+5.2084519626) -> 587.36611 | W34: =$J$8*(((6.6506859177*10^-19)*(Z34^6))-((7.8984343104*10^-15)*(Z34^5))+((3.6879849877*10^-11)*(Z34^4))-((8.6386228559*10^-8)*(Z34^3))+((1.1074017861*10^-4)*(Z34^2))-((3.1241611608*10^-2)*(Z34))+(3.3006694533)) -> 519.69929 | X34: =$J$10*(((5.9376621671*10^-19)*(Z34^6))-((7.1020711589*10^-15)*(Z34^5))+((3.3460896805*10^-11)*(Z34^4))-((7.8909601634*10^-8)*(Z34^3))+((9.8599769212*10^-5)*(Z34^2))-((2.8172899156*10^-2)*(Z34))+(3.05378908)) -> 2133.4191 | Y34: =$J$9*(((6.4958291549*10^-19)*(Z34^6))-((7.8224528491*10^-15)*(Z34^5))+((3.7120417697*10^-11)*(Z34^4))-((8.798317617*10^-8)*(Z34^3))+((1.0982327235*10^-4)*(Z34^2))-((3.2606444641*10^-2)*(Z34))+(3.5786489003)) -> 0 | Z34: 1700
U35: =V35+W35+X35+Y35 -> 3366.7421 | V35: =$J$7*(((8.5770134353*10^-19)*(Z35^6))-((1.0374875556*10^-14)*(Z35^5))+((4.9689475953*10^-11)*(Z35^4))-((1.2019118054*10^-7)*(Z35^3))+((1.5650954893*10^-4)*(Z35^2))-((4.8239362033*10^-2)*(Z35))+5.2084519626) -> 610.68269 | W35: =$J$8*(((6.6506859177*10^-19)*(Z35^6))-((7.8984343104*10^-15)*(Z35^5))+((3.6879849877*10^-11)*(Z35^4))-((8.6386228559*10^-8)*(Z35^3))+((1.1074017861*10^-4)*(Z35^2))-((3.1241611608*10^-2)*(Z35))+(3.3006694533)) -> 541.36012 | X35: =$J$10*(((5.9376621671*10^-19)*(Z35^6))-((7.1020711589*10^-15)*(Z35^5))+((3.3460896805*10^-11)*(Z35^4))-((7.8909601634*10^-8)*(Z35^3))+((9.8599769212*10^-5)*(Z35^2))-((2.8172899156*10^-2)*(Z35))+(3.05378908)) -> 2214.6992 | Y35: =$J$9*(((6.4958291549*10^-19)*(Z35^6))-((7.8224528491*10^-15)*(Z35^5))+((3.7120417697*10^-11)*(Z35^4))-((8.798317617*10^-8)*(Z35^3))+((1.0982327235*10^-4)*(Z35^2))-((3.2606444641*10^-2)*(Z35))+(3.5786489003)) -> 0 | Z35: 1750
U36: =V36+W36+X36+Y36 -> 3493.8446 | V36: =$J$7*(((8.5770134353*10^-19)*(Z36^6))-((1.0374875556*10^-14)*(Z36^5))+((4.9689475953*10^-11)*(Z36^4))-((1.2019118054*10^-7)*(Z36^3))+((1.5650954893*10^-4)*(Z36^2))-((4.8239362033*10^-2)*(Z36))+5.2084519626) -> 634.12655 | W36: =$J$8*(((6.6506859177*10^-19)*(Z36^6))-((7.8984343104*10^-15)*(Z36^5))+((3.6879849877*10^-11)*(Z36^4))-((8.6386228559*10^-8)*(Z36^3))+((1.1074017861*10^-4)*(Z36^2))-((3.1241611608*10^-2)*(Z36))+(3.3006694533)) -> 563.25194 | X36: =$J$10*(((5.9376621671*10^-19)*(Z36^6))-((7.1020711589*10^-15)*(Z36^5))+((3.3460896805*10^-11)*(Z36^4))-((7.8909601634*10^-8)*(Z36^3))+((9.8599769212*10^-5)*(Z36^2))-((2.8172899156*10^-2)*(Z36))+(3.05378908)) -> 2296.4662 | Y36: =$J$9*(((6.4958291549*10^-19)*(Z36^6))-((7.8224528491*10^-15)*(Z36^5))+((3.7120417697*10^-11)*(Z36^4))-((8.798317617*10^-8)*(Z36^3))+((1.0982327235*10^-4)*(Z36^2))-((3.2606444641*10^-2)*(Z36))+(3.5786489003)) -> 0 | Z36: 1800
U37: =V37+W37+X37+Y37 -> 3621.855 | V37: =$J$7*(((8.5770134353*10^-19)*(Z37^6))-((1.0374875556*10^-14)*(Z37^5))+((4.9689475953*10^-11)*(Z37^4))-((1.2019118054*10^-7)*(Z37^3))+((1.5650954893*10^-4)*(Z37^2))-((4.8239362033*10^-2)*(Z37))+5.2084519626) -> 657.7076 | W37: =$J$8*(((6.6506859177*10^-19)*(Z37^6))-((7.8984343104*10^-15)*(Z37^5))+((3.6879849877*10^-11)*(Z37^4))-((8.6386228559*10^-8)*(Z37^3))+((1.1074017861*10^-4)*(Z37^2))-((3.1241611608*10^-2)*(Z37))+(3.3006694533)) -> 585.38144 | X37: =$J$10*(((5.9376621671*10^-19)*(Z37^6))-((7.1020711589*10^-15)*(Z37^5))+((3.3460896805*10^-11)*(Z37^4))-((7.8909601634*10^-8)*(Z37^3))+((9.8599769212*10^-5)*(Z37^2))-((2.8172899156*10^-2)*(Z37))+(3.05378908)) -> 2378.766 | Y37: =$J$9*(((6.4958291549*10^-19)*(Z37^6))-((7.8224528491*10^-15)*(Z37^5))+((3.7120417697*10^-11)*(Z37^4))-((8.798317617*10^-8)*(Z37^3))+((1.0982327235*10^-4)*(Z37^2))-((3.2606444641*10^-2)*(Z37))+(3.5786489003)) -> 0 | Z37: 1850
U38: =V38+W38+X38+Y38 -> 3750.8199 | V38: =$J$7*(((8.5770134353*10^-19)*(Z38^6))-((1.0374875556*10^-14)*(Z38^5))+((4.9689475953*10^-11)*(Z38^4))-((1.2019118054*10^-7)*(Z38^3))+((1.5650954893*10^-4)*(Z38^2))-((4.8239362033*10^-2)*(Z38))+5.2084519626) -> 681.43339 | W38: =$J$8*(((6.6506859177*10^-19)*(Z38^6))-((7.8984343104*10^-15)*(Z38^5))+((3.6879849877*10^-11)*(Z38^4))-((8.6386228559*10^-8)*(Z38^3))+((1.1074017861*10^-4)*(Z38^2))-((3.1241611608*10^-2)*(Z38))+(3.3006694533)) -> 607.75278 | X38: =$J$10*(((5.9376621671*10^-19)*(Z38^6))-((7.1020711589*10^-15)*(Z38^5))+((3.3460896805*10^-11)*(Z38^4))-((7.8909601634*10^-8)*(Z38^3))+((9.8599769212*10^-5)*(Z38^2))-((2.8172899156*10^-2)*(Z38))+(3.05378908)) -> 2461.6337 | Y38: =$J$9*(((6.4958291549*10^-19)*(Z38^6))-((7.8224528491*10^-15)*(Z38^5))+((3.7120417697*10^-11)*(Z38^4))-((8.798317617*10^-8)*(Z38^3))+((1.0982327235*10^-4)*(Z38^2))-((3.2606444641*10^-2)*(Z38))+(3.5786489003)) -> 0 | Z38: 1900
U39: =V39+W39+X39+Y39 -> 3880.768 | V39: =$J$7*(((8.5770134353*10^-19)*(Z39^6))-((1.0374875556*10^-14)*(Z39^5))+((4.9689475953*10^-11)*(Z39^4))-((1.2019118054*10^-7)*(Z39^3))+((1.5650954893*10^-4)*(Z39^2))-((4.8239362033*10^-2)*(Z39))+5.2084519626) -> 705.30877 | W39: =$J$8*(((6.6506859177*10^-19)*(Z39^6))-((7.8984343104*10^-15)*(Z39^5))+((3.6879849877*10^-11)*(Z39^4))-((8.6386228559*10^-8)*(Z39^3))+((1.1074017861*10^-4)*(Z39^2))-((3.1241611608*10^-2)*(Z39))+(3.3006694533)) -> 630.36739 | X39: =$J$10*(((5.9376621671*10^-19)*(Z39^6))-((7.1020711589*10^-15)*(Z39^5))+((3.3460896805*10^-11)*(Z39^4))-((7.8909601634*10^-8)*(Z39^3))+((9.8599769212*10^-5)*(Z39^2))-((2.8172899156*10^-2)*(Z39))+(3.05378908)) -> 2545.0919 | Y39: =$J$9*(((6.4958291549*10^-19)*(Z39^6))-((7.8224528491*10^-15)*(Z39^5))+((3.7120417697*10^-11)*(Z39^4))-((8.798317617*10^-8)*(Z39^3))+((1.0982327235*10^-4)*(Z39^2))-((3.2606444641*10^-2)*(Z39))+(3.5786489003)) -> 0 | Z39: 1950
U40: =V40+W40+X40+Y40 -> 4011.7096 | V40: =$J$7*(((8.5770134353*10^-19)*(Z40^6))-((1.0374875556*10^-14)*(Z40^5))+((4.9689475953*10^-11)*(Z40^4))-((1.2019118054*10^-7)*(Z40^3))+((1.5650954893*10^-4)*(Z40^2))-((4.8239362033*10^-2)*(Z40))+5.2084519626) -> 729.3357 | W40: =$J$8*(((6.6506859177*10^-19)*(Z40^6))-((7.8984343104*10^-15)*(Z40^5))+((3.6879849877*10^-11)*(Z40^4))-((8.6386228559*10^-8)*(Z40^3))+((1.1074017861*10^-4)*(Z40^2))-((3.1241611608*10^-2)*(Z40))+(3.3006694533)) -> 653.2238 | X40: =$J$10*(((5.9376621671*10^-19)*(Z40^6))-((7.1020711589*10^-15)*(Z40^5))+((3.3460896805*10^-11)*(Z40^4))-((7.8909601634*10^-8)*(Z40^3))+((9.8599769212*10^-5)*(Z40^2))-((2.8172899156*10^-2)*(Z40))+(3.05378908)) -> 2629.1501 | Y40: =$J$9*(((6.4958291549*10^-19)*(Z40^6))-((7.8224528491*10^-15)*(Z40^5))+((3.7120417697*10^-11)*(Z40^4))-((8.798317617*10^-8)*(Z40^3))+((1.0982327235*10^-4)*(Z40^2))-((3.2606444641*10^-2)*(Z40))+(3.5786489003)) -> 0 | Z40: 2000
U41: =V41+W41+X41+Y41 -> 4143.6353 | V41: =$J$7*(((8.5770134353*10^-19)*(Z41^6))-((1.0374875556*10^-14)*(Z41^5))+((4.9689475953*10^-11)*(Z41^4))-((1.2019118054*10^-7)*(Z41^3))+((1.5650954893*10^-4)*(Z41^2))-((4.8239362033*10^-2)*(Z41))+5.2084519626) -> 753.5131 | W41: =$J$8*(((6.6506859177*10^-19)*(Z41^6))-((7.8984343104*10^-15)*(Z41^5))+((3.6879849877*10^-11)*(Z41^4))-((8.6386228559*10^-8)*(Z41^3))+((1.1074017861*10^-4)*(Z41^2))-((3.1241611608*10^-2)*(Z41))+(3.3006694533)) -> 676.31761 | X41: =$J$10*(((5.9376621671*10^-19)*(Z41^6))-((7.1020711589*10^-15)*(Z41^5))+((3.3460896805*10^-11)*(Z41^4))-((7.8909601634*10^-8)*(Z41^3))+((9.8599769212*10^-5)*(Z41^2))-((2.8172899156*10^-2)*(Z41))+(3.05378908)) -> 2713.8046 | Y41: =$J$9*(((6.4958291549*10^-19)*(Z41^6))-((7.8224528491*10^-15)*(Z41^5))+((3.7120417697*10^-11)*(Z41^4))-((8.798317617*10^-8)*(Z41^3))+((1.0982327235*10^-4)*(Z41^2))-((3.2606444641*10^-2)*(Z41))+(3.5786489003)) -> 0 | Z41: 2050
U42: =V42+W42+X42+Y42 -> 4276.516 | V42: =$J$7*(((8.5770134353*10^-19)*(Z42^6))-((1.0374875556*10^-14)*(Z42^5))+((4.9689475953*10^-11)*(Z42^4))-((1.2019118054*10^-7)*(Z42^3))+((1.5650954893*10^-4)*(Z42^2))-((4.8239362033*10^-2)*(Z42))+5.2084519626) -> 777.83678 | W42: =$J$8*(((6.6506859177*10^-19)*(Z42^6))-((7.8984343104*10^-15)*(Z42^5))+((3.6879849877*10^-11)*(Z42^4))-((8.6386228559*10^-8)*(Z42^3))+((1.1074017861*10^-4)*(Z42^2))-((3.1241611608*10^-2)*(Z42))+(3.3006694533)) -> 699.64143 | X42: =$J$10*(((5.9376621671*10^-19)*(Z42^6))-((7.1020711589*10^-15)*(Z42^5))+((3.3460896805*10^-11)*(Z42^4))-((7.8909601634*10^-8)*(Z42^3))+((9.8599769212*10^-5)*(Z42^2))-((2.8172899156*10^-2)*(Z42))+(3.05378908)) -> 2799.0378 | Y42: =$J$9*(((6.4958291549*10^-19)*(Z42^6))-((7.8224528491*10^-15)*(Z42^5))+((3.7120417697*10^-11)*(Z42^4))-((8.798317617*10^-8)*(Z42^3))+((1.0982327235*10^-4)*(Z42^2))-((3.2606444641*10^-2)*(Z42))+(3.5786489003)) -> 0 | Z42: 2100
U43: =V43+W43+X43+Y43 -> 4410.3034 | V43: =$J$7*(((8.5770134353*10^-19)*(Z43^6))-((1.0374875556*10^-14)*(Z43^5))+((4.9689475953*10^-11)*(Z43^4))-((1.2019118054*10^-7)*(Z43^3))+((1.5650954893*10^-4)*(Z43^2))-((4.8239362033*10^-2)*(Z43))+5.2084519626) -> 802.29946 | W43: =$J$8*(((6.6506859177*10^-19)*(Z43^6))-((7.8984343104*10^-15)*(Z43^5))+((3.6879849877*10^-11)*(Z43^4))-((8.6386228559*10^-8)*(Z43^3))+((1.1074017861*10^-4)*(Z43^2))-((3.1241611608*10^-2)*(Z43))+(3.3006694533)) -> 723.18502 | X43: =$J$10*(((5.9376621671*10^-19)*(Z43^6))-((7.1020711589*10^-15)*(Z43^5))+((3.3460896805*10^-11)*(Z43^4))-((7.8909601634*10^-8)*(Z43^3))+((9.8599769212*10^-5)*(Z43^2))-((2.8172899156*10^-2)*(Z43))+(3.05378908)) -> 2884.8189 | Y43: =$J$9*(((6.4958291549*10^-19)*(Z43^6))-((7.8224528491*10^-15)*(Z43^5))+((3.7120417697*10^-11)*(Z43^4))-((8.798317617*10^-8)*(Z43^3))+((1.0982327235*10^-4)*(Z43^2))-((3.2606444641*10^-2)*(Z43))+(3.5786489003)) -> 0 | Z43: 2150
... U70: =V70+W70+X70+Y70 -> 8119.5141 | V70: =$J$7*(((8.5770134353*10^-19)*(Z70^6))-((1.0374875556*10^-14)*(Z70^5))+((4.9689475953*10^-11)*(Z70^4))-((1.2019118054*10^-7)*(Z70^3))+((1.5650954893*10^-4)*(Z70^2))-((4.8239362033*10^-2)*(Z70))+5.2084519626) -> 1476.372 | W70: =$J$8*(((6.6506859177*10^-19)*(Z70^6))-((7.8984343104*10^-15)*(Z70^5))+((3.6879849877*10^-11)*(Z70^4))-((8.6386228559*10^-8)*(Z70^3))+((1.1074017861*10^-4)*(Z70^2))-((3.1241611608*10^-2)*(Z70))+(3.3006694533)) -> 1396.4587 | X70: =$J$10*(((5.9376621671*10^-19)*(Z70^6))-((7.1020711589*10^-15)*(Z70^5))+((3.3460896805*10^-11)*(Z70^4))-((7.8909601634*10^-8)*(Z70^3))+((9.8599769212*10^-5)*(Z70^2))-((2.8172899156*10^-2)*(Z70))+(3.05378908)) -> 5246.6833 | Y70: =$J$9*(((6.4958291549*10^-19)*(Z70^6))-((7.8224528491*10^-15)*(Z70^5))+((3.7120417697*10^-11)*(Z70^4))-((8.798317617*10^-8)*(Z70^3))+((1.0982327235*10^-4)*(Z70^2))-((3.2606444641*10^-2)*(Z70))+(3.5786489003)) -> 0 | Z70: 3500

Sheet Flame Temp (K)
A1: 0% EGR | B1: φ | C1: 1 | D1: 0.99 | E1: 0.98 | F1: 0.97 | G1: 0.96 | H1: 0.95 | I1: 0.9 | J1: 0.85 | K1: 0.8 | L1: 0.75 | M1: 0.7 | N1: 0.65 | O1: 0.6 | R1: φ | S1: Flame Temps (K) @ S.O.C | U1: 5% EGR | V1: Flame Temps (K) @ S.O.C | X1: 10% EGR | Y1: Flame Temps (K) @ S.O.C | AA1: 15% EGR | AB1: Flame Temps (K) @ S.O.C | AD1: 20% EGR | AE1: Flame Temps (K) @ S.O.C
A2: Crank Angle (θ) | B2: Pressure (Bar) | C2: Flame Temp (K) | D2: Flame Temp (K) | E2: Flame Temp (K) | F2: Flame Temp (K) | G2: Flame Temp (K) | H2: Flame Temp (K) | I2: Flame Temp (K) | J2: Flame Temp (K) | K2: Flame Temp (K) | L2: Flame Temp (K) | M2: Flame Temp (K) | N2: Flame Temp (K) | O2: Flame Temp (K) | U2: φ | X2: φ | AA2: φ | AD2: φ
A3: 0 | B3: 10 | C3: 2390.904 | D3: 2375.4363 | E3: 2359.9127 | F3: 2344.3156 | G3: 2328.6316 | H3: 2312.8906 | I3: 2232.9736 | J3: 2150.9453 | K3: 2066.4569 | L3: 1979.3672 | M3: 1889.4711 | N3: 1796.617 | O3: 1700.7406 | R3: 0.6 | S3: 1700.7406 | U3: 0.6 | V3: 1638.6562 | X3: 0.6 | Y3: 1581.8994 | AA3: 0.6 | AB3: 1529.8576 | AD3: 0.6 | AE3: 1482.0067
A4: 1 | B4: 12 | C4: 2455.0882 | D4: 2439.2053 | E4: 2423.265 | F4: 2407.2492 | G4: 2391.1442 | H4: 2374.9806 | I4: 2292.9182 | J4: 2208.6878 | K4: 2121.9313 | L4: 2032.5036 | M4: 1940.1943 | N4: 1844.8475 | O4: 1746.3973 | R4: 0.65 | S4: 1796.617 | U4: 0.65 | V4: 1730.7371 | X4: 0.65 | Y4: 1670.3995 | AA4: 0.65 | AB4: 1614.9647 | AD4: 0.65 | AE4: 1563.8972
A5: 2 | B5: 14 | C5: 2510.6976 | D5: 2494.455 | E5: 2478.1536 | F5: 2461.775 | G5: 2445.3052 | H5: 2428.7755 | I5: 2344.8543 | J5: 2258.7161 | K5: 2169.9945 | L5: 2078.5412 | M5: 1984.141 | N5: 1886.6346 | O5: 1785.9544 | R5: 0.7 | S5: 1889.4711 | U5: 0.7 | V5: 1820.0963 | X5: 0.7 | Y5: 1756.4634 | AA5: 0.7 | AB5: 1697.8864 | AD5: 0.7 | AE5: 1643.8148
A6: 3 | B6: 16 | C6: 2559.8858 | D6: 2543.325 | E6: 2526.7042 | F6: 2510.0047 | G6: 2493.2122 | H6: 2476.3587 | I6: 2390.7934 | J6: 2302.9676 | K6: 2212.5078 | L6: 2119.2628 | M6: 2023.0132 | N6: 1923.5965 | O6: 1820.9438 | R6: 0.75 | S6: 1979.3672 | U6: 0.75 | V6: 1906.733 | X6: 0.75 | Y6: 1839.9783 | AA6: 0.75 | AB6: 1778.4509 | AD6: 0.75 | AE6: 1721.6095
A7: 4 | B7: 18 | C7: 2604.0721 | D7: 2587.2254 | E7: 2570.3178 | F7: 2553.33 | G7: 2536.2477 | H7: 2519.1033 | I7: 2432.061 | J7: 2342.7192 | K7: 2250.698 | L7: 2155.8435 | M7: 2057.9326 | N7: 1956.7998 | O7: 1852.3752 | R7: 0.8 | S7: 2066.4569 | U7: 0.8 | V7: 1990.6588 | X7: 0.8 | Y7: 1920.9731 | AA7: 0.8 | AB7: 1856.741 | AD7: 0.8 | AE7: 1797.3122
A8: 5 | B8: 20 | C8: 2644.244 | D8: 2627.1375 | E8: 2609.969 | F8: 2592.7192 | G8: 2575.3733 | H8: 2557.9644 | I8: 2469.5794 | J8: 2378.8593 | K8: 2285.4186 | L8: 2189.1008 | M8: 2089.6794 | N8: 1986.9865 | O8: 1880.951 | R8: 0.85 | S8: 2150.9453 | U8: 0.85 | V8: 2072.0233 | X8: 0.85 | Y8: 1999.5919 | AA8: 0.85 | AB8: 1932.6903 | AD8: 0.85 | AE8: 1870.7988
A9: 6 | B9: 22 | C9: 2681.1175 | D9: 2663.7724 | E9: 2646.3645 | F9: 2628.8742 | G9: 2611.2864 | H9: 2593.6348 | I9: 2504.0172 | J9: 2412.0321 | K9: 2317.2883 | L9: 2219.6274 | M9: 2118.8196 | N9: 2014.6947 | O9: 1907.1806 | R9: 0.9 | S9: 2232.9736 | U9: 0.9 | V9: 2151.0634 | X9: 0.9 | Y9: 2075.8078 | AA9: 0.9 | AB9: 2006.4605 | AD9: 0.9 | AE9: 1942.2335
A10: 7 | B10: 24 | C10: 2715.2292 | D10: 2697.6634 | E10: 2680.034 | F10: 2662.3212 | G10: 2644.5097 | H10: 2626.6334 | I10: 2535.8757 | J10: 2442.7202 | K10: 2346.7711 | L10: 2247.8676 | M10: 2145.7772 | N10: 2040.3275 | O10: 1931.4455 | R10: 0.95 | S10: 2312.8906 | U10: 0.95 | V10: 2227.8543 | X10: 0.95 | Y10: 2149.9465 | AA10: 0.95 | AB10: 2078.0759 | AD10: 0.95 | AE10: 2011.6069
A11: 8 | B11: 26 | C11: 2746.9921 | D11: 2729.2208 | E11: 2711.3852 | F11: 2693.4651 | G11: 2675.4452 | H11: 2657.3598 | I11: 2565.5404 | J11: 2471.2953 | K11: 2374.2237 | L11: 2274.1632 | M11: 2170.8786 | N11: 2064.1953 | O11: 1954.0396 | R11: 0.96 | S11: 2328.6316 | U11: 0.96 | V11: 2242.9917 | X11: 0.96 | Y11: 2164.4901 | AA11: 0.96 | AB11: 2092.182 | AD11: 0.96 | AE11: 2025.2349
A12: 9 | B12: 28 | C12: 2776.731 | D12: 2758.7673 | E12: 2740.7386 | F12: 2722.6246 | G12: 2704.4096 | H12: 2686.1284 | I12: 2593.315 | J12: 2498.0495 | K12: 2399.927 | L12: 2298.7834 | M12: 2194.3805 | N12: 2086.5423 | O12: 1975.194 | R12: 0.97 | S12: 2344.3156 | U12: 0.97 | V12: 2258.0355 | X12: 0.97 | Y12: 2178.9809 | AA12: 0.97 | AB12: 2106.1949 | AD12: 0.97 | AE12: 2038.8137
A13: 10 | B13: 30 | C13: 2804.7066 | D13: 2786.562 | E13: 2768.3516 | F13: 2750.0551 | G13: 2731.6566 | H13: 2713.1912 | I13: 2619.4427 | J13: 2523.2174 | K13: 2424.1063 | L13: 2321.9436 | M13: 2216.489 | N13: 2107.5643 | O13: 1995.0942 | R13: 0.98 | S13: 2359.9127 | U13: 0.98 | V13: 2272.9914 | X13: 0.98 | Y13: 2193.4194 | AA13: 0.98 | AB13: 2120.1046 | AD13: 0.98 | AE13: 2052.3268
A14: 11 | B14: 32 | C14: 2831.1312 | D14: 2812.8156 | E14: 2794.4337 | F14: 2775.9647 | G14: 2757.3929 | H14: 2738.7536 | I14: 2644.1217 | J14: 2546.9899 | K14: 2446.945 | L14: 2343.8198 | M14: 2237.3716 | N14: 2127.4207 | O14: 2013.8909 | R14: 0.99 | S14: 2375.4363 | U14: 0.99 | V14: 2287.8934 | X14: 0.99 | Y14: 2207.7624 | AA14: 0.99 | AB14: 2133.9643 | AD14: 0.99 | AE14: 2065.7114
A15: 12 | B15: 34 | C15: 2856.1799 | D15: 2837.7023 | E15: 2819.1577 | F15: 2800.5254 | G15: 2781.7892 | H15: 2762.985 | I15: 2667.5159 | J15: 2569.5247 | K15: 2468.5947 | L15: 2364.557 | M15: 2257.167 | N15: 2146.2433 | O15: 2031.7091 | R15: 1 | S15: 2390.904 | U15: 1 | V15: 2302.7309 | X15: 1 | Y15: 2222.0173 | AA15: 1 | AB15: 2147.7742 | AD15: 1 | AE15: 2079.0479
A16: 13 | B16: 36 | C16: 2879.9995 | D16: 2861.3677 | E16: 2842.6685 | F16: 2823.8808 | G16: 2804.9884 | H16: 2786.0273 | I16: 2689.7621 | J16: 2590.9536 | K16: 2489.1819 | L16: 2384.2766 | M16: 2275.991 | N16: 2164.1422 | O16: 2048.6528
A17: 14 | B17: 38 | C17: 2902.7136 | D17: 2883.9349 | E17: 2865.0883 | F17: 2846.1523 | G17: 2827.1109 | H17: 2808.0003 | I17: 2710.9758 | J17: 2611.3881 | K17: 2508.8137 | L17: 2403.0811 | M17: 2293.9414 | N17: 2181.2105 | O17: 2064.8103
A18: 15 | B18: 40 | C18: 2924.428 | D18: 2905.5088 | E18: 2886.5212 | F18: 2867.4436 | G18: 2848.2598 | H18: 2829.0062 | I18: 2731.2559 | J18: 2630.9232 | K18: 2527.5814 | L18: 2421.0578 | M18: 2311.1017 | N18: 2197.5275 | O18: 2080.2565
R21: φ | S21: Flame Temps (K) @ E.O.C
A22: 5% EGR | B22: φ | C22: 1 | D22: 0.99 | E22: 0.98 | F22: 0.97 | G22: 0.96 | H22: 0.95 | I22: 0.9 | J22: 0.85 | K22: 0.8 | L22: 0.75 | M22: 0.7 | N22: 0.65 | O22: 0.6
A23: Crank Angle (θ) | B23: Pressure (Bar) | C23: Flame Temp (K) | D23: Flame Temp (K) | E23: Flame Temp (K) | F23: Flame Temp (K) | G23: Flame Temp (K) | H23: Flame Temp (K) | I23: Flame Temp (K) | J23: Flame Temp (K) | K23: Flame Temp (K) | L23: Flame Temp (K) | M23: Flame Temp (K) | N23: Flame Temp (K) | O23: Flame Temp (K) | R23: 0.6 | S23: 2080.2565
A24: 0 | B24: 10 | C24: 2302.7309 | D24: 2287.8934 | E24: 2272.9914 | F24: 2258.0355 | G24: 2242.9917 | H24: 2227.8543 | I24: 2151.0634 | J24: 2072.0233 | K24: 1990.6588 | L24: 1906.733 | M24: 1820.0963 | N24: 1730.7371 | O24: 1638.6562 | R24: 0.65 | S24: 2197.5275
A25: 1 | B25: 12 | C25: 2364.5481 | D25: 2349.3123 | E25: 2334.0103 | F25: 2318.6529 | G25: 2303.2052 | H25: 2287.6614 | I25: 2208.8091 | J25: 2127.6471 | K25: 2044.0984 | L25: 1957.9196 | M25: 1868.9571 | N25: 1777.199 | O25: 1682.6462 | R25: 0.7 | S25: 2311.1017
A26: 2 | B26: 14 | C26: 2418.1067 | D26: 2402.5258 | E26: 2386.8772 | F26: 2371.172 | G26: 2355.3744 | H26: 2339.4785 | I26: 2258.8401 | J26: 2175.8398 | K26: 2090.3986 | L26: 2002.2678 | M26: 1911.2902 | N26: 1817.4538 | O26: 1720.7593 | R26: 0.75 | S26: 2421.0578
A27: 3 | B27: 16 | C27: 2465.4809 | D27: 2449.5948 | E27: 2433.6396 | F27: 2417.6266 | G27: 2401.5196 | H27: 2385.3123 | I27: 2303.0941 | J27: 2218.4676 | K27: 2131.3525 | L27: 2041.4951 | M27: 1948.7352 | N27: 1853.0603 | O27: 1754.4715 | R27: 0.8 | S27: 2527.5814
A28: 4 | B28: 18 | C28: 2508.0377 | D28: 2491.8774 | E28: 2475.6468 | F28: 2459.3574 | G28: 2442.9723 | H28: 2426.4853 | I28: 2342.8479 | J28: 2256.7607 | K28: 2168.1419 | L28: 2076.7335 | M28: 1982.3724 | N28: 1885.0461 | O28: 1784.7555 | R28: 0.85 | S28: 2630.9232
A29: 5 | B29: 20 | C29: 2546.7282 | D29: 2530.3185 | E29: 2513.8375 | F29: 2497.2969 | G29: 2480.659 | H29: 2463.9176 | I29: 2378.99 | J29: 2291.5748 | K29: 2201.5889 | L29: 2108.7704 | M29: 2012.9536 | N29: 1914.1259 | O29: 1812.2882 | R29: 0.9 | S29: 2731.2559
A30: 6 | B30: 22 | C30: 2582.2418 | D30: 2565.6033 | E30: 2548.8925 | F30: 2532.1212 | G30: 2515.2513 | H30: 2498.2765 | I30: 2412.1646 | J30: 2323.5304 | K30: 2232.2897 | L30: 2138.1768 | M30: 2041.0239 | N30: 1940.8181 | O30: 1837.5602 | R30: 0.95 | S30: 2848.2598
A31: 7 | B31: 24 | C31: 2615.0955 | D31: 2598.2453 | E31: 2581.3219 | F31: 2564.3372 | G31: 2547.2527 | H31: 2530.0619 | I31: 2442.8544 | J31: 2353.0925 | K31: 2260.691 | L31: 2165.3807 | M31: 2066.9917 | N31: 1965.511 | O31: 1860.9394 | R31: 0.96 | S31: 2867.4436
A32: 8 | B32: 26 | C32: 2645.687 | D32: 2628.6397 | E32: 2611.5183 | F32: 2594.3349 | G32: 2577.0506 | H32: 2559.6587 | I32: 2471.431 | J32: 2380.619 | K32: 2287.1366 | L32: 2190.7114 | M32: 2091.1714 | N32: 1988.5036 | O32: 1882.7087 | R32: 0.97 | S32: 2886.5212
A33: 9 | B33: 28 | C33: 2674.3292 | D33: 2657.0974 | E33: 2639.7906 | F33: 2622.4212 | G33: 2604.9497 | H33: 2587.3696 | I33: 2498.1867 | J33: 2406.3916 | K33: 2311.8971 | L33: 2214.428 | M33: 2113.8105 | N33: 2010.0311 | O33: 1903.0909 | R33: 0.98 | S33: 2886.5212
A34: 10 | B34: 30 | C34: 2701.2731 | D34: 2683.8677 | E34: 2666.3866 | F34: 2648.8422 | G34: 2631.1947 | H34: 2613.4374 | I34: 2523.356 | J34: 2430.6361 | K34: 2335.1896 | L34: 2236.7384 | M34: 2135.1071 | N34: 2030.2822 | O34: 1922.2646 | R34: 0.99 | S34: 2905.5088
A35: 11 | B35: 32 | C35: 2726.7232 | D35: 2709.1537 | E35: 2691.5079 | F35: 2673.7982 | G35: 2655.9844 | H35: 2638.0599 | I35: 2547.1298 | J35: 2453.5363 | K35: 2357.1905 | L35: 2257.8118 | M35: 2155.223 | N35: 2049.4105 | O35: 1940.3752 | R35: 1 | S35: 2924.428
A36: 12 | B36: 34 | C36: 2750.8482 | D36: 2733.1233 | E36: 2715.3213 | F36: 2697.455 | G36: 2679.4836 | H36: 2661.4004 | I36: 2569.6658 | J36: 2475.2443 | K36: 2378.0461 | L36: 2277.7881 | M36: 2174.2916 | N36: 2067.5429 | O36: 1957.5429
A37: 13 | B37: 36 | C37: 2773.7893 | D37: 2755.9166 | E37: 2737.9662 | F37: 2719.9508 | G37: 2701.8295 | H37: 2683.5955 | I37: 2591.0959 | J37: 2495.8869 | K37: 2397.8781 | L37: 2296.7841 | M37: 2192.4245 | N37: 2084.7855 | O37: 1973.8681
A38: 14 | B38: 38 | C38: 2795.6658 | D38: 2777.6521 | E38: 2759.5601 | F38: 2741.4027 | G38: 2723.1385 | H38: 2704.7607 | I38: 2611.5315 | J38: 2515.5717 | K38: 2416.7899 | L38: 2314.8985 | M38: 2209.7158 | N38: 2101.2279 | O38: 1989.4357
A39: 15 | B39: 40 | C39: 2816.5793 | D39: 2798.4309 | E39: 2780.2036 | F39: 2761.9103 | G39: 2743.5095 | H39: 2724.9942 | I39: 2631.0677 | J39: 2534.3899 | K39: 2434.8692 | L39: 2332.2156 | M39: 2226.2461 | N39: 2116.9466 | O39: 2004.3181
A42: 10% EGR | B42: φ | C42: 1 | D42: 0.99 | E42: 0.98 | F42: 0.97 | G42: 0.96 | H42: 0.95 | I42: 0.9 | J42: 0.85 | K42: 0.8 | L42: 0.75 | M42: 0.7 | N42: 0.65 | O42: 0.6
A43: Crank Angle (θ) | B43: Pressure (Bar) | C43: Flame Temp (K) | D43: Flame Temp (K) | E43: Flame Temp (K) | F43: Flame Temp (K) | G43: Flame Temp (K) | H43: Flame Temp (K) | I43: Flame Temp (K) | J43: Flame Temp (K) | K43: Flame Temp (K) | L43: Flame Temp (K) | M43: Flame Temp (K) | N43: Flame Temp (K) | O43: Flame Temp (K)
A44: 0 | B44: 10 | C44: 2222.0173 | D44: 2207.7624 | E44: 2193.4194 | F44: 2178.9809 | G44: 2164.4901 | H44: 2149.9465 | I44: 2075.8078 | J44: 1999.5919 | K44: 1920.9731 | L44: 1839.9783 | M44: 1756.4634 | N44: 1670.3995 | O44: 1581.8994
A45: 1 | B45: 12 | C45: 2281.6677 | D45: 2267.0302 | E45: 2252.3022 | F45: 2237.476 | G45: 2222.5963 | H45: 2207.6622 | I45: 2131.5332 | J45: 2053.2713 | K45: 1972.542 | L45: 1889.3728 | M45: 1803.6159 | N45: 1715.2416 | O45: 1624.3658
A46: 2 | B46: 14 | C46: 2333.3491 | D46: 2318.38 | E46: 2303.3183 | F46: 2288.1564 | G46: 2272.9396 | H46: 2257.6672 | I46: 2179.8139 | J46: 2099.7793 | K46: 2017.2214 | L46: 1932.1684 | M46: 1844.4691 | N46: 1754.093 | O46: 1661.1588
A47: 3 | B47: 16 | C47: 2379.0627 | D47: 2363.8004 | E47: 2348.4437 | F47: 2332.9847 | G47: 2317.4697 | H47: 2301.8982 | I47: 2222.5196 | J47: 2140.917 | K47: 2056.7417 | L47: 1970.0224 | M47: 1880.6049 | N47: 1788.4582 | O47: 1693.7032
A48: 4 | B48: 18 | C48: 2420.1278 | D48: 2404.6021 | E48: 2388.9803 | F48: 2373.2545 | G48: 2357.4717 | H48: 2341.6314 | I48: 2260.8826 | J48: 2177.8715 | K48: 2092.2432 | L48: 2004.027 | M48: 1913.0661 | N48: 1819.3289 | O48: 1722.9383
A49: 5 | B49: 20 | C49: 2457.4621 | D49: 2441.6968 | E49: 2425.834 | F49: 2409.8656 | G49: 2393.8394 | H49: 2377.7547 | I49: 2295.7603 | J49: 2211.4686 | K49: 2124.5193 | L49: 2034.9423 | M49: 1942.5782 | N49: 1847.3949 | O49: 1749.5174
A50: 6 | B50: 22 | C50: 2491.731 | D50: 2475.7459 | E50: 2459.6619 | F50: 2443.4708 | G50: 2427.2211 | H50: 2410.9121 | I50: 2327.7742 | J50: 2242.3071 | K50: 2154.1454 | L50: 2063.3192 | M50: 1969.6671 | N50: 1873.1565 | O50: 1773.9141
A51: 7 | B51: 24 | C51: 2523.4331 | D51: 2507.2446 | E51: 2490.956 | F51: 2474.5589 | G51: 2458.1025 | H51: 2441.586 | I51: 2357.3903 | J51: 2270.8358 | K51: 2181.5524 | L51: 2089.5707 | M51: 1994.727 | N51: 1896.9885 | O51: 1796.4835
A52: 8 | B52: 26 | C52: 2552.9523 | D52: 2536.5744 | E52: 2520.0953 | F52: 2503.5064 | G52: 2486.8574 | H52: 2470.1477 | I52: 2384.9672 | J52: 2297.4001 | K52: 2207.0723 | L52: 2114.0145 | M52: 2018.0614 | N52: 1919.1796 | O52: 1817.4988
A53: 9 | B53: 28 | C53: 2580.5906 | D53: 2564.0354 | E53: 2547.3778 | F53: 2530.6093 | G53: 2513.7802 | H53: 2496.8896 | I53: 2410.7868 | J53: 2322.2718 | K53: 2230.9661 | L53: 2136.9009 | M53: 2039.9089 | N53: 1939.9566 | O53: 1837.1751
A54: 10 | B54: 30 | C54: 2606.5901 | D54: 2589.8681 | E54: 2573.0427 | F54: 2556.1053 | G54: 2539.1065 | H54: 2522.0458 | I54: 2435.0756 | J54: 2345.6687 | K54: 2253.4431 | L54: 2158.4302 | M54: 2060.4611 | N54: 1959.5017 | O54: 1855.6846
A55: 11 | B55: 32 | C55: 2631.1481 | D55: 2614.2685 | E55: 2597.2846 | F55: 2580.1876 | G55: 2563.0287 | H55: 2545.8072 | I55: 2458.0176 | J55: 2367.7684 | K55: 2274.6739 | L55: 2178.7658 | M55: 2079.8737 | N55: 1977.9632 | O55: 1873.168
... A59: 15 | B59: 40 | C59: 2717.8547 | D59: 2700.4189 | E59: 2682.8753 | F59: 2665.2149 | G59: 2647.4905 | H59: 2629.7015 | I59: 2539.0189 | J59: 2445.7957 | K59: 2349.6333 | L59: 2250.5647 | M59: 2148.4136 | N59: 2043.1448 | O59: 1934.8962
A63: 15% EGR | B63: φ | C63: 1 | D63: 0.99 | E63: 0.98 | F63: 0.97 | G63: 0.96 | H63: 0.95 | I63: 0.9 | J63: 0.85 | K63: 0.8 | L63: 0.75 | M63: 0.7 | N63: 0.65 | O63: 0.6
A64: Crank Angle (θ) | B64: Pressure (Bar) | C64: Flame Temp (K) | D64: Flame Temp (K) | E64: Flame Temp (K) | F64: Flame Temp (K) | G64: Flame Temp (K) | H64: Flame Temp (K) | I64: Flame Temp (K) | J64: Flame Temp (K) | K64: Flame Temp (K) | L64: Flame Temp (K) | M64: Flame Temp (K) | N64: Flame Temp (K) | O64: Flame Temp (K)
A65: 0 | B65: 10 | C65: 2147.7742 | D65: 2133.9643 | E65: 2120.1046 | F65: 2106.1949 | G65: 2092.182 | H65: 2078.0759 | I65: 2006.4605 | J65: 1932.6903 | K65: 1856.741 | L65: 1778.4509 | M65: 1697.8864 | N65: 1614.9647 | O65: 1529.8576
A66: 1 | B66: 12 | C66: 2205.4316 | D66: 2191.251 | E66: 2177.0192 | F66: 2162.7361 | G66: 2148.347 | H66: 2133.8622 | I66: 2060.3243 | J66: 1984.5737 | K66: 1906.5856 | L66: 1826.1938 | M66: 1743.4665 | N66: 1658.3187 | O66: 1570.9269
A67: 2 | B67: 14 | C67: 2255.3861 | D67: 2240.8843 | E67: 2226.3302 | F67: 2211.7236 | G67: 2197.0085 | H67: 2182.1957 | I67: 2106.992 | J67: 2029.5257 | K67: 1949.771 | L67: 1867.5583 | M67: 1782.9572 | N67: 1695.8808 | O67: 1606.5095
A68: 3 | B68: 16 | C68: 2299.5724 | D68: 2284.7864 | E68: 2269.9472 | F68: 2255.0544 | G68: 2240.0511 | H68: 2224.948 | I68: 2148.271 | J68: 2069.287 | K68: 1987.9699 | L68: 1904.1465 | M68: 1817.8879 | N68: 1729.1055 | O68: 1637.9833
A69: 4 | B69: 18 | C69: 2339.2654 | D69: 2324.2243 | E69: 2309.1289 | F69: 2293.979 | G69: 2278.7167 | H69: 2263.353 | I69: 2185.3525 | J69: 2105.0051 | K69: 2022.2843 | L69: 1937.014 | M69: 1849.2666 | N69: 1758.9517 | O69: 1666.2567
A70: 5 | B70: 20 | C70: 2375.3523 | D70: 2360.0791 | E70: 2344.7508 | F70: 2329.3673 | G70: 2313.8695 | H70: 2298.2687 | I70: 2219.065 | J70: 2137.4781 | K70: 2053.4812 | L70: 1966.8955 | M70: 1877.7944 | N70: 1786.0863 | O70: 1691.9613
A71: 6 | B71: 22 | C71: 2408.4762 | D71: 2392.99 | E71: 2377.448 | F71: 2361.8499 | G71: 2346.136 | H71: 2330.3177 | I71: 2250.0094 | J71: 2167.2848 | K71: 2082.1167 | L71: 1994.3235 | M71: 1903.9799 | N71: 1810.993 | O71: 1715.5554
A72: 7 | B72: 24 | C72: 2439.119 | D72: 2423.4358 | E72: 2407.6961 | F72: 2391.8995 | G72: 2375.9857 | H72: 2359.9662 | I72: 2278.6362 | J72: 2194.8591 | K72: 2108.6073 | L72: 2019.6972 | M72: 1928.2041 | N72: 1834.0341 | O72: 1737.3823
A73: 8 | B73: 26 | C73: 2467.6519 | D73: 2451.7852 | E73: 2435.8614 | F73: 2419.88 | G73: 2403.7801 | H73: 2387.5731 | I73: 2305.2917 | J73: 2220.5346 | K73: 2133.2739 | L73: 2043.3237 | M73: 1950.7603 | N73: 1855.4887 | O73: 1757.7062
A74: 9 | B74: 28 | C74: 2494.3667 | D74: 2478.3283 | E74: 2462.232 | F74: 2446.0777 | G74: 2429.8034 | H74: 2413.421 | I74: 2330.2488 | J74: 2244.5741 | K74: 2156.3687 | L74: 2065.4447 | M74: 1971.8793 | N74: 1875.5762 | O74: 1776.7352
A75: 10 | B75: 30 | C75: 2519.4975 | D75: 2503.2975 | E75: 2487.0391 | F75: 2470.722 | G75: 2454.2837 | H75: 2437.7363 | I75: 2353.7261 | J75: 2267.1882 | K75: 2178.0941 | L75: 2086.2541 | M75: 1991.746 | N75: 1894.4727 | O75: 1794.6358
A76: 11 | B76: 32 | C76: 2543.235 | D76: 2526.8823 | E76: 2510.4707 | F76: 2493.9999 | G76: 2477.4068 | H76: 2460.7034 | I76: 2375.9017 | J76: 2288.5485 | K76: 2198.6151 | L76: 2105.9097 | M76: 2010.5112 | N76: 1912.3215 | O76: 1811.544
... A80: 15 | B80: 40 | C80: 2627.0445 | D80: 2610.153 | E80: 2593.2005 | F80: 2576.1869 | G80: 2559.047 | H80: 2541.7932 | I80: 2454.197 | J80: 2363.9652 | K80: 2271.068 | L80: 2175.3077 | M80: 2076.7654 | N80: 1975.3399 | O80: 1871.2414
A84: 20% EGR | B84: φ | C84: 1 | D84: 0.99 | E84: 0.98 | F84: 0.97 | G84: 0.96 | H84: 0.95 | I84: 0.9 | J84: 0.85 | K84: 0.8 | L84: 0.75 | M84: 0.7 | N84: 0.65 | O84: 0.6
A85: Crank Angle (θ) | B85: Pressure (Bar) | C85: Flame Temp (K) | D85: Flame Temp (K) | E85: Flame Temp (K) | F85: Flame Temp (K) | G85: Flame Temp (K) | H85: Flame Temp (K) | I85: Flame Temp (K) | J85: Flame Temp (K) | K85: Flame Temp (K) | L85: Flame Temp (K) | M85: Flame Temp (K) | N85: Flame Temp (K) | O85: Flame Temp (K)
A86: 0 | B86: 10 | C86: 2079.0479 | D86: 2065.7114 | E86: 2052.3268 | F86: 2038.8137 | G86: 2025.2349 | H86: 2011.6069 | I86: 1942.2335 | J86: 1870.7988 | K86: 1797.3122 | L86: 1721.6095 | M86: 1643.8148 | N86: 1563.8972 | O86: 1482.0067
A87: 1 | B87: 12 | C87: 2134.8603 | D87: 2121.1657 | E87: 2107.4219 | F87: 2093.546 | G87: 2079.6026 | H87: 2065.6089 | I87: 1994.3731 | J87: 1921.0207 | K87: 1845.5614 | L87: 1767.8264 | M87: 1687.9433 | N87: 1605.8803 | O87: 1521.7914
A88: 2 | B88: 14 | C88: 2183.2163 | D88: 2169.2116 | E88: 2155.1564 | F88: 2140.9662 | G88: 2126.7071 | H88: 2112.3963 | I88: 2039.547 | J88: 1964.5331 | K88: 1887.3646 | L88: 1807.8689 | M88: 1726.1764 | N88: 1642.2546 | O88: 1556.2611
A89: 3 | B89: 16 | C89: 2225.9887 | D89: 2211.7096 | E89: 2197.3791 | F89: 2182.9108 | G89: 2168.3723 | H89: 2153.7812 | I89: 2079.5047 | J89: 2003.0212 | K89: 1924.3408 | L89: 1843.2876 | M89: 1759.9946 | N89: 1674.4287 | O89: 1586.7504
A90: 4 | B90: 18 | C90: 2264.4116 | D90: 2249.886 | E90: 2235.3081 | F90: 2220.5902 | G90: 2205.8007 | H90: 2190.9577 | I90: 2115.3991 | J90: 2037.5954 | K90: 1957.557 | L90: 1875.1047 | M90: 1790.374 | N90: 1703.3311 | O90: 1614.1394
A91: 5 | B91: 20 | C91: 2299.3437 | D91: 2284.594 | E91: 2269.7913 | F91: 2254.8463 | G91: 2239.8287 | H91: 2224.7567 | I91: 2148.0325 | J91: 2069.0285 | K91: 1987.7554 | L91: 1904.0311 | M91: 1817.9933 | N91: 1729.6077 | O91: 1639.0401
A92: 6 | B92: 22 | C92: 2331.4076 | D92: 2316.4523 | E92: 2301.4431 | F92: 2286.2897 | G92: 2271.0627 | H92: 2255.7806 | I92: 2177.9864 | J92: 2097.8808 | K92: 2015.4743 | L92: 1930.5825 | M92: 1843.3449 | N92: 1753.7268 | O92: 1661.8962
A93: 7 | B93: 24 | C93: 2361.07 | D93: 2345.9244 | E93: 2330.7242 | F93: 2315.378 | G93: 2299.9572 | H93: 2284.4807 | I93: 2205.6968 | J93: 2124.572 | K93: 2041.117 | L93: 1955.1452 | M93: 1866.7977 | N93: 1776.0393 | O93: 1683.0404
A94: 8 | B94: 26 | C94: 2388.6898 | D94: 2373.3671 | E94: 2357.9891 | F94: 2342.4634 | G94: 2326.8622 | H94: 2311.2046 | I94: 2231.4991 | J94: 2149.4253 | K94: 2064.9941 | L94: 1978.0165 | M94: 1888.6355 | N94: 1796.8155 | O94: 1702.7286
A95: 9 | B95: 28 | C95: 2414.5498 | D95: 2399.0611 | E95: 2383.5167 | F95: 2367.8229 | G95: 2352.0528 | H95: 2336.2257 | I95: 2255.6574 | J95: 2172.695 | K95: 2087.3497 | L95: 1999.4306 | M95: 1909.0819 | N95: 1816.2678 | O95: 1721.1624
A96: 10 | B96: 30 | C96: 2438.8765 | D96: 2423.2317 | E96: 2407.5307 | F96: 2391.6788 | G96: 2375.7498 | H96: 2359.7633 | I96: 2278.3831 | J96: 2194.5849 | K96: 2108.3798 | L96: 2019.5749 | M96: 1928.316 | N96: 1834.5668 | O96: 1738.5031
A97: 11 | B97: 32 | C97: 2461.8543 | D97: 2446.0622 | E97: 2430.2132 | F97: 2414.212 | G97: 2398.1329 | H97: 2381.9958 | I97: 2299.8489 | J97: 2215.2612 | K97: 2128.2439 | L97: 2038.6023 | M97: 1946.4836 | N97: 1851.8511 | O97: 1754.8824
... A101: 15 | B101: 40 | C101: 2542.982 | D101: 2526.6695 | E101: 2510.2983 | F101: 2493.7697 | G101: 2477.1608 | H101: 2460.4918 | I101: 2375.6379 | J101: 2288.2627 | K101: 2198.3778 | L101: 2105.7822 | M101: 2010.6278 | N101: 1912.8768 | O101: 1812.7127

Sheet Flame Temp Graphs

Sheet PPM & E.G.R
A3: EGR % | B3: 0 | D3: 5 | E3: 10 | F3: 15 | G3: 20 | H3: 25 | I3: 30 | K3: Average PPM 0% E.G.R
B4: φ | C4: PPM | D4: PPM | E4: PPM | F4: PPM | G4: PPM | H4: PPM | I4: PPM | K4: =(C17+C16+C15+C14+C13+C12+C11+C10+C9+C8+C7+C6+C5)/13 -> 10205.011
B5: 0.6 | C5: 9.2332892 | D5: 2.6795544 | E5: 0.79439903 | F5: 0.24072563 | G5: 0.0745943 | H5: 0.023643823 | I5: 0.0076663322
B6: 0.65 | C6: 50.935709 | D6: 15.702669 | E6: 4.9270724 | F6: 1.5739917 | G6: 0.51218258 | H6: 0.16985739 | I6: 0.057434486 | K6: Average PPM 5% E.G.R | O6: % Reduction of NOx PPM produced with 5% E.G.R added
B7: 0.7 | C7: 221.75315 | D7: 72.322706 | E7: 23.942617 | F7: 8.0431575 | G7: 2.7427259 | H7: 0.95047663 | I7: 0.33487435 | K7: =(D17+D16+D15+D14+D13+D12+D11+D10+D9+D8+D7+D6+D5)/13 -> 4082.495 | O7: =((K4-K7)/K4)*100 -> 59.995191
B8: 0.75 | C8: 789.7357 | D8: 271.19645 | E8: 94.260547 | F8: 33.174667 | G8: 11.831375 | H8: 4.2767393 | I8: 1.5675151
B9: 0.8 | C9: 2360.6563 | D9: 848.44079 | E9: 308.37755 | F9: 113.42755 | G9: 42.18763 | H9: 15.865586 | I9: 6.039018 | K9: Average PPM 10% E.G.R | O9: % Reduction of NOx PPM produced with 10% E.G.R added
B10: 0.85 | C10: 6006.4163 | D10: 2246.7173 | E10: 850.99245 | F10: 325.37749 | G10: 125.75372 | H10: 49.108695 | I10: 19.376234 | K10: =(E5+E6+E7+E8+E9+E10+E11+E12+E13+E14+E15+E16+E17)/13 -> 1655.698 | O10: =((K4-K10)/K4)*100 -> 83.775637
B11: 0.9 | C11: 12921.211 | D11: 5012.7444 | E11: 1966.1755 | F11: 779.96594 | G11: 312.30615 | H11: 126.19313 | I11: 51.475224
B12: 0.95 | C12: 21986.316 | D12: 8794.3438 | E12: 3564.3152 | F12: 1458.9349 | G12: 603.34686 | H12: 251.83997 | I12: 105.93442 | K12: Average PPM 15% E.G.R | O12: % Reduction of NOx PPM produced with 15% E.G.R added
B13: 0.96 | C13: 23213.71 | D13: 9340.533 | E13: 3805.9093 | F13: 1568.2123 | G13: 652.17433 | H13: 273.76056 | I13: 115.91209 | K13: =(F5+F6+F7+F8+F9+F10+F11+F12+F13+F14+F15+F16+F17)/13 -> 679.36298 | O13: =((K4-K13)/K4)*100 -> 93.342849
B14: 0.97 | C14: 23664.896 | D14: 9573.6559 | E14: 3923.1156 | F14: 1626.2186 | G14: 680.39684 | H14: 287.19348 | I14: 122.27731
B15: 0.98 | C15: 22676.035 | D15: 9221.9889 | E15: 3801.5991 | F15: 1584.0975 | G15: 667.01683 | H15: 283.14868 | I15: 121.21614 | K15: Average PPM 20% E.G.R | O15: % Reduction of NOx PPM produced with 20% E.G.R added
B16: 0.99 | C16: 18764.241 | D16: 7672.1101 | E16: 3179.6642 | F16: 1332.452 | G16: 563.98233 | H16: 240.94768 | I16: 103.73246 | K16: =(G5+G6+G7+G8+G9+G10+G11+G12+G13+G14+G15+G16+G17)/13 -> 281.71735 | O16: =((K4-K16)/K4)*100 -> 97.239421
B17: 1 | C17: 0 | D17: 0 | E17: 0 | F17: 0 | G17: 0 | H17: 0 | I17: 0
A22: E.G.R | B22: 0 | C22: 5 | D22: 10 | E22: 15 | F22: 20
A23: φ = 0.97 | B23: 23664.896 | C23: 9573.6559 | D23: 3923.1156 | E23: 1626.2186 | F23: 680.39684

Sheet PPM Graph 

Sheet E.G.R Graph

Sheet Enthalpy Tables
A1: CO2 | G1: H2O | M1: N2 | S1: O2 | AA1: Poly 6 Curve fit | AL1: 0.99 | AV1: 0.98 | BF1: 0.97 | BP1: 0.96 | BZ1: 0.95 | CJ1: 0.9 | CT1: 0.85 | DD1: 0.8 | DN1: 0.75 | DX1: 0.7 | EH1: 0.65 | ER1: 0.6
A2: T(K) | B2: c^p(kJ/kmol-K) | C2: h^h^0(MJ/kmol) | D2: s^(kJ/kmol-K) | E2: g0R^uT | G2: T(K) | H2: c^p(kJ/kmol-K) | I2: h^h^0(MJ/kmol) | J2: s^(kJ/kmol-K) | K2: g0R^uT | M2: T(K) | N2: c^p(kJ/kmol-K) | O2: h^h^0(MJ/kmol) | P2: s^(kJ/kmol-K) | Q2: g0R^uT | S2: T(K) | T2: c^p(kJ/kmol-K) | U2: h^h^0(MJ/kmol) | V2: s^(kJ/kmol-K) | W2: g0R^uT | AB2: Total | AC2: CO2 Enthalpy | AD2: H20 Enthalpy | AE2: N2 Enthalpy | AF2: O2 Enthalpy | AG2: Temp (K) | AL2: Total | AM2: CO2 Enthalpy | AN2: H20 Enthalpy | AO2: N2 Enthalpy | AP2: O2 Enthalpy | AQ2: Temp (K) | AV2: Total | AW2: CO2 Enthalpy | AX2: H20 Enthalpy | AY2: N2 Enthalpy | AZ2: O2 Enthalpy | BA2: Temp (K) | BF2: Total | BG2: CO2 Enthalpy | BH2: H20 Enthalpy | BI2: N2 Enthalpy | BJ2: O2 Enthalpy | BK2: Temp (K) | BP2: Total | BQ2: CO2 Enthalpy | BR2: H20 Enthalpy | BS2: N2 Enthalpy | BT2: O2 Enthalpy | BU2: Temp (K) | BZ2: Total | CA2: CO2 Enthalpy | CB2: H20 Enthalpy | CC2: N2 Enthalpy | CD2: O2 Enthalpy | CE2: Temp (K) | CJ2: Total | CK2: CO2 Enthalpy | CL2: H20 Enthalpy | CM2: N2 Enthalpy | CN2: O2 Enthalpy | CO2: Temp (K) | CT2: Total | CU2: CO2 Enthalpy | CV2: H20 Enthalpy | CW2: N2 Enthalpy | CX2: O2 Enthalpy | CY2: Temp (K) | DD2: Total | DE2: CO2 Enthalpy | DF2: H20 Enthalpy | DG2: N2 Enthalpy | DH2: O2 Enthalpy | DI2: Temp (K) | DN2: Total | DO2: CO2 Enthalpy | DP2: H20 Enthalpy | DQ2: N2 Enthalpy | DR2: O2 Enthalpy | DS2: Temp (K) | DX2: Total | DY2: CO2 Enthalpy | DZ2: H20 Enthalpy | EA2: N2 Enthalpy | EB2: O2 Enthalpy | EC2: Temp (K) | EH2: Total | EI2: CO2 Enthalpy | EJ2: H20 Enthalpy | EK2: N2 Enthalpy | EL2: O2 Enthalpy | EM2: Temp (K) | ER2: Total | ES2: CO2 Enthalpy | ET2: H20 Enthalpy | EU2: N2 Enthalpy | EV2: O2 Enthalpy | EW2: Temp (K)
A3: 200 | B3: 32.39 | C3: 3.42 | D3: 199.87 | E3: 262.76 | G3: 200 | H3: 32.25 | I3: 3.23 | J3: 175.59 | K3: 168.5 | M3: 200 | N3: 28.79 | O3: 2.84 | P3: 179.95 | Q3: 23.35 | S3: 200 | T3: 28.47 | U3: 2.84 | V3: 193.51 | W3: 24.98 | AB3: =AC3+AD3+AE3+AF3 -> 3.3696399 | AC3: =((8.5770134353*10^-19)*(AG3^6))-((1.0374875556*10^-14)*(AG3^5))+((4.9689475953*10^-11)*(AG3^4))-((1.2019118054*10^-7)*(AG3^3))+((1.5650954893*10^-4)*(AG3^2))-((4.8239362033*10^-2)*(AG3))+5.2084519626 -> 0.93567016 | AD3: =((6.6506859177*10^-19)*(AG3^6))-((7.8984343104*10^-15)*(AG3^5))+((3.6879849877*10^-11)*(AG3^4))-((8.6386228559*10^-8)*(AG3^3))+((1.1074017861*10^-4)*(AG3^2))-((3.1241611608*10^-2)*(AG3))+(3.3006694533) -> 0.84738727 | AE3: =((5.9376621671*10^-19)*(AG3^6))-((7.1020711589*10^-15)*(AG3^5))+((3.3460896805*10^-11)*(AG3^4))-((7.8909601634*10^-8)*(AG3^3))+((9.8599769212*10^-5)*(AG3^2))-((2.8172899156*10^-2)*(AG3))+(3.05378908) -> 0.78322598 | AF3: =((6.4958291549*10^-19)*(AG3^6))-((7.8224528491*10^-15)*(AG3^5))+((3.7120417697*10^-11)*(AG3^4))-((8.798317617*10^-8)*(AG3^3))+((1.0982327235*10^-4)*(AG3^2))-((3.2606444641*10^-2)*(AG3))+(3.5786489003) -> 0.80335651 | AG3: 200 | AL3: =AM3+AN3+AO3+AP3 -> 3.3696399 | AM3: =((8.5770134353*10^-19)*(AQ3^6))-((1.0374875556*10^-14)*(AQ3^5))+((4.9689475953*10^-11)*(AQ3^4))-((1.2019118054*10^-7)*(AQ3^3))+((1.5650954893*10^-4)*(AQ3^2))-((4.8239362033*10^-2)*(AQ3))+5.2084519626 -> 0.93567016 | AN3: =((6.6506859177*10^-19)*(AQ3^6))-((7.8984343104*10^-15)*(AQ3^5))+((3.6879849877*10^-11)*(AQ3^4))-((8.6386228559*10^-8)*(AQ3^3))+((1.1074017861*10^-4)*(AQ3^2))-((3.1241611608*10^-2)*(AQ3))+(3.3006694533) -> 0.84738727 | AO3: =((5.9376621671*10^-19)*(AQ3^6))-((7.1020711589*10^-15)*(AQ3^5))+((3.3460896805*10^-11)*(AQ3^4))-((7.8909601634*10^-8)*(AQ3^3))+((9.8599769212*10^-5)*(AQ3^2))-((2.8172899156*10^-2)*(AQ3))+(3.05378908) -> 0.78322598 | AP3: =((6.4958291549*10^-19)*(AQ3^6))-((7.8224528491*10^-15)*(AQ3^5))+((3.7120417697*10^-11)*(AQ3^4))-((8.798317617*10^-8)*(AQ3^3))+((1.0982327235*10^-4)*(AQ3^2))-((3.2606444641*10^-2)*(AQ3))+(3.5786489003) -> 0.80335651 | AQ3: 200 | AV3: =AW3+AX3+AY3+AZ3 -> 3.3696399 | AW3: =((8.5770134353*10^-19)*(BA3^6))-((1.0374875556*10^-14)*(BA3^5))+((4.9689475953*10^-11)*(BA3^4))-((1.2019118054*10^-7)*(BA3^3))+((1.5650954893*10^-4)*(BA3^2))-((4.8239362033*10^-2)*(BA3))+5.2084519626 -> 0.93567016 | AX3: =((6.6506859177*10^-19)*(BA3^6))-((7.8984343104*10^-15)*(BA3^5))+((3.6879849877*10^-11)*(BA3^4))-((8.6386228559*10^-8)*(BA3^3))+((1.1074017861*10^-4)*(BA3^2))-((3.1241611608*10^-2)*(BA3))+(3.3006694533) -> 0.84738727 | AY3: =((5.9376621671*10^-19)*(BA3^6))-((7.1020711589*10^-15)*(BA3^5))+((3.3460896805*10^-11)*(BA3^4))-((7.8909601634*10^-8)*(BA3^3))+((9.8599769212*10^-5)*(BA3^2))-((2.8172899156*10^-2)*(BA3))+(3.05378908) -> 0.78322598 | AZ3: =((6.4958291549*10^-19)*(BA3^6))-((7.8224528491*10^-15)*(BA3^5))+((3.7120417697*10^-11)*(BA3^4))-((8.798317617*10^-8)*(BA3^3))+((1.0982327235*10^-4)*(BA3^2))-((3.2606444641*10^-2)*(BA3))+(3.5786489003) -> 0.80335651 | BA3: 200 | BF3: =BG3+BH3+BI3+BJ3 -> 3.3696399 | BG3: =((8.5770134353*10^-19)*(BK3^6))-((1.0374875556*10^-14)*(BK3^5))+((4.9689475953*10^-11)*(BK3^4))-((1.2019118054*10^-7)*(BK3^3))+((1.5650954893*10^-4)*(BK3^2))-((4.8239362033*10^-2)*(BK3))+5.2084519626 -> 0.93567016 | BH3: =((6.6506859177*10^-19)*(BK3^6))-((7.8984343104*10^-15)*(BK3^5))+((3.6879849877*10^-11)*(BK3^4))-((8.6386228559*10^-8)*(BK3^3))+((1.1074017861*10^-4)*(BK3^2))-((3.1241611608*10^-2)*(BK3))+(3.3006694533) -> 0.84738727 | BI3: =((5.9376621671*10^-19)*(BK3^6))-((7.1020711589*10^-15)*(BK3^5))+((3.3460896805*10^-11)*(BK3^4))-((7.8909601634*10^-8)*(BK3^3))+((9.8599769212*10^-5)*(BK3^2))-((2.8172899156*10^-2)*(BK3))+(3.05378908) -> 0.78322598 | BJ3: =((6.4958291549*10^-19)*(BK3^6))-((7.8224528491*10^-15)*(BK3^5))+((3.7120417697*10^-11)*(BK3^4))-((8.798317617*10^-8)*(BK3^3))+((1.0982327235*10^-4)*(BK3^2))-((3.2606444641*10^-2)*(BK3))+(3.5786489003) -> 0.80335651 | BK3: 200 | BP3: =BQ3+BR3+BS3+BT3 -> 3.3696399 | BQ3: =((8.5770134353*10^-19)*(BU3^6))-((1.0374875556*10^-14)*(BU3^5))+((4.9689475953*10^-11)*(BU3^4))-((1.2019118054*10^-7)*(BU3^3))+((1.5650954893*10^-4)*(BU3^2))-((4.8239362033*10^-2)*(BU3))+5.2084519626 -> 0.93567016 | BR3: =((6.6506859177*10^-19)*(BU3^6))-((7.8984343104*10^-15)*(BU3^5))+((3.6879849877*10^-11)*(BU3^4))-((8.6386228559*10^-8)*(BU3^3))+((1.1074017861*10^-4)*(BU3^2))-((3.1241611608*10^-2)*(BU3))+(3.3006694533) -> 0.84738727 | BS3: =((5.9376621671*10^-19)*(BU3^6))-((7.1020711589*10^-15)*(BU3^5))+((3.3460896805*10^-11)*(BU3^4))-((7.8909601634*10^-8)*(BU3^3))+((9.8599769212*10^-5)*(BU3^2))-((2.8172899156*10^-2)*(BU3))+(3.05378908) -> 0.78322598 | BT3: =((6.4958291549*10^-19)*(BU3^6))-((7.8224528491*10^-15)*(BU3^5))+((3.7120417697*10^-11)*(BU3^4))-((8.798317617*10^-8)*(BU3^3))+((1.0982327235*10^-4)*(BU3^2))-((3.2606444641*10^-2)*(BU3))+(3.5786489003) -> 0.80335651 | BU3: 200 | BZ3: =CA3+CB3+CC3+CD3 -> 3.3696399 | CA3: =((8.5770134353*10^-19)*(CE3^6))-((1.0374875556*10^-14)*(CE3^5))+((4.9689475953*10^-11)*(CE3^4))-((1.2019118054*10^-7)*(CE3^3))+((1.5650954893*10^-4)*(CE3^2))-((4.8239362033*10^-2)*(CE3))+5.2084519626 -> 0.93567016 | CB3: =((6.6506859177*10^-19)*(CE3^6))-((7.8984343104*10^-15)*(CE3^5))+((3.6879849877*10^-11)*(CE3^4))-((8.6386228559*10^-8)*(CE3^3))+((1.1074017861*10^-4)*(CE3^2))-((3.1241611608*10^-2)*(CE3))+(3.3006694533) -> 0.84738727 | CC3: =((5.9376621671*10^-19)*(CE3^6))-((7.1020711589*10^-15)*(CE3^5))+((3.3460896805*10^-11)*(CE3^4))-((7.8909601634*10^-8)*(CE3^3))+((9.8599769212*10^-5)*(CE3^2))-((2.8172899156*10^-2)*(CE3))+(3.05378908) -> 0.78322598 | CD3: =((6.4958291549*10^-19)*(CE3^6))-((7.8224528491*10^-15)*(CE3^5))+((3.7120417697*10^-11)*(CE3^4))-((8.798317617*10^-8)*(CE3^3))+((1.0982327235*10^-4)*(CE3^2))-((3.2606444641*10^-2)*(CE3))+(3.5786489003) -> 0.80335651 | CE3: 200 | CJ3: =CK3+CL3+CM3+CN3 -> 3.3696399 | CK3: =((8.5770134353*10^-19)*(CO3^6))-((1.0374875556*10^-14)*(CO3^5))+((4.9689475953*10^-11)*(CO3^4))-((1.2019118054*10^-7)*(CO3^3))+((1.5650954893*10^-4)*(CO3^2))-((4.8239362033*10^-2)*(CO3))+5.2084519626 -> 0.93567016 | CL3: =((6.6506859177*10^-19)*(CO3^6))-((7.8984343104*10^-15)*(CO3^5))+((3.6879849877*10^-11)*(CO3^4))-((8.6386228559*10^-8)*(CO3^3))+((1.1074017861*10^-4)*(CO3^2))-((3.1241611608*10^-2)*(CO3))+(3.3006694533) -> 0.84738727 | CM3: =((5.9376621671*10^-19)*(CO3^6))-((7.1020711589*10^-15)*(CO3^5))+((3.3460896805*10^-11)*(CO3^4))-((7.8909601634*10^-8)*(CO3^3))+((9.8599769212*10^-5)*(CO3^2))-((2.8172899156*10^-2)*(CO3))+(3.05378908) -> 0.78322598 | CN3: =((6.4958291549*10^-19)*(CO3^6))-((7.8224528491*10^-15)*(CO3^5))+((3.7120417697*10^-11)*(CO3^4))-((8.798317617*10^-8)*(CO3^3))+((1.0982327235*10^-4)*(CO3^2))-((3.2606444641*10^-2)*(CO3))+(3.5786489003) -> 0.80335651 | CO3: 200 | CT3: =CU3+CV3+CW3+CX3 -> 3.3696399 | CU3: =((8.5770134353*10^-19)*(CY3^6))-((1.0374875556*10^-14)*(CY3^5))+((4.9689475953*10^-11)*(CY3^4))-((1.2019118054*10^-7)*(CY3^3))+((1.5650954893*10^-4)*(CY3^2))-((4.8239362033*10^-2)*(CY3))+5.2084519626 -> 0.93567016 | CV3: =((6.6506859177*10^-19)*(CY3^6))-((7.8984343104*10^-15)*(CY3^5))+((3.6879849877*10^-11)*(CY3^4))-((8.6386228559*10^-8)*(CY3^3))+((1.1074017861*10^-4)*(CY3^2))-((3.1241611608*10^-2)*(CY3))+(3.3006694533) -> 0.84738727 | CW3: =((5.9376621671*10^-19)*(CY3^6))-((7.1020711589*10^-15)*(CY3^5))+((3.3460896805*10^-11)*(CY3^4))-((7.8909601634*10^-8)*(CY3^3))+((9.8599769212*10^-5)*(CY3^2))-((2.8172899156*10^-2)*(CY3))+(3.05378908) -> 0.78322598 | CX3: =((6.4958291549*10^-19)*(CY3^6))-((7.8224528491*10^-15)*(CY3^5))+((3.7120417697*10^-11)*(CY3^4))-((8.798317617*10^-8)*(CY3^3))+((1.0982327235*10^-4)*(CY3^2))-((3.2606444641*10^-2)*(CY3))+(3.5786489003) -> 0.80335651 | CY3: 200 | DD3: =DE3+DF3+DG3+DH3 -> 3.3696399 | DE3: =((8.5770134353*10^-19)*(DI3^6))-((1.0374875556*10^-14)*(DI3^5))+((4.9689475953*10^-11)*(DI3^4))-((1.2019118054*10^-7)*(DI3^3))+((1.5650954893*10^-4)*(DI3^2))-((4.8239362033*10^-2)*(DI3))+5.2084519626 -> 0.93567016 | DF3: =((6.6506859177*10^-19)*(DI3^6))-((7.8984343104*10^-15)*(DI3^5))+((3.6879849877*10^-11)*(DI3^4))-((8.6386228559*10^-8)*(DI3^3))+((1.1074017861*10^-4)*(DI3^2))-((3.1241611608*10^-2)*(DI3))+(3.3006694533) -> 0.84738727 | DG3: =((5.9376621671*10^-19)*(DI3^6))-((7.1020711589*10^-15)*(DI3^5))+((3.3460896805*10^-11)*(DI3^4))-((7.8909601634*10^-8)*(DI3^3))+((9.8599769212*10^-5)*(DI3^2))-((2.8172899156*10^-2)*(DI3))+(3.05378908) -> 0.78322598 | DH3: =((6.4958291549*10^-19)*(DI3^6))-((7.8224528491*10^-15)*(DI3^5))+((3.7120417697*10^-11)*(DI3^4))-((8.798317617*10^-8)*(DI3^3))+((1.0982327235*10^-4)*(DI3^2))-((3.2606444641*10^-2)*(DI3))+(3.5786489003) -> 0.80335651 | DI3: 200 | DN3: =DO3+DP3+DQ3+DR3 -> 3.3696399 | DO3: =((8.5770134353*10^-19)*(DS3^6))-((1.0374875556*10^-14)*(DS3^5))+((4.9689475953*10^-11)*(DS3^4))-((1.2019118054*10^-7)*(DS3^3))+((1.5650954893*10^-4)*(DS3^2))-((4.8239362033*10^-2)*(DS3))+5.2084519626 -> 0.93567016 | DP3: =((6.6506859177*10^-19)*(DS3^6))-((7.8984343104*10^-15)*(DS3^5))+((3.6879849877*10^-11)*(DS3^4))-((8.6386228559*10^-8)*(DS3^3))+((1.1074017861*10^-4)*(DS3^2))-((3.1241611608*10^-2)*(DS3))+(3.3006694533) -> 0.84738727 | DQ3: =((5.9376621671*10^-19)*(DS3^6))-((7.1020711589*10^-15)*(DS3^5))+((3.3460896805*10^-11)*(DS3^4))-((7.8909601634*10^-8)*(DS3^3))+((9.8599769212*10^-5)*(DS3^2))-((2.8172899156*10^-2)*(DS3))+(3.05378908) -> 0.78322598 | DR3: =((6.4958291549*10^-19)*(DS3^6))-((7.8224528491*10^-15)*(DS3^5))+((3.7120417697*10^-11)*(DS3^4))-((8.798317617*10^-8)*(DS3^3))+((1.0982327235*10^-4)*(DS3^2))-((3.2606444641*10^-2)*(DS3))+(3.5786489003) -> 0.80335651 | DS3: 200 | DX3: =DY3+DZ3+EA3+EB3 -> 3.3696399 | DY3: =((8.5770134353*10^-19)*(EC3^6))-((1.0374875556*10^-14)*(EC3^5))+((4.9689475953*10^-11)*(EC3^4))-((1.2019118054*10^-7)*(EC3^3))+((1.5650954893*10^-4)*(EC3^2))-((4.8239362033*10^-2)*(EC3))+5.2084519626 -> 0.93567016 | DZ3: =((6.6506859177*10^-19)*(EC3^6))-((7.8984343104*10^-15)*(EC3^5))+((3.6879849877*10^-11)*(EC3^4))-((8.6386228559*10^-8)*(EC3^3))+((1.1074017861*10^-4)*(EC3^2))-((3.1241611608*10^-2)*(EC3))+(3.3006694533) -> 0.84738727 | EA3: =((5.9376621671*10^-19)*(EC3^6))-((7.1020711589*10^-15)*(EC3^5))+((3.3460896805*10^-11)*(EC3^4))-((7.8909601634*10^-8)*(EC3^3))+((9.8599769212*10^-5)*(EC3^2))-((2.8172899156*10^-2)*(EC3))+(3.05378908) -> 0.78322598 | EB3: =((6.4958291549*10^-19)*(EC3^6))-((7.8224528491*10^-15)*(EC3^5))+((3.7120417697*10^-11)*(EC3^4))-((8.798317617*10^-8)*(EC3^3))+((1.0982327235*10^-4)*(EC3^2))-((3.2606444641*10^-2)*(EC3))+(3.5786489003) -> 0.80335651 | EC3: 200 | EH3: =EI3+EJ3+EK3+EL3 -> 3.3696399 | EI3: =((8.5770134353*10^-19)*(EM3^6))-((1.0374875556*10^-14)*(EM3^5))+((4.9689475953*10^-11)*(EM3^4))-((1.2019118054*10^-7)*(EM3^3))+((1.5650954893*10^-4)*(EM3^2))-((4.8239362033*10^-2)*(EM3))+5.2084519626 -> 0.93567016 | EJ3: =((6.6506859177*10^-19)*(EM3^6))-((7.8984343104*10^-15)*(EM3^5))+((3.6879849877*10^-11)*(EM3^4))-((8.6386228559*10^-8)*(EM3^3))+((1.1074017861*10^-4)*(EM3^2))-((3.1241611608*10^-2)*(EM3))+(3.3006694533) -> 0.84738727 | EK3: =((5.9376621671*10^-19)*(EM3^6))-((7.1020711589*10^-15)*(EM3^5))+((3.3460896805*10^-11)*(EM3^4))-((7.8909601634*10^-8)*(EM3^3))+((9.8599769212*10^-5)*(EM3^2))-((2.8172899156*10^-2)*(EM3))+(3.05378908) -> 0.78322598 | EL3: =((6.4958291549*10^-19)*(EM3^6))-((7.8224528491*10^-15)*(EM3^5))+((3.7120417697*10^-11)*(EM3^4))-((8.798317617*10^-8)*(EM3^3))+((1.0982327235*10^-4)*(EM3^2))-((3.2606444641*10^-2)*(EM3))+(3.5786489003) -> 0.80335651 | EM3: 200 | ER3: =ES3+ET3+EU3+EV3 -> 3.3696399 | ES3: =((8.5770134353*10^-19)*(EW3^6))-((1.0374875556*10^-14)*(EW3^5))+((4.9689475953*10^-11)*(EW3^4))-((1.2019118054*10^-7)*(EW3^3))+((1.5650954893*10^-4)*(EW3^2))-((4.8239362033*10^-2)*(EW3))+5.2084519626 -> 0.93567016 | ET3: =((6.6506859177*10^-19)*(EW3^6))-((7.8984343104*10^-15)*(EW3^5))+((3.6879849877*10^-11)*(EW3^4))-((8.6386228559*10^-8)*(EW3^3))+((1.1074017861*10^-4)*(EW3^2))-((3.1241611608*10^-2)*(EW3))+(3.3006694533) -> 0.84738727 | EU3: =((5.9376621671*10^-19)*(EW3^6))-((7.1020711589*10^-15)*(EW3^5))+((3.3460896805*10^-11)*(EW3^4))-((7.8909601634*10^-8)*(EW3^3))+((9.8599769212*10^-5)*(EW3^2))-((2.8172899156*10^-2)*(EW3))+(3.05378908) -> 0.78322598 | EV3: =((6.4958291549*10^-19)*(EW3^6))-((7.8224528491*10^-15)*(EW3^5))+((3.7120417697*10^-11)*(EW3^4))-((8.798317617*10^-8)*(EW3^3))+((1.0982327235*10^-4)*(EW3^2))-((3.2606444641*10^-2)*(EW3))+(3.5786489003) -> 0.80335651 | EW3: 200
A4: 250 | B4: 34.96 | C4: 1.74 | D4: 207.37 | E4: 215.11 | G4: 250 | H4: 32.9 | I4: 1.6 | J4: 182.86 | K4: 139.11 | M4: 250 | N4: 28.95 | O4: 1.4 | P4: 186.39 | Q4: 23.09 | S4: 250 | T4: 28.9 | U4: 1.4 | V4: 199.91 | W4: 24.72 | AB4: =AC4+AD4+AE4+AF4 -> 4.5526817 | AC4: =((8.5770134353*10^-19)*(AG4^6))-((1.0374875556*10^-14)*(AG4^5))+((4.9689475953*10^-11)*(AG4^4))-((1.2019118054*10^-7)*(AG4^3))+((1.5650954893*10^-4)*(AG4^2))-((4.8239362033*10^-2)*(AG4))+5.2084519626 -> 1.2366483 | AD4: =((6.6506859177*10^-19)*(AG4^6))-((7.8984343104*10^-15)*(AG4^5))+((3.6879849877*10^-11)*(AG4^4))-((8.6386228559*10^-8)*(AG4^3))+((1.1074017861*10^-4)*(AG4^2))-((3.1241611608*10^-2)*(AG4))+(3.3006694533) -> 1.1982539 | AE4: =((5.9376621671*10^-19)*(AG4^6))-((7.1020711589*10^-15)*(AG4^5))+((3.3460896805*10^-11)*(AG4^4))-((7.8909601634*10^-8)*(AG4^3))+((9.8599769212*10^-5)*(AG4^2))-((2.8172899156*10^-2)*(AG4))+(3.05378908) -> 1.0640033 | AF4: =((6.4958291549*10^-19)*(AG4^6))-((7.8224528491*10^-15)*(AG4^5))+((3.7120417697*10^-11)*(AG4^4))-((8.798317617*10^-8)*(AG4^3))+((1.0982327235*10^-4)*(AG4^2))-((3.2606444641*10^-2)*(AG4))+(3.5786489003) -> 1.0537762 | AG4: 250 | AL4: =AM4+AN4+AO4+AP4 -> 4.5526817 | AM4: =((8.5770134353*10^-19)*(AQ4^6))-((1.0374875556*10^-14)*(AQ4^5))+((4.9689475953*10^-11)*(AQ4^4))-((1.2019118054*10^-7)*(AQ4^3))+((1.5650954893*10^-4)*(AQ4^2))-((4.8239362033*10^-2)*(AQ4))+5.2084519626 -> 1.2366483 | AN4: =((6.6506859177*10^-19)*(AQ4^6))-((7.8984343104*10^-15)*(AQ4^5))+((3.6879849877*10^-11)*(AQ4^4))-((8.6386228559*10^-8)*(AQ4^3))+((1.1074017861*10^-4)*(AQ4^2))-((3.1241611608*10^-2)*(AQ4))+(3.3006694533) -> 1.1982539 | AO4: =((5.9376621671*10^-19)*(AQ4^6))-((7.1020711589*10^-15)*(AQ4^5))+((3.3460896805*10^-11)*(AQ4^4))-((7.8909601634*10^-8)*(AQ4^3))+((9.8599769212*10^-5)*(AQ4^2))-((2.8172899156*10^-2)*(AQ4))+(3.05378908) -> 1.0640033 | AP4: =((6.4958291549*10^-19)*(AQ4^6))-((7.8224528491*10^-15)*(AQ4^5))+((3.7120417697*10^-11)*(AQ4^4))-((8.798317617*10^-8)*(AQ4^3))+((1.0982327235*10^-4)*(AQ4^2))-((3.2606444641*10^-2)*(AQ4))+(3.5786489003) -> 1.0537762 | AQ4: 250 | AV4: =AW4+AX4+AY4+AZ4 -> 4.5526817 | AW4: =((8.5770134353*10^-19)*(BA4^6))-((1.0374875556*10^-14)*(BA4^5))+((4.9689475953*10^-11)*(BA4^4))-((1.2019118054*10^-7)*(BA4^3))+((1.5650954893*10^-4)*(BA4^2))-((4.8239362033*10^-2)*(BA4))+5.2084519626 -> 1.2366483 | AX4: =((6.6506859177*10^-19)*(BA4^6))-((7.8984343104*10^-15)*(BA4^5))+((3.6879849877*10^-11)*(BA4^4))-((8.6386228559*10^-8)*(BA4^3))+((1.1074017861*10^-4)*(BA4^2))-((3.1241611608*10^-2)*(BA4))+(3.3006694533) -> 1.1982539 | AY4: =((5.9376621671*10^-19)*(BA4^6))-((7.1020711589*10^-15)*(BA4^5))+((3.3460896805*10^-11)*(BA4^4))-((7.8909601634*10^-8)*(BA4^3))+((9.8599769212*10^-5)*(BA4^2))-((2.8172899156*10^-2)*(BA4))+(3.05378908) -> 1.0640033 | AZ4: =((6.4958291549*10^-19)*(BA4^6))-((7.8224528491*10^-15)*(BA4^5))+((3.7120417697*10^-11)*(BA4^4))-((8.798317617*10^-8)*(BA4^3))+((1.0982327235*10^-4)*(BA4^2))-((3.2606444641*10^-2)*(BA4))+(3.5786489003) -> 1.0537762 | BA4: 250 | BF4: =BG4+BH4+BI4+BJ4 -> 4.5526817 | BG4: =((8.5770134353*10^-19)*(BK4^6))-((1.0374875556*10^-14)*(BK4^5))+((4.9689475953*10^-11)*(BK4^4))-((1.2019118054*10^-7)*(BK4^3))+((1.5650954893*10^-4)*(BK4^2))-((4.8239362033*10^-2)*(BK4))+5.2084519626 -> 1.2366483 | BH4: =((6.6506859177*10^-19)*(BK4^6))-((7.8984343104*10^-15)*(BK4^5))+((3.6879849877*10^-11)*(BK4^4))-((8.6386228559*10^-8)*(BK4^3))+((1.1074017861*10^-4)*(BK4^2))-((3.1241611608*10^-2)*(BK4))+(3.3006694533) -> 1.1982539 | BI4: =((5.9376621671*10^-19)*(BK4^6))-((7.1020711589*10^-15)*(BK4^5))+((3.3460896805*10^-11)*(BK4^4))-((7.8909601634*10^-8)*(BK4^3))+((9.8599769212*10^-5)*(BK4^2))-((2.8172899156*10^-2)*(BK4))+(3.05378908) -> 1.0640033 | BJ4: =((6.4958291549*10^-19)*(BK4^6))-((7.8224528491*10^-15)*(BK4^5))+((3.7120417697*10^-11)*(BK4^4))-((8.798317617*10^-8)*(BK4^3))+((1.0982327235*10^-4)*(BK4^2))-((3.2606444641*10^-2)*(BK4))+(3.5786489003) -> 1.0537762 | BK4: 250 | BP4: =BQ4+BR4+BS4+BT4 -> 4.5526817 | BQ4: =((8.5770134353*10^-19)*(BU4^6))-((1.0374875556*10^-14)*(BU4^5))+((4.9689475953*10^-11)*(BU4^4))-((1.2019118054*10^-7)*(BU4^3))+((1.5650954893*10^-4)*(BU4^2))-((4.8239362033*10^-2)*(BU4))+5.2084519626 -> 1.2366483 | BR4: =((6.6506859177*10^-19)*(BU4^6))-((7.8984343104*10^-15)*(BU4^5))+((3.6879849877*10^-11)*(BU4^4))-((8.6386228559*10^-8)*(BU4^3))+((1.1074017861*10^-4)*(BU4^2))-((3.1241611608*10^-2)*(BU4))+(3.3006694533) -> 1.1982539 | BS4: =((5.9376621671*10^-19)*(BU4^6))-((7.1020711589*10^-15)*(BU4^5))+((3.3460896805*10^-11)*(BU4^4))-((7.8909601634*10^-8)*(BU4^3))+((9.8599769212*10^-5)*(BU4^2))-((2.8172899156*10^-2)*(BU4))+(3.05378908) -> 1.0640033 | BT4: =((6.4958291549*10^-19)*(BU4^6))-((7.8224528491*10^-15)*(BU4^5))+((3.7120417697*10^-11)*(BU4^4))-((8.798317617*10^-8)*(BU4^3))+((1.0982327235*10^-4)*(BU4^2))-((3.2606444641*10^-2)*(BU4))+(3.5786489003) -> 1.0537762 | BU4: 250 | BZ4: =CA4+CB4+CC4+CD4 -> 4.5526817 | CA4: =((8.5770134353*10^-19)*(CE4^6))-((1.0374875556*10^-14)*(CE4^5))+((4.9689475953*10^-11)*(CE4^4))-((1.2019118054*10^-7)*(CE4^3))+((1.5650954893*10^-4)*(CE4^2))-((4.8239362033*10^-2)*(CE4))+5.2084519626 -> 1.2366483 | CB4: =((6.6506859177*10^-19)*(CE4^6))-((7.8984343104*10^-15)*(CE4^5))+((3.6879849877*10^-11)*(CE4^4))-((8.6386228559*10^-8)*(CE4^3))+((1.1074017861*10^-4)*(CE4^2))-((3.1241611608*10^-2)*(CE4))+(3.3006694533) -> 1.1982539 | CC4: =((5.9376621671*10^-19)*(CE4^6))-((7.1020711589*10^-15)*(CE4^5))+((3.3460896805*10^-11)*(CE4^4))-((7.8909601634*10^-8)*(CE4^3))+((9.8599769212*10^-5)*(CE4^2))-((2.8172899156*10^-2)*(CE4))+(3.05378908) -> 1.0640033 | CD4: =((6.4958291549*10^-19)*(CE4^6))-((7.8224528491*10^-15)*(CE4^5))+((3.7120417697*10^-11)*(CE4^4))-((8.798317617*10^-8)*(CE4^3))+((1.0982327235*10^-4)*(CE4^2))-((3.2606444641*10^-2)*(CE4))+(3.5786489003) -> 1.0537762 | CE4: 250 | CJ4: =CK4+CL4+CM4+CN4 -> 4.5526817 | CK4: =((8.5770134353*10^-19)*(CO4^6))-((1.0374875556*10^-14)*(CO4^5))+((4.9689475953*10^-11)*(CO4^4))-((1.2019118054*10^-7)*(CO4^3))+((1.5650954893*10^-4)*(CO4^2))-((4.8239362033*10^-2)*(CO4))+5.2084519626 -> 1.2366483 | CL4: =((6.6506859177*10^-19)*(CO4^6))-((7.8984343104*10^-15)*(CO4^5))+((3.6879849877*10^-11)*(CO4^4))-((8.6386228559*10^-8)*(CO4^3))+((1.1074017861*10^-4)*(CO4^2))-((3.1241611608*10^-2)*(CO4))+(3.3006694533) -> 1.1982539 | CM4: =((5.9376621671*10^-19)*(CO4^6))-((7.1020711589*10^-15)*(CO4^5))+((3.3460896805*10^-11)*(CO4^4))-((7.8909601634*10^-8)*(CO4^3))+((9.8599769212*10^-5)*(CO4^2))-((2.8172899156*10^-2)*(CO4))+(3.05378908) -> 1.0640033 | CN4: =((6.4958291549*10^-19)*(CO4^6))-((7.8224528491*10^-15)*(CO4^5))+((3.7120417697*10^-11)*(CO4^4))-((8.798317617*10^-8)*(CO4^3))+((1.0982327235*10^-4)*(CO4^2))-((3.2606444641*10^-2)*(CO4))+(3.5786489003) -> 1.0537762 | CO4: 250 | CT4: =CU4+CV4+CW4+CX4 -> 4.5526817 | CU4: =((8.5770134353*10^-19)*(CY4^6))-((1.0374875556*10^-14)*(CY4^5))+((4.9689475953*10^-11)*(CY4^4))-((1.2019118054*10^-7)*(CY4^3))+((1.5650954893*10^-4)*(CY4^2))-((4.8239362033*10^-2)*(CY4))+5.2084519626 -> 1.2366483 | CV4: =((6.6506859177*10^-19)*(CY4^6))-((7.8984343104*10^-15)*(CY4^5))+((3.6879849877*10^-11)*(CY4^4))-((8.6386228559*10^-8)*(CY4^3))+((1.1074017861*10^-4)*(CY4^2))-((3.1241611608*10^-2)*(CY4))+(3.3006694533) -> 1.1982539 | CW4: =((5.9376621671*10^-19)*(CY4^6))-((7.1020711589*10^-15)*(CY4^5))+((3.3460896805*10^-11)*(CY4^4))-((7.8909601634*10^-8)*(CY4^3))+((9.8599769212*10^-5)*(CY4^2))-((2.8172899156*10^-2)*(CY4))+(3.05378908) -> 1.0640033 | CX4: =((6.4958291549*10^-19)*(CY4^6))-((7.8224528491*10^-15)*(CY4^5))+((3.7120417697*10^-11)*(CY4^4))-((8.798317617*10^-8)*(CY4^3))+((1.0982327235*10^-4)*(CY4^2))-((3.2606444641*10^-2)*(CY4))+(3.5786489003) -> 1.0537762 | CY4: 250 | DD4: =DE4+DF4+DG4+DH4 -> 4.5526817 | DE4: =((8.5770134353*10^-19)*(DI4^6))-((1.0374875556*10^-14)*(DI4^5))+((4.9689475953*10^-11)*(DI4^4))-((1.2019118054*10^-7)*(DI4^3))+((1.5650954893*10^-4)*(DI4^2))-((4.8239362033*10^-2)*(DI4))+5.2084519626 -> 1.2366483 | DF4: =((6.6506859177*10^-19)*(DI4^6))-((7.8984343104*10^-15)*(DI4^5))+((3.6879849877*10^-11)*(DI4^4))-((8.6386228559*10^-8)*(DI4^3))+((1.1074017861*10^-4)*(DI4^2))-((3.1241611608*10^-2)*(DI4))+(3.3006694533) -> 1.1982539 | DG4: =((5.9376621671*10^-19)*(DI4^6))-((7.1020711589*10^-15)*(DI4^5))+((3.3460896805*10^-11)*(DI4^4))-((7.8909601634*10^-8)*(DI4^3))+((9.8599769212*10^-5)*(DI4^2))-((2.8172899156*10^-2)*(DI4))+(3.05378908) -> 1.0640033 | DH4: =((6.4958291549*10^-19)*(DI4^6))-((7.8224528491*10^-15)*(DI4^5))+((3.7120417697*10^-11)*(DI4^4))-((8.798317617*10^-8)*(DI4^3))+((1.0982327235*10^-4)*(DI4^2))-((3.2606444641*10^-2)*(DI4))+(3.5786489003) -> 1.0537762 | DI4: 250 | DN4: =DO4+DP4+DQ4+DR4 -> 4.5526817 | DO4: =((8.5770134353*10^-19)*(DS4^6))-((1.0374875556*10^-14)*(DS4^5))+((4.9689475953*10^-11)*(DS4^4))-((1.2019118054*10^-7)*(DS4^3))+((1.5650954893*10^-4)*(DS4^2))-((4.8239362033*10^-2)*(DS4))+5.2084519626 -> 1.2366483 | DP4: =((6.6506859177*10^-19)*(DS4^6))-((7.8984343104*10^-15)*(DS4^5))+((3.6879849877*10^-11)*(DS4^4))-((8.6386228559*10^-8)*(DS4^3))+((1.1074017861*10^-4)*(DS4^2))-((3.1241611608*10^-2)*(DS4))+(3.3006694533) -> 1.1982539 | DQ4: =((5.9376621671*10^-19)*(DS4^6))-((7.1020711589*10^-15)*(DS4^5))+((3.3460896805*10^-11)*(DS4^4))-((7.8909601634*10^-8)*(DS4^3))+((9.8599769212*10^-5)*(DS4^2))-((2.8172899156*10^-2)*(DS4))+(3.05378908) -> 1.0640033 | DR4: =((6.4958291549*10^-19)*(DS4^6))-((7.8224528491*10^-15)*(DS4^5))+((3.7120417697*10^-11)*(DS4^4))-((8.798317617*10^-8)*(DS4^3))+((1.0982327235*10^-4)*(DS4^2))-((3.2606444641*10^-2)*(DS4))+(3.5786489003) -> 1.0537762 | DS4: 250 | DX4: =DY4+DZ4+EA4+EB4 -> 4.5526817 | DY4: =((8.5770134353*10^-19)*(EC4^6))-((1.0374875556*10^-14)*(EC4^5))+((4.9689475953*10^-11)*(EC4^4))-((1.2019118054*10^-7)*(EC4^3))+((1.5650954893*10^-4)*(EC4^2))-((4.8239362033*10^-2)*(EC4))+5.2084519626 -> 1.2366483 | DZ4: =((6.6506859177*10^-19)*(EC4^6))-((7.8984343104*10^-15)*(EC4^5))+((3.6879849877*10^-11)*(EC4^4))-((8.6386228559*10^-8)*(EC4^3))+((1.1074017861*10^-4)*(EC4^2))-((3.1241611608*10^-2)*(EC4))+(3.3006694533) -> 1.1982539 | EA4: =((5.9376621671*10^-19)*(EC4^6))-((7.1020711589*10^-15)*(EC4^5))+((3.3460896805*10^-11)*(EC4^4))-((7.8909601634*10^-8)*(EC4^3))+((9.8599769212*10^-5)*(EC4^2))-((2.8172899156*10^-2)*(EC4))+(3.05378908) -> 1.0640033 | EB4: =((6.4958291549*10^-19)*(EC4^6))-((7.8224528491*10^-15)*(EC4^5))+((3.7120417697*10^-11)*(EC4^4))-((8.798317617*10^-8)*(EC4^3))+((1.0982327235*10^-4)*(EC4^2))-((3.2606444641*10^-2)*(EC4))+(3.5786489003) -> 1.0537762 | EC4: 250 | EH4: =EI4+EJ4+EK4+EL4 -> 4.5526817 | EI4: =((8.5770134353*10^-19)*(EM4^6))-((1.0374875556*10^-14)*(EM4^5))+((4.9689475953*10^-11)*(EM4^4))-((1.2019118054*10^-7)*(EM4^3))+((1.5650954893*10^-4)*(EM4^2))-((4.8239362033*10^-2)*(EM4))+5.2084519626 -> 1.2366483 | EJ4: =((6.6506859177*10^-19)*(EM4^6))-((7.8984343104*10^-15)*(EM4^5))+((3.6879849877*10^-11)*(EM4^4))-((8.6386228559*10^-8)*(EM4^3))+((1.1074017861*10^-4)*(EM4^2))-((3.1241611608*10^-2)*(EM4))+(3.3006694533) -> 1.1982539 | EK4: =((5.9376621671*10^-19)*(EM4^6))-((7.1020711589*10^-15)*(EM4^5))+((3.3460896805*10^-11)*(EM4^4))-((7.8909601634*10^-8)*(EM4^3))+((9.8599769212*10^-5)*(EM4^2))-((2.8172899156*10^-2)*(EM4))+(3.05378908) -> 1.0640033 | EL4: =((6.4958291549*10^-19)*(EM4^6))-((7.8224528491*10^-15)*(EM4^5))+((3.7120417697*10^-11)*(EM4^4))-((8.798317617*10^-8)*(EM4^3))+((1.0982327235*10^-4)*(EM4^2))-((3.2606444641*10^-2)*(EM4))+(3.5786489003) -> 1.0537762 | EM4: 250 | ER4: =ES4+ET4+EU4+EV4 -> 4.5526817 | ES4: =((8.5770134353*10^-19)*(EW4^6))-((1.0374875556*10^-14)*(EW4^5))+((4.9689475953*10^-11)*(EW4^4))-((1.2019118054*10^-7)*(EW4^3))+((1.5650954893*10^-4)*(EW4^2))-((4.8239362033*10^-2)*(EW4))+5.2084519626 -> 1.2366483 | ET4: =((6.6506859177*10^-19)*(EW4^6))-((7.8984343104*10^-15)*(EW4^5))+((3.6879849877*10^-11)*(EW4^4))-((8.6386228559*10^-8)*(EW4^3))+((1.1074017861*10^-4)*(EW4^2))-((3.1241611608*10^-2)*(EW4))+(3.3006694533) -> 1.1982539 | EU4: =((5.9376621671*10^-19)*(EW4^6))-((7.1020711589*10^-15)*(EW4^5))+((3.3460896805*10^-11)*(EW4^4))-((7.8909601634*10^-8)*(EW4^3))+((9.8599769212*10^-5)*(EW4^2))-((2.8172899156*10^-2)*(EW4))+(3.05378908) -> 1.0640033 | EV4: =((6.4958291549*10^-19)*(EW4^6))-((7.8224528491*10^-15)*(EW4^5))+((3.7120417697*10^-11)*(EW4^4))-((8.798317617*10^-8)*(EW4^3))+((1.0982327235*10^-4)*(EW4^2))-((3.2606444641*10^-2)*(EW4))+(3.5786489003) -> 1.0537762 | EW4: 250
A5: 298 | B5: 37.2 | C5: 0 | D5: 213.73 | E5: 184.46 | G5: 298 | H5: 33.45 | I5: 0 | J5: 188.71 | K5: 120.26 | M5: 298 | N5: 29.07 | O5: 0 | P5: 191.5 | Q5: 23.03 | S5: 298 | T5: 29.31 | U5: 0 | V5: 205.03 | W5: 24.66 | AB5: =AC5+AD5+AE5+AF5 -> 6.8655002 | AC5: =((8.5770134353*10^-19)*(AG5^6))-((1.0374875556*10^-14)*(AG5^5))+((4.9689475953*10^-11)*(AG5^4))-((1.2019118054*10^-7)*(AG5^3))+((1.5650954893*10^-4)*(AG5^2))-((4.8239362033*10^-2)*(AG5))+5.2084519626 -> 1.9191833 | AD5: =((6.6506859177*10^-19)*(AG5^6))-((7.8984343104*10^-15)*(AG5^5))+((3.6879849877*10^-11)*(AG5^4))-((8.6386228559*10^-8)*(AG5^3))+((1.1074017861*10^-4)*(AG5^2))-((3.1241611608*10^-2)*(AG5))+(3.3006694533) -> 1.811494 | AE5: =((5.9376621671*10^-19)*(AG5^6))-((7.1020711589*10^-15)*(AG5^5))+((3.3460896805*10^-11)*(AG5^4))-((7.8909601634*10^-8)*(AG5^3))+((9.8599769212*10^-5)*(AG5^2))-((2.8172899156*10^-2)*(AG5))+(3.05378908) -> 1.5736906 | AF5: =((6.4958291549*10^-19)*(AG5^6))-((7.8224528491*10^-15)*(AG5^5))+((3.7120417697*10^-11)*(AG5^4))-((8.798317617*10^-8)*(AG5^3))+((1.0982327235*10^-4)*(AG5^2))-((3.2606444641*10^-2)*(AG5))+(3.5786489003) -> 1.5611322 | AG5: 298 | AL5: =AM5+AN5+AO5+AP5 -> 6.8655002 | AM5: =((8.5770134353*10^-19)*(AQ5^6))-((1.0374875556*10^-14)*(AQ5^5))+((4.9689475953*10^-11)*(AQ5^4))-((1.2019118054*10^-7)*(AQ5^3))+((1.5650954893*10^-4)*(AQ5^2))-((4.8239362033*10^-2)*(AQ5))+5.2084519626 -> 1.9191833 | AN5: =((6.6506859177*10^-19)*(AQ5^6))-((7.8984343104*10^-15)*(AQ5^5))+((3.6879849877*10^-11)*(AQ5^4))-((8.6386228559*10^-8)*(AQ5^3))+((1.1074017861*10^-4)*(AQ5^2))-((3.1241611608*10^-2)*(AQ5))+(3.3006694533) -> 1.811494 | AO5: =((5.9376621671*10^-19)*(AQ5^6))-((7.1020711589*10^-15)*(AQ5^5))+((3.3460896805*10^-11)*(AQ5^4))-((7.8909601634*10^-8)*(AQ5^3))+((9.8599769212*10^-5)*(AQ5^2))-((2.8172899156*10^-2)*(AQ5))+(3.05378908) -> 1.5736906 | AP5: =((6.4958291549*10^-19)*(AQ5^6))-((7.8224528491*10^-15)*(AQ5^5))+((3.7120417697*10^-11)*(AQ5^4))-((8.798317617*10^-8)*(AQ5^3))+((1.0982327235*10^-4)*(AQ5^2))-((3.2606444641*10^-2)*(AQ5))+(3.5786489003) -> 1.5611322 | AQ5: 298 | AV5: =AW5+AX5+AY5+AZ5 -> 6.8655002 | AW5: =((8.5770134353*10^-19)*(BA5^6))-((1.0374875556*10^-14)*(BA5^5))+((4.9689475953*10^-11)*(BA5^4))-((1.2019118054*10^-7)*(BA5^3))+((1.5650954893*10^-4)*(BA5^2))-((4.8239362033*10^-2)*(BA5))+5.2084519626 -> 1.9191833 | AX5: =((6.6506859177*10^-19)*(BA5^6))-((7.8984343104*10^-15)*(BA5^5))+((3.6879849877*10^-11)*(BA5^4))-((8.6386228559*10^-8)*(BA5^3))+((1.1074017861*10^-4)*(BA5^2))-((3.1241611608*10^-2)*(BA5))+(3.3006694533) -> 1.811494 | AY5: =((5.9376621671*10^-19)*(BA5^6))-((7.1020711589*10^-15)*(BA5^5))+((3.3460896805*10^-11)*(BA5^4))-((7.8909601634*10^-8)*(BA5^3))+((9.8599769212*10^-5)*(BA5^2))-((2.8172899156*10^-2)*(BA5))+(3.05378908) -> 1.5736906 | AZ5: =((6.4958291549*10^-19)*(BA5^6))-((7.8224528491*10^-15)*(BA5^5))+((3.7120417697*10^-11)*(BA5^4))-((8.798317617*10^-8)*(BA5^3))+((1.0982327235*10^-4)*(BA5^2))-((3.2606444641*10^-2)*(BA5))+(3.5786489003) -> 1.5611322 | BA5: 298 | BF5: =BG5+BH5+BI5+BJ5 -> 6.8655002 | BG5: =((8.5770134353*10^-19)*(BK5^6))-((1.0374875556*10^-14)*(BK5^5))+((4.9689475953*10^-11)*(BK5^4))-((1.2019118054*10^-7)*(BK5^3))+((1.5650954893*10^-4)*(BK5^2))-((4.8239362033*10^-2)*(BK5))+5.2084519626 -> 1.9191833 | BH5: =((6.6506859177*10^-19)*(BK5^6))-((7.8984343104*10^-15)*(BK5^5))+((3.6879849877*10^-11)*(BK5^4))-((8.6386228559*10^-8)*(BK5^3))+((1.1074017861*10^-4)*(BK5^2))-((3.1241611608*10^-2)*(BK5))+(3.3006694533) -> 1.811494 | BI5: =((5.9376621671*10^-19)*(BK5^6))-((7.1020711589*10^-15)*(BK5^5))+((3.3460896805*10^-11)*(BK5^4))-((7.8909601634*10^-8)*(BK5^3))+((9.8599769212*10^-5)*(BK5^2))-((2.8172899156*10^-2)*(BK5))+(3.05378908) -> 1.5736906 | BJ5: =((6.4958291549*10^-19)*(BK5^6))-((7.8224528491*10^-15)*(BK5^5))+((3.7120417697*10^-11)*(BK5^4))-((8.798317617*10^-8)*(BK5^3))+((1.0982327235*10^-4)*(BK5^2))-((3.2606444641*10^-2)*(BK5))+(3.5786489003) -> 1.5611322 | BK5: 298 | BP5: =BQ5+BR5+BS5+BT5 -> 6.8655002 | BQ5: =((8.5770134353*10^-19)*(BU5^6))-((1.0374875556*10^-14)*(BU5^5))+((4.9689475953*10^-11)*(BU5^4))-((1.2019118054*10^-7)*(BU5^3))+((1.5650954893*10^-4)*(BU5^2))-((4.8239362033*10^-2)*(BU5))+5.2084519626 -> 1.9191833 | BR5: =((6.6506859177*10^-19)*(BU5^6))-((7.8984343104*10^-15)*(BU5^5))+((3.6879849877*10^-11)*(BU5^4))-((8.6386228559*10^-8)*(BU5^3))+((1.1074017861*10^-4)*(BU5^2))-((3.1241611608*10^-2)*(BU5))+(3.3006694533) -> 1.811494 | BS5: =((5.9376621671*10^-19)*(BU5^6))-((7.1020711589*10^-15)*(BU5^5))+((3.3460896805*10^-11)*(BU5^4))-((7.8909601634*10^-8)*(BU5^3))+((9.8599769212*10^-5)*(BU5^2))-((2.8172899156*10^-2)*(BU5))+(3.05378908) -> 1.5736906 | BT5: =((6.4958291549*10^-19)*(BU5^6))-((7.8224528491*10^-15)*(BU5^5))+((3.7120417697*10^-11)*(BU5^4))-((8.798317617*10^-8)*(BU5^3))+((1.0982327235*10^-4)*(BU5^2))-((3.2606444641*10^-2)*(BU5))+(3.5786489003) -> 1.5611322 | BU5: 298 | BZ5: =CA5+CB5+CC5+CD5 -> 6.8655002 | CA5: =((8.5770134353*10^-19)*(CE5^6))-((1.0374875556*10^-14)*(CE5^5))+((4.9689475953*10^-11)*(CE5^4))-((1.2019118054*10^-7)*(CE5^3))+((1.5650954893*10^-4)*(CE5^2))-((4.8239362033*10^-2)*(CE5))+5.2084519626 -> 1.9191833 | CB5: =((6.6506859177*10^-19)*(CE5^6))-((7.8984343104*10^-15)*(CE5^5))+((3.6879849877*10^-11)*(CE5^4))-((8.6386228559*10^-8)*(CE5^3))+((1.1074017861*10^-4)*(CE5^2))-((3.1241611608*10^-2)*(CE5))+(3.3006694533) -> 1.811494 | CC5: =((5.9376621671*10^-19)*(CE5^6))-((7.1020711589*10^-15)*(CE5^5))+((3.3460896805*10^-11)*(CE5^4))-((7.8909601634*10^-8)*(CE5^3))+((9.8599769212*10^-5)*(CE5^2))-((2.8172899156*10^-2)*(CE5))+(3.05378908) -> 1.5736906 | CD5: =((6.4958291549*10^-19)*(CE5^6))-((7.8224528491*10^-15)*(CE5^5))+((3.7120417697*10^-11)*(CE5^4))-((8.798317617*10^-8)*(CE5^3))+((1.0982327235*10^-4)*(CE5^2))-((3.2606444641*10^-2)*(CE5))+(3.5786489003) -> 1.5611322 | CE5: 298 | CJ5: =CK5+CL5+CM5+CN5 -> 6.8655002 | CK5: =((8.5770134353*10^-19)*(CO5^6))-((1.0374875556*10^-14)*(CO5^5))+((4.9689475953*10^-11)*(CO5^4))-((1.2019118054*10^-7)*(CO5^3))+((1.5650954893*10^-4)*(CO5^2))-((4.8239362033*10^-2)*(CO5))+5.2084519626 -> 1.9191833 | CL5: =((6.6506859177*10^-19)*(CO5^6))-((7.8984343104*10^-15)*(CO5^5))+((3.6879849877*10^-11)*(CO5^4))-((8.6386228559*10^-8)*(CO5^3))+((1.1074017861*10^-4)*(CO5^2))-((3.1241611608*10^-2)*(CO5))+(3.3006694533) -> 1.811494 | CM5: =((5.9376621671*10^-19)*(CO5^6))-((7.1020711589*10^-15)*(CO5^5))+((3.3460896805*10^-11)*(CO5^4))-((7.8909601634*10^-8)*(CO5^3))+((9.8599769212*10^-5)*(CO5^2))-((2.8172899156*10^-2)*(CO5))+(3.05378908) -> 1.5736906 | CN5: =((6.4958291549*10^-19)*(CO5^6))-((7.8224528491*10^-15)*(CO5^5))+((3.7120417697*10^-11)*(CO5^4))-((8.798317617*10^-8)*(CO5^3))+((1.0982327235*10^-4)*(CO5^2))-((3.2606444641*10^-2)*(CO5))+(3.5786489003) -> 1.5611322 | CO5: 298 | CT5: =CU5+CV5+CW5+CX5 -> 6.8655002 | CU5: =((8.5770134353*10^-19)*(CY5^6))-((1.0374875556*10^-14)*(CY5^5))+((4.9689475953*10^-11)*(CY5^4))-((1.2019118054*10^-7)*(CY5^3))+((1.5650954893*10^-4)*(CY5^2))-((4.8239362033*10^-2)*(CY5))+5.2084519626 -> 1.9191833 | CV5: =((6.6506859177*10^-19)*(CY5^6))-((7.8984343104*10^-15)*(CY5^5))+((3.6879849877*10^-11)*(CY5^4))-((8.6386228559*10^-8)*(CY5^3))+((1.1074017861*10^-4)*(CY5^2))-((3.1241611608*10^-2)*(CY5))+(3.3006694533) -> 1.811494 | CW5: =((5.9376621671*10^-19)*(CY5^6))-((7.1020711589*10^-15)*(CY5^5))+((3.3460896805*10^-11)*(CY5^4))-((7.8909601634*10^-8)*(CY5^3))+((9.8599769212*10^-5)*(CY5^2))-((2.8172899156*10^-2)*(CY5))+(3.05378908) -> 1.5736906 | CX5: =((6.4958291549*10^-19)*(CY5^6))-((7.8224528491*10^-15)*(CY5^5))+((3.7120417697*10^-11)*(CY5^4))-((8.798317617*10^-8)*(CY5^3))+((1.0982327235*10^-4)*(CY5^2))-((3.2606444641*10^-2)*(CY5))+(3.5786489003) -> 1.5611322 | CY5: 298 | DD5: =DE5+DF5+DG5+DH5 -> 6.8655002 | DE5: =((8.5770134353*10^-19)*(DI5^6))-((1.0374875556*10^-14)*(DI5^5))+((4.9689475953*10^-11)*(DI5^4))-((1.2019118054*10^-7)*(DI5^3))+((1.5650954893*10^-4)*(DI5^2))-((4.8239362033*10^-2)*(DI5))+5.2084519626 -> 1.9191833 | DF5: =((6.6506859177*10^-19)*(DI5^6))-((7.8984343104*10^-15)*(DI5^5))+((3.6879849877*10^-11)*(DI5^4))-((8.6386228559*10^-8)*(DI5^3))+((1.1074017861*10^-4)*(DI5^2))-((3.1241611608*10^-2)*(DI5))+(3.3006694533) -> 1.811494 | DG5: =((5.9376621671*10^-19)*(DI5^6))-((7.1020711589*10^-15)*(DI5^5))+((3.3460896805*10^-11)*(DI5^4))-((7.8909601634*10^-8)*(DI5^3))+((9.8599769212*10^-5)*(DI5^2))-((2.8172899156*10^-2)*(DI5))+(3.05378908) -> 1.5736906 | DH5: =((6.4958291549*10^-19)*(DI5^6))-((7.8224528491*10^-15)*(DI5^5))+((3.7120417697*10^-11)*(DI5^4))-((8.798317617*10^-8)*(DI5^3))+((1.0982327235*10^-4)*(DI5^2))-((3.2606444641*10^-2)*(DI5))+(3.5786489003) -> 1.5611322 | DI5: 298 | DN5: =DO5+DP5+DQ5+DR5 -> 6.8655002 | DO5: =((8.5770134353*10^-19)*(DS5^6))-((1.0374875556*10^-14)*(DS5^5))+((4.9689475953*10^-11)*(DS5^4))-((1.2019118054*10^-7)*(DS5^3))+((1.5650954893*10^-4)*(DS5^2))-((4.8239362033*10^-2)*(DS5))+5.2084519626 -> 1.9191833 | DP5: =((6.6506859177*10^-19)*(DS5^6))-((7.8984343104*10^-15)*(DS5^5))+((3.6879849877*10^-11)*(DS5^4))-((8.6386228559*10^-8)*(DS5^3))+((1.1074017861*10^-4)*(DS5^2))-((3.1241611608*10^-2)*(DS5))+(3.3006694533) -> 1.811494 | DQ5: =((5.9376621671*10^-19)*(DS5^6))-((7.1020711589*10^-15)*(DS5^5))+((3.3460896805*10^-11)*(DS5^4))-((7.8909601634*10^-8)*(DS5^3))+((9.8599769212*10^-5)*(DS5^2))-((2.8172899156*10^-2)*(DS5))+(3.05378908) -> 1.5736906 | DR5: =((6.4958291549*10^-19)*(DS5^6))-((7.8224528491*10^-15)*(DS5^5))+((3.7120417697*10^-11)*(DS5^4))-((8.798317617*10^-8)*(DS5^3))+((1.0982327235*10^-4)*(DS5^2))-((3.2606444641*10^-2)*(DS5))+(3.5786489003) -> 1.5611322 | DS5: 298 | DX5: =DY5+DZ5+EA5+EB5 -> 6.8655002 | DY5: =((8.5770134353*10^-19)*(EC5^6))-((1.0374875556*10^-14)*(EC5^5))+((4.9689475953*10^-11)*(EC5^4))-((1.2019118054*10^-7)*(EC5^3))+((1.5650954893*10^-4)*(EC5^2))-((4.8239362033*10^-2)*(EC5))+5.2084519626 -> 1.9191833 | DZ5: =((6.6506859177*10^-19)*(EC5^6))-((7.8984343104*10^-15)*(EC5^5))+((3.6879849877*10^-11)*(EC5^4))-((8.6386228559*10^-8)*(EC5^3))+((1.1074017861*10^-4)*(EC5^2))-((3.1241611608*10^-2)*(EC5))+(3.3006694533) -> 1.811494 | EA5: =((5.9376621671*10^-19)*(EC5^6))-((7.1020711589*10^-15)*(EC5^5))+((3.3460896805*10^-11)*(EC5^4))-((7.8909601634*10^-8)*(EC5^3))+((9.8599769212*10^-5)*(EC5^2))-((2.8172899156*10^-2)*(EC5))+(3.05378908) -> 1.5736906 | EB5: =((6.4958291549*10^-19)*(EC5^6))-((7.8224528491*10^-15)*(EC5^5))+((3.7120417697*10^-11)*(EC5^4))-((8.798317617*10^-8)*(EC5^3))+((1.0982327235*10^-4)*(EC5^2))-((3.2606444641*10^-2)*(EC5))+(3.5786489003) -> 1.5611322 | EC5: 298 | EH5: =EI5+EJ5+EK5+EL5 -> 6.8655002 | EI5: =((8.5770134353*10^-19)*(EM5^6))-((1.0374875556*10^-14)*(EM5^5))+((4.9689475953*10^-11)*(EM5^4))-((1.2019118054*10^-7)*(EM5^3))+((1.5650954893*10^-4)*(EM5^2))-((4.8239362033*10^-2)*(EM5))+5.2084519626 -> 1.9191833 | EJ5: =((6.6506859177*10^-19)*(EM5^6))-((7.8984343104*10^-15)*(EM5^5))+((3.6879849877*10^-11)*(EM5^4))-((8.6386228559*10^-8)*(EM5^3))+((1.1074017861*10^-4)*(EM5^2))-((3.1241611608*10^-2)*(EM5))+(3.3006694533) -> 1.811494 | EK5: =((5.9376621671*10^-19)*(EM5^6))-((7.1020711589*10^-15)*(EM5^5))+((3.3460896805*10^-11)*(EM5^4))-((7.8909601634*10^-8)*(EM5^3))+((9.8599769212*10^-5)*(EM5^2))-((2.8172899156*10^-2)*(EM5))+(3.05378908) -> 1.5736906 | EL5: =((6.4958291549*10^-19)*(EM5^6))-((7.8224528491*10^-15)*(EM5^5))+((3.7120417697*10^-11)*(EM5^4))-((8.798317617*10^-8)*(EM5^3))+((1.0982327235*10^-4)*(EM5^2))-((3.2606444641*10^-2)*(EM5))+(3.5786489003) -> 1.5611322 | EM5: 298 | ER5: =ES5+ET5+EU5+EV5 -> 6.8655002 | ES5: =((8.5770134353*10^-19)*(EW5^6))-((1.0374875556*10^-14)*(EW5^5))+((4.9689475953*10^-11)*(EW5^4))-((1.2019118054*10^-7)*(EW5^3))+((1.5650954893*10^-4)*(EW5^2))-((4.8239362033*10^-2)*(EW5))+5.2084519626 -> 1.9191833 | ET5: =((6.6506859177*10^-19)*(EW5^6))-((7.8984343104*10^-15)*(EW5^5))+((3.6879849877*10^-11)*(EW5^4))-((8.6386228559*10^-8)*(EW5^3))+((1.1074017861*10^-4)*(EW5^2))-((3.1241611608*10^-2)*(EW5))+(3.3006694533) -> 1.811494 | EU5: =((5.9376621671*10^-19)*(EW5^6))-((7.1020711589*10^-15)*(EW5^5))+((3.3460896805*10^-11)*(EW5^4))-((7.8909601634*10^-8)*(EW5^3))+((9.8599769212*10^-5)*(EW5^2))-((2.8172899156*10^-2)*(EW5))+(3.05378908) -> 1.5736906 | EV5: =((6.4958291549*10^-19)*(EW5^6))-((7.8224528491*10^-15)*(EW5^5))+((3.7120417697*10^-11)*(EW5^4))-((8.798317617*10^-8)*(EW5^3))+((1.0982327235*10^-4)*(EW5^2))-((3.2606444641*10^-2)*(EW5))+(3.5786489003) -> 1.5611322 | EW5: 298
A6: 300 | B6: 37.28 | C6: 0.07 | D6: 213.96 | E6: 183.48 | G6: 300 | H6: 33.47 | I6: 0.06 | J6: 188.91 | K6: 119.66 | M6: 300 | N6: 29.07 | O6: 0.05 | P6: 191.68 | Q6: 23.03 | S6: 300 | T6: 29.33 | U6: 0.05 | V6: 205.21 | W6: 24.66 | AB6: =AC6+AD6+AE6+AF6 -> 6.9845843 | AC6: =((8.5770134353*10^-19)*(AG6^6))-((1.0374875556*10^-14)*(AG6^5))+((4.9689475953*10^-11)*(AG6^4))-((1.2019118054*10^-7)*(AG6^3))+((1.5650954893*10^-4)*(AG6^2))-((4.8239362033*10^-2)*(AG6))+5.2084519626 -> 1.95524 | AD6: =((6.6506859177*10^-19)*(AG6^6))-((7.8984343104*10^-15)*(AG6^5))+((3.6879849877*10^-11)*(AG6^4))-((8.6386228559*10^-8)*(AG6^3))+((1.1074017861*10^-4)*(AG6^2))-((3.1241611608*10^-2)*(AG6))+(3.3006694533) -> 1.8423923 | AE6: =((5.9376621671*10^-19)*(AG6^6))-((7.1020711589*10^-15)*(AG6^5))+((3.3460896805*10^-11)*(AG6^4))-((7.8909601634*10^-8)*(AG6^3))+((9.8599769212*10^-5)*(AG6^2))-((2.8172899156*10^-2)*(AG6))+(3.05378908) -> 1.5995474 | AF6: =((6.4958291549*10^-19)*(AG6^6))-((7.8224528491*10^-15)*(AG6^5))+((3.7120417697*10^-11)*(AG6^4))-((8.798317617*10^-8)*(AG6^3))+((1.0982327235*10^-4)*(AG6^2))-((3.2606444641*10^-2)*(AG6))+(3.5786489003) -> 1.5874046 | AG6: 300 | AL6: =AM6+AN6+AO6+AP6 -> 6.9845843 | AM6: =((8.5770134353*10^-19)*(AQ6^6))-((1.0374875556*10^-14)*(AQ6^5))+((4.9689475953*10^-11)*(AQ6^4))-((1.2019118054*10^-7)*(AQ6^3))+((1.5650954893*10^-4)*(AQ6^2))-((4.8239362033*10^-2)*(AQ6))+5.2084519626 -> 1.95524 | AN6: =((6.6506859177*10^-19)*(AQ6^6))-((7.8984343104*10^-15)*(AQ6^5))+((3.6879849877*10^-11)*(AQ6^4))-((8.6386228559*10^-8)*(AQ6^3))+((1.1074017861*10^-4)*(AQ6^2))-((3.1241611608*10^-2)*(AQ6))+(3.3006694533) -> 1.8423923 | AO6: =((5.9376621671*10^-19)*(AQ6^6))-((7.1020711589*10^-15)*(AQ6^5))+((3.3460896805*10^-11)*(AQ6^4))-((7.8909601634*10^-8)*(AQ6^3))+((9.8599769212*10^-5)*(AQ6^2))-((2.8172899156*10^-2)*(AQ6))+(3.05378908) -> 1.5995474 | AP6: =((6.4958291549*10^-19)*(AQ6^6))-((7.8224528491*10^-15)*(AQ6^5))+((3.7120417697*10^-11)*(AQ6^4))-((8.798317617*10^-8)*(AQ6^3))+((1.0982327235*10^-4)*(AQ6^2))-((3.2606444641*10^-2)*(AQ6))+(3.5786489003) -> 1.5874046 | AQ6: 300 | AV6: =AW6+AX6+AY6+AZ6 -> 6.9845843 | AW6: =((8.5770134353*10^-19)*(BA6^6))-((1.0374875556*10^-14)*(BA6^5))+((4.9689475953*10^-11)*(BA6^4))-((1.2019118054*10^-7)*(BA6^3))+((1.5650954893*10^-4)*(BA6^2))-((4.8239362033*10^-2)*(BA6))+5.2084519626 -> 1.95524 | AX6: =((6.6506859177*10^-19)*(BA6^6))-((7.8984343104*10^-15)*(BA6^5))+((3.6879849877*10^-11)*(BA6^4))-((8.6386228559*10^-8)*(BA6^3))+((1.1074017861*10^-4)*(BA6^2))-((3.1241611608*10^-2)*(BA6))+(3.3006694533) -> 1.8423923 | AY6: =((5.9376621671*10^-19)*(BA6^6))-((7.1020711589*10^-15)*(BA6^5))+((3.3460896805*10^-11)*(BA6^4))-((7.8909601634*10^-8)*(BA6^3))+((9.8599769212*10^-5)*(BA6^2))-((2.8172899156*10^-2)*(BA6))+(3.05378908) -> 1.5995474 | AZ6: =((6.4958291549*10^-19)*(BA6^6))-((7.8224528491*10^-15)*(BA6^5))+((3.7120417697*10^-11)*(BA6^4))-((8.798317617*10^-8)*(BA6^3))+((1.0982327235*10^-4)*(BA6^2))-((3.2606444641*10^-2)*(BA6))+(3.5786489003) -> 1.5874046 | BA6: 300 | BF6: =BG6+BH6+BI6+BJ6 -> 6.9845843 | BG6: =((8.5770134353*10^-19)*(BK6^6))-((1.0374875556*10^-14)*(BK6^5))+((4.9689475953*10^-11)*(BK6^4))-((1.2019118054*10^-7)*(BK6^3))+((1.5650954893*10^-4)*(BK6^2))-((4.8239362033*10^-2)*(BK6))+5.2084519626 -> 1.95524 | BH6: =((6.6506859177*10^-19)*(BK6^6))-((7.8984343104*10^-15)*(BK6^5))+((3.6879849877*10^-11)*(BK6^4))-((8.6386228559*10^-8)*(BK6^3))+((1.1074017861*10^-4)*(BK6^2))-((3.1241611608*10^-2)*(BK6))+(3.3006694533) -> 1.8423923 | BI6: =((5.9376621671*10^-19)*(BK6^6))-((7.1020711589*10^-15)*(BK6^5))+((3.3460896805*10^-11)*(BK6^4))-((7.8909601634*10^-8)*(BK6^3))+((9.8599769212*10^-5)*(BK6^2))-((2.8172899156*10^-2)*(BK6))+(3.05378908) -> 1.5995474 | BJ6: =((6.4958291549*10^-19)*(BK6^6))-((7.8224528491*10^-15)*(BK6^5))+((3.7120417697*10^-11)*(BK6^4))-((8.798317617*10^-8)*(BK6^3))+((1.0982327235*10^-4)*(BK6^2))-((3.2606444641*10^-2)*(BK6))+(3.5786489003) -> 1.5874046 | BK6: 300 | BP6: =BQ6+BR6+BS6+BT6 -> 6.9845843 | BQ6: =((8.5770134353*10^-19)*(BU6^6))-((1.0374875556*10^-14)*(BU6^5))+((4.9689475953*10^-11)*(BU6^4))-((1.2019118054*10^-7)*(BU6^3))+((1.5650954893*10^-4)*(BU6^2))-((4.8239362033*10^-2)*(BU6))+5.2084519626 -> 1.95524 | BR6: =((6.6506859177*10^-19)*(BU6^6))-((7.8984343104*10^-15)*(BU6^5))+((3.6879849877*10^-11)*(BU6^4))-((8.6386228559*10^-8)*(BU6^3))+((1.1074017861*10^-4)*(BU6^2))-((3.1241611608*10^-2)*(BU6))+(3.3006694533) -> 1.8423923 | BS6: =((5.9376621671*10^-19)*(BU6^6))-((7.1020711589*10^-15)*(BU6^5))+((3.3460896805*10^-11)*(BU6^4))-((7.8909601634*10^-8)*(BU6^3))+((9.8599769212*10^-5)*(BU6^2))-((2.8172899156*10^-2)*(BU6))+(3.05378908) -> 1.5995474 | BT6: =((6.4958291549*10^-19)*(BU6^6))-((7.8224528491*10^-15)*(BU6^5))+((3.7120417697*10^-11)*(BU6^4))-((8.798317617*10^-8)*(BU6^3))+((1.0982327235*10^-4)*(BU6^2))-((3.2606444641*10^-2)*(BU6))+(3.5786489003) -> 1.5874046 | BU6: 300 | BZ6: =CA6+CB6+CC6+CD6 -> 6.9845843 | CA6: =((8.5770134353*10^-19)*(CE6^6))-((1.0374875556*10^-14)*(CE6^5))+((4.9689475953*10^-11)*(CE6^4))-((1.2019118054*10^-7)*(CE6^3))+((1.5650954893*10^-4)*(CE6^2))-((4.8239362033*10^-2)*(CE6))+5.2084519626 -> 1.95524 | CB6: =((6.6506859177*10^-19)*(CE6^6))-((7.8984343104*10^-15)*(CE6^5))+((3.6879849877*10^-11)*(CE6^4))-((8.6386228559*10^-8)*(CE6^3))+((1.1074017861*10^-4)*(CE6^2))-((3.1241611608*10^-2)*(CE6))+(3.3006694533) -> 1.8423923 | CC6: =((5.9376621671*10^-19)*(CE6^6))-((7.1020711589*10^-15)*(CE6^5))+((3.3460896805*10^-11)*(CE6^4))-((7.8909601634*10^-8)*(CE6^3))+((9.8599769212*10^-5)*(CE6^2))-((2.8172899156*10^-2)*(CE6))+(3.05378908) -> 1.5995474 | CD6: =((6.4958291549*10^-19)*(CE6^6))-((7.8224528491*10^-15)*(CE6^5))+((3.7120417697*10^-11)*(CE6^4))-((8.798317617*10^-8)*(CE6^3))+((1.0982327235*10^-4)*(CE6^2))-((3.2606444641*10^-2)*(CE6))+(3.5786489003) -> 1.5874046 | CE6: 300 | CJ6: =CK6+CL6+CM6+CN6 -> 6.9845843 | CK6: =((8.5770134353*10^-19)*(CO6^6))-((1.0374875556*10^-14)*(CO6^5))+((4.9689475953*10^-11)*(CO6^4))-((1.2019118054*10^-7)*(CO6^3))+((1.5650954893*10^-4)*(CO6^2))-((4.8239362033*10^-2)*(CO6))+5.2084519626 -> 1.95524 | CL6: =((6.6506859177*10^-19)*(CO6^6))-((7.8984343104*10^-15)*(CO6^5))+((3.6879849877*10^-11)*(CO6^4))-((8.6386228559*10^-8)*(CO6^3))+((1.1074017861*10^-4)*(CO6^2))-((3.1241611608*10^-2)*(CO6))+(3.3006694533) -> 1.8423923 | CM6: =((5.9376621671*10^-19)*(CO6^6))-((7.1020711589*10^-15)*(CO6^5))+((3.3460896805*10^-11)*(CO6^4))-((7.8909601634*10^-8)*(CO6^3))+((9.8599769212*10^-5)*(CO6^2))-((2.8172899156*10^-2)*(CO6))+(3.05378908) -> 1.5995474 | CN6: =((6.4958291549*10^-19)*(CO6^6))-((7.8224528491*10^-15)*(CO6^5))+((3.7120417697*10^-11)*(CO6^4))-((8.798317617*10^-8)*(CO6^3))+((1.0982327235*10^-4)*(CO6^2))-((3.2606444641*10^-2)*(CO6))+(3.5786489003) -> 1.5874046 | CO6: 300 | CT6: =CU6+CV6+CW6+CX6 -> 6.9845843 | CU6: =((8.5770134353*10^-19)*(CY6^6))-((1.0374875556*10^-14)*(CY6^5))+((4.9689475953*10^-11)*(CY6^4))-((1.2019118054*10^-7)*(CY6^3))+((1.5650954893*10^-4)*(CY6^2))-((4.8239362033*10^-2)*(CY6))+5.2084519626 -> 1.95524 | CV6: =((6.6506859177*10^-19)*(CY6^6))-((7.8984343104*10^-15)*(CY6^5))+((3.6879849877*10^-11)*(CY6^4))-((8.6386228559*10^-8)*(CY6^3))+((1.1074017861*10^-4)*(CY6^2))-((3.1241611608*10^-2)*(CY6))+(3.3006694533) -> 1.8423923 | CW6: =((5.9376621671*10^-19)*(CY6^6))-((7.1020711589*10^-15)*(CY6^5))+((3.3460896805*10^-11)*(CY6^4))-((7.8909601634*10^-8)*(CY6^3))+((9.8599769212*10^-5)*(CY6^2))-((2.8172899156*10^-2)*(CY6))+(3.05378908) -> 1.5995474 | CX6: =((6.4958291549*10^-19)*(CY6^6))-((7.8224528491*10^-15)*(CY6^5))+((3.7120417697*10^-11)*(CY6^4))-((8.798317617*10^-8)*(CY6^3))+((1.0982327235*10^-4)*(CY6^2))-((3.2606444641*10^-2)*(CY6))+(3.5786489003) -> 1.5874046 | CY6: 300 | DD6: =DE6+DF6+DG6+DH6 -> 6.9845843 | DE6: =((8.5770134353*10^-19)*(DI6^6))-((1.0374875556*10^-14)*(DI6^5))+((4.9689475953*10^-11)*(DI6^4))-((1.2019118054*10^-7)*(DI6^3))+((1.5650954893*10^-4)*(DI6^2))-((4.8239362033*10^-2)*(DI6))+5.2084519626 -> 1.95524 | DF6: =((6.6506859177*10^-19)*(DI6^6))-((7.8984343104*10^-15)*(DI6^5))+((3.6879849877*10^-11)*(DI6^4))-((8.6386228559*10^-8)*(DI6^3))+((1.1074017861*10^-4)*(DI6^2))-((3.1241611608*10^-2)*(DI6))+(3.3006694533) -> 1.8423923 | DG6: =((5.9376621671*10^-19)*(DI6^6))-((7.1020711589*10^-15)*(DI6^5))+((3.3460896805*10^-11)*(DI6^4))-((7.8909601634*10^-8)*(DI6^3))+((9.8599769212*10^-5)*(DI6^2))-((2.8172899156*10^-2)*(DI6))+(3.05378908) -> 1.5995474 | DH6: =((6.4958291549*10^-19)*(DI6^6))-((7.8224528491*10^-15)*(DI6^5))+((3.7120417697*10^-11)*(DI6^4))-((8.798317617*10^-8)*(DI6^3))+((1.0982327235*10^-4)*(DI6^2))-((3.2606444641*10^-2)*(DI6))+(3.5786489003) -> 1.5874046 | DI6: 300 | DN6: =DO6+DP6+DQ6+DR6 -> 6.9845843 | DO6: =((8.5770134353*10^-19)*(DS6^6))-((1.0374875556*10^-14)*(DS6^5))+((4.9689475953*10^-11)*(DS6^4))-((1.2019118054*10^-7)*(DS6^3))+((1.5650954893*10^-4)*(DS6^2))-((4.8239362033*10^-2)*(DS6))+5.2084519626 -> 1.95524 | DP6: =((6.6506859177*10^-19)*(DS6^6))-((7.8984343104*10^-15)*(DS6^5))+((3.6879849877*10^-11)*(DS6^4))-((8.6386228559*10^-8)*(DS6^3))+((1.1074017861*10^-4)*(DS6^2))-((3.1241611608*10^-2)*(DS6))+(3.3006694533) -> 1.8423923 | DQ6: =((5.9376621671*10^-19)*(DS6^6))-((7.1020711589*10^-15)*(DS6^5))+((3.3460896805*10^-11)*(DS6^4))-((7.8909601634*10^-8)*(DS6^3))+((9.8599769212*10^-5)*(DS6^2))-((2.8172899156*10^-2)*(DS6))+(3.05378908) -> 1.5995474 | DR6: =((6.4958291549*10^-19)*(DS6^6))-((7.8224528491*10^-15)*(DS6^5))+((3.7120417697*10^-11)*(DS6^4))-((8.798317617*10^-8)*(DS6^3))+((1.0982327235*10^-4)*(DS6^2))-((3.2606444641*10^-2)*(DS6))+(3.5786489003) -> 1.5874046 | DS6: 300 | DX6: =DY6+DZ6+EA6+EB6 -> 6.9845843 | DY6: =((8.5770134353*10^-19)*(EC6^6))-((1.0374875556*10^-14)*(EC6^5))+((4.9689475953*10^-11)*(EC6^4))-((1.2019118054*10^-7)*(EC6^3))+((1.5650954893*10^-4)*(EC6^2))-((4.8239362033*10^-2)*(EC6))+5.2084519626 -> 1.95524 | DZ6: =((6.6506859177*10^-19)*(EC6^6))-((7.8984343104*10^-15)*(EC6^5))+((3.6879849877*10^-11)*(EC6^4))-((8.6386228559*10^-8)*(EC6^3))+((1.1074017861*10^-4)*(EC6^2))-((3.1241611608*10^-2)*(EC6))+(3.3006694533) -> 1.8423923 | EA6: =((5.9376621671*10^-19)*(EC6^6))-((7.1020711589*10^-15)*(EC6^5))+((3.3460896805*10^-11)*(EC6^4))-((7.8909601634*10^-8)*(EC6^3))+((9.8599769212*10^-5)*(EC6^2))-((2.8172899156*10^-2)*(EC6))+(3.05378908) -> 1.5995474 | EB6: =((6.4958291549*10^-19)*(EC6^6))-((7.8224528491*10^-15)*(EC6^5))+((3.7120417697*10^-11)*(EC6^4))-((8.798317617*10^-8)*(EC6^3))+((1.0982327235*10^-4)*(EC6^2))-((3.2606444641*10^-2)*(EC6))+(3.5786489003) -> 1.5874046 | EC6: 300 | EH6: =EI6+EJ6+EK6+EL6 -> 6.9845843 | EI6: =((8.5770134353*10^-19)*(EM6^6))-((1.0374875556*10^-14)*(EM6^5))+((4.9689475953*10^-11)*(EM6^4))-((1.2019118054*10^-7)*(EM6^3))+((1.5650954893*10^-4)*(EM6^2))-((4.8239362033*10^-2)*(EM6))+5.2084519626 -> 1.95524 | EJ6: =((6.6506859177*10^-19)*(EM6^6))-((7.8984343104*10^-15)*(EM6^5))+((3.6879849877*10^-11)*(EM6^4))-((8.6386228559*10^-8)*(EM6^3))+((1.1074017861*10^-4)*(EM6^2))-((3.1241611608*10^-2)*(EM6))+(3.3006694533) -> 1.8423923 | EK6: =((5.9376621671*10^-19)*(EM6^6))-((7.1020711589*10^-15)*(EM6^5))+((3.3460896805*10^-11)*(EM6^4))-((7.8909601634*10^-8)*(EM6^3))+((9.8599769212*10^-5)*(EM6^2))-((2.8172899156*10^-2)*(EM6))+(3.05378908) -> 1.5995474 | EL6: =((6.4958291549*10^-19)*(EM6^6))-((7.8224528491*10^-15)*(EM6^5))+((3.7120417697*10^-11)*(EM6^4))-((8.798317617*10^-8)*(EM6^3))+((1.0982327235*10^-4)*(EM6^2))-((3.2606444641*10^-2)*(EM6))+(3.5786489003) -> 1.5874046 | EM6: 300 | ER6: =ES6+ET6+EU6+EV6 -> 6.9845843 | ES6: =((8.5770134353*10^-19)*(EW6^6))-((1.0374875556*10^-14)*(EW6^5))+((4.9689475953*10^-11)*(EW6^4))-((1.2019118054*10^-7)*(EW6^3))+((1.5650954893*10^-4)*(EW6^2))-((4.8239362033*10^-2)*(EW6))+5.2084519626 -> 1.95524 | ET6: =((6.6506859177*10^-19)*(EW6^6))-((7.8984343104*10^-15)*(EW6^5))+((3.6879849877*10^-11)*(EW6^4))-((8.6386228559*10^-8)*(EW6^3))+((1.1074017861*10^-4)*(EW6^2))-((3.1241611608*10^-2)*(EW6))+(3.3006694533) -> 1.8423923 | EU6: =((5.9376621671*10^-19)*(EW6^6))-((7.1020711589*10^-15)*(EW6^5))+((3.3460896805*10^-11)*(EW6^4))-((7.8909601634*10^-8)*(EW6^3))+((9.8599769212*10^-5)*(EW6^2))-((2.8172899156*10^-2)*(EW6))+(3.05378908) -> 1.5995474 | EV6: =((6.4958291549*10^-19)*(EW6^6))-((7.8224528491*10^-15)*(EW6^5))+((3.7120417697*10^-11)*(EW6^4))-((8.798317617*10^-8)*(EW6^3))+((1.0982327235*10^-4)*(EW6^2))-((3.2606444641*10^-2)*(EW6))+(3.5786489003) -> 1.5874046 | EW6: 300
A7: 350 | B7: 39.37 | C7: 1.99 | D7: 219.86 | E7: 161 | G7: 350 | H7: 33.97 | I7: 1.75 | J7: 194.11 | K7: 105.85 | M7: 350 | N7: 29.19 | O7: 1.51 | P7: 196.17 | Q7: 23.08 | S7: 350 | T7: 29.77 | U7: 1.53 | V7: 209.77 | W7: 24.7 | AB7: =AC7+AD7+AE7+AF7 -> 10.496794 | AC7: =((8.5770134353*10^-19)*(AG7^6))-((1.0374875556*10^-14)*(AG7^5))+((4.9689475953*10^-11)*(AG7^4))-((1.2019118054*10^-7)*(AG7^3))+((1.5650954893*10^-4)*(AG7^2))-((4.8239362033*10^-2)*(AG7))+5.2084519626 -> 3.0366367 | AD7: =((6.6506859177*10^-19)*(AG7^6))-((7.8984343104*10^-15)*(AG7^5))+((3.6879849877*10^-11)*(AG7^4))-((8.6386228559*10^-8)*(AG7^3))+((1.1074017861*10^-4)*(AG7^2))-((3.1241611608*10^-2)*(AG7))+(3.3006694533) -> 2.7411345 | AE7: =((5.9376621671*10^-19)*(AG7^6))-((7.1020711589*10^-15)*(AG7^5))+((3.3460896805*10^-11)*(AG7^4))-((7.8909601634*10^-8)*(AG7^3))+((9.8599769212*10^-5)*(AG7^2))-((2.8172899156*10^-2)*(AG7))+(3.05378908) -> 2.3544096 | AF7: =((6.4958291549*10^-19)*(AG7^6))-((7.8224528491*10^-15)*(AG7^5))+((3.7120417697*10^-11)*(AG7^4))-((8.798317617*10^-8)*(AG7^3))+((1.0982327235*10^-4)*(AG7^2))-((3.2606444641*10^-2)*(AG7))+(3.5786489003) -> 2.3646128 | AG7: 350 | AL7: =AM7+AN7+AO7+AP7 -> 10.496794 | AM7: =((8.5770134353*10^-19)*(AQ7^6))-((1.0374875556*10^-14)*(AQ7^5))+((4.9689475953*10^-11)*(AQ7^4))-((1.2019118054*10^-7)*(AQ7^3))+((1.5650954893*10^-4)*(AQ7^2))-((4.8239362033*10^-2)*(AQ7))+5.2084519626 -> 3.0366367 | AN7: =((6.6506859177*10^-19)*(AQ7^6))-((7.8984343104*10^-15)*(AQ7^5))+((3.6879849877*10^-11)*(AQ7^4))-((8.6386228559*10^-8)*(AQ7^3))+((1.1074017861*10^-4)*(AQ7^2))-((3.1241611608*10^-2)*(AQ7))+(3.3006694533) -> 2.7411345 | AO7: =((5.9376621671*10^-19)*(AQ7^6))-((7.1020711589*10^-15)*(AQ7^5))+((3.3460896805*10^-11)*(AQ7^4))-((7.8909601634*10^-8)*(AQ7^3))+((9.8599769212*10^-5)*(AQ7^2))-((2.8172899156*10^-2)*(AQ7))+(3.05378908) -> 2.3544096 | AP7: =((6.4958291549*10^-19)*(AQ7^6))-((7.8224528491*10^-15)*(AQ7^5))+((3.7120417697*10^-11)*(AQ7^4))-((8.798317617*10^-8)*(AQ7^3))+((1.0982327235*10^-4)*(AQ7^2))-((3.2606444641*10^-2)*(AQ7))+(3.5786489003) -> 2.3646128 | AQ7: 350 | AV7: =AW7+AX7+AY7+AZ7 -> 10.496794 | AW7: =((8.5770134353*10^-19)*(BA7^6))-((1.0374875556*10^-14)*(BA7^5))+((4.9689475953*10^-11)*(BA7^4))-((1.2019118054*10^-7)*(BA7^3))+((1.5650954893*10^-4)*(BA7^2))-((4.8239362033*10^-2)*(BA7))+5.2084519626 -> 3.0366367 | AX7: =((6.6506859177*10^-19)*(BA7^6))-((7.8984343104*10^-15)*(BA7^5))+((3.6879849877*10^-11)*(BA7^4))-((8.6386228559*10^-8)*(BA7^3))+((1.1074017861*10^-4)*(BA7^2))-((3.1241611608*10^-2)*(BA7))+(3.3006694533) -> 2.7411345 | AY7: =((5.9376621671*10^-19)*(BA7^6))-((7.1020711589*10^-15)*(BA7^5))+((3.3460896805*10^-11)*(BA7^4))-((7.8909601634*10^-8)*(BA7^3))+((9.8599769212*10^-5)*(BA7^2))-((2.8172899156*10^-2)*(BA7))+(3.05378908) -> 2.3544096 | AZ7: =((6.4958291549*10^-19)*(BA7^6))-((7.8224528491*10^-15)*(BA7^5))+((3.7120417697*10^-11)*(BA7^4))-((8.798317617*10^-8)*(BA7^3))+((1.0982327235*10^-4)*(BA7^2))-((3.2606444641*10^-2)*(BA7))+(3.5786489003) -> 2.3646128 | BA7: 350 | BF7: =BG7+BH7+BI7+BJ7 -> 10.496794 | BG7: =((8.5770134353*10^-19)*(BK7^6))-((1.0374875556*10^-14)*(BK7^5))+((4.9689475953*10^-11)*(BK7^4))-((1.2019118054*10^-7)*(BK7^3))+((1.5650954893*10^-4)*(BK7^2))-((4.8239362033*10^-2)*(BK7))+5.2084519626 -> 3.0366367 | BH7: =((6.6506859177*10^-19)*(BK7^6))-((7.8984343104*10^-15)*(BK7^5))+((3.6879849877*10^-11)*(BK7^4))-((8.6386228559*10^-8)*(BK7^3))+((1.1074017861*10^-4)*(BK7^2))-((3.1241611608*10^-2)*(BK7))+(3.3006694533) -> 2.7411345 | BI7: =((5.9376621671*10^-19)*(BK7^6))-((7.1020711589*10^-15)*(BK7^5))+((3.3460896805*10^-11)*(BK7^4))-((7.8909601634*10^-8)*(BK7^3))+((9.8599769212*10^-5)*(BK7^2))-((2.8172899156*10^-2)*(BK7))+(3.05378908) -> 2.3544096 | BJ7: =((6.4958291549*10^-19)*(BK7^6))-((7.8224528491*10^-15)*(BK7^5))+((3.7120417697*10^-11)*(BK7^4))-((8.798317617*10^-8)*(BK7^3))+((1.0982327235*10^-4)*(BK7^2))-((3.2606444641*10^-2)*(BK7))+(3.5786489003) -> 2.3646128 | BK7: 350 | BP7: =BQ7+BR7+BS7+BT7 -> 10.496794 | BQ7: =((8.5770134353*10^-19)*(BU7^6))-((1.0374875556*10^-14)*(BU7^5))+((4.9689475953*10^-11)*(BU7^4))-((1.2019118054*10^-7)*(BU7^3))+((1.5650954893*10^-4)*(BU7^2))-((4.8239362033*10^-2)*(BU7))+5.2084519626 -> 3.0366367 | BR7: =((6.6506859177*10^-19)*(BU7^6))-((7.8984343104*10^-15)*(BU7^5))+((3.6879849877*10^-11)*(BU7^4))-((8.6386228559*10^-8)*(BU7^3))+((1.1074017861*10^-4)*(BU7^2))-((3.1241611608*10^-2)*(BU7))+(3.3006694533) -> 2.7411345 | BS7: =((5.9376621671*10^-19)*(BU7^6))-((7.1020711589*10^-15)*(BU7^5))+((3.3460896805*10^-11)*(BU7^4))-((7.8909601634*10^-8)*(BU7^3))+((9.8599769212*10^-5)*(BU7^2))-((2.8172899156*10^-2)*(BU7))+(3.05378908) -> 2.3544096 | BT7: =((6.4958291549*10^-19)*(BU7^6))-((7.8224528491*10^-15)*(BU7^5))+((3.7120417697*10^-11)*(BU7^4))-((8.798317617*10^-8)*(BU7^3))+((1.0982327235*10^-4)*(BU7^2))-((3.2606444641*10^-2)*(BU7))+(3.5786489003) -> 2.3646128 | BU7: 350 | BZ7: =CA7+CB7+CC7+CD7 -> 10.496794 | CA7: =((8.5770134353*10^-19)*(CE7^6))-((1.0374875556*10^-14)*(CE7^5))+((4.9689475953*10^-11)*(CE7^4))-((1.2019118054*10^-7)*(CE7^3))+((1.5650954893*10^-4)*(CE7^2))-((4.8239362033*10^-2)*(CE7))+5.2084519626 -> 3.0366367 | CB7: =((6.6506859177*10^-19)*(CE7^6))-((7.8984343104*10^-15)*(CE7^5))+((3.6879849877*10^-11)*(CE7^4))-((8.6386228559*10^-8)*(CE7^3))+((1.1074017861*10^-4)*(CE7^2))-((3.1241611608*10^-2)*(CE7))+(3.3006694533) -> 2.7411345 | CC7: =((5.9376621671*10^-19)*(CE7^6))-((7.1020711589*10^-15)*(CE7^5))+((3.3460896805*10^-11)*(CE7^4))-((7.8909601634*10^-8)*(CE7^3))+((9.8599769212*10^-5)*(CE7^2))-((2.8172899156*10^-2)*(CE7))+(3.05378908) -> 2.3544096 | CD7: =((6.4958291549*10^-19)*(CE7^6))-((7.8224528491*10^-15)*(CE7^5))+((3.7120417697*10^-11)*(CE7^4))-((8.798317617*10^-8)*(CE7^3))+((1.0982327235*10^-4)*(CE7^2))-((3.2606444641*10^-2)*(CE7))+(3.5786489003) -> 2.3646128 | CE7: 350 | CJ7: =CK7+CL7+CM7+CN7 -> 10.496794 | CK7: =((8.5770134353*10^-19)*(CO7^6))-((1.0374875556*10^-14)*(CO7^5))+((4.9689475953*10^-11)*(CO7^4))-((1.2019118054*10^-7)*(CO7^3))+((1.5650954893*10^-4)*(CO7^2))-((4.8239362033*10^-2)*(CO7))+5.2084519626 -> 3.0366367 | CL7: =((6.6506859177*10^-19)*(CO7^6))-((7.8984343104*10^-15)*(CO7^5))+((3.6879849877*10^-11)*(CO7^4))-((8.6386228559*10^-8)*(CO7^3))+((1.1074017861*10^-4)*(CO7^2))-((3.1241611608*10^-2)*(CO7))+(3.3006694533) -> 2.7411345 | CM7: =((5.9376621671*10^-19)*(CO7^6))-((7.1020711589*10^-15)*(CO7^5))+((3.3460896805*10^-11)*(CO7^4))-((7.8909601634*10^-8)*(CO7^3))+((9.8599769212*10^-5)*(CO7^2))-((2.8172899156*10^-2)*(CO7))+(3.05378908) -> 2.3544096 | CN7: =((6.4958291549*10^-19)*(CO7^6))-((7.8224528491*10^-15)*(CO7^5))+((3.7120417697*10^-11)*(CO7^4))-((8.798317617*10^-8)*(CO7^3))+((1.0982327235*10^-4)*(CO7^2))-((3.2606444641*10^-2)*(CO7))+(3.5786489003) -> 2.3646128 | CO7: 350 | CT7: =CU7+CV7+CW7+CX7 -> 10.496794 | CU7: =((8.5770134353*10^-19)*(CY7^6))-((1.0374875556*10^-14)*(CY7^5))+((4.9689475953*10^-11)*(CY7^4))-((1.2019118054*10^-7)*(CY7^3))+((1.5650954893*10^-4)*(CY7^2))-((4.8239362033*10^-2)*(CY7))+5.2084519626 -> 3.0366367 | CV7: =((6.6506859177*10^-19)*(CY7^6))-((7.8984343104*10^-15)*(CY7^5))+((3.6879849877*10^-11)*(CY7^4))-((8.6386228559*10^-8)*(CY7^3))+((1.1074017861*10^-4)*(CY7^2))-((3.1241611608*10^-2)*(CY7))+(3.3006694533) -> 2.7411345 | CW7: =((5.9376621671*10^-19)*(CY7^6))-((7.1020711589*10^-15)*(CY7^5))+((3.3460896805*10^-11)*(CY7^4))-((7.8909601634*10^-8)*(CY7^3))+((9.8599769212*10^-5)*(CY7^2))-((2.8172899156*10^-2)*(CY7))+(3.05378908) -> 2.3544096 | CX7: =((6.4958291549*10^-19)*(CY7^6))-((7.8224528491*10^-15)*(CY7^5))+((3.7120417697*10^-11)*(CY7^4))-((8.798317617*10^-8)*(CY7^3))+((1.0982327235*10^-4)*(CY7^2))-((3.2606444641*10^-2)*(CY7))+(3.5786489003) -> 2.3646128 | CY7: 350 | DD7: =DE7+DF7+DG7+DH7 -> 10.496794 | DE7: =((8.5770134353*10^-19)*(DI7^6))-((1.0374875556*10^-14)*(DI7^5))+((4.9689475953*10^-11)*(DI7^4))-((1.2019118054*10^-7)*(DI7^3))+((1.5650954893*10^-4)*(DI7^2))-((4.8239362033*10^-2)*(DI7))+5.2084519626 -> 3.0366367 | DF7: =((6.6506859177*10^-19)*(DI7^6))-((7.8984343104*10^-15)*(DI7^5))+((3.6879849877*10^-11)*(DI7^4))-((8.6386228559*10^-8)*(DI7^3))+((1.1074017861*10^-4)*(DI7^2))-((3.1241611608*10^-2)*(DI7))+(3.3006694533) -> 2.7411345 | DG7: =((5.9376621671*10^-19)*(DI7^6))-((7.1020711589*10^-15)*(DI7^5))+((3.3460896805*10^-11)*(DI7^4))-((7.8909601634*10^-8)*(DI7^3))+((9.8599769212*10^-5)*(DI7^2))-((2.8172899156*10^-2)*(DI7))+(3.05378908) -> 2.3544096 | DH7: =((6.4958291549*10^-19)*(DI7^6))-((7.8224528491*10^-15)*(DI7^5))+((3.7120417697*10^-11)*(DI7^4))-((8.798317617*10^-8)*(DI7^3))+((1.0982327235*10^-4)*(DI7^2))-((3.2606444641*10^-2)*(DI7))+(3.5786489003) -> 2.3646128 | DI7: 350 | DN7: =DO7+DP7+DQ7+DR7 -> 10.496794 | DO7: =((8.5770134353*10^-19)*(DS7^6))-((1.0374875556*10^-14)*(DS7^5))+((4.9689475953*10^-11)*(DS7^4))-((1.2019118054*10^-7)*(DS7^3))+((1.5650954893*10^-4)*(DS7^2))-((4.8239362033*10^-2)*(DS7))+5.2084519626 -> 3.0366367 | DP7: =((6.6506859177*10^-19)*(DS7^6))-((7.8984343104*10^-15)*(DS7^5))+((3.6879849877*10^-11)*(DS7^4))-((8.6386228559*10^-8)*(DS7^3))+((1.1074017861*10^-4)*(DS7^2))-((3.1241611608*10^-2)*(DS7))+(3.3006694533) -> 2.7411345 | DQ7: =((5.9376621671*10^-19)*(DS7^6))-((7.1020711589*10^-15)*(DS7^5))+((3.3460896805*10^-11)*(DS7^4))-((7.8909601634*10^-8)*(DS7^3))+((9.8599769212*10^-5)*(DS7^2))-((2.8172899156*10^-2)*(DS7))+(3.05378908) -> 2.3544096 | DR7: =((6.4958291549*10^-19)*(DS7^6))-((7.8224528491*10^-15)*(DS7^5))+((3.7120417697*10^-11)*(DS7^4))-((8.798317617*10^-8)*(DS7^3))+((1.0982327235*10^-4)*(DS7^2))-((3.2606444641*10^-2)*(DS7))+(3.5786489003) -> 2.3646128 | DS7: 350 | DX7: =DY7+DZ7+EA7+EB7 -> 10.496794 | DY7: =((8.5770134353*10^-19)*(EC7^6))-((1.0374875556*10^-14)*(EC7^5))+((4.9689475953*10^-11)*(EC7^4))-((1.2019118054*10^-7)*(EC7^3))+((1.5650954893*10^-4)*(EC7^2))-((4.8239362033*10^-2)*(EC7))+5.2084519626 -> 3.0366367 | DZ7: =((6.6506859177*10^-19)*(EC7^6))-((7.8984343104*10^-15)*(EC7^5))+((3.6879849877*10^-11)*(EC7^4))-((8.6386228559*10^-8)*(EC7^3))+((1.1074017861*10^-4)*(EC7^2))-((3.1241611608*10^-2)*(EC7))+(3.3006694533) -> 2.7411345 | EA7: =((5.9376621671*10^-19)*(EC7^6))-((7.1020711589*10^-15)*(EC7^5))+((3.3460896805*10^-11)*(EC7^4))-((7.8909601634*10^-8)*(EC7^3))+((9.8599769212*10^-5)*(EC7^2))-((2.8172899156*10^-2)*(EC7))+(3.05378908) -> 2.3544096 | EB7: =((6.4958291549*10^-19)*(EC7^6))-((7.8224528491*10^-15)*(EC7^5))+((3.7120417697*10^-11)*(EC7^4))-((8.798317617*10^-8)*(EC7^3))+((1.0982327235*10^-4)*(EC7^2))-((3.2606444641*10^-2)*(EC7))+(3.5786489003) -> 2.3646128 | EC7: 350 | EH7: =EI7+EJ7+EK7+EL7 -> 10.496794 | EI7: =((8.5770134353*10^-19)*(EM7^6))-((1.0374875556*10^-14)*(EM7^5))+((4.9689475953*10^-11)*(EM7^4))-((1.2019118054*10^-7)*(EM7^3))+((1.5650954893*10^-4)*(EM7^2))-((4.8239362033*10^-2)*(EM7))+5.2084519626 -> 3.0366367 | EJ7: =((6.6506859177*10^-19)*(EM7^6))-((7.8984343104*10^-15)*(EM7^5))+((3.6879849877*10^-11)*(EM7^4))-((8.6386228559*10^-8)*(EM7^3))+((1.1074017861*10^-4)*(EM7^2))-((3.1241611608*10^-2)*(EM7))+(3.3006694533) -> 2.7411345 | EK7: =((5.9376621671*10^-19)*(EM7^6))-((7.1020711589*10^-15)*(EM7^5))+((3.3460896805*10^-11)*(EM7^4))-((7.8909601634*10^-8)*(EM7^3))+((9.8599769212*10^-5)*(EM7^2))-((2.8172899156*10^-2)*(EM7))+(3.05378908) -> 2.3544096 | EL7: =((6.4958291549*10^-19)*(EM7^6))-((7.8224528491*10^-15)*(EM7^5))+((3.7120417697*10^-11)*(EM7^4))-((8.798317617*10^-8)*(EM7^3))+((1.0982327235*10^-4)*(EM7^2))-((3.2606444641*10^-2)*(EM7))+(3.5786489003) -> 2.3646128 | EM7: 350 | ER7: =ES7+ET7+EU7+EV7 -> 10.496794 | ES7: =((8.5770134353*10^-19)*(EW7^6))-((1.0374875556*10^-14)*(EW7^5))+((4.9689475953*10^-11)*(EW7^4))-((1.2019118054*10^-7)*(EW7^3))+((1.5650954893*10^-4)*(EW7^2))-((4.8239362033*10^-2)*(EW7))+5.2084519626 -> 3.0366367 | ET7: =((6.6506859177*10^-19)*(EW7^6))-((7.8984343104*10^-15)*(EW7^5))+((3.6879849877*10^-11)*(EW7^4))-((8.6386228559*10^-8)*(EW7^3))+((1.1074017861*10^-4)*(EW7^2))-((3.1241611608*10^-2)*(EW7))+(3.3006694533) -> 2.7411345 | EU7: =((5.9376621671*10^-19)*(EW7^6))-((7.1020711589*10^-15)*(EW7^5))+((3.3460896805*10^-11)*(EW7^4))-((7.8909601634*10^-8)*(EW7^3))+((9.8599769212*10^-5)*(EW7^2))-((2.8172899156*10^-2)*(EW7))+(3.05378908) -> 2.3544096 | EV7: =((6.4958291549*10^-19)*(EW7^6))-((7.8224528491*10^-15)*(EW7^5))+((3.7120417697*10^-11)*(EW7^4))-((8.798317617*10^-8)*(EW7^3))+((1.0982327235*10^-4)*(EW7^2))-((3.2606444641*10^-2)*(EW7))+(3.5786489003) -> 2.3646128 | EW7: 350
A8: 400 | B8: 41.27 | C8: 4 | D8: 225.25 | E8: 144.22 | G8: 400 | H8: 34.44 | I8: 3.46 | J8: 198.68 | K8: 95.58 | M8: 400 | N8: 29.32 | O8: 2.97 | P8: 200.08 | Q8: 23.17 | S8: 400 | T8: 30.21 | U8: 3.03 | V8: 213.77 | W8: 24.8 | AB8: =AC8+AD8+AE8+AF8 -> 14.937424 | AC8: =((8.5770134353*10^-19)*(AG8^6))-((1.0374875556*10^-14)*(AG8^5))+((4.9689475953*10^-11)*(AG8^4))-((1.2019118054*10^-7)*(AG8^3))+((1.5650954893*10^-4)*(AG8^2))-((4.8239362033*10^-2)*(AG8))+5.2084519626 -> 4.4313244 | AD8: =((6.6506859177*10^-19)*(AG8^6))-((7.8984343104*10^-15)*(AG8^5))+((3.6879849877*10^-11)*(AG8^4))-((8.6386228559*10^-8)*(AG8^3))+((1.1074017861*10^-4)*(AG8^2))-((3.1241611608*10^-2)*(AG8))+(3.3006694533) -> 3.8597031 | AE8: =((5.9376621671*10^-19)*(AG8^6))-((7.1020711589*10^-15)*(AG8^5))+((3.3460896805*10^-11)*(AG8^4))-((7.8909601634*10^-8)*(AG8^3))+((9.8599769212*10^-5)*(AG8^2))-((2.8172899156*10^-2)*(AG8))+(3.05378908) -> 3.2966838 | AF8: =((6.4958291549*10^-19)*(AG8^6))-((7.8224528491*10^-15)*(AG8^5))+((3.7120417697*10^-11)*(AG8^4))-((8.798317617*10^-8)*(AG8^3))+((1.0982327235*10^-4)*(AG8^2))-((3.2606444641*10^-2)*(AG8))+(3.5786489003) -> 3.3497128 | AG8: 400 | AL8: =AM8+AN8+AO8+AP8 -> 14.937424 | AM8: =((8.5770134353*10^-19)*(AQ8^6))-((1.0374875556*10^-14)*(AQ8^5))+((4.9689475953*10^-11)*(AQ8^4))-((1.2019118054*10^-7)*(AQ8^3))+((1.5650954893*10^-4)*(AQ8^2))-((4.8239362033*10^-2)*(AQ8))+5.2084519626 -> 4.4313244 | AN8: =((6.6506859177*10^-19)*(AQ8^6))-((7.8984343104*10^-15)*(AQ8^5))+((3.6879849877*10^-11)*(AQ8^4))-((8.6386228559*10^-8)*(AQ8^3))+((1.1074017861*10^-4)*(AQ8^2))-((3.1241611608*10^-2)*(AQ8))+(3.3006694533) -> 3.8597031 | AO8: =((5.9376621671*10^-19)*(AQ8^6))-((7.1020711589*10^-15)*(AQ8^5))+((3.3460896805*10^-11)*(AQ8^4))-((7.8909601634*10^-8)*(AQ8^3))+((9.8599769212*10^-5)*(AQ8^2))-((2.8172899156*10^-2)*(AQ8))+(3.05378908) -> 3.2966838 | AP8: =((6.4958291549*10^-19)*(AQ8^6))-((7.8224528491*10^-15)*(AQ8^5))+((3.7120417697*10^-11)*(AQ8^4))-((8.798317617*10^-8)*(AQ8^3))+((1.0982327235*10^-4)*(AQ8^2))-((3.2606444641*10^-2)*(AQ8))+(3.5786489003) -> 3.3497128 | AQ8: 400 | AV8: =AW8+AX8+AY8+AZ8 -> 14.937424 | AW8: =((8.5770134353*10^-19)*(BA8^6))-((1.0374875556*10^-14)*(BA8^5))+((4.9689475953*10^-11)*(BA8^4))-((1.2019118054*10^-7)*(BA8^3))+((1.5650954893*10^-4)*(BA8^2))-((4.8239362033*10^-2)*(BA8))+5.2084519626 -> 4.4313244 | AX8: =((6.6506859177*10^-19)*(BA8^6))-((7.8984343104*10^-15)*(BA8^5))+((3.6879849877*10^-11)*(BA8^4))-((8.6386228559*10^-8)*(BA8^3))+((1.1074017861*10^-4)*(BA8^2))-((3.1241611608*10^-2)*(BA8))+(3.3006694533) -> 3.8597031 | AY8: =((5.9376621671*10^-19)*(BA8^6))-((7.1020711589*10^-15)*(BA8^5))+((3.3460896805*10^-11)*(BA8^4))-((7.8909601634*10^-8)*(BA8^3))+((9.8599769212*10^-5)*(BA8^2))-((2.8172899156*10^-2)*(BA8))+(3.05378908) -> 3.2966838 | AZ8: =((6.4958291549*10^-19)*(BA8^6))-((7.8224528491*10^-15)*(BA8^5))+((3.7120417697*10^-11)*(BA8^4))-((8.798317617*10^-8)*(BA8^3))+((1.0982327235*10^-4)*(BA8^2))-((3.2606444641*10^-2)*(BA8))+(3.5786489003) -> 3.3497128 | BA8: 400 | BF8: =BG8+BH8+BI8+BJ8 -> 14.937424 | BG8: =((8.5770134353*10^-19)*(BK8^6))-((1.0374875556*10^-14)*(BK8^5))+((4.9689475953*10^-11)*(BK8^4))-((1.2019118054*10^-7)*(BK8^3))+((1.5650954893*10^-4)*(BK8^2))-((4.8239362033*10^-2)*(BK8))+5.2084519626 -> 4.4313244 | BH8: =((6.6506859177*10^-19)*(BK8^6))-((7.8984343104*10^-15)*(BK8^5))+((3.6879849877*10^-11)*(BK8^4))-((8.6386228559*10^-8)*(BK8^3))+((1.1074017861*10^-4)*(BK8^2))-((3.1241611608*10^-2)*(BK8))+(3.3006694533) -> 3.8597031 | BI8: =((5.9376621671*10^-19)*(BK8^6))-((7.1020711589*10^-15)*(BK8^5))+((3.3460896805*10^-11)*(BK8^4))-((7.8909601634*10^-8)*(BK8^3))+((9.8599769212*10^-5)*(BK8^2))-((2.8172899156*10^-2)*(BK8))+(3.05378908) -> 3.2966838 | BJ8: =((6.4958291549*10^-19)*(BK8^6))-((7.8224528491*10^-15)*(BK8^5))+((3.7120417697*10^-11)*(BK8^4))-((8.798317617*10^-8)*(BK8^3))+((1.0982327235*10^-4)*(BK8^2))-((3.2606444641*10^-2)*(BK8))+(3.5786489003) -> 3.3497128 | BK8: 400 | BP8: =BQ8+BR8+BS8+BT8 -> 14.937424 | BQ8: =((8.5770134353*10^-19)*(BU8^6))-((1.0374875556*10^-14)*(BU8^5))+((4.9689475953*10^-11)*(BU8^4))-((1.2019118054*10^-7)*(BU8^3))+((1.5650954893*10^-4)*(BU8^2))-((4.8239362033*10^-2)*(BU8))+5.2084519626 -> 4.4313244 | BR8: =((6.6506859177*10^-19)*(BU8^6))-((7.8984343104*10^-15)*(BU8^5))+((3.6879849877*10^-11)*(BU8^4))-((8.6386228559*10^-8)*(BU8^3))+((1.1074017861*10^-4)*(BU8^2))-((3.1241611608*10^-2)*(BU8))+(3.3006694533) -> 3.8597031 | BS8: =((5.9376621671*10^-19)*(BU8^6))-((7.1020711589*10^-15)*(BU8^5))+((3.3460896805*10^-11)*(BU8^4))-((7.8909601634*10^-8)*(BU8^3))+((9.8599769212*10^-5)*(BU8^2))-((2.8172899156*10^-2)*(BU8))+(3.05378908) -> 3.2966838 | BT8: =((6.4958291549*10^-19)*(BU8^6))-((7.8224528491*10^-15)*(BU8^5))+((3.7120417697*10^-11)*(BU8^4))-((8.798317617*10^-8)*(BU8^3))+((1.0982327235*10^-4)*(BU8^2))-((3.2606444641*10^-2)*(BU8))+(3.5786489003) -> 3.3497128 | BU8: 400 | BZ8: =CA8+CB8+CC8+CD8 -> 14.937424 | CA8: =((8.5770134353*10^-19)*(CE8^6))-((1.0374875556*10^-14)*(CE8^5))+((4.9689475953*10^-11)*(CE8^4))-((1.2019118054*10^-7)*(CE8^3))+((1.5650954893*10^-4)*(CE8^2))-((4.8239362033*10^-2)*(CE8))+5.2084519626 -> 4.4313244 | CB8: =((6.6506859177*10^-19)*(CE8^6))-((7.8984343104*10^-15)*(CE8^5))+((3.6879849877*10^-11)*(CE8^4))-((8.6386228559*10^-8)*(CE8^3))+((1.1074017861*10^-4)*(CE8^2))-((3.1241611608*10^-2)*(CE8))+(3.3006694533) -> 3.8597031 | CC8: =((5.9376621671*10^-19)*(CE8^6))-((7.1020711589*10^-15)*(CE8^5))+((3.3460896805*10^-11)*(CE8^4))-((7.8909601634*10^-8)*(CE8^3))+((9.8599769212*10^-5)*(CE8^2))-((2.8172899156*10^-2)*(CE8))+(3.05378908) -> 3.2966838 | CD8: =((6.4958291549*10^-19)*(CE8^6))-((7.8224528491*10^-15)*(CE8^5))+((3.7120417697*10^-11)*(CE8^4))-((8.798317617*10^-8)*(CE8^3))+((1.0982327235*10^-4)*(CE8^2))-((3.2606444641*10^-2)*(CE8))+(3.5786489003) -> 3.3497128 | CE8: 400 | CJ8: =CK8+CL8+CM8+CN8 -> 14.937424 | CK8: =((8.5770134353*10^-19)*(CO8^6))-((1.0374875556*10^-14)*(CO8^5))+((4.9689475953*10^-11)*(CO8^4))-((1.2019118054*10^-7)*(CO8^3))+((1.5650954893*10^-4)*(CO8^2))-((4.8239362033*10^-2)*(CO8))+5.2084519626 -> 4.4313244 | CL8: =((6.6506859177*10^-19)*(CO8^6))-((7.8984343104*10^-15)*(CO8^5))+((3.6879849877*10^-11)*(CO8^4))-((8.6386228559*10^-8)*(CO8^3))+((1.1074017861*10^-4)*(CO8^2))-((3.1241611608*10^-2)*(CO8))+(3.3006694533) -> 3.8597031 | CM8: =((5.9376621671*10^-19)*(CO8^6))-((7.1020711589*10^-15)*(CO8^5))+((3.3460896805*10^-11)*(CO8^4))-((7.8909601634*10^-8)*(CO8^3))+((9.8599769212*10^-5)*(CO8^2))-((2.8172899156*10^-2)*(CO8))+(3.05378908) -> 3.2966838 | CN8: =((6.4958291549*10^-19)*(CO8^6))-((7.8224528491*10^-15)*(CO8^5))+((3.7120417697*10^-11)*(CO8^4))-((8.798317617*10^-8)*(CO8^3))+((1.0982327235*10^-4)*(CO8^2))-((3.2606444641*10^-2)*(CO8))+(3.5786489003) -> 3.3497128 | CO8: 400 | CT8: =CU8+CV8+CW8+CX8 -> 14.937424 | CU8: =((8.5770134353*10^-19)*(CY8^6))-((1.0374875556*10^-14)*(CY8^5))+((4.9689475953*10^-11)*(CY8^4))-((1.2019118054*10^-7)*(CY8^3))+((1.5650954893*10^-4)*(CY8^2))-((4.8239362033*10^-2)*(CY8))+5.2084519626 -> 4.4313244 | CV8: =((6.6506859177*10^-19)*(CY8^6))-((7.8984343104*10^-15)*(CY8^5))+((3.6879849877*10^-11)*(CY8^4))-((8.6386228559*10^-8)*(CY8^3))+((1.1074017861*10^-4)*(CY8^2))-((3.1241611608*10^-2)*(CY8))+(3.3006694533) -> 3.8597031 | CW8: =((5.9376621671*10^-19)*(CY8^6))-((7.1020711589*10^-15)*(CY8^5))+((3.3460896805*10^-11)*(CY8^4))-((7.8909601634*10^-8)*(CY8^3))+((9.8599769212*10^-5)*(CY8^2))-((2.8172899156*10^-2)*(CY8))+(3.05378908) -> 3.2966838 | CX8: =((6.4958291549*10^-19)*(CY8^6))-((7.8224528491*10^-15)*(CY8^5))+((3.7120417697*10^-11)*(CY8^4))-((8.798317617*10^-8)*(CY8^3))+((1.0982327235*10^-4)*(CY8^2))-((3.2606444641*10^-2)*(CY8))+(3.5786489003) -> 3.3497128 | CY8: 400 | DD8: =DE8+DF8+DG8+DH8 -> 14.937424 | DE8: =((8.5770134353*10^-19)*(DI8^6))-((1.0374875556*10^-14)*(DI8^5))+((4.9689475953*10^-11)*(DI8^4))-((1.2019118054*10^-7)*(DI8^3))+((1.5650954893*10^-4)*(DI8^2))-((4.8239362033*10^-2)*(DI8))+5.2084519626 -> 4.4313244 | DF8: =((6.6506859177*10^-19)*(DI8^6))-((7.8984343104*10^-15)*(DI8^5))+((3.6879849877*10^-11)*(DI8^4))-((8.6386228559*10^-8)*(DI8^3))+((1.1074017861*10^-4)*(DI8^2))-((3.1241611608*10^-2)*(DI8))+(3.3006694533) -> 3.8597031 | DG8: =((5.9376621671*10^-19)*(DI8^6))-((7.1020711589*10^-15)*(DI8^5))+((3.3460896805*10^-11)*(DI8^4))-((7.8909601634*10^-8)*(DI8^3))+((9.8599769212*10^-5)*(DI8^2))-((2.8172899156*10^-2)*(DI8))+(3.05378908) -> 3.2966838 | DH8: =((6.4958291549*10^-19)*(DI8^6))-((7.8224528491*10^-15)*(DI8^5))+((3.7120417697*10^-11)*(DI8^4))-((8.798317617*10^-8)*(DI8^3))+((1.0982327235*10^-4)*(DI8^2))-((3.2606444641*10^-2)*(DI8))+(3.5786489003) -> 3.3497128 | DI8: 400 | DN8: =DO8+DP8+DQ8+DR8 -> 14.937424 | DO8: =((8.5770134353*10^-19)*(DS8^6))-((1.0374875556*10^-14)*(DS8^5))+((4.9689475953*10^-11)*(DS8^4))-((1.2019118054*10^-7)*(DS8^3))+((1.5650954893*10^-4)*(DS8^2))-((4.8239362033*10^-2)*(DS8))+5.2084519626 -> 4.4313244 | DP8: =((6.6506859177*10^-19)*(DS8^6))-((7.8984343104*10^-15)*(DS8^5))+((3.6879849877*10^-11)*(DS8^4))-((8.6386228559*10^-8)*(DS8^3))+((1.1074017861*10^-4)*(DS8^2))-((3.1241611608*10^-2)*(DS8))+(3.3006694533) -> 3.8597031 | DQ8: =((5.9376621671*10^-19)*(DS8^6))-((7.1020711589*10^-15)*(DS8^5))+((3.3460896805*10^-11)*(DS8^4))-((7.8909601634*10^-8)*(DS8^3))+((9.8599769212*10^-5)*(DS8^2))-((2.8172899156*10^-2)*(DS8))+(3.05378908) -> 3.2966838 | DR8: =((6.4958291549*10^-19)*(DS8^6))-((7.8224528491*10^-15)*(DS8^5))+((3.7120417697*10^-11)*(DS8^4))-((8.798317617*10^-8)*(DS8^3))+((1.0982327235*10^-4)*(DS8^2))-((3.2606444641*10^-2)*(DS8))+(3.5786489003) -> 3.3497128 | DS8: 400 | DX8: =DY8+DZ8+EA8+EB8 -> 14.937424 | DY8: =((8.5770134353*10^-19)*(EC8^6))-((1.0374875556*10^-14)*(EC8^5))+((4.9689475953*10^-11)*(EC8^4))-((1.2019118054*10^-7)*(EC8^3))+((1.5650954893*10^-4)*(EC8^2))-((4.8239362033*10^-2)*(EC8))+5.2084519626 -> 4.4313244 | DZ8: =((6.6506859177*10^-19)*(EC8^6))-((7.8984343104*10^-15)*(EC8^5))+((3.6879849877*10^-11)*(EC8^4))-((8.6386228559*10^-8)*(EC8^3))+((1.1074017861*10^-4)*(EC8^2))-((3.1241611608*10^-2)*(EC8))+(3.3006694533) -> 3.8597031 | EA8: =((5.9376621671*10^-19)*(EC8^6))-((7.1020711589*10^-15)*(EC8^5))+((3.3460896805*10^-11)*(EC8^4))-((7.8909601634*10^-8)*(EC8^3))+((9.8599769212*10^-5)*(EC8^2))-((2.8172899156*10^-2)*(EC8))+(3.05378908) -> 3.2966838 | EB8: =((6.4958291549*10^-19)*(EC8^6))-((7.8224528491*10^-15)*(EC8^5))+((3.7120417697*10^-11)*(EC8^4))-((8.798317617*10^-8)*(EC8^3))+((1.0982327235*10^-4)*(EC8^2))-((3.2606444641*10^-2)*(EC8))+(3.5786489003) -> 3.3497128 | EC8: 400 | EH8: =EI8+EJ8+EK8+EL8 -> 14.937424 | EI8: =((8.5770134353*10^-19)*(EM8^6))-((1.0374875556*10^-14)*(EM8^5))+((4.9689475953*10^-11)*(EM8^4))-((1.2019118054*10^-7)*(EM8^3))+((1.5650954893*10^-4)*(EM8^2))-((4.8239362033*10^-2)*(EM8))+5.2084519626 -> 4.4313244 | EJ8: =((6.6506859177*10^-19)*(EM8^6))-((7.8984343104*10^-15)*(EM8^5))+((3.6879849877*10^-11)*(EM8^4))-((8.6386228559*10^-8)*(EM8^3))+((1.1074017861*10^-4)*(EM8^2))-((3.1241611608*10^-2)*(EM8))+(3.3006694533) -> 3.8597031 | EK8: =((5.9376621671*10^-19)*(EM8^6))-((7.1020711589*10^-15)*(EM8^5))+((3.3460896805*10^-11)*(EM8^4))-((7.8909601634*10^-8)*(EM8^3))+((9.8599769212*10^-5)*(EM8^2))-((2.8172899156*10^-2)*(EM8))+(3.05378908) -> 3.2966838 | EL8: =((6.4958291549*10^-19)*(EM8^6))-((7.8224528491*10^-15)*(EM8^5))+((3.7120417697*10^-11)*(EM8^4))-((8.798317617*10^-8)*(EM8^3))+((1.0982327235*10^-4)*(EM8^2))-((3.2606444641*10^-2)*(EM8))+(3.5786489003) -> 3.3497128 | EM8: 400 | ER8: =ES8+ET8+EU8+EV8 -> 14.937424 | ES8: =((8.5770134353*10^-19)*(EW8^6))-((1.0374875556*10^-14)*(EW8^5))+((4.9689475953*10^-11)*(EW8^4))-((1.2019118054*10^-7)*(EW8^3))+((1.5650954893*10^-4)*(EW8^2))-((4.8239362033*10^-2)*(EW8))+5.2084519626 -> 4.4313244 | ET8: =((6.6506859177*10^-19)*(EW8^6))-((7.8984343104*10^-15)*(EW8^5))+((3.6879849877*10^-11)*(EW8^4))-((8.6386228559*10^-8)*(EW8^3))+((1.1074017861*10^-4)*(EW8^2))-((3.1241611608*10^-2)*(EW8))+(3.3006694533) -> 3.8597031 | EU8: =((5.9376621671*10^-19)*(EW8^6))-((7.1020711589*10^-15)*(EW8^5))+((3.3460896805*10^-11)*(EW8^4))-((7.8909601634*10^-8)*(EW8^3))+((9.8599769212*10^-5)*(EW8^2))-((2.8172899156*10^-2)*(EW8))+(3.05378908) -> 3.2966838 | EV8: =((6.4958291549*10^-19)*(EW8^6))-((7.8224528491*10^-15)*(EW8^5))+((3.7120417697*10^-11)*(EW8^4))-((8.798317617*10^-8)*(EW8^3))+((1.0982327235*10^-4)*(EW8^2))-((3.2606444641*10^-2)*(EW8))+(3.5786489003) -> 3.3497128 | EW8: 400
