Workbook

Sheet Base Data
B2: Length | C2: Width | D2: Height | E2: Wheelbase | F2: Front Track | G2: Rear Track | H2: Kerb Weight | I2: Dry Weight | J2: Weight Distribution
B3: 4907 | C3: 1953 | D3: 1379 | E3: 2990 | F3: 1679 | G3: 1660 | H3: 1880 | I3: 1790 | J3: 47/53
B5: Engine | C5: CC | D5: CC per cylinder | E5: Max Power (kw) | F5: Max Torque (Nm) | G5: Max RPM | H5: Rf/r | I5: Kerb Force | J5: Final Gear Ratio
B6: V12 | C6: 6262 | D6: =C6/12 -> 521.83333 | E6: 486 | F6: 683 | G6: 8000 | H6: 254 | I6: =H3*9.81 -> 18442.8 | J6: 4.38
B9: Front Weight (kg) | C9: Rear Weight (kg) | D9: a | E9: b | F9: k | G9: Izz | H9: D.I
B10: =H3*0.47 -> 883.6 | C10: =H3*0.53 -> 996.4 | D10: =E3*0.53 -> 1584.7 | E10: =E3*0.47 -> 1405.3 | F10: =SQRT(G10/(H3*(D10/1000))) -> 1.2588487 | G10: =H3*((D10/1000)^2) -> 4721.1953 | H10: =G10/((D10/1000)*(E10/1000)*H3) -> 1.1276596 | I10: =(F10^2)/((D10/1000)*(E10/1000)) -> 0.71159183
B11: Force
B12: =B10*9.81 -> 8668.116 | C12: =C10*9.81 -> 9774.684
B15: Front to Engine | C15: Front to Gearbox | E15: Engine mass | F15: Gearbox mass
B16: 1351.72 | C16: 3820.52 | E16: 225 | F16: 81
B18: Axle to engine | C18: Axle to gearbox
B19: 367.26 | C19: 2912.57
B22: =B16/1000 -> 1.35172 | C22: =C16/1000 -> 3.82052 | E22: Axle to axle
E23: 2805.5
B25: =B19/1000 -> 0.36726 | C25: =C19/1000 -> 2.91257
C29: =(D10/1000)*(E10/1000)*H3 -> 4186.7204 | D29: =C29/H3 -> 2.2269789 | E29: =SQRT(D29) -> 1.4923066 | F29: =D29/((D10/1000)*(E10/1000)) -> 1
G34: Ferrari FF
G35: Ferrari 458 Italia
G36: Ferrari 488
G37: Ferrari SF90
G38: Caterham Seven 620 R

Sheet Sheet7
B2: Length (mm) | C2: Width (mm) | D2: Height (mm) | E2: Wheelbase (mm) | F2: Front Track (mm) | G2: Rear Track (mm)
B3: 4907 | C3: 1953 | D3: 1379 | E3: 2990 | F3: 1679 | G3: 1660
B4: Max Power (kw) | C4: Max Torque (Nm) | D4: Max RPM | E4: Kerb Weight (kg) | F4: Dry Weight (kg) | G4: Weight Distribution
B5: 486 | C5: 683 | D5: 8000 | E5: 1880 | F5: 1790 | G5: 47/53

Sheet Clutch
C2: Final Ratio | D2: Efficiency
C3: 4.38 | D3: 0.97
B6: Constant pressure 100% Torque Rear Wheels | I6: Constant Wear
C7: Mu | D7: R1 | E7: R2 | F7: T | G7: F | H7: r2-r1 | I7: T = 2/3.mu.F.((r2^3-r1^30/(r2^2-r1^2))
C8: 0.075 | D8: =0.148/2 -> 0.074 | E8: =0.242/2 -> 0.121 | F8: ='Base Data'!$F$6/12 -> 56.916667 | G8: =F8/$H$8 -> 7635.6162 | H8: =(2/3)*C8*(((E8^3)-(D8^3))/((E8^2)-(D8^2))) -> 0.0074541026
I9: T = Torque * Final Drive Ratio * Efficiency
B11: Constant pressure 80% Torque Rear Wheels | C11: Mu | D11: R1 | E11: R2 | F11: T | G11: F | H11: r2-r1
C12: 0.075 | D12: =0.148/2 -> 0.074 | E12: =0.242/2 -> 0.121 | F12: ='Base Data'!$F$6*0.8/12 -> 45.533333 | G12: =F12/$H$8 -> 6108.493 | H12: =(2/3)*C12*(((E12^3)-(D12^3))/((E12^2)-(D12^2))) -> 0.0074541026
B15: Constant pressure 20% Torque Front Wheels | C15: Mu | D15: R1 | E15: R2 | F15: T | G15: F | H15: r2-r1
C16: 0.075 | D16: =0.148/2 -> 0.074 | E16: =0.242/2 -> 0.121 | F16: ='Base Data'!$F$6*0.2/12 -> 11.383333 | G16: =F16/$H$8 -> 1527.1232 | H16: =(2/3)*C16*(((E16^3)-(D16^3))/((E16^2)-(D16^2))) -> 0.0074541026
I17: Constant Pressure
I18: T = (F*Mu*R2+R1)/2
B19: Constant Wear 100% Torque Rear Wheels | C19: Mu | D19: R1 | E19: R2 | F19: T | G19: F | H19: r2-r1
C20: 0.075 | D20: =0.148/2 -> 0.074 | E20: =0.242/2 -> 0.121 | F20: ='Base Data'!$F$6/12 -> 56.916667 | G20: =(2*F20)/(C20*(D20+E20)) -> 7783.4758 | H20: =(2/3)*C20*(((E20^3)-(D20^3))/((E20^2)-(D20^2))) -> 0.0074541026
B23: Constant Wear 80% Torque Rear Wheels | C23: Mu | D23: R1 | E23: R2 | F23: T | G23: F | H23: r2-r1
C24: 0.075 | D24: =0.148/2 -> 0.074 | E24: =0.242/2 -> 0.121 | F24: ='Base Data'!$F$6*0.8/12 -> 45.533333 | G24: =(2*F24)/(C24*(D24+E24)) -> 6226.7806 | H24: =(2/3)*C24*(((E24^3)-(D24^3))/((E24^2)-(D24^2))) -> 0.0074541026
B27: Constant Wear 20% Torque Front Wheels | C27: Mu | D27: R1 | E27: R2 | F27: T | G27: F | H27: r2-r1
C28: 0.075 | D28: =0.148/2 -> 0.074 | E28: =0.242/2 -> 0.121 | F28: ='Base Data'!$F$6*0.2/12 -> 11.383333 | G28: =(2*F28)/(C28*(D28+E28)) -> 1556.6952 | H28: =(2/3)*C28*(((E28^3)-(D28^3))/((E28^2)-(D28^2))) -> 0.0074541026
C32: Ratio | D32: Final Drive | E32: Overall | F32: Wheel Speed at 8000 rpm | G32: Power (kw) | H32: Power (bhp)
C33: 3.4 | D33: 4.38 | E33: =C33*D33 -> 14.892 | F33: =8000/E33 -> 537.20118 | G33: =('Base Data'!$F$6*((Clutch!F33/60)*2*PI()))/1000 -> 38.422559 | H33: =G33*1.34102 -> 51.525419
C34: 2.18 | D34: 4.38 | E34: =C34*D34 -> 9.5484 | F34: =8000/E34 -> 837.83671 | G34: =('Base Data'!$F$6*((Clutch!F34/60)*2*PI()))/1000 -> 59.925091 | H34: =G34*1.34102 -> 80.360746
C35: 1.63 | D35: 4.38 | E35: =C35*D35 -> 7.1394 | F35: =8000/E35 -> 1120.5423 | G35: =('Base Data'!$F$6*((Clutch!F35/60)*2*PI()))/1000 -> 80.145214 | H35: =G35*1.34102 -> 107.47634
C36: 1.29 | D36: 4.38 | E36: =C36*D36 -> 5.6502 | F36: =8000/E36 -> 1415.8791 | G36: =('Base Data'!$F$6*((Clutch!F36/60)*2*PI()))/1000 -> 101.26876 | H36: =G36*1.34102 -> 135.80343
C37: 1.03 | D37: 4.38 | E37: =C37*D37 -> 4.5114 | F37: =8000/E37 -> 1773.2855 | G37: =('Base Data'!$F$6*((Clutch!F37/60)*2*PI()))/1000 -> 126.83175 | H37: =G37*1.34102 -> 170.08391
C38: 0.84 | D38: 4.38 | E38: =C38*D38 -> 3.6792 | F38: =8000/E38 -> 2174.3857 | G38: =('Base Data'!$F$6*((Clutch!F38/60)*2*PI()))/1000 -> 155.51988 | H38: =G38*1.34102 -> 208.55527
C39: 0.63 | D39: 4.38 | E39: =C39*D39 -> 2.7594 | F39: =8000/E39 -> 2899.181 | G39: =('Base Data'!$F$6*((Clutch!F39/60)*2*PI()))/1000 -> 207.35984 | H39: =G39*1.34102 -> 278.07369

Sheet Acceleration
B2: 1st Ratio | C2: Final Ratio | D2: Efficiency | E2: Approx Rolling Radius Front | F2: Approx Rolling Radius Rear
B3: 3.4 | C3: 4.38 | D3: 0.97 | E3: =85.75+(508/2) -> 339.75 | F3: =103.25+(508/2) -> 357.25
C5: 100% Rear Wheels
D6: Drive Torque at Shaft | E6: Drive Torque at Rear Wheels
D7: ='Base Data'!$F$6*Acceleration!$B$3*Acceleration!$D$3 -> 2252.534 | E7: =D7*C3*D3 -> 9570.116
C9: Force = Torque/rr (N) | D9: Accel = Force/Mass (m/s) | E9: Available Grip on Rear (N) | F9: Accel
C10: =E7/(F3/1000) -> 26788.288 | D10: =C10/'Base Data'!$H$3 -> 14.249089 | E10: ='Base Data'!$C$10*9.81 -> 9774.684 | F10: =E10/'Base Data'!$H$3 -> 5.1993
B12: 1st small box ratio | C12: 20% Front 80% Rear
B13: =2.18*1.06 -> 2.3108 | D13: Drive Torque at Rear Shaft | E13: Drive Torque at Front Shaft | F13: Drive Torque at Rear Wheels | G13: Drive Torque at Front Wheels
D14: =(0.8*$D$7) -> 1802.0272 | E14: =(('Base Data'!$F$6*0.2)*Acceleration!$B$13*Acceleration!$D$3) -> 306.18562 | F14: =($D$14*$C$3*$D$3) -> 7656.0928 | G14: =($E$14*$C$3*$D$3) -> 1300.8602
C16: Force = Torque/rr (N) | D16: Accel = Force/Mass (m/s) | E16: Available Grip on Rear (N) | F16: Available Grip on Front (N) | G16: Possible Acceleration
C17: =($F$14/($F$3/1000))+($G$14/($E$3/1000)) -> 25259.505 | D17: =$C$17/'Base Data'!$H$3 -> 13.435907 | E17: ='Base Data'!$C$10*9.81 -> 9774.684 | F17: ='Base Data'!B10*9.81 -> 8668.116 | G17: =($E$17+$F$17)/'Base Data'!$H$3 -> 9.81
A21: If both wheels on ice
C23: 20% Front 80% Rear
D24: Drive Torque at Rear Shaft | E24: Drive Torque at Front Shaft | F24: Drive Torque at Rear Wheels | G24: Drive Torque at Front Wheels
D25: =(0.8*$D$7) -> 1802.0272 | E25: =(('Base Data'!$F$6*0.2)*Acceleration!$B$13*Acceleration!$D$3) -> 306.18562 | F25: =($D$14*$C$3*$D$3) -> 7656.0928 | G25: =($E$14*$C$3*$D$3) -> 1300.8602
B27: Force Front | C27: Force Rear | D27: Accel = Force/Mass (m/s) | E27: Available Grip on Rear (N) | F27: Available Grip on Front (N)
B28: =($G$14/($E$3/1000)) -> 3828.8749 | C28: =($F$14/($F$3/1000)) -> 21430.631 | D28: =((0.1*(B28+C28)/'Base Data'!$H$3)) -> 1.3435907 | E28: ='Base Data'!$C$10*9.81 -> 9774.684 | F28: ='Base Data'!B10*9.81 -> 8668.116
A30: If Front wheels on tarmac rear on ice
D31: Drive Torque at Rear Shaft | E31: Drive Torque at Front Shaft | F31: Drive Torque at Rear Wheels | G31: Drive Torque at Front Wheels
D32: =(0.8*$D$7) -> 1802.0272 | E32: =(('Base Data'!$F$6*0.2)*Acceleration!$B$13*Acceleration!$D$3) -> 306.18562 | F32: =($D$14*$C$3*$D$3) -> 7656.0928 | G32: =($E$14*$C$3*$D$3) -> 1300.8602
B34: Force Front | C34: Force Rear | D34: Accel = Force/Mass (m/s) | E34: Available Grip on Rear (N) | F34: Available Grip on Front (N)
B35: =($G$14/($E$3/1000)) -> 3828.8749 | C35: =($F$14/($F$3/1000)) -> 21430.631 | D35: =((0.1*C35)+B35)/'Base Data'!$H$3 -> 3.1765627 | E35: ='Base Data'!$C$10*9.81 -> 9774.684 | F35: ='Base Data'!B17*9.81 -> 0
A38: Just rwd on ice
C39: Drive Torque at Rear Shaft | D39: Drive Torque at Front Shaft | E39: Drive Torque at Rear Wheels | F39: Drive Torque at Front Wheels
C40: =(0.8*$D$7) -> 1802.0272 | D40: =(('Base Data'!$F$6*0.2)*Acceleration!$B$13*Acceleration!$D$3) -> 306.18562 | E40: =($D$14*$C$3*$D$3) -> 7656.0928 | F40: =($E$14*$C$3*$D$3) -> 1300.8602
B42: Force = Torque/rr (N) | C42: Accel = Force/Mass (m/s) | D42: Available Grip on Rear (N)
B43: =($F$14/($F$3/1000))+($G$14/($E$3/1000)) -> 25259.505 | C43: =($C$17*0.1)/'Base Data'!$H$3 -> 1.3435907 | D43: ='Base Data'!$C$10*9.81 -> 9774.684

Sheet Ferarri 458 Italia
B2: Length | C2: Width | D2: Height | E2: Wheelbase | F2: Front Track | G2: Rear Track | H2: Kerb Weight | I2: Dry Weight | J2: Weight Distribution
B3: 4527 | C3: 1937 | D3: 1213 | E3: 2650 | F3: =C3-B17 -> 1663 | G3: =C3-C17 -> 1644 | H3: 1880 | I3: 1565 | J3: 42/58
B5: Engine | C5: CC | D5: CC per cylinder | E5: Max Power (kw) | F5: Max Torque (Nm) | G5: Max RPM | H5: Rf/r | I5: Kerb Force
B6: V12 | C6: 6262 | D6: =C6/12 -> 521.83333 | E6: 486 | F6: 683 | G6: 8000 | H6: 254 | I6: =H3*9.81 -> 18442.8
B9: Front Weight (kg) | C9: Rear Weight (kg) | D9: a | E9: b | F9: k | G9: Izz | H9: D.I
B10: =H3*0.42 -> 789.6 | C10: =H3*0.58 -> 1090.4 | D10: =E3*0.57 -> 1510.5 | E10: =E3*0.42 -> 1113 | F10: =SQRT(G10/(H3*(D10/1000))) -> 1.229024 | G10: =H3*(D10/1000)^2 -> 4289.4273 | H10: =G10/((D10/1000)*(E10/1000)*H3) -> 1.3571429 | I10: =(F10^2)/((D10/1000)*(E10/1000)) -> 0.8984726
B11: Force
B12: =B10*9.81 -> 7745.976 | C12: =C10*9.81 -> 10696.824
B16: Front Track Difference | C16: Rear Track Difference | E16: Track is estimated
B17: ='Base Data'!C3-'Base Data'!F3 -> 274 | C17: ='Base Data'!C3-'Base Data'!G3 -> 293

Sheet 488
B2: Length | C2: Width | D2: Height | E2: Wheelbase | F2: Front Track | G2: Rear Track | H2: Kerb Weight | I2: Dry Weight | J2: Weight Distribution
B3: 4605 | C3: 1975 | D3: 1206 | E3: 2650 | F3: 1679 | G3: 1647 | H3: 1475 | I3: 1370 | J3: 41.5/58.5
B5: Engine | C5: CC | D5: CC per cylinder | E5: Max Power (kw) | F5: Max Torque (Nm) | G5: Max RPM | H5: Rf/r | I5: Kerb Force
B6: V12 | C6: 6262 | D6: =C6/12 -> 521.83333 | E6: 486 | F6: 683 | G6: 8000 | H6: 254 | I6: =H3*9.81 -> 14469.75
B9: Front Weight (kg) | C9: Rear Weight (kg) | D9: a | E9: b | F9: k | G9: Izz | H9: D.I
B10: =H3*0.415 -> 612.125 | C10: =H3*0.585 -> 862.875 | D10: =E3*0.585 -> 1550.25 | E10: =E3*0.415 -> 1099.75 | F10: =SQRT(G10/(H3*(D10/1000))) -> 1.2450904 | G10: =H3*(D10/1000)^2 -> 3544.8307 | H10: =G10/((D10/1000)*(E10/1000)*H3) -> 1.4096386 | I10: =(F10^2)/((D10/1000)*(E10/1000)) -> 0.90929757
B11: Force
B12: =B10*9.81 -> 6004.9462 | C12: =C10*9.81 -> 8464.8038
B16: Front Track Difference | C16: Rear Track Difference | E16: Track is estimated
B17: ='Base Data'!C3-'Base Data'!F3 -> 274 | C17: ='Base Data'!C3-'Base Data'!G3 -> 293

Sheet SF90
B2: Length | C2: Width | D2: Height | E2: Wheelbase | F2: Front Track | G2: Rear Track | H2: Kerb Weight | I2: Dry Weight | J2: Weight Distribution
B3: 4710 | C3: 1972 | D3: 1186 | E3: 2650 | F3: 1679 | G3: 1652 | H3: 1680 | I3: 1570 | J3: 45/55
B5: Engine | C5: CC | D5: CC per cylinder | E5: Max Power (kw) | F5: Max Torque (Nm) | G5: Max RPM | H5: Rf/r | I5: Kerb Force
B6: V12 | C6: 6262 | D6: =C6/12 -> 521.83333 | E6: 486 | F6: 683 | G6: 8000 | H6: 254 | I6: =H3*9.81 -> 16480.8
B9: Front Weight (kg) | C9: Rear Weight (kg) | D9: a | E9: b | F9: k | G9: Izz | H9: D.I
B10: =H3*0.45 -> 756 | C10: =H3*0.55 -> 924 | D10: =E3*0.55 -> 1457.5 | E10: =E3*0.45 -> 1192.5 | F10: =SQRT(G10/(H3*(D10/1000))) -> 1.2072696 | G10: =H3*(D10/1000)^2 -> 3568.8345 | H10: =G10/((D10/1000)*(E10/1000)*H3) -> 1.2222222 | I10: =(F10^2)/((D10/1000)*(E10/1000)) -> 0.83857442
B11: Force
B12: =B10*9.81 -> 7416.36 | C12: =C10*9.81 -> 9064.44
B16: Front Track Difference | C16: Rear Track Difference | E16: Track is estimated
B17: ='Base Data'!C3-'Base Data'!F3 -> 274 | C17: ='Base Data'!C3-'Base Data'!G3 -> 293

Sheet Caterham Seven 620 R
B2: Length | C2: Width | D2: Height | E2: Wheelbase | F2: Front Track | G2: Rear Track | H2: Kerb Weight | I2: Dry Weight | J2: Weight Distribution
B3: 3100 | C3: 1575 | D3: 1115 | E3: 2225 | F3: 1336 | G3: 1336 | H3: 850 | I3: 1570 | J3: 45/55
B5: Engine | C5: CC | D5: CC per cylinder | E5: Max Power (kw) | F5: Max Torque (Nm) | G5: Max RPM | H5: Rf/r | I5: Kerb Force
B6: V12 | C6: 6262 | D6: =C6/12 -> 521.83333 | E6: 486 | F6: 683 | G6: 8000 | H6: 254 | I6: =H3*9.81 -> 8338.5
B9: Front Weight (kg) | C9: Rear Weight (kg) | D9: a | E9: b | F9: k | G9: Izz | H9: D.I
B10: =H3*0.48 -> 408 | C10: =H3*0.52 -> 442 | D10: =E3*0.52 -> 1157 | E10: =E3*0.48 -> 1068 | F10: =SQRT(G10/(H3*(D10/1000))) -> 1.0756393 | G10: =H3*(D10/1000)^2 -> 1137.8517 | H10: =G10/((D10/1000)*(E10/1000)*H3) -> 1.0833333 | I10: =(F10^2)/((D10/1000)*(E10/1000)) -> 0.93632959
B11: Force
B12: =B10*9.81 -> 4002.48 | C12: =C10*9.81 -> 4336.02
