Workbook

Sheet Explanations
C1: This file contains the WLTC cycles for validation 2, based on the following preliminary vehicle classification:
C3: Class 1 | D3: ratio of rated power in W / kerb mass in kg <= 22
C4: (version 1.4) | D4: The table with the speed trace is named "WLTC_class_1" and contains a low and a medium speed part.
D5: If v_max >= 70 km/h, phase low is repeated after phase medium.
D6: If v_max < 70 km/h, phase medium is replaced by a repetition of phase low.
D8: If a vehicle has a ratio of rated power in W divide by kerb mass in kg close to the borderline, any additional tests with the WLTC, class 2, version 1.4 cycle are highly welcomed.
C10: Class 2 | D10: ratio of rated power in W / kerb mass in kg > 22 but <= 34
C11: (version 1.4) | D11: The table with the speed trace is named "WLTC_class_2" and contains a low, a medium and a high speed part.
D12: If v_max < 90 km/h, phase high is replaced by a repetition of phase low.
D14: If a vehicle with a ratio of rated power in W divided by kerb mass in kg between 22 and 34, but close to the lower borderline cannot follow the WLTC class 2, version 1.4 speed trac
D15: it shall proceed at full throttle until the reference speed profile is reached again. This test shall be repeated at least 3 times. Additionally, the same vehicle can be tested
D16: with the WLTC, class 1 , version 1.4 driving cycle (3 tests), provided that all the other provisions of the WLTP are the same as before.
D18: If a vehicle has a ratio of rated power in W divided by kerb mass in kg between 22 and 34, but close to the upper borderline, any additional tests with the WLTC, class 3, version 5 cycle are highly welcomed.
C20: Class 3 | D20: ratio of rated power in W / kerb mass in kg > 34
C21: (version 5) | D21: The table with the speed trace is named "WLTC_class_3" and contains a low, a medium, a high and an extra high speed part.
D22: If v_max < 135 km/h, phase high is replaced by a repetition of phase low.
D24: If a vehicle with a ratio of rated power in W divided by kerb masin kg > 34, but close to this borderline cannot follow the WLTC class 3, version 5 speed trace
D25: it shall proceed at full throttle until the reference speed profile is reached again. This test shall be repeated at least 3 times. Additionally, the same vehicle can be tested
D26: with the WLTC, class 2 , version 1.4 driving cycle (3 tests), provided that all the other provisions of the WLTP are the same as before.
D28: kerb mass means the "unladen mass" as defined in ECE R83.
D29: v_max is the maximum speed of the vehicle as declared by the manufacturer (ECE R 68) and not any use restriction or safety based limitation.

Sheet Input Data
A1: Vehicle Model - VW Golf 1.4 eHybrid 2021
A2: Vehicle Category | C2: M
A3: Kerb Mass | B3: 1517 | C3: kg
A4: Add | B4: 25 | C4: kg
A5: Max Load | B5: 503 | C5: Kg
A6: 15% * Max Load | B6: =B5*0.15 -> 75.45 | C6: Kg
A7: Test Mass | B7: =B3+B4+B6 -> 1617.45 | C7: kg
A9: Frontal Area | B9: 2.189 | C9: m2 | D9: ref found
A10: Coefficient of Drag | B10: 0.281 | D10: ref found
A11: Rolling resistance coefficient | B11: 0.0065 | D11: ref found
A13: Density of air | B13: 1.184 | C13: kg/m3
A14: Max Power | B14: 150 | C14: kw
A15: W/kg = | B15: =B14*1000/B7 -> 92.73857 | C15: > | D15: 34 | E15: W/kg
A16: WLTP Class | B16: 3

Sheet WLTC_class_3
B2: Class 3 vehicles: | C2: vehicles with a ratio of rated power in W / kerb mass in kg > 34
B4: For further requirements/recommendations see table "Explanations"
B6: Phase | C6: Total elapsed time | D6: Phase elapsed time | E6: WLTC class 3, version 5, vehicle speed | F6: WLTC class 3, version 5, vehicle speed | G6: WLTC class 3, version 5, acceleration | H6: WLTC class 3, version 5, acceleration | I6: WLTC class 3, version 5 Force due to acceleration | J6: WLTC class 3, version 5, Force due to Rolling Resistance | K6: WLTC class 3, version 5, Force due to Drag | L6: WLTC class 3, version 5, Total Force | M6: WLTC class 3, version 5, Power | N6: WLTC class 3, version 5, Cumulative power | O6: WLTC class 3, version 5, Cumulative Brake | P6: Moments of KERS | Q6: Cumulative energy the moments of KERS | R6: Electric KERS | S6: Mechaical KERS | Z6: duration | AA6: stop duration | AB6: distance | AC6: p_stop | AD6: v_max | AE6: v_ave without stops | AF6: v_ave with stops | AG6: a_min | AH6: a_max
B7: Phase | C7: s | D7: s | E7: km/h | F7: m/s | G7: m/s² | H7: km/h/s | I7: N | J7: N | K7: N | L7: N | M7: W | N7: kWhr | O7: KWhr | P7: W | Q7: kWhr | R7: kWhr | S7: kWhr | Z7: s | AA7: s | AB7: m | AD7: km/h | AE7: km/h | AF7: km/h | AG7: m/s² | AH7: m/s²
B8: Low | C8: 0 | D8: 0 | E8: 0 | F8: =E8*1000/3600 -> 0 | G8: =($E9-0)/2/3.6 -> 0 | H8: =($E9-0)/2 -> 0 | I8: =G8*'Input Data'!$B$7 -> 0 | J8: =IF(F8=0,0,'Input Data'!$B$11*'Input Data'!$B$7*9.81) -> 0 | K8: ='Input Data'!$B$10*'Input Data'!$B$9*'Input Data'!$B$13*WLTC_class_3!F8^2 -> 0 | L8: =I8+J8+K8 -> 0 | M8: =L8*F8 -> 0 | N8: =M8/1000/3600 -> 0 | O8: =M8/1000/3600 -> 0 | P8: =IF(M8<0,M8,"") | R8: =O8*0.31 -> 0 | S8: =O8*0.7 -> 0 | U8: =IF(E8<1,1,0) -> 1 | V8: =IF(U8=1,"",E8) | W8: =E8/3.6 -> 0 | Y8: low | Z8: =COUNT(E9:E597) -> 589 | AA8: =SUM(U9:U597) -> 156 | AB8: =SUM(W9:W597) -> 3094.5278 | AC8: =AA8/Z8 -> 0.26485569 | AD8: =MAX(V9:V597) -> 56.5 | AE8: =AB8/(Z8-AA8)*3.6 -> 25.728176 | AF8: =AB8/Z8*3.6 -> 18.913922 | AG8: =MIN(G9:G597) -> -1.4722222 | AH8: =MAX(G9:G597) -> 1.4722222
B9: Low | C9: 1 | D9: 1 | E9: 0 | F9: =E9*1000/3600 -> 0 | G9: =($E10-$E8)/2/3.6 -> 0 | H9: =($E10-$E8)/2 -> 0 | I9: =G9*'Input Data'!$B$7 -> 0 | J9: =IF(F9=0,0,'Input Data'!$B$11*'Input Data'!$B$7*9.81) -> 0 | K9: ='Input Data'!$B$10*'Input Data'!$B$9*'Input Data'!$B$13*WLTC_class_3!F9^2 -> 0 | L9: =I9+J9+K9 -> 0 | M9: =L9*F9 -> 0 | N9: =IF(M9>0,M9/1000/3600+N8,N8) -> 0 | O9: =IF(M9<0,O8-M9/1000/3600,O8) -> 0 | P9: =IF(M9<0,M9,"") | R9: =O9*0.31 -> 0 | S9: =O9*0.7 -> 0 | U9: =IF(E9<1,1,0) -> 1 | V9: =IF(U9=1,"",E9) | W9: =E9/3.6 -> 0 | Y9: medium | Z9: =COUNT(E598:E1030) -> 433 | AA9: =SUM(U598:U1030) -> 48 | AB9: =SUM(W598:W1030) -> 4755.8889 | AC9: =AA9/Z9 -> 0.1108545 | AD9: =MAX(V598:V1030) -> 76.6 | AE9: =AB9/(Z9-AA9)*3.6 -> 44.470649 | AF9: =AB9/Z9*3.6 -> 39.540878 | AG9: =MIN(G598:G1030) -> -1.4861111 | AH9: =MAX(G598:G1030) -> 1.5694444
B10: Low | C10: 2 | D10: 2 | E10: 0 | F10: =E10*1000/3600 -> 0 | G10: =($E11-$E9)/2/3.6 -> 0 | H10: =($E11-$E9)/2 -> 0 | I10: =G10*'Input Data'!$B$7 -> 0 | J10: =IF(F10=0,0,'Input Data'!$B$11*'Input Data'!$B$7*9.81) -> 0 | K10: ='Input Data'!$B$10*'Input Data'!$B$9*'Input Data'!$B$13*WLTC_class_3!F10^2 -> 0 | L10: =I10+J10+K10 -> 0 | M10: =L10*F10 -> 0 | N10: =IF(M10>0,M10/1000/3600+N9,N9) -> 0 | O10: =IF(M10<0,O9-M10/1000/3600,O9) -> 0 | P10: =IF(M10<0,M10,"") | R10: =O10*0.31 -> 0 | S10: =O10*0.7 -> 0 | U10: =IF(E10<1,1,0) -> 1 | V10: =IF(U10=1,"",E10) | W10: =E10/3.6 -> 0 | Y10: high | Z10: =COUNT(E1031:E1485) -> 455 | AA10: =SUM(U1031:U1485) -> 31 | AB10: =SUM(W1031:W1485) -> 7157.8333 | AC10: =AA10/Z10 -> 0.068131868 | AD10: =MAX(V1031:V1485) -> 97.4 | AE10: =AB10/(Z10-AA10)*3.6 -> 60.774057 | AF10: =AB10/Z10*3.6 -> 56.633407 | AG10: =MIN(G1031:G1485) -> -1.4861111 | AH10: =MAX(G1031:G1485) -> 1.5833333
B11: Low | C11: 3 | D11: 3 | E11: 0 | F11: =E11*1000/3600 -> 0 | G11: =($E12-$E10)/2/3.6 -> 0 | H11: =($E12-$E10)/2 -> 0 | I11: =G11*'Input Data'!$B$7 -> 0 | J11: =IF(F11=0,0,'Input Data'!$B$11*'Input Data'!$B$7*9.81) -> 0 | K11: ='Input Data'!$B$10*'Input Data'!$B$9*'Input Data'!$B$13*WLTC_class_3!F11^2 -> 0 | L11: =I11+J11+K11 -> 0 | M11: =L11*F11 -> 0 | N11: =IF(M11>0,M11/1000/3600+N10,N10) -> 0 | O11: =IF(M11<0,O10-M11/1000/3600,O10) -> 0 | P11: =IF(M11<0,M11,"") | R11: =O11*0.31 -> 0 | S11: =O11*0.7 -> 0 | U11: =IF(E11<1,1,0) -> 1 | V11: =IF(U11=1,"",E11) | W11: =E11/3.6 -> 0 | Y11: extra high | Z11: =COUNT(E1486:E1808) -> 323 | AA11: =SUM(U1486:U1808) -> 7 | AB11: =SUM(W1486:W1808) -> 8254.1389 | AC11: =AA11/Z11 -> 0.021671827 | AD11: =MAX(V1486:V1808) -> 131.3 | AE11: =AB11/(Z11-AA11)*3.6 -> 94.034494 | AF11: =AB11/Z11*3.6 -> 91.996594 | AG11: =MIN(G1486:G1808) -> -1.2083333 | AH11: =MAX(G1486:G1808) -> 1.0277778
B12: Low | C12: 4 | D12: 4 | E12: 0 | F12: =E12*1000/3600 -> 0 | G12: =($E13-$E11)/2/3.6 -> 0 | H12: =($E13-$E11)/2 -> 0 | I12: =G12*'Input Data'!$B$7 -> 0 | J12: =IF(F12=0,0,'Input Data'!$B$11*'Input Data'!$B$7*9.81) -> 0 | K12: ='Input Data'!$B$10*'Input Data'!$B$9*'Input Data'!$B$13*WLTC_class_3!F12^2 -> 0 | L12: =I12+J12+K12 -> 0 | M12: =L12*F12 -> 0 | N12: =IF(M12>0,M12/1000/3600+N11,N11) -> 0 | O12: =IF(M12<0,O11-M12/1000/3600,O11) -> 0 | P12: =IF(M12<0,M12,"") | R12: =O12*0.31 -> 0 | S12: =O12*0.7 -> 0 | U12: =IF(E12<1,1,0) -> 1 | V12: =IF(U12=1,"",E12) | W12: =E12/3.6 -> 0 | Z12: =SUM(Z8:Z11) -> 1800 | AA12: =SUM(AA8:AA11) -> 242 | AB12: =SUM(AB8:AB11) -> 23262.389
B13: Low | C13: 5 | D13: 5 | E13: 0 | F13: =E13*1000/3600 -> 0 | G13: =($E14-$E12)/2/3.6 -> 0 | H13: =($E14-$E12)/2 -> 0 | I13: =G13*'Input Data'!$B$7 -> 0 | J13: =IF(F13=0,0,'Input Data'!$B$11*'Input Data'!$B$7*9.81) -> 0 | K13: ='Input Data'!$B$10*'Input Data'!$B$9*'Input Data'!$B$13*WLTC_class_3!F13^2 -> 0 | L13: =I13+J13+K13 -> 0 | M13: =L13*F13 -> 0 | N13: =IF(M13>0,M13/1000/3600+N12,N12) -> 0 | O13: =IF(M13<0,O12-M13/1000/3600,O12) -> 0 | P13: =IF(M13<0,M13,"") | R13: =O13*0.31 -> 0 | S13: =O13*0.7 -> 0 | U13: =IF(E13<1,1,0) -> 1 | V13: =IF(U13=1,"",E13) | W13: =E13/3.6 -> 0
B14: Low | C14: 6 | D14: 6 | E14: 0 | F14: =E14*1000/3600 -> 0 | G14: =($E15-$E13)/2/3.6 -> 0 | H14: =($E15-$E13)/2 -> 0 | I14: =G14*'Input Data'!$B$7 -> 0 | J14: =IF(F14=0,0,'Input Data'!$B$11*'Input Data'!$B$7*9.81) -> 0 | K14: ='Input Data'!$B$10*'Input Data'!$B$9*'Input Data'!$B$13*WLTC_class_3!F14^2 -> 0 | L14: =I14+J14+K14 -> 0 | M14: =L14*F14 -> 0 | N14: =IF(M14>0,M14/1000/3600+N13,N13) -> 0 | O14: =IF(M14<0,O13-M14/1000/3600,O13) -> 0 | P14: =IF(M14<0,M14,"") | R14: =O14*0.31 -> 0 | S14: =O14*0.7 -> 0 | U14: =IF(E14<1,1,0) -> 1 | V14: =IF(U14=1,"",E14) | W14: =E14/3.6 -> 0
B15: Low | C15: 7 | D15: 7 | E15: 0 | F15: =E15*1000/3600 -> 0 | G15: =($E16-$E14)/2/3.6 -> 0 | H15: =($E16-$E14)/2 -> 0 | I15: =G15*'Input Data'!$B$7 -> 0 | J15: =IF(F15=0,0,'Input Data'!$B$11*'Input Data'!$B$7*9.81) -> 0 | K15: ='Input Data'!$B$10*'Input Data'!$B$9*'Input Data'!$B$13*WLTC_class_3!F15^2 -> 0 | L15: =I15+J15+K15 -> 0 | M15: =L15*F15 -> 0 | N15: =IF(M15>0,M15/1000/3600+N14,N14) -> 0 | O15: =IF(M15<0,O14-M15/1000/3600,O14) -> 0 | P15: =IF(M15<0,M15,"") | R15: =O15*0.31 -> 0 | S15: =O15*0.7 -> 0 | U15: =IF(E15<1,1,0) -> 1 | V15: =IF(U15=1,"",E15) | W15: =E15/3.6 -> 0
B16: Low | C16: 8 | D16: 8 | E16: 0 | F16: =E16*1000/3600 -> 0 | G16: =($E17-$E15)/2/3.6 -> 0 | H16: =($E17-$E15)/2 -> 0 | I16: =G16*'Input Data'!$B$7 -> 0 | J16: =IF(F16=0,0,'Input Data'!$B$11*'Input Data'!$B$7*9.81) -> 0 | K16: ='Input Data'!$B$10*'Input Data'!$B$9*'Input Data'!$B$13*WLTC_class_3!F16^2 -> 0 | L16: =I16+J16+K16 -> 0 | M16: =L16*F16 -> 0 | N16: =IF(M16>0,M16/1000/3600+N15,N15) -> 0 | O16: =IF(M16<0,O15-M16/1000/3600,O15) -> 0 | P16: =IF(M16<0,M16,"") | R16: =O16*0.31 -> 0 | S16: =O16*0.7 -> 0 | U16: =IF(E16<1,1,0) -> 1 | V16: =IF(U16=1,"",E16) | W16: =E16/3.6 -> 0
B17: Low | C17: 9 | D17: 9 | E17: 0 | F17: =E17*1000/3600 -> 0 | G17: =($E18-$E16)/2/3.6 -> 0 | H17: =($E18-$E16)/2 -> 0 | I17: =G17*'Input Data'!$B$7 -> 0 | J17: =IF(F17=0,0,'Input Data'!$B$11*'Input Data'!$B$7*9.81) -> 0 | K17: ='Input Data'!$B$10*'Input Data'!$B$9*'Input Data'!$B$13*WLTC_class_3!F17^2 -> 0 | L17: =I17+J17+K17 -> 0 | M17: =L17*F17 -> 0 | N17: =IF(M17>0,M17/1000/3600+N16,N16) -> 0 | O17: =IF(M17<0,O16-M17/1000/3600,O16) -> 0 | P17: =IF(M17<0,M17,"") | R17: =O17*0.31 -> 0 | S17: =O17*0.7 -> 0 | U17: =IF(E17<1,1,0) -> 1 | V17: =IF(U17=1,"",E17) | W17: =E17/3.6 -> 0
B18: Low | C18: 10 | D18: 10 | E18: 0 | F18: =E18*1000/3600 -> 0 | G18: =($E19-$E17)/2/3.6 -> 0 | H18: =($E19-$E17)/2 -> 0 | I18: =G18*'Input Data'!$B$7 -> 0 | J18: =IF(F18=0,0,'Input Data'!$B$11*'Input Data'!$B$7*9.81) -> 0 | K18: ='Input Data'!$B$10*'Input Data'!$B$9*'Input Data'!$B$13*WLTC_class_3!F18^2 -> 0 | L18: =I18+J18+K18 -> 0 | M18: =L18*F18 -> 0 | N18: =IF(M18>0,M18/1000/3600+N17,N17) -> 0 | O18: =IF(M18<0,O17-M18/1000/3600,O17) -> 0 | P18: =IF(M18<0,M18,"") | R18: =O18*0.31 -> 0 | S18: =O18*0.7 -> 0 | U18: =IF(E18<1,1,0) -> 1 | V18: =IF(U18=1,"",E18) | W18: =E18/3.6 -> 0
B19: Low | C19: 11 | D19: 11 | E19: 0 | F19: =E19*1000/3600 -> 0 | G19: =($E20-$E18)/2/3.6 -> 0.027777778 | H19: =($E20-$E18)/2 -> 0.1 | I19: =G19*'Input Data'!$B$7 -> 44.929167 | J19: =IF(F19=0,0,'Input Data'!$B$11*'Input Data'!$B$7*9.81) -> 0 | K19: ='Input Data'!$B$10*'Input Data'!$B$9*'Input Data'!$B$13*WLTC_class_3!F19^2 -> 0 | L19: =I19+J19+K19 -> 44.929167 | M19: =L19*F19 -> 0 | N19: =IF(M19>0,M19/1000/3600+N18,N18) -> 0 | O19: =IF(M19<0,O18-M19/1000/3600,O18) -> 0 | P19: =IF(M19<0,M19,"") | R19: =O19*0.31 -> 0 | S19: =O19*0.7 -> 0 | U19: =IF(E19<1,1,0) -> 1 | V19: =IF(U19=1,"",E19) | W19: =E19/3.6 -> 0
B20: Low | C20: 12 | D20: 12 | E20: 0.2 | F20: =E20*1000/3600 -> 0.055555556 | G20: =($E21-$E19)/2/3.6 -> 0.23611111 | H20: =($E21-$E19)/2 -> 0.85 | I20: =G20*'Input Data'!$B$7 -> 381.89792 | J20: =IF(F20=0,0,'Input Data'!$B$11*'Input Data'!$B$7*9.81) -> 103.1367 | K20: ='Input Data'!$B$10*'Input Data'!$B$9*'Input Data'!$B$13*WLTC_class_3!F20^2 -> 0.0022478057 | L20: =I20+J20+K20 -> 485.03686 | M20: =L20*F20 -> 26.946492 | N20: =IF(M20>0,M20/1000/3600+N19,N19) -> 7.4851368e-06 | O20: =IF(M20<0,O19-M20/1000/3600,O19) -> 0 | P20: =IF(M20<0,M20,"") | R20: =O20*0.31 -> 0 | S20: =O20*0.7 -> 0 | U20: =IF(E20<1,1,0) -> 1 | V20: =IF(U20=1,"",E20) | W20: =E20/3.6 -> 0.055555556
B21: Low | C21: 13 | D21: 13 | E21: 1.7 | F21: =E21*1000/3600 -> 0.47222222 | G21: =($E22-$E20)/2/3.6 -> 0.72222222 | H21: =($E22-$E20)/2 -> 2.6 | I21: =G21*'Input Data'!$B$7 -> 1168.1583 | J21: =IF(F21=0,0,'Input Data'!$B$11*'Input Data'!$B$7*9.81) -> 103.1367 | K21: ='Input Data'!$B$10*'Input Data'!$B$9*'Input Data'!$B$13*WLTC_class_3!F21^2 -> 0.16240396 | L21: =I21+J21+K21 -> 1271.4574 | M21: =L21*F21 -> 600.41046 | N21: =IF(M21>0,M21/1000/3600+N20,N20) -> 0.00017426582 | O21: =IF(M21<0,O20-M21/1000/3600,O20) -> 0 | P21: =IF(M21<0,M21,"") | R21: =O21*0.31 -> 0 | S21: =O21*0.7 -> 0 | U21: =IF(E21<1,1,0) -> 0 | V21: =IF(U21=1,"",E21) -> 1.7 | W21: =E21/3.6 -> 0.47222222
B22: Low | C22: 14 | D22: 14 | E22: 5.4 | F22: =E22*1000/3600 -> 1.5 | G22: =($E23-$E21)/2/3.6 -> 1.1388889 | H22: =($E23-$E21)/2 -> 4.1 | I22: =G22*'Input Data'!$B$7 -> 1842.0958 | J22: =IF(F22=0,0,'Input Data'!$B$11*'Input Data'!$B$7*9.81) -> 103.1367 | K22: ='Input Data'!$B$10*'Input Data'!$B$9*'Input Data'!$B$13*WLTC_class_3!F22^2 -> 1.6386504 | L22: =I22+J22+K22 -> 1946.8712 | M22: =L22*F22 -> 2920.3068 | N22: =IF(M22>0,M22/1000/3600+N21,N21) -> 0.00098546215 | O22: =IF(M22<0,O21-M22/1000/3600,O21) -> 0 | P22: =IF(M22<0,M22,"") | R22: =O22*0.31 -> 0 | S22: =O22*0.7 -> 0 | U22: =IF(E22<1,1,0) -> 0 | V22: =IF(U22=1,"",E22) -> 5.4 | W22: =E22/3.6 -> 1.5
B23: Low | C23: 15 | D23: 15 | E23: 9.9 | F23: =E23*1000/3600 -> 2.75 | G23: =($E24-$E22)/2/3.6 -> 1.0694444 | H23: =($E24-$E22)/2 -> 3.85 | I23: =G23*'Input Data'!$B$7 -> 1729.7729 | J23: =IF(F23=0,0,'Input Data'!$B$11*'Input Data'!$B$7*9.81) -> 103.1367 | K23: ='Input Data'!$B$10*'Input Data'!$B$9*'Input Data'!$B$13*WLTC_class_3!F23^2 -> 5.507686 | L23: =I23+J23+K23 -> 1838.4173 | M23: =L23*F23 -> 5055.6476 | N23: =IF(M23>0,M23/1000/3600+N22,N22) -> 0.0023898087 | O23: =IF(M23<0,O22-M23/1000/3600,O22) -> 0 | P23: =IF(M23<0,M23,"") | R23: =O23*0.31 -> 0 | S23: =O23*0.7 -> 0 | U23: =IF(E23<1,1,0) -> 0 | V23: =IF(U23=1,"",E23) -> 9.9 | W23: =E23/3.6 -> 2.75
B24: Low | C24: 16 | D24: 16 | E24: 13.1 | F24: =E24*1000/3600 -> 3.6388889 | G24: =($E25-$E23)/2/3.6 -> 0.97222222 | H24: =($E25-$E23)/2 -> 3.5 | I24: =G24*'Input Data'!$B$7 -> 1572.5208 | J24: =IF(F24=0,0,'Input Data'!$B$11*'Input Data'!$B$7*9.81) -> 103.1367 | K24: ='Input Data'!$B$10*'Input Data'!$B$9*'Input Data'!$B$13*WLTC_class_3!F24^2 -> 9.6436485 | L24: =I24+J24+K24 -> 1685.3012 | M24: =L24*F24 -> 6132.6237 | N24: =IF(M24>0,M24/1000/3600+N23,N23) -> 0.0040933153 | O24: =IF(M24<0,O23-M24/1000/3600,O23) -> 0 | P24: =IF(M24<0,M24,"") | R24: =O24*0.31 -> 0 | S24: =O24*0.7 -> 0 | U24: =IF(E24<1,1,0) -> 0 | V24: =IF(U24=1,"",E24) -> 13.1 | W24: =E24/3.6 -> 3.6388889
... B43: Low | C43: 35 | D43: 35 | E43: 44.5 | F43: =E43*1000/3600 -> 12.361111 | G43: =($E44-$E42)/2/3.6 -> -0.027777778 | H43: =($E44-$E42)/2 -> -0.1 | I43: =G43*'Input Data'!$B$7 -> -44.929167 | J43: =IF(F43=0,0,'Input Data'!$B$11*'Input Data'!$B$7*9.81) -> 103.1367 | K43: ='Input Data'!$B$10*'Input Data'!$B$9*'Input Data'!$B$13*WLTC_class_3!F43^2 -> 111.28043 | L43: =I43+J43+K43 -> 169.48796 | M43: =L43*F43 -> 2095.0596 | N43: =IF(M43>0,M43/1000/3600+N42,N42) -> 0.043099722 | O43: =IF(M43<0,O42-M43/1000/3600,O42) -> 0 | P43: =IF(M43<0,M43,"") | R43: =O43*0.31 -> 0 | S43: =O43*0.7 -> 0 | U43: =IF(E43<1,1,0) -> 0 | V43: =IF(U43=1,"",E43) -> 44.5 | W43: =E43/3.6 -> 12.361111
B44: Low | C44: 36 | D44: 36 | E44: 44.2 | F44: =E44*1000/3600 -> 12.277778 | G44: =($E45-$E43)/2/3.6 -> -0.25 | H44: =($E45-$E43)/2 -> -0.9 | I44: =G44*'Input Data'!$B$7 -> -404.3625 | J44: =IF(F44=0,0,'Input Data'!$B$11*'Input Data'!$B$7*9.81) -> 103.1367 | K44: ='Input Data'!$B$10*'Input Data'!$B$9*'Input Data'!$B$13*WLTC_class_3!F44^2 -> 109.78508 | L44: =I44+J44+K44 -> -191.44072 | M44: =L44*F44 -> -2350.4666 | N44: =IF(M44>0,M44/1000/3600+N43,N43) -> 0.043099722 | O44: =IF(M44<0,O43-M44/1000/3600,O43) -> 0.0006529074 | P44: =IF(M44<0,M44,"") -> -2350.4666 | Q44: =-P44/1000/3600 -> 0.0006529074 | R44: =O44*0.31 -> 0.00020240129 | S44: =O44*0.7 -> 0.00045703518 | U44: =IF(E44<1,1,0) -> 0 | V44: =IF(U44=1,"",E44) -> 44.2 | W44: =E44/3.6 -> 12.277778
B45: Low | C45: 37 | D45: 37 | E45: 42.7 | F45: =E45*1000/3600 -> 11.861111 | G45: =($E46-$E44)/2/3.6 -> -0.59722222 | H45: =($E46-$E44)/2 -> -2.15 | I45: =G45*'Input Data'!$B$7 -> -965.97708 | J45: =IF(F45=0,0,'Input Data'!$B$11*'Input Data'!$B$7*9.81) -> 103.1367 | K45: ='Input Data'!$B$10*'Input Data'!$B$9*'Input Data'!$B$13*WLTC_class_3!F45^2 -> 102.46004 | L45: =I45+J45+K45 -> -760.38034 | M45: =L45*F45 -> -9018.9557 | N45: =IF(M45>0,M45/1000/3600+N44,N44) -> 0.043099722 | O45: =IF(M45<0,O44-M45/1000/3600,O44) -> 0.0031581729 | P45: =IF(M45<0,M45,"") -> -9018.9557 | Q45: =-P45/1000/3600+Q44 -> 0.0031581729 | R45: =O45*0.31 -> 0.00097903359 | S45: =O45*0.7 -> 0.002210721 | U45: =IF(E45<1,1,0) -> 0 | V45: =IF(U45=1,"",E45) -> 42.7 | W45: =E45/3.6 -> 11.861111
B46: Low | C46: 38 | D46: 38 | E46: 39.9 | F46: =E46*1000/3600 -> 11.083333 | G46: =($E47-$E45)/2/3.6 -> -0.79166667 | H46: =($E47-$E45)/2 -> -2.85 | I46: =G46*'Input Data'!$B$7 -> -1280.4813 | J46: =IF(F46=0,0,'Input Data'!$B$11*'Input Data'!$B$7*9.81) -> 103.1367 | K46: ='Input Data'!$B$10*'Input Data'!$B$9*'Input Data'!$B$13*WLTC_class_3!F46^2 -> 89.46323 | L46: =I46+J46+K46 -> -1087.8813 | M46: =L46*F46 -> -12057.351 | N46: =IF(M46>0,M46/1000/3600+N45,N45) -> 0.043099722 | O46: =IF(M46<0,O45-M46/1000/3600,O45) -> 0.0065074371 | P46: =IF(M46<0,M46,"") -> -12057.351 | Q46: =-P46/1000/3600+Q45 -> 0.0065074371 | R46: =O46*0.31 -> 0.0020173055 | S46: =O46*0.7 -> 0.004555206 | U46: =IF(E46<1,1,0) -> 0 | V46: =IF(U46=1,"",E46) -> 39.9 | W46: =E46/3.6 -> 11.083333
B47: Low | C47: 39 | D47: 39 | E47: 37 | F47: =E47*1000/3600 -> 10.277778 | G47: =($E48-$E46)/2/3.6 -> -0.73611111 | H47: =($E48-$E46)/2 -> -2.65 | I47: =G47*'Input Data'!$B$7 -> -1190.6229 | J47: =IF(F47=0,0,'Input Data'!$B$11*'Input Data'!$B$7*9.81) -> 103.1367 | K47: ='Input Data'!$B$10*'Input Data'!$B$9*'Input Data'!$B$13*WLTC_class_3!F47^2 -> 76.931151 | L47: =I47+J47+K47 -> -1010.5551 | M47: =L47*F47 -> -10386.26 | N47: =IF(M47>0,M47/1000/3600+N46,N46) -> 0.043099722 | O47: =IF(M47<0,O46-M47/1000/3600,O46) -> 0.0093925095 | P47: =IF(M47<0,M47,"") -> -10386.26 | Q47: =-P47/1000/3600+Q46 -> 0.0093925095 | R47: =O47*0.31 -> 0.0029116779 | S47: =O47*0.7 -> 0.0065747566 | U47: =IF(E47<1,1,0) -> 0 | V47: =IF(U47=1,"",E47) -> 37 | W47: =E47/3.6 -> 10.277778
B48: Low | C48: 40 | D48: 40 | E48: 34.6 | F48: =E48*1000/3600 -> 9.6111111 | G48: =($E49-$E47)/2/3.6 -> -0.65277778 | H48: =($E49-$E47)/2 -> -2.35 | I48: =G48*'Input Data'!$B$7 -> -1055.8354 | J48: =IF(F48=0,0,'Input Data'!$B$11*'Input Data'!$B$7*9.81) -> 103.1367 | K48: ='Input Data'!$B$10*'Input Data'!$B$9*'Input Data'!$B$13*WLTC_class_3!F48^2 -> 67.274578 | L48: =I48+J48+K48 -> -885.42414 | M48: =L48*F48 -> -8509.9098 | N48: =IF(M48>0,M48/1000/3600+N47,N47) -> 0.043099722 | O48: =IF(M48<0,O47-M48/1000/3600,O47) -> 0.011756373 | P48: =IF(M48<0,M48,"") -> -8509.9098 | Q48: =-P48/1000/3600+Q47 -> 0.011756373 | R48: =O48*0.31 -> 0.0036444757 | S48: =O48*0.7 -> 0.0082294613 | U48: =IF(E48<1,1,0) -> 0 | V48: =IF(U48=1,"",E48) -> 34.6 | W48: =E48/3.6 -> 9.6111111
B49: Low | C49: 41 | D49: 41 | E49: 32.3 | F49: =E49*1000/3600 -> 8.9722222 | G49: =($E50-$E48)/2/3.6 -> -0.77777778 | H49: =($E50-$E48)/2 -> -2.8 | I49: =G49*'Input Data'!$B$7 -> -1258.0167 | J49: =IF(F49=0,0,'Input Data'!$B$11*'Input Data'!$B$7*9.81) -> 103.1367 | K49: ='Input Data'!$B$10*'Input Data'!$B$9*'Input Data'!$B$13*WLTC_class_3!F49^2 -> 58.627831 | L49: =I49+J49+K49 -> -1096.2521 | M49: =L49*F49 -> -9835.8178 | N49: =IF(M49>0,M49/1000/3600+N48,N48) -> 0.043099722 | O49: =IF(M49<0,O48-M49/1000/3600,O48) -> 0.014488545 | P49: =IF(M49<0,M49,"") -> -9835.8178 | Q49: =-P49/1000/3600+Q48 -> 0.014488545 | R49: =O49*0.31 -> 0.0044914489 | S49: =O49*0.7 -> 0.010141981 | U49: =IF(E49<1,1,0) -> 0 | V49: =IF(U49=1,"",E49) -> 32.3 | W49: =E49/3.6 -> 8.9722222
B50: Low | C50: 42 | D50: 42 | E50: 29 | F50: =E50*1000/3600 -> 8.0555556 | G50: =($E51-$E49)/2/3.6 -> -1 | H50: =($E51-$E49)/2 -> -3.6 | I50: =G50*'Input Data'!$B$7 -> -1617.45 | J50: =IF(F50=0,0,'Input Data'!$B$11*'Input Data'!$B$7*9.81) -> 103.1367 | K50: ='Input Data'!$B$10*'Input Data'!$B$9*'Input Data'!$B$13*WLTC_class_3!F50^2 -> 47.260115 | L50: =I50+J50+K50 -> -1467.0532 | M50: =L50*F50 -> -11817.928 | N50: =IF(M50>0,M50/1000/3600+N49,N49) -> 0.043099722 | O50: =IF(M50<0,O49-M50/1000/3600,O49) -> 0.017771303 | P50: =IF(M50<0,M50,"") -> -11817.928 | Q50: =-P50/1000/3600+Q49 -> 0.017771303 | R50: =O50*0.31 -> 0.0055091039 | S50: =O50*0.7 -> 0.012439912 | U50: =IF(E50<1,1,0) -> 0 | V50: =IF(U50=1,"",E50) -> 29 | W50: =E50/3.6 -> 8.0555556
B51: Low | C51: 43 | D51: 43 | E51: 25.1 | F51: =E51*1000/3600 -> 6.9722222 | G51: =($E52-$E50)/2/3.6 -> -0.94444444 | H51: =($E52-$E50)/2 -> -3.4 | I51: =G51*'Input Data'!$B$7 -> -1527.5917 | J51: =IF(F51=0,0,'Input Data'!$B$11*'Input Data'!$B$7*9.81) -> 103.1367 | K51: ='Input Data'!$B$10*'Input Data'!$B$9*'Input Data'!$B$13*WLTC_class_3!F51^2 -> 35.403502 | L51: =I51+J51+K51 -> -1389.0515 | M51: =L51*F51 -> -9684.7755 | N51: =IF(M51>0,M51/1000/3600+N50,N50) -> 0.043099722 | O51: =IF(M51<0,O50-M51/1000/3600,O50) -> 0.020461518 | P51: =IF(M51<0,M51,"") -> -9684.7755 | Q51: =-P51/1000/3600+Q50 -> 0.020461518 | R51: =O51*0.31 -> 0.0063430706 | S51: =O51*0.7 -> 0.014323063 | U51: =IF(E51<1,1,0) -> 0 | V51: =IF(U51=1,"",E51) -> 25.1 | W51: =E51/3.6 -> 6.9722222
B52: Low | C52: 44 | D52: 44 | E52: 22.2 | F52: =E52*1000/3600 -> 6.1666667 | G52: =($E53-$E51)/2/3.6 -> -0.58333333 | H52: =($E53-$E51)/2 -> -2.1 | I52: =G52*'Input Data'!$B$7 -> -943.5125 | J52: =IF(F52=0,0,'Input Data'!$B$11*'Input Data'!$B$7*9.81) -> 103.1367 | K52: ='Input Data'!$B$10*'Input Data'!$B$9*'Input Data'!$B$13*WLTC_class_3!F52^2 -> 27.695214 | L52: =I52+J52+K52 -> -812.68059 | M52: =L52*F52 -> -5011.5303 | N52: =IF(M52>0,M52/1000/3600+N51,N51) -> 0.043099722 | O52: =IF(M52<0,O51-M52/1000/3600,O51) -> 0.02185361 | P52: =IF(M52<0,M52,"") -> -5011.5303 | Q52: =-P52/1000/3600+Q51 -> 0.02185361 | R52: =O52*0.31 -> 0.0067746191 | S52: =O52*0.7 -> 0.015297527 | U52: =IF(E52<1,1,0) -> 0 | V52: =IF(U52=1,"",E52) -> 22.2 | W52: =E52/3.6 -> 6.1666667
B53: Low | C53: 45 | D53: 45 | E53: 20.9 | F53: =E53*1000/3600 -> 5.8055556 | G53: =($E54-$E52)/2/3.6 -> -0.25 | H53: =($E54-$E52)/2 -> -0.9 | I53: =G53*'Input Data'!$B$7 -> -404.3625 | J53: =IF(F53=0,0,'Input Data'!$B$11*'Input Data'!$B$7*9.81) -> 103.1367 | K53: ='Input Data'!$B$10*'Input Data'!$B$9*'Input Data'!$B$13*WLTC_class_3!F53^2 -> 24.546601 | L53: =I53+J53+K53 -> -276.6792 | M53: =L53*F53 -> -1606.2765 | N53: =IF(M53>0,M53/1000/3600+N52,N52) -> 0.043099722 | O53: =IF(M53<0,O52-M53/1000/3600,O52) -> 0.022299798 | P53: =IF(M53<0,M53,"") -> -1606.2765 | Q53: =-P53/1000/3600+Q52 -> 0.022299798 | R53: =O53*0.31 -> 0.0069129373 | S53: =O53*0.7 -> 0.015609859 | U53: =IF(E53<1,1,0) -> 0 | V53: =IF(U53=1,"",E53) -> 20.9 | W53: =E53/3.6 -> 5.8055556
B54: Low | C54: 46 | D54: 46 | E54: 20.4 | F54: =E54*1000/3600 -> 5.6666667 | G54: =($E55-$E53)/2/3.6 -> -0.19444444 | H54: =($E55-$E53)/2 -> -0.7 | I54: =G54*'Input Data'!$B$7 -> -314.50417 | J54: =IF(F54=0,0,'Input Data'!$B$11*'Input Data'!$B$7*9.81) -> 103.1367 | K54: ='Input Data'!$B$10*'Input Data'!$B$9*'Input Data'!$B$13*WLTC_class_3!F54^2 -> 23.386171 | L54: =I54+J54+K54 -> -187.9813 | M54: =L54*F54 -> -1065.2273 | N54: =IF(M54>0,M54/1000/3600+N53,N53) -> 0.043099722 | O54: =IF(M54<0,O53-M54/1000/3600,O53) -> 0.022595694 | P54: =IF(M54<0,M54,"") -> -1065.2273 | Q54: =-P54/1000/3600+Q53 -> 0.022595694 | R54: =O54*0.31 -> 0.0070046652 | S54: =O54*0.7 -> 0.015816986 | U54: =IF(E54<1,1,0) -> 0 | V54: =IF(U54=1,"",E54) -> 20.4 | W54: =E54/3.6 -> 5.6666667
B55: Low | C55: 47 | D55: 47 | E55: 19.5 | F55: =E55*1000/3600 -> 5.4166667 | G55: =($E56-$E54)/2/3.6 -> -0.27777778 | H55: =($E56-$E54)/2 -> -1 | I55: =G55*'Input Data'!$B$7 -> -449.29167 | J55: =IF(F55=0,0,'Input Data'!$B$11*'Input Data'!$B$7*9.81) -> 103.1367 | K55: ='Input Data'!$B$10*'Input Data'!$B$9*'Input Data'!$B$13*WLTC_class_3!F55^2 -> 21.368203 | L55: =I55+J55+K55 -> -324.78676 | M55: =L55*F55 -> -1759.2616 | N55: =IF(M55>0,M55/1000/3600+N54,N54) -> 0.043099722 | O55: =IF(M55<0,O54-M55/1000/3600,O54) -> 0.023084378 | P55: =IF(M55<0,M55,"") -> -1759.2616 | Q55: =-P55/1000/3600+Q54 -> 0.023084378 | R55: =O55*0.31 -> 0.0071561572 | S55: =O55*0.7 -> 0.016159065 | U55: =IF(E55<1,1,0) -> 0 | V55: =IF(U55=1,"",E55) -> 19.5 | W55: =E55/3.6 -> 5.4166667
B56: Low | C56: 48 | D56: 48 | E56: 18.4 | F56: =E56*1000/3600 -> 5.1111111 | G56: =($E57-$E55)/2/3.6 -> -0.23611111 | H56: =($E57-$E55)/2 -> -0.85 | I56: =G56*'Input Data'!$B$7 -> -381.89792 | J56: =IF(F56=0,0,'Input Data'!$B$11*'Input Data'!$B$7*9.81) -> 103.1367 | K56: ='Input Data'!$B$10*'Input Data'!$B$9*'Input Data'!$B$13*WLTC_class_3!F56^2 -> 19.025428 | L56: =I56+J56+K56 -> -259.73579 | M56: =L56*F56 -> -1327.5385 | N56: =IF(M56>0,M56/1000/3600+N55,N55) -> 0.043099722 | O56: =IF(M56<0,O55-M56/1000/3600,O55) -> 0.023453139 | P56: =IF(M56<0,M56,"") -> -1327.5385 | Q56: =-P56/1000/3600+Q55 -> 0.023453139 | R56: =O56*0.31 -> 0.007270473 | S56: =O56*0.7 -> 0.016417197 | U56: =IF(E56<1,1,0) -> 0 | V56: =IF(U56=1,"",E56) -> 18.4 | W56: =E56/3.6 -> 5.1111111
B57: Low | C57: 49 | D57: 49 | E57: 17.8 | F57: =E57*1000/3600 -> 4.9444444 | G57: =($E58-$E56)/2/3.6 -> -0.083333333 | H57: =($E58-$E56)/2 -> -0.3 | I57: =G57*'Input Data'!$B$7 -> -134.7875 | J57: =IF(F57=0,0,'Input Data'!$B$11*'Input Data'!$B$7*9.81) -> 103.1367 | K57: ='Input Data'!$B$10*'Input Data'!$B$9*'Input Data'!$B$13*WLTC_class_3!F57^2 -> 17.804869 | L57: =I57+J57+K57 -> -13.845932 | M57: =L57*F57 -> -68.460439 | N57: =IF(M57>0,M57/1000/3600+N56,N56) -> 0.043099722 | O57: =IF(M57<0,O56-M57/1000/3600,O56) -> 0.023472156 | P57: =IF(M57<0,M57,"") -> -68.460439 | Q57: =-P57/1000/3600+Q56 -> 0.023472156 | R57: =O57*0.31 -> 0.0072763682 | S57: =O57*0.7 -> 0.016430509 | U57: =IF(E57<1,1,0) -> 0 | V57: =IF(U57=1,"",E57) -> 17.8 | W57: =E57/3.6 -> 4.9444444
B58: Low | C58: 50 | D58: 50 | E58: 17.8 | F58: =E58*1000/3600 -> 4.9444444 | G58: =($E59-$E57)/2/3.6 -> -0.055555556 | H58: =($E59-$E57)/2 -> -0.2 | I58: =G58*'Input Data'!$B$7 -> -89.858333 | J58: =IF(F58=0,0,'Input Data'!$B$11*'Input Data'!$B$7*9.81) -> 103.1367 | K58: ='Input Data'!$B$10*'Input Data'!$B$9*'Input Data'!$B$13*WLTC_class_3!F58^2 -> 17.804869 | L58: =I58+J58+K58 -> 31.083235 | M58: =L58*F58 -> 153.68933 | N58: =IF(M58>0,M58/1000/3600+N57,N57) -> 0.043142413 | O58: =IF(M58<0,O57-M58/1000/3600,O57) -> 0.023472156 | P58: =IF(M58<0,M58,"") | R58: =O58*0.31 -> 0.0072763682 | S58: =O58*0.7 -> 0.016430509 | U58: =IF(E58<1,1,0) -> 0 | V58: =IF(U58=1,"",E58) -> 17.8 | W58: =E58/3.6 -> 4.9444444
B59: Low | C59: 51 | D59: 51 | E59: 17.4 | F59: =E59*1000/3600 -> 4.8333333 | G59: =($E60-$E58)/2/3.6 -> -0.29166667 | H59: =($E60-$E58)/2 -> -1.05 | I59: =G59*'Input Data'!$B$7 -> -471.75625 | J59: =IF(F59=0,0,'Input Data'!$B$11*'Input Data'!$B$7*9.81) -> 103.1367 | K59: ='Input Data'!$B$10*'Input Data'!$B$9*'Input Data'!$B$13*WLTC_class_3!F59^2 -> 17.013642 | L59: =I59+J59+K59 -> -351.60591 | M59: =L59*F59 -> -1699.4286 | N59: =IF(M59>0,M59/1000/3600+N58,N58) -> 0.043142413 | O59: =IF(M59<0,O58-M59/1000/3600,O58) -> 0.023944219 | P59: =IF(M59<0,M59,"") -> -1699.4286 | Q59: =-P59/1000/3600 -> 0.00047206349 | R59: =O59*0.31 -> 0.0074227079 | S59: =O59*0.7 -> 0.016760953 | U59: =IF(E59<1,1,0) -> 0 | V59: =IF(U59=1,"",E59) -> 17.4 | W59: =E59/3.6 -> 4.8333333
B60: Low | C60: 52 | D60: 52 | E60: 15.7 | F60: =E60*1000/3600 -> 4.3611111 | G60: =($E61-$E59)/2/3.6 -> -0.59722222 | H60: =($E61-$E59)/2 -> -2.15 | I60: =G60*'Input Data'!$B$7 -> -965.97708 | J60: =IF(F60=0,0,'Input Data'!$B$11*'Input Data'!$B$7*9.81) -> 103.1367 | K60: ='Input Data'!$B$10*'Input Data'!$B$9*'Input Data'!$B$13*WLTC_class_3!F60^2 -> 13.851541 | L60: =I60+J60+K60 -> -848.98884 | M60: =L60*F60 -> -3702.5347 | N60: =IF(M60>0,M60/1000/3600+N59,N59) -> 0.043142413 | O60: =IF(M60<0,O59-M60/1000/3600,O59) -> 0.024972701 | P60: =IF(M60<0,M60,"") -> -3702.5347 | Q60: =-P60/1000/3600+Q59 -> 0.0015005453 | R60: =O60*0.31 -> 0.0077415373 | S60: =O60*0.7 -> 0.017480891 | U60: =IF(E60<1,1,0) -> 0 | V60: =IF(U60=1,"",E60) -> 15.7 | W60: =E60/3.6 -> 4.3611111
B61: Low | C61: 53 | D61: 53 | E61: 13.1 | F61: =E61*1000/3600 -> 3.6388889 | G61: =($E62-$E60)/2/3.6 -> -0.5 | H61: =($E62-$E60)/2 -> -1.8 | I61: =G61*'Input Data'!$B$7 -> -808.725 | J61: =IF(F61=0,0,'Input Data'!$B$11*'Input Data'!$B$7*9.81) -> 103.1367 | K61: ='Input Data'!$B$10*'Input Data'!$B$9*'Input Data'!$B$13*WLTC_class_3!F61^2 -> 9.6436485 | L61: =I61+J61+K61 -> -695.94465 | M61: =L61*F61 -> -2532.4653 | N61: =IF(M61>0,M61/1000/3600+N60,N60) -> 0.043142413 | O61: =IF(M61<0,O60-M61/1000/3600,O60) -> 0.025676164 | P61: =IF(M61<0,M61,"") -> -2532.4653 | Q61: =-P61/1000/3600+Q60 -> 0.0022040079 | R61: =O61*0.31 -> 0.0079596107 | S61: =O61*0.7 -> 0.017973314 | U61: =IF(E61<1,1,0) -> 0 | V61: =IF(U61=1,"",E61) -> 13.1 | W61: =E61/3.6 -> 3.6388889
...

Sheet Class 3 - Tractive Forces

Sheet Class 3 - Traction Braking

Sheet Class 3 - KERS in Sections

Sheet Class 3 - KERS Efficiencies

Sheet WLTC_class_1
B2: Class 1 vehicles: | C2: ratio of rated power in W / kerb mass in kg <= 22
B4: For further requirements/recommendations see table "Explanations"
B6: Phase | C6: Total elapsed time | D6: Phase elapsed time | E6: WLTC class 1, version 1.4, vehicle speed | F6: WLTC class 1, version 1.4, acceleration | G6: WLTC class 1, version 1.4, acceleration | I6: duration | J6: stop duration | K6: distance | L6: p_stop | M6: v_max | N6: v_ave without stops | O6: v_ave with stops | P6: a_min | Q6: a_max
C7: s | D7: s | E7: km/h | F7: m/s² | G7: km/h/s | I7: s | J7: s | K7: m | M7: km/h | N7: km/h | O7: km/h | P7: m/s² | Q7: m/s²
B8: Low | C8: 0 | D8: 0 | E8: 0 | F8: =($E9-0)/2/3.6 -> 0 | G8: =($E9-0)/2 -> 0 | H8: low | I8: =COUNT(E9:E597) -> 589 | J8: =SUM(R9:R597) -> 155 | K8: =SUM(T9:T597) -> 3323.7778 | L8: =J8/I8 -> 0.26315789 | M8: =MAX(S9:S597) -> 49.1 | N8: =K8/(I8-J8)*3.6 -> 27.570507 | O8: =K8/I8*3.6 -> 20.31511 | P8: =MIN(F9:F597) -> -1 | Q8: =MAX(F9:F597) -> 0.76388889 | R8: =IF(E8<1,1,0) -> 1 | S8: =IF(R8=1,"",E8) | T8: =E8/3.6 -> 0
B9: Low | C9: 1 | D9: 1 | E9: 0 | F9: =($E10-$E8)/2/3.6 -> 0 | G9: =($E10-$E8)/2 -> 0 | H9: medium | I9: =COUNT(E598:E1030) -> 433 | J9: =SUM(R598:R1030) -> 48 | K9: =SUM(T598:T1030) -> 4767.1389 | L9: =J9/I9 -> 0.1108545 | M9: =MAX(S598:S1030) -> 64.4 | N9: =K9/(I9-J9)*3.6 -> 44.575844 | O9: =K9/I9*3.6 -> 39.634411 | P9: =MIN(F598:F1030) -> -0.56944444 | Q9: =MAX(F598:F1030) -> 0.625 | R9: =IF(E9<1,1,0) -> 1 | S9: =IF(R9=1,"",E9) | T9: =E9/3.6 -> 0
B10: Low | C10: 2 | D10: 2 | E10: 0 | F10: =($E11-$E9)/2/3.6 -> 0 | G10: =($E11-$E9)/2 -> 0 | I10: =SUM(I8:I9) -> 1022 | J10: =SUM(J8:J9) -> 203 | K10: =SUM(K8:K9) -> 8090.9167 | R10: =IF(E10<1,1,0) -> 1 | S10: =IF(R10=1,"",E10) | T10: =E10/3.6 -> 0
B11: Low | C11: 3 | D11: 3 | E11: 0 | F11: =($E12-$E10)/2/3.6 -> 0 | G11: =($E12-$E10)/2 -> 0 | R11: =IF(E11<1,1,0) -> 1 | S11: =IF(R11=1,"",E11) | T11: =E11/3.6 -> 0
B12: Low | C12: 4 | D12: 4 | E12: 0 | F12: =($E13-$E11)/2/3.6 -> 0 | G12: =($E13-$E11)/2 -> 0 | R12: =IF(E12<1,1,0) -> 1 | S12: =IF(R12=1,"",E12) | T12: =E12/3.6 -> 0
B13: Low | C13: 5 | D13: 5 | E13: 0 | F13: =($E14-$E12)/2/3.6 -> 0 | G13: =($E14-$E12)/2 -> 0 | R13: =IF(E13<1,1,0) -> 1 | S13: =IF(R13=1,"",E13) | T13: =E13/3.6 -> 0
B14: Low | C14: 6 | D14: 6 | E14: 0 | F14: =($E15-$E13)/2/3.6 -> 0 | G14: =($E15-$E13)/2 -> 0 | R14: =IF(E14<1,1,0) -> 1 | S14: =IF(R14=1,"",E14) | T14: =E14/3.6 -> 0
B15: Low | C15: 7 | D15: 7 | E15: 0 | F15: =($E16-$E14)/2/3.6 -> 0 | G15: =($E16-$E14)/2 -> 0 | R15: =IF(E15<1,1,0) -> 1 | S15: =IF(R15=1,"",E15) | T15: =E15/3.6 -> 0
B16: Low | C16: 8 | D16: 8 | E16: 0 | F16: =($E17-$E15)/2/3.6 -> 0 | G16: =($E17-$E15)/2 -> 0 | R16: =IF(E16<1,1,0) -> 1 | S16: =IF(R16=1,"",E16) | T16: =E16/3.6 -> 0
B17: Low | C17: 9 | D17: 9 | E17: 0 | F17: =($E18-$E16)/2/3.6 -> 0 | G17: =($E18-$E16)/2 -> 0 | R17: =IF(E17<1,1,0) -> 1 | S17: =IF(R17=1,"",E17) | T17: =E17/3.6 -> 0
B18: Low | C18: 10 | D18: 10 | E18: 0 | F18: =($E19-$E17)/2/3.6 -> 0 | G18: =($E19-$E17)/2 -> 0 | R18: =IF(E18<1,1,0) -> 1 | S18: =IF(R18=1,"",E18) | T18: =E18/3.6 -> 0
B19: Low | C19: 11 | D19: 11 | E19: 0 | F19: =($E20-$E18)/2/3.6 -> 0.027777778 | G19: =($E20-$E18)/2 -> 0.1 | R19: =IF(E19<1,1,0) -> 1 | S19: =IF(R19=1,"",E19) | T19: =E19/3.6 -> 0
B20: Low | C20: 12 | D20: 12 | E20: 0.2 | F20: =($E21-$E19)/2/3.6 -> 0.43055556 | G20: =($E21-$E19)/2 -> 1.55 | R20: =IF(E20<1,1,0) -> 1 | S20: =IF(R20=1,"",E20) | T20: =E20/3.6 -> 0.055555556
B21: Low | C21: 13 | D21: 13 | E21: 3.1 | F21: =($E22-$E20)/2/3.6 -> 0.76388889 | G21: =($E22-$E20)/2 -> 2.75 | R21: =IF(E21<1,1,0) -> 0 | S21: =IF(R21=1,"",E21) -> 3.1 | T21: =E21/3.6 -> 0.86111111
B22: Low | C22: 14 | D22: 14 | E22: 5.7 | F22: =($E23-$E21)/2/3.6 -> 0.68055556 | G22: =($E23-$E21)/2 -> 2.45 | R22: =IF(E22<1,1,0) -> 0 | S22: =IF(R22=1,"",E22) -> 5.7 | T22: =E22/3.6 -> 1.5833333
... B1030: Middle | C1030: 1022 | D1030: 433 | E1030: 0 | F1030: =($E1031-$E1029)/2/3.6 -> 0 | G1030: =($E1031-$E1029)/2 -> 0 | R1030: =IF(E1030<1,1,0) -> 1 | S1030: =IF(R1030=1,"",E1030) | T1030: =E1030/3.6 -> 0

Sheet WLTC_class_2
B2: Class 2 vehicles: | C2: 22 < ratio of rated power in W / kerb mass in kg <= 34
B4: For further requirements/recommendations see table "Explanations"
B6: Phase | C6: Total elapsed time | D6: Phase elapsed time | E6: WLTC class 2, version 1.4, vehicle speed | F6: WLTC class 2, version 1.4, acceleration | G6: WLTC class 2, version 1.4, acceleration | I6: duration | J6: stop duration | K6: distance | L6: p_stop | M6: v_max | N6: v_ave without stops | O6: v_ave with stops | P6: a_min | Q6: a_max
B7: Phase | C7: s | D7: s | E7: km/h | F7: m/s² | G7: km/h/s | I7: s | J7: s | K7: m | M7: km/h | N7: km/h | O7: km/h | P7: m/s² | Q7: m/s²
B8: Low | C8: 0 | D8: 0 | E8: 0 | F8: =($E9-0)/2/3.6 -> 0 | G8: =($E9-0)/2 -> 0 | H8: low | I8: =COUNT(E9:E597) -> 589 | J8: =SUM(R9:R597) -> 155 | K8: =SUM(T9:T597) -> 3131.9722 | L8: =J8/I8 -> 0.26315789 | M8: =MAX(S9:S597) -> 51.4 | N8: =K8/(I8-J8)*3.6 -> 25.979493 | O8: =K8/I8*3.6 -> 19.142784 | P8: =MIN(F9:F597) -> -1.0694444 | Q8: =MAX(F9:F597) -> 0.91666667 | R8: =IF(E8<1,1,0) -> 1 | S8: =IF(R8=1,"",E8) | T8: =E8/3.6 -> 0
B9: Low | C9: 1 | D9: 1 | E9: 0 | F9: =($E10-$E8)/2/3.6 -> 0 | G9: =($E10-$E8)/2 -> 0 | H9: medium | I9: =COUNT(E598:E1030) -> 433 | J9: =SUM(R598:R1030) -> 48 | K9: =SUM(T598:T1030) -> 4711.8889 | L9: =J9/I9 -> 0.1108545 | M9: =MAX(S598:S1030) -> 74.7 | N9: =K9/(I9-J9)*3.6 -> 44.059221 | O9: =K9/I9*3.6 -> 39.175058 | P9: =MIN(F598:F1030) -> -0.98611111 | Q9: =MAX(F598:F1030) -> 0.95833333 | R9: =IF(E9<1,1,0) -> 1 | S9: =IF(R9=1,"",E9) | T9: =E9/3.6 -> 0
B10: Low | C10: 2 | D10: 2 | E10: 0 | F10: =($E11-$E9)/2/3.6 -> 0 | G10: =($E11-$E9)/2 -> 0 | H10: high | I10: =COUNT(E1031:E1485) -> 455 | J10: =SUM(R1031:R1485) -> 30 | K10: =SUM(T1031:T1485) -> 6820.3333 | L10: =J10/I10 -> 0.065934066 | M10: =MAX(S1031:S1485) -> 85.2 | N10: =K10/(I10-J10)*3.6 -> 57.772235 | O10: =K10/I10*3.6 -> 53.963077 | P10: =MIN(F1031:F1485) -> -1.1111111 | Q10: =MAX(F1031:F1485) -> 0.84722222 | R10: =IF(E10<1,1,0) -> 1 | S10: =IF(R10=1,"",E10) | T10: =E10/3.6 -> 0
B11: Low | C11: 3 | D11: 3 | E11: 0 | F11: =($E12-$E10)/2/3.6 -> 0 | G11: =($E12-$E10)/2 -> 0 | I11: =SUM(I8:I10) -> 1477 | J11: =SUM(J8:J10) -> 233 | K11: =SUM(K8:K10) -> 14664.194 | R11: =IF(E11<1,1,0) -> 1 | S11: =IF(R11=1,"",E11) | T11: =E11/3.6 -> 0
B12: Low | C12: 4 | D12: 4 | E12: 0 | F12: =($E13-$E11)/2/3.6 -> 0 | G12: =($E13-$E11)/2 -> 0 | R12: =IF(E12<1,1,0) -> 1 | S12: =IF(R12=1,"",E12) | T12: =E12/3.6 -> 0
B13: Low | C13: 5 | D13: 5 | E13: 0 | F13: =($E14-$E12)/2/3.6 -> 0 | G13: =($E14-$E12)/2 -> 0 | R13: =IF(E13<1,1,0) -> 1 | S13: =IF(R13=1,"",E13) | T13: =E13/3.6 -> 0
B14: Low | C14: 6 | D14: 6 | E14: 0 | F14: =($E15-$E13)/2/3.6 -> 0 | G14: =($E15-$E13)/2 -> 0 | R14: =IF(E14<1,1,0) -> 1 | S14: =IF(R14=1,"",E14) | T14: =E14/3.6 -> 0
B15: Low | C15: 7 | D15: 7 | E15: 0 | F15: =($E16-$E14)/2/3.6 -> 0 | G15: =($E16-$E14)/2 -> 0 | R15: =IF(E15<1,1,0) -> 1 | S15: =IF(R15=1,"",E15) | T15: =E15/3.6 -> 0
B16: Low | C16: 8 | D16: 8 | E16: 0 | F16: =($E17-$E15)/2/3.6 -> 0 | G16: =($E17-$E15)/2 -> 0 | R16: =IF(E16<1,1,0) -> 1 | S16: =IF(R16=1,"",E16) | T16: =E16/3.6 -> 0
B17: Low | C17: 9 | D17: 9 | E17: 0 | F17: =($E18-$E16)/2/3.6 -> 0 | G17: =($E18-$E16)/2 -> 0 | R17: =IF(E17<1,1,0) -> 1 | S17: =IF(R17=1,"",E17) | T17: =E17/3.6 -> 0
B18: Low | C18: 10 | D18: 10 | E18: 0 | F18: =($E19-$E17)/2/3.6 -> 0 | G18: =($E19-$E17)/2 -> 0 | R18: =IF(E18<1,1,0) -> 1 | S18: =IF(R18=1,"",E18) | T18: =E18/3.6 -> 0
B19: Low | C19: 11 | D19: 11 | E19: 0 | F19: =($E20-$E18)/2/3.6 -> 0 | G19: =($E20-$E18)/2 -> 0 | R19: =IF(E19<1,1,0) -> 1 | S19: =IF(R19=1,"",E19) | T19: =E19/3.6 -> 0
B20: Low | C20: 12 | D20: 12 | E20: 0 | F20: =($E21-$E19)/2/3.6 -> 0.16666667 | G20: =($E21-$E19)/2 -> 0.6 | R20: =IF(E20<1,1,0) -> 1 | S20: =IF(R20=1,"",E20) | T20: =E20/3.6 -> 0
B21: Low | C21: 13 | D21: 13 | E21: 1.2 | F21: =($E22-$E20)/2/3.6 -> 0.36111111 | G21: =($E22-$E20)/2 -> 1.3 | R21: =IF(E21<1,1,0) -> 0 | S21: =IF(R21=1,"",E21) -> 1.2 | T21: =E21/3.6 -> 0.33333333
B22: Low | C22: 14 | D22: 14 | E22: 2.6 | F22: =($E23-$E21)/2/3.6 -> 0.51388889 | G22: =($E23-$E21)/2 -> 1.85 | R22: =IF(E22<1,1,0) -> 0 | S22: =IF(R22=1,"",E22) -> 2.6 | T22: =E22/3.6 -> 0.72222222
B23: Low | C23: 15 | D23: 15 | E23: 4.9 | F23: =($E24-$E22)/2/3.6 -> 0.65277778 | G23: =($E24-$E22)/2 -> 2.35 | R23: =IF(E23<1,1,0) -> 0 | S23: =IF(R23=1,"",E23) -> 4.9 | T23: =E23/3.6 -> 1.3611111
... B1485: High | C1485: 1477 | D1485: 455 | E1485: 0 | F1485: =($E1486-$E1484)/2/3.6 -> 0 | G1485: =($E1486-$E1484)/2 -> 0 | R1485: =IF(E1485<1,1,0) -> 1 | S1485: =IF(R1485=1,"",E1485) | T1485: =E1485/3.6 -> 0
R1486: =IF(E1486<1,1,0) -> 1 | S1486: =IF(R1486=1,"",E1486) | T1486: =E1486/3.6 -> 0
R1487: =IF(E1487<1,1,0) -> 1 | S1487: =IF(R1487=1,"",E1487) | T1487: =E1487/3.6 -> 0
R1488: =IF(E1488<1,1,0) -> 1 | S1488: =IF(R1488=1,"",E1488) | T1488: =E1488/3.6 -> 0
R1489: =IF(E1489<1,1,0) -> 1 | S1489: =IF(R1489=1,"",E1489) | T1489: =E1489/3.6 -> 0
R1490: =IF(E1490<1,1,0) -> 1 | S1490: =IF(R1490=1,"",E1490) | T1490: =E1490/3.6 -> 0
R1491: =IF(E1491<1,1,0) -> 1 | S1491: =IF(R1491=1,"",E1491) | T1491: =E1491/3.6 -> 0
R1492: =IF(E1492<1,1,0) -> 1 | S1492: =IF(R1492=1,"",E1492) | T1492: =E1492/3.6 -> 0
R1493: =IF(E1493<1,1,0) -> 1 | S1493: =IF(R1493=1,"",E1493) | T1493: =E1493/3.6 -> 0
R1494: =IF(E1494<1,1,0) -> 1 | S1494: =IF(R1494=1,"",E1494) | T1494: =E1494/3.6 -> 0
R1495: =IF(E1495<1,1,0) -> 1 | S1495: =IF(R1495=1,"",E1495) | T1495: =E1495/3.6 -> 0
R1496: =IF(E1496<1,1,0) -> 1 | S1496: =IF(R1496=1,"",E1496) | T1496: =E1496/3.6 -> 0
R1497: =IF(E1497<1,1,0) -> 1 | S1497: =IF(R1497=1,"",E1497) | T1497: =E1497/3.6 -> 0
... R1808: =IF(E1808<1,1,0) -> 1 | S1808: =IF(R1808=1,"",E1808) | T1808: =E1808/3.6 -> 0

Sheet Tabelle4

Sheet Tabelle5

Sheet Tabelle6

Sheet Tabelle7

Sheet Tabelle8

Sheet Tabelle9

Sheet Tabelle10

Sheet Tabelle11

Sheet Tabelle12

Sheet Tabelle13

Sheet Tabelle14

Sheet Tabelle15
