Workbook

Sheet Explanations
C1: This file contains the WLTC cycles for validation 2, based on the following preliminary vehicle classification:
C3: Class 1 | D3: ratio of rated power in W / kerb mass in kg <= 22
C4: (version 1.4) | D4: The table with the speed trace is named "WLTC_class_1" and contains a low and a medium speed part.
D5: If v_max >= 70 km/h, phase low is repeated after phase medium.
D6: If v_max < 70 km/h, phase medium is replaced by a repetition of phase low.
D8: If a vehicle has a ratio of rated power in W divide by kerb mass in kg close to the borderline, any additional tests with the WLTC, class 2, version 1.4 cycle are highly welcomed.
C10: Class 2 | D10: ratio of rated power in W / kerb mass in kg > 22 but <= 34
C11: (version 1.4) | D11: The table with the speed trace is named "WLTC_class_2" and contains a low, a medium and a high speed part.
D12: If v_max < 90 km/h, phase high is replaced by a repetition of phase low.
D14: If a vehicle with a ratio of rated power in W divided by kerb mass in kg between 22 and 34, but close to the lower borderline cannot follow the WLTC class 2, version 1.4 speed trac
D15: it shall proceed at full throttle until the reference speed profile is reached again. This test shall be repeated at least 3 times. Additionally, the same vehicle can be tested
D16: with the WLTC, class 1 , version 1.4 driving cycle (3 tests), provided that all the other provisions of the WLTP are the same as before.
D18: If a vehicle has a ratio of rated power in W divided by kerb mass in kg between 22 and 34, but close to the upper borderline, any additional tests with the WLTC, class 3, version 5 cycle are highly welcomed.
C20: Class 3 | D20: ratio of rated power in W / kerb mass in kg > 34
C21: (version 5) | D21: The table with the speed trace is named "WLTC_class_3" and contains a low, a medium, a high and an extra high speed part.
D22: If v_max < 135 km/h, phase high is replaced by a repetition of phase low.
D24: If a vehicle with a ratio of rated power in W divided by kerb masin kg > 34, but close to this borderline cannot follow the WLTC class 3, version 5 speed trace
D25: it shall proceed at full throttle until the reference speed profile is reached again. This test shall be repeated at least 3 times. Additionally, the same vehicle can be tested
D26: with the WLTC, class 2 , version 1.4 driving cycle (3 tests), provided that all the other provisions of the WLTP are the same as before.
D28: kerb mass means the "unladen mass" as defined in ECE R83.
D29: v_max is the maximum speed of the vehicle as declared by the manufacturer (ECE R 68) and not any use restriction or safety based limitation.

Sheet Input Data
A1: Vehicle Model - VW Golf 1.4 eHybrid 2021
A2: Vehicle Category | C2: M
A3: Kerb Mass | B3: 1517 | C3: kg
A4: Add | B4: 25 | C4: kg
A5: Max Load | B5: 503 | C5: Kg
A6: 15% * Max Load | B6: =B5*0.15 -> 75.45 | C6: Kg
A7: Test Mass | B7: =B3+B4+B6 -> 1617.45 | C7: kg
A9: Frontal Area | B9: 2.189 | C9: m2 | D9: ref found
A10: Coefficient of Drag | B10: 0.281 | D10: ref found
A11: Rolling resistance coefficient | B11: 0.0065 | D11: ref found
A13: Density of air | B13: 1.184 | C13: kg/m3
A14: Max Power | B14: 150 | C14: kw
A15: W/kg = | B15: =B14*1000/B7 -> 92.73857 | C15: > | D15: 34 | E15: W/kg
A16: WLTP Class | B16: 3

Sheet WLTC_class_3
B2: Class 3 vehicles: | C2: vehicles with a ratio of rated power in W / kerb mass in kg > 34
B4: For further requirements/recommendations see table "Explanations"
B6: Phase | C6: Total elapsed time | D6: Phase elapsed time | E6: WLTC class 3, version 5, vehicle speed | F6: WLTC class 3, version 5, vehicle speed | G6: WLTC class 3, version 5, acceleration | H6: WLTC class 3, version 5, acceleration | I6: WLTC class 3, version 5 Force due to acceleration | J6: WLTC class 3, version 5, Force due to Rolling Resistance | K6: WLTC class 3, version 5, Force due to Drag | L6: WLTC class 3, version 5, Total Force | M6: WLTC class 3, version 5, Power | N6: WLTC class 3, version 5, Cumulative power | O6: WLTC class 3, version 5, Cumulative Brake | P6: Moments of KERS | Q6: Cumulative energy the moments of KERS | R6: Electric KERS | S6: Mechaical KERS | Z6: duration | AA6: stop duration | AB6: distance | AC6: p_stop | AD6: v_max | AE6: v_ave without stops | AF6: v_ave with stops | AG6: a_min | AH6: a_max
B7: Phase | C7: s | D7: s | E7: km/h | F7: m/s | G7: m/s² | H7: km/h/s | I7: N | J7: N | K7: N | L7: N | M7: W | N7: kWhr | O7: KWhr | P7: W | Q7: kWhr | R7: kWhr | S7: kWhr | Z7: s | AA7: s | AB7: m | AD7: km/h | AE7: km/h | AF7: km/h | AG7: m/s² | AH7: m/s²
B8: Low | C8: 0 | D8: 0 | E8: 0 | F8: =E8*1000/3600 -> 0 | G8: =($E9-0)/2/3.6 -> 0 | H8: =($E9-0)/2 -> 0 | I8: =G8*'Input Data'!$B$7 -> 0 | J8: =IF(F8=0,0,'Input Data'!$B$11*'Input Data'!$B$7*9.81) -> 0 | K8: ='Input Data'!$B$10*'Input Data'!$B$9*'Input Data'!$B$13*WLTC_class_3!F8^2 -> 0 | L8: =I8+J8+K8 -> 0 | M8: =L8*F8 -> 0 | N8: =M8/1000/3600 -> 0 | O8: =M8/1000/3600 -> 0 | P8: =IF(M8<0,M8,"") | R8: =O8*0.31 -> 0 | S8: =O8*0.7 -> 0 | U8: =IF(E8<1,1,0) -> 1 | V8: =IF(U8=1,"",E8) | W8: =E8/3.6 -> 0 | Y8: low | Z8: =COUNT(E9:E597) -> 589 | AA8: =SUM(U9:U597) -> 156 | AB8: =SUM(W9:W597) -> 3094.5278 | AC8: =AA8/Z8 -> 0.26485569 | AD8: =MAX(V9:V597) -> 56.5 | AE8: =AB8/(Z8-AA8)*3.6 -> 25.728176 | AF8: =AB8/Z8*3.6 -> 18.913922 | AG8: =MIN(G9:G597) -> -1.4722222 | AH8: =MAX(G9:G597) -> 1.4722222
B9: Low | C9: 1 | D9: 1 | E9: 0 | F9: =E9*1000/3600 -> 0 | G9: =($E10-$E8)/2/3.6 -> 0 | H9: =($E10-$E8)/2 -> 0 | I9: =G9*'Input Data'!$B$7 -> 0 | J9: =IF(F9=0,0,'Input Data'!$B$11*'Input Data'!$B$7*9.81) -> 0 | K9: ='Input Data'!$B$10*'Input Data'!$B$9*'Input Data'!$B$13*WLTC_class_3!F9^2 -> 0 | L9: =I9+J9+K9 -> 0 | M9: =L9*F9 -> 0 | N9: =IF(M9>0,M9/1000/3600+N8,N8) -> 0 | O9: =IF(M9<0,O8-M9/1000/3600,O8) -> 0 | P9: =IF(M9<0,M9,"") | R9: =O9*0.31 -> 0 | S9: =O9*0.7 -> 0 | U9: =IF(E9<1,1,0) -> 1 | V9: =IF(U9=1,"",E9) | W9: =E9/3.6 -> 0 | Y9: medium | Z9: =COUNT(E598:E1030) -> 433 | AA9: =SUM(U598:U1030) -> 48 | AB9: =SUM(W598:W1030) -> 4755.8889 | AC9: =AA9/Z9 -> 0.1108545 | AD9: =MAX(V598:V1030) -> 76.6 | AE9: =AB9/(Z9-AA9)*3.6 -> 44.470649 | AF9: =AB9/Z9*3.6 -> 39.540878 | AG9: =MIN(G598:G1030) -> -1.4861111 | AH9: =MAX(G598:G1030) -> 1.5694444
B10: Low | C10: 2 | D10: 2 | E10: 0 | F10: =E10*1000/3600 -> 0 | G10: =($E11-$E9)/2/3.6 -> 0 | H10: =($E11-$E9)/2 -> 0 | I10: =G10*'Input Data'!$B$7 -> 0 | J10: =IF(F10=0,0,'Input Data'!$B$11*'Input Data'!$B$7*9.81) -> 0 | K10: ='Input Data'!$B$10*'Input Data'!$B$9*'Input Data'!$B$13*WLTC_class_3!F10^2 -> 0 | L10: =I10+J10+K10 -> 0 | M10: =L10*F10 -> 0 | N10: =IF(M10>0,M10/1000/3600+N9,N9) -> 0 | O10: =IF(M10<0,O9-M10/1000/3600,O9) -> 0 | P10: =IF(M10<0,M10,"") | R10: =O10*0.31 -> 0 | S10: =O10*0.7 -> 0 | U10: =IF(E10<1,1,0) -> 1 | V10: =IF(U10=1,"",E10) | W10: =E10/3.6 -> 0 | Y10: high | Z10: =COUNT(E1031:E1485) -> 455 | AA10: =SUM(U1031:U1485) -> 31 | AB10: =SUM(W1031:W1485) -> 7157.8333 | AC10: =AA10/Z10 -> 0.068131868 | AD10: =MAX(V1031:V1485) -> 97.4 | AE10: =AB10/(Z10-AA10)*3.6 -> 60.774057 | AF10: =AB10/Z10*3.6 -> 56.633407 | AG10: =MIN(G1031:G1485) -> -1.4861111 | AH10: =MAX(G1031:G1485) -> 1.5833333
B11: Low | C11: 3 | D11: 3 | E11: 0 | F11: =E11*1000/3600 -> 0 | G11: =($E12-$E10)/2/3.6 -> 0 | H11: =($E12-$E10)/2 -> 0 | I11: =G11*'Input Data'!$B$7 -> 0 | J11: =IF(F11=0,0,'Input Data'!$B$11*'Input Data'!$B$7*9.81) -> 0 | K11: ='Input Data'!$B$10*'Input Data'!$B$9*'Input Data'!$B$13*WLTC_class_3!F11^2 -> 0 | L11: =I11+J11+K11 -> 0 | M11: =L11*F11 -> 0 | N11: =IF(M11>0,M11/1000/3600+N10,N10) -> 0 | O11: =IF(M11<0,O10-M11/1000/3600,O10) -> 0 | P11: =IF(M11<0,M11,"") | R11: =O11*0.31 -> 0 | S11: =O11*0.7 -> 0 | U11: =IF(E11<1,1,0) -> 1 | V11: =IF(U11=1,"",E11) | W11: =E11/3.6 -> 0 | Y11: extra high | Z11: =COUNT(E1486:E1808) -> 323 | AA11: =SUM(U1486:U1808) -> 7 | AB11: =SUM(W1486:W1808) -> 8254.1389 | AC11: =AA11/Z11 -> 0.021671827 | AD11: =MAX(V1486:V1808) -> 131.3 | AE11: =AB11/(Z11-AA11)*3.6 -> 94.034494 | AF11: =AB11/Z11*3.6 -> 91.996594 | AG11: =MIN(G1486:G1808) -> -1.2083333 | AH11: =MAX(G1486:G1808) -> 1.0277778
B12: Low | C12: 4 | D12: 4 | E12: 0 | F12: =E12*1000/3600 -> 0 | G12: =($E13-$E11)/2/3.6 -> 0 | H12: =($E13-$E11)/2 -> 0 | I12: =G12*'Input Data'!$B$7 -> 0 | J12: =IF(F12=0,0,'Input Data'!$B$11*'Input Data'!$B$7*9.81) -> 0 | K12: ='Input Data'!$B$10*'Input Data'!$B$9*'Input Data'!$B$13*WLTC_class_3!F12^2 -> 0 | L12: =I12+J12+K12 -> 0 | M12: =L12*F12 -> 0 | N12: =IF(M12>0,M12/1000/3600+N11,N11) -> 0 | O12: =IF(M12<0,O11-M12/1000/3600,O11) -> 0 | P12: =IF(M12<0,M12,"") | R12: =O12*0.31 -> 0 | S12: =O12*0.7 -> 0 | U12: =IF(E12<1,1,0) -> 1 | V12: =IF(U12=1,"",E12) | W12: =E12/3.6 -> 0 | Z12: =SUM(Z8:Z11) -> 1800 | AA12: =SUM(AA8:AA11) -> 242 | AB12: =SUM(AB8:AB11) -> 23262.389
B13: Low | C13: 5 | D13: 5 | E13: 0 | F13: =E13*1000/3600 -> 0 | G13: =($E14-$E12)/2/3.6 -> 0 | H13: =($E14-$E12)/2 -> 0 | I13: =G13*'Input Data'!$B$7 -> 0 | J13: =IF(F13=0,0,'Input Data'!$B$11*'Input Data'!$B$7*9.81) -> 0 | K13: ='Input Data'!$B$10*'Input Data'!$B$9*'Input Data'!$B$13*WLTC_class_3!F13^2 -> 0 | L13: =I13+J13+K13 -> 0 | M13: =L13*F13 -> 0 | N13: =IF(M13>0,M13/1000/3600+N12,N12) -> 0 | O13: =IF(M13<0,O12-M13/1000/3600,O12) -> 0 | P13: =IF(M13<0,M13,"") | R13: =O13*0.31 -> 0 | S13: =O13*0.7 -> 0 | U13: =IF(E13<1,1,0) -> 1 | V13: =IF(U13=1,"",E13) | W13: =E13/3.6 -> 0
B14: Low | C14: 6 | D14: 6 | E14: 0 | F14: =E14*1000/3600 -> 0 | G14: =($E15-$E13)/2/3.6 -> 0 | H14: =($E15-$E13)/2 -> 0 | I14: =G14*'Input Data'!$B$7 -> 0 | J14: =IF(F14=0,0,'Input Data'!$B$11*'Input Data'!$B$7*9.81) -> 0 | K14: ='Input Data'!$B$10*'Input Data'!$B$9*'Input Data'!$B$13*WLTC_class_3!F14^2 -> 0 | L14: =I14+J14+K14 -> 0 | M14: =L14*F14 -> 0 | N14: =IF(M14>0,M14/1000/3600+N13,N13) -> 0 | O14: =IF(M14<0,O13-M14/1000/3600,O13) -> 0 | P14: =IF(M14<0,M14,"") | R14: =O14*0.31 -> 0 | S14: =O14*0.7 -> 0 | U14: =IF(E14<1,1,0) -> 1 | V14: =IF(U14=1,"",E14) | W14: =E14/3.6 -> 0
B15: Low | C15: 7 | D15: 7 | E15: 0 | F15: =E15*1000/3600 -> 0 | G15: =($E16-$E14)/2/3.6 -> 0 | H15: =($E16-$E14)/2 -> 0 | I15: =G15*'Input Data'!$B$7 -> 0 | J15: =IF(F15=0,0,'Input Data'!$B$11*'Input Data'!$B$7*9.81) -> 0 | K15: ='Input Data'!$B$10*'Input Data'!$B$9*'Input Data'!$B$13*WLTC_class_3!F15^2 -> 0 | L15: =I15+J15+K15 -> 0 | M15: =L15*F15 -> 0 | N15: =IF(M15>0,M15/1000/3600+N14,N14) -> 0 | O15: =IF(M15<0,O14-M15/1000/3600,O14) -> 0 | P15: =IF(M15<0,M15,"") | R15: =O15*0.31 -> 0 | S15: =O15*0.7 -> 0 | U15: =IF(E15<1,1,0) -> 1 | V15: =IF(U15=1,"",E15) | W15: =E15/3.6 -> 0
B16: Low | C16: 8 | D16: 8 | E16: 0 | F16: =E16*1000/3600 -> 0 | G16: =($E17-$E15)/2/3.6 -> 0 | H16: =($E17-$E15)/2 -> 0 | I16: =G16*'Input Data'!$B$7 -> 0 | J16: =IF(F16=0,0,'Input Data'!$B$11*'Input Data'!$B$7*9.81) -> 0 | K16: ='Input Data'!$B$10*'Input Data'!$B$9*'Input Data'!$B$13*WLTC_class_3!F16^2 -> 0 | L16: =I16+J16+K16 -> 0 | M16: =L16*F16 -> 0 | N16: =IF(M16>0,M16/1000/3600+N15,N15) -> 0 | O16: =IF(M16<0,O15-M16/1000/3600,O15) -> 0 | P16: =IF(M16<0,M16,"") | R16: =O16*0.31 -> 0 | S16: =O16*0.7 -> 0 | U16: =IF(E16<1,1,0) -> 1 | V16: =IF(U16=1,"",E16) | W16: =E16/3.6 -> 0
B17: Low | C17: 9 | D17: 9 | E17: 0 | F17: =E17*1000/3600 -> 0 | G17: =($E18-$E16)/2/3.6 -> 0 | H17: =($E18-$E16)/2 -> 0 | I17: =G17*'Input Data'!$B$7 -> 0 | J17: =IF(F17=0,0,'Input Data'!$B$11*'Input Data'!$B$7*9.81) -> 0 | K17: ='Input Data'!$B$10*'Input Data'!$B$9*'Input Data'!$B$13*WLTC_class_3!F17^2 -> 0 | L17: =I17+J17+K17 -> 0 | M17: =L17*F17 -> 0 | N17: =IF(M17>0,M17/1000/3600+N16,N16) -> 0 | O17: =IF(M17<0,O16-M17/1000/3600,O16) -> 0 | P17: =IF(M17<0,M17,"") | R17: =O17*0.31 -> 0 | S17: =O17*0.7 -> 0 | U17: =IF(E17<1,1,0) -> 1 | V17: =IF(U17=1,"",E17) | W17: =E17/3.6 -> 0
B18: Low | C18: 10 | D18: 10 | E18: 0 | F18: =E18*1000/3600 -> 0 | G18: =($E19-$E17)/2/3.6 -> 0 | H18: =($E19-$E17)/2 -> 0 | I18: =G18*'Input Data'!$B$7 -> 0 | J18: =IF(F18=0,0,'Input Data'!$B$11*'Input Data'!$B$7*9.81) -> 0 | K18: ='Input Data'!$B$10*'Input Data'!$B$9*'Input Data'!$B$13*WLTC_class_3!F18^2 -> 0 | L18: =I18+J18+K18 -> 0 | M18: =L18*F18 -> 0 | N18: =IF(M18>0,M18/1000/3600+N17,N17) -> 0 | O18: =IF(M18<0,O17-M18/1000/3600,O17) -> 0 | P18: =IF(M18<0,M18,"") | R18: =O18*0.31 -> 0 | S18: =O18*0.7 -> 0 | U18: =IF(E18<1,1,0) -> 1 | V18: =IF(U18=1,"",E18) | W18: =E18/3.6 -> 0
B19: Low | C19: 11 | D19: 11 | E19: 0 | F19: =E19*1000/3600 -> 0 | G19: =($E20-$E18)/2/3.6 -> 0.027777778 | H19: =($E20-$E18)/2 -> 0.1 | I19: =G19*'Input Data'!$B$7 -> 44.929167 | J19: =IF(F19=0,0,'Input Data'!$B$11*'Input Data'!$B$7*9.81) -> 0 | K19: ='Input Data'!$B$10*'Input Data'!$B$9*'Input Data'!$B$13*WLTC_class_3!F19^2 -> 0 | L19: =I19+J19+K19 -> 44.929167 | M19: =L19*F19 -> 0 | N19: =IF(M19>0,M19/1000/3600+N18,N18) -> 0 | O19: =IF(M19<0,O18-M19/1000/3600,O18) -> 0 | P19: =IF(M19<0,M19,"") | R19: =O19*0.31 -> 0 | S19: =O19*0.7 -> 0 | U19: =IF(E19<1,1,0) -> 1 | V19: =IF(U19=1,"",E19) | W19: =E19/3.6 -> 0
B20: Low | C20: 12 | D20: 12 | E20: 0.2 | F20: =E20*1000/3600 -> 0.055555556 | G20: =($E21-$E19)/2/3.6 -> 0.23611111 | H20: =($E21-$E19)/2 -> 0.85 | I20: =G20*'Input Data'!$B$7 -> 381.89792 | J20: =IF(F20=0,0,'Input Data'!$B$11*'Input Data'!$B$7*9.81) -> 103.1367 | K20: ='Input Data'!$B$10*'Input Data'!$B$9*'Input Data'!$B$13*WLTC_class_3!F20^2 -> 0.0022478057 | L20: =I20+J20+K20 -> 485.03686 | M20: =L20*F20 -> 26.946492 | N20: =IF(M20>0,M20/1000/3600+N19,N19) -> 7.4851368e-06 | O20: =IF(M20<0,O19-M20/1000/3600,O19) -> 0 | P20: =IF(M20<0,M20,"") | R20: =O20*0.31 -> 0 | S20: =O20*0.7 -> 0 | U20: =IF(E20<1,1,0) -> 1 | V20: =IF(U20=1,"",E20) | W20: =E20/3.6 -> 0.055555556
B21: Low | C21: 13 | D21: 13 | E21: 1.7 | F21: =E21*1000/3600 -> 0.47222222 | G21: =($E22-$E20)/2/3.6 -> 0.72222222 | H21: =($E22-$E20)/2 -> 2.6 | I21: =G21*'Input Data'!$B$7 -> 1168.1583 | J21: =IF(F21=0,0,'Input Data'!$B$11*'Input Data'!$B$7*9.81) -> 103.1367 | K21: ='Input Data'!$B$10*'Input Data'!$B$9*'Input Data'!$B$13*WLTC_class_3!F21^2 -> 0.16240396 | L21: =I21+J21+K21 -> 1271.4574 | M21: =L21*F21 -> 600.41046 | N21: =IF(M21>0,M21/1000/3600+N20,N20) -> 0.00017426582 | O21: =IF(M21<0,O20-M21/1000/3600,O20) -> 0 | P21: =IF(M21<0,M21,"") | R21: =O21*0.31 -> 0 | S21: =O21*0.7 -> 0 | U21: =IF(E21<1,1,0) -> 0 | V21: =IF(U21=1,"",E21) -> 1.7 | W21: =E21/3.6 -> 0.47222222
B22: Low | C22: 14 | D22: 14 | E22: 5.4 | F22: =E22*1000/3600 -> 1.5 | G22: =($E23-$E21)/2/3.6 -> 1.1388889 | H22: =($E23-$E21)/2 -> 4.1 | I22: =G22*'Input Data'!$B$7 -> 1842.0958 | J22: =IF(F22=0,0,'Input Data'!$B$11*'Input Data'!$B$7*9.81) -> 103.1367 | K22: ='Input Data'!$B$10*'Input Data'!$B$9*'Input Data'!$B$13*WLTC_class_3!F22^2 -> 1.6386504 | L22: =I22+J22+K22 -> 1946.8712 | M22: =L22*F22 -> 2920.3068 | N22: =IF(M22>0,M22/1000/3600+N21,N21) -> 0.00098546215 | O22: =IF(M22<0,O21-M22/1000/3600,O21) -> 0 | P22: =IF(M22<0,M22,"") | R22: =O22*0.31 -> 0 | S22: =O22*0.7 -> 0 | U22: =IF(E22<1,1,0) -> 0 | V22: =IF(U22=1,"",E22) -> 5.4 | W22: =E22/3.6 -> 1.5
B23: Low | C23: 15 | D23: 15 | E23: 9.9 | F23: =E23*1000/3600 -> 2.75 | G23: =($E24-$E22)/2/3.6 -> 1.0694444 | H23: =($E24-$E22)/2 -> 3.85 | I23: =G23*'Input Data'!$B$7 -> 1729.7729 | J23: =IF(F23=0,0,'Input Data'!$B$11*'Input Data'!$B$7*9.81) -> 103.1367 | K23: ='Input Data'!$B$10*'Input Data'!$B$9*'Input Data'!$B$13*WLTC_class_3!F23^2 -> 5.507686 | L23: =I23+J23+K23 -> 1838.4173 | M23: =L23*F23 -> 5055.6476 | N23: =IF(M23>0,M23/1000/3600+N22,N22) -> 0.0023898087 | O23: =IF(M23<0,O22-M23/1000/3600,O22) -> 0 | P23: =IF(M23<0,M23,"") | R23: =O23*0.31 -> 0 | S23: =O23*0.7 -> 0 | U23: =IF(E23<1,1,0) -> 0 | V23: =IF(U23=1,"",E23) -> 9.9 | W23: =E23/3.6 -> 2.75
B24: Low | C24: 16 | D24: 16 | E24: 13.1 | F24: =E24*1000/3600 -> 3.6388889 | G24: =($E25-$E23)/2/3.6 -> 0.97222222 | H24: =($E25-$E23)/2 -> 3.5 | I24: =G24*'Input Data'!$B$7 -> 1572.5208 | J24: =IF(F24=0,0,'Input Data'!$B$11*'Input Data'!$B$7*9.81) -> 103.1367 | K24: ='Input Data'!$B$10*'Input Data'!$B$9*'Input Data'!$B$13*WLTC_class_3!F24^2 -> 9.6436485 | L24: =I24+J24+K24 -> 1685.3012 | M24: =L24*F24 -> 6132.6237 | N24: =IF(M24>0,M24/1000/3600+N23,N23) -> 0.0040933153 | O24: =IF(M24<0,O23-M24/1000/3600,O23) -> 0 | P24: =IF(M24<0,M24,"") | R24: =O24*0.31 -> 0 | S24: =O24*0.7 -> 0 | U24: =IF(E24<1,1,0) -> 0 | V24: =IF(U24=1,"",E24) -> 13.1 | W24: =E24/3.6 -> 3.6388889
... B43: Low | C43: 35 | D43: 35 | E43: 44.5 | F43: =E43*1000/3600 -> 12.361111 | G43: =($E44-$E42)/2/3.6 -> -0.027777778 | H43: =($E44-$E42)/2 -> -0.1 | I43: =G43*'Input Data'!$B$7 -> -44.929167 | J43: =IF(F43=0,0,'Input Data'!$B$11*'Input Data'!$B$7*9.81) -> 103.1367 | K43: ='Input Data'!$B$10*'Input Data'!$B$9*'Input Data'!$B$13*WLTC_class_3!F43^2 -> 111.28043 | L43: =I43+J43+K43 -> 169.48796 | M43: =L43*F43 -> 2095.0596 | N43: =IF(M43>0,M43/1000/3600+N42,N42) -> 0.043099722 | O43: =IF(M43<0,O42-M43/1000/3600,O42) -> 0 | P43: =IF(M43<0,M43,"") | R43: =O43*0.31 -> 0 | S43: =O43*0.7 -> 0 | U43: =IF(E43<1,1,0) -> 0 | V43: =IF(U43=1,"",E43) -> 44.5 | W43: =E43/3.6 -> 12.361111
B44: Low | C44: 36 | D44: 36 | E44: 44.2 | F44: =E44*1000/3600 -> 12.277778 | G44: =($E45-$E43)/2/3.6 -> -0.25 | H44: =($E45-$E43)/2 -> -0.9 | I44: =G44*'Input Data'!$B$7 -> -404.3625 | J44: =IF(F44=0,0,'Input Data'!$B$11*'Input Data'!$B$7*9.81) -> 103.1367 | K44: ='Input Data'!$B$10*'Input Data'!$B$9*'Input Data'!$B$13*WLTC_class_3!F44^2 -> 109.78508 | L44: =I44+J44+K44 -> -191.44072 | M44: =L44*F44 -> -2350.4666 | N44: =IF(M44>0,M44/1000/3600+N43,N43) -> 0.043099722 | O44: =IF(M44<0,O43-M44/1000/3600,O43) -> 0.0006529074 | P44: =IF(M44<0,M44,"") -> -2350.4666 | Q44: =-P44/1000/3600 -> 0.0006529074 | R44: =O44*0.31 -> 0.00020240129 | S44: =O44*0.7 -> 0.00045703518 | U44: =IF(E44<1,1,0) -> 0 | V44: =IF(U44=1,"",E44) -> 44.2 | W44: =E44/3.6 -> 12.277778
B45: Low | C45: 37 | D45: 37 | E45: 42.7 | F45: =E45*1000/3600 -> 11.861111 | G45: =($E46-$E44)/2/3.6 -> -0.59722222 | H45: =($E46-$E44)/2 -> -2.15 | I45: =G45*'Input Data'!$B$7 -> -965.97708 | J45: =IF(F45=0,0,'Input Data'!$B$11*'Input Data'!$B$7*9.81) -> 103.1367 | K45: ='Input Data'!$B$10*'Input Data'!$B$9*'Input Data'!$B$13*WLTC_class_3!F45^2 -> 102.46004 | L45: =I45+J45+K45 -> -760.38034 | M45: =L45*F45 -> -9018.9557 | N45: =IF(M45>0,M45/1000/3600+N44,N44) -> 0.043099722 | O45: =IF(M45<0,O44-M45/1000/3600,O44) -> 0.0031581729 | P45: =IF(M45<0,M45,"") -> -9018.9557 | Q45: =-P45/1000/3600+Q44 -> 0.0031581729 | R45: =O45*0.31 -> 0.00097903359 | S45: =O45*0.7 -> 0.002210721 | U45: =IF(E45<1,1,0) -> 0 | V45: =IF(U45=1,"",E45) -> 42.7 | W45: =E45/3.6 -> 11.861111
B46: Low | C46: 38 | D46: 38 | E46: 39.9 | F46: =E46*1000/3600 -> 11.083333 | G46: =($E47-$E45)/2/3.6 -> -0.79166667 | H46: =($E47-$E45)/2 -> -2.85 | I46: =G46*'Input Data'!$B$7 -> -1280.4813 | J46: =IF(F46=0,0,'Input Data'!$B$11*'Input Data'!$B$7*9.81) -> 103.1367 | K46: ='Input Data'!$B$10*'Input Data'!$B$9*'Input Data'!$B$13*WLTC_class_3!F46^2 -> 89.46323 | L46: =I46+J46+K46 -> -1087.8813 | M46: =L46*F46 -> -12057.351 | N46: =IF(M46>0,M46/1000/3600+N45,N45) -> 0.043099722 | O46: =IF(M46<0,O45-M46/1000/3600,O45) -> 0.0065074371 | P46: =IF(M46<0,M46,"") -> -12057.351 | Q46: =-P46/1000/3600+Q45 -> 0.0065074371 | R46: =O46*0.31 -> 0.0020173055 | S46: =O46*0.7 -> 0.004555206 | U46: =IF(E46<1,1,0) -> 0 | V46: =IF(U46=1,"",E46) -> 39.9 | W46: =E46/3.6 -> 11.083333
B47: Low | C47: 39 | D47: 39 | E47: 37 | F47: =E47*1000/3600 -> 10.277778 | G47: =($E48-$E46)/2/3.6 -> -0.73611111 | H47: =($E48-$E46)/2 -> -2.65 | I47: =G47*'Input Data'!$B$7 -> -1190.6229 | J47: =IF(F47=0,0,'Input Data'!$B$11*'Input Data'!$B$7*9.81) -> 103.1367 | K47: ='Input Data'!$B$10*'Input Data'!$B$9*'Input Data'!$B$13*WLTC_class_3!F47^2 -> 76.931151 | L47: =I47+J47+K47 -> -1010.5551 | M47: =L47*F47 -> -10386.26 | N47: =IF(M47>0,M47/1000/3600+N46,N46) -> 0.043099722 | O47: =IF(M47<0,O46-M47/1000/3600,O46) -> 0.0093925095 | P47: =IF(M47<0,M47,"") -> -10386.26 | Q47: =-P47/1000/3600+Q46 -> 0.0093925095 | R47: =O47*0.31 -> 0.0029116779 | S47: =O47*0.7 -> 0.0065747566 | U47: =IF(E47<1,1,0) -> 0 | V47: =IF(U47=1,"",E47) -> 37 | W47: =E47/3.6 -> 10.277778
B48: Low | C48: 40 | D48: 40 | E48: 34.6 | F48: =E48*1000/3600 -> 9.6111111 | G48: =($E49-$E47)/2/3.6 -> -0.65277778 | H48: =($E49-$E47)/2 -> -2.35 | I48: =G48*'Input Data'!$B$7 -> -1055.8354 | J48: =IF(F48=0,0,'Input Data'!$B$11*'Input Data'!$B$7*9.81) -> 103.1367 | K48: ='Input Data'!$B$10*'Input Data'!$B$9*'Input Data'!$B$13*WLTC_class_3!F48^2 -> 67.274578 | L48: =I48+J48+K48 -> -885.42414 | M48: =L48*F48 -> -8509.9098 | N48: =IF(M48>0,M48/1000/3600+N47,N47) -> 0.043099722 | O48: =IF(M48<0,O47-M48/1000/3600,O47) -> 0.011756373 | P48: =IF(M48<0,M48,"") -> -8509.9098 | Q48: =-P48/1000/3600+Q47 -> 0.011756373 | R48: =O48*0.31 -> 0.0036444757 | S48: =O48*0.7 -> 0.0082294613 | U48: =IF(E48<1,1,0) -> 0 | V48: =IF(U48=1,"",E48) -> 34.6 | W48: =E48/3.6 -> 9.6111111
B49: Low | C49: 41 | D49: 41 | E49: 32.3 | F49: =E49*1000/3600 -> 8.9722222 | G49: =($E50-$E48)/2/3.6 -> -0.77777778 | H49: =($E50-$E48)/2 -> -2.8 | I49: =G49*'Input Data'!$B$7 -> -1258.0167 | J49: =IF(F49=0,0,'Input Data'!$B$11*'Input Data'!$B$7*9.81) -> 103.1367 | K49: ='Input Data'!$B$10*'Input Data'!$B$9*'Input Data'!$B$13*WLTC_class_3!F49^2 -> 58.627831 | L49: =I49+J49+K49 -> -1096.2521 | M49: =L49*F49 -> -9835.8178 | N49: =IF(M49>0,M49/1000/3600+N48,N48) -> 0.043099722 | O49: =IF(M49<0,O48-M49/1000/3600,O48) -> 0.014488545 | P49: =IF(M49<0,M49,"") -> -9835.8178 | Q49: =-P49/1000/3600+Q48 -> 0.014488545 | R49: =O49*0.31 -> 0.0044914489 | S49: =O49*0.7 -> 0.010141981 | U49: =IF(E49<1,1,0) -> 0 | V49: =IF(U49=1,"",E49) -> 32.3 | W49: =E49/3.6 -> 8.9722222
B50: Low | C50: 42 | D50: 42 | E50: 29 | F50: =E50*1000/3600 -> 8.0555556 | G50: =($E51-$E49)/2/3.6 -> -1 | H50: =($E51-$E49)/2 -> -3.6 | I50: =G50*'Input Data'!$B$7 -> -1617.45 | J50: =IF(F50=0,0,'Input Data'!$B$11*'Input Data'!$B$7*9.81) -> 103.1367 | K50: ='Input Data'!$B$10*'Input Data'!$B$9*'Input Data'!$B$13*WLTC_class_3!F50^2 -> 47.260115 | L50: =I50+J50+K50 -> -1467.0532 | M50: =L50*F50 -> -11817.928 | N50: =IF(M50>0,M50/1000/3600+N49,N49) -> 0.043099722 | O50: =IF(M50<0,O49-M50/1000/3600,O49) -> 0.017771303 | P50: =IF(M50<0,M50,"") -> -11817.928 | Q50: =-P50/1000/3600+Q49 -> 0.017771303 | R50: =O50*0.31 -> 0.0055091039 | S50: =O50*0.7 -> 0.012439912 | U50: =IF(E50<1,1,0) -> 0 | V50: =IF(U50=1,"",E50) -> 29 | W50: =E50/3.6 -> 8.0555556
B51: Low | C51: 43 | D51: 43 | E51: 25.1 | F51: =E51*1000/3600 -> 6.9722222 | G51: =($E52-$E50)/2/3.6 -> -0.94444444 | H51: =($E52-$E50)/2 -> -3.4 | I51: =G51*'Input Data'!$B$7 -> -1527.5917 | J51: =IF(F51=0,0,'Input Data'!$B$11*'Input Data'!$B$7*9.81) -> 103.1367 | K51: ='Input Data'!$B$10*'Input Data'!$B$9*'Input Data'!$B$13*WLTC_class_3!F51^2 -> 35.403502 | L51: =I51+J51+K51 -> -1389.0515 | M51: =L51*F51 -> -9684.7755 | N51: =IF(M51>0,M51/1000/3600+N50,N50) -> 0.043099722 | O51: =IF(M51<0,O50-M51/1000/3600,O50) -> 0.020461518 | P51: =IF(M51<0,M51,"") -> -9684.7755 | Q51: =-P51/1000/3600+Q50 -> 0.020461518 | R51: =O51*0.31 -> 0.0063430706 | S51: =O51*0.7 -> 0.014323063 | U51: =IF(E51<1,1,0) -> 0 | V51: =IF(U51=1,"",E51) -> 25.1 | W51: =E51/3.6 -> 6.9722222
B52: Low | C52: 44 | D52: 44 | E52: 22.2 | F52: =E52*1000/3600 -> 6.1666667 | G52: =($E53-$E51)/2/3.6 -> -0.58333333 | H52: =($E53-$E51)/2 -> -2.1 | I52: =G52*'Input Data'!$B$7 -> -943.5125 | J52: =IF(F52=0,0,'Input Data'!$B$11*'Input Data'!$B$7*9.81) -> 103.1367 | K52: ='Input Data'!$B$10*'Input Data'!$B$9*'Input Data'!$B$13*WLTC_class_3!F52^2 -> 27.695214 | L52: =I52+J52+K52 -> -812.68059 | M52: =L52*F52 -> -5011.5303 | N52: =IF(M52>0,M52/1000/3600+N51,N51) -> 0.043099722 | O52: =IF(M52<0,O51-M52/1000/3600,O51) -> 0.02185361 | P52: =IF(M52<0,M52,"") -> -5011.5303 | Q52: =-P52/1000/3600+Q51 -> 0.02185361 | R52: =O52*0.31 -> 0.0067746191 | S52: =O52*0.7 -> 0.015297527 | U52: =IF(E52<1,1,0) -> 0 | V52: =IF(U52=1,"",E52) -> 22.2 | W52: =E52/3.6 -> 6.1666667
B53: Low | C53: 45 | D53: 45 | E53: 20.9 | F53: =E53*1000/3600 -> 5.8055556 | G53: =($E54-$E52)/2/3.6 -> -0.25 | H53: =($E54-$E52)/2 -> -0.9 | I53: =G53*'Input Data'!$B$7 -> -404.3625 | J53: =IF(F53=0,0,'Input Data'!$B$11*'Input Data'!$B$7*9.81) -> 103.1367 | K53: ='Input Data'!$B$10*'Input Data'!$B$9*'Input Data'!$B$13*WLTC_class_3!F53^2 -> 24.546601 | L53: =I53+J53+K53 -> -276.6792 | M53: =L53*F53 -> -1606.2765 | N53: =IF(M53>0,M53/1000/3600+N52,N52) -> 0.043099722 | O53: =IF(M53<0,O52-M53/1000/3600,O52) -> 0.022299798 | P53: =IF(M53<0,M53,"") -> -1606.2765 | Q53: =-P53/1000/3600+Q52 -> 0.022299798 | R53: =O53*0.31 -> 0.0069129373 | S53: =O53*0.7 -> 0.015609859 | U53: =IF(E53<1,1,0) -> 0 | V53: =IF(U53=1,"",E53) -> 20.9 | W53: =E53/3.6 -> 5.8055556
B54: Low | C54: 46 | D54: 46 | E54: 20.4 | F54: =E54*1000/3600 -> 5.6666667 | G54: =($E55-$E53)/2/3.6 -> -0.19444444 | H54: =($E55-$E53)/2 -> -0.7 | I54: =G54*'Input Data'!$B$7 -> -314.50417 | J54: =IF(F54=0,0,'Input Data'!$B$11*'Input Data'!$B$7*9.81) -> 103.1367 | K54: ='Input Data'!$B$10*'Input Data'!$B$9*'Input Data'!$B$13*WLTC_class_3!F54^2 -> 23.386171 | L54: =I54+J54+K54 -> -187.9813 | M54: =L54*F54 -> -1065.2273 | N54: =IF(M54>0,M54/1000/3600+N53,N53) -> 0.043099722 | O54: =IF(M54<0,O53-M54/1000/3600,O53) -> 0.022595694 | P54: =IF(M54<0,M54,"") -> -1065.2273 | Q54: =-P54/1000/3600+Q53 -> 0.022595694 | R54: =O54*0.31 -> 0.0070046652 | S54: =O54*0.7 -> 0.015816986 | U54: =IF(E54<1,1,0) -> 0 | V54: =IF(U54=1,"",E54) -> 20.4 | W54: =E54/3.6 -> 5.6666667
B55: Low | C55: 47 | D55: 47 | E55: 19.5 | F55: =E55*1000/3600 -> 5.4166667 | G55: =($E56-$E54)/2/3.6 -> -0.27777778 | H55: =($E56-$E54)/2 -> -1 | I55: =G55*'Input Data'!$B$7 -> -449.29167 | J55: =IF(F55=0,0,'Input Data'!$B$11*'Input Data'!$B$7*9.81) -> 103.1367 | K55: ='Input Data'!$B$10*'Input Data'!$B$9*'Input Data'!$B$13*WLTC_class_3!F55^2 -> 21.368203 | L55: =I55+J55+K55 -> -324.78676 | M55: =L55*F55 -> -1759.2616 | N55: =IF(M55>0,M55/1000/3600+N54,N54) -> 0.043099722 | O55: =IF(M55<0,O54-M55/1000/3600,O54) -> 0.023084378 | P55: =IF(M55<0,M55,"") -> -1759.2616 | Q55: =-P55/1000/3600+Q54 -> 0.023084378 | R55: =O55*0.31 -> 0.0071561572 | S55: =O55*0.7 -> 0.016159065 | U55: =IF(E55<1,1,0) -> 0 | V55: =IF(U55=1,"",E55) -> 19.5 | W55: =E55/3.6 -> 5.4166667
B56: Low | C56: 48 | D56: 48 | E56: 18.4 | F56: =E56*1000/3600 -> 5.1111111 | G56: =($E57-$E55)/2/3.6 -> -0.23611111 | H56: =($E57-$E55)/2 -> -0.85 | I56: =G56*'Input Data'!$B$7 -> -381.89792 | J56: =IF(F56=0,0,'Input Data'!$B$11*'Input Data'!$B$7*9.81) -> 103.1367 | K56: ='Input Data'!$B$10*'Input Data'!$B$9*'Input Data'!$B$13*WLTC_class_3!F56^2 -> 19.025428 | L56: =I56+J56+K56 -> -259.73579 | M56: =L56*F56 -> -1327.5385 | N56: =IF(M56>0,M56/1000/3600+N55,N55) -> 0.043099722 | O56: =IF(M56<0,O55-M56/1000/3600,O55) -> 0.023453139 | P56: =IF(M56<0,M56,"") -> -1327.5385 | Q56: =-P56/1000/3600+Q55 -> 0.023453139 | R56: =O56*0.31 -> 0.007270473 | S56: =O56*0.7 -> 0.016417197 | U56: =IF(E56<1,1,0) -> 0 | V56: =IF(U56=1,"",E56) -> 18.4 | W56: =E56/3.6 -> 5.1111111
B57: Low | C57: 49 | D57: 49 | E57: 17.8 | F57: =E57*1000/3600 -> 4.9444444 | G57: =($E58-$E56)/2/3.6 -> -0.083333333 | H57: =($E58-$E56)/2 -> -0.3 | I57: =G57*'Input Data'!$B$7 -> -134.7875 | J57: =IF(F57=0,0,'Input Data'!$B$11*'Input Data'!$B$7*9.81) -> 103.1367 | K57: ='Input Data'!$B$10*'Input Data'!$B$9*'Input Data'!$B$13*WLTC_class_3!F57^2 -> 17.804869 | L57: =I57+J57+K57 -> -13.845932 | M57: =L57*F57 -> -68.460439 | N57: =IF(M57>0,M57/1000/3600+N56,N56) -> 0.043099722 | O57: =IF(M57<0,O56-M57/1000/3600,O56) -> 0.023472156 | P57: =IF(M57<0,M57,"") -> -68.460439 | Q57: =-P57/1000/3600+Q56 -> 0.023472156 | R57: =O57*0.31 -> 0.0072763682 | S57: =O57*0.7 -> 0.016430509 | U57: =IF(E57<1,1,0) -> 0 | V57: =IF(U57=1,"",E57) -> 17.8 | W57: =E57/3.6 -> 4.9444444
B58: Low | C58: 50 | D58: 50 | E58: 17.8 | F58: =E58*1000/3600 -> 4.9444444 | G58: =($E59-$E57)/2/3.6 -> -0.055555556 | H58: =($E59-$E57)/2 -> -0.2 | I58: =G58*'Input Data'!$B$7 -> -89.858333 | J58: =IF(F58=0,0,'Input Data'!$B$11*'Input Data'!$B$7*9.81) -> 103.1367 | K58: ='Input Data'!$B$10*'Input Data'!$B$9*'Input Data'!$B$13*WLTC_class_3!F58^2 -> 17.804869 | L58: =I58+J58+K58 -> 31.083235 | M58: =L58*F58 -> 153.68933 | N58: =IF(M58>0,M58/1000/3600+N57,N57) -> 0.043142413 | O58: =IF(M58<0,O57-M58/1000/3600,O57) -> 0.023472156 | P58: =IF(M58<0,M58,"") | R58: =O58*0.31 -> 0.0072763682 | S58: =O58*0.7 -> 0.016430509 | U58: =IF(E58<1,1,0) -> 0 | V58: =IF(U58=1,"",E58) -> 17.8 | W58: =E58/3.6 -> 4.9444444
B59: Low | C59: 51 | D59: 51 | E59: 17.4 | F59: =E59*1000/3600 -> 4.8333333 | G59: =($E60-$E58)/2/3.6 -> -0.29166667 | H59: =($E60-$E58)/2 -> -1.05 | I59: =G59*'Input Data'!$B$7 -> -471.75625 | J59: =IF(F59=0,0,'Input Data'!$B$11*'Input Data'!$B$7*9.81) -> 103.1367 | K59: ='Input Data'!$B$10*'Input Data'!$B$9*'Input Data'!$B$13*WLTC_class_3!F59^2 -> 17.013642 | L59: =I59+J59+K59 -> -351.60591 | M59: =L59*F59 -> -1699.4286 | N59: =IF(M59>0,M59/1000/3600+N58,N58) -> 0.043142413 | O59: =IF(M59<0,O58-M59/1000/3600,O58) -> 0.023944219 | P59: =IF(M59<0,M59,"") -> -1699.4286 | Q59: =-P59/1000/3600 -> 0.00047206349 | R59: =O59*0.31 -> 0.0074227079 | S59: =O59*0.7 -> 0.016760953 | U59: =IF(E59<1,1,0) -> 0 | V59: =IF(U59=1,"",E59) -> 17.4 | W59: =E59/3.6 -> 4.8333333
B60: Low | C60: 52 | D60: 52 | E60: 15.7 | F60: =E60*1000/3600 -> 4.3611111 | G60: =($E61-$E59)/2/3.6 -> -0.59722222 | H60: =($E61-$E59)/2 -> -2.15 | I60: =G60*'Input Data'!$B$7 -> -965.97708 | J60: =IF(F60=0,0,'Input Data'!$B$11*'Input Data'!$B$7*9.81) -> 103.1367 | K60: ='Input Data'!$B$10*'Input Data'!$B$9*'Input Data'!$B$13*WLTC_class_3!F60^2 -> 13.851541 | L60: =I60+J60+K60 -> -848.98884 | M60: =L60*F60 -> -3702.5347 | N60: =IF(M60>0,M60/1000/3600+N59,N59) -> 0.043142413 | O60: =IF(M60<0,O59-M60/1000/3600,O59) -> 0.024972701 | P60: =IF(M60<0,M60,"") -> -3702.5347 | Q60: =-P60/1000/3600+Q59 -> 0.0015005453 | R60: =O60*0.31 -> 0.0077415373 | S60: =O60*0.7 -> 0.017480891 | U60: =IF(E60<1,1,0) -> 0 | V60: =IF(U60=1,"",E60) -> 15.7 | W60: =E60/3.6 -> 4.3611111
B61: Low | C61: 53 | D61: 53 | E61: 13.1 | F61: =E61*1000/3600 -> 3.6388889 | G61: =($E62-$E60)/2/3.6 -> -0.5 | H61: =($E62-$E60)/2 -> -1.8 | I61: =G61*'Input Data'!$B$7 -> -808.725 | J61: =IF(F61=0,0,'Input Data'!$B$11*'Input Data'!$B$7*9.81) -> 103.1367 | K61: ='Input Data'!$B$10*'Input Data'!$B$9*'Input Data'!$B$13*WLTC_class_3!F61^2 -> 9.6436485 | L61: =I61+J61+K61 -> -695.94465 | M61: =L61*F61 -> -2532.4653 | N61: =IF(M61>0,M61/1000/3600+N60,N60) -> 0.043142413 | O61: =IF(M61<0,O60-M61/1000/3600,O60) -> 0.025676164 | P61: =IF(M61<0,M61,"") -> -2532.4653 | Q61: =-P61/1000/3600+Q60 -> 0.0022040079 | R61: =O61*0.31 -> 0.0079596107 | S61: =O61*0.7 -> 0.017973314 | U61: =IF(E61<1,1,0) -> 0 | V61: =IF(U61=1,"",E61) -> 13.1 | W61: =E61/3.6 -> 3.6388889
B62: Low | C62: 54 | D62: 54 | E62: 12.1 | F62: =E62*1000/3600 -> 3.3611111 | G62: =($E63-$E61)/2/3.6 -> -0.15277778 | H62: =($E63-$E61)/2 -> -0.55 | I62: =G62*'Input Data'!$B$7 -> -247.11042 | J62: =IF(F62=0,0,'Input Data'!$B$11*'Input Data'!$B$7*9.81) -> 103.1367 | K62: ='Input Data'!$B$10*'Input Data'!$B$9*'Input Data'!$B$13*WLTC_class_3!F62^2 -> 8.2275309 | L62: =I62+J62+K62 -> -135.74619 | M62: =L62*F62 -> -456.25802 | N62: =IF(M62>0,M62/1000/3600+N61,N61) -> 0.043142413 | O62: =IF(M62<0,O61-M62/1000/3600,O61) -> 0.025802902 | P62: =IF(M62<0,M62,"") -> -456.25802 | Q62: =-P62/1000/3600+Q61 -> 0.0023307463 | R62: =O62*0.31 -> 0.0079988996 | S62: =O62*0.7 -> 0.018062031 | U62: =IF(E62<1,1,0) -> 0 | V62: =IF(U62=1,"",E62) -> 12.1 | W62: =E62/3.6 -> 3.3611111
B63: Low | C63: 55 | D63: 55 | E63: 12 | F63: =E63*1000/3600 -> 3.3333333 | G63: =($E64-$E62)/2/3.6 -> -0.013888889 | H63: =($E64-$E62)/2 -> -0.05 | I63: =G63*'Input Data'!$B$7 -> -22.464583 | J63: =IF(F63=0,0,'Input Data'!$B$11*'Input Data'!$B$7*9.81) -> 103.1367 | K63: ='Input Data'!$B$10*'Input Data'!$B$9*'Input Data'!$B$13*WLTC_class_3!F63^2 -> 8.0921006 | L63: =I63+J63+K63 -> 88.764217 | M63: =L63*F63 -> 295.88072 | N63: =IF(M63>0,M63/1000/3600+N62,N62) -> 0.043224602 | O63: =IF(M63<0,O62-M63/1000/3600,O62) -> 0.025802902 | P63: =IF(M63<0,M63,"") | R63: =O63*0.31 -> 0.0079988996 | S63: =O63*0.7 -> 0.018062031 | U63: =IF(E63<1,1,0) -> 0 | V63: =IF(U63=1,"",E63) -> 12 | W63: =E63/3.6 -> 3.3333333
B64: Low | C64: 56 | D64: 56 | E64: 12 | F64: =E64*1000/3600 -> 3.3333333 | G64: =($E65-$E63)/2/3.6 -> 0 | H64: =($E65-$E63)/2 -> 0 | I64: =G64*'Input Data'!$B$7 -> 0 | J64: =IF(F64=0,0,'Input Data'!$B$11*'Input Data'!$B$7*9.81) -> 103.1367 | K64: ='Input Data'!$B$10*'Input Data'!$B$9*'Input Data'!$B$13*WLTC_class_3!F64^2 -> 8.0921006 | L64: =I64+J64+K64 -> 111.2288 | M64: =L64*F64 -> 370.76267 | N64: =IF(M64>0,M64/1000/3600+N63,N63) -> 0.043327592 | O64: =IF(M64<0,O63-M64/1000/3600,O63) -> 0.025802902 | P64: =IF(M64<0,M64,"") | R64: =O64*0.31 -> 0.0079988996 | S64: =O64*0.7 -> 0.018062031 | U64: =IF(E64<1,1,0) -> 0 | V64: =IF(U64=1,"",E64) -> 12 | W64: =E64/3.6 -> 3.3333333
B65: Low | C65: 57 | D65: 57 | E65: 12 | F65: =E65*1000/3600 -> 3.3333333 | G65: =($E66-$E64)/2/3.6 -> 0.041666667 | H65: =($E66-$E64)/2 -> 0.15 | I65: =G65*'Input Data'!$B$7 -> 67.39375 | J65: =IF(F65=0,0,'Input Data'!$B$11*'Input Data'!$B$7*9.81) -> 103.1367 | K65: ='Input Data'!$B$10*'Input Data'!$B$9*'Input Data'!$B$13*WLTC_class_3!F65^2 -> 8.0921006 | L65: =I65+J65+K65 -> 178.62255 | M65: =L65*F65 -> 595.4085 | N65: =IF(M65>0,M65/1000/3600+N64,N64) -> 0.043492983 | O65: =IF(M65<0,O64-M65/1000/3600,O64) -> 0.025802902 | P65: =IF(M65<0,M65,"") | R65: =O65*0.31 -> 0.0079988996 | S65: =O65*0.7 -> 0.018062031 | U65: =IF(E65<1,1,0) -> 0 | V65: =IF(U65=1,"",E65) -> 12 | W65: =E65/3.6 -> 3.3333333
B66: Low | C66: 58 | D66: 58 | E66: 12.3 | F66: =E66*1000/3600 -> 3.4166667 | G66: =($E67-$E65)/2/3.6 -> 0.083333333 | H66: =($E67-$E65)/2 -> 0.3 | I66: =G66*'Input Data'!$B$7 -> 134.7875 | J66: =IF(F66=0,0,'Input Data'!$B$11*'Input Data'!$B$7*9.81) -> 103.1367 | K66: ='Input Data'!$B$10*'Input Data'!$B$9*'Input Data'!$B$13*WLTC_class_3!F66^2 -> 8.5017632 | L66: =I66+J66+K66 -> 246.42596 | M66: =L66*F66 -> 841.95537 | N66: =IF(M66>0,M66/1000/3600+N65,N65) -> 0.04372686 | O66: =IF(M66<0,O65-M66/1000/3600,O65) -> 0.025802902 | P66: =IF(M66<0,M66,"") | R66: =O66*0.31 -> 0.0079988996 | S66: =O66*0.7 -> 0.018062031 | U66: =IF(E66<1,1,0) -> 0 | V66: =IF(U66=1,"",E66) -> 12.3 | W66: =E66/3.6 -> 3.4166667
B67: Low | C67: 59 | D67: 59 | E67: 12.6 | F67: =E67*1000/3600 -> 3.5 | G67: =($E68-$E66)/2/3.6 -> 0.33333333 | H67: =($E68-$E66)/2 -> 1.2 | I67: =G67*'Input Data'!$B$7 -> 539.15 | J67: =IF(F67=0,0,'Input Data'!$B$11*'Input Data'!$B$7*9.81) -> 103.1367 | K67: ='Input Data'!$B$10*'Input Data'!$B$9*'Input Data'!$B$13*WLTC_class_3!F67^2 -> 8.9215409 | L67: =I67+J67+K67 -> 651.20824 | M67: =L67*F67 -> 2279.2288 | N67: =IF(M67>0,M67/1000/3600+N66,N66) -> 0.044359979 | O67: =IF(M67<0,O66-M67/1000/3600,O66) -> 0.025802902 | P67: =IF(M67<0,M67,"") | R67: =O67*0.31 -> 0.0079988996 | S67: =O67*0.7 -> 0.018062031 | U67: =IF(E67<1,1,0) -> 0 | V67: =IF(U67=1,"",E67) -> 12.6 | W67: =E67/3.6 -> 3.5
B68: Low | C68: 60 | D68: 60 | E68: 14.7 | F68: =E68*1000/3600 -> 4.0833333 | G68: =($E69-$E67)/2/3.6 -> 0.375 | H68: =($E69-$E67)/2 -> 1.35 | I68: =G68*'Input Data'!$B$7 -> 606.54375 | J68: =IF(F68=0,0,'Input Data'!$B$11*'Input Data'!$B$7*9.81) -> 103.1367 | K68: ='Input Data'!$B$10*'Input Data'!$B$9*'Input Data'!$B$13*WLTC_class_3!F68^2 -> 12.143208 | L68: =I68+J68+K68 -> 721.82366 | M68: =L68*F68 -> 2947.4466 | N68: =IF(M68>0,M68/1000/3600+N67,N67) -> 0.045178714 | O68: =IF(M68<0,O67-M68/1000/3600,O67) -> 0.025802902 | P68: =IF(M68<0,M68,"") | R68: =O68*0.31 -> 0.0079988996 | S68: =O68*0.7 -> 0.018062031 | U68: =IF(E68<1,1,0) -> 0 | V68: =IF(U68=1,"",E68) -> 14.7 | W68: =E68/3.6 -> 4.0833333
B69: Low | C69: 61 | D69: 61 | E69: 15.3 | F69: =E69*1000/3600 -> 4.25 | G69: =($E70-$E68)/2/3.6 -> 0.16666667 | H69: =($E70-$E68)/2 -> 0.6 | I69: =G69*'Input Data'!$B$7 -> 269.575 | J69: =IF(F69=0,0,'Input Data'!$B$11*'Input Data'!$B$7*9.81) -> 103.1367 | K69: ='Input Data'!$B$10*'Input Data'!$B$9*'Input Data'!$B$13*WLTC_class_3!F69^2 -> 13.154721 | L69: =I69+J69+K69 -> 385.86642 | M69: =L69*F69 -> 1639.9323 | N69: =IF(M69>0,M69/1000/3600+N68,N68) -> 0.045634251 | O69: =IF(M69<0,O68-M69/1000/3600,O68) -> 0.025802902 | P69: =IF(M69<0,M69,"") | R69: =O69*0.31 -> 0.0079988996 | S69: =O69*0.7 -> 0.018062031 | U69: =IF(E69<1,1,0) -> 0 | V69: =IF(U69=1,"",E69) -> 15.3 | W69: =E69/3.6 -> 4.25
B70: Low | C70: 62 | D70: 62 | E70: 15.9 | F70: =E70*1000/3600 -> 4.4166667 | G70: =($E71-$E69)/2/3.6 -> 0.125 | H70: =($E71-$E69)/2 -> 0.45 | I70: =G70*'Input Data'!$B$7 -> 202.18125 | J70: =IF(F70=0,0,'Input Data'!$B$11*'Input Data'!$B$7*9.81) -> 103.1367 | K70: ='Input Data'!$B$10*'Input Data'!$B$9*'Input Data'!$B$13*WLTC_class_3!F70^2 -> 14.206694 | L70: =I70+J70+K70 -> 319.52464 | M70: =L70*F70 -> 1411.2338 | N70: =IF(M70>0,M70/1000/3600+N69,N69) -> 0.04602626 | O70: =IF(M70<0,O69-M70/1000/3600,O69) -> 0.025802902 | P70: =IF(M70<0,M70,"") | R70: =O70*0.31 -> 0.0079988996 | S70: =O70*0.7 -> 0.018062031 | U70: =IF(E70<1,1,0) -> 0 | V70: =IF(U70=1,"",E70) -> 15.9 | W70: =E70/3.6 -> 4.4166667
B71: Low | C71: 63 | D71: 63 | E71: 16.2 | F71: =E71*1000/3600 -> 4.5 | G71: =($E72-$E70)/2/3.6 -> 0.16666667 | H71: =($E72-$E70)/2 -> 0.6 | I71: =G71*'Input Data'!$B$7 -> 269.575 | J71: =IF(F71=0,0,'Input Data'!$B$11*'Input Data'!$B$7*9.81) -> 103.1367 | K71: ='Input Data'!$B$10*'Input Data'!$B$9*'Input Data'!$B$13*WLTC_class_3!F71^2 -> 14.747853 | L71: =I71+J71+K71 -> 387.45955 | M71: =L71*F71 -> 1743.568 | N71: =IF(M71>0,M71/1000/3600+N70,N70) -> 0.046510584 | O71: =IF(M71<0,O70-M71/1000/3600,O70) -> 0.025802902 | P71: =IF(M71<0,M71,"") | R71: =O71*0.31 -> 0.0079988996 | S71: =O71*0.7 -> 0.018062031 | U71: =IF(E71<1,1,0) -> 0 | V71: =IF(U71=1,"",E71) -> 16.2 | W71: =E71/3.6 -> 4.5
B72: Low | C72: 64 | D72: 64 | E72: 17.1 | F72: =E72*1000/3600 -> 4.75 | G72: =($E73-$E71)/2/3.6 -> 0.22222222 | H72: =($E73-$E71)/2 -> 0.8 | I72: =G72*'Input Data'!$B$7 -> 359.43333 | J72: =IF(F72=0,0,'Input Data'!$B$11*'Input Data'!$B$7*9.81) -> 103.1367 | K72: ='Input Data'!$B$10*'Input Data'!$B$9*'Input Data'!$B$13*WLTC_class_3!F72^2 -> 16.432022 | L72: =I72+J72+K72 -> 479.00205 | M72: =L72*F72 -> 2275.2598 | N72: =IF(M72>0,M72/1000/3600+N71,N71) -> 0.047142601 | O72: =IF(M72<0,O71-M72/1000/3600,O71) -> 0.025802902 | P72: =IF(M72<0,M72,"") | R72: =O72*0.31 -> 0.0079988996 | S72: =O72*0.7 -> 0.018062031 | U72: =IF(E72<1,1,0) -> 0 | V72: =IF(U72=1,"",E72) -> 17.1 | W72: =E72/3.6 -> 4.75
B73: Low | C73: 65 | D73: 65 | E73: 17.8 | F73: =E73*1000/3600 -> 4.9444444 | G73: =($E74-$E72)/2/3.6 -> 0.13888889 | H73: =($E74-$E72)/2 -> 0.5 | I73: =G73*'Input Data'!$B$7 -> 224.64583 | J73: =IF(F73=0,0,'Input Data'!$B$11*'Input Data'!$B$7*9.81) -> 103.1367 | K73: ='Input Data'!$B$10*'Input Data'!$B$9*'Input Data'!$B$13*WLTC_class_3!F73^2 -> 17.804869 | L73: =I73+J73+K73 -> 345.5874 | M73: =L73*F73 -> 1708.7377 | N73: =IF(M73>0,M73/1000/3600+N72,N72) -> 0.04761725 | O73: =IF(M73<0,O72-M73/1000/3600,O72) -> 0.025802902 | P73: =IF(M73<0,M73,"") | R73: =O73*0.31 -> 0.0079988996 | S73: =O73*0.7 -> 0.018062031 | U73: =IF(E73<1,1,0) -> 0 | V73: =IF(U73=1,"",E73) -> 17.8 | W73: =E73/3.6 -> 4.9444444
B74: Low | C74: 66 | D74: 66 | E74: 18.1 | F74: =E74*1000/3600 -> 5.0277778 | G74: =($E75-$E73)/2/3.6 -> 0.083333333 | H74: =($E75-$E73)/2 -> 0.3 | I74: =G74*'Input Data'!$B$7 -> 134.7875 | J74: =IF(F74=0,0,'Input Data'!$B$11*'Input Data'!$B$7*9.81) -> 103.1367 | K74: ='Input Data'!$B$10*'Input Data'!$B$9*'Input Data'!$B$13*WLTC_class_3!F74^2 -> 18.410091 | L74: =I74+J74+K74 -> 256.33429 | M74: =L74*F74 -> 1288.7918 | N74: =IF(M74>0,M74/1000/3600+N73,N73) -> 0.047975248 | O74: =IF(M74<0,O73-M74/1000/3600,O73) -> 0.025802902 | P74: =IF(M74<0,M74,"") | R74: =O74*0.31 -> 0.0079988996 | S74: =O74*0.7 -> 0.018062031 | U74: =IF(E74<1,1,0) -> 0 | V74: =IF(U74=1,"",E74) -> 18.1 | W74: =E74/3.6 -> 5.0277778
... B87: Low | C87: 79 | D87: 79 | E87: 39.5 | F87: =E87*1000/3600 -> 10.972222 | G87: =($E88-$E86)/2/3.6 -> -0.041666667 | H87: =($E88-$E86)/2 -> -0.15 | I87: =G87*'Input Data'!$B$7 -> -67.39375 | J87: =IF(F87=0,0,'Input Data'!$B$11*'Input Data'!$B$7*9.81) -> 103.1367 | K87: ='Input Data'!$B$10*'Input Data'!$B$9*'Input Data'!$B$13*WLTC_class_3!F87^2 -> 87.678472 | L87: =I87+J87+K87 -> 123.42142 | M87: =L87*F87 -> 1354.2073 | N87: =IF(M87>0,M87/1000/3600+N86,N86) -> 0.07422965 | O87: =IF(M87<0,O86-M87/1000/3600,O86) -> 0.025802902 | P87: =IF(M87<0,M87,"") | R87: =O87*0.31 -> 0.0079988996 | S87: =O87*0.7 -> 0.018062031 | U87: =IF(E87<1,1,0) -> 0 | V87: =IF(U87=1,"",E87) -> 39.5 | W87: =E87/3.6 -> 10.972222
B88: Low | C88: 80 | D88: 80 | E88: 39 | F88: =E88*1000/3600 -> 10.833333 | G88: =($E89-$E87)/2/3.6 -> -0.13888889 | H88: =($E89-$E87)/2 -> -0.5 | I88: =G88*'Input Data'!$B$7 -> -224.64583 | J88: =IF(F88=0,0,'Input Data'!$B$11*'Input Data'!$B$7*9.81) -> 103.1367 | K88: ='Input Data'!$B$10*'Input Data'!$B$9*'Input Data'!$B$13*WLTC_class_3!F88^2 -> 85.472813 | L88: =I88+J88+K88 -> -36.036321 | M88: =L88*F88 -> -390.39348 | N88: =IF(M88>0,M88/1000/3600+N87,N87) -> 0.07422965 | O88: =IF(M88<0,O87-M88/1000/3600,O87) -> 0.025911345 | P88: =IF(M88<0,M88,"") -> -390.39348 | Q88: =-P88/1000/3600 -> 0.00010844263 | R88: =O88*0.31 -> 0.0080325168 | S88: =O88*0.7 -> 0.018137941 | U88: =IF(E88<1,1,0) -> 0 | V88: =IF(U88=1,"",E88) -> 39 | W88: =E88/3.6 -> 10.833333
B89: Low | C89: 81 | D89: 81 | E89: 38.5 | F89: =E89*1000/3600 -> 10.694444 | G89: =($E90-$E88)/2/3.6 -> -0.23611111 | H89: =($E90-$E88)/2 -> -0.85 | I89: =G89*'Input Data'!$B$7 -> -381.89792 | J89: =IF(F89=0,0,'Input Data'!$B$11*'Input Data'!$B$7*9.81) -> 103.1367 | K89: ='Input Data'!$B$10*'Input Data'!$B$9*'Input Data'!$B$13*WLTC_class_3!F89^2 -> 83.295251 | L89: =I89+J89+K89 -> -195.46597 | M89: =L89*F89 -> -2090.3999 | N89: =IF(M89>0,M89/1000/3600+N88,N88) -> 0.07422965 | O89: =IF(M89<0,O88-M89/1000/3600,O88) -> 0.026492011 | P89: =IF(M89<0,M89,"") -> -2090.3999 | Q89: =-P89/1000/3600+Q88 -> 0.00068910928 | R89: =O89*0.31 -> 0.0082125235 | S89: =O89*0.7 -> 0.018544408 | U89: =IF(E89<1,1,0) -> 0 | V89: =IF(U89=1,"",E89) -> 38.5 | W89: =E89/3.6 -> 10.694444
B90: Low | C90: 82 | D90: 82 | E90: 37.3 | F90: =E90*1000/3600 -> 10.361111 | G90: =($E91-$E89)/2/3.6 -> -0.20833333 | H90: =($E91-$E89)/2 -> -0.75 | I90: =G90*'Input Data'!$B$7 -> -336.96875 | J90: =IF(F90=0,0,'Input Data'!$B$11*'Input Data'!$B$7*9.81) -> 103.1367 | K90: ='Input Data'!$B$10*'Input Data'!$B$9*'Input Data'!$B$13*WLTC_class_3!F90^2 -> 78.183741 | L90: =I90+J90+K90 -> -155.64831 | M90: =L90*F90 -> -1612.6894 | N90: =IF(M90>0,M90/1000/3600+N89,N89) -> 0.07422965 | O90: =IF(M90<0,O89-M90/1000/3600,O89) -> 0.02693998 | P90: =IF(M90<0,M90,"") -> -1612.6894 | Q90: =-P90/1000/3600+Q89 -> 0.0011370786 | R90: =O90*0.31 -> 0.0083513939 | S90: =O90*0.7 -> 0.018857986 | U90: =IF(E90<1,1,0) -> 0 | V90: =IF(U90=1,"",E90) -> 37.3 | W90: =E90/3.6 -> 10.361111
B91: Low | C91: 83 | D91: 83 | E91: 37 | F91: =E91*1000/3600 -> 10.277778 | G91: =($E92-$E90)/2/3.6 -> -0.083333333 | H91: =($E92-$E90)/2 -> -0.3 | I91: =G91*'Input Data'!$B$7 -> -134.7875 | J91: =IF(F91=0,0,'Input Data'!$B$11*'Input Data'!$B$7*9.81) -> 103.1367 | K91: ='Input Data'!$B$10*'Input Data'!$B$9*'Input Data'!$B$13*WLTC_class_3!F91^2 -> 76.931151 | L91: =I91+J91+K91 -> 45.28035 | M91: =L91*F91 -> 465.38138 | N91: =IF(M91>0,M91/1000/3600+N90,N90) -> 0.074358923 | O91: =IF(M91<0,O90-M91/1000/3600,O90) -> 0.02693998 | P91: =IF(M91<0,M91,"") | R91: =O91*0.31 -> 0.0083513939 | S91: =O91*0.7 -> 0.018857986 | U91: =IF(E91<1,1,0) -> 0 | V91: =IF(U91=1,"",E91) -> 37 | W91: =E91/3.6 -> 10.277778
B92: Low | C92: 84 | D92: 84 | E92: 36.7 | F92: =E92*1000/3600 -> 10.194444 | G92: =($E93-$E91)/2/3.6 -> -0.15277778 | H92: =($E93-$E91)/2 -> -0.55 | I92: =G92*'Input Data'!$B$7 -> -247.11042 | J92: =IF(F92=0,0,'Input Data'!$B$11*'Input Data'!$B$7*9.81) -> 103.1367 | K92: ='Input Data'!$B$10*'Input Data'!$B$9*'Input Data'!$B$13*WLTC_class_3!F92^2 -> 75.688676 | L92: =I92+J92+K92 -> -68.285041 | M92: =L92*F92 -> -696.12806 | N92: =IF(M92>0,M92/1000/3600+N91,N91) -> 0.074358923 | O92: =IF(M92<0,O91-M92/1000/3600,O91) -> 0.027133349 | P92: =IF(M92<0,M92,"") -> -696.12806 | Q92: =-P92/1000/3600 -> 0.0001933689 | R92: =O92*0.31 -> 0.0084113383 | S92: =O92*0.7 -> 0.018993345 | U92: =IF(E92<1,1,0) -> 0 | V92: =IF(U92=1,"",E92) -> 36.7 | W92: =E92/3.6 -> 10.194444
B93: Low | C93: 85 | D93: 85 | E93: 35.9 | F93: =E93*1000/3600 -> 9.9722222 | G93: =($E94-$E92)/2/3.6 -> -0.19444444 | H93: =($E94-$E92)/2 -> -0.7 | I93: =G93*'Input Data'!$B$7 -> -314.50417 | J93: =IF(F93=0,0,'Input Data'!$B$11*'Input Data'!$B$7*9.81) -> 103.1367 | K93: ='Input Data'!$B$10*'Input Data'!$B$9*'Input Data'!$B$13*WLTC_class_3!F93^2 -> 72.424863 | L93: =I93+J93+K93 -> -138.9426 | M93: =L93*F93 -> -1385.5665 | N93: =IF(M93>0,M93/1000/3600+N92,N92) -> 0.074358923 | O93: =IF(M93<0,O92-M93/1000/3600,O92) -> 0.027518229 | P93: =IF(M93<0,M93,"") -> -1385.5665 | Q93: =-P93/1000/3600+Q92 -> 0.0005782485 | R93: =O93*0.31 -> 0.008530651 | S93: =O93*0.7 -> 0.01926276 | U93: =IF(E93<1,1,0) -> 0 | V93: =IF(U93=1,"",E93) -> 35.9 | W93: =E93/3.6 -> 9.9722222
B94: Low | C94: 86 | D94: 86 | E94: 35.3 | F94: =E94*1000/3600 -> 9.8055556 | G94: =($E95-$E93)/2/3.6 -> -0.18055556 | H94: =($E95-$E93)/2 -> -0.65 | I94: =G94*'Input Data'!$B$7 -> -292.03958 | J94: =IF(F94=0,0,'Input Data'!$B$11*'Input Data'!$B$7*9.81) -> 103.1367 | K94: ='Input Data'!$B$10*'Input Data'!$B$9*'Input Data'!$B$13*WLTC_class_3!F94^2 -> 70.024206 | L94: =I94+J94+K94 -> -118.87868 | M94: =L94*F94 -> -1165.6715 | N94: =IF(M94>0,M94/1000/3600+N93,N93) -> 0.074358923 | O94: =IF(M94<0,O93-M94/1000/3600,O93) -> 0.027842027 | P94: =IF(M94<0,M94,"") -> -1165.6715 | Q94: =-P94/1000/3600+Q93 -> 0.00090204613 | R94: =O94*0.31 -> 0.0086310282 | S94: =O94*0.7 -> 0.019489419 | U94: =IF(E94<1,1,0) -> 0 | V94: =IF(U94=1,"",E94) -> 35.3 | W94: =E94/3.6 -> 9.8055556
B95: Low | C95: 87 | D95: 87 | E95: 34.6 | F95: =E95*1000/3600 -> 9.6111111 | G95: =($E96-$E94)/2/3.6 -> -0.15277778 | H95: =($E96-$E94)/2 -> -0.55 | I95: =G95*'Input Data'!$B$7 -> -247.11042 | J95: =IF(F95=0,0,'Input Data'!$B$11*'Input Data'!$B$7*9.81) -> 103.1367 | K95: ='Input Data'!$B$10*'Input Data'!$B$9*'Input Data'!$B$13*WLTC_class_3!F95^2 -> 67.274578 | L95: =I95+J95+K95 -> -76.69914 | M95: =L95*F95 -> -737.16395 | N95: =IF(M95>0,M95/1000/3600+N94,N94) -> 0.074358923 | O95: =IF(M95<0,O94-M95/1000/3600,O94) -> 0.028046794 | P95: =IF(M95<0,M95,"") -> -737.16395 | Q95: =-P95/1000/3600+Q94 -> 0.0011068139 | R95: =O95*0.31 -> 0.0086945062 | S95: =O95*0.7 -> 0.019632756 | U95: =IF(E95<1,1,0) -> 0 | V95: =IF(U95=1,"",E95) -> 34.6 | W95: =E95/3.6 -> 9.6111111
B96: Low | C96: 88 | D96: 88 | E96: 34.2 | F96: =E96*1000/3600 -> 9.5 | G96: =($E97-$E95)/2/3.6 -> -0.375 | H96: =($E97-$E95)/2 -> -1.35 | I96: =G96*'Input Data'!$B$7 -> -606.54375 | J96: =IF(F96=0,0,'Input Data'!$B$11*'Input Data'!$B$7*9.81) -> 103.1367 | K96: ='Input Data'!$B$10*'Input Data'!$B$9*'Input Data'!$B$13*WLTC_class_3!F96^2 -> 65.728087 | L96: =I96+J96+K96 -> -437.67896 | M96: =L96*F96 -> -4157.9502 | N96: =IF(M96>0,M96/1000/3600+N95,N95) -> 0.074358923 | O96: =IF(M96<0,O95-M96/1000/3600,O95) -> 0.02920178 | P96: =IF(M96<0,M96,"") -> -4157.9502 | Q96: =-P96/1000/3600+Q95 -> 0.0022618 | R96: =O96*0.31 -> 0.009052552 | S96: =O96*0.7 -> 0.020441246 | U96: =IF(E96<1,1,0) -> 0 | V96: =IF(U96=1,"",E96) -> 34.2 | W96: =E96/3.6 -> 9.5
B97: Low | C97: 89 | D97: 89 | E97: 31.9 | F97: =E97*1000/3600 -> 8.8611111 | G97: =($E98-$E96)/2/3.6 -> -0.95833333 | H97: =($E98-$E96)/2 -> -3.45 | I97: =G97*'Input Data'!$B$7 -> -1550.0563 | J97: =IF(F97=0,0,'Input Data'!$B$11*'Input Data'!$B$7*9.81) -> 103.1367 | K97: ='Input Data'!$B$10*'Input Data'!$B$9*'Input Data'!$B$13*WLTC_class_3!F97^2 -> 57.18474 | L97: =I97+J97+K97 -> -1389.7348 | M97: =L97*F97 -> -12314.595 | N97: =IF(M97>0,M97/1000/3600+N96,N96) -> 0.074358923 | O97: =IF(M97<0,O96-M97/1000/3600,O96) -> 0.032622501 | P97: =IF(M97<0,M97,"") -> -12314.595 | Q97: =-P97/1000/3600+Q96 -> 0.0056825208 | R97: =O97*0.31 -> 0.010112975 | S97: =O97*0.7 -> 0.022835751 | U97: =IF(E97<1,1,0) -> 0 | V97: =IF(U97=1,"",E97) -> 31.9 | W97: =E97/3.6 -> 8.8611111
B98: Low | C98: 90 | D98: 90 | E98: 27.3 | F98: =E98*1000/3600 -> 7.5833333 | G98: =($E99-$E97)/2/3.6 -> -1.375 | H98: =($E99-$E97)/2 -> -4.95 | I98: =G98*'Input Data'!$B$7 -> -2223.9937 | J98: =IF(F98=0,0,'Input Data'!$B$11*'Input Data'!$B$7*9.81) -> 103.1367 | K98: ='Input Data'!$B$10*'Input Data'!$B$9*'Input Data'!$B$13*WLTC_class_3!F98^2 -> 41.881678 | L98: =I98+J98+K98 -> -2078.9754 | M98: =L98*F98 -> -15765.563 | N98: =IF(M98>0,M98/1000/3600+N97,N97) -> 0.074358923 | O98: =IF(M98<0,O97-M98/1000/3600,O97) -> 0.037001824 | P98: =IF(M98<0,M98,"") -> -15765.563 | Q98: =-P98/1000/3600+Q97 -> 0.010061844 | R98: =O98*0.31 -> 0.011470566 | S98: =O98*0.7 -> 0.025901277 | U98: =IF(E98<1,1,0) -> 0 | V98: =IF(U98=1,"",E98) -> 27.3 | W98: =E98/3.6 -> 7.5833333
B99: Low | C99: 91 | D99: 91 | E99: 22 | F99: =E99*1000/3600 -> 6.1111111 | G99: =($E100-$E98)/2/3.6 -> -1.4305556 | H99: =($E100-$E98)/2 -> -5.15 | I99: =G99*'Input Data'!$B$7 -> -2313.8521 | J99: =IF(F99=0,0,'Input Data'!$B$11*'Input Data'!$B$7*9.81) -> 103.1367 | K99: ='Input Data'!$B$10*'Input Data'!$B$9*'Input Data'!$B$13*WLTC_class_3!F99^2 -> 27.198449 | L99: =I99+J99+K99 -> -2183.5169 | M99: =L99*F99 -> -13343.715 | N99: =IF(M99>0,M99/1000/3600+N98,N98) -> 0.074358923 | O99: =IF(M99<0,O98-M99/1000/3600,O98) -> 0.040708412 | P99: =IF(M99<0,M99,"") -> -13343.715 | Q99: =-P99/1000/3600+Q98 -> 0.013768431 | R99: =O99*0.31 -> 0.012619608 | S99: =O99*0.7 -> 0.028495888 | U99: =IF(E99<1,1,0) -> 0 | V99: =IF(U99=1,"",E99) -> 22 | W99: =E99/3.6 -> 6.1111111
B100: Low | C100: 92 | D100: 92 | E100: 17 | F100: =E100*1000/3600 -> 4.7222222 | G100: =($E101-$E99)/2/3.6 -> -1.0833333 | H100: =($E101-$E99)/2 -> -3.9 | I100: =G100*'Input Data'!$B$7 -> -1752.2375 | J100: =IF(F100=0,0,'Input Data'!$B$11*'Input Data'!$B$7*9.81) -> 103.1367 | K100: ='Input Data'!$B$10*'Input Data'!$B$9*'Input Data'!$B$13*WLTC_class_3!F100^2 -> 16.240396 | L100: =I100+J100+K100 -> -1632.8604 | M100: =L100*F100 -> -7710.7297 | N100: =IF(M100>0,M100/1000/3600+N99,N99) -> 0.074358923 | O100: =IF(M100<0,O99-M100/1000/3600,O99) -> 0.042850281 | P100: =IF(M100<0,M100,"") -> -7710.7297 | Q100: =-P100/1000/3600+Q99 -> 0.015910301 | R100: =O100*0.31 -> 0.013283587 | S100: =O100*0.7 -> 0.029995197 | U100: =IF(E100<1,1,0) -> 0 | V100: =IF(U100=1,"",E100) -> 17 | W100: =E100/3.6 -> 4.7222222
B101: Low | C101: 93 | D101: 93 | E101: 14.2 | F101: =E101*1000/3600 -> 3.9444444 | G101: =($E102-$E100)/2/3.6 -> -0.69444444 | H101: =($E102-$E100)/2 -> -2.5 | I101: =G101*'Input Data'!$B$7 -> -1123.2292 | J101: =IF(F101=0,0,'Input Data'!$B$11*'Input Data'!$B$7*9.81) -> 103.1367 | K101: ='Input Data'!$B$10*'Input Data'!$B$9*'Input Data'!$B$13*WLTC_class_3!F101^2 -> 11.331189 | L101: =I101+J101+K101 -> -1008.7613 | M101: =L101*F101 -> -3979.0028 | N101: =IF(M101>0,M101/1000/3600+N100,N100) -> 0.074358923 | O101: =IF(M101<0,O100-M101/1000/3600,O100) -> 0.04395556 | P101: =IF(M101<0,M101,"") -> -3979.0028 | Q101: =-P101/1000/3600+Q100 -> 0.017015579 | R101: =O101*0.31 -> 0.013626223 | S101: =O101*0.7 -> 0.030768892 | U101: =IF(E101<1,1,0) -> 0 | V101: =IF(U101=1,"",E101) -> 14.2 | W101: =E101/3.6 -> 3.9444444
B102: Low | C102: 94 | D102: 94 | E102: 12 | F102: =E102*1000/3600 -> 3.3333333 | G102: =($E103-$E101)/2/3.6 -> -0.70833333 | H102: =($E103-$E101)/2 -> -2.55 | I102: =G102*'Input Data'!$B$7 -> -1145.6937 | J102: =IF(F102=0,0,'Input Data'!$B$11*'Input Data'!$B$7*9.81) -> 103.1367 | K102: ='Input Data'!$B$10*'Input Data'!$B$9*'Input Data'!$B$13*WLTC_class_3!F102^2 -> 8.0921006 | L102: =I102+J102+K102 -> -1034.465 | M102: =L102*F102 -> -3448.2165 | N102: =IF(M102>0,M102/1000/3600+N101,N101) -> 0.074358923 | O102: =IF(M102<0,O101-M102/1000/3600,O101) -> 0.044913398 | P102: =IF(M102<0,M102,"") -> -3448.2165 | Q102: =-P102/1000/3600+Q101 -> 0.017973417 | R102: =O102*0.31 -> 0.013923153 | S102: =O102*0.7 -> 0.031439378 | U102: =IF(E102<1,1,0) -> 0 | V102: =IF(U102=1,"",E102) -> 12 | W102: =E102/3.6 -> 3.3333333
B103: Low | C103: 95 | D103: 95 | E103: 9.1 | F103: =E103*1000/3600 -> 2.5277778 | G103: =($E104-$E102)/2/3.6 -> -0.86111111 | H103: =($E104-$E102)/2 -> -3.1 | I103: =G103*'Input Data'!$B$7 -> -1392.8042 | J103: =IF(F103=0,0,'Input Data'!$B$11*'Input Data'!$B$7*9.81) -> 103.1367 | K103: ='Input Data'!$B$10*'Input Data'!$B$9*'Input Data'!$B$13*WLTC_class_3!F103^2 -> 4.6535198 | L103: =I103+J103+K103 -> -1285.0139 | M103: =L103*F103 -> -3248.2297 | N103: =IF(M103>0,M103/1000/3600+N102,N102) -> 0.074358923 | O103: =IF(M103<0,O102-M103/1000/3600,O102) -> 0.045815684 | P103: =IF(M103<0,M103,"") -> -3248.2297 | Q103: =-P103/1000/3600+Q102 -> 0.018875703 | R103: =O103*0.31 -> 0.014202862 | S103: =O103*0.7 -> 0.032070979 | U103: =IF(E103<1,1,0) -> 0 | V103: =IF(U103=1,"",E103) -> 9.1 | W103: =E103/3.6 -> 2.5277778
B104: Low | C104: 96 | D104: 96 | E104: 5.8 | F104: =E104*1000/3600 -> 1.6111111 | G104: =($E105-$E103)/2/3.6 -> -0.76388889 | H104: =($E105-$E103)/2 -> -2.75 | I104: =G104*'Input Data'!$B$7 -> -1235.5521 | J104: =IF(F104=0,0,'Input Data'!$B$11*'Input Data'!$B$7*9.81) -> 103.1367 | K104: ='Input Data'!$B$10*'Input Data'!$B$9*'Input Data'!$B$13*WLTC_class_3!F104^2 -> 1.8904046 | L104: =I104+J104+K104 -> -1130.525 | M104: =L104*F104 -> -1821.4014 | N104: =IF(M104>0,M104/1000/3600+N103,N103) -> 0.074358923 | O104: =IF(M104<0,O103-M104/1000/3600,O103) -> 0.046321628 | P104: =IF(M104<0,M104,"") -> -1821.4014 | Q104: =-P104/1000/3600+Q103 -> 0.019381648 | R104: =O104*0.31 -> 0.014359705 | S104: =O104*0.7 -> 0.03242514 | U104: =IF(E104<1,1,0) -> 0 | V104: =IF(U104=1,"",E104) -> 5.8 | W104: =E104/3.6 -> 1.6111111
... B106: Low | C106: 98 | D106: 98 | E106: 2.2 | F106: =E106*1000/3600 -> 0.61111111 | G106: =($E107-$E105)/2/3.6 -> -0.5 | H106: =($E107-$E105)/2 -> -1.8 | I106: =G106*'Input Data'!$B$7 -> -808.725 | J106: =IF(F106=0,0,'Input Data'!$B$11*'Input Data'!$B$7*9.81) -> 103.1367 | K106: ='Input Data'!$B$10*'Input Data'!$B$9*'Input Data'!$B$13*WLTC_class_3!F106^2 -> 0.27198449 | L106: =I106+J106+K106 -> -705.31632 | M106: =L106*F106 -> -431.02664 | N106: =IF(M106>0,M106/1000/3600+N105,N105) -> 0.074358923 | O106: =IF(M106<0,O105-M106/1000/3600,O105) -> 0.046637152 | P106: =IF(M106<0,M106,"") -> -431.02664 | Q106: =-P106/1000/3600+Q105 -> 0.019697172 | R106: =O106*0.31 -> 0.014457517 | S106: =O106*0.7 -> 0.032646007 | U106: =IF(E106<1,1,0) -> 0 | V106: =IF(U106=1,"",E106) -> 2.2 | W106: =E106/3.6 -> 0.61111111
B107: Low | C107: 99 | D107: 99 | E107: 0 | F107: =E107*1000/3600 -> 0 | G107: =($E108-$E106)/2/3.6 -> -0.30555556 | H107: =($E108-$E106)/2 -> -1.1 | I107: =G107*'Input Data'!$B$7 -> -494.22083 | J107: =IF(F107=0,0,'Input Data'!$B$11*'Input Data'!$B$7*9.81) -> 0 | K107: ='Input Data'!$B$10*'Input Data'!$B$9*'Input Data'!$B$13*WLTC_class_3!F107^2 -> 0 | L107: =I107+J107+K107 -> -494.22083 | M107: =L107*F107 -> 0 | N107: =IF(M107>0,M107/1000/3600+N106,N106) -> 0.074358923 | O107: =IF(M107<0,O106-M107/1000/3600,O106) -> 0.046637152 | P107: =IF(M107<0,M107,"") | R107: =O107*0.31 -> 0.014457517 | S107: =O107*0.7 -> 0.032646007 | U107: =IF(E107<1,1,0) -> 1 | V107: =IF(U107=1,"",E107) | W107: =E107/3.6 -> 0
B108: Low | C108: 100 | D108: 100 | E108: 0 | F108: =E108*1000/3600 -> 0 | G108: =($E109-$E107)/2/3.6 -> 0 | H108: =($E109-$E107)/2 -> 0 | I108: =G108*'Input Data'!$B$7 -> 0 | J108: =IF(F108=0,0,'Input Data'!$B$11*'Input Data'!$B$7*9.81) -> 0 | K108: ='Input Data'!$B$10*'Input Data'!$B$9*'Input Data'!$B$13*WLTC_class_3!F108^2 -> 0 | L108: =I108+J108+K108 -> 0 | M108: =L108*F108 -> 0 | N108: =IF(M108>0,M108/1000/3600+N107,N107) -> 0.074358923 | O108: =IF(M108<0,O107-M108/1000/3600,O107) -> 0.046637152 | P108: =IF(M108<0,M108,"") | R108: =O108*0.31 -> 0.014457517 | S108: =O108*0.7 -> 0.032646007 | U108: =IF(E108<1,1,0) -> 1 | V108: =IF(U108=1,"",E108) | W108: =E108/3.6 -> 0
B109: Low | C109: 101 | D109: 101 | E109: 0 | F109: =E109*1000/3600 -> 0 | G109: =($E110-$E108)/2/3.6 -> 0 | H109: =($E110-$E108)/2 -> 0 | I109: =G109*'Input Data'!$B$7 -> 0 | J109: =IF(F109=0,0,'Input Data'!$B$11*'Input Data'!$B$7*9.81) -> 0 | K109: ='Input Data'!$B$10*'Input Data'!$B$9*'Input Data'!$B$13*WLTC_class_3!F109^2 -> 0 | L109: =I109+J109+K109 -> 0 | M109: =L109*F109 -> 0 | N109: =IF(M109>0,M109/1000/3600+N108,N108) -> 0.074358923 | O109: =IF(M109<0,O108-M109/1000/3600,O108) -> 0.046637152 | P109: =IF(M109<0,M109,"") | R109: =O109*0.31 -> 0.014457517 | S109: =O109*0.7 -> 0.032646007 | U109: =IF(E109<1,1,0) -> 1 | V109: =IF(U109=1,"",E109) | W109: =E109/3.6 -> 0
B110: Low | C110: 102 | D110: 102 | E110: 0 | F110: =E110*1000/3600 -> 0 | G110: =($E111-$E109)/2/3.6 -> 0 | H110: =($E111-$E109)/2 -> 0 | I110: =G110*'Input Data'!$B$7 -> 0 | J110: =IF(F110=0,0,'Input Data'!$B$11*'Input Data'!$B$7*9.81) -> 0 | K110: ='Input Data'!$B$10*'Input Data'!$B$9*'Input Data'!$B$13*WLTC_class_3!F110^2 -> 0 | L110: =I110+J110+K110 -> 0 | M110: =L110*F110 -> 0 | N110: =IF(M110>0,M110/1000/3600+N109,N109) -> 0.074358923 | O110: =IF(M110<0,O109-M110/1000/3600,O109) -> 0.046637152 | P110: =IF(M110<0,M110,"") | R110: =O110*0.31 -> 0.014457517 | S110: =O110*0.7 -> 0.032646007 | U110: =IF(E110<1,1,0) -> 1 | V110: =IF(U110=1,"",E110) | W110: =E110/3.6 -> 0
B111: Low | C111: 103 | D111: 103 | E111: 0 | F111: =E111*1000/3600 -> 0 | G111: =($E112-$E110)/2/3.6 -> 0 | H111: =($E112-$E110)/2 -> 0 | I111: =G111*'Input Data'!$B$7 -> 0 | J111: =IF(F111=0,0,'Input Data'!$B$11*'Input Data'!$B$7*9.81) -> 0 | K111: ='Input Data'!$B$10*'Input Data'!$B$9*'Input Data'!$B$13*WLTC_class_3!F111^2 -> 0 | L111: =I111+J111+K111 -> 0 | M111: =L111*F111 -> 0 | N111: =IF(M111>0,M111/1000/3600+N110,N110) -> 0.074358923 | O111: =IF(M111<0,O110-M111/1000/3600,O110) -> 0.046637152 | P111: =IF(M111<0,M111,"") | R111: =O111*0.31 -> 0.014457517 | S111: =O111*0.7 -> 0.032646007 | U111: =IF(E111<1,1,0) -> 1 | V111: =IF(U111=1,"",E111) | W111: =E111/3.6 -> 0
B112: Low | C112: 104 | D112: 104 | E112: 0 | F112: =E112*1000/3600 -> 0 | G112: =($E113-$E111)/2/3.6 -> 0 | H112: =($E113-$E111)/2 -> 0 | I112: =G112*'Input Data'!$B$7 -> 0 | J112: =IF(F112=0,0,'Input Data'!$B$11*'Input Data'!$B$7*9.81) -> 0 | K112: ='Input Data'!$B$10*'Input Data'!$B$9*'Input Data'!$B$13*WLTC_class_3!F112^2 -> 0 | L112: =I112+J112+K112 -> 0 | M112: =L112*F112 -> 0 | N112: =IF(M112>0,M112/1000/3600+N111,N111) -> 0.074358923 | O112: =IF(M112<0,O111-M112/1000/3600,O111) -> 0.046637152 | P112: =IF(M112<0,M112,"") | R112: =O112*0.31 -> 0.014457517 | S112: =O112*0.7 -> 0.032646007 | U112: =IF(E112<1,1,0) -> 1 | V112: =IF(U112=1,"",E112) | W112: =E112/3.6 -> 0
B113: Low | C113: 105 | D113: 105 | E113: 0 | F113: =E113*1000/3600 -> 0 | G113: =($E114-$E112)/2/3.6 -> 0 | H113: =($E114-$E112)/2 -> 0 | I113: =G113*'Input Data'!$B$7 -> 0 | J113: =IF(F113=0,0,'Input Data'!$B$11*'Input Data'!$B$7*9.81) -> 0 | K113: ='Input Data'!$B$10*'Input Data'!$B$9*'Input Data'!$B$13*WLTC_class_3!F113^2 -> 0 | L113: =I113+J113+K113 -> 0 | M113: =L113*F113 -> 0 | N113: =IF(M113>0,M113/1000/3600+N112,N112) -> 0.074358923 | O113: =IF(M113<0,O112-M113/1000/3600,O112) -> 0.046637152 | P113: =IF(M113<0,M113,"") | R113: =O113*0.31 -> 0.014457517 | S113: =O113*0.7 -> 0.032646007 | U113: =IF(E113<1,1,0) -> 1 | V113: =IF(U113=1,"",E113) | W113: =E113/3.6 -> 0
B114: Low | C114: 106 | D114: 106 | E114: 0 | F114: =E114*1000/3600 -> 0 | G114: =($E115-$E113)/2/3.6 -> 0 | H114: =($E115-$E113)/2 -> 0 | I114: =G114*'Input Data'!$B$7 -> 0 | J114: =IF(F114=0,0,'Input Data'!$B$11*'Input Data'!$B$7*9.81) -> 0 | K114: ='Input Data'!$B$10*'Input Data'!$B$9*'Input Data'!$B$13*WLTC_class_3!F114^2 -> 0 | L114: =I114+J114+K114 -> 0 | M114: =L114*F114 -> 0 | N114: =IF(M114>0,M114/1000/3600+N113,N113) -> 0.074358923 | O114: =IF(M114<0,O113-M114/1000/3600,O113) -> 0.046637152 | P114: =IF(M114<0,M114,"") | R114: =O114*0.31 -> 0.014457517 | S114: =O114*0.7 -> 0.032646007 | U114: =IF(E114<1,1,0) -> 1 | V114: =IF(U114=1,"",E114) | W114: =E114/3.6 -> 0
B115: Low | C115: 107 | D115: 107 | E115: 0 | F115: =E115*1000/3600 -> 0 | G115: =($E116-$E114)/2/3.6 -> 0 | H115: =($E116-$E114)/2 -> 0 | I115: =G115*'Input Data'!$B$7 -> 0 | J115: =IF(F115=0,0,'Input Data'!$B$11*'Input Data'!$B$7*9.81) -> 0 | K115: ='Input Data'!$B$10*'Input Data'!$B$9*'Input Data'!$B$13*WLTC_class_3!F115^2 -> 0 | L115: =I115+J115+K115 -> 0 | M115: =L115*F115 -> 0 | N115: =IF(M115>0,M115/1000/3600+N114,N114) -> 0.074358923 | O115: =IF(M115<0,O114-M115/1000/3600,O114) -> 0.046637152 | P115: =IF(M115<0,M115,"") | R115: =O115*0.31 -> 0.014457517 | S115: =O115*0.7 -> 0.032646007 | U115: =IF(E115<1,1,0) -> 1 | V115: =IF(U115=1,"",E115) | W115: =E115/3.6 -> 0
B116: Low | C116: 108 | D116: 108 | E116: 0 | F116: =E116*1000/3600 -> 0 | G116: =($E117-$E115)/2/3.6 -> 0 | H116: =($E117-$E115)/2 -> 0 | I116: =G116*'Input Data'!$B$7 -> 0 | J116: =IF(F116=0,0,'Input Data'!$B$11*'Input Data'!$B$7*9.81) -> 0 | K116: ='Input Data'!$B$10*'Input Data'!$B$9*'Input Data'!$B$13*WLTC_class_3!F116^2 -> 0 | L116: =I116+J116+K116 -> 0 | M116: =L116*F116 -> 0 | N116: =IF(M116>0,M116/1000/3600+N115,N115) -> 0.074358923 | O116: =IF(M116<0,O115-M116/1000/3600,O115) -> 0.046637152 | P116: =IF(M116<0,M116,"") | R116: =O116*0.31 -> 0.014457517 | S116: =O116*0.7 -> 0.032646007 | U116: =IF(E116<1,1,0) -> 1 | V116: =IF(U116=1,"",E116) | W116: =E116/3.6 -> 0
B117: Low | C117: 109 | D117: 109 | E117: 0 | F117: =E117*1000/3600 -> 0 | G117: =($E118-$E116)/2/3.6 -> 0 | H117: =($E118-$E116)/2 -> 0 | I117: =G117*'Input Data'!$B$7 -> 0 | J117: =IF(F117=0,0,'Input Data'!$B$11*'Input Data'!$B$7*9.81) -> 0 | K117: ='Input Data'!$B$10*'Input Data'!$B$9*'Input Data'!$B$13*WLTC_class_3!F117^2 -> 0 | L117: =I117+J117+K117 -> 0 | M117: =L117*F117 -> 0 | N117: =IF(M117>0,M117/1000/3600+N116,N116) -> 0.074358923 | O117: =IF(M117<0,O116-M117/1000/3600,O116) -> 0.046637152 | P117: =IF(M117<0,M117,"") | R117: =O117*0.31 -> 0.014457517 | S117: =O117*0.7 -> 0.032646007 | U117: =IF(E117<1,1,0) -> 1 | V117: =IF(U117=1,"",E117) | W117: =E117/3.6 -> 0
B118: Low | C118: 110 | D118: 110 | E118: 0 | F118: =E118*1000/3600 -> 0 | G118: =($E119-$E117)/2/3.6 -> 0 | H118: =($E119-$E117)/2 -> 0 | I118: =G118*'Input Data'!$B$7 -> 0 | J118: =IF(F118=0,0,'Input Data'!$B$11*'Input Data'!$B$7*9.81) -> 0 | K118: ='Input Data'!$B$10*'Input Data'!$B$9*'Input Data'!$B$13*WLTC_class_3!F118^2 -> 0 | L118: =I118+J118+K118 -> 0 | M118: =L118*F118 -> 0 | N118: =IF(M118>0,M118/1000/3600+N117,N117) -> 0.074358923 | O118: =IF(M118<0,O117-M118/1000/3600,O117) -> 0.046637152 | P118: =IF(M118<0,M118,"") | R118: =O118*0.31 -> 0.014457517 | S118: =O118*0.7 -> 0.032646007 | U118: =IF(E118<1,1,0) -> 1 | V118: =IF(U118=1,"",E118) | W118: =E118/3.6 -> 0
... B158: Low | C158: 150 | D158: 150 | E158: 29.8 | F158: =E158*1000/3600 -> 8.2777778 | G158: =($E159-$E157)/2/3.6 -> 0.027777778 | H158: =($E159-$E157)/2 -> 0.1 | I158: =G158*'Input Data'!$B$7 -> 44.929167 | J158: =IF(F158=0,0,'Input Data'!$B$11*'Input Data'!$B$7*9.81) -> 103.1367 | K158: ='Input Data'!$B$10*'Input Data'!$B$9*'Input Data'!$B$13*WLTC_class_3!F158^2 -> 49.903535 | L158: =I158+J158+K158 -> 197.9694 | M158: =L158*F158 -> 1638.7467 | N158: =IF(M158>0,M158/1000/3600+N157,N157) -> 0.091948978 | O158: =IF(M158<0,O157-M158/1000/3600,O157) -> 0.046637152 | P158: =IF(M158<0,M158,"") | R158: =O158*0.31 -> 0.014457517 | S158: =O158*0.7 -> 0.032646007 | U158: =IF(E158<1,1,0) -> 0 | V158: =IF(U158=1,"",E158) -> 29.8 | W158: =E158/3.6 -> 8.2777778
B159: Low | C159: 151 | D159: 151 | E159: 29.4 | F159: =E159*1000/3600 -> 8.1666667 | G159: =($E160-$E158)/2/3.6 -> -0.36111111 | H159: =($E160-$E158)/2 -> -1.3 | I159: =G159*'Input Data'!$B$7 -> -584.07917 | J159: =IF(F159=0,0,'Input Data'!$B$11*'Input Data'!$B$7*9.81) -> 103.1367 | K159: ='Input Data'!$B$10*'Input Data'!$B$9*'Input Data'!$B$13*WLTC_class_3!F159^2 -> 48.572834 | L159: =I159+J159+K159 -> -432.36963 | M159: =L159*F159 -> -3531.0187 | N159: =IF(M159>0,M159/1000/3600+N158,N158) -> 0.091948978 | O159: =IF(M159<0,O158-M159/1000/3600,O158) -> 0.047617991 | P159: =IF(M159<0,M159,"") -> -3531.0187 | Q159: =-P159/1000/3600 -> 0.00098083852 | R159: =O159*0.31 -> 0.014761577 | S159: =O159*0.7 -> 0.033332594 | U159: =IF(E159<1,1,0) -> 0 | V159: =IF(U159=1,"",E159) -> 29.4 | W159: =E159/3.6 -> 8.1666667
B160: Low | C160: 152 | D160: 152 | E160: 27.2 | F160: =E160*1000/3600 -> 7.5555556 | G160: =($E161-$E159)/2/3.6 -> -0.94444444 | H160: =($E161-$E159)/2 -> -3.4 | I160: =G160*'Input Data'!$B$7 -> -1527.5917 | J160: =IF(F160=0,0,'Input Data'!$B$11*'Input Data'!$B$7*9.81) -> 103.1367 | K160: ='Input Data'!$B$10*'Input Data'!$B$9*'Input Data'!$B$13*WLTC_class_3!F160^2 -> 41.575415 | L160: =I160+J160+K160 -> -1382.8796 | M160: =L160*F160 -> -10448.423 | N160: =IF(M160>0,M160/1000/3600+N159,N159) -> 0.091948978 | O160: =IF(M160<0,O159-M160/1000/3600,O159) -> 0.050520331 | P160: =IF(M160<0,M160,"") -> -10448.423 | Q160: =-P160/1000/3600+Q159 -> 0.0038831783 | R160: =O160*0.31 -> 0.015661303 | S160: =O160*0.7 -> 0.035364232 | U160: =IF(E160<1,1,0) -> 0 | V160: =IF(U160=1,"",E160) -> 27.2 | W160: =E160/3.6 -> 7.5555556
B161: Low | C161: 153 | D161: 153 | E161: 22.6 | F161: =E161*1000/3600 -> 6.2777778 | G161: =($E162-$E160)/2/3.6 -> -1.375 | H161: =($E162-$E160)/2 -> -4.95 | I161: =G161*'Input Data'!$B$7 -> -2223.9937 | J161: =IF(F161=0,0,'Input Data'!$B$11*'Input Data'!$B$7*9.81) -> 103.1367 | K161: ='Input Data'!$B$10*'Input Data'!$B$9*'Input Data'!$B$13*WLTC_class_3!F161^2 -> 28.702231 | L161: =I161+J161+K161 -> -2092.1548 | M161: =L161*F161 -> -13134.083 | N161: =IF(M161>0,M161/1000/3600+N160,N160) -> 0.091948978 | O161: =IF(M161<0,O160-M161/1000/3600,O160) -> 0.054168687 | P161: =IF(M161<0,M161,"") -> -13134.083 | Q161: =-P161/1000/3600+Q160 -> 0.0075315347 | R161: =O161*0.31 -> 0.016792293 | S161: =O161*0.7 -> 0.037918081 | U161: =IF(E161<1,1,0) -> 0 | V161: =IF(U161=1,"",E161) -> 22.6 | W161: =E161/3.6 -> 6.2777778
B162: Low | C162: 154 | D162: 154 | E162: 17.3 | F162: =E162*1000/3600 -> 4.8055556 | G162: =($E163-$E161)/2/3.6 -> -1.2916667 | H162: =($E163-$E161)/2 -> -4.65 | I162: =G162*'Input Data'!$B$7 -> -2089.2063 | J162: =IF(F162=0,0,'Input Data'!$B$11*'Input Data'!$B$7*9.81) -> 103.1367 | K162: ='Input Data'!$B$10*'Input Data'!$B$9*'Input Data'!$B$13*WLTC_class_3!F162^2 -> 16.818644 | L162: =I162+J162+K162 -> -1969.2509 | M162: =L162*F162 -> -9463.3446 | N162: =IF(M162>0,M162/1000/3600+N161,N161) -> 0.091948978 | O162: =IF(M162<0,O161-M162/1000/3600,O161) -> 0.056797394 | P162: =IF(M162<0,M162,"") -> -9463.3446 | Q162: =-P162/1000/3600+Q161 -> 0.010160242 | R162: =O162*0.31 -> 0.017607192 | S162: =O162*0.7 -> 0.039758176 | U162: =IF(E162<1,1,0) -> 0 | V162: =IF(U162=1,"",E162) -> 17.3 | W162: =E162/3.6 -> 4.8055556
B163: Low | C163: 155 | D163: 155 | E163: 13.3 | F163: =E163*1000/3600 -> 3.6944444 | G163: =($E164-$E162)/2/3.6 -> -0.73611111 | H163: =($E164-$E162)/2 -> -2.65 | I163: =G163*'Input Data'!$B$7 -> -1190.6229 | J163: =IF(F163=0,0,'Input Data'!$B$11*'Input Data'!$B$7*9.81) -> 103.1367 | K163: ='Input Data'!$B$10*'Input Data'!$B$9*'Input Data'!$B$13*WLTC_class_3!F163^2 -> 9.9403589 | L163: =I163+J163+K163 -> -1077.5459 | M163: =L163*F163 -> -3980.9333 | N163: =IF(M163>0,M163/1000/3600+N162,N162) -> 0.091948978 | O163: =IF(M163<0,O162-M163/1000/3600,O162) -> 0.057903209 | P163: =IF(M163<0,M163,"") -> -3980.9333 | Q163: =-P163/1000/3600+Q162 -> 0.011266056 | R163: =O163*0.31 -> 0.017949995 | S163: =O163*0.7 -> 0.040532246 | U163: =IF(E163<1,1,0) -> 0 | V163: =IF(U163=1,"",E163) -> 13.3 | W163: =E163/3.6 -> 3.6944444
B164: Low | C164: 156 | D164: 156 | E164: 12 | F164: =E164*1000/3600 -> 3.3333333 | G164: =($E165-$E163)/2/3.6 -> -0.097222222 | H164: =($E165-$E163)/2 -> -0.35 | I164: =G164*'Input Data'!$B$7 -> -157.25208 | J164: =IF(F164=0,0,'Input Data'!$B$11*'Input Data'!$B$7*9.81) -> 103.1367 | K164: ='Input Data'!$B$10*'Input Data'!$B$9*'Input Data'!$B$13*WLTC_class_3!F164^2 -> 8.0921006 | L164: =I164+J164+K164 -> -46.023283 | M164: =L164*F164 -> -153.41094 | N164: =IF(M164>0,M164/1000/3600+N163,N163) -> 0.091948978 | O164: =IF(M164<0,O163-M164/1000/3600,O163) -> 0.057945823 | P164: =IF(M164<0,M164,"") -> -153.41094 | Q164: =-P164/1000/3600+Q163 -> 0.011308671 | R164: =O164*0.31 -> 0.017963205 | S164: =O164*0.7 -> 0.040562076 | U164: =IF(E164<1,1,0) -> 0 | V164: =IF(U164=1,"",E164) -> 12 | W164: =E164/3.6 -> 3.3333333
B165: Low | C165: 157 | D165: 157 | E165: 12.6 | F165: =E165*1000/3600 -> 3.5 | G165: =($E166-$E164)/2/3.6 -> 0.29166667 | H165: =($E166-$E164)/2 -> 1.05 | I165: =G165*'Input Data'!$B$7 -> 471.75625 | J165: =IF(F165=0,0,'Input Data'!$B$11*'Input Data'!$B$7*9.81) -> 103.1367 | K165: ='Input Data'!$B$10*'Input Data'!$B$9*'Input Data'!$B$13*WLTC_class_3!F165^2 -> 8.9215409 | L165: =I165+J165+K165 -> 583.81449 | M165: =L165*F165 -> 2043.3507 | N165: =IF(M165>0,M165/1000/3600+N164,N164) -> 0.092516575 | O165: =IF(M165<0,O164-M165/1000/3600,O164) -> 0.057945823 | P165: =IF(M165<0,M165,"") | R165: =O165*0.31 -> 0.017963205 | S165: =O165*0.7 -> 0.040562076 | U165: =IF(E165<1,1,0) -> 0 | V165: =IF(U165=1,"",E165) -> 12.6 | W165: =E165/3.6 -> 3.5
B166: Low | C166: 158 | D166: 158 | E166: 14.1 | F166: =E166*1000/3600 -> 3.9166667 | G166: =($E167-$E165)/2/3.6 -> 0.63888889 | H166: =($E167-$E165)/2 -> 2.3 | I166: =G166*'Input Data'!$B$7 -> 1033.3708 | J166: =IF(F166=0,0,'Input Data'!$B$11*'Input Data'!$B$7*9.81) -> 103.1367 | K166: ='Input Data'!$B$10*'Input Data'!$B$9*'Input Data'!$B$13*WLTC_class_3!F166^2 -> 11.172156 | L166: =I166+J166+K166 -> 1147.6797 | M166: =L166*F166 -> 4495.0788 | N166: =IF(M166>0,M166/1000/3600+N165,N165) -> 0.093765208 | O166: =IF(M166<0,O165-M166/1000/3600,O165) -> 0.057945823 | P166: =IF(M166<0,M166,"") | R166: =O166*0.31 -> 0.017963205 | S166: =O166*0.7 -> 0.040562076 | U166: =IF(E166<1,1,0) -> 0 | V166: =IF(U166=1,"",E166) -> 14.1 | W166: =E166/3.6 -> 3.9166667
B167: Low | C167: 159 | D167: 159 | E167: 17.2 | F167: =E167*1000/3600 -> 4.7777778 | G167: =($E168-$E166)/2/3.6 -> 0.83333333 | H167: =($E168-$E166)/2 -> 3 | I167: =G167*'Input Data'!$B$7 -> 1347.875 | J167: =IF(F167=0,0,'Input Data'!$B$11*'Input Data'!$B$7*9.81) -> 103.1367 | K167: ='Input Data'!$B$10*'Input Data'!$B$9*'Input Data'!$B$13*WLTC_class_3!F167^2 -> 16.624771 | L167: =I167+J167+K167 -> 1467.6365 | M167: =L167*F167 -> 7012.0409 | N167: =IF(M167>0,M167/1000/3600+N166,N166) -> 0.095712997 | O167: =IF(M167<0,O166-M167/1000/3600,O166) -> 0.057945823 | P167: =IF(M167<0,M167,"") | R167: =O167*0.31 -> 0.017963205 | S167: =O167*0.7 -> 0.040562076 | U167: =IF(E167<1,1,0) -> 0 | V167: =IF(U167=1,"",E167) -> 17.2 | W167: =E167/3.6 -> 4.7777778
B168: Low | C168: 160 | D168: 160 | E168: 20.1 | F168: =E168*1000/3600 -> 5.5833333 | G168: =($E169-$E167)/2/3.6 -> 0.86111111 | H168: =($E169-$E167)/2 -> 3.1 | I168: =G168*'Input Data'!$B$7 -> 1392.8042 | J168: =IF(F168=0,0,'Input Data'!$B$11*'Input Data'!$B$7*9.81) -> 103.1367 | K168: ='Input Data'!$B$10*'Input Data'!$B$9*'Input Data'!$B$13*WLTC_class_3!F168^2 -> 22.7034 | L168: =I168+J168+K168 -> 1518.6443 | M168: =L168*F168 -> 8479.0972 | N168: =IF(M168>0,M168/1000/3600+N167,N167) -> 0.098068302 | O168: =IF(M168<0,O167-M168/1000/3600,O167) -> 0.057945823 | P168: =IF(M168<0,M168,"") | R168: =O168*0.31 -> 0.017963205 | S168: =O168*0.7 -> 0.040562076 | U168: =IF(E168<1,1,0) -> 0 | V168: =IF(U168=1,"",E168) -> 20.1 | W168: =E168/3.6 -> 5.5833333
B169: Low | C169: 161 | D169: 161 | E169: 23.4 | F169: =E169*1000/3600 -> 6.5 | G169: =($E170-$E168)/2/3.6 -> 0.75 | H169: =($E170-$E168)/2 -> 2.7 | I169: =G169*'Input Data'!$B$7 -> 1213.0875 | J169: =IF(F169=0,0,'Input Data'!$B$11*'Input Data'!$B$7*9.81) -> 103.1367 | K169: ='Input Data'!$B$10*'Input Data'!$B$9*'Input Data'!$B$13*WLTC_class_3!F169^2 -> 30.770213 | L169: =I169+J169+K169 -> 1346.9944 | M169: =L169*F169 -> 8755.4637 | N169: =IF(M169>0,M169/1000/3600+N168,N168) -> 0.10050038 | O169: =IF(M169<0,O168-M169/1000/3600,O168) -> 0.057945823 | P169: =IF(M169<0,M169,"") | R169: =O169*0.31 -> 0.017963205 | S169: =O169*0.7 -> 0.040562076 | U169: =IF(E169<1,1,0) -> 0 | V169: =IF(U169=1,"",E169) -> 23.4 | W169: =E169/3.6 -> 6.5
B170: Low | C170: 162 | D170: 162 | E170: 25.5 | F170: =E170*1000/3600 -> 7.0833333 | G170: =($E171-$E169)/2/3.6 -> 0.58333333 | H170: =($E171-$E169)/2 -> 2.1 | I170: =G170*'Input Data'!$B$7 -> 943.5125 | J170: =IF(F170=0,0,'Input Data'!$B$11*'Input Data'!$B$7*9.81) -> 103.1367 | K170: ='Input Data'!$B$10*'Input Data'!$B$9*'Input Data'!$B$13*WLTC_class_3!F170^2 -> 36.540892 | L170: =I170+J170+K170 -> 1083.1901 | M170: =L170*F170 -> 7672.5965 | N170: =IF(M170>0,M170/1000/3600+N169,N169) -> 0.10263165 | O170: =IF(M170<0,O169-M170/1000/3600,O169) -> 0.057945823 | P170: =IF(M170<0,M170,"") | R170: =O170*0.31 -> 0.017963205 | S170: =O170*0.7 -> 0.040562076 | U170: =IF(E170<1,1,0) -> 0 | V170: =IF(U170=1,"",E170) -> 25.5 | W170: =E170/3.6 -> 7.0833333
B171: Low | C171: 163 | D171: 163 | E171: 27.6 | F171: =E171*1000/3600 -> 7.6666667 | G171: =($E172-$E170)/2/3.6 -> 0.55555556 | H171: =($E172-$E170)/2 -> 2 | I171: =G171*'Input Data'!$B$7 -> 898.58333 | J171: =IF(F171=0,0,'Input Data'!$B$11*'Input Data'!$B$7*9.81) -> 103.1367 | K171: ='Input Data'!$B$10*'Input Data'!$B$9*'Input Data'!$B$13*WLTC_class_3!F171^2 -> 42.807212 | L171: =I171+J171+K171 -> 1044.5272 | M171: =L171*F171 -> 8008.0422 | N171: =IF(M171>0,M171/1000/3600+N170,N170) -> 0.10485611 | O171: =IF(M171<0,O170-M171/1000/3600,O170) -> 0.057945823 | P171: =IF(M171<0,M171,"") | R171: =O171*0.31 -> 0.017963205 | S171: =O171*0.7 -> 0.040562076 | U171: =IF(E171<1,1,0) -> 0 | V171: =IF(U171=1,"",E171) -> 27.6 | W171: =E171/3.6 -> 7.6666667
B172: Low | C172: 164 | D172: 164 | E172: 29.5 | F172: =E172*1000/3600 -> 8.1944444 | G172: =($E173-$E171)/2/3.6 -> 0.48611111 | H172: =($E173-$E171)/2 -> 1.75 | I172: =G172*'Input Data'!$B$7 -> 786.26042 | J172: =IF(F172=0,0,'Input Data'!$B$11*'Input Data'!$B$7*9.81) -> 103.1367 | K172: ='Input Data'!$B$10*'Input Data'!$B$9*'Input Data'!$B$13*WLTC_class_3!F172^2 -> 48.903823 | L172: =I172+J172+K172 -> 938.30094 | M172: =L172*F172 -> 7688.8549 | N172: =IF(M172>0,M172/1000/3600+N171,N171) -> 0.1069919 | O172: =IF(M172<0,O171-M172/1000/3600,O171) -> 0.057945823 | P172: =IF(M172<0,M172,"") | R172: =O172*0.31 -> 0.017963205 | S172: =O172*0.7 -> 0.040562076 | U172: =IF(E172<1,1,0) -> 0 | V172: =IF(U172=1,"",E172) -> 29.5 | W172: =E172/3.6 -> 8.1944444
B173: Low | C173: 165 | D173: 165 | E173: 31.1 | F173: =E173*1000/3600 -> 8.6388889 | G173: =($E174-$E172)/2/3.6 -> 0.36111111 | H173: =($E174-$E172)/2 -> 1.3 | I173: =G173*'Input Data'!$B$7 -> 584.07917 | J173: =IF(F173=0,0,'Input Data'!$B$11*'Input Data'!$B$7*9.81) -> 103.1367 | K173: ='Input Data'!$B$10*'Input Data'!$B$9*'Input Data'!$B$13*WLTC_class_3!F173^2 -> 54.352504 | L173: =I173+J173+K173 -> 741.56837 | M173: =L173*F173 -> 6406.3268 | N173: =IF(M173>0,M173/1000/3600+N172,N172) -> 0.10877144 | O173: =IF(M173<0,O172-M173/1000/3600,O172) -> 0.057945823 | P173: =IF(M173<0,M173,"") | R173: =O173*0.31 -> 0.017963205 | S173: =O173*0.7 -> 0.040562076 | U173: =IF(E173<1,1,0) -> 0 | V173: =IF(U173=1,"",E173) -> 31.1 | W173: =E173/3.6 -> 8.6388889
...

Sheet Class 3 - Tractive Forces

Sheet Class 3 - Traction Braking

Sheet Class 3 - KERS in Sections

Sheet Class 3 - KERS Efficiencies

Sheet WLTC_class_1
B2: Class 1 vehicles: | C2: ratio of rated power in W / kerb mass in kg <= 22
B4: For further requirements/recommendations see table "Explanations"
B6: Phase | C6: Total elapsed time | D6: Phase elapsed time | E6: WLTC class 1, version 1.4, vehicle speed | F6: WLTC class 1, version 1.4, acceleration | G6: WLTC class 1, version 1.4, acceleration | I6: duration | J6: stop duration | K6: distance | L6: p_stop | M6: v_max | N6: v_ave without stops | O6: v_ave with stops | P6: a_min | Q6: a_max
C7: s | D7: s | E7: km/h | F7: m/s² | G7: km/h/s | I7: s | J7: s | K7: m | M7: km/h | N7: km/h | O7: km/h | P7: m/s² | Q7: m/s²
B8: Low | C8: 0 | D8: 0 | E8: 0 | F8: =($E9-0)/2/3.6 -> 0 | G8: =($E9-0)/2 -> 0 | H8: low | I8: =COUNT(E9:E597) -> 589 | J8: =SUM(R9:R597) -> 155 | K8: =SUM(T9:T597) -> 3323.7778 | L8: =J8/I8 -> 0.26315789 | M8: =MAX(S9:S597) -> 49.1 | N8: =K8/(I8-J8)*3.6 -> 27.570507 | O8: =K8/I8*3.6 -> 20.31511 | P8: =MIN(F9:F597) -> -1 | Q8: =MAX(F9:F597) -> 0.76388889 | R8: =IF(E8<1,1,0) -> 1 | S8: =IF(R8=1,"",E8) | T8: =E8/3.6 -> 0
B9: Low | C9: 1 | D9: 1 | E9: 0 | F9: =($E10-$E8)/2/3.6 -> 0 | G9: =($E10-$E8)/2 -> 0 | H9: medium | I9: =COUNT(E598:E1030) -> 433 | J9: =SUM(R598:R1030) -> 48 | K9: =SUM(T598:T1030) -> 4767.1389 | L9: =J9/I9 -> 0.1108545 | M9: =MAX(S598:S1030) -> 64.4 | N9: =K9/(I9-J9)*3.6 -> 44.575844 | O9: =K9/I9*3.6 -> 39.634411 | P9: =MIN(F598:F1030) -> -0.56944444 | Q9: =MAX(F598:F1030) -> 0.625 | R9: =IF(E9<1,1,0) -> 1 | S9: =IF(R9=1,"",E9) | T9: =E9/3.6 -> 0
B10: Low | C10: 2 | D10: 2 | E10: 0 | F10: =($E11-$E9)/2/3.6 -> 0 | G10: =($E11-$E9)/2 -> 0 | I10: =SUM(I8:I9) -> 1022 | J10: =SUM(J8:J9) -> 203 | K10: =SUM(K8:K9) -> 8090.9167 | R10: =IF(E10<1,1,0) -> 1 | S10: =IF(R10=1,"",E10) | T10: =E10/3.6 -> 0
B11: Low | C11: 3 | D11: 3 | E11: 0 | F11: =($E12-$E10)/2/3.6 -> 0 | G11: =($E12-$E10)/2 -> 0 | R11: =IF(E11<1,1,0) -> 1 | S11: =IF(R11=1,"",E11) | T11: =E11/3.6 -> 0
B12: Low | C12: 4 | D12: 4 | E12: 0 | F12: =($E13-$E11)/2/3.6 -> 0 | G12: =($E13-$E11)/2 -> 0 | R12: =IF(E12<1,1,0) -> 1 | S12: =IF(R12=1,"",E12) | T12: =E12/3.6 -> 0
B13: Low | C13: 5 | D13: 5 | E13: 0 | F13: =($E14-$E12)/2/3.6 -> 0 | G13: =($E14-$E12)/2 -> 0 | R13: =IF(E13<1,1,0) -> 1 | S13: =IF(R13=1,"",E13) | T13: =E13/3.6 -> 0
B14: Low | C14: 6 | D14: 6 | E14: 0 | F14: =($E15-$E13)/2/3.6 -> 0 | G14: =($E15-$E13)/2 -> 0 | R14: =IF(E14<1,1,0) -> 1 | S14: =IF(R14=1,"",E14) | T14: =E14/3.6 -> 0
B15: Low | C15: 7 | D15: 7 | E15: 0 | F15: =($E16-$E14)/2/3.6 -> 0 | G15: =($E16-$E14)/2 -> 0 | R15: =IF(E15<1,1,0) -> 1 | S15: =IF(R15=1,"",E15) | T15: =E15/3.6 -> 0
B16: Low | C16: 8 | D16: 8 | E16: 0 | F16: =($E17-$E15)/2/3.6 -> 0 | G16: =($E17-$E15)/2 -> 0 | R16: =IF(E16<1,1,0) -> 1 | S16: =IF(R16=1,"",E16) | T16: =E16/3.6 -> 0
B17: Low | C17: 9 | D17: 9 | E17: 0 | F17: =($E18-$E16)/2/3.6 -> 0 | G17: =($E18-$E16)/2 -> 0 | R17: =IF(E17<1,1,0) -> 1 | S17: =IF(R17=1,"",E17) | T17: =E17/3.6 -> 0
B18: Low | C18: 10 | D18: 10 | E18: 0 | F18: =($E19-$E17)/2/3.6 -> 0 | G18: =($E19-$E17)/2 -> 0 | R18: =IF(E18<1,1,0) -> 1 | S18: =IF(R18=1,"",E18) | T18: =E18/3.6 -> 0
B19: Low | C19: 11 | D19: 11 | E19: 0 | F19: =($E20-$E18)/2/3.6 -> 0.027777778 | G19: =($E20-$E18)/2 -> 0.1 | R19: =IF(E19<1,1,0) -> 1 | S19: =IF(R19=1,"",E19) | T19: =E19/3.6 -> 0
B20: Low | C20: 12 | D20: 12 | E20: 0.2 | F20: =($E21-$E19)/2/3.6 -> 0.43055556 | G20: =($E21-$E19)/2 -> 1.55 | R20: =IF(E20<1,1,0) -> 1 | S20: =IF(R20=1,"",E20) | T20: =E20/3.6 -> 0.055555556
B21: Low | C21: 13 | D21: 13 | E21: 3.1 | F21: =($E22-$E20)/2/3.6 -> 0.76388889 | G21: =($E22-$E20)/2 -> 2.75 | R21: =IF(E21<1,1,0) -> 0 | S21: =IF(R21=1,"",E21) -> 3.1 | T21: =E21/3.6 -> 0.86111111
B22: Low | C22: 14 | D22: 14 | E22: 5.7 | F22: =($E23-$E21)/2/3.6 -> 0.68055556 | G22: =($E23-$E21)/2 -> 2.45 | R22: =IF(E22<1,1,0) -> 0 | S22: =IF(R22=1,"",E22) -> 5.7 | T22: =E22/3.6 -> 1.5833333
... B1030: Middle | C1030: 1022 | D1030: 433 | E1030: 0 | F1030: =($E1031-$E1029)/2/3.6 -> 0 | G1030: =($E1031-$E1029)/2 -> 0 | R1030: =IF(E1030<1,1,0) -> 1 | S1030: =IF(R1030=1,"",E1030) | T1030: =E1030/3.6 -> 0

Sheet WLTC_class_2
B2: Class 2 vehicles: | C2: 22 < ratio of rated power in W / kerb mass in kg <= 34
B4: For further requirements/recommendations see table "Explanations"
B6: Phase | C6: Total elapsed time | D6: Phase elapsed time | E6: WLTC class 2, version 1.4, vehicle speed | F6: WLTC class 2, version 1.4, acceleration | G6: WLTC class 2, version 1.4, acceleration | I6: duration | J6: stop duration | K6: distance | L6: p_stop | M6: v_max | N6: v_ave without stops | O6: v_ave with stops | P6: a_min | Q6: a_max
B7: Phase | C7: s | D7: s | E7: km/h | F7: m/s² | G7: km/h/s | I7: s | J7: s | K7: m | M7: km/h | N7: km/h | O7: km/h | P7: m/s² | Q7: m/s²
B8: Low | C8: 0 | D8: 0 | E8: 0 | F8: =($E9-0)/2/3.6 -> 0 | G8: =($E9-0)/2 -> 0 | H8: low | I8: =COUNT(E9:E597) -> 589 | J8: =SUM(R9:R597) -> 155 | K8: =SUM(T9:T597) -> 3131.9722 | L8: =J8/I8 -> 0.26315789 | M8: =MAX(S9:S597) -> 51.4 | N8: =K8/(I8-J8)*3.6 -> 25.979493 | O8: =K8/I8*3.6 -> 19.142784 | P8: =MIN(F9:F597) -> -1.0694444 | Q8: =MAX(F9:F597) -> 0.91666667 | R8: =IF(E8<1,1,0) -> 1 | S8: =IF(R8=1,"",E8) | T8: =E8/3.6 -> 0
B9: Low | C9: 1 | D9: 1 | E9: 0 | F9: =($E10-$E8)/2/3.6 -> 0 | G9: =($E10-$E8)/2 -> 0 | H9: medium | I9: =COUNT(E598:E1030) -> 433 | J9: =SUM(R598:R1030) -> 48 | K9: =SUM(T598:T1030) -> 4711.8889 | L9: =J9/I9 -> 0.1108545 | M9: =MAX(S598:S1030) -> 74.7 | N9: =K9/(I9-J9)*3.6 -> 44.059221 | O9: =K9/I9*3.6 -> 39.175058 | P9: =MIN(F598:F1030) -> -0.98611111 | Q9: =MAX(F598:F1030) -> 0.95833333 | R9: =IF(E9<1,1,0) -> 1 | S9: =IF(R9=1,"",E9) | T9: =E9/3.6 -> 0
B10: Low | C10: 2 | D10: 2 | E10: 0 | F10: =($E11-$E9)/2/3.6 -> 0 | G10: =($E11-$E9)/2 -> 0 | H10: high | I10: =COUNT(E1031:E1485) -> 455 | J10: =SUM(R1031:R1485) -> 30 | K10: =SUM(T1031:T1485) -> 6820.3333 | L10: =J10/I10 -> 0.065934066 | M10: =MAX(S1031:S1485) -> 85.2 | N10: =K10/(I10-J10)*3.6 -> 57.772235 | O10: =K10/I10*3.6 -> 53.963077 | P10: =MIN(F1031:F1485) -> -1.1111111 | Q10: =MAX(F1031:F1485) -> 0.84722222 | R10: =IF(E10<1,1,0) -> 1 | S10: =IF(R10=1,"",E10) | T10: =E10/3.6 -> 0
B11: Low | C11: 3 | D11: 3 | E11: 0 | F11: =($E12-$E10)/2/3.6 -> 0 | G11: =($E12-$E10)/2 -> 0 | I11: =SUM(I8:I10) -> 1477 | J11: =SUM(J8:J10) -> 233 | K11: =SUM(K8:K10) -> 14664.194 | R11: =IF(E11<1,1,0) -> 1 | S11: =IF(R11=1,"",E11) | T11: =E11/3.6 -> 0
B12: Low | C12: 4 | D12: 4 | E12: 0 | F12: =($E13-$E11)/2/3.6 -> 0 | G12: =($E13-$E11)/2 -> 0 | R12: =IF(E12<1,1,0) -> 1 | S12: =IF(R12=1,"",E12) | T12: =E12/3.6 -> 0
B13: Low | C13: 5 | D13: 5 | E13: 0 | F13: =($E14-$E12)/2/3.6 -> 0 | G13: =($E14-$E12)/2 -> 0 | R13: =IF(E13<1,1,0) -> 1 | S13: =IF(R13=1,"",E13) | T13: =E13/3.6 -> 0
B14: Low | C14: 6 | D14: 6 | E14: 0 | F14: =($E15-$E13)/2/3.6 -> 0 | G14: =($E15-$E13)/2 -> 0 | R14: =IF(E14<1,1,0) -> 1 | S14: =IF(R14=1,"",E14) | T14: =E14/3.6 -> 0
B15: Low | C15: 7 | D15: 7 | E15: 0 | F15: =($E16-$E14)/2/3.6 -> 0 | G15: =($E16-$E14)/2 -> 0 | R15: =IF(E15<1,1,0) -> 1 | S15: =IF(R15=1,"",E15) | T15: =E15/3.6 -> 0
B16: Low | C16: 8 | D16: 8 | E16: 0 | F16: =($E17-$E15)/2/3.6 -> 0 | G16: =($E17-$E15)/2 -> 0 | R16: =IF(E16<1,1,0) -> 1 | S16: =IF(R16=1,"",E16) | T16: =E16/3.6 -> 0
B17: Low | C17: 9 | D17: 9 | E17: 0 | F17: =($E18-$E16)/2/3.6 -> 0 | G17: =($E18-$E16)/2 -> 0 | R17: =IF(E17<1,1,0) -> 1 | S17: =IF(R17=1,"",E17) | T17: =E17/3.6 -> 0
B18: Low | C18: 10 | D18: 10 | E18: 0 | F18: =($E19-$E17)/2/3.6 -> 0 | G18: =($E19-$E17)/2 -> 0 | R18: =IF(E18<1,1,0) -> 1 | S18: =IF(R18=1,"",E18) | T18: =E18/3.6 -> 0
B19: Low | C19: 11 | D19: 11 | E19: 0 | F19: =($E20-$E18)/2/3.6 -> 0 | G19: =($E20-$E18)/2 -> 0 | R19: =IF(E19<1,1,0) -> 1 | S19: =IF(R19=1,"",E19) | T19: =E19/3.6 -> 0
B20: Low | C20: 12 | D20: 12 | E20: 0 | F20: =($E21-$E19)/2/3.6 -> 0.16666667 | G20: =($E21-$E19)/2 -> 0.6 | R20: =IF(E20<1,1,0) -> 1 | S20: =IF(R20=1,"",E20) | T20: =E20/3.6 -> 0
B21: Low | C21: 13 | D21: 13 | E21: 1.2 | F21: =($E22-$E20)/2/3.6 -> 0.36111111 | G21: =($E22-$E20)/2 -> 1.3 | R21: =IF(E21<1,1,0) -> 0 | S21: =IF(R21=1,"",E21) -> 1.2 | T21: =E21/3.6 -> 0.33333333
B22: Low | C22: 14 | D22: 14 | E22: 2.6 | F22: =($E23-$E21)/2/3.6 -> 0.51388889 | G22: =($E23-$E21)/2 -> 1.85 | R22: =IF(E22<1,1,0) -> 0 | S22: =IF(R22=1,"",E22) -> 2.6 | T22: =E22/3.6 -> 0.72222222
B23: Low | C23: 15 | D23: 15 | E23: 4.9 | F23: =($E24-$E22)/2/3.6 -> 0.65277778 | G23: =($E24-$E22)/2 -> 2.35 | R23: =IF(E23<1,1,0) -> 0 | S23: =IF(R23=1,"",E23) -> 4.9 | T23: =E23/3.6 -> 1.3611111
... B1485: High | C1485: 1477 | D1485: 455 | E1485: 0 | F1485: =($E1486-$E1484)/2/3.6 -> 0 | G1485: =($E1486-$E1484)/2 -> 0 | R1485: =IF(E1485<1,1,0) -> 1 | S1485: =IF(R1485=1,"",E1485) | T1485: =E1485/3.6 -> 0
R1486: =IF(E1486<1,1,0) -> 1 | S1486: =IF(R1486=1,"",E1486) | T1486: =E1486/3.6 -> 0
R1487: =IF(E1487<1,1,0) -> 1 | S1487: =IF(R1487=1,"",E1487) | T1487: =E1487/3.6 -> 0
R1488: =IF(E1488<1,1,0) -> 1 | S1488: =IF(R1488=1,"",E1488) | T1488: =E1488/3.6 -> 0
R1489: =IF(E1489<1,1,0) -> 1 | S1489: =IF(R1489=1,"",E1489) | T1489: =E1489/3.6 -> 0
R1490: =IF(E1490<1,1,0) -> 1 | S1490: =IF(R1490=1,"",E1490) | T1490: =E1490/3.6 -> 0
R1491: =IF(E1491<1,1,0) -> 1 | S1491: =IF(R1491=1,"",E1491) | T1491: =E1491/3.6 -> 0
R1492: =IF(E1492<1,1,0) -> 1 | S1492: =IF(R1492=1,"",E1492) | T1492: =E1492/3.6 -> 0
R1493: =IF(E1493<1,1,0) -> 1 | S1493: =IF(R1493=1,"",E1493) | T1493: =E1493/3.6 -> 0
R1494: =IF(E1494<1,1,0) -> 1 | S1494: =IF(R1494=1,"",E1494) | T1494: =E1494/3.6 -> 0
R1495: =IF(E1495<1,1,0) -> 1 | S1495: =IF(R1495=1,"",E1495) | T1495: =E1495/3.6 -> 0
R1496: =IF(E1496<1,1,0) -> 1 | S1496: =IF(R1496=1,"",E1496) | T1496: =E1496/3.6 -> 0
R1497: =IF(E1497<1,1,0) -> 1 | S1497: =IF(R1497=1,"",E1497) | T1497: =E1497/3.6 -> 0
... R1808: =IF(E1808<1,1,0) -> 1 | S1808: =IF(R1808=1,"",E1808) | T1808: =E1808/3.6 -> 0

Sheet Tabelle4

Sheet Tabelle5

Sheet Tabelle6

Sheet Tabelle7

Sheet Tabelle8

Sheet Tabelle9

Sheet Tabelle10

Sheet Tabelle11

Sheet Tabelle12

Sheet Tabelle13

Sheet Tabelle14

Sheet Tabelle15
