Workbook

Sheet Specification & Data
A1: ACEA7007-Hybrid Powertrain and Control
A2: Series Hybrid Vehicle(CW1)
A4: Technical Data
A6: Regened Data/ Test Specification | D6: Gear | E6: Input | F6: Output | G6: Gear Ratio | H6: Overall Ratio | I6: Top Speed(m/s) | J6: Top Speed (km/h)
A7: Maximum Engine Speed (RPM) | B7: 6500 | D7: 1st | E7: 11 | F7: 29 | G7: =F7/E7 -> 2.6363636 | H7: =G11*G10*G7 -> 22.729221 | I7: =2*3.14*B$13*B$7/(H7*60*1000) -> 7.6027537 | J7: =3.6*I7 -> 27.369913
A8: Maximum Engine Torque (Nm) | B8: 22 | D8: 2nd | E8: 15 | F8: 29 | G8: =F8/E8 -> 1.9333333 | H8: =G11*G10*G8 -> 16.668095 | I8: =2*3.14*B$13*B$7/(H8*60*1000) -> 10.367391 | J8: =3.6*I8 -> 37.322609
A9: Maximum Power Develop by Engine (W) | B9: =B8*2*3.14*B7/60 -> 14967.333 | D9: 3rd | E9: 21 | F9: 31 | G9: =F9/E9 -> 1.4761905 | H9: =G11*G10*G9 -> 12.726871 | I9: =2*3.14*B$13*B$7/(H9*60*1000) -> 13.577938 | J9: =3.6*I9 -> 48.880578
A10: Maximum Power Developed by Engine (HP) | B10: =B9/746 -> 20.06345 | D10: Final Drive | E10: 15 | F10: 51 | G10: =F10/E10 -> 3.4
A11: Effective Frontal Area (m2) | B11: 1.151 | D11: Primary Drive | E11: 28 | F11: 71 | G11: =F11/E11 -> 2.5357143
A12: Front Wheel Radius (mm) | B12: 304.8
A13: Rear Wheel Radius (mm) | B13: 254 | D13: Rolling Resistance | E13: Terrain AB (Sand) (N) | F13: Terrain BC (Asphalt) (N) | G13: Terrain CD (Asphalt) (N) | H13: Terrain DE (Asphalt) (N) | I13: Terrain EF (Gravel) (N)
A14: Front Wheel Radius (m) | B14: =B12/1000 -> 0.3048 | D14: Gear 1 | E14: =B$26*B$19*9.81 -> 409.43801 | F14: =B$24*B$19*9.81 -> 102.3595 | G14: =B$24*B$19*9.81 -> 102.3595 | H14: =B$24*B$19*9.81 -> 102.3595 | I14: =B$25*B$19*9.81 -> 102.3595
A15: Rear Wheel Radius (m) | B15: =B13/1000 -> 0.254 | D15: Gear 2 | E15: =B$26*B$19*9.81 -> 409.43801 | F15: =B$24*B$19*9.81 -> 102.3595 | G15: =B$24*B$19*9.81 -> 102.3595 | H15: =B$24*B$19*9.81 -> 102.3595 | I15: =B$25*B$19*9.81 -> 102.3595
A16: Driver + Passenger Weight (kg) | B16: 144 | D16: Gear 3 | E16: =B$26*B$19*9.81 -> 409.43801 | F16: =B$24*B$19*9.81 -> 102.3595 | G16: =B$24*B$19*9.81 -> 102.3595 | H16: =B$24*B$19*9.81 -> 102.3595 | I16: =B$25*B$19*9.81 -> 102.3595
A17: Fuel + Oil Weight (kg) | B17: 16.11
A18: Kerb Weight (kg) | B18: 345 | D18: Aerodynamic Resistance | E18: Terrain AB (N) | F18: Terrain BC (N) | G18: Terrain CD (N) Wind in vehicles direction | H18: Terrain DE (N) | I18: Terrain EF (N) Wind in opposite
A19: Total Weight (kg) | B19: =B18+B17+B16+B50 -> 521.71 | D19: Gear 1 | E19: =(B$21*B$23*B$11*(I7)^2)/2 -> 27.174156 | F19: =(B$21*B$23*B$11*(I7)^2)/2 -> 27.174156 | G19: =(B$21*B$23*B$11*(I7+B$22)^2)/2 -> 45.453208 | H19: =(B$21*B$23*B$11*(I7)^2)/2 -> 27.174156 | I19: =(B$23*B$21*B$11*(I7-B$22)^2)/2 -> 13.570882
D20: Gear 2 | E20: =(B$21*B$23*B$11*(I8)^2)/2 -> 50.530455 | F20: =(B$21*B$23*B$11*(I8)^2)/2 -> 50.530455 | G20: =(B$21*B$23*B$11*(I8+B$22)^2)/2 -> 74.606294 | H20: =(B$21*B$23*B$11*(I8)^2)/2 -> 50.530455 | I20: =(B$23*B$21*B$11*(I8-B$22)^2)/2 -> 31.130395
A21: Drag Coefficient | B21: 0.7 | D21: Gear 3 | E21: =(B$21*B$23*B$11*(I9)^2)/2 -> 86.672613 | F21: =(B$21*B$23*B$11*(I9)^2)/2 -> 86.672613 | G21: =(B$21*B$23*B$11*(I9+B$22)^2)/2 -> 117.4802 | H21: =(B$21*B$23*B$11*(I9)^2)/2 -> 86.672613 | I21: =(B$23*B$21*B$11*(I9-B$22)^2)/2 -> 60.540801
A22: Wind Speed (m/s) | B22: 2.23
A23: Air Density (kg/m3) | B23: 1.167 | D23: Gradient Resistance | E23: Terrain AB (N) Up to hill | F23: Terrain BC (N) | G23: Terrain CD (N) | H23: Terrain DE (N) | I23: Terrain EF (N) Down to hill
A24: Rolling Coefficient (μR) Asphalt | B24: 0.02 | D24: Gear 1 | E24: =B$19*9.81*B$28 -> 178.61733 | F24: 0 | G24: 0 | H24: 0 | I24: =-B$19*9.81*B$28 -> -178.61733
A25: Rolling Coefficient (μR) Gravel | B25: 0.02 | D25: Gear 2 | E25: =B$19*9.81*B$28 -> 178.61733 | F25: 0 | G25: 0 | H25: 0 | I25: =-B$19*9.81*B$28 -> -178.61733
A26: Rolling Coefficient (μR) Sand | B26: 0.08 | D26: Gear 3 | E26: =B$19*9.81*B$28 -> 178.61733 | F26: 0 | G26: 0 | H26: 0 | I26: =-B$19*9.81*B$28 -> -178.61733
A27: Gradient Angle | B27: 2°
A28: Sin(2°) | B28: 0.0349 | D28: Net Resistance | E28: Terrain AB | F28: Terrain BC | G28: Terrain CD | H28: Terrain DE | I28: Terrain EF
D29: Gear 1 | E29: =E14+E24 -> 588.05534 | F29: =F14 -> 102.3595 | G29: =F14+G19 -> 147.81271 | H29: =F14 -> 102.3595 | I29: =I14+I19+I24 -> -62.686947
A30: Wheelbase (mm) | B30: 1940 | D30: Gear 2 | E30: =E15+E25 -> 588.05534 | F30: =F15 -> 102.3595 | G30: =F15+G20 -> 176.9658 | H30: =F15 -> 102.3595 | I30: =I15+I20+I25 -> -45.127434
A31: Height of COG from Ground (mm) | B31: 488 | D31: Gear 3 | E31: =E16+E26 -> 588.05534 | F31: =F16 -> 102.3595 | G31: =F16+G21 -> 219.83971 | H31: =F16 -> 102.3595 | I31: =I16+I21+I26 -> -15.717028
A32: Distance of COG from Front Wheel Center (mm) | B32: 1070
A33: Distance of COG from Rear Wheel Center (mm) | B33: 870 | E33: Inertia (kgm2) | F33: Transmission Ratio | G33: Velocity Ratio | H33: Crankshaft Velocity Ratio | I33: Gearbox Velocity Ratio
A34: Angle of Buggy Lifted (Degree) | B34: 18 | D34: Front Wheel | E34: =B53 -> 1.2491743 | G34: =1/B14 -> 3.2808399
A35: Angle of Buggy Lifted (Radians) | B35: 0.314159 | D35: Rear Wheel | E35: =B54 -> 0.86748214 | G35: =1/B15 -> 3.9370079
A36: tan(18°) | B36: 0.32491 | D36: Crankshaft | E36: 0.06 | F36: 2.536
A37: Load on Rear Wheel (kg) | B37: 207 | D37: GearBox Output Shaft | E37: 0.02 | F37: 3.4 | G37: =G35*Table14[[#This Row],[Column3]] -> 13.385827
A38: Load on Rear Wheel while Lifted (kg) | B38: 193 | D38: Gearbox Input Shaft(Gear1) | E38: 0.05 | F38: 2.636 | G38: =G35*F37*Table14[[#This Row],[Column3]] -> 35.285039 | H38: =Table14[[#This Row],[Column3]]*F37*F36*G35 -> 89.48286 | I38: =F37*G7*G35 -> 35.289907
A39: YCOG | B39: =B37*B30/B19 -> 769.73798 | D39: Gearbox Input Shaft(Gear2) | E39: 0.05 | F39: 1.933 | G39: =G35*Table14[[#This Row],[Column3]]*F37 -> 25.874803 | H39: =Table14[[#This Row],[Column3]]*F37*F36*G35 -> 65.618501 | I39: =G8*F37*G35 -> 25.879265
A40: XCOG | B40: =((B37-B38)*B30)/(B18*B36)+279.4 -> 521.69675 | D40: Gearbox Input Shaft(Gear3) | E40: 0.05 | F40: 1.476 | G40: =Table14[[#This Row],[Column3]]*F37*G35 -> 19.75748 | H40: =Table14[[#This Row],[Column3]]*F37*F36*G35 -> 50.10497 | I40: =G9*F37*G35 -> 19.76003
A42: Fastest Velocity in 10m (m/s)
A43: Speed 6500 RPM (1st) | B43: 7.6027537
...

Sheet Acceleration & Deceleration
B1: Acceleration & Deceleration
B3: RPM | C3: Power (W) | D3: Power (HP) | E3: Torque (Nm) | F3: Velocity (km/hr) in G1 | G3: Velocity (km/hr) in G2 | H3: Velocity (km/hr) in G3 | I3: Driving Force (N) in G1 | J3: Driving Force (N) in G2 | K3: Driving Force (N) in G3 | L3: Acceleraion (m/s2) in G1 | M3: Acceleraion (m/s2) in G2 | N3: Acceleraion (m/s2) in G3 | O3: Acceleration Force (N) in G1 | P3: Acceleration Force (N) in G2 | Q3: Acceleration Force (N) in G3
B4: 1000 | C4: 507 | D4: =Table15[[#This Row],[Column2]]/746 -> 0.67962466 | E4: =60*C4/(2*3.14*B4) -> 4.843949 | F4: =3.6*2*3.14*'Specification & Data'!B$15*B4/('Specification & Data'!H$7*60) -> 4.2107559 | G4: =3.6*2*3.14*'Specification & Data'!B$15*B4/('Specification & Data'!H$8*60) -> 5.7419398 | H4: =3.6*2*3.14*'Specification & Data'!B$15*B4/('Specification & Data'!H$9*60) -> 7.5200889 | I4: =3.6*C4/F4 -> 433.46137 | J4: =3.6*C4/G4 -> 317.87167 | K4: =3.6*C4/H4 -> 242.7099 | L4: =I4/'Specification & Data'!B$56 -> 0.72996843 | M4: =J4/'Specification & Data'!B$57 -> 0.54305191 | N4: =K4/'Specification & Data'!B$58 -> 0.41757544 | O4: ='Specification & Data'!B$19*L4 -> 380.83183 | P4: ='Specification & Data'!B$19*M4 -> 283.31561 | Q4: ='Specification & Data'!B$19*N4 -> 217.85328
B5: =B4+500 -> 1500 | C5: 1163 | D5: =Table15[[#This Row],[Column2]]/746 -> 1.5589812 | E5: =60*C5/(2*3.14*B5) -> 7.4076433 | F5: =3.6*2*3.14*'Specification & Data'!B$15*B5/('Specification & Data'!H$7*60) -> 6.3161338 | G5: =3.6*2*3.14*'Specification & Data'!B$15*B5/('Specification & Data'!H$8*60) -> 8.6129098 | H5: =3.6*2*3.14*'Specification & Data'!B$15*B5/('Specification & Data'!H$9*60) -> 11.280133 | I5: =3.6*C5/F5 -> 662.87386 | J5: =3.6*C5/G5 -> 486.1075 | K5: =3.6*C5/H5 -> 371.16582 | L5: =I5/'Specification & Data'!B$56 -> 1.1163094 | M5: =J5/'Specification & Data'!B$57 -> 0.83046597 | N5: =K5/'Specification & Data'!B$58 -> 0.63858019 | O5: ='Specification & Data'!B$19*L5 -> 582.38977 | P5: ='Specification & Data'!B$19*M5 -> 433.2624 | Q5: ='Specification & Data'!B$19*N5 -> 333.15367
B6: =B5+500 -> 2000 | C6: 2431 | D6: =Table15[[#This Row],[Column2]]/746 -> 3.2587131 | E6: =60*C6/(2*3.14*B6) -> 11.613057 | F6: =3.6*2*3.14*'Specification & Data'!B$15*B6/('Specification & Data'!H$7*60) -> 8.4215118 | G6: =3.6*2*3.14*'Specification & Data'!B$15*B6/('Specification & Data'!H$8*60) -> 11.48388 | H6: =3.6*2*3.14*'Specification & Data'!B$15*B6/('Specification & Data'!H$9*60) -> 15.040178 | I6: =3.6*C6/F6 -> 1039.1958 | J6: =3.6*C6/G6 -> 762.07695 | K6: =3.6*C6/H6 -> 581.88142 | L6: =I6/'Specification & Data'!B$56 -> 1.7500525 | M6: =J6/'Specification & Data'!B$57 -> 1.3019321 | N6: =K6/'Specification & Data'!B$58 -> 1.0011103 | O6: ='Specification & Data'!B$19*L6 -> 913.0199 | P6: ='Specification & Data'!B$19*M6 -> 679.23102 | Q6: ='Specification & Data'!B$19*N6 -> 522.28928
B7: =B6+500 -> 2500 | C7: 3909 | D7: =Table15[[#This Row],[Column2]]/746 -> 5.2399464 | E7: =60*C7/(2*3.14*B7) -> 14.938854 | F7: =3.6*2*3.14*'Specification & Data'!B$15*B7/('Specification & Data'!H$7*60) -> 10.52689 | G7: =3.6*2*3.14*'Specification & Data'!B$15*B7/('Specification & Data'!H$8*60) -> 14.35485 | H7: =3.6*2*3.14*'Specification & Data'!B$15*B7/('Specification & Data'!H$9*60) -> 18.800222 | I7: =3.6*C7/F7 -> 1336.8051 | J7: =3.6*C7/G7 -> 980.32375 | K7: =3.6*C7/H7 -> 748.52306 | L7: =I7/'Specification & Data'!B$56 -> 2.2512399 | M7: =J7/'Specification & Data'!B$57 -> 1.6747849 | N7: =K7/'Specification & Data'!B$58 -> 1.2878125 | O7: ='Specification & Data'!B$19*L7 -> 1174.4944 | P7: ='Specification & Data'!B$19*M7 -> 873.75205 | Q7: ='Specification & Data'!B$19*N7 -> 671.86468
B8: =B7+500 -> 3000 | C8: 5348 | D8: =Table15[[#This Row],[Column2]]/746 -> 7.1689008 | E8: =60*C8/(2*3.14*B8) -> 17.031847 | F8: =3.6*2*3.14*'Specification & Data'!B$15*B8/('Specification & Data'!H$7*60) -> 12.632268 | G8: =3.6*2*3.14*'Specification & Data'!B$15*B8/('Specification & Data'!H$8*60) -> 17.22582 | H8: =3.6*2*3.14*'Specification & Data'!B$15*B8/('Specification & Data'!H$9*60) -> 22.560267 | I8: =3.6*C8/F8 -> 1524.0969 | J8: =3.6*C8/G8 -> 1117.6711 | K8: =3.6*C8/H8 -> 853.39416 | L8: =I8/'Specification & Data'!B$56 -> 2.5666477 | M8: =J8/'Specification & Data'!B$57 -> 1.9094291 | N8: =K8/'Specification & Data'!B$58 -> 1.4682403 | O8: ='Specification & Data'!B$19*L8 -> 1339.0458 | P8: ='Specification & Data'!B$19*M8 -> 996.16824 | Q8: ='Specification & Data'!B$19*N8 -> 765.99563
B9: =B8+500 -> 3500 | C9: 6878 | D9: =Table15[[#This Row],[Column2]]/746 -> 9.2198391 | E9: =60*C9/(2*3.14*B9) -> 18.77525 | F9: =3.6*2*3.14*'Specification & Data'!B$15*B9/('Specification & Data'!H$7*60) -> 14.737646 | G9: =3.6*2*3.14*'Specification & Data'!B$15*B9/('Specification & Data'!H$8*60) -> 20.096789 | H9: =3.6*2*3.14*'Specification & Data'!B$15*B9/('Specification & Data'!H$9*60) -> 26.320311 | I9: =3.6*C9/F9 -> 1680.1055 | J9: =3.6*C9/G9 -> 1232.0774 | K9: =3.6*C9/H9 -> 940.74875 | L9: =I9/'Specification & Data'!B$56 -> 2.8293733 | M9: =J9/'Specification & Data'!B$57 -> 2.1048808 | N9: =K9/'Specification & Data'!B$58 -> 1.6185313 | O9: ='Specification & Data'!B$19*L9 -> 1476.1123 | P9: ='Specification & Data'!B$19*M9 -> 1098.1374 | Q9: ='Specification & Data'!B$19*N9 -> 844.40399
B10: =B9+500 -> 4000 | C10: 8101 | D10: =Table15[[#This Row],[Column2]]/746 -> 10.859249 | E10: =60*C10/(2*3.14*B10) -> 19.349522 | F10: =3.6*2*3.14*'Specification & Data'!B$15*B10/('Specification & Data'!H$7*60) -> 16.843024 | G10: =3.6*2*3.14*'Specification & Data'!B$15*B10/('Specification & Data'!H$8*60) -> 22.967759 | H10: =3.6*2*3.14*'Specification & Data'!B$15*B10/('Specification & Data'!H$9*60) -> 30.080356 | I10: =3.6*C10/F10 -> 1731.4943 | J10: =3.6*C10/G10 -> 1269.7625 | K10: =3.6*C10/H10 -> 969.52311 | L10: =I10/'Specification & Data'!B$56 -> 2.9159143 | M10: =J10/'Specification & Data'!B$57 -> 2.1692621 | N10: =K10/'Specification & Data'!B$58 -> 1.6680368 | O10: ='Specification & Data'!B$19*L10 -> 1521.2617 | P10: ='Specification & Data'!B$19*M10 -> 1131.7257 | Q10: ='Specification & Data'!B$19*N10 -> 870.23148
B11: =B10+500 -> 4500 | C11: 10302 | D11: =Table15[[#This Row],[Column2]]/746 -> 13.809651 | E11: =60*C11/(2*3.14*B11) -> 21.872611 | F11: =3.6*2*3.14*'Specification & Data'!B$15*B11/('Specification & Data'!H$7*60) -> 18.948401 | G11: =3.6*2*3.14*'Specification & Data'!B$15*B11/('Specification & Data'!H$8*60) -> 25.838729 | H11: =3.6*2*3.14*'Specification & Data'!B$15*B11/('Specification & Data'!H$9*60) -> 33.8404 | I11: =3.6*C11/F11 -> 1957.2733 | J11: =3.6*C11/G11 -> 1435.3337 | K11: =3.6*C11/H11 -> 1095.9445 | L11: =I11/'Specification & Data'!B$56 -> 3.2961362 | M11: =J11/'Specification & Data'!B$57 -> 2.4521239 | N11: =K11/'Specification & Data'!B$58 -> 1.8855412 | O11: ='Specification & Data'!B$19*L11 -> 1719.6272 | P11: ='Specification & Data'!B$19*M11 -> 1279.2976 | Q11: ='Specification & Data'!B$19*N11 -> 983.70568
B12: =B11+500 -> 5000 | C12: 11383 | D12: =Table15[[#This Row],[Column2]]/746 -> 15.258713 | E12: =60*C12/(2*3.14*B12) -> 21.750955 | F12: =3.6*2*3.14*'Specification & Data'!B$15*B12/('Specification & Data'!H$7*60) -> 21.053779 | G12: =3.6*2*3.14*'Specification & Data'!B$15*B12/('Specification & Data'!H$8*60) -> 28.709699 | H12: =3.6*2*3.14*'Specification & Data'!B$15*B12/('Specification & Data'!H$9*60) -> 37.600445 | I12: =3.6*C12/F12 -> 1946.3869 | J12: =3.6*C12/G12 -> 1427.3504 | K12: =3.6*C12/H12 -> 1089.8488 | L12: =I12/'Specification & Data'!B$56 -> 3.277803 | M12: =J12/'Specification & Data'!B$57 -> 2.4384852 | N12: =K12/'Specification & Data'!B$58 -> 1.8750537 | O12: ='Specification & Data'!B$19*L12 -> 1710.0626 | P12: ='Specification & Data'!B$19*M12 -> 1272.1821 | Q12: ='Specification & Data'!B$19*N12 -> 978.23429
B13: =B12+500 -> 5500 | C13: 12637 | D13: =Table15[[#This Row],[Column2]]/746 -> 16.939678 | E13: =60*C13/(2*3.14*B13) -> 21.95194 | F13: =3.6*2*3.14*'Specification & Data'!B$15*B13/('Specification & Data'!H$7*60) -> 23.159157 | G13: =3.6*2*3.14*'Specification & Data'!B$15*B13/('Specification & Data'!H$8*60) -> 31.580669 | H13: =3.6*2*3.14*'Specification & Data'!B$15*B13/('Specification & Data'!H$9*60) -> 41.360489 | I13: =3.6*C13/F13 -> 1964.372 | J13: =3.6*C13/G13 -> 1440.5395 | K13: =3.6*C13/H13 -> 1099.9193 | L13: =I13/'Specification & Data'!B$56 -> 3.3080907 | M13: =J13/'Specification & Data'!B$57 -> 2.4610174 | N13: =K13/'Specification & Data'!B$58 -> 1.8923797 | O13: ='Specification & Data'!B$19*L13 -> 1725.864 | P13: ='Specification & Data'!B$19*M13 -> 1283.9374 | Q13: ='Specification & Data'!B$19*N13 -> 987.27342
B14: =B13+500 -> 6000 | C14: 13025 | D14: =Table15[[#This Row],[Column2]]/746 -> 17.459786 | E14: =60*C14/(2*3.14*B14) -> 20.740446 | F14: =3.6*2*3.14*'Specification & Data'!B$15*B14/('Specification & Data'!H$7*60) -> 25.264535 | G14: =3.6*2*3.14*'Specification & Data'!B$15*B14/('Specification & Data'!H$8*60) -> 34.451639 | H14: =3.6*2*3.14*'Specification & Data'!B$15*B14/('Specification & Data'!H$9*60) -> 45.120534 | I14: =3.6*C14/F14 -> 1855.9613 | J14: =3.6*C14/G14 -> 1361.0383 | K14: =3.6*C14/H14 -> 1039.2164 | L14: =I14/'Specification & Data'!B$56 -> 3.1255223 | M14: =J14/'Specification & Data'!B$57 -> 2.3251976 | N14: =K14/'Specification & Data'!B$58 -> 1.7879422 | O14: ='Specification & Data'!B$19*L14 -> 1630.6162 | P14: ='Specification & Data'!B$19*M14 -> 1213.0788 | Q14: ='Specification & Data'!B$19*N14 -> 932.78731
B15: =B14+500 -> 6500 | C15: 13428 | D15: =Table15[[#This Row],[Column2]]/746 -> 18 | E15: =60*C15/(2*3.14*B15) -> 19.737384 | F15: =3.6*2*3.14*'Specification & Data'!B$15*B15/('Specification & Data'!H$7*60) -> 27.369913 | G15: =3.6*2*3.14*'Specification & Data'!B$15*B15/('Specification & Data'!H$8*60) -> 37.322609 | H15: =3.6*2*3.14*'Specification & Data'!B$15*B15/('Specification & Data'!H$9*60) -> 48.880578 | I15: =3.6*C15/F15 -> 1766.2022 | J15: =3.6*C15/G15 -> 1295.2149 | K15: =3.6*C15/H15 -> 988.95721 | L15: =I15/'Specification & Data'!B$56 -> 2.9743639 | M15: =J15/'Specification & Data'!B$57 -> 2.212745 | N15: =K15/'Specification & Data'!B$58 -> 1.7014726 | O15: ='Specification & Data'!B$19*L15 -> 1551.7554 | P15: ='Specification & Data'!B$19*M15 -> 1154.4112 | Q15: ='Specification & Data'!B$19*N15 -> 887.67528
C17: Wheelie Limited Acceleration | F17: Traction Limited Acceleration in Terrain AB | I17: Traction Limited Acceleration in Terrain BC | L17: Traction Limited Acceleration in Terrain CD | O17: Traction Limited Acceleration in Terrain DE | R17: Traction Limited Acceleration in Terrain EF
B18: RPM | C18: Gear 1 | D18: Gear 2 | E18: Gear 3 | F18: Gear 1 | G18: Gear 2 | H18: Gear 3 | I18: Gear 1 | J18: Gear 2 | K18: Gear 3 | L18: Gear 1 | M18: Gear 2 | N18: Gear 3 | O18: Gear 1 | P18: Gear 2 | Q18: Gear 3 | R18: Gear 1 | S18: Gear 2 | T18: Gear 3
B19: 1000 | C19: =(('Specification & Data'!B$19/'Specification & Data'!B$56)*9.81*('Specification & Data'!B$40/'Specification & Data'!B$39))-('Aerodynamic Resistance'!C6/'Specification & Data'!B$56) -> 5.840453 | D19: =(('Specification & Data'!B$19/'Specification & Data'!B$56)*9.81*('Specification & Data'!B$40/'Specification & Data'!B$39))-('Aerodynamic Resistance'!D6/'Specification & Data'!B$56) -> 5.8395221 | E19: =(('Specification & Data'!B$19/'Specification & Data'!B$56)*9.81*('Specification & Data'!B$40/'Specification & Data'!B$39))-('Aerodynamic Resistance'!E6/'Specification & Data'!B$56) -> 5.8380815 | F19: ='Net Resistive Force'!C24-('Specification & Data'!B$26*9.81*'Specification & Data'!B$19/'Specification & Data'!B$56*(('Specification & Data'!B$32-('Specification & Data'!B$26*'Specification & Data'!B$39))/'Specification & Data'!B$30)/(1-('Specification & Data'!B$26*'Specification & Data'!B$39/'Specification & Data'!B$30))) -> 0.75824072 | G19: ='Net Resistive Force'!D24-('Specification & Data'!B$26*9.81*'Specification & Data'!B$19/'Specification & Data'!B$56*(('Specification & Data'!B$32-('Specification & Data'!B$26*'Specification & Data'!B$39))/'Specification & Data'!B$30)/(1-('Specification & Data'!B$26*'Specification & Data'!B$39/'Specification & Data'!B$30))) -> 0.75930034 | H19: ='Net Resistive Force'!E24-('Specification & Data'!B$26*9.81*'Specification & Data'!B$19/'Specification & Data'!B$56*(('Specification & Data'!B$32-('Specification & Data'!B$26*'Specification & Data'!B$39))/'Specification & Data'!B$30)/(1-('Specification & Data'!B$26*'Specification & Data'!B$39/'Specification & Data'!B$30))) -> 0.76094001 | I19: =('Specification & Data'!B$26*9.81*'Specification & Data'!B$19/'Specification & Data'!B$56*(('Specification & Data'!B$32-('Specification & Data'!B$26*'Specification & Data'!B$39))/'Specification & Data'!B$30)/(1-('Specification & Data'!B$26*'Specification & Data'!B$39/'Specification & Data'!B$30)))-'Net Resistive Force'!F24 -> 0.17272828 | J19: =('Specification & Data'!B$26*9.81*'Specification & Data'!B$19/'Specification & Data'!B$56*(('Specification & Data'!B$32-('Specification & Data'!B$26*'Specification & Data'!B$39))/'Specification & Data'!B$30)/(1-('Specification & Data'!B$26*'Specification & Data'!B$39/'Specification & Data'!B$30)))-'Net Resistive Force'!G24 -> 0.17166866 | K19: =('Specification & Data'!B$26*9.81*'Specification & Data'!B$19/'Specification & Data'!B$56*(('Specification & Data'!B$32-('Specification & Data'!B$26*'Specification & Data'!B$39))/'Specification & Data'!B$30)/(1-('Specification & Data'!B$26*'Specification & Data'!B$39/'Specification & Data'!B$30)))-'Net Resistive Force'!H24 -> 0.17002899 | L19: =('Specification & Data'!B$26*9.81*'Specification & Data'!B$19/'Specification & Data'!B$56*(('Specification & Data'!B$32-('Specification & Data'!B$26*'Specification & Data'!B$39))/'Specification & Data'!B$30)/(1-('Specification & Data'!B$26*'Specification & Data'!B$39/'Specification & Data'!B$30)))-'Net Resistive Force'!I24 -> 0.16354621 | M19: =('Specification & Data'!B$26*9.81*'Specification & Data'!B$19/'Specification & Data'!B$56*(('Specification & Data'!B$32-('Specification & Data'!B$26*'Specification & Data'!B$39))/'Specification & Data'!B$30)/(1-('Specification & Data'!B$26*'Specification & Data'!B$39/'Specification & Data'!B$30)))-'Net Resistive Force'!J24 -> 0.16077719 | N19: =('Specification & Data'!B$26*9.81*'Specification & Data'!B$19/'Specification & Data'!B$56*(('Specification & Data'!B$32-('Specification & Data'!B$26*'Specification & Data'!B$39))/'Specification & Data'!B$30)/(1-('Specification & Data'!B$26*'Specification & Data'!B$39/'Specification & Data'!B$30)))-'Net Resistive Force'!K24 -> 0.1571524 | O19: =('Specification & Data'!B$26*9.81*'Specification & Data'!B$19/'Specification & Data'!B$56*(('Specification & Data'!B$32-('Specification & Data'!B$26*'Specification & Data'!B$39))/'Specification & Data'!B$30)/(1-('Specification & Data'!B$26*'Specification & Data'!B$39/'Specification & Data'!B$30)))-'Net Resistive Force'!L24 -> 0.17272828 | P19: =('Specification & Data'!B$26*9.81*'Specification & Data'!B$19/'Specification & Data'!B$56*(('Specification & Data'!B$32-('Specification & Data'!B$26*'Specification & Data'!B$39))/'Specification & Data'!B$30)/(1-('Specification & Data'!B$26*'Specification & Data'!B$39/'Specification & Data'!B$30)))-'Net Resistive Force'!M24 -> 0.17166866 | Q19: =('Specification & Data'!B$26*9.81*'Specification & Data'!B$19/'Specification & Data'!B$56*(('Specification & Data'!B$32-('Specification & Data'!B$26*'Specification & Data'!B$39))/'Specification & Data'!B$30)/(1-('Specification & Data'!B$26*'Specification & Data'!B$39/'Specification & Data'!B$30)))-'Net Resistive Force'!N24 -> 0.17002899 | R19: =('Specification & Data'!B$26*9.81*'Specification & Data'!B$19/'Specification & Data'!B$56*(('Specification & Data'!B$32-('Specification & Data'!B$26*'Specification & Data'!B$39))/'Specification & Data'!B$30)/(1-('Specification & Data'!B$26*'Specification & Data'!B$39/'Specification & Data'!B$30)))-'Net Resistive Force'!O24 -> 0.51531693 | S19: =('Specification & Data'!B$26*9.81*'Specification & Data'!B$19/'Specification & Data'!B$56*(('Specification & Data'!B$32-('Specification & Data'!B$26*'Specification & Data'!B$39))/'Specification & Data'!B$30)/(1-('Specification & Data'!B$26*'Specification & Data'!B$39/'Specification & Data'!B$30)))-'Net Resistive Force'!P24 -> 0.51596672 | T19: =('Specification & Data'!B$26*9.81*'Specification & Data'!B$19/'Specification & Data'!B$56*(('Specification & Data'!B$32-('Specification & Data'!B$26*'Specification & Data'!B$39))/'Specification & Data'!B$30)/(1-('Specification & Data'!B$26*'Specification & Data'!B$39/'Specification & Data'!B$30)))-'Net Resistive Force'!Q24 -> 0.51631216
B20: =B19+500 -> 1500 | C20: =(('Specification & Data'!B$19/'Specification & Data'!B$56)*9.81*('Specification & Data'!B$40/'Specification & Data'!B$39))-('Aerodynamic Resistance'!C7/'Specification & Data'!B$56) -> 5.8390991 | D20: =(('Specification & Data'!B$19/'Specification & Data'!B$56)*9.81*('Specification & Data'!B$40/'Specification & Data'!B$39))-('Aerodynamic Resistance'!D7/'Specification & Data'!B$56) -> 5.8370044 | E20: =(('Specification & Data'!B$19/'Specification & Data'!B$56)*9.81*('Specification & Data'!B$40/'Specification & Data'!B$39))-('Aerodynamic Resistance'!E7/'Specification & Data'!B$56) -> 5.8337631 | F20: ='Net Resistive Force'!C25-('Specification & Data'!B$26*9.81*'Specification & Data'!B$19/'Specification & Data'!B$56*(('Specification & Data'!B$32-('Specification & Data'!B$26*'Specification & Data'!B$39))/'Specification & Data'!B$30)/(1-('Specification & Data'!B$26*'Specification & Data'!B$39/'Specification & Data'!B$30))) -> 0.75978175 | G20: ='Net Resistive Force'!D25-('Specification & Data'!B$26*9.81*'Specification & Data'!B$19/'Specification & Data'!B$56*(('Specification & Data'!B$32-('Specification & Data'!B$26*'Specification & Data'!B$39))/'Specification & Data'!B$30)/(1-('Specification & Data'!B$26*'Specification & Data'!B$39/'Specification & Data'!B$30))) -> 0.76216588 | H20: ='Net Resistive Force'!E25-('Specification & Data'!B$26*9.81*'Specification & Data'!B$19/'Specification & Data'!B$56*(('Specification & Data'!B$32-('Specification & Data'!B$26*'Specification & Data'!B$39))/'Specification & Data'!B$30)/(1-('Specification & Data'!B$26*'Specification & Data'!B$39/'Specification & Data'!B$30))) -> 0.76585516 | I20: =('Specification & Data'!B$26*9.81*'Specification & Data'!B$19/'Specification & Data'!B$56*(('Specification & Data'!B$32-('Specification & Data'!B$26*'Specification & Data'!B$39))/'Specification & Data'!B$30)/(1-('Specification & Data'!B$26*'Specification & Data'!B$39/'Specification & Data'!B$30)))-'Net Resistive Force'!F25 -> 0.17118725 | J20: =('Specification & Data'!B$26*9.81*'Specification & Data'!B$19/'Specification & Data'!B$56*(('Specification & Data'!B$32-('Specification & Data'!B$26*'Specification & Data'!B$39))/'Specification & Data'!B$30)/(1-('Specification & Data'!B$26*'Specification & Data'!B$39/'Specification & Data'!B$30)))-'Net Resistive Force'!G25 -> 0.16880312 | K20: =('Specification & Data'!B$26*9.81*'Specification & Data'!B$19/'Specification & Data'!B$56*(('Specification & Data'!B$32-('Specification & Data'!B$26*'Specification & Data'!B$39))/'Specification & Data'!B$30)/(1-('Specification & Data'!B$26*'Specification & Data'!B$39/'Specification & Data'!B$30)))-'Net Resistive Force'!H25 -> 0.16511384 | L20: =('Specification & Data'!B$26*9.81*'Specification & Data'!B$19/'Specification & Data'!B$56*(('Specification & Data'!B$32-('Specification & Data'!B$26*'Specification & Data'!B$39))/'Specification & Data'!B$30)/(1-('Specification & Data'!B$26*'Specification & Data'!B$39/'Specification & Data'!B$30)))-'Net Resistive Force'!I25 -> 0.15965475 | M20: =('Specification & Data'!B$26*9.81*'Specification & Data'!B$19/'Specification & Data'!B$56*(('Specification & Data'!B$32-('Specification & Data'!B$26*'Specification & Data'!B$39))/'Specification & Data'!B$30)/(1-('Specification & Data'!B$26*'Specification & Data'!B$39/'Specification & Data'!B$30)))-'Net Resistive Force'!J25 -> 0.15470651 | N20: =('Specification & Data'!B$26*9.81*'Specification & Data'!B$19/'Specification & Data'!B$56*(('Specification & Data'!B$32-('Specification & Data'!B$26*'Specification & Data'!B$39))/'Specification & Data'!B$30)/(1-('Specification & Data'!B$26*'Specification & Data'!B$39/'Specification & Data'!B$30)))-'Net Resistive Force'!K25 -> 0.14803957 | O20: =('Specification & Data'!B$26*9.81*'Specification & Data'!B$19/'Specification & Data'!B$56*(('Specification & Data'!B$32-('Specification & Data'!B$26*'Specification & Data'!B$39))/'Specification & Data'!B$30)/(1-('Specification & Data'!B$26*'Specification & Data'!B$39/'Specification & Data'!B$30)))-'Net Resistive Force'!L25 -> 0.17118725 | P20: =('Specification & Data'!B$26*9.81*'Specification & Data'!B$19/'Specification & Data'!B$56*(('Specification & Data'!B$32-('Specification & Data'!B$26*'Specification & Data'!B$39))/'Specification & Data'!B$30)/(1-('Specification & Data'!B$26*'Specification & Data'!B$39/'Specification & Data'!B$30)))-'Net Resistive Force'!M25 -> 0.16880312 | Q20: =('Specification & Data'!B$26*9.81*'Specification & Data'!B$19/'Specification & Data'!B$56*(('Specification & Data'!B$32-('Specification & Data'!B$26*'Specification & Data'!B$39))/'Specification & Data'!B$30)/(1-('Specification & Data'!B$26*'Specification & Data'!B$39/'Specification & Data'!B$30)))-'Net Resistive Force'!N25 -> 0.16511384 | R20: =('Specification & Data'!B$26*9.81*'Specification & Data'!B$19/'Specification & Data'!B$56*(('Specification & Data'!B$32-('Specification & Data'!B$26*'Specification & Data'!B$39))/'Specification & Data'!B$30)/(1-('Specification & Data'!B$26*'Specification & Data'!B$39/'Specification & Data'!B$30)))-'Net Resistive Force'!O25 -> 0.51612634 | S20: =('Specification & Data'!B$26*9.81*'Specification & Data'!B$19/'Specification & Data'!B$56*(('Specification & Data'!B$32-('Specification & Data'!B$26*'Specification & Data'!B$39))/'Specification & Data'!B$30)/(1-('Specification & Data'!B$26*'Specification & Data'!B$39/'Specification & Data'!B$30)))-'Net Resistive Force'!P25 -> 0.51630631 | T20: =('Specification & Data'!B$26*9.81*'Specification & Data'!B$19/'Specification & Data'!B$56*(('Specification & Data'!B$32-('Specification & Data'!B$26*'Specification & Data'!B$39))/'Specification & Data'!B$30)/(1-('Specification & Data'!B$26*'Specification & Data'!B$39/'Specification & Data'!B$30)))-'Net Resistive Force'!Q25 -> 0.51559471
B21: =B20+500 -> 2000 | C21: =(('Specification & Data'!B$19/'Specification & Data'!B$56)*9.81*('Specification & Data'!B$40/'Specification & Data'!B$39))-('Aerodynamic Resistance'!C8/'Specification & Data'!B$56) -> 5.8372036 | D21: =(('Specification & Data'!B$19/'Specification & Data'!B$56)*9.81*('Specification & Data'!B$40/'Specification & Data'!B$39))-('Aerodynamic Resistance'!D8/'Specification & Data'!B$56) -> 5.8334798 | E21: =(('Specification & Data'!B$19/'Specification & Data'!B$56)*9.81*('Specification & Data'!B$40/'Specification & Data'!B$39))-('Aerodynamic Resistance'!E8/'Specification & Data'!B$56) -> 5.8277174 | F21: ='Net Resistive Force'!C26-('Specification & Data'!B$26*9.81*'Specification & Data'!B$19/'Specification & Data'!B$56*(('Specification & Data'!B$32-('Specification & Data'!B$26*'Specification & Data'!B$39))/'Specification & Data'!B$30)/(1-('Specification & Data'!B$26*'Specification & Data'!B$39/'Specification & Data'!B$30))) -> 0.76193919 | G21: ='Net Resistive Force'!D26-('Specification & Data'!B$26*9.81*'Specification & Data'!B$19/'Specification & Data'!B$56*(('Specification & Data'!B$32-('Specification & Data'!B$26*'Specification & Data'!B$39))/'Specification & Data'!B$30)/(1-('Specification & Data'!B$26*'Specification & Data'!B$39/'Specification & Data'!B$30))) -> 0.76617765 | H21: ='Net Resistive Force'!E26-('Specification & Data'!B$26*9.81*'Specification & Data'!B$19/'Specification & Data'!B$56*(('Specification & Data'!B$32-('Specification & Data'!B$26*'Specification & Data'!B$39))/'Specification & Data'!B$30)/(1-('Specification & Data'!B$26*'Specification & Data'!B$39/'Specification & Data'!B$30))) -> 0.77273635 | I21: =('Specification & Data'!B$26*9.81*'Specification & Data'!B$19/'Specification & Data'!B$56*(('Specification & Data'!B$32-('Specification & Data'!B$26*'Specification & Data'!B$39))/'Specification & Data'!B$30)/(1-('Specification & Data'!B$26*'Specification & Data'!B$39/'Specification & Data'!B$30)))-'Net Resistive Force'!F26 -> 0.16902981 | J21: =('Specification & Data'!B$26*9.81*'Specification & Data'!B$19/'Specification & Data'!B$56*(('Specification & Data'!B$32-('Specification & Data'!B$26*'Specification & Data'!B$39))/'Specification & Data'!B$30)/(1-('Specification & Data'!B$26*'Specification & Data'!B$39/'Specification & Data'!B$30)))-'Net Resistive Force'!G26 -> 0.16479135 | K21: =('Specification & Data'!B$26*9.81*'Specification & Data'!B$19/'Specification & Data'!B$56*(('Specification & Data'!B$32-('Specification & Data'!B$26*'Specification & Data'!B$39))/'Specification & Data'!B$30)/(1-('Specification & Data'!B$26*'Specification & Data'!B$39/'Specification & Data'!B$30)))-'Net Resistive Force'!H26 -> 0.15823265 | L21: =('Specification & Data'!B$26*9.81*'Specification & Data'!B$19/'Specification & Data'!B$56*(('Specification & Data'!B$32-('Specification & Data'!B$26*'Specification & Data'!B$39))/'Specification & Data'!B$30)/(1-('Specification & Data'!B$26*'Specification & Data'!B$39/'Specification & Data'!B$30)))-'Net Resistive Force'!I26 -> 0.15514688 | M21: =('Specification & Data'!B$26*9.81*'Specification & Data'!B$19/'Specification & Data'!B$56*(('Specification & Data'!B$32-('Specification & Data'!B$26*'Specification & Data'!B$39))/'Specification & Data'!B$30)/(1-('Specification & Data'!B$26*'Specification & Data'!B$39/'Specification & Data'!B$30)))-'Net Resistive Force'!J26 -> 0.14748962 | N21: =('Specification & Data'!B$26*9.81*'Specification & Data'!B$19/'Specification & Data'!B$56*(('Specification & Data'!B$32-('Specification & Data'!B$26*'Specification & Data'!B$39))/'Specification & Data'!B$30)/(1-('Specification & Data'!B$26*'Specification & Data'!B$39/'Specification & Data'!B$30)))-'Net Resistive Force'!K26 -> 0.13696068 | O21: =('Specification & Data'!B$26*9.81*'Specification & Data'!B$19/'Specification & Data'!B$56*(('Specification & Data'!B$32-('Specification & Data'!B$26*'Specification & Data'!B$39))/'Specification & Data'!B$30)/(1-('Specification & Data'!B$26*'Specification & Data'!B$39/'Specification & Data'!B$30)))-'Net Resistive Force'!L26 -> 0.16902981 | P21: =('Specification & Data'!B$26*9.81*'Specification & Data'!B$19/'Specification & Data'!B$56*(('Specification & Data'!B$32-('Specification & Data'!B$26*'Specification & Data'!B$39))/'Specification & Data'!B$30)/(1-('Specification & Data'!B$26*'Specification & Data'!B$39/'Specification & Data'!B$30)))-'Net Resistive Force'!M26 -> 0.16479135 | Q21: =('Specification & Data'!B$26*9.81*'Specification & Data'!B$19/'Specification & Data'!B$56*(('Specification & Data'!B$32-('Specification & Data'!B$26*'Specification & Data'!B$39))/'Specification & Data'!B$30)/(1-('Specification & Data'!B$26*'Specification & Data'!B$39/'Specification & Data'!B$30)))-'Net Resistive Force'!N26 -> 0.15823265 | R21: =('Specification & Data'!B$26*9.81*'Specification & Data'!B$19/'Specification & Data'!B$56*(('Specification & Data'!B$32-('Specification & Data'!B$26*'Specification & Data'!B$39))/'Specification & Data'!B$30)/(1-('Specification & Data'!B$26*'Specification & Data'!B$39/'Specification & Data'!B$30)))-'Net Resistive Force'!O26 -> 0.51631933 | S21: =('Specification & Data'!B$26*9.81*'Specification & Data'!B$19/'Specification & Data'!B$56*(('Specification & Data'!B$32-('Specification & Data'!B$26*'Specification & Data'!B$39))/'Specification & Data'!B$30)/(1-('Specification & Data'!B$26*'Specification & Data'!B$39/'Specification & Data'!B$30)))-'Net Resistive Force'!P26 -> 0.51549968 | T21: =('Specification & Data'!B$26*9.81*'Specification & Data'!B$19/'Specification & Data'!B$56*(('Specification & Data'!B$32-('Specification & Data'!B$26*'Specification & Data'!B$39))/'Specification & Data'!B$30)/(1-('Specification & Data'!B$26*'Specification & Data'!B$39/'Specification & Data'!B$30)))-'Net Resistive Force'!Q26 -> 0.5129112
B22: =B21+500 -> 2500 | C22: =(('Specification & Data'!B$19/'Specification & Data'!B$56)*9.81*('Specification & Data'!B$40/'Specification & Data'!B$39))-('Aerodynamic Resistance'!C9/'Specification & Data'!B$56) -> 5.8347665 | D22: =(('Specification & Data'!B$19/'Specification & Data'!B$56)*9.81*('Specification & Data'!B$40/'Specification & Data'!B$39))-('Aerodynamic Resistance'!D9/'Specification & Data'!B$56) -> 5.828948 | E22: =(('Specification & Data'!B$19/'Specification & Data'!B$56)*9.81*('Specification & Data'!B$40/'Specification & Data'!B$39))-('Aerodynamic Resistance'!E9/'Specification & Data'!B$56) -> 5.8199443 | F22: ='Net Resistive Force'!C27-('Specification & Data'!B$26*9.81*'Specification & Data'!B$19/'Specification & Data'!B$56*(('Specification & Data'!B$32-('Specification & Data'!B$26*'Specification & Data'!B$39))/'Specification & Data'!B$30)/(1-('Specification & Data'!B$26*'Specification & Data'!B$39/'Specification & Data'!B$30))) -> 0.76471304 | G22: ='Net Resistive Force'!D27-('Specification & Data'!B$26*9.81*'Specification & Data'!B$19/'Specification & Data'!B$56*(('Specification & Data'!B$32-('Specification & Data'!B$26*'Specification & Data'!B$39))/'Specification & Data'!B$30)/(1-('Specification & Data'!B$26*'Specification & Data'!B$39/'Specification & Data'!B$30))) -> 0.77133563 | H22: ='Net Resistive Force'!E27-('Specification & Data'!B$26*9.81*'Specification & Data'!B$19/'Specification & Data'!B$56*(('Specification & Data'!B$32-('Specification & Data'!B$26*'Specification & Data'!B$39))/'Specification & Data'!B$30)/(1-('Specification & Data'!B$26*'Specification & Data'!B$39/'Specification & Data'!B$30))) -> 0.78158361 | I22: =('Specification & Data'!B$26*9.81*'Specification & Data'!B$19/'Specification & Data'!B$56*(('Specification & Data'!B$32-('Specification & Data'!B$26*'Specification & Data'!B$39))/'Specification & Data'!B$30)/(1-('Specification & Data'!B$26*'Specification & Data'!B$39/'Specification & Data'!B$30)))-'Net Resistive Force'!F27 -> 0.16625596 | J22: =('Specification & Data'!B$26*9.81*'Specification & Data'!B$19/'Specification & Data'!B$56*(('Specification & Data'!B$32-('Specification & Data'!B$26*'Specification & Data'!B$39))/'Specification & Data'!B$30)/(1-('Specification & Data'!B$26*'Specification & Data'!B$39/'Specification & Data'!B$30)))-'Net Resistive Force'!G27 -> 0.15963337 | K22: =('Specification & Data'!B$26*9.81*'Specification & Data'!B$19/'Specification & Data'!B$56*(('Specification & Data'!B$32-('Specification & Data'!B$26*'Specification & Data'!B$39))/'Specification & Data'!B$30)/(1-('Specification & Data'!B$26*'Specification & Data'!B$39/'Specification & Data'!B$30)))-'Net Resistive Force'!H27 -> 0.14938539 | L22: =('Specification & Data'!B$26*9.81*'Specification & Data'!B$19/'Specification & Data'!B$56*(('Specification & Data'!B$32-('Specification & Data'!B$26*'Specification & Data'!B$39))/'Specification & Data'!B$30)/(1-('Specification & Data'!B$26*'Specification & Data'!B$39/'Specification & Data'!B$30)))-'Net Resistive Force'!I27 -> 0.15002261 | M22: =('Specification & Data'!B$26*9.81*'Specification & Data'!B$19/'Specification & Data'!B$56*(('Specification & Data'!B$32-('Specification & Data'!B$26*'Specification & Data'!B$39))/'Specification & Data'!B$30)/(1-('Specification & Data'!B$26*'Specification & Data'!B$39/'Specification & Data'!B$30)))-'Net Resistive Force'!J27 -> 0.1391265 | N22: =('Specification & Data'!B$26*9.81*'Specification & Data'!B$19/'Specification & Data'!B$56*(('Specification & Data'!B$32-('Specification & Data'!B$26*'Specification & Data'!B$39))/'Specification & Data'!B$30)/(1-('Specification & Data'!B$26*'Specification & Data'!B$39/'Specification & Data'!B$30)))-'Net Resistive Force'!K27 -> 0.12391573 | O22: =('Specification & Data'!B$26*9.81*'Specification & Data'!B$19/'Specification & Data'!B$56*(('Specification & Data'!B$32-('Specification & Data'!B$26*'Specification & Data'!B$39))/'Specification & Data'!B$30)/(1-('Specification & Data'!B$26*'Specification & Data'!B$39/'Specification & Data'!B$30)))-'Net Resistive Force'!L27 -> 0.16625596 | P22: =('Specification & Data'!B$26*9.81*'Specification & Data'!B$19/'Specification & Data'!B$56*(('Specification & Data'!B$32-('Specification & Data'!B$26*'Specification & Data'!B$39))/'Specification & Data'!B$30)/(1-('Specification & Data'!B$26*'Specification & Data'!B$39/'Specification & Data'!B$30)))-'Net Resistive Force'!M27 -> 0.15963337 | Q22: =('Specification & Data'!B$26*9.81*'Specification & Data'!B$19/'Specification & Data'!B$56*(('Specification & Data'!B$32-('Specification & Data'!B$26*'Specification & Data'!B$39))/'Specification & Data'!B$30)/(1-('Specification & Data'!B$26*'Specification & Data'!B$39/'Specification & Data'!B$30)))-'Net Resistive Force'!N27 -> 0.14938539 | R22: =('Specification & Data'!B$26*9.81*'Specification & Data'!B$19/'Specification & Data'!B$56*(('Specification & Data'!B$32-('Specification & Data'!B$26*'Specification & Data'!B$39))/'Specification & Data'!B$30)/(1-('Specification & Data'!B$26*'Specification & Data'!B$39/'Specification & Data'!B$30)))-'Net Resistive Force'!O27 -> 0.51589591 | S22: =('Specification & Data'!B$26*9.81*'Specification & Data'!B$19/'Specification & Data'!B$56*(('Specification & Data'!B$32-('Specification & Data'!B$26*'Specification & Data'!B$39))/'Specification & Data'!B$30)/(1-('Specification & Data'!B$26*'Specification & Data'!B$39/'Specification & Data'!B$30)))-'Net Resistive Force'!P27 -> 0.51354683 | T22: =('Specification & Data'!B$26*9.81*'Specification & Data'!B$19/'Specification & Data'!B$56*(('Specification & Data'!B$32-('Specification & Data'!B$26*'Specification & Data'!B$39))/'Specification & Data'!B$30)/(1-('Specification & Data'!B$26*'Specification & Data'!B$39/'Specification & Data'!B$30)))-'Net Resistive Force'!Q27 -> 0.50826164
B23: =B22+500 -> 3000 | C23: =(('Specification & Data'!B$19/'Specification & Data'!B$56)*9.81*('Specification & Data'!B$40/'Specification & Data'!B$39))-('Aerodynamic Resistance'!C10/'Specification & Data'!B$56) -> 5.8317879 | D23: =(('Specification & Data'!B$19/'Specification & Data'!B$56)*9.81*('Specification & Data'!B$40/'Specification & Data'!B$39))-('Aerodynamic Resistance'!D10/'Specification & Data'!B$56) -> 5.8234093 | E23: =(('Specification & Data'!B$19/'Specification & Data'!B$56)*9.81*('Specification & Data'!B$40/'Specification & Data'!B$39))-('Aerodynamic Resistance'!E10/'Specification & Data'!B$56) -> 5.810444 | F23: ='Net Resistive Force'!C28-('Specification & Data'!B$26*9.81*'Specification & Data'!B$19/'Specification & Data'!B$56*(('Specification & Data'!B$32-('Specification & Data'!B$26*'Specification & Data'!B$39))/'Specification & Data'!B$30)/(1-('Specification & Data'!B$26*'Specification & Data'!B$39/'Specification & Data'!B$30))) -> 0.76810329 | G23: ='Net Resistive Force'!D28-('Specification & Data'!B$26*9.81*'Specification & Data'!B$19/'Specification & Data'!B$56*(('Specification & Data'!B$32-('Specification & Data'!B$26*'Specification & Data'!B$39))/'Specification & Data'!B$30)/(1-('Specification & Data'!B$26*'Specification & Data'!B$39/'Specification & Data'!B$30))) -> 0.77763983 | H23: ='Net Resistive Force'!E28-('Specification & Data'!B$26*9.81*'Specification & Data'!B$19/'Specification & Data'!B$56*(('Specification & Data'!B$32-('Specification & Data'!B$26*'Specification & Data'!B$39))/'Specification & Data'!B$30)/(1-('Specification & Data'!B$26*'Specification & Data'!B$39/'Specification & Data'!B$30))) -> 0.79239692 | I23: =('Specification & Data'!B$26*9.81*'Specification & Data'!B$19/'Specification & Data'!B$56*(('Specification & Data'!B$32-('Specification & Data'!B$26*'Specification & Data'!B$39))/'Specification & Data'!B$30)/(1-('Specification & Data'!B$26*'Specification & Data'!B$39/'Specification & Data'!B$30)))-'Net Resistive Force'!F28 -> 0.16286571 | J23: =('Specification & Data'!B$26*9.81*'Specification & Data'!B$19/'Specification & Data'!B$56*(('Specification & Data'!B$32-('Specification & Data'!B$26*'Specification & Data'!B$39))/'Specification & Data'!B$30)/(1-('Specification & Data'!B$26*'Specification & Data'!B$39/'Specification & Data'!B$30)))-'Net Resistive Force'!G28 -> 0.15332917 | K23: =('Specification & Data'!B$26*9.81*'Specification & Data'!B$19/'Specification & Data'!B$56*(('Specification & Data'!B$32-('Specification & Data'!B$26*'Specification & Data'!B$39))/'Specification & Data'!B$30)/(1-('Specification & Data'!B$26*'Specification & Data'!B$39/'Specification & Data'!B$30)))-'Net Resistive Force'!H28 -> 0.13857208 | L23: =('Specification & Data'!B$26*9.81*'Specification & Data'!B$19/'Specification & Data'!B$56*(('Specification & Data'!B$32-('Specification & Data'!B$26*'Specification & Data'!B$39))/'Specification & Data'!B$30)/(1-('Specification & Data'!B$26*'Specification & Data'!B$39/'Specification & Data'!B$30)))-'Net Resistive Force'!I28 -> 0.14428192 | M23: =('Specification & Data'!B$26*9.81*'Specification & Data'!B$19/'Specification & Data'!B$56*(('Specification & Data'!B$32-('Specification & Data'!B$26*'Specification & Data'!B$39))/'Specification & Data'!B$30)/(1-('Specification & Data'!B$26*'Specification & Data'!B$39/'Specification & Data'!B$30)))-'Net Resistive Force'!J28 -> 0.12961717 | N23: =('Specification & Data'!B$26*9.81*'Specification & Data'!B$19/'Specification & Data'!B$56*(('Specification & Data'!B$32-('Specification & Data'!B$26*'Specification & Data'!B$39))/'Specification & Data'!B$30)/(1-('Specification & Data'!B$26*'Specification & Data'!B$39/'Specification & Data'!B$30)))-'Net Resistive Force'!K28 -> 0.10890473 | O23: =('Specification & Data'!B$26*9.81*'Specification & Data'!B$19/'Specification & Data'!B$56*(('Specification & Data'!B$32-('Specification & Data'!B$26*'Specification & Data'!B$39))/'Specification & Data'!B$30)/(1-('Specification & Data'!B$26*'Specification & Data'!B$39/'Specification & Data'!B$30)))-'Net Resistive Force'!L28 -> 0.16286571 | P23: =('Specification & Data'!B$26*9.81*'Specification & Data'!B$19/'Specification & Data'!B$56*(('Specification & Data'!B$32-('Specification & Data'!B$26*'Specification & Data'!B$39))/'Specification & Data'!B$30)/(1-('Specification & Data'!B$26*'Specification & Data'!B$39/'Specification & Data'!B$30)))-'Net Resistive Force'!M28 -> 0.15332917 | Q23: =('Specification & Data'!B$26*9.81*'Specification & Data'!B$19/'Specification & Data'!B$56*(('Specification & Data'!B$32-('Specification & Data'!B$26*'Specification & Data'!B$39))/'Specification & Data'!B$30)/(1-('Specification & Data'!B$26*'Specification & Data'!B$39/'Specification & Data'!B$30)))-'Net Resistive Force'!N28 -> 0.13857208 | R23: =('Specification & Data'!B$26*9.81*'Specification & Data'!B$19/'Specification & Data'!B$56*(('Specification & Data'!B$32-('Specification & Data'!B$26*'Specification & Data'!B$39))/'Specification & Data'!B$30)/(1-('Specification & Data'!B$26*'Specification & Data'!B$39/'Specification & Data'!B$30)))-'Net Resistive Force'!O28 -> 0.51485609 | S23: =('Specification & Data'!B$26*9.81*'Specification & Data'!B$19/'Specification & Data'!B$56*(('Specification & Data'!B$32-('Specification & Data'!B$26*'Specification & Data'!B$39))/'Specification & Data'!B$30)/(1-('Specification & Data'!B$26*'Specification & Data'!B$39/'Specification & Data'!B$30)))-'Net Resistive Force'!P28 -> 0.51044776 | T23: =('Specification & Data'!B$26*9.81*'Specification & Data'!B$19/'Specification & Data'!B$56*(('Specification & Data'!B$32-('Specification & Data'!B$26*'Specification & Data'!B$39))/'Specification & Data'!B$30)/(1-('Specification & Data'!B$26*'Specification & Data'!B$39/'Specification & Data'!B$30)))-'Net Resistive Force'!Q28 -> 0.50164602
B24: =B23+500 -> 3500 | C24: =(('Specification & Data'!B$19/'Specification & Data'!B$56)*9.81*('Specification & Data'!B$40/'Specification & Data'!B$39))-('Aerodynamic Resistance'!C11/'Specification & Data'!B$56) -> 5.8282677 | D24: =(('Specification & Data'!B$19/'Specification & Data'!B$56)*9.81*('Specification & Data'!B$40/'Specification & Data'!B$39))-('Aerodynamic Resistance'!D11/'Specification & Data'!B$56) -> 5.8168635 | E24: =(('Specification & Data'!B$19/'Specification & Data'!B$56)*9.81*('Specification & Data'!B$40/'Specification & Data'!B$39))-('Aerodynamic Resistance'!E11/'Specification & Data'!B$56) -> 5.7992162 | F24: ='Net Resistive Force'!C29-('Specification & Data'!B$26*9.81*'Specification & Data'!B$19/'Specification & Data'!B$56*(('Specification & Data'!B$32-('Specification & Data'!B$26*'Specification & Data'!B$39))/'Specification & Data'!B$30)/(1-('Specification & Data'!B$26*'Specification & Data'!B$39/'Specification & Data'!B$30))) -> 0.77210996 | G24: ='Net Resistive Force'!D29-('Specification & Data'!B$26*9.81*'Specification & Data'!B$19/'Specification & Data'!B$56*(('Specification & Data'!B$32-('Specification & Data'!B$26*'Specification & Data'!B$39))/'Specification & Data'!B$30)/(1-('Specification & Data'!B$26*'Specification & Data'!B$39/'Specification & Data'!B$30))) -> 0.78509025 | H24: ='Net Resistive Force'!E29-('Specification & Data'!B$26*9.81*'Specification & Data'!B$19/'Specification & Data'!B$56*(('Specification & Data'!B$32-('Specification & Data'!B$26*'Specification & Data'!B$39))/'Specification & Data'!B$30)/(1-('Specification & Data'!B$26*'Specification & Data'!B$39/'Specification & Data'!B$30))) -> 0.80517629 | I24: =('Specification & Data'!B$26*9.81*'Specification & Data'!B$19/'Specification & Data'!B$56*(('Specification & Data'!B$32-('Specification & Data'!B$26*'Specification & Data'!B$39))/'Specification & Data'!B$30)/(1-('Specification & Data'!B$26*'Specification & Data'!B$39/'Specification & Data'!B$30)))-'Net Resistive Force'!F29 -> 0.15885904 | J24: =('Specification & Data'!B$26*9.81*'Specification & Data'!B$19/'Specification & Data'!B$56*(('Specification & Data'!B$32-('Specification & Data'!B$26*'Specification & Data'!B$39))/'Specification & Data'!B$30)/(1-('Specification & Data'!B$26*'Specification & Data'!B$39/'Specification & Data'!B$30)))-'Net Resistive Force'!G29 -> 0.14587875 | K24: =('Specification & Data'!B$26*9.81*'Specification & Data'!B$19/'Specification & Data'!B$56*(('Specification & Data'!B$32-('Specification & Data'!B$26*'Specification & Data'!B$39))/'Specification & Data'!B$30)/(1-('Specification & Data'!B$26*'Specification & Data'!B$39/'Specification & Data'!B$30)))-'Net Resistive Force'!H29 -> 0.12579271 | L24: =('Specification & Data'!B$26*9.81*'Specification & Data'!B$19/'Specification & Data'!B$56*(('Specification & Data'!B$32-('Specification & Data'!B$26*'Specification & Data'!B$39))/'Specification & Data'!B$30)/(1-('Specification & Data'!B$26*'Specification & Data'!B$39/'Specification & Data'!B$30)))-'Net Resistive Force'!I29 -> 0.13792481 | M24: =('Specification & Data'!B$26*9.81*'Specification & Data'!B$19/'Specification & Data'!B$56*(('Specification & Data'!B$32-('Specification & Data'!B$26*'Specification & Data'!B$39))/'Specification & Data'!B$30)/(1-('Specification & Data'!B$26*'Specification & Data'!B$39/'Specification & Data'!B$30)))-'Net Resistive Force'!J29 -> 0.11896161 | N24: =('Specification & Data'!B$26*9.81*'Specification & Data'!B$19/'Specification & Data'!B$56*(('Specification & Data'!B$32-('Specification & Data'!B$26*'Specification & Data'!B$39))/'Specification & Data'!B$30)/(1-('Specification & Data'!B$26*'Specification & Data'!B$39/'Specification & Data'!B$30)))-'Net Resistive Force'!K29 -> 0.091927674 | O24: =('Specification & Data'!B$26*9.81*'Specification & Data'!B$19/'Specification & Data'!B$56*(('Specification & Data'!B$32-('Specification & Data'!B$26*'Specification & Data'!B$39))/'Specification & Data'!B$30)/(1-('Specification & Data'!B$26*'Specification & Data'!B$39/'Specification & Data'!B$30)))-'Net Resistive Force'!L29 -> 0.15885904 | P24: =('Specification & Data'!B$26*9.81*'Specification & Data'!B$19/'Specification & Data'!B$56*(('Specification & Data'!B$32-('Specification & Data'!B$26*'Specification & Data'!B$39))/'Specification & Data'!B$30)/(1-('Specification & Data'!B$26*'Specification & Data'!B$39/'Specification & Data'!B$30)))-'Net Resistive Force'!M29 -> 0.14587875 | Q24: =('Specification & Data'!B$26*9.81*'Specification & Data'!B$19/'Specification & Data'!B$56*(('Specification & Data'!B$32-('Specification & Data'!B$26*'Specification & Data'!B$39))/'Specification & Data'!B$30)/(1-('Specification & Data'!B$26*'Specification & Data'!B$39/'Specification & Data'!B$30)))-'Net Resistive Force'!N29 -> 0.12579271 | R24: =('Specification & Data'!B$26*9.81*'Specification & Data'!B$19/'Specification & Data'!B$56*(('Specification & Data'!B$32-('Specification & Data'!B$26*'Specification & Data'!B$39))/'Specification & Data'!B$30)/(1-('Specification & Data'!B$26*'Specification & Data'!B$39/'Specification & Data'!B$30)))-'Net Resistive Force'!O29 -> 0.51319985 | S24: =('Specification & Data'!B$26*9.81*'Specification & Data'!B$19/'Specification & Data'!B$56*(('Specification & Data'!B$32-('Specification & Data'!B$26*'Specification & Data'!B$39))/'Specification & Data'!B$30)/(1-('Specification & Data'!B$26*'Specification & Data'!B$39/'Specification & Data'!B$30)))-'Net Resistive Force'!P29 -> 0.50620248 | T24: =('Specification & Data'!B$26*9.81*'Specification & Data'!B$19/'Specification & Data'!B$56*(('Specification & Data'!B$32-('Specification & Data'!B$26*'Specification & Data'!B$39))/'Specification & Data'!B$30)/(1-('Specification & Data'!B$26*'Specification & Data'!B$39/'Specification & Data'!B$30)))-'Net Resistive Force'!Q29 -> 0.49306434
B25: =B24+500 -> 4000 | C25: =(('Specification & Data'!B$19/'Specification & Data'!B$56)*9.81*('Specification & Data'!B$40/'Specification & Data'!B$39))-('Aerodynamic Resistance'!C12/'Specification & Data'!B$56) -> 5.824206 | D25: =(('Specification & Data'!B$19/'Specification & Data'!B$56)*9.81*('Specification & Data'!B$40/'Specification & Data'!B$39))-('Aerodynamic Resistance'!D12/'Specification & Data'!B$56) -> 5.8093106 | E25: =(('Specification & Data'!B$19/'Specification & Data'!B$56)*9.81*('Specification & Data'!B$40/'Specification & Data'!B$39))-('Aerodynamic Resistance'!E12/'Specification & Data'!B$56) -> 5.7862611 | F25: ='Net Resistive Force'!C30-('Specification & Data'!B$26*9.81*'Specification & Data'!B$19/'Specification & Data'!B$56*(('Specification & Data'!B$32-('Specification & Data'!B$26*'Specification & Data'!B$39))/'Specification & Data'!B$30)/(1-('Specification & Data'!B$26*'Specification & Data'!B$39/'Specification & Data'!B$30))) -> 0.77673304 | G25: ='Net Resistive Force'!D30-('Specification & Data'!B$26*9.81*'Specification & Data'!B$19/'Specification & Data'!B$56*(('Specification & Data'!B$32-('Specification & Data'!B$26*'Specification & Data'!B$39))/'Specification & Data'!B$30)/(1-('Specification & Data'!B$26*'Specification & Data'!B$39/'Specification & Data'!B$30))) -> 0.79368689 | H25: ='Net Resistive Force'!E30-('Specification & Data'!B$26*9.81*'Specification & Data'!B$19/'Specification & Data'!B$56*(('Specification & Data'!B$32-('Specification & Data'!B$26*'Specification & Data'!B$39))/'Specification & Data'!B$30)/(1-('Specification & Data'!B$26*'Specification & Data'!B$39/'Specification & Data'!B$30))) -> 0.81992171 | I25: =('Specification & Data'!B$26*9.81*'Specification & Data'!B$19/'Specification & Data'!B$56*(('Specification & Data'!B$32-('Specification & Data'!B$26*'Specification & Data'!B$39))/'Specification & Data'!B$30)/(1-('Specification & Data'!B$26*'Specification & Data'!B$39/'Specification & Data'!B$30)))-'Net Resistive Force'!F30 -> 0.15423596 | J25: =('Specification & Data'!B$26*9.81*'Specification & Data'!B$19/'Specification & Data'!B$56*(('Specification & Data'!B$32-('Specification & Data'!B$26*'Specification & Data'!B$39))/'Specification & Data'!B$30)/(1-('Specification & Data'!B$26*'Specification & Data'!B$39/'Specification & Data'!B$30)))-'Net Resistive Force'!G30 -> 0.13728211 | K25: =('Specification & Data'!B$26*9.81*'Specification & Data'!B$19/'Specification & Data'!B$56*(('Specification & Data'!B$32-('Specification & Data'!B$26*'Specification & Data'!B$39))/'Specification & Data'!B$30)/(1-('Specification & Data'!B$26*'Specification & Data'!B$39/'Specification & Data'!B$30)))-'Net Resistive Force'!H30 -> 0.11104729 | L25: =('Specification & Data'!B$26*9.81*'Specification & Data'!B$19/'Specification & Data'!B$56*(('Specification & Data'!B$32-('Specification & Data'!B$26*'Specification & Data'!B$39))/'Specification & Data'!B$30)/(1-('Specification & Data'!B$26*'Specification & Data'!B$39/'Specification & Data'!B$30)))-'Net Resistive Force'!I30 -> 0.1309513 | M25: =('Specification & Data'!B$26*9.81*'Specification & Data'!B$19/'Specification & Data'!B$56*(('Specification & Data'!B$32-('Specification & Data'!B$26*'Specification & Data'!B$39))/'Specification & Data'!B$30)/(1-('Specification & Data'!B$26*'Specification & Data'!B$39/'Specification & Data'!B$30)))-'Net Resistive Force'!J30 -> 0.10715984 | N25: =('Specification & Data'!B$26*9.81*'Specification & Data'!B$19/'Specification & Data'!B$56*(('Specification & Data'!B$32-('Specification & Data'!B$26*'Specification & Data'!B$39))/'Specification & Data'!B$30)/(1-('Specification & Data'!B$26*'Specification & Data'!B$39/'Specification & Data'!B$30)))-'Net Resistive Force'!K30 -> 0.072984559 | O25: =('Specification & Data'!B$26*9.81*'Specification & Data'!B$19/'Specification & Data'!B$56*(('Specification & Data'!B$32-('Specification & Data'!B$26*'Specification & Data'!B$39))/'Specification & Data'!B$30)/(1-('Specification & Data'!B$26*'Specification & Data'!B$39/'Specification & Data'!B$30)))-'Net Resistive Force'!L30 -> 0.15423596 | P25: =('Specification & Data'!B$26*9.81*'Specification & Data'!B$19/'Specification & Data'!B$56*(('Specification & Data'!B$32-('Specification & Data'!B$26*'Specification & Data'!B$39))/'Specification & Data'!B$30)/(1-('Specification & Data'!B$26*'Specification & Data'!B$39/'Specification & Data'!B$30)))-'Net Resistive Force'!M30 -> 0.13728211 | Q25: =('Specification & Data'!B$26*9.81*'Specification & Data'!B$19/'Specification & Data'!B$56*(('Specification & Data'!B$32-('Specification & Data'!B$26*'Specification & Data'!B$39))/'Specification & Data'!B$30)/(1-('Specification & Data'!B$26*'Specification & Data'!B$39/'Specification & Data'!B$30)))-'Net Resistive Force'!N30 -> 0.11104729 | R25: =('Specification & Data'!B$26*9.81*'Specification & Data'!B$19/'Specification & Data'!B$56*(('Specification & Data'!B$32-('Specification & Data'!B$26*'Specification & Data'!B$39))/'Specification & Data'!B$30)/(1-('Specification & Data'!B$26*'Specification & Data'!B$39/'Specification & Data'!B$30)))-'Net Resistive Force'!O30 -> 0.5109272 | S25: =('Specification & Data'!B$26*9.81*'Specification & Data'!B$19/'Specification & Data'!B$56*(('Specification & Data'!B$32-('Specification & Data'!B$26*'Specification & Data'!B$39))/'Specification & Data'!B$30)/(1-('Specification & Data'!B$26*'Specification & Data'!B$39/'Specification & Data'!B$30)))-'Net Resistive Force'!P30 -> 0.50081097 | T25: =('Specification & Data'!B$26*9.81*'Specification & Data'!B$19/'Specification & Data'!B$56*(('Specification & Data'!B$32-('Specification & Data'!B$26*'Specification & Data'!B$39))/'Specification & Data'!B$30)/(1-('Specification & Data'!B$26*'Specification & Data'!B$39/'Specification & Data'!B$30)))-'Net Resistive Force'!Q30 -> 0.48251661
