Workbook

Sheet Specification & Data
A1: ACEA7007-Hybrid Powertrain and Control
A2: Series Hybrid Vehicle(CW1)
A4: Technical Data
A6: Regened Data/ Test Specification | D6: Gear | E6: Input | F6: Output | G6: Gear Ratio | H6: Overall Ratio | I6: Top Speed(m/s) | J6: Top Speed (km/h)
A7: Maximum Engine Speed (RPM) | B7: 6500 | D7: 1st | E7: 11 | F7: 29 | G7: =F7/E7 -> 2.6363636 | H7: =G11*G10*G7 -> 22.729221 | I7: =2*3.14*B$13*B$7/(H7*60*1000) -> 7.6027537 | J7: =3.6*I7 -> 27.369913
A8: Maximum Engine Torque (Nm) | B8: 22 | D8: 2nd | E8: 15 | F8: 29 | G8: =F8/E8 -> 1.9333333 | H8: =G11*G10*G8 -> 16.668095 | I8: =2*3.14*B$13*B$7/(H8*60*1000) -> 10.367391 | J8: =3.6*I8 -> 37.322609
A9: Maximum Power Develop by Engine (W) | B9: =B8*2*3.14*B7/60 -> 14967.333 | D9: 3rd | E9: 21 | F9: 31 | G9: =F9/E9 -> 1.4761905 | H9: =G11*G10*G9 -> 12.726871 | I9: =2*3.14*B$13*B$7/(H9*60*1000) -> 13.577938 | J9: =3.6*I9 -> 48.880578
A10: Maximum Power Developed by Engine (HP) | B10: =B9/746 -> 20.06345 | D10: Final Drive | E10: 15 | F10: 51 | G10: =F10/E10 -> 3.4
A11: Effective Frontal Area (m2) | B11: 1.151 | D11: Primary Drive | E11: 28 | F11: 71 | G11: =F11/E11 -> 2.5357143
A12: Front Wheel Radius (mm) | B12: 304.8
A13: Rear Wheel Radius (mm) | B13: 254 | D13: Rolling Resistance | E13: Terrain AB (Sand) (N) | F13: Terrain BC (Asphalt) (N) | G13: Terrain CD (Asphalt) (N) | H13: Terrain DE (Asphalt) (N) | I13: Terrain EF (Gravel) (N)
A14: Front Wheel Radius (m) | B14: =B12/1000 -> 0.3048 | D14: Gear 1 | E14: =B$26*B$19*9.81 -> 409.43801 | F14: =B$24*B$19*9.81 -> 102.3595 | G14: =B$24*B$19*9.81 -> 102.3595 | H14: =B$24*B$19*9.81 -> 102.3595 | I14: =B$25*B$19*9.81 -> 102.3595
A15: Rear Wheel Radius (m) | B15: =B13/1000 -> 0.254 | D15: Gear 2 | E15: =B$26*B$19*9.81 -> 409.43801 | F15: =B$24*B$19*9.81 -> 102.3595 | G15: =B$24*B$19*9.81 -> 102.3595 | H15: =B$24*B$19*9.81 -> 102.3595 | I15: =B$25*B$19*9.81 -> 102.3595
A16: Driver + Passenger Weight (kg) | B16: 144 | D16: Gear 3 | E16: =B$26*B$19*9.81 -> 409.43801 | F16: =B$24*B$19*9.81 -> 102.3595 | G16: =B$24*B$19*9.81 -> 102.3595 | H16: =B$24*B$19*9.81 -> 102.3595 | I16: =B$25*B$19*9.81 -> 102.3595
A17: Fuel + Oil Weight (kg) | B17: 16.11
A18: Kerb Weight (kg) | B18: 345 | D18: Aerodynamic Resistance | E18: Terrain AB (N) | F18: Terrain BC (N) | G18: Terrain CD (N) Wind in vehicles direction | H18: Terrain DE (N) | I18: Terrain EF (N) Wind in opposite
A19: Total Weight (kg) | B19: =B18+B17+B16+B50 -> 521.71 | D19: Gear 1 | E19: =(B$21*B$23*B$11*(I7)^2)/2 -> 27.174156 | F19: =(B$21*B$23*B$11*(I7)^2)/2 -> 27.174156 | G19: =(B$21*B$23*B$11*(I7+B$22)^2)/2 -> 45.453208 | H19: =(B$21*B$23*B$11*(I7)^2)/2 -> 27.174156 | I19: =(B$23*B$21*B$11*(I7-B$22)^2)/2 -> 13.570882
D20: Gear 2 | E20: =(B$21*B$23*B$11*(I8)^2)/2 -> 50.530455 | F20: =(B$21*B$23*B$11*(I8)^2)/2 -> 50.530455 | G20: =(B$21*B$23*B$11*(I8+B$22)^2)/2 -> 74.606294 | H20: =(B$21*B$23*B$11*(I8)^2)/2 -> 50.530455 | I20: =(B$23*B$21*B$11*(I8-B$22)^2)/2 -> 31.130395
A21: Drag Coefficient | B21: 0.7 | D21: Gear 3 | E21: =(B$21*B$23*B$11*(I9)^2)/2 -> 86.672613 | F21: =(B$21*B$23*B$11*(I9)^2)/2 -> 86.672613 | G21: =(B$21*B$23*B$11*(I9+B$22)^2)/2 -> 117.4802 | H21: =(B$21*B$23*B$11*(I9)^2)/2 -> 86.672613 | I21: =(B$23*B$21*B$11*(I9-B$22)^2)/2 -> 60.540801
A22: Wind Speed (m/s) | B22: 2.23
A23: Air Density (kg/m3) | B23: 1.167 | D23: Gradient Resistance | E23: Terrain AB (N) Up to hill | F23: Terrain BC (N) | G23: Terrain CD (N) | H23: Terrain DE (N) | I23: Terrain EF (N) Down to hill
A24: Rolling Coefficient (μR) Asphalt | B24: 0.02 | D24: Gear 1 | E24: =B$19*9.81*B$28 -> 178.61733 | F24: 0 | G24: 0 | H24: 0 | I24: =-B$19*9.81*B$28 -> -178.61733
A25: Rolling Coefficient (μR) Gravel | B25: 0.02 | D25: Gear 2 | E25: =B$19*9.81*B$28 -> 178.61733 | F25: 0 | G25: 0 | H25: 0 | I25: =-B$19*9.81*B$28 -> -178.61733
A26: Rolling Coefficient (μR) Sand | B26: 0.08 | D26: Gear 3 | E26: =B$19*9.81*B$28 -> 178.61733 | F26: 0 | G26: 0 | H26: 0 | I26: =-B$19*9.81*B$28 -> -178.61733
A27: Gradient Angle | B27: 2°
A28: Sin(2°) | B28: 0.0349 | D28: Net Resistance | E28: Terrain AB | F28: Terrain BC | G28: Terrain CD | H28: Terrain DE | I28: Terrain EF
D29: Gear 1 | E29: =E14+E24 -> 588.05534 | F29: =F14 -> 102.3595 | G29: =F14+G19 -> 147.81271 | H29: =F14 -> 102.3595 | I29: =I14+I19+I24 -> -62.686947
A30: Wheelbase (mm) | B30: 1940 | D30: Gear 2 | E30: =E15+E25 -> 588.05534 | F30: =F15 -> 102.3595 | G30: =F15+G20 -> 176.9658 | H30: =F15 -> 102.3595 | I30: =I15+I20+I25 -> -45.127434
A31: Height of COG from Ground (mm) | B31: 488 | D31: Gear 3 | E31: =E16+E26 -> 588.05534 | F31: =F16 -> 102.3595 | G31: =F16+G21 -> 219.83971 | H31: =F16 -> 102.3595 | I31: =I16+I21+I26 -> -15.717028
A32: Distance of COG from Front Wheel Center (mm) | B32: 1070
A33: Distance of COG from Rear Wheel Center (mm) | B33: 870 | E33: Inertia (kgm2) | F33: Transmission Ratio | G33: Velocity Ratio | H33: Crankshaft Velocity Ratio | I33: Gearbox Velocity Ratio
A34: Angle of Buggy Lifted (Degree) | B34: 18 | D34: Front Wheel | E34: =B53 -> 1.2491743 | G34: =1/B14 -> 3.2808399
A35: Angle of Buggy Lifted (Radians) | B35: 0.314159 | D35: Rear Wheel | E35: =B54 -> 0.86748214 | G35: =1/B15 -> 3.9370079
A36: tan(18°) | B36: 0.32491 | D36: Crankshaft | E36: 0.06 | F36: 2.536
A37: Load on Rear Wheel (kg) | B37: 207 | D37: GearBox Output Shaft | E37: 0.02 | F37: 3.4 | G37: =G35*Table14[[#This Row],[Column3]] -> 13.385827
A38: Load on Rear Wheel while Lifted (kg) | B38: 193 | D38: Gearbox Input Shaft(Gear1) | E38: 0.05 | F38: 2.636 | G38: =G35*F37*Table14[[#This Row],[Column3]] -> 35.285039 | H38: =Table14[[#This Row],[Column3]]*F37*F36*G35 -> 89.48286 | I38: =F37*G7*G35 -> 35.289907
A39: YCOG | B39: =B37*B30/B19 -> 769.73798 | D39: Gearbox Input Shaft(Gear2) | E39: 0.05 | F39: 1.933 | G39: =G35*Table14[[#This Row],[Column3]]*F37 -> 25.874803 | H39: =Table14[[#This Row],[Column3]]*F37*F36*G35 -> 65.618501 | I39: =G8*F37*G35 -> 25.879265
A40: XCOG | B40: =((B37-B38)*B30)/(B18*B36)+279.4 -> 521.69675 | D40: Gearbox Input Shaft(Gear3) | E40: 0.05 | F40: 1.476 | G40: =Table14[[#This Row],[Column3]]*F37*G35 -> 19.75748 | H40: =Table14[[#This Row],[Column3]]*F37*F36*G35 -> 50.10497 | I40: =G9*F37*G35 -> 19.76003
A42: Fastest Velocity in 10m (m/s)
A43: Speed 6500 RPM (1st) | B43: 7.6027537
A44: Drive Torque at shaft (Nm) (1st) | B44: =B8*G7*0.97 -> 56.26
A45: Drive Torque at Rear Wheel (Nm) | B45: =B44*G10*0.94 -> 179.80696
A46: Force (N) | B46: =(B45/B13)*1000 -> 707.90142
A47: Acceleration (m/s2) | B47: =B46/(B17+B18) -> 1.9603484
A48: Tires Mass (kg) | B48: 10.2
A49: Wheels Mass (kg) | B49: 6.4
A50: Total Assembly Mass (kg) | B50: =B48+B49 -> 16.6
A51: Radius of Gyration Front Wheel (Kfront) | B51: =B12*0.9/1000 -> 0.27432
A52: Radius of Gyration Rear Wheel at 6500rpm 1st Gear | B52: =B13*0.9/1000 -> 0.2286
A53: Inertia of Front Wheel | B53: =B50*B51^2 -> 1.2491743
A54: Inertia of Rear Wheel | B54: =B50*B52^2 -> 0.86748214
A55: Inertia of Engine | B55: 0.17
A56: Reduced Mass in Gear 1 | B56: =B$19+(4*(B$54/B$15^2))+(B$55*(G7^2/B$15^2)) -> 593.80838
A57: Reduced Mass in Gear 2 | B57: =B$19+(4*(B$54/B$15^2))+(B$55*(G8^2/B$15^2)) -> 585.34306
A58: Reduced Mass in Gear 3 | B58: =B$19+(4*(B$54/B$15^2))+(B$55*(G9^2/B$15^2)) -> 581.23604

Sheet Acceleration & Deceleration
B1: Acceleration & Deceleration
B3: RPM | C3: Power (W) | D3: Power (HP) | E3: Torque (Nm) | F3: Velocity (km/hr) in G1 | G3: Velocity (km/hr) in G2 | H3: Velocity (km/hr) in G3 | I3: Driving Force (N) in G1 | J3: Driving Force (N) in G2 | K3: Driving Force (N) in G3 | L3: Acceleraion (m/s2) in G1 | M3: Acceleraion (m/s2) in G2 | N3: Acceleraion (m/s2) in G3 | O3: Acceleration Force (N) in G1 | P3: Acceleration Force (N) in G2 | Q3: Acceleration Force (N) in G3
B4: 1000 | C4: 507 | D4: =Table15[[#This Row],[Column2]]/746 -> 0.67962466 | E4: =60*C4/(2*3.14*B4) -> 4.843949 | F4: =3.6*2*3.14*'Specification & Data'!B$15*B4/('Specification & Data'!H$7*60) -> 4.2107559 | G4: =3.6*2*3.14*'Specification & Data'!B$15*B4/('Specification & Data'!H$8*60) -> 5.7419398 | H4: =3.6*2*3.14*'Specification & Data'!B$15*B4/('Specification & Data'!H$9*60) -> 7.5200889 | I4: =3.6*C4/F4 -> 433.46137 | J4: =3.6*C4/G4 -> 317.87167 | K4: =3.6*C4/H4 -> 242.7099 | L4: =I4/'Specification & Data'!B$56 -> 0.72996843 | M4: =J4/'Specification & Data'!B$57 -> 0.54305191 | N4: =K4/'Specification & Data'!B$58 -> 0.41757544 | O4: ='Specification & Data'!B$19*L4 -> 380.83183 | P4: ='Specification & Data'!B$19*M4 -> 283.31561 | Q4: ='Specification & Data'!B$19*N4 -> 217.85328
B5: =B4+500 -> 1500 | C5: 1163 | D5: =Table15[[#This Row],[Column2]]/746 -> 1.5589812 | E5: =60*C5/(2*3.14*B5) -> 7.4076433 | F5: =3.6*2*3.14*'Specification & Data'!B$15*B5/('Specification & Data'!H$7*60) -> 6.3161338 | G5: =3.6*2*3.14*'Specification & Data'!B$15*B5/('Specification & Data'!H$8*60) -> 8.6129098 | H5: =3.6*2*3.14*'Specification & Data'!B$15*B5/('Specification & Data'!H$9*60) -> 11.280133 | I5: =3.6*C5/F5 -> 662.87386 | J5: =3.6*C5/G5 -> 486.1075 | K5: =3.6*C5/H5 -> 371.16582 | L5: =I5/'Specification & Data'!B$56 -> 1.1163094 | M5: =J5/'Specification & Data'!B$57 -> 0.83046597 | N5: =K5/'Specification & Data'!B$58 -> 0.63858019 | O5: ='Specification & Data'!B$19*L5 -> 582.38977 | P5: ='Specification & Data'!B$19*M5 -> 433.2624 | Q5: ='Specification & Data'!B$19*N5 -> 333.15367
B6: =B5+500 -> 2000 | C6: 2431 | D6: =Table15[[#This Row],[Column2]]/746 -> 3.2587131 | E6: =60*C6/(2*3.14*B6) -> 11.613057 | F6: =3.6*2*3.14*'Specification & Data'!B$15*B6/('Specification & Data'!H$7*60) -> 8.4215118 | G6: =3.6*2*3.14*'Specification & Data'!B$15*B6/('Specification & Data'!H$8*60) -> 11.48388 | H6: =3.6*2*3.14*'Specification & Data'!B$15*B6/('Specification & Data'!H$9*60) -> 15.040178 | I6: =3.6*C6/F6 -> 1039.1958 | J6: =3.6*C6/G6 -> 762.07695 | K6: =3.6*C6/H6 -> 581.88142 | L6: =I6/'Specification & Data'!B$56 -> 1.7500525 | M6: =J6/'Specification & Data'!B$57 -> 1.3019321 | N6: =K6/'Specification & Data'!B$58 -> 1.0011103 | O6: ='Specification & Data'!B$19*L6 -> 913.0199 | P6: ='Specification & Data'!B$19*M6 -> 679.23102 | Q6: ='Specification & Data'!B$19*N6 -> 522.28928
B7: =B6+500 -> 2500 | C7: 3909 | D7: =Table15[[#This Row],[Column2]]/746 -> 5.2399464 | E7: =60*C7/(2*3.14*B7) -> 14.938854 | F7: =3.6*2*3.14*'Specification & Data'!B$15*B7/('Specification & Data'!H$7*60) -> 10.52689 | G7: =3.6*2*3.14*'Specification & Data'!B$15*B7/('Specification & Data'!H$8*60) -> 14.35485 | H7: =3.6*2*3.14*'Specification & Data'!B$15*B7/('Specification & Data'!H$9*60) -> 18.800222 | I7: =3.6*C7/F7 -> 1336.8051 | J7: =3.6*C7/G7 -> 980.32375 | K7: =3.6*C7/H7 -> 748.52306 | L7: =I7/'Specification & Data'!B$56 -> 2.2512399 | M7: =J7/'Specification & Data'!B$57 -> 1.6747849 | N7: =K7/'Specification & Data'!B$58 -> 1.2878125 | O7: ='Specification & Data'!B$19*L7 -> 1174.4944 | P7: ='Specification & Data'!B$19*M7 -> 873.75205 | Q7: ='Specification & Data'!B$19*N7 -> 671.86468
B8: =B7+500 -> 3000 | C8: 5348 | D8: =Table15[[#This Row],[Column2]]/746 -> 7.1689008 | E8: =60*C8/(2*3.14*B8) -> 17.031847 | F8: =3.6*2*3.14*'Specification & Data'!B$15*B8/('Specification & Data'!H$7*60) -> 12.632268 | G8: =3.6*2*3.14*'Specification & Data'!B$15*B8/('Specification & Data'!H$8*60) -> 17.22582 | H8: =3.6*2*3.14*'Specification & Data'!B$15*B8/('Specification & Data'!H$9*60) -> 22.560267 | I8: =3.6*C8/F8 -> 1524.0969 | J8: =3.6*C8/G8 -> 1117.6711 | K8: =3.6*C8/H8 -> 853.39416 | L8: =I8/'Specification & Data'!B$56 -> 2.5666477 | M8: =J8/'Specification & Data'!B$57 -> 1.9094291 | N8: =K8/'Specification & Data'!B$58 -> 1.4682403 | O8: ='Specification & Data'!B$19*L8 -> 1339.0458 | P8: ='Specification & Data'!B$19*M8 -> 996.16824 | Q8: ='Specification & Data'!B$19*N8 -> 765.99563
B9: =B8+500 -> 3500 | C9: 6878 | D9: =Table15[[#This Row],[Column2]]/746 -> 9.2198391 | E9: =60*C9/(2*3.14*B9) -> 18.77525 | F9: =3.6*2*3.14*'Specification & Data'!B$15*B9/('Specification & Data'!H$7*60) -> 14.737646 | G9: =3.6*2*3.14*'Specification & Data'!B$15*B9/('Specification & Data'!H$8*60) -> 20.096789 | H9: =3.6*2*3.14*'Specification & Data'!B$15*B9/('Specification & Data'!H$9*60) -> 26.320311 | I9: =3.6*C9/F9 -> 1680.1055 | J9: =3.6*C9/G9 -> 1232.0774 | K9: =3.6*C9/H9 -> 940.74875 | L9: =I9/'Specification & Data'!B$56 -> 2.8293733 | M9: =J9/'Specification & Data'!B$57 -> 2.1048808 | N9: =K9/'Specification & Data'!B$58 -> 1.6185313 | O9: ='Specification & Data'!B$19*L9 -> 1476.1123 | P9: ='Specification & Data'!B$19*M9 -> 1098.1374 | Q9: ='Specification & Data'!B$19*N9 -> 844.40399
B10: =B9+500 -> 4000 | C10: 8101 | D10: =Table15[[#This Row],[Column2]]/746 -> 10.859249 | E10: =60*C10/(2*3.14*B10) -> 19.349522 | F10: =3.6*2*3.14*'Specification & Data'!B$15*B10/('Specification & Data'!H$7*60) -> 16.843024 | G10: =3.6*2*3.14*'Specification & Data'!B$15*B10/('Specification & Data'!H$8*60) -> 22.967759 | H10: =3.6*2*3.14*'Specification & Data'!B$15*B10/('Specification & Data'!H$9*60) -> 30.080356 | I10: =3.6*C10/F10 -> 1731.4943 | J10: =3.6*C10/G10 -> 1269.7625 | K10: =3.6*C10/H10 -> 969.52311 | L10: =I10/'Specification & Data'!B$56 -> 2.9159143 | M10: =J10/'Specification & Data'!B$57 -> 2.1692621 | N10: =K10/'Specification & Data'!B$58 -> 1.6680368 | O10: ='Specification & Data'!B$19*L10 -> 1521.2617 | P10: ='Specification & Data'!B$19*M10 -> 1131.7257 | Q10: ='Specification & Data'!B$19*N10 -> 870.23148
B11: =B10+500 -> 4500 | C11: 10302 | D11: =Table15[[#This Row],[Column2]]/746 -> 13.809651 | E11: =60*C11/(2*3.14*B11) -> 21.872611 | F11: =3.6*2*3.14*'Specification & Data'!B$15*B11/('Specification & Data'!H$7*60) -> 18.948401 | G11: =3.6*2*3.14*'Specification & Data'!B$15*B11/('Specification & Data'!H$8*60) -> 25.838729 | H11: =3.6*2*3.14*'Specification & Data'!B$15*B11/('Specification & Data'!H$9*60) -> 33.8404 | I11: =3.6*C11/F11 -> 1957.2733 | J11: =3.6*C11/G11 -> 1435.3337 | K11: =3.6*C11/H11 -> 1095.9445 | L11: =I11/'Specification & Data'!B$56 -> 3.2961362 | M11: =J11/'Specification & Data'!B$57 -> 2.4521239 | N11: =K11/'Specification & Data'!B$58 -> 1.8855412 | O11: ='Specification & Data'!B$19*L11 -> 1719.6272 | P11: ='Specification & Data'!B$19*M11 -> 1279.2976 | Q11: ='Specification & Data'!B$19*N11 -> 983.70568
B12: =B11+500 -> 5000 | C12: 11383 | D12: =Table15[[#This Row],[Column2]]/746 -> 15.258713 | E12: =60*C12/(2*3.14*B12) -> 21.750955 | F12: =3.6*2*3.14*'Specification & Data'!B$15*B12/('Specification & Data'!H$7*60) -> 21.053779 | G12: =3.6*2*3.14*'Specification & Data'!B$15*B12/('Specification & Data'!H$8*60) -> 28.709699 | H12: =3.6*2*3.14*'Specification & Data'!B$15*B12/('Specification & Data'!H$9*60) -> 37.600445 | I12: =3.6*C12/F12 -> 1946.3869 | J12: =3.6*C12/G12 -> 1427.3504 | K12: =3.6*C12/H12 -> 1089.8488 | L12: =I12/'Specification & Data'!B$56 -> 3.277803 | M12: =J12/'Specification & Data'!B$57 -> 2.4384852 | N12: =K12/'Specification & Data'!B$58 -> 1.8750537 | O12: ='Specification & Data'!B$19*L12 -> 1710.0626 | P12: ='Specification & Data'!B$19*M12 -> 1272.1821 | Q12: ='Specification & Data'!B$19*N12 -> 978.23429
B13: =B12+500 -> 5500 | C13: 12637 | D13: =Table15[[#This Row],[Column2]]/746 -> 16.939678 | E13: =60*C13/(2*3.14*B13) -> 21.95194 | F13: =3.6*2*3.14*'Specification & Data'!B$15*B13/('Specification & Data'!H$7*60) -> 23.159157 | G13: =3.6*2*3.14*'Specification & Data'!B$15*B13/('Specification & Data'!H$8*60) -> 31.580669 | H13: =3.6*2*3.14*'Specification & Data'!B$15*B13/('Specification & Data'!H$9*60) -> 41.360489 | I13: =3.6*C13/F13 -> 1964.372 | J13: =3.6*C13/G13 -> 1440.5395 | K13: =3.6*C13/H13 -> 1099.9193 | L13: =I13/'Specification & Data'!B$56 -> 3.3080907 | M13: =J13/'Specification & Data'!B$57 -> 2.4610174 | N13: =K13/'Specification & Data'!B$58 -> 1.8923797 | O13: ='Specification & Data'!B$19*L13 -> 1725.864 | P13: ='Specification & Data'!B$19*M13 -> 1283.9374 | Q13: ='Specification & Data'!B$19*N13 -> 987.27342
B14: =B13+500 -> 6000 | C14: 13025 | D14: =Table15[[#This Row],[Column2]]/746 -> 17.459786 | E14: =60*C14/(2*3.14*B14) -> 20.740446 | F14: =3.6*2*3.14*'Specification & Data'!B$15*B14/('Specification & Data'!H$7*60) -> 25.264535 | G14: =3.6*2*3.14*'Specification & Data'!B$15*B14/('Specification & Data'!H$8*60) -> 34.451639 | H14: =3.6*2*3.14*'Specification & Data'!B$15*B14/('Specification & Data'!H$9*60) -> 45.120534 | I14: =3.6*C14/F14 -> 1855.9613 | J14: =3.6*C14/G14 -> 1361.0383 | K14: =3.6*C14/H14 -> 1039.2164 | L14: =I14/'Specification & Data'!B$56 -> 3.1255223 | M14: =J14/'Specification & Data'!B$57 -> 2.3251976 | N14: =K14/'Specification & Data'!B$58 -> 1.7879422 | O14: ='Specification & Data'!B$19*L14 -> 1630.6162 | P14: ='Specification & Data'!B$19*M14 -> 1213.0788 | Q14: ='Specification & Data'!B$19*N14 -> 932.78731
B15: =B14+500 -> 6500 | C15: 13428 | D15: =Table15[[#This Row],[Column2]]/746 -> 18 | E15: =60*C15/(2*3.14*B15) -> 19.737384 | F15: =3.6*2*3.14*'Specification & Data'!B$15*B15/('Specification & Data'!H$7*60) -> 27.369913 | G15: =3.6*2*3.14*'Specification & Data'!B$15*B15/('Specification & Data'!H$8*60) -> 37.322609 | H15: =3.6*2*3.14*'Specification & Data'!B$15*B15/('Specification & Data'!H$9*60) -> 48.880578 | I15: =3.6*C15/F15 -> 1766.2022 | J15: =3.6*C15/G15 -> 1295.2149 | K15: =3.6*C15/H15 -> 988.95721 | L15: =I15/'Specification & Data'!B$56 -> 2.9743639 | M15: =J15/'Specification & Data'!B$57 -> 2.212745 | N15: =K15/'Specification & Data'!B$58 -> 1.7014726 | O15: ='Specification & Data'!B$19*L15 -> 1551.7554 | P15: ='Specification & Data'!B$19*M15 -> 1154.4112 | Q15: ='Specification & Data'!B$19*N15 -> 887.67528
C17: Wheelie Limited Acceleration | F17: Traction Limited Acceleration in Terrain AB | I17: Traction Limited Acceleration in Terrain BC | L17: Traction Limited Acceleration in Terrain CD | O17: Traction Limited Acceleration in Terrain DE | R17: Traction Limited Acceleration in Terrain EF
B18: RPM | C18: Gear 1 | D18: Gear 2 | E18: Gear 3 | F18: Gear 1 | G18: Gear 2 | H18: Gear 3 | I18: Gear 1 | J18: Gear 2 | K18: Gear 3 | L18: Gear 1 | M18: Gear 2 | N18: Gear 3 | O18: Gear 1 | P18: Gear 2 | Q18: Gear 3 | R18: Gear 1 | S18: Gear 2 | T18: Gear 3
B19: 1000 | C19: =(('Specification & Data'!B$19/'Specification & Data'!B$56)*9.81*('Specification & Data'!B$40/'Specification & Data'!B$39))-('Aerodynamic Resistance'!C6/'Specification & Data'!B$56) -> 5.840453 | D19: =(('Specification & Data'!B$19/'Specification & Data'!B$56)*9.81*('Specification & Data'!B$40/'Specification & Data'!B$39))-('Aerodynamic Resistance'!D6/'Specification & Data'!B$56) -> 5.8395221 | E19: =(('Specification & Data'!B$19/'Specification & Data'!B$56)*9.81*('Specification & Data'!B$40/'Specification & Data'!B$39))-('Aerodynamic Resistance'!E6/'Specification & Data'!B$56) -> 5.8380815 | F19: ='Net Resistive Force'!C24-('Specification & Data'!B$26*9.81*'Specification & Data'!B$19/'Specification & Data'!B$56*(('Specification & Data'!B$32-('Specification & Data'!B$26*'Specification & Data'!B$39))/'Specification & Data'!B$30)/(1-('Specification & Data'!B$26*'Specification & Data'!B$39/'Specification & Data'!B$30))) -> 0.75824072 | G19: ='Net Resistive Force'!D24-('Specification & Data'!B$26*9.81*'Specification & Data'!B$19/'Specification & Data'!B$56*(('Specification & Data'!B$32-('Specification & Data'!B$26*'Specification & Data'!B$39))/'Specification & Data'!B$30)/(1-('Specification & Data'!B$26*'Specification & Data'!B$39/'Specification & Data'!B$30))) -> 0.75930034 | H19: ='Net Resistive Force'!E24-('Specification & Data'!B$26*9.81*'Specification & Data'!B$19/'Specification & Data'!B$56*(('Specification & Data'!B$32-('Specification & Data'!B$26*'Specification & Data'!B$39))/'Specification & Data'!B$30)/(1-('Specification & Data'!B$26*'Specification & Data'!B$39/'Specification & Data'!B$30))) -> 0.76094001 | I19: =('Specification & Data'!B$26*9.81*'Specification & Data'!B$19/'Specification & Data'!B$56*(('Specification & Data'!B$32-('Specification & Data'!B$26*'Specification & Data'!B$39))/'Specification & Data'!B$30)/(1-('Specification & Data'!B$26*'Specification & Data'!B$39/'Specification & Data'!B$30)))-'Net Resistive Force'!F24 -> 0.17272828 | J19: =('Specification & Data'!B$26*9.81*'Specification & Data'!B$19/'Specification & Data'!B$56*(('Specification & Data'!B$32-('Specification & Data'!B$26*'Specification & Data'!B$39))/'Specification & Data'!B$30)/(1-('Specification & Data'!B$26*'Specification & Data'!B$39/'Specification & Data'!B$30)))-'Net Resistive Force'!G24 -> 0.17166866 | K19: =('Specification & Data'!B$26*9.81*'Specification & Data'!B$19/'Specification & Data'!B$56*(('Specification & Data'!B$32-('Specification & Data'!B$26*'Specification & Data'!B$39))/'Specification & Data'!B$30)/(1-('Specification & Data'!B$26*'Specification & Data'!B$39/'Specification & Data'!B$30)))-'Net Resistive Force'!H24 -> 0.17002899 | L19: =('Specification & Data'!B$26*9.81*'Specification & Data'!B$19/'Specification & Data'!B$56*(('Specification & Data'!B$32-('Specification & Data'!B$26*'Specification & Data'!B$39))/'Specification & Data'!B$30)/(1-('Specification & Data'!B$26*'Specification & Data'!B$39/'Specification & Data'!B$30)))-'Net Resistive Force'!I24 -> 0.16354621 | M19: =('Specification & Data'!B$26*9.81*'Specification & Data'!B$19/'Specification & Data'!B$56*(('Specification & Data'!B$32-('Specification & Data'!B$26*'Specification & Data'!B$39))/'Specification & Data'!B$30)/(1-('Specification & Data'!B$26*'Specification & Data'!B$39/'Specification & Data'!B$30)))-'Net Resistive Force'!J24 -> 0.16077719 | N19: =('Specification & Data'!B$26*9.81*'Specification & Data'!B$19/'Specification & Data'!B$56*(('Specification & Data'!B$32-('Specification & Data'!B$26*'Specification & Data'!B$39))/'Specification & Data'!B$30)/(1-('Specification & Data'!B$26*'Specification & Data'!B$39/'Specification & Data'!B$30)))-'Net Resistive Force'!K24 -> 0.1571524 | O19: =('Specification & Data'!B$26*9.81*'Specification & Data'!B$19/'Specification & Data'!B$56*(('Specification & Data'!B$32-('Specification & Data'!B$26*'Specification & Data'!B$39))/'Specification & Data'!B$30)/(1-('Specification & Data'!B$26*'Specification & Data'!B$39/'Specification & Data'!B$30)))-'Net Resistive Force'!L24 -> 0.17272828 | P19: =('Specification & Data'!B$26*9.81*'Specification & Data'!B$19/'Specification & Data'!B$56*(('Specification & Data'!B$32-('Specification & Data'!B$26*'Specification & Data'!B$39))/'Specification & Data'!B$30)/(1-('Specification & Data'!B$26*'Specification & Data'!B$39/'Specification & Data'!B$30)))-'Net Resistive Force'!M24 -> 0.17166866 | Q19: =('Specification & Data'!B$26*9.81*'Specification & Data'!B$19/'Specification & Data'!B$56*(('Specification & Data'!B$32-('Specification & Data'!B$26*'Specification & Data'!B$39))/'Specification & Data'!B$30)/(1-('Specification & Data'!B$26*'Specification & Data'!B$39/'Specification & Data'!B$30)))-'Net Resistive Force'!N24 -> 0.17002899 | R19: =('Specification & Data'!B$26*9.81*'Specification & Data'!B$19/'Specification & Data'!B$56*(('Specification & Data'!B$32-('Specification & Data'!B$26*'Specification & Data'!B$39))/'Specification & Data'!B$30)/(1-('Specification & Data'!B$26*'Specification & Data'!B$39/'Specification & Data'!B$30)))-'Net Resistive Force'!O24 -> 0.51531693 | S19: =('Specification & Data'!B$26*9.81*'Specification & Data'!B$19/'Specification & Data'!B$56*(('Specification & Data'!B$32-('Specification & Data'!B$26*'Specification & Data'!B$39))/'Specification & Data'!B$30)/(1-('Specification & Data'!B$26*'Specification & Data'!B$39/'Specification & Data'!B$30)))-'Net Resistive Force'!P24 -> 0.51596672 | T19: =('Specification & Data'!B$26*9.81*'Specification & Data'!B$19/'Specification & Data'!B$56*(('Specification & Data'!B$32-('Specification & Data'!B$26*'Specification & Data'!B$39))/'Specification & Data'!B$30)/(1-('Specification & Data'!B$26*'Specification & Data'!B$39/'Specification & Data'!B$30)))-'Net Resistive Force'!Q24 -> 0.51631216
B20: =B19+500 -> 1500 | C20: =(('Specification & Data'!B$19/'Specification & Data'!B$56)*9.81*('Specification & Data'!B$40/'Specification & Data'!B$39))-('Aerodynamic Resistance'!C7/'Specification & Data'!B$56) -> 5.8390991 | D20: =(('Specification & Data'!B$19/'Specification & Data'!B$56)*9.81*('Specification & Data'!B$40/'Specification & Data'!B$39))-('Aerodynamic Resistance'!D7/'Specification & Data'!B$56) -> 5.8370044 | E20: =(('Specification & Data'!B$19/'Specification & Data'!B$56)*9.81*('Specification & Data'!B$40/'Specification & Data'!B$39))-('Aerodynamic Resistance'!E7/'Specification & Data'!B$56) -> 5.8337631 | F20: ='Net Resistive Force'!C25-('Specification & Data'!B$26*9.81*'Specification & Data'!B$19/'Specification & Data'!B$56*(('Specification & Data'!B$32-('Specification & Data'!B$26*'Specification & Data'!B$39))/'Specification & Data'!B$30)/(1-('Specification & Data'!B$26*'Specification & Data'!B$39/'Specification & Data'!B$30))) -> 0.75978175 | G20: ='Net Resistive Force'!D25-('Specification & Data'!B$26*9.81*'Specification & Data'!B$19/'Specification & Data'!B$56*(('Specification & Data'!B$32-('Specification & Data'!B$26*'Specification & Data'!B$39))/'Specification & Data'!B$30)/(1-('Specification & Data'!B$26*'Specification & Data'!B$39/'Specification & Data'!B$30))) -> 0.76216588 | H20: ='Net Resistive Force'!E25-('Specification & Data'!B$26*9.81*'Specification & Data'!B$19/'Specification & Data'!B$56*(('Specification & Data'!B$32-('Specification & Data'!B$26*'Specification & Data'!B$39))/'Specification & Data'!B$30)/(1-('Specification & Data'!B$26*'Specification & Data'!B$39/'Specification & Data'!B$30))) -> 0.76585516 | I20: =('Specification & Data'!B$26*9.81*'Specification & Data'!B$19/'Specification & Data'!B$56*(('Specification & Data'!B$32-('Specification & Data'!B$26*'Specification & Data'!B$39))/'Specification & Data'!B$30)/(1-('Specification & Data'!B$26*'Specification & Data'!B$39/'Specification & Data'!B$30)))-'Net Resistive Force'!F25 -> 0.17118725 | J20: =('Specification & Data'!B$26*9.81*'Specification & Data'!B$19/'Specification & Data'!B$56*(('Specification & Data'!B$32-('Specification & Data'!B$26*'Specification & Data'!B$39))/'Specification & Data'!B$30)/(1-('Specification & Data'!B$26*'Specification & Data'!B$39/'Specification & Data'!B$30)))-'Net Resistive Force'!G25 -> 0.16880312 | K20: =('Specification & Data'!B$26*9.81*'Specification & Data'!B$19/'Specification & Data'!B$56*(('Specification & Data'!B$32-('Specification & Data'!B$26*'Specification & Data'!B$39))/'Specification & Data'!B$30)/(1-('Specification & Data'!B$26*'Specification & Data'!B$39/'Specification & Data'!B$30)))-'Net Resistive Force'!H25 -> 0.16511384 | L20: =('Specification & Data'!B$26*9.81*'Specification & Data'!B$19/'Specification & Data'!B$56*(('Specification & Data'!B$32-('Specification & Data'!B$26*'Specification & Data'!B$39))/'Specification & Data'!B$30)/(1-('Specification & Data'!B$26*'Specification & Data'!B$39/'Specification & Data'!B$30)))-'Net Resistive Force'!I25 -> 0.15965475 | M20: =('Specification & Data'!B$26*9.81*'Specification & Data'!B$19/'Specification & Data'!B$56*(('Specification & Data'!B$32-('Specification & Data'!B$26*'Specification & Data'!B$39))/'Specification & Data'!B$30)/(1-('Specification & Data'!B$26*'Specification & Data'!B$39/'Specification & Data'!B$30)))-'Net Resistive Force'!J25 -> 0.15470651 | N20: =('Specification & Data'!B$26*9.81*'Specification & Data'!B$19/'Specification & Data'!B$56*(('Specification & Data'!B$32-('Specification & Data'!B$26*'Specification & Data'!B$39))/'Specification & Data'!B$30)/(1-('Specification & Data'!B$26*'Specification & Data'!B$39/'Specification & Data'!B$30)))-'Net Resistive Force'!K25 -> 0.14803957 | O20: =('Specification & Data'!B$26*9.81*'Specification & Data'!B$19/'Specification & Data'!B$56*(('Specification & Data'!B$32-('Specification & Data'!B$26*'Specification & Data'!B$39))/'Specification & Data'!B$30)/(1-('Specification & Data'!B$26*'Specification & Data'!B$39/'Specification & Data'!B$30)))-'Net Resistive Force'!L25 -> 0.17118725 | P20: =('Specification & Data'!B$26*9.81*'Specification & Data'!B$19/'Specification & Data'!B$56*(('Specification & Data'!B$32-('Specification & Data'!B$26*'Specification & Data'!B$39))/'Specification & Data'!B$30)/(1-('Specification & Data'!B$26*'Specification & Data'!B$39/'Specification & Data'!B$30)))-'Net Resistive Force'!M25 -> 0.16880312 | Q20: =('Specification & Data'!B$26*9.81*'Specification & Data'!B$19/'Specification & Data'!B$56*(('Specification & Data'!B$32-('Specification & Data'!B$26*'Specification & Data'!B$39))/'Specification & Data'!B$30)/(1-('Specification & Data'!B$26*'Specification & Data'!B$39/'Specification & Data'!B$30)))-'Net Resistive Force'!N25 -> 0.16511384 | R20: =('Specification & Data'!B$26*9.81*'Specification & Data'!B$19/'Specification & Data'!B$56*(('Specification & Data'!B$32-('Specification & Data'!B$26*'Specification & Data'!B$39))/'Specification & Data'!B$30)/(1-('Specification & Data'!B$26*'Specification & Data'!B$39/'Specification & Data'!B$30)))-'Net Resistive Force'!O25 -> 0.51612634 | S20: =('Specification & Data'!B$26*9.81*'Specification & Data'!B$19/'Specification & Data'!B$56*(('Specification & Data'!B$32-('Specification & Data'!B$26*'Specification & Data'!B$39))/'Specification & Data'!B$30)/(1-('Specification & Data'!B$26*'Specification & Data'!B$39/'Specification & Data'!B$30)))-'Net Resistive Force'!P25 -> 0.51630631 | T20: =('Specification & Data'!B$26*9.81*'Specification & Data'!B$19/'Specification & Data'!B$56*(('Specification & Data'!B$32-('Specification & Data'!B$26*'Specification & Data'!B$39))/'Specification & Data'!B$30)/(1-('Specification & Data'!B$26*'Specification & Data'!B$39/'Specification & Data'!B$30)))-'Net Resistive Force'!Q25 -> 0.51559471
B21: =B20+500 -> 2000 | C21: =(('Specification & Data'!B$19/'Specification & Data'!B$56)*9.81*('Specification & Data'!B$40/'Specification & Data'!B$39))-('Aerodynamic Resistance'!C8/'Specification & Data'!B$56) -> 5.8372036 | D21: =(('Specification & Data'!B$19/'Specification & Data'!B$56)*9.81*('Specification & Data'!B$40/'Specification & Data'!B$39))-('Aerodynamic Resistance'!D8/'Specification & Data'!B$56) -> 5.8334798 | E21: =(('Specification & Data'!B$19/'Specification & Data'!B$56)*9.81*('Specification & Data'!B$40/'Specification & Data'!B$39))-('Aerodynamic Resistance'!E8/'Specification & Data'!B$56) -> 5.8277174 | F21: ='Net Resistive Force'!C26-('Specification & Data'!B$26*9.81*'Specification & Data'!B$19/'Specification & Data'!B$56*(('Specification & Data'!B$32-('Specification & Data'!B$26*'Specification & Data'!B$39))/'Specification & Data'!B$30)/(1-('Specification & Data'!B$26*'Specification & Data'!B$39/'Specification & Data'!B$30))) -> 0.76193919 | G21: ='Net Resistive Force'!D26-('Specification & Data'!B$26*9.81*'Specification & Data'!B$19/'Specification & Data'!B$56*(('Specification & Data'!B$32-('Specification & Data'!B$26*'Specification & Data'!B$39))/'Specification & Data'!B$30)/(1-('Specification & Data'!B$26*'Specification & Data'!B$39/'Specification & Data'!B$30))) -> 0.76617765 | H21: ='Net Resistive Force'!E26-('Specification & Data'!B$26*9.81*'Specification & Data'!B$19/'Specification & Data'!B$56*(('Specification & Data'!B$32-('Specification & Data'!B$26*'Specification & Data'!B$39))/'Specification & Data'!B$30)/(1-('Specification & Data'!B$26*'Specification & Data'!B$39/'Specification & Data'!B$30))) -> 0.77273635 | I21: =('Specification & Data'!B$26*9.81*'Specification & Data'!B$19/'Specification & Data'!B$56*(('Specification & Data'!B$32-('Specification & Data'!B$26*'Specification & Data'!B$39))/'Specification & Data'!B$30)/(1-('Specification & Data'!B$26*'Specification & Data'!B$39/'Specification & Data'!B$30)))-'Net Resistive Force'!F26 -> 0.16902981 | J21: =('Specification & Data'!B$26*9.81*'Specification & Data'!B$19/'Specification & Data'!B$56*(('Specification & Data'!B$32-('Specification & Data'!B$26*'Specification & Data'!B$39))/'Specification & Data'!B$30)/(1-('Specification & Data'!B$26*'Specification & Data'!B$39/'Specification & Data'!B$30)))-'Net Resistive Force'!G26 -> 0.16479135 | K21: =('Specification & Data'!B$26*9.81*'Specification & Data'!B$19/'Specification & Data'!B$56*(('Specification & Data'!B$32-('Specification & Data'!B$26*'Specification & Data'!B$39))/'Specification & Data'!B$30)/(1-('Specification & Data'!B$26*'Specification & Data'!B$39/'Specification & Data'!B$30)))-'Net Resistive Force'!H26 -> 0.15823265 | L21: =('Specification & Data'!B$26*9.81*'Specification & Data'!B$19/'Specification & Data'!B$56*(('Specification & Data'!B$32-('Specification & Data'!B$26*'Specification & Data'!B$39))/'Specification & Data'!B$30)/(1-('Specification & Data'!B$26*'Specification & Data'!B$39/'Specification & Data'!B$30)))-'Net Resistive Force'!I26 -> 0.15514688 | M21: =('Specification & Data'!B$26*9.81*'Specification & Data'!B$19/'Specification & Data'!B$56*(('Specification & Data'!B$32-('Specification & Data'!B$26*'Specification & Data'!B$39))/'Specification & Data'!B$30)/(1-('Specification & Data'!B$26*'Specification & Data'!B$39/'Specification & Data'!B$30)))-'Net Resistive Force'!J26 -> 0.14748962 | N21: =('Specification & Data'!B$26*9.81*'Specification & Data'!B$19/'Specification & Data'!B$56*(('Specification & Data'!B$32-('Specification & Data'!B$26*'Specification & Data'!B$39))/'Specification & Data'!B$30)/(1-('Specification & Data'!B$26*'Specification & Data'!B$39/'Specification & Data'!B$30)))-'Net Resistive Force'!K26 -> 0.13696068 | O21: =('Specification & Data'!B$26*9.81*'Specification & Data'!B$19/'Specification & Data'!B$56*(('Specification & Data'!B$32-('Specification & Data'!B$26*'Specification & Data'!B$39))/'Specification & Data'!B$30)/(1-('Specification & Data'!B$26*'Specification & Data'!B$39/'Specification & Data'!B$30)))-'Net Resistive Force'!L26 -> 0.16902981 | P21: =('Specification & Data'!B$26*9.81*'Specification & Data'!B$19/'Specification & Data'!B$56*(('Specification & Data'!B$32-('Specification & Data'!B$26*'Specification & Data'!B$39))/'Specification & Data'!B$30)/(1-('Specification & Data'!B$26*'Specification & Data'!B$39/'Specification & Data'!B$30)))-'Net Resistive Force'!M26 -> 0.16479135 | Q21: =('Specification & Data'!B$26*9.81*'Specification & Data'!B$19/'Specification & Data'!B$56*(('Specification & Data'!B$32-('Specification & Data'!B$26*'Specification & Data'!B$39))/'Specification & Data'!B$30)/(1-('Specification & Data'!B$26*'Specification & Data'!B$39/'Specification & Data'!B$30)))-'Net Resistive Force'!N26 -> 0.15823265 | R21: =('Specification & Data'!B$26*9.81*'Specification & Data'!B$19/'Specification & Data'!B$56*(('Specification & Data'!B$32-('Specification & Data'!B$26*'Specification & Data'!B$39))/'Specification & Data'!B$30)/(1-('Specification & Data'!B$26*'Specification & Data'!B$39/'Specification & Data'!B$30)))-'Net Resistive Force'!O26 -> 0.51631933 | S21: =('Specification & Data'!B$26*9.81*'Specification & Data'!B$19/'Specification & Data'!B$56*(('Specification & Data'!B$32-('Specification & Data'!B$26*'Specification & Data'!B$39))/'Specification & Data'!B$30)/(1-('Specification & Data'!B$26*'Specification & Data'!B$39/'Specification & Data'!B$30)))-'Net Resistive Force'!P26 -> 0.51549968 | T21: =('Specification & Data'!B$26*9.81*'Specification & Data'!B$19/'Specification & Data'!B$56*(('Specification & Data'!B$32-('Specification & Data'!B$26*'Specification & Data'!B$39))/'Specification & Data'!B$30)/(1-('Specification & Data'!B$26*'Specification & Data'!B$39/'Specification & Data'!B$30)))-'Net Resistive Force'!Q26 -> 0.5129112
B22: =B21+500 -> 2500 | C22: =(('Specification & Data'!B$19/'Specification & Data'!B$56)*9.81*('Specification & Data'!B$40/'Specification & Data'!B$39))-('Aerodynamic Resistance'!C9/'Specification & Data'!B$56) -> 5.8347665 | D22: =(('Specification & Data'!B$19/'Specification & Data'!B$56)*9.81*('Specification & Data'!B$40/'Specification & Data'!B$39))-('Aerodynamic Resistance'!D9/'Specification & Data'!B$56) -> 5.828948 | E22: =(('Specification & Data'!B$19/'Specification & Data'!B$56)*9.81*('Specification & Data'!B$40/'Specification & Data'!B$39))-('Aerodynamic Resistance'!E9/'Specification & Data'!B$56) -> 5.8199443 | F22: ='Net Resistive Force'!C27-('Specification & Data'!B$26*9.81*'Specification & Data'!B$19/'Specification & Data'!B$56*(('Specification & Data'!B$32-('Specification & Data'!B$26*'Specification & Data'!B$39))/'Specification & Data'!B$30)/(1-('Specification & Data'!B$26*'Specification & Data'!B$39/'Specification & Data'!B$30))) -> 0.76471304 | G22: ='Net Resistive Force'!D27-('Specification & Data'!B$26*9.81*'Specification & Data'!B$19/'Specification & Data'!B$56*(('Specification & Data'!B$32-('Specification & Data'!B$26*'Specification & Data'!B$39))/'Specification & Data'!B$30)/(1-('Specification & Data'!B$26*'Specification & Data'!B$39/'Specification & Data'!B$30))) -> 0.77133563 | H22: ='Net Resistive Force'!E27-('Specification & Data'!B$26*9.81*'Specification & Data'!B$19/'Specification & Data'!B$56*(('Specification & Data'!B$32-('Specification & Data'!B$26*'Specification & Data'!B$39))/'Specification & Data'!B$30)/(1-('Specification & Data'!B$26*'Specification & Data'!B$39/'Specification & Data'!B$30))) -> 0.78158361 | I22: =('Specification & Data'!B$26*9.81*'Specification & Data'!B$19/'Specification & Data'!B$56*(('Specification & Data'!B$32-('Specification & Data'!B$26*'Specification & Data'!B$39))/'Specification & Data'!B$30)/(1-('Specification & Data'!B$26*'Specification & Data'!B$39/'Specification & Data'!B$30)))-'Net Resistive Force'!F27 -> 0.16625596 | J22: =('Specification & Data'!B$26*9.81*'Specification & Data'!B$19/'Specification & Data'!B$56*(('Specification & Data'!B$32-('Specification & Data'!B$26*'Specification & Data'!B$39))/'Specification & Data'!B$30)/(1-('Specification & Data'!B$26*'Specification & Data'!B$39/'Specification & Data'!B$30)))-'Net Resistive Force'!G27 -> 0.15963337 | K22: =('Specification & Data'!B$26*9.81*'Specification & Data'!B$19/'Specification & Data'!B$56*(('Specification & Data'!B$32-('Specification & Data'!B$26*'Specification & Data'!B$39))/'Specification & Data'!B$30)/(1-('Specification & Data'!B$26*'Specification & Data'!B$39/'Specification & Data'!B$30)))-'Net Resistive Force'!H27 -> 0.14938539 | L22: =('Specification & Data'!B$26*9.81*'Specification & Data'!B$19/'Specification & Data'!B$56*(('Specification & Data'!B$32-('Specification & Data'!B$26*'Specification & Data'!B$39))/'Specification & Data'!B$30)/(1-('Specification & Data'!B$26*'Specification & Data'!B$39/'Specification & Data'!B$30)))-'Net Resistive Force'!I27 -> 0.15002261 | M22: =('Specification & Data'!B$26*9.81*'Specification & Data'!B$19/'Specification & Data'!B$56*(('Specification & Data'!B$32-('Specification & Data'!B$26*'Specification & Data'!B$39))/'Specification & Data'!B$30)/(1-('Specification & Data'!B$26*'Specification & Data'!B$39/'Specification & Data'!B$30)))-'Net Resistive Force'!J27 -> 0.1391265 | N22: =('Specification & Data'!B$26*9.81*'Specification & Data'!B$19/'Specification & Data'!B$56*(('Specification & Data'!B$32-('Specification & Data'!B$26*'Specification & Data'!B$39))/'Specification & Data'!B$30)/(1-('Specification & Data'!B$26*'Specification & Data'!B$39/'Specification & Data'!B$30)))-'Net Resistive Force'!K27 -> 0.12391573 | O22: =('Specification & Data'!B$26*9.81*'Specification & Data'!B$19/'Specification & Data'!B$56*(('Specification & Data'!B$32-('Specification & Data'!B$26*'Specification & Data'!B$39))/'Specification & Data'!B$30)/(1-('Specification & Data'!B$26*'Specification & Data'!B$39/'Specification & Data'!B$30)))-'Net Resistive Force'!L27 -> 0.16625596 | P22: =('Specification & Data'!B$26*9.81*'Specification & Data'!B$19/'Specification & Data'!B$56*(('Specification & Data'!B$32-('Specification & Data'!B$26*'Specification & Data'!B$39))/'Specification & Data'!B$30)/(1-('Specification & Data'!B$26*'Specification & Data'!B$39/'Specification & Data'!B$30)))-'Net Resistive Force'!M27 -> 0.15963337 | Q22: =('Specification & Data'!B$26*9.81*'Specification & Data'!B$19/'Specification & Data'!B$56*(('Specification & Data'!B$32-('Specification & Data'!B$26*'Specification & Data'!B$39))/'Specification & Data'!B$30)/(1-('Specification & Data'!B$26*'Specification & Data'!B$39/'Specification & Data'!B$30)))-'Net Resistive Force'!N27 -> 0.14938539 | R22: =('Specification & Data'!B$26*9.81*'Specification & Data'!B$19/'Specification & Data'!B$56*(('Specification & Data'!B$32-('Specification & Data'!B$26*'Specification & Data'!B$39))/'Specification & Data'!B$30)/(1-('Specification & Data'!B$26*'Specification & Data'!B$39/'Specification & Data'!B$30)))-'Net Resistive Force'!O27 -> 0.51589591 | S22: =('Specification & Data'!B$26*9.81*'Specification & Data'!B$19/'Specification & Data'!B$56*(('Specification & Data'!B$32-('Specification & Data'!B$26*'Specification & Data'!B$39))/'Specification & Data'!B$30)/(1-('Specification & Data'!B$26*'Specification & Data'!B$39/'Specification & Data'!B$30)))-'Net Resistive Force'!P27 -> 0.51354683 | T22: =('Specification & Data'!B$26*9.81*'Specification & Data'!B$19/'Specification & Data'!B$56*(('Specification & Data'!B$32-('Specification & Data'!B$26*'Specification & Data'!B$39))/'Specification & Data'!B$30)/(1-('Specification & Data'!B$26*'Specification & Data'!B$39/'Specification & Data'!B$30)))-'Net Resistive Force'!Q27 -> 0.50826164
B23: =B22+500 -> 3000 | C23: =(('Specification & Data'!B$19/'Specification & Data'!B$56)*9.81*('Specification & Data'!B$40/'Specification & Data'!B$39))-('Aerodynamic Resistance'!C10/'Specification & Data'!B$56) -> 5.8317879 | D23: =(('Specification & Data'!B$19/'Specification & Data'!B$56)*9.81*('Specification & Data'!B$40/'Specification & Data'!B$39))-('Aerodynamic Resistance'!D10/'Specification & Data'!B$56) -> 5.8234093 | E23: =(('Specification & Data'!B$19/'Specification & Data'!B$56)*9.81*('Specification & Data'!B$40/'Specification & Data'!B$39))-('Aerodynamic Resistance'!E10/'Specification & Data'!B$56) -> 5.810444 | F23: ='Net Resistive Force'!C28-('Specification & Data'!B$26*9.81*'Specification & Data'!B$19/'Specification & Data'!B$56*(('Specification & Data'!B$32-('Specification & Data'!B$26*'Specification & Data'!B$39))/'Specification & Data'!B$30)/(1-('Specification & Data'!B$26*'Specification & Data'!B$39/'Specification & Data'!B$30))) -> 0.76810329 | G23: ='Net Resistive Force'!D28-('Specification & Data'!B$26*9.81*'Specification & Data'!B$19/'Specification & Data'!B$56*(('Specification & Data'!B$32-('Specification & Data'!B$26*'Specification & Data'!B$39))/'Specification & Data'!B$30)/(1-('Specification & Data'!B$26*'Specification & Data'!B$39/'Specification & Data'!B$30))) -> 0.77763983 | H23: ='Net Resistive Force'!E28-('Specification & Data'!B$26*9.81*'Specification & Data'!B$19/'Specification & Data'!B$56*(('Specification & Data'!B$32-('Specification & Data'!B$26*'Specification & Data'!B$39))/'Specification & Data'!B$30)/(1-('Specification & Data'!B$26*'Specification & Data'!B$39/'Specification & Data'!B$30))) -> 0.79239692 | I23: =('Specification & Data'!B$26*9.81*'Specification & Data'!B$19/'Specification & Data'!B$56*(('Specification & Data'!B$32-('Specification & Data'!B$26*'Specification & Data'!B$39))/'Specification & Data'!B$30)/(1-('Specification & Data'!B$26*'Specification & Data'!B$39/'Specification & Data'!B$30)))-'Net Resistive Force'!F28 -> 0.16286571 | J23: =('Specification & Data'!B$26*9.81*'Specification & Data'!B$19/'Specification & Data'!B$56*(('Specification & Data'!B$32-('Specification & Data'!B$26*'Specification & Data'!B$39))/'Specification & Data'!B$30)/(1-('Specification & Data'!B$26*'Specification & Data'!B$39/'Specification & Data'!B$30)))-'Net Resistive Force'!G28 -> 0.15332917 | K23: =('Specification & Data'!B$26*9.81*'Specification & Data'!B$19/'Specification & Data'!B$56*(('Specification & Data'!B$32-('Specification & Data'!B$26*'Specification & Data'!B$39))/'Specification & Data'!B$30)/(1-('Specification & Data'!B$26*'Specification & Data'!B$39/'Specification & Data'!B$30)))-'Net Resistive Force'!H28 -> 0.13857208 | L23: =('Specification & Data'!B$26*9.81*'Specification & Data'!B$19/'Specification & Data'!B$56*(('Specification & Data'!B$32-('Specification & Data'!B$26*'Specification & Data'!B$39))/'Specification & Data'!B$30)/(1-('Specification & Data'!B$26*'Specification & Data'!B$39/'Specification & Data'!B$30)))-'Net Resistive Force'!I28 -> 0.14428192 | M23: =('Specification & Data'!B$26*9.81*'Specification & Data'!B$19/'Specification & Data'!B$56*(('Specification & Data'!B$32-('Specification & Data'!B$26*'Specification & Data'!B$39))/'Specification & Data'!B$30)/(1-('Specification & Data'!B$26*'Specification & Data'!B$39/'Specification & Data'!B$30)))-'Net Resistive Force'!J28 -> 0.12961717 | N23: =('Specification & Data'!B$26*9.81*'Specification & Data'!B$19/'Specification & Data'!B$56*(('Specification & Data'!B$32-('Specification & Data'!B$26*'Specification & Data'!B$39))/'Specification & Data'!B$30)/(1-('Specification & Data'!B$26*'Specification & Data'!B$39/'Specification & Data'!B$30)))-'Net Resistive Force'!K28 -> 0.10890473 | O23: =('Specification & Data'!B$26*9.81*'Specification & Data'!B$19/'Specification & Data'!B$56*(('Specification & Data'!B$32-('Specification & Data'!B$26*'Specification & Data'!B$39))/'Specification & Data'!B$30)/(1-('Specification & Data'!B$26*'Specification & Data'!B$39/'Specification & Data'!B$30)))-'Net Resistive Force'!L28 -> 0.16286571 | P23: =('Specification & Data'!B$26*9.81*'Specification & Data'!B$19/'Specification & Data'!B$56*(('Specification & Data'!B$32-('Specification & Data'!B$26*'Specification & Data'!B$39))/'Specification & Data'!B$30)/(1-('Specification & Data'!B$26*'Specification & Data'!B$39/'Specification & Data'!B$30)))-'Net Resistive Force'!M28 -> 0.15332917 | Q23: =('Specification & Data'!B$26*9.81*'Specification & Data'!B$19/'Specification & Data'!B$56*(('Specification & Data'!B$32-('Specification & Data'!B$26*'Specification & Data'!B$39))/'Specification & Data'!B$30)/(1-('Specification & Data'!B$26*'Specification & Data'!B$39/'Specification & Data'!B$30)))-'Net Resistive Force'!N28 -> 0.13857208 | R23: =('Specification & Data'!B$26*9.81*'Specification & Data'!B$19/'Specification & Data'!B$56*(('Specification & Data'!B$32-('Specification & Data'!B$26*'Specification & Data'!B$39))/'Specification & Data'!B$30)/(1-('Specification & Data'!B$26*'Specification & Data'!B$39/'Specification & Data'!B$30)))-'Net Resistive Force'!O28 -> 0.51485609 | S23: =('Specification & Data'!B$26*9.81*'Specification & Data'!B$19/'Specification & Data'!B$56*(('Specification & Data'!B$32-('Specification & Data'!B$26*'Specification & Data'!B$39))/'Specification & Data'!B$30)/(1-('Specification & Data'!B$26*'Specification & Data'!B$39/'Specification & Data'!B$30)))-'Net Resistive Force'!P28 -> 0.51044776 | T23: =('Specification & Data'!B$26*9.81*'Specification & Data'!B$19/'Specification & Data'!B$56*(('Specification & Data'!B$32-('Specification & Data'!B$26*'Specification & Data'!B$39))/'Specification & Data'!B$30)/(1-('Specification & Data'!B$26*'Specification & Data'!B$39/'Specification & Data'!B$30)))-'Net Resistive Force'!Q28 -> 0.50164602
B24: =B23+500 -> 3500 | C24: =(('Specification & Data'!B$19/'Specification & Data'!B$56)*9.81*('Specification & Data'!B$40/'Specification & Data'!B$39))-('Aerodynamic Resistance'!C11/'Specification & Data'!B$56) -> 5.8282677 | D24: =(('Specification & Data'!B$19/'Specification & Data'!B$56)*9.81*('Specification & Data'!B$40/'Specification & Data'!B$39))-('Aerodynamic Resistance'!D11/'Specification & Data'!B$56) -> 5.8168635 | E24: =(('Specification & Data'!B$19/'Specification & Data'!B$56)*9.81*('Specification & Data'!B$40/'Specification & Data'!B$39))-('Aerodynamic Resistance'!E11/'Specification & Data'!B$56) -> 5.7992162 | F24: ='Net Resistive Force'!C29-('Specification & Data'!B$26*9.81*'Specification & Data'!B$19/'Specification & Data'!B$56*(('Specification & Data'!B$32-('Specification & Data'!B$26*'Specification & Data'!B$39))/'Specification & Data'!B$30)/(1-('Specification & Data'!B$26*'Specification & Data'!B$39/'Specification & Data'!B$30))) -> 0.77210996 | G24: ='Net Resistive Force'!D29-('Specification & Data'!B$26*9.81*'Specification & Data'!B$19/'Specification & Data'!B$56*(('Specification & Data'!B$32-('Specification & Data'!B$26*'Specification & Data'!B$39))/'Specification & Data'!B$30)/(1-('Specification & Data'!B$26*'Specification & Data'!B$39/'Specification & Data'!B$30))) -> 0.78509025 | H24: ='Net Resistive Force'!E29-('Specification & Data'!B$26*9.81*'Specification & Data'!B$19/'Specification & Data'!B$56*(('Specification & Data'!B$32-('Specification & Data'!B$26*'Specification & Data'!B$39))/'Specification & Data'!B$30)/(1-('Specification & Data'!B$26*'Specification & Data'!B$39/'Specification & Data'!B$30))) -> 0.80517629 | I24: =('Specification & Data'!B$26*9.81*'Specification & Data'!B$19/'Specification & Data'!B$56*(('Specification & Data'!B$32-('Specification & Data'!B$26*'Specification & Data'!B$39))/'Specification & Data'!B$30)/(1-('Specification & Data'!B$26*'Specification & Data'!B$39/'Specification & Data'!B$30)))-'Net Resistive Force'!F29 -> 0.15885904 | J24: =('Specification & Data'!B$26*9.81*'Specification & Data'!B$19/'Specification & Data'!B$56*(('Specification & Data'!B$32-('Specification & Data'!B$26*'Specification & Data'!B$39))/'Specification & Data'!B$30)/(1-('Specification & Data'!B$26*'Specification & Data'!B$39/'Specification & Data'!B$30)))-'Net Resistive Force'!G29 -> 0.14587875 | K24: =('Specification & Data'!B$26*9.81*'Specification & Data'!B$19/'Specification & Data'!B$56*(('Specification & Data'!B$32-('Specification & Data'!B$26*'Specification & Data'!B$39))/'Specification & Data'!B$30)/(1-('Specification & Data'!B$26*'Specification & Data'!B$39/'Specification & Data'!B$30)))-'Net Resistive Force'!H29 -> 0.12579271 | L24: =('Specification & Data'!B$26*9.81*'Specification & Data'!B$19/'Specification & Data'!B$56*(('Specification & Data'!B$32-('Specification & Data'!B$26*'Specification & Data'!B$39))/'Specification & Data'!B$30)/(1-('Specification & Data'!B$26*'Specification & Data'!B$39/'Specification & Data'!B$30)))-'Net Resistive Force'!I29 -> 0.13792481 | M24: =('Specification & Data'!B$26*9.81*'Specification & Data'!B$19/'Specification & Data'!B$56*(('Specification & Data'!B$32-('Specification & Data'!B$26*'Specification & Data'!B$39))/'Specification & Data'!B$30)/(1-('Specification & Data'!B$26*'Specification & Data'!B$39/'Specification & Data'!B$30)))-'Net Resistive Force'!J29 -> 0.11896161 | N24: =('Specification & Data'!B$26*9.81*'Specification & Data'!B$19/'Specification & Data'!B$56*(('Specification & Data'!B$32-('Specification & Data'!B$26*'Specification & Data'!B$39))/'Specification & Data'!B$30)/(1-('Specification & Data'!B$26*'Specification & Data'!B$39/'Specification & Data'!B$30)))-'Net Resistive Force'!K29 -> 0.091927674 | O24: =('Specification & Data'!B$26*9.81*'Specification & Data'!B$19/'Specification & Data'!B$56*(('Specification & Data'!B$32-('Specification & Data'!B$26*'Specification & Data'!B$39))/'Specification & Data'!B$30)/(1-('Specification & Data'!B$26*'Specification & Data'!B$39/'Specification & Data'!B$30)))-'Net Resistive Force'!L29 -> 0.15885904 | P24: =('Specification & Data'!B$26*9.81*'Specification & Data'!B$19/'Specification & Data'!B$56*(('Specification & Data'!B$32-('Specification & Data'!B$26*'Specification & Data'!B$39))/'Specification & Data'!B$30)/(1-('Specification & Data'!B$26*'Specification & Data'!B$39/'Specification & Data'!B$30)))-'Net Resistive Force'!M29 -> 0.14587875 | Q24: =('Specification & Data'!B$26*9.81*'Specification & Data'!B$19/'Specification & Data'!B$56*(('Specification & Data'!B$32-('Specification & Data'!B$26*'Specification & Data'!B$39))/'Specification & Data'!B$30)/(1-('Specification & Data'!B$26*'Specification & Data'!B$39/'Specification & Data'!B$30)))-'Net Resistive Force'!N29 -> 0.12579271 | R24: =('Specification & Data'!B$26*9.81*'Specification & Data'!B$19/'Specification & Data'!B$56*(('Specification & Data'!B$32-('Specification & Data'!B$26*'Specification & Data'!B$39))/'Specification & Data'!B$30)/(1-('Specification & Data'!B$26*'Specification & Data'!B$39/'Specification & Data'!B$30)))-'Net Resistive Force'!O29 -> 0.51319985 | S24: =('Specification & Data'!B$26*9.81*'Specification & Data'!B$19/'Specification & Data'!B$56*(('Specification & Data'!B$32-('Specification & Data'!B$26*'Specification & Data'!B$39))/'Specification & Data'!B$30)/(1-('Specification & Data'!B$26*'Specification & Data'!B$39/'Specification & Data'!B$30)))-'Net Resistive Force'!P29 -> 0.50620248 | T24: =('Specification & Data'!B$26*9.81*'Specification & Data'!B$19/'Specification & Data'!B$56*(('Specification & Data'!B$32-('Specification & Data'!B$26*'Specification & Data'!B$39))/'Specification & Data'!B$30)/(1-('Specification & Data'!B$26*'Specification & Data'!B$39/'Specification & Data'!B$30)))-'Net Resistive Force'!Q29 -> 0.49306434
B25: =B24+500 -> 4000 | C25: =(('Specification & Data'!B$19/'Specification & Data'!B$56)*9.81*('Specification & Data'!B$40/'Specification & Data'!B$39))-('Aerodynamic Resistance'!C12/'Specification & Data'!B$56) -> 5.824206 | D25: =(('Specification & Data'!B$19/'Specification & Data'!B$56)*9.81*('Specification & Data'!B$40/'Specification & Data'!B$39))-('Aerodynamic Resistance'!D12/'Specification & Data'!B$56) -> 5.8093106 | E25: =(('Specification & Data'!B$19/'Specification & Data'!B$56)*9.81*('Specification & Data'!B$40/'Specification & Data'!B$39))-('Aerodynamic Resistance'!E12/'Specification & Data'!B$56) -> 5.7862611 | F25: ='Net Resistive Force'!C30-('Specification & Data'!B$26*9.81*'Specification & Data'!B$19/'Specification & Data'!B$56*(('Specification & Data'!B$32-('Specification & Data'!B$26*'Specification & Data'!B$39))/'Specification & Data'!B$30)/(1-('Specification & Data'!B$26*'Specification & Data'!B$39/'Specification & Data'!B$30))) -> 0.77673304 | G25: ='Net Resistive Force'!D30-('Specification & Data'!B$26*9.81*'Specification & Data'!B$19/'Specification & Data'!B$56*(('Specification & Data'!B$32-('Specification & Data'!B$26*'Specification & Data'!B$39))/'Specification & Data'!B$30)/(1-('Specification & Data'!B$26*'Specification & Data'!B$39/'Specification & Data'!B$30))) -> 0.79368689 | H25: ='Net Resistive Force'!E30-('Specification & Data'!B$26*9.81*'Specification & Data'!B$19/'Specification & Data'!B$56*(('Specification & Data'!B$32-('Specification & Data'!B$26*'Specification & Data'!B$39))/'Specification & Data'!B$30)/(1-('Specification & Data'!B$26*'Specification & Data'!B$39/'Specification & Data'!B$30))) -> 0.81992171 | I25: =('Specification & Data'!B$26*9.81*'Specification & Data'!B$19/'Specification & Data'!B$56*(('Specification & Data'!B$32-('Specification & Data'!B$26*'Specification & Data'!B$39))/'Specification & Data'!B$30)/(1-('Specification & Data'!B$26*'Specification & Data'!B$39/'Specification & Data'!B$30)))-'Net Resistive Force'!F30 -> 0.15423596 | J25: =('Specification & Data'!B$26*9.81*'Specification & Data'!B$19/'Specification & Data'!B$56*(('Specification & Data'!B$32-('Specification & Data'!B$26*'Specification & Data'!B$39))/'Specification & Data'!B$30)/(1-('Specification & Data'!B$26*'Specification & Data'!B$39/'Specification & Data'!B$30)))-'Net Resistive Force'!G30 -> 0.13728211 | K25: =('Specification & Data'!B$26*9.81*'Specification & Data'!B$19/'Specification & Data'!B$56*(('Specification & Data'!B$32-('Specification & Data'!B$26*'Specification & Data'!B$39))/'Specification & Data'!B$30)/(1-('Specification & Data'!B$26*'Specification & Data'!B$39/'Specification & Data'!B$30)))-'Net Resistive Force'!H30 -> 0.11104729 | L25: =('Specification & Data'!B$26*9.81*'Specification & Data'!B$19/'Specification & Data'!B$56*(('Specification & Data'!B$32-('Specification & Data'!B$26*'Specification & Data'!B$39))/'Specification & Data'!B$30)/(1-('Specification & Data'!B$26*'Specification & Data'!B$39/'Specification & Data'!B$30)))-'Net Resistive Force'!I30 -> 0.1309513 | M25: =('Specification & Data'!B$26*9.81*'Specification & Data'!B$19/'Specification & Data'!B$56*(('Specification & Data'!B$32-('Specification & Data'!B$26*'Specification & Data'!B$39))/'Specification & Data'!B$30)/(1-('Specification & Data'!B$26*'Specification & Data'!B$39/'Specification & Data'!B$30)))-'Net Resistive Force'!J30 -> 0.10715984 | N25: =('Specification & Data'!B$26*9.81*'Specification & Data'!B$19/'Specification & Data'!B$56*(('Specification & Data'!B$32-('Specification & Data'!B$26*'Specification & Data'!B$39))/'Specification & Data'!B$30)/(1-('Specification & Data'!B$26*'Specification & Data'!B$39/'Specification & Data'!B$30)))-'Net Resistive Force'!K30 -> 0.072984559 | O25: =('Specification & Data'!B$26*9.81*'Specification & Data'!B$19/'Specification & Data'!B$56*(('Specification & Data'!B$32-('Specification & Data'!B$26*'Specification & Data'!B$39))/'Specification & Data'!B$30)/(1-('Specification & Data'!B$26*'Specification & Data'!B$39/'Specification & Data'!B$30)))-'Net Resistive Force'!L30 -> 0.15423596 | P25: =('Specification & Data'!B$26*9.81*'Specification & Data'!B$19/'Specification & Data'!B$56*(('Specification & Data'!B$32-('Specification & Data'!B$26*'Specification & Data'!B$39))/'Specification & Data'!B$30)/(1-('Specification & Data'!B$26*'Specification & Data'!B$39/'Specification & Data'!B$30)))-'Net Resistive Force'!M30 -> 0.13728211 | Q25: =('Specification & Data'!B$26*9.81*'Specification & Data'!B$19/'Specification & Data'!B$56*(('Specification & Data'!B$32-('Specification & Data'!B$26*'Specification & Data'!B$39))/'Specification & Data'!B$30)/(1-('Specification & Data'!B$26*'Specification & Data'!B$39/'Specification & Data'!B$30)))-'Net Resistive Force'!N30 -> 0.11104729 | R25: =('Specification & Data'!B$26*9.81*'Specification & Data'!B$19/'Specification & Data'!B$56*(('Specification & Data'!B$32-('Specification & Data'!B$26*'Specification & Data'!B$39))/'Specification & Data'!B$30)/(1-('Specification & Data'!B$26*'Specification & Data'!B$39/'Specification & Data'!B$30)))-'Net Resistive Force'!O30 -> 0.5109272 | S25: =('Specification & Data'!B$26*9.81*'Specification & Data'!B$19/'Specification & Data'!B$56*(('Specification & Data'!B$32-('Specification & Data'!B$26*'Specification & Data'!B$39))/'Specification & Data'!B$30)/(1-('Specification & Data'!B$26*'Specification & Data'!B$39/'Specification & Data'!B$30)))-'Net Resistive Force'!P30 -> 0.50081097 | T25: =('Specification & Data'!B$26*9.81*'Specification & Data'!B$19/'Specification & Data'!B$56*(('Specification & Data'!B$32-('Specification & Data'!B$26*'Specification & Data'!B$39))/'Specification & Data'!B$30)/(1-('Specification & Data'!B$26*'Specification & Data'!B$39/'Specification & Data'!B$30)))-'Net Resistive Force'!Q30 -> 0.48251661
B26: =B25+500 -> 4500 | C26: =(('Specification & Data'!B$19/'Specification & Data'!B$56)*9.81*('Specification & Data'!B$40/'Specification & Data'!B$39))-('Aerodynamic Resistance'!C13/'Specification & Data'!B$56) -> 5.8196026 | D26: =(('Specification & Data'!B$19/'Specification & Data'!B$56)*9.81*('Specification & Data'!B$40/'Specification & Data'!B$39))-('Aerodynamic Resistance'!D13/'Specification & Data'!B$56) -> 5.8007507 | E26: =(('Specification & Data'!B$19/'Specification & Data'!B$56)*9.81*('Specification & Data'!B$40/'Specification & Data'!B$39))-('Aerodynamic Resistance'!E13/'Specification & Data'!B$56) -> 5.7715787 | F26: ='Net Resistive Force'!C31-('Specification & Data'!B$26*9.81*'Specification & Data'!B$19/'Specification & Data'!B$56*(('Specification & Data'!B$32-('Specification & Data'!B$26*'Specification & Data'!B$39))/'Specification & Data'!B$30)/(1-('Specification & Data'!B$26*'Specification & Data'!B$39/'Specification & Data'!B$30))) -> 0.78197254 | G26: ='Net Resistive Force'!D31-('Specification & Data'!B$26*9.81*'Specification & Data'!B$19/'Specification & Data'!B$56*(('Specification & Data'!B$32-('Specification & Data'!B$26*'Specification & Data'!B$39))/'Specification & Data'!B$30)/(1-('Specification & Data'!B$26*'Specification & Data'!B$39/'Specification & Data'!B$30))) -> 0.80342974 | H26: ='Net Resistive Force'!E31-('Specification & Data'!B$26*9.81*'Specification & Data'!B$19/'Specification & Data'!B$56*(('Specification & Data'!B$32-('Specification & Data'!B$26*'Specification & Data'!B$39))/'Specification & Data'!B$30)/(1-('Specification & Data'!B$26*'Specification & Data'!B$39/'Specification & Data'!B$30))) -> 0.83663319 | I26: =('Specification & Data'!B$26*9.81*'Specification & Data'!B$19/'Specification & Data'!B$56*(('Specification & Data'!B$32-('Specification & Data'!B$26*'Specification & Data'!B$39))/'Specification & Data'!B$30)/(1-('Specification & Data'!B$26*'Specification & Data'!B$39/'Specification & Data'!B$30)))-'Net Resistive Force'!F31 -> 0.14899646 | J26: =('Specification & Data'!B$26*9.81*'Specification & Data'!B$19/'Specification & Data'!B$56*(('Specification & Data'!B$32-('Specification & Data'!B$26*'Specification & Data'!B$39))/'Specification & Data'!B$30)/(1-('Specification & Data'!B$26*'Specification & Data'!B$39/'Specification & Data'!B$30)))-'Net Resistive Force'!G31 -> 0.12753926 | K26: =('Specification & Data'!B$26*9.81*'Specification & Data'!B$19/'Specification & Data'!B$56*(('Specification & Data'!B$32-('Specification & Data'!B$26*'Specification & Data'!B$39))/'Specification & Data'!B$30)/(1-('Specification & Data'!B$26*'Specification & Data'!B$39/'Specification & Data'!B$30)))-'Net Resistive Force'!H31 -> 0.094335806 | L26: =('Specification & Data'!B$26*9.81*'Specification & Data'!B$19/'Specification & Data'!B$56*(('Specification & Data'!B$32-('Specification & Data'!B$26*'Specification & Data'!B$39))/'Specification & Data'!B$30)/(1-('Specification & Data'!B$26*'Specification & Data'!B$39/'Specification & Data'!B$30)))-'Net Resistive Force'!I31 -> 0.12336138 | M26: =('Specification & Data'!B$26*9.81*'Specification & Data'!B$19/'Specification & Data'!B$56*(('Specification & Data'!B$32-('Specification & Data'!B$26*'Specification & Data'!B$39))/'Specification & Data'!B$30)/(1-('Specification & Data'!B$26*'Specification & Data'!B$39/'Specification & Data'!B$30)))-'Net Resistive Force'!J31 -> 0.094211855 | N26: =('Specification & Data'!B$26*9.81*'Specification & Data'!B$19/'Specification & Data'!B$56*(('Specification & Data'!B$32-('Specification & Data'!B$26*'Specification & Data'!B$39))/'Specification & Data'!B$30)/(1-('Specification & Data'!B$26*'Specification & Data'!B$39/'Specification & Data'!B$30)))-'Net Resistive Force'!K31 -> 0.052075387 | O26: =('Specification & Data'!B$26*9.81*'Specification & Data'!B$19/'Specification & Data'!B$56*(('Specification & Data'!B$32-('Specification & Data'!B$26*'Specification & Data'!B$39))/'Specification & Data'!B$30)/(1-('Specification & Data'!B$26*'Specification & Data'!B$39/'Specification & Data'!B$30)))-'Net Resistive Force'!L31 -> 0.14899646 | P26: =('Specification & Data'!B$26*9.81*'Specification & Data'!B$19/'Specification & Data'!B$56*(('Specification & Data'!B$32-('Specification & Data'!B$26*'Specification & Data'!B$39))/'Specification & Data'!B$30)/(1-('Specification & Data'!B$26*'Specification & Data'!B$39/'Specification & Data'!B$30)))-'Net Resistive Force'!M31 -> 0.12753926 | Q26: =('Specification & Data'!B$26*9.81*'Specification & Data'!B$19/'Specification & Data'!B$56*(('Specification & Data'!B$32-('Specification & Data'!B$26*'Specification & Data'!B$39))/'Specification & Data'!B$30)/(1-('Specification & Data'!B$26*'Specification & Data'!B$39/'Specification & Data'!B$30)))-'Net Resistive Force'!N31 -> 0.094335806 | R26: =('Specification & Data'!B$26*9.81*'Specification & Data'!B$19/'Specification & Data'!B$56*(('Specification & Data'!B$32-('Specification & Data'!B$26*'Specification & Data'!B$39))/'Specification & Data'!B$30)/(1-('Specification & Data'!B$26*'Specification & Data'!B$39/'Specification & Data'!B$30)))-'Net Resistive Force'!O31 -> 0.50803814 | S26: =('Specification & Data'!B$26*9.81*'Specification & Data'!B$19/'Specification & Data'!B$56*(('Specification & Data'!B$32-('Specification & Data'!B$26*'Specification & Data'!B$39))/'Specification & Data'!B$30)/(1-('Specification & Data'!B$26*'Specification & Data'!B$39/'Specification & Data'!B$30)))-'Net Resistive Force'!P31 -> 0.49427325 | T26: =('Specification & Data'!B$26*9.81*'Specification & Data'!B$19/'Specification & Data'!B$56*(('Specification & Data'!B$32-('Specification & Data'!B$26*'Specification & Data'!B$39))/'Specification & Data'!B$30)/(1-('Specification & Data'!B$26*'Specification & Data'!B$39/'Specification & Data'!B$30)))-'Net Resistive Force'!Q31 -> 0.47000281
B27: =B26+500 -> 5000 | C27: =(('Specification & Data'!B$19/'Specification & Data'!B$56)*9.81*('Specification & Data'!B$40/'Specification & Data'!B$39))-('Aerodynamic Resistance'!C14/'Specification & Data'!B$56) -> 5.8144577 | D27: =(('Specification & Data'!B$19/'Specification & Data'!B$56)*9.81*('Specification & Data'!B$40/'Specification & Data'!B$39))-('Aerodynamic Resistance'!D14/'Specification & Data'!B$56) -> 5.7911837 | E27: =(('Specification & Data'!B$19/'Specification & Data'!B$56)*9.81*('Specification & Data'!B$40/'Specification & Data'!B$39))-('Aerodynamic Resistance'!E14/'Specification & Data'!B$56) -> 5.7551689 | F27: ='Net Resistive Force'!C32-('Specification & Data'!B$26*9.81*'Specification & Data'!B$19/'Specification & Data'!B$56*(('Specification & Data'!B$32-('Specification & Data'!B$26*'Specification & Data'!B$39))/'Specification & Data'!B$30)/(1-('Specification & Data'!B$26*'Specification & Data'!B$39/'Specification & Data'!B$30))) -> 0.78782844 | G27: ='Net Resistive Force'!D32-('Specification & Data'!B$26*9.81*'Specification & Data'!B$19/'Specification & Data'!B$56*(('Specification & Data'!B$32-('Specification & Data'!B$26*'Specification & Data'!B$39))/'Specification & Data'!B$30)/(1-('Specification & Data'!B$26*'Specification & Data'!B$39/'Specification & Data'!B$30))) -> 0.81431882 | H27: ='Net Resistive Force'!E32-('Specification & Data'!B$26*9.81*'Specification & Data'!B$19/'Specification & Data'!B$56*(('Specification & Data'!B$32-('Specification & Data'!B$26*'Specification & Data'!B$39))/'Specification & Data'!B$30)/(1-('Specification & Data'!B$26*'Specification & Data'!B$39/'Specification & Data'!B$30))) -> 0.85531073 | I27: =('Specification & Data'!B$26*9.81*'Specification & Data'!B$19/'Specification & Data'!B$56*(('Specification & Data'!B$32-('Specification & Data'!B$26*'Specification & Data'!B$39))/'Specification & Data'!B$30)/(1-('Specification & Data'!B$26*'Specification & Data'!B$39/'Specification & Data'!B$30)))-'Net Resistive Force'!F32 -> 0.14314056 | J27: =('Specification & Data'!B$26*9.81*'Specification & Data'!B$19/'Specification & Data'!B$56*(('Specification & Data'!B$32-('Specification & Data'!B$26*'Specification & Data'!B$39))/'Specification & Data'!B$30)/(1-('Specification & Data'!B$26*'Specification & Data'!B$39/'Specification & Data'!B$30)))-'Net Resistive Force'!G32 -> 0.11665018 | K27: =('Specification & Data'!B$26*9.81*'Specification & Data'!B$19/'Specification & Data'!B$56*(('Specification & Data'!B$32-('Specification & Data'!B$26*'Specification & Data'!B$39))/'Specification & Data'!B$30)/(1-('Specification & Data'!B$26*'Specification & Data'!B$39/'Specification & Data'!B$30)))-'Net Resistive Force'!H32 -> 0.075658268 | L27: =('Specification & Data'!B$26*9.81*'Specification & Data'!B$19/'Specification & Data'!B$56*(('Specification & Data'!B$32-('Specification & Data'!B$26*'Specification & Data'!B$39))/'Specification & Data'!B$30)/(1-('Specification & Data'!B$26*'Specification & Data'!B$39/'Specification & Data'!B$30)))-'Net Resistive Force'!I32 -> 0.11515505 | M27: =('Specification & Data'!B$26*9.81*'Specification & Data'!B$19/'Specification & Data'!B$56*(('Specification & Data'!B$32-('Specification & Data'!B$26*'Specification & Data'!B$39))/'Specification & Data'!B$30)/(1-('Specification & Data'!B$26*'Specification & Data'!B$39/'Specification & Data'!B$30)))-'Net Resistive Force'!J32 -> 0.080117648 | N27: =('Specification & Data'!B$26*9.81*'Specification & Data'!B$19/'Specification & Data'!B$56*(('Specification & Data'!B$32-('Specification & Data'!B$26*'Specification & Data'!B$39))/'Specification & Data'!B$30)/(1-('Specification & Data'!B$26*'Specification & Data'!B$39/'Specification & Data'!B$30)))-'Net Resistive Force'!K32 -> 0.029200159 | O27: =('Specification & Data'!B$26*9.81*'Specification & Data'!B$19/'Specification & Data'!B$56*(('Specification & Data'!B$32-('Specification & Data'!B$26*'Specification & Data'!B$39))/'Specification & Data'!B$30)/(1-('Specification & Data'!B$26*'Specification & Data'!B$39/'Specification & Data'!B$30)))-'Net Resistive Force'!L32 -> 0.14314056 | P27: =('Specification & Data'!B$26*9.81*'Specification & Data'!B$19/'Specification & Data'!B$56*(('Specification & Data'!B$32-('Specification & Data'!B$26*'Specification & Data'!B$39))/'Specification & Data'!B$30)/(1-('Specification & Data'!B$26*'Specification & Data'!B$39/'Specification & Data'!B$30)))-'Net Resistive Force'!M32 -> 0.11665018 | Q27: =('Specification & Data'!B$26*9.81*'Specification & Data'!B$19/'Specification & Data'!B$56*(('Specification & Data'!B$32-('Specification & Data'!B$26*'Specification & Data'!B$39))/'Specification & Data'!B$30)/(1-('Specification & Data'!B$26*'Specification & Data'!B$39/'Specification & Data'!B$30)))-'Net Resistive Force'!N32 -> 0.075658268 | R27: =('Specification & Data'!B$26*9.81*'Specification & Data'!B$19/'Specification & Data'!B$56*(('Specification & Data'!B$32-('Specification & Data'!B$26*'Specification & Data'!B$39))/'Specification & Data'!B$30)/(1-('Specification & Data'!B$26*'Specification & Data'!B$39/'Specification & Data'!B$30)))-'Net Resistive Force'!O32 -> 0.50453267 | S27: =('Specification & Data'!B$26*9.81*'Specification & Data'!B$19/'Specification & Data'!B$56*(('Specification & Data'!B$32-('Specification & Data'!B$26*'Specification & Data'!B$39))/'Specification & Data'!B$30)/(1-('Specification & Data'!B$26*'Specification & Data'!B$39/'Specification & Data'!B$30)))-'Net Resistive Force'!P32 -> 0.48658931 | T27: =('Specification & Data'!B$26*9.81*'Specification & Data'!B$19/'Specification & Data'!B$56*(('Specification & Data'!B$32-('Specification & Data'!B$26*'Specification & Data'!B$39))/'Specification & Data'!B$30)/(1-('Specification & Data'!B$26*'Specification & Data'!B$39/'Specification & Data'!B$30)))-'Net Resistive Force'!Q32 -> 0.45552297
B28: =B27+500 -> 5500 | C28: =(('Specification & Data'!B$19/'Specification & Data'!B$56)*9.81*('Specification & Data'!B$40/'Specification & Data'!B$39))-('Aerodynamic Resistance'!C15/'Specification & Data'!B$56) -> 5.8087713 | D28: =(('Specification & Data'!B$19/'Specification & Data'!B$56)*9.81*('Specification & Data'!B$40/'Specification & Data'!B$39))-('Aerodynamic Resistance'!D15/'Specification & Data'!B$56) -> 5.7806097 | E28: =(('Specification & Data'!B$19/'Specification & Data'!B$56)*9.81*('Specification & Data'!B$40/'Specification & Data'!B$39))-('Aerodynamic Resistance'!E15/'Specification & Data'!B$56) -> 5.7370318 | F28: ='Net Resistive Force'!C33-('Specification & Data'!B$26*9.81*'Specification & Data'!B$19/'Specification & Data'!B$56*(('Specification & Data'!B$32-('Specification & Data'!B$26*'Specification & Data'!B$39))/'Specification & Data'!B$30)/(1-('Specification & Data'!B$26*'Specification & Data'!B$39/'Specification & Data'!B$30))) -> 0.79430075 | G28: ='Net Resistive Force'!D33-('Specification & Data'!B$26*9.81*'Specification & Data'!B$19/'Specification & Data'!B$56*(('Specification & Data'!B$32-('Specification & Data'!B$26*'Specification & Data'!B$39))/'Specification & Data'!B$30)/(1-('Specification & Data'!B$26*'Specification & Data'!B$39/'Specification & Data'!B$30))) -> 0.82635411 | H28: ='Net Resistive Force'!E33-('Specification & Data'!B$26*9.81*'Specification & Data'!B$19/'Specification & Data'!B$56*(('Specification & Data'!B$32-('Specification & Data'!B$26*'Specification & Data'!B$39))/'Specification & Data'!B$30)/(1-('Specification & Data'!B$26*'Specification & Data'!B$39/'Specification & Data'!B$30))) -> 0.87595433 | I28: =('Specification & Data'!B$26*9.81*'Specification & Data'!B$19/'Specification & Data'!B$56*(('Specification & Data'!B$32-('Specification & Data'!B$26*'Specification & Data'!B$39))/'Specification & Data'!B$30)/(1-('Specification & Data'!B$26*'Specification & Data'!B$39/'Specification & Data'!B$30)))-'Net Resistive Force'!F33 -> 0.13666825 | J28: =('Specification & Data'!B$26*9.81*'Specification & Data'!B$19/'Specification & Data'!B$56*(('Specification & Data'!B$32-('Specification & Data'!B$26*'Specification & Data'!B$39))/'Specification & Data'!B$30)/(1-('Specification & Data'!B$26*'Specification & Data'!B$39/'Specification & Data'!B$30)))-'Net Resistive Force'!G33 -> 0.10461489 | K28: =('Specification & Data'!B$26*9.81*'Specification & Data'!B$19/'Specification & Data'!B$56*(('Specification & Data'!B$32-('Specification & Data'!B$26*'Specification & Data'!B$39))/'Specification & Data'!B$30)/(1-('Specification & Data'!B$26*'Specification & Data'!B$39/'Specification & Data'!B$30)))-'Net Resistive Force'!H33 -> 0.055014673 | L28: =('Specification & Data'!B$26*9.81*'Specification & Data'!B$19/'Specification & Data'!B$56*(('Specification & Data'!B$32-('Specification & Data'!B$26*'Specification & Data'!B$39))/'Specification & Data'!B$30)/(1-('Specification & Data'!B$26*'Specification & Data'!B$39/'Specification & Data'!B$30)))-'Net Resistive Force'!I33 -> 0.1063323 | M28: =('Specification & Data'!B$26*9.81*'Specification & Data'!B$19/'Specification & Data'!B$56*(('Specification & Data'!B$32-('Specification & Data'!B$26*'Specification & Data'!B$39))/'Specification & Data'!B$30)/(1-('Specification & Data'!B$26*'Specification & Data'!B$39/'Specification & Data'!B$30)))-'Net Resistive Force'!J33 -> 0.064877223 | N28: =('Specification & Data'!B$26*9.81*'Specification & Data'!B$19/'Specification & Data'!B$56*(('Specification & Data'!B$32-('Specification & Data'!B$26*'Specification & Data'!B$39))/'Specification & Data'!B$30)/(1-('Specification & Data'!B$26*'Specification & Data'!B$39/'Specification & Data'!B$30)))-'Net Resistive Force'!K33 -> 0.0043588743 | O28: =('Specification & Data'!B$26*9.81*'Specification & Data'!B$19/'Specification & Data'!B$56*(('Specification & Data'!B$32-('Specification & Data'!B$26*'Specification & Data'!B$39))/'Specification & Data'!B$30)/(1-('Specification & Data'!B$26*'Specification & Data'!B$39/'Specification & Data'!B$30)))-'Net Resistive Force'!L33 -> 0.13666825 | P28: =('Specification & Data'!B$26*9.81*'Specification & Data'!B$19/'Specification & Data'!B$56*(('Specification & Data'!B$32-('Specification & Data'!B$26*'Specification & Data'!B$39))/'Specification & Data'!B$30)/(1-('Specification & Data'!B$26*'Specification & Data'!B$39/'Specification & Data'!B$30)))-'Net Resistive Force'!M33 -> 0.10461489 | Q28: =('Specification & Data'!B$26*9.81*'Specification & Data'!B$19/'Specification & Data'!B$56*(('Specification & Data'!B$32-('Specification & Data'!B$26*'Specification & Data'!B$39))/'Specification & Data'!B$30)/(1-('Specification & Data'!B$26*'Specification & Data'!B$39/'Specification & Data'!B$30)))-'Net Resistive Force'!N33 -> 0.055014673 | R28: =('Specification & Data'!B$26*9.81*'Specification & Data'!B$19/'Specification & Data'!B$56*(('Specification & Data'!B$32-('Specification & Data'!B$26*'Specification & Data'!B$39))/'Specification & Data'!B$30)/(1-('Specification & Data'!B$26*'Specification & Data'!B$39/'Specification & Data'!B$30)))-'Net Resistive Force'!O33 -> 0.50041078 | S28: =('Specification & Data'!B$26*9.81*'Specification & Data'!B$19/'Specification & Data'!B$56*(('Specification & Data'!B$32-('Specification & Data'!B$26*'Specification & Data'!B$39))/'Specification & Data'!B$30)/(1-('Specification & Data'!B$26*'Specification & Data'!B$39/'Specification & Data'!B$30)))-'Net Resistive Force'!P33 -> 0.47775915 | T28: =('Specification & Data'!B$26*9.81*'Specification & Data'!B$19/'Specification & Data'!B$56*(('Specification & Data'!B$32-('Specification & Data'!B$26*'Specification & Data'!B$39))/'Specification & Data'!B$30)/(1-('Specification & Data'!B$26*'Specification & Data'!B$39/'Specification & Data'!B$30)))-'Net Resistive Force'!Q33 -> 0.43907706
B29: =B28+500 -> 6000 | C29: =(('Specification & Data'!B$19/'Specification & Data'!B$56)*9.81*('Specification & Data'!B$40/'Specification & Data'!B$39))-('Aerodynamic Resistance'!C16/'Specification & Data'!B$56) -> 5.8025432 | D29: =(('Specification & Data'!B$19/'Specification & Data'!B$56)*9.81*('Specification & Data'!B$40/'Specification & Data'!B$39))-('Aerodynamic Resistance'!D16/'Specification & Data'!B$56) -> 5.7690287 | E29: =(('Specification & Data'!B$19/'Specification & Data'!B$56)*9.81*('Specification & Data'!B$40/'Specification & Data'!B$39))-('Aerodynamic Resistance'!E16/'Specification & Data'!B$56) -> 5.7171674 | F29: ='Net Resistive Force'!C34-('Specification & Data'!B$26*9.81*'Specification & Data'!B$19/'Specification & Data'!B$56*(('Specification & Data'!B$32-('Specification & Data'!B$26*'Specification & Data'!B$39))/'Specification & Data'!B$30)/(1-('Specification & Data'!B$26*'Specification & Data'!B$39/'Specification & Data'!B$30))) -> 0.80138947 | G29: ='Net Resistive Force'!D34-('Specification & Data'!B$26*9.81*'Specification & Data'!B$19/'Specification & Data'!B$56*(('Specification & Data'!B$32-('Specification & Data'!B$26*'Specification & Data'!B$39))/'Specification & Data'!B$30)/(1-('Specification & Data'!B$26*'Specification & Data'!B$39/'Specification & Data'!B$30))) -> 0.83953562 | H29: ='Net Resistive Force'!E34-('Specification & Data'!B$26*9.81*'Specification & Data'!B$19/'Specification & Data'!B$56*(('Specification & Data'!B$32-('Specification & Data'!B$26*'Specification & Data'!B$39))/'Specification & Data'!B$30)/(1-('Specification & Data'!B$26*'Specification & Data'!B$39/'Specification & Data'!B$30))) -> 0.89856398 | I29: =('Specification & Data'!B$26*9.81*'Specification & Data'!B$19/'Specification & Data'!B$56*(('Specification & Data'!B$32-('Specification & Data'!B$26*'Specification & Data'!B$39))/'Specification & Data'!B$30)/(1-('Specification & Data'!B$26*'Specification & Data'!B$39/'Specification & Data'!B$30)))-'Net Resistive Force'!F34 -> 0.12957953 | J29: =('Specification & Data'!B$26*9.81*'Specification & Data'!B$19/'Specification & Data'!B$56*(('Specification & Data'!B$32-('Specification & Data'!B$26*'Specification & Data'!B$39))/'Specification & Data'!B$30)/(1-('Specification & Data'!B$26*'Specification & Data'!B$39/'Specification & Data'!B$30)))-'Net Resistive Force'!G34 -> 0.09143338 | K29: =('Specification & Data'!B$26*9.81*'Specification & Data'!B$19/'Specification & Data'!B$56*(('Specification & Data'!B$32-('Specification & Data'!B$26*'Specification & Data'!B$39))/'Specification & Data'!B$30)/(1-('Specification & Data'!B$26*'Specification & Data'!B$39/'Specification & Data'!B$30)))-'Net Resistive Force'!H34 -> 0.032405022 | L29: =('Specification & Data'!B$26*9.81*'Specification & Data'!B$19/'Specification & Data'!B$56*(('Specification & Data'!B$32-('Specification & Data'!B$26*'Specification & Data'!B$39))/'Specification & Data'!B$30)/(1-('Specification & Data'!B$26*'Specification & Data'!B$39/'Specification & Data'!B$30)))-'Net Resistive Force'!I34 -> 0.09689315 | M29: =('Specification & Data'!B$26*9.81*'Specification & Data'!B$19/'Specification & Data'!B$56*(('Specification & Data'!B$32-('Specification & Data'!B$26*'Specification & Data'!B$39))/'Specification & Data'!B$30)/(1-('Specification & Data'!B$26*'Specification & Data'!B$39/'Specification & Data'!B$30)))-'Net Resistive Force'!J34 -> 0.048490579 | N29: =('Specification & Data'!B$26*9.81*'Specification & Data'!B$19/'Specification & Data'!B$56*(('Specification & Data'!B$32-('Specification & Data'!B$26*'Specification & Data'!B$39))/'Specification & Data'!B$30)/(1-('Specification & Data'!B$26*'Specification & Data'!B$39/'Specification & Data'!B$30)))-'Net Resistive Force'!K34 -> -0.022448467 | O29: =('Specification & Data'!B$26*9.81*'Specification & Data'!B$19/'Specification & Data'!B$56*(('Specification & Data'!B$32-('Specification & Data'!B$26*'Specification & Data'!B$39))/'Specification & Data'!B$30)/(1-('Specification & Data'!B$26*'Specification & Data'!B$39/'Specification & Data'!B$30)))-'Net Resistive Force'!L34 -> 0.12957953 | P29: =('Specification & Data'!B$26*9.81*'Specification & Data'!B$19/'Specification & Data'!B$56*(('Specification & Data'!B$32-('Specification & Data'!B$26*'Specification & Data'!B$39))/'Specification & Data'!B$30)/(1-('Specification & Data'!B$26*'Specification & Data'!B$39/'Specification & Data'!B$30)))-'Net Resistive Force'!M34 -> 0.09143338 | Q29: =('Specification & Data'!B$26*9.81*'Specification & Data'!B$19/'Specification & Data'!B$56*(('Specification & Data'!B$32-('Specification & Data'!B$26*'Specification & Data'!B$39))/'Specification & Data'!B$30)/(1-('Specification & Data'!B$26*'Specification & Data'!B$39/'Specification & Data'!B$30)))-'Net Resistive Force'!N34 -> 0.032405022 | R29: =('Specification & Data'!B$26*9.81*'Specification & Data'!B$19/'Specification & Data'!B$56*(('Specification & Data'!B$32-('Specification & Data'!B$26*'Specification & Data'!B$39))/'Specification & Data'!B$30)/(1-('Specification & Data'!B$26*'Specification & Data'!B$39/'Specification & Data'!B$30)))-'Net Resistive Force'!O34 -> 0.49567249 | S29: =('Specification & Data'!B$26*9.81*'Specification & Data'!B$19/'Specification & Data'!B$56*(('Specification & Data'!B$32-('Specification & Data'!B$26*'Specification & Data'!B$39))/'Specification & Data'!B$30)/(1-('Specification & Data'!B$26*'Specification & Data'!B$39/'Specification & Data'!B$30)))-'Net Resistive Force'!P34 -> 0.46778277 | T29: =('Specification & Data'!B$26*9.81*'Specification & Data'!B$19/'Specification & Data'!B$56*(('Specification & Data'!B$32-('Specification & Data'!B$26*'Specification & Data'!B$39))/'Specification & Data'!B$30)/(1-('Specification & Data'!B$26*'Specification & Data'!B$39/'Specification & Data'!B$30)))-'Net Resistive Force'!Q34 -> 0.4206651
B30: =B29+500 -> 6500 | C30: =(('Specification & Data'!B$19/'Specification & Data'!B$56)*9.81*('Specification & Data'!B$40/'Specification & Data'!B$39))-('Aerodynamic Resistance'!C17/'Specification & Data'!B$56) -> 5.7957736 | D30: =(('Specification & Data'!B$19/'Specification & Data'!B$56)*9.81*('Specification & Data'!B$40/'Specification & Data'!B$39))-('Aerodynamic Resistance'!D17/'Specification & Data'!B$56) -> 5.7564406 | E30: =(('Specification & Data'!B$19/'Specification & Data'!B$56)*9.81*('Specification & Data'!B$40/'Specification & Data'!B$39))-('Aerodynamic Resistance'!E17/'Specification & Data'!B$56) -> 5.6955756 | F30: ='Net Resistive Force'!C35-('Specification & Data'!B$26*9.81*'Specification & Data'!B$19/'Specification & Data'!B$56*(('Specification & Data'!B$32-('Specification & Data'!B$26*'Specification & Data'!B$39))/'Specification & Data'!B$30)/(1-('Specification & Data'!B$26*'Specification & Data'!B$39/'Specification & Data'!B$30))) -> 0.80909461 | G30: ='Net Resistive Force'!D35-('Specification & Data'!B$26*9.81*'Specification & Data'!B$19/'Specification & Data'!B$56*(('Specification & Data'!B$32-('Specification & Data'!B$26*'Specification & Data'!B$39))/'Specification & Data'!B$30)/(1-('Specification & Data'!B$26*'Specification & Data'!B$39/'Specification & Data'!B$30))) -> 0.85386335 | H30: ='Net Resistive Force'!E35-('Specification & Data'!B$26*9.81*'Specification & Data'!B$19/'Specification & Data'!B$56*(('Specification & Data'!B$32-('Specification & Data'!B$26*'Specification & Data'!B$39))/'Specification & Data'!B$30)/(1-('Specification & Data'!B$26*'Specification & Data'!B$39/'Specification & Data'!B$30))) -> 0.92313969 | I30: =('Specification & Data'!B$26*9.81*'Specification & Data'!B$19/'Specification & Data'!B$56*(('Specification & Data'!B$32-('Specification & Data'!B$26*'Specification & Data'!B$39))/'Specification & Data'!B$30)/(1-('Specification & Data'!B$26*'Specification & Data'!B$39/'Specification & Data'!B$30)))-'Net Resistive Force'!F35 -> 0.12187439 | J30: =('Specification & Data'!B$26*9.81*'Specification & Data'!B$19/'Specification & Data'!B$56*(('Specification & Data'!B$32-('Specification & Data'!B$26*'Specification & Data'!B$39))/'Specification & Data'!B$30)/(1-('Specification & Data'!B$26*'Specification & Data'!B$39/'Specification & Data'!B$30)))-'Net Resistive Force'!G35 -> 0.077105652 | K30: =('Specification & Data'!B$26*9.81*'Specification & Data'!B$19/'Specification & Data'!B$56*(('Specification & Data'!B$32-('Specification & Data'!B$26*'Specification & Data'!B$39))/'Specification & Data'!B$30)/(1-('Specification & Data'!B$26*'Specification & Data'!B$39/'Specification & Data'!B$30)))-'Net Resistive Force'!H35 -> 0.0078293145 | L30: =('Specification & Data'!B$26*9.81*'Specification & Data'!B$19/'Specification & Data'!B$56*(('Specification & Data'!B$32-('Specification & Data'!B$26*'Specification & Data'!B$39))/'Specification & Data'!B$30)/(1-('Specification & Data'!B$26*'Specification & Data'!B$39/'Specification & Data'!B$30)))-'Net Resistive Force'!I35 -> 0.086837585 | M30: =('Specification & Data'!B$26*9.81*'Specification & Data'!B$19/'Specification & Data'!B$56*(('Specification & Data'!B$32-('Specification & Data'!B$26*'Specification & Data'!B$39))/'Specification & Data'!B$30)/(1-('Specification & Data'!B$26*'Specification & Data'!B$39/'Specification & Data'!B$30)))-'Net Resistive Force'!J35 -> 0.030957717 | N30: =('Specification & Data'!B$26*9.81*'Specification & Data'!B$19/'Specification & Data'!B$56*(('Specification & Data'!B$32-('Specification & Data'!B$26*'Specification & Data'!B$39))/'Specification & Data'!B$30)/(1-('Specification & Data'!B$26*'Specification & Data'!B$39/'Specification & Data'!B$30)))-'Net Resistive Force'!K35 -> -0.051221865 | O30: =('Specification & Data'!B$26*9.81*'Specification & Data'!B$19/'Specification & Data'!B$56*(('Specification & Data'!B$32-('Specification & Data'!B$26*'Specification & Data'!B$39))/'Specification & Data'!B$30)/(1-('Specification & Data'!B$26*'Specification & Data'!B$39/'Specification & Data'!B$30)))-'Net Resistive Force'!L35 -> 0.12187439 | P30: =('Specification & Data'!B$26*9.81*'Specification & Data'!B$19/'Specification & Data'!B$56*(('Specification & Data'!B$32-('Specification & Data'!B$26*'Specification & Data'!B$39))/'Specification & Data'!B$30)/(1-('Specification & Data'!B$26*'Specification & Data'!B$39/'Specification & Data'!B$30)))-'Net Resistive Force'!M35 -> 0.077105652 | Q30: =('Specification & Data'!B$26*9.81*'Specification & Data'!B$19/'Specification & Data'!B$56*(('Specification & Data'!B$32-('Specification & Data'!B$26*'Specification & Data'!B$39))/'Specification & Data'!B$30)/(1-('Specification & Data'!B$26*'Specification & Data'!B$39/'Specification & Data'!B$30)))-'Net Resistive Force'!N35 -> 0.0078293145 | R30: =('Specification & Data'!B$26*9.81*'Specification & Data'!B$19/'Specification & Data'!B$56*(('Specification & Data'!B$32-('Specification & Data'!B$26*'Specification & Data'!B$39))/'Specification & Data'!B$30)/(1-('Specification & Data'!B$26*'Specification & Data'!B$39/'Specification & Data'!B$30)))-'Net Resistive Force'!O35 -> 0.49031779 | S30: =('Specification & Data'!B$26*9.81*'Specification & Data'!B$19/'Specification & Data'!B$56*(('Specification & Data'!B$32-('Specification & Data'!B$26*'Specification & Data'!B$39))/'Specification & Data'!B$30)/(1-('Specification & Data'!B$26*'Specification & Data'!B$39/'Specification & Data'!B$30)))-'Net Resistive Force'!P35 -> 0.45666018 | T30: =('Specification & Data'!B$26*9.81*'Specification & Data'!B$19/'Specification & Data'!B$56*(('Specification & Data'!B$32-('Specification & Data'!B$26*'Specification & Data'!B$39))/'Specification & Data'!B$30)/(1-('Specification & Data'!B$26*'Specification & Data'!B$39/'Specification & Data'!B$30)))-'Net Resistive Force'!Q35 -> 0.40028708

Sheet Aerodynamic Resistance
B2: Aerodynamic Force acting on each Gear in all Terrain
C4: Terrain AB | F4: Terrain BC | I4: Terrain CD | L4: Terrain DE | O4: Terrain EF
B5: RPM | C5: Gear 1 | D5: Gear 2 | E5: Gear 3 | F5: Gear 1 | G5: Gear 2 | H5: Gear 3 | I5: Gear 1 | J5: Gear 2 | K5: Gear 3 | L5: Gear 1 | M5: Gear 2 | N5: Gear 3 | O5: Gear 1 | P5: Gear 2 | Q5: Gear 3
B6: 1000 | C6: =('Specification & Data'!B$23*'Specification & Data'!B$21*'Specification & Data'!B$11*(('Acceleration & Deceleration'!F4/3.6)^2))/2 -> 0.64317529 | D6: =('Specification & Data'!B$23*'Specification & Data'!B$21*'Specification & Data'!B$11*(('Acceleration & Deceleration'!G4/3.6)^2))/2 -> 1.1959871 | E6: =('Specification & Data'!B$23*'Specification & Data'!B$21*'Specification & Data'!B$11*(('Acceleration & Deceleration'!H4/3.6)^2))/2 -> 2.0514228 | F6: =('Specification & Data'!B$23*'Specification & Data'!B$21*'Specification & Data'!B$11*(('Acceleration & Deceleration'!F4/3.6)^2))/2 -> 0.64317529 | G6: =('Specification & Data'!B$23*'Specification & Data'!B$21*'Specification & Data'!B$11*(('Acceleration & Deceleration'!G4/3.6)^2))/2 -> 1.1959871 | H6: =('Specification & Data'!B$23*'Specification & Data'!B$21*'Specification & Data'!B$11*(('Acceleration & Deceleration'!H4/3.6)^2))/2 -> 2.0514228 | I6: =('Specification & Data'!B$21*'Specification & Data'!B$23*'Specification & Data'!B$11*('Acceleration & Deceleration'!F4/3.6+'Specification & Data'!B$22)^2)/2 -> 5.4335512 | J6: =('Specification & Data'!B$21*'Specification & Data'!B$23*'Specification & Data'!B$11*('Acceleration & Deceleration'!G4/3.6+'Specification & Data'!B$22)^2)/2 -> 6.8781764 | K6: =('Specification & Data'!B$21*'Specification & Data'!B$23*'Specification & Data'!B$11*('Acceleration & Deceleration'!H4/3.6+'Specification & Data'!B$22)^2)/2 -> 8.7692662 | L6: =('Specification & Data'!B$23*'Specification & Data'!B$21*'Specification & Data'!B$11*(('Acceleration & Deceleration'!F4/3.6)^2))/2 -> 0.64317529 | M6: =('Specification & Data'!B$23*'Specification & Data'!B$21*'Specification & Data'!B$11*(('Acceleration & Deceleration'!G4/3.6)^2))/2 -> 1.1959871 | N6: =('Specification & Data'!B$23*'Specification & Data'!B$21*'Specification & Data'!B$11*(('Acceleration & Deceleration'!H4/3.6)^2))/2 -> 2.0514228 | O6: =('Specification & Data'!B$21*'Specification & Data'!B$23*'Specification & Data'!B$11*('Acceleration & Deceleration'!F4/3.6-'Specification & Data'!B$22)^2)/2 -> 0.52857801 | P6: =('Specification & Data'!B$21*'Specification & Data'!B$23*'Specification & Data'!B$11*('Acceleration & Deceleration'!G4/3.6-'Specification & Data'!B$22)^2)/2 -> 0.18957651 | Q6: =('Specification & Data'!B$21*'Specification & Data'!B$23*'Specification & Data'!B$11*('Acceleration & Deceleration'!H4/3.6-'Specification & Data'!B$22)^2)/2 -> 0.0093580327
B7: =B6+500 -> 1500 | C7: =('Specification & Data'!B$23*'Specification & Data'!B$21*'Specification & Data'!B$11*(('Acceleration & Deceleration'!F5/3.6)^2))/2 -> 1.4471444 | D7: =('Specification & Data'!B$23*'Specification & Data'!B$21*'Specification & Data'!B$11*(('Acceleration & Deceleration'!G5/3.6)^2))/2 -> 2.690971 | E7: =('Specification & Data'!B$23*'Specification & Data'!B$21*'Specification & Data'!B$11*(('Acceleration & Deceleration'!H5/3.6)^2))/2 -> 4.6157013 | F7: =('Specification & Data'!B$23*'Specification & Data'!B$21*'Specification & Data'!B$11*(('Acceleration & Deceleration'!F5/3.6)^2))/2 -> 1.4471444 | G7: =('Specification & Data'!B$23*'Specification & Data'!B$21*'Specification & Data'!B$11*(('Acceleration & Deceleration'!G5/3.6)^2))/2 -> 2.690971 | H7: =('Specification & Data'!B$23*'Specification & Data'!B$21*'Specification & Data'!B$11*(('Acceleration & Deceleration'!H5/3.6)^2))/2 -> 4.6157013 | I7: =('Specification & Data'!B$21*'Specification & Data'!B$23*'Specification & Data'!B$11*('Acceleration & Deceleration'!F5/3.6+'Specification & Data'!B$22)^2)/2 -> 7.4637637 | J7: =('Specification & Data'!B$21*'Specification & Data'!B$23*'Specification & Data'!B$11*('Acceleration & Deceleration'!G5/3.6+'Specification & Data'!B$22)^2)/2 -> 10.04531 | K7: =('Specification & Data'!B$21*'Specification & Data'!B$23*'Specification & Data'!B$11*('Acceleration & Deceleration'!H5/3.6+'Specification & Data'!B$22)^2)/2 -> 13.523522 | L7: =('Specification & Data'!B$23*'Specification & Data'!B$21*'Specification & Data'!B$11*(('Acceleration & Deceleration'!F5/3.6)^2))/2 -> 1.4471444 | M7: =('Specification & Data'!B$23*'Specification & Data'!B$21*'Specification & Data'!B$11*(('Acceleration & Deceleration'!G5/3.6)^2))/2 -> 2.690971 | N7: =('Specification & Data'!B$23*'Specification & Data'!B$21*'Specification & Data'!B$11*(('Acceleration & Deceleration'!H5/3.6)^2))/2 -> 4.6157013 | O7: =('Specification & Data'!B$21*'Specification & Data'!B$23*'Specification & Data'!B$11*('Acceleration & Deceleration'!F5/3.6-'Specification & Data'!B$22)^2)/2 -> 0.10630381 | P7: =('Specification & Data'!B$21*'Specification & Data'!B$23*'Specification & Data'!B$11*('Acceleration & Deceleration'!G5/3.6-'Specification & Data'!B$22)^2)/2 -> 0.012410433 | Q7: =('Specification & Data'!B$21*'Specification & Data'!B$23*'Specification & Data'!B$11*('Acceleration & Deceleration'!H5/3.6-'Specification & Data'!B$22)^2)/2 -> 0.38365948
B8: =B7+500 -> 2000 | C8: =('Specification & Data'!B$23*'Specification & Data'!B$21*'Specification & Data'!B$11*(('Acceleration & Deceleration'!F6/3.6)^2))/2 -> 2.5727012 | D8: =('Specification & Data'!B$23*'Specification & Data'!B$21*'Specification & Data'!B$11*(('Acceleration & Deceleration'!G6/3.6)^2))/2 -> 4.7839484 | E8: =('Specification & Data'!B$23*'Specification & Data'!B$21*'Specification & Data'!B$11*(('Acceleration & Deceleration'!H6/3.6)^2))/2 -> 8.2056912 | F8: =('Specification & Data'!B$23*'Specification & Data'!B$21*'Specification & Data'!B$11*(('Acceleration & Deceleration'!F6/3.6)^2))/2 -> 2.5727012 | G8: =('Specification & Data'!B$23*'Specification & Data'!B$21*'Specification & Data'!B$11*(('Acceleration & Deceleration'!G6/3.6)^2))/2 -> 4.7839484 | H8: =('Specification & Data'!B$23*'Specification & Data'!B$21*'Specification & Data'!B$11*(('Acceleration & Deceleration'!H6/3.6)^2))/2 -> 8.2056912 | I8: =('Specification & Data'!B$21*'Specification & Data'!B$23*'Specification & Data'!B$11*('Acceleration & Deceleration'!F6/3.6+'Specification & Data'!B$22)^2)/2 -> 9.8155637 | J8: =('Specification & Data'!B$21*'Specification & Data'!B$23*'Specification & Data'!B$11*('Acceleration & Deceleration'!G6/3.6+'Specification & Data'!B$22)^2)/2 -> 13.810438 | K8: =('Specification & Data'!B$21*'Specification & Data'!B$23*'Specification & Data'!B$11*('Acceleration & Deceleration'!H6/3.6+'Specification & Data'!B$22)^2)/2 -> 19.303489 | L8: =('Specification & Data'!B$23*'Specification & Data'!B$21*'Specification & Data'!B$11*(('Acceleration & Deceleration'!F6/3.6)^2))/2 -> 2.5727012 | M8: =('Specification & Data'!B$23*'Specification & Data'!B$21*'Specification & Data'!B$11*(('Acceleration & Deceleration'!G6/3.6)^2))/2 -> 4.7839484 | N8: =('Specification & Data'!B$23*'Specification & Data'!B$21*'Specification & Data'!B$11*(('Acceleration & Deceleration'!H6/3.6)^2))/2 -> 8.2056912 | O8: =('Specification & Data'!B$21*'Specification & Data'!B$23*'Specification & Data'!B$11*('Acceleration & Deceleration'!F6/3.6-'Specification & Data'!B$22)^2)/2 -> 0.0056172615 | P8: =('Specification & Data'!B$21*'Specification & Data'!B$23*'Specification & Data'!B$11*('Acceleration & Deceleration'!G6/3.6-'Specification & Data'!B$22)^2)/2 -> 0.4332379 | Q8: =('Specification & Data'!B$21*'Specification & Data'!B$23*'Specification & Data'!B$11*('Acceleration & Deceleration'!H6/3.6-'Specification & Data'!B$22)^2)/2 -> 1.7836723
B9: =B8+500 -> 2500 | C9: =('Specification & Data'!B$23*'Specification & Data'!B$21*'Specification & Data'!B$11*(('Acceleration & Deceleration'!F7/3.6)^2))/2 -> 4.0198455 | D9: =('Specification & Data'!B$23*'Specification & Data'!B$21*'Specification & Data'!B$11*(('Acceleration & Deceleration'!G7/3.6)^2))/2 -> 7.4749194 | E9: =('Specification & Data'!B$23*'Specification & Data'!B$21*'Specification & Data'!B$11*(('Acceleration & Deceleration'!H7/3.6)^2))/2 -> 12.821392 | F9: =('Specification & Data'!B$23*'Specification & Data'!B$21*'Specification & Data'!B$11*(('Acceleration & Deceleration'!F7/3.6)^2))/2 -> 4.0198455 | G9: =('Specification & Data'!B$23*'Specification & Data'!B$21*'Specification & Data'!B$11*(('Acceleration & Deceleration'!G7/3.6)^2))/2 -> 7.4749194 | H9: =('Specification & Data'!B$23*'Specification & Data'!B$21*'Specification & Data'!B$11*(('Acceleration & Deceleration'!H7/3.6)^2))/2 -> 12.821392 | I9: =('Specification & Data'!B$21*'Specification & Data'!B$23*'Specification & Data'!B$11*('Acceleration & Deceleration'!F7/3.6+'Specification & Data'!B$22)^2)/2 -> 12.488951 | J9: =('Specification & Data'!B$21*'Specification & Data'!B$23*'Specification & Data'!B$11*('Acceleration & Deceleration'!G7/3.6+'Specification & Data'!B$22)^2)/2 -> 18.173559 | K9: =('Specification & Data'!B$21*'Specification & Data'!B$23*'Specification & Data'!B$11*('Acceleration & Deceleration'!H7/3.6+'Specification & Data'!B$22)^2)/2 -> 26.109167 | L9: =('Specification & Data'!B$23*'Specification & Data'!B$21*'Specification & Data'!B$11*(('Acceleration & Deceleration'!F7/3.6)^2))/2 -> 4.0198455 | M9: =('Specification & Data'!B$23*'Specification & Data'!B$21*'Specification & Data'!B$11*(('Acceleration & Deceleration'!G7/3.6)^2))/2 -> 7.4749194 | N9: =('Specification & Data'!B$23*'Specification & Data'!B$21*'Specification & Data'!B$11*(('Acceleration & Deceleration'!H7/3.6)^2))/2 -> 12.821392 | O9: =('Specification & Data'!B$21*'Specification & Data'!B$23*'Specification & Data'!B$11*('Acceleration & Deceleration'!F7/3.6-'Specification & Data'!B$22)^2)/2 -> 0.22651835 | P9: =('Specification & Data'!B$21*'Specification & Data'!B$23*'Specification & Data'!B$11*('Acceleration & Deceleration'!G7/3.6-'Specification & Data'!B$22)^2)/2 -> 1.4520589 | Q9: =('Specification & Data'!B$21*'Specification & Data'!B$23*'Specification & Data'!B$11*('Acceleration & Deceleration'!H7/3.6-'Specification & Data'!B$22)^2)/2 -> 4.2093966
B10: =B9+500 -> 3000 | C10: =('Specification & Data'!B$23*'Specification & Data'!B$21*'Specification & Data'!B$11*(('Acceleration & Deceleration'!F8/3.6)^2))/2 -> 5.7885776 | D10: =('Specification & Data'!B$23*'Specification & Data'!B$21*'Specification & Data'!B$11*(('Acceleration & Deceleration'!G8/3.6)^2))/2 -> 10.763884 | E10: =('Specification & Data'!B$23*'Specification & Data'!B$21*'Specification & Data'!B$11*(('Acceleration & Deceleration'!H8/3.6)^2))/2 -> 18.462805 | F10: =('Specification & Data'!B$23*'Specification & Data'!B$21*'Specification & Data'!B$11*(('Acceleration & Deceleration'!F8/3.6)^2))/2 -> 5.7885776 | G10: =('Specification & Data'!B$23*'Specification & Data'!B$21*'Specification & Data'!B$11*(('Acceleration & Deceleration'!G8/3.6)^2))/2 -> 10.763884 | H10: =('Specification & Data'!B$23*'Specification & Data'!B$21*'Specification & Data'!B$11*(('Acceleration & Deceleration'!H8/3.6)^2))/2 -> 18.462805 | I10: =('Specification & Data'!B$21*'Specification & Data'!B$23*'Specification & Data'!B$11*('Acceleration & Deceleration'!F8/3.6+'Specification & Data'!B$22)^2)/2 -> 15.483927 | J10: =('Specification & Data'!B$21*'Specification & Data'!B$23*'Specification & Data'!B$11*('Acceleration & Deceleration'!G8/3.6+'Specification & Data'!B$22)^2)/2 -> 23.134673 | K10: =('Specification & Data'!B$21*'Specification & Data'!B$23*'Specification & Data'!B$11*('Acceleration & Deceleration'!H8/3.6+'Specification & Data'!B$22)^2)/2 -> 33.940557 | L10: =('Specification & Data'!B$23*'Specification & Data'!B$21*'Specification & Data'!B$11*(('Acceleration & Deceleration'!F8/3.6)^2))/2 -> 5.7885776 | M10: =('Specification & Data'!B$23*'Specification & Data'!B$21*'Specification & Data'!B$11*(('Acceleration & Deceleration'!G8/3.6)^2))/2 -> 10.763884 | N10: =('Specification & Data'!B$23*'Specification & Data'!B$21*'Specification & Data'!B$11*(('Acceleration & Deceleration'!H8/3.6)^2))/2 -> 18.462805 | O10: =('Specification & Data'!B$21*'Specification & Data'!B$23*'Specification & Data'!B$11*('Acceleration & Deceleration'!F8/3.6-'Specification & Data'!B$22)^2)/2 -> 0.76900709 | P10: =('Specification & Data'!B$21*'Specification & Data'!B$23*'Specification & Data'!B$11*('Acceleration & Deceleration'!G8/3.6-'Specification & Data'!B$22)^2)/2 -> 3.0688735 | Q10: =('Specification & Data'!B$21*'Specification & Data'!B$23*'Specification & Data'!B$11*('Acceleration & Deceleration'!H8/3.6-'Specification & Data'!B$22)^2)/2 -> 7.6608322
B11: =B10+500 -> 3500 | C11: =('Specification & Data'!B$23*'Specification & Data'!B$21*'Specification & Data'!B$11*(('Acceleration & Deceleration'!F9/3.6)^2))/2 -> 7.8788973 | D11: =('Specification & Data'!B$23*'Specification & Data'!B$21*'Specification & Data'!B$11*(('Acceleration & Deceleration'!G9/3.6)^2))/2 -> 14.650842 | E11: =('Specification & Data'!B$23*'Specification & Data'!B$21*'Specification & Data'!B$11*(('Acceleration & Deceleration'!H9/3.6)^2))/2 -> 25.129929 | F11: =('Specification & Data'!B$23*'Specification & Data'!B$21*'Specification & Data'!B$11*(('Acceleration & Deceleration'!F9/3.6)^2))/2 -> 7.8788973 | G11: =('Specification & Data'!B$23*'Specification & Data'!B$21*'Specification & Data'!B$11*(('Acceleration & Deceleration'!G9/3.6)^2))/2 -> 14.650842 | H11: =('Specification & Data'!B$23*'Specification & Data'!B$21*'Specification & Data'!B$11*(('Acceleration & Deceleration'!H9/3.6)^2))/2 -> 25.129929 | I11: =('Specification & Data'!B$21*'Specification & Data'!B$23*'Specification & Data'!B$11*('Acceleration & Deceleration'!F9/3.6+'Specification & Data'!B$22)^2)/2 -> 18.80049 | J11: =('Specification & Data'!B$21*'Specification & Data'!B$23*'Specification & Data'!B$11*('Acceleration & Deceleration'!G9/3.6+'Specification & Data'!B$22)^2)/2 -> 28.693781 | K11: =('Specification & Data'!B$21*'Specification & Data'!B$23*'Specification & Data'!B$11*('Acceleration & Deceleration'!H9/3.6+'Specification & Data'!B$22)^2)/2 -> 42.797658 | L11: =('Specification & Data'!B$23*'Specification & Data'!B$21*'Specification & Data'!B$11*(('Acceleration & Deceleration'!F9/3.6)^2))/2 -> 7.8788973 | M11: =('Specification & Data'!B$23*'Specification & Data'!B$21*'Specification & Data'!B$11*(('Acceleration & Deceleration'!G9/3.6)^2))/2 -> 14.650842 | N11: =('Specification & Data'!B$23*'Specification & Data'!B$21*'Specification & Data'!B$11*(('Acceleration & Deceleration'!H9/3.6)^2))/2 -> 25.129929 | O11: =('Specification & Data'!B$21*'Specification & Data'!B$23*'Specification & Data'!B$11*('Acceleration & Deceleration'!F9/3.6-'Specification & Data'!B$22)^2)/2 -> 1.6330835 | P11: =('Specification & Data'!B$21*'Specification & Data'!B$23*'Specification & Data'!B$11*('Acceleration & Deceleration'!G9/3.6-'Specification & Data'!B$22)^2)/2 -> 5.2836816 | Q11: =('Specification & Data'!B$21*'Specification & Data'!B$23*'Specification & Data'!B$11*('Acceleration & Deceleration'!H9/3.6-'Specification & Data'!B$22)^2)/2 -> 12.137979
B12: =B11+500 -> 4000 | C12: =('Specification & Data'!B$23*'Specification & Data'!B$21*'Specification & Data'!B$11*(('Acceleration & Deceleration'!F10/3.6)^2))/2 -> 10.290805 | D12: =('Specification & Data'!B$23*'Specification & Data'!B$21*'Specification & Data'!B$11*(('Acceleration & Deceleration'!G10/3.6)^2))/2 -> 19.135794 | E12: =('Specification & Data'!B$23*'Specification & Data'!B$21*'Specification & Data'!B$11*(('Acceleration & Deceleration'!H10/3.6)^2))/2 -> 32.822765 | F12: =('Specification & Data'!B$23*'Specification & Data'!B$21*'Specification & Data'!B$11*(('Acceleration & Deceleration'!F10/3.6)^2))/2 -> 10.290805 | G12: =('Specification & Data'!B$23*'Specification & Data'!B$21*'Specification & Data'!B$11*(('Acceleration & Deceleration'!G10/3.6)^2))/2 -> 19.135794 | H12: =('Specification & Data'!B$23*'Specification & Data'!B$21*'Specification & Data'!B$11*(('Acceleration & Deceleration'!H10/3.6)^2))/2 -> 32.822765 | I12: =('Specification & Data'!B$21*'Specification & Data'!B$23*'Specification & Data'!B$11*('Acceleration & Deceleration'!F10/3.6+'Specification & Data'!B$22)^2)/2 -> 22.43864 | J12: =('Specification & Data'!B$21*'Specification & Data'!B$23*'Specification & Data'!B$11*('Acceleration & Deceleration'!G10/3.6+'Specification & Data'!B$22)^2)/2 -> 34.850883 | K12: =('Specification & Data'!B$21*'Specification & Data'!B$23*'Specification & Data'!B$11*('Acceleration & Deceleration'!H10/3.6+'Specification & Data'!B$22)^2)/2 -> 52.68047 | L12: =('Specification & Data'!B$23*'Specification & Data'!B$21*'Specification & Data'!B$11*(('Acceleration & Deceleration'!F10/3.6)^2))/2 -> 10.290805 | M12: =('Specification & Data'!B$23*'Specification & Data'!B$21*'Specification & Data'!B$11*(('Acceleration & Deceleration'!G10/3.6)^2))/2 -> 19.135794 | N12: =('Specification & Data'!B$23*'Specification & Data'!B$21*'Specification & Data'!B$11*(('Acceleration & Deceleration'!H10/3.6)^2))/2 -> 32.822765 | O12: =('Specification & Data'!B$21*'Specification & Data'!B$23*'Specification & Data'!B$11*('Acceleration & Deceleration'!F10/3.6-'Specification & Data'!B$22)^2)/2 -> 2.8187475 | P12: =('Specification & Data'!B$21*'Specification & Data'!B$23*'Specification & Data'!B$11*('Acceleration & Deceleration'!G10/3.6-'Specification & Data'!B$22)^2)/2 -> 8.0964833 | Q12: =('Specification & Data'!B$21*'Specification & Data'!B$23*'Specification & Data'!B$11*('Acceleration & Deceleration'!H10/3.6-'Specification & Data'!B$22)^2)/2 -> 17.640838
B13: =B12+500 -> 4500 | C13: =('Specification & Data'!B$23*'Specification & Data'!B$21*'Specification & Data'!B$11*(('Acceleration & Deceleration'!F11/3.6)^2))/2 -> 13.0243 | D13: =('Specification & Data'!B$23*'Specification & Data'!B$21*'Specification & Data'!B$11*(('Acceleration & Deceleration'!G11/3.6)^2))/2 -> 24.218739 | E13: =('Specification & Data'!B$23*'Specification & Data'!B$21*'Specification & Data'!B$11*(('Acceleration & Deceleration'!H11/3.6)^2))/2 -> 41.541312 | F13: =('Specification & Data'!B$23*'Specification & Data'!B$21*'Specification & Data'!B$11*(('Acceleration & Deceleration'!F11/3.6)^2))/2 -> 13.0243 | G13: =('Specification & Data'!B$23*'Specification & Data'!B$21*'Specification & Data'!B$11*(('Acceleration & Deceleration'!G11/3.6)^2))/2 -> 24.218739 | H13: =('Specification & Data'!B$23*'Specification & Data'!B$21*'Specification & Data'!B$11*(('Acceleration & Deceleration'!H11/3.6)^2))/2 -> 41.541312 | I13: =('Specification & Data'!B$21*'Specification & Data'!B$23*'Specification & Data'!B$11*('Acceleration & Deceleration'!F11/3.6+'Specification & Data'!B$22)^2)/2 -> 26.398379 | J13: =('Specification & Data'!B$21*'Specification & Data'!B$23*'Specification & Data'!B$11*('Acceleration & Deceleration'!G11/3.6+'Specification & Data'!B$22)^2)/2 -> 41.605978 | K13: =('Specification & Data'!B$21*'Specification & Data'!B$23*'Specification & Data'!B$11*('Acceleration & Deceleration'!H11/3.6+'Specification & Data'!B$22)^2)/2 -> 63.588994 | L13: =('Specification & Data'!B$23*'Specification & Data'!B$21*'Specification & Data'!B$11*(('Acceleration & Deceleration'!F11/3.6)^2))/2 -> 13.0243 | M13: =('Specification & Data'!B$23*'Specification & Data'!B$21*'Specification & Data'!B$11*(('Acceleration & Deceleration'!G11/3.6)^2))/2 -> 24.218739 | N13: =('Specification & Data'!B$23*'Specification & Data'!B$21*'Specification & Data'!B$11*(('Acceleration & Deceleration'!H11/3.6)^2))/2 -> 41.541312 | O13: =('Specification & Data'!B$21*'Specification & Data'!B$23*'Specification & Data'!B$11*('Acceleration & Deceleration'!F11/3.6-'Specification & Data'!B$22)^2)/2 -> 4.3259992 | P13: =('Specification & Data'!B$21*'Specification & Data'!B$23*'Specification & Data'!B$11*('Acceleration & Deceleration'!G11/3.6-'Specification & Data'!B$22)^2)/2 -> 11.507279 | Q13: =('Specification & Data'!B$21*'Specification & Data'!B$23*'Specification & Data'!B$11*('Acceleration & Deceleration'!H11/3.6-'Specification & Data'!B$22)^2)/2 -> 24.169407
B14: =B13+500 -> 5000 | C14: =('Specification & Data'!B$23*'Specification & Data'!B$21*'Specification & Data'!B$11*(('Acceleration & Deceleration'!F12/3.6)^2))/2 -> 16.079382 | D14: =('Specification & Data'!B$23*'Specification & Data'!B$21*'Specification & Data'!B$11*(('Acceleration & Deceleration'!G12/3.6)^2))/2 -> 29.899678 | E14: =('Specification & Data'!B$23*'Specification & Data'!B$21*'Specification & Data'!B$11*(('Acceleration & Deceleration'!H12/3.6)^2))/2 -> 51.28557 | F14: =('Specification & Data'!B$23*'Specification & Data'!B$21*'Specification & Data'!B$11*(('Acceleration & Deceleration'!F12/3.6)^2))/2 -> 16.079382 | G14: =('Specification & Data'!B$23*'Specification & Data'!B$21*'Specification & Data'!B$11*(('Acceleration & Deceleration'!G12/3.6)^2))/2 -> 29.899678 | H14: =('Specification & Data'!B$23*'Specification & Data'!B$21*'Specification & Data'!B$11*(('Acceleration & Deceleration'!H12/3.6)^2))/2 -> 51.28557 | I14: =('Specification & Data'!B$21*'Specification & Data'!B$23*'Specification & Data'!B$11*('Acceleration & Deceleration'!F12/3.6+'Specification & Data'!B$22)^2)/2 -> 30.679705 | J14: =('Specification & Data'!B$21*'Specification & Data'!B$23*'Specification & Data'!B$11*('Acceleration & Deceleration'!G12/3.6+'Specification & Data'!B$22)^2)/2 -> 48.959067 | K14: =('Specification & Data'!B$21*'Specification & Data'!B$23*'Specification & Data'!B$11*('Acceleration & Deceleration'!H12/3.6+'Specification & Data'!B$22)^2)/2 -> 75.52323 | L14: =('Specification & Data'!B$23*'Specification & Data'!B$21*'Specification & Data'!B$11*(('Acceleration & Deceleration'!F12/3.6)^2))/2 -> 16.079382 | M14: =('Specification & Data'!B$23*'Specification & Data'!B$21*'Specification & Data'!B$11*(('Acceleration & Deceleration'!G12/3.6)^2))/2 -> 29.899678 | N14: =('Specification & Data'!B$23*'Specification & Data'!B$21*'Specification & Data'!B$11*(('Acceleration & Deceleration'!H12/3.6)^2))/2 -> 51.28557 | O14: =('Specification & Data'!B$21*'Specification & Data'!B$23*'Specification & Data'!B$11*('Acceleration & Deceleration'!F12/3.6-'Specification & Data'!B$22)^2)/2 -> 6.1548385 | P14: =('Specification & Data'!B$21*'Specification & Data'!B$23*'Specification & Data'!B$11*('Acceleration & Deceleration'!G12/3.6-'Specification & Data'!B$22)^2)/2 -> 15.516067 | Q14: =('Specification & Data'!B$21*'Specification & Data'!B$23*'Specification & Data'!B$11*('Acceleration & Deceleration'!H12/3.6-'Specification & Data'!B$22)^2)/2 -> 31.723689
B15: =B14+500 -> 5500 | C15: =('Specification & Data'!B$23*'Specification & Data'!B$21*'Specification & Data'!B$11*(('Acceleration & Deceleration'!F13/3.6)^2))/2 -> 19.456052 | D15: =('Specification & Data'!B$23*'Specification & Data'!B$21*'Specification & Data'!B$11*(('Acceleration & Deceleration'!G13/3.6)^2))/2 -> 36.17861 | E15: =('Specification & Data'!B$23*'Specification & Data'!B$21*'Specification & Data'!B$11*(('Acceleration & Deceleration'!H13/3.6)^2))/2 -> 62.05554 | F15: =('Specification & Data'!B$23*'Specification & Data'!B$21*'Specification & Data'!B$11*(('Acceleration & Deceleration'!F13/3.6)^2))/2 -> 19.456052 | G15: =('Specification & Data'!B$23*'Specification & Data'!B$21*'Specification & Data'!B$11*(('Acceleration & Deceleration'!G13/3.6)^2))/2 -> 36.17861 | H15: =('Specification & Data'!B$23*'Specification & Data'!B$21*'Specification & Data'!B$11*(('Acceleration & Deceleration'!H13/3.6)^2))/2 -> 62.05554 | I15: =('Specification & Data'!B$21*'Specification & Data'!B$23*'Specification & Data'!B$11*('Acceleration & Deceleration'!F13/3.6+'Specification & Data'!B$22)^2)/2 -> 35.282618 | J15: =('Specification & Data'!B$21*'Specification & Data'!B$23*'Specification & Data'!B$11*('Acceleration & Deceleration'!G13/3.6+'Specification & Data'!B$22)^2)/2 -> 56.910149 | K15: =('Specification & Data'!B$21*'Specification & Data'!B$23*'Specification & Data'!B$11*('Acceleration & Deceleration'!H13/3.6+'Specification & Data'!B$22)^2)/2 -> 88.483176 | L15: =('Specification & Data'!B$23*'Specification & Data'!B$21*'Specification & Data'!B$11*(('Acceleration & Deceleration'!F13/3.6)^2))/2 -> 19.456052 | M15: =('Specification & Data'!B$23*'Specification & Data'!B$21*'Specification & Data'!B$11*(('Acceleration & Deceleration'!G13/3.6)^2))/2 -> 36.17861 | N15: =('Specification & Data'!B$23*'Specification & Data'!B$21*'Specification & Data'!B$11*(('Acceleration & Deceleration'!H13/3.6)^2))/2 -> 62.05554 | O15: =('Specification & Data'!B$21*'Specification & Data'!B$23*'Specification & Data'!B$11*('Acceleration & Deceleration'!F13/3.6-'Specification & Data'!B$22)^2)/2 -> 8.3052654 | P15: =('Specification & Data'!B$21*'Specification & Data'!B$23*'Specification & Data'!B$11*('Acceleration & Deceleration'!G13/3.6-'Specification & Data'!B$22)^2)/2 -> 20.12285 | Q15: =('Specification & Data'!B$21*'Specification & Data'!B$23*'Specification & Data'!B$11*('Acceleration & Deceleration'!H13/3.6-'Specification & Data'!B$22)^2)/2 -> 40.303681
B16: =B15+500 -> 6000 | C16: =('Specification & Data'!B$23*'Specification & Data'!B$21*'Specification & Data'!B$11*(('Acceleration & Deceleration'!F14/3.6)^2))/2 -> 23.15431 | D16: =('Specification & Data'!B$23*'Specification & Data'!B$21*'Specification & Data'!B$11*(('Acceleration & Deceleration'!G14/3.6)^2))/2 -> 43.055536 | E16: =('Specification & Data'!B$23*'Specification & Data'!B$21*'Specification & Data'!B$11*(('Acceleration & Deceleration'!H14/3.6)^2))/2 -> 73.851221 | F16: =('Specification & Data'!B$23*'Specification & Data'!B$21*'Specification & Data'!B$11*(('Acceleration & Deceleration'!F14/3.6)^2))/2 -> 23.15431 | G16: =('Specification & Data'!B$23*'Specification & Data'!B$21*'Specification & Data'!B$11*(('Acceleration & Deceleration'!G14/3.6)^2))/2 -> 43.055536 | H16: =('Specification & Data'!B$23*'Specification & Data'!B$21*'Specification & Data'!B$11*(('Acceleration & Deceleration'!H14/3.6)^2))/2 -> 73.851221 | I16: =('Specification & Data'!B$21*'Specification & Data'!B$23*'Specification & Data'!B$11*('Acceleration & Deceleration'!F14/3.6+'Specification & Data'!B$22)^2)/2 -> 40.207119 | J16: =('Specification & Data'!B$21*'Specification & Data'!B$23*'Specification & Data'!B$11*('Acceleration & Deceleration'!G14/3.6+'Specification & Data'!B$22)^2)/2 -> 65.459225 | K16: =('Specification & Data'!B$21*'Specification & Data'!B$23*'Specification & Data'!B$11*('Acceleration & Deceleration'!H14/3.6+'Specification & Data'!B$22)^2)/2 -> 102.46883 | L16: =('Specification & Data'!B$23*'Specification & Data'!B$21*'Specification & Data'!B$11*(('Acceleration & Deceleration'!F14/3.6)^2))/2 -> 23.15431 | M16: =('Specification & Data'!B$23*'Specification & Data'!B$21*'Specification & Data'!B$11*(('Acceleration & Deceleration'!G14/3.6)^2))/2 -> 43.055536 | N16: =('Specification & Data'!B$23*'Specification & Data'!B$21*'Specification & Data'!B$11*(('Acceleration & Deceleration'!H14/3.6)^2))/2 -> 73.851221 | O16: =('Specification & Data'!B$21*'Specification & Data'!B$23*'Specification & Data'!B$11*('Acceleration & Deceleration'!F14/3.6-'Specification & Data'!B$22)^2)/2 -> 10.77728 | P16: =('Specification & Data'!B$21*'Specification & Data'!B$23*'Specification & Data'!B$11*('Acceleration & Deceleration'!G14/3.6-'Specification & Data'!B$22)^2)/2 -> 25.327626 | Q16: =('Specification & Data'!B$21*'Specification & Data'!B$23*'Specification & Data'!B$11*('Acceleration & Deceleration'!H14/3.6-'Specification & Data'!B$22)^2)/2 -> 49.909385
B17: =B16+500 -> 6500 | C17: =('Specification & Data'!B$23*'Specification & Data'!B$21*'Specification & Data'!B$11*(('Acceleration & Deceleration'!F15/3.6)^2))/2 -> 27.174156 | D17: =('Specification & Data'!B$23*'Specification & Data'!B$21*'Specification & Data'!B$11*(('Acceleration & Deceleration'!G15/3.6)^2))/2 -> 50.530455 | E17: =('Specification & Data'!B$23*'Specification & Data'!B$21*'Specification & Data'!B$11*(('Acceleration & Deceleration'!H15/3.6)^2))/2 -> 86.672613 | F17: =('Specification & Data'!B$23*'Specification & Data'!B$21*'Specification & Data'!B$11*(('Acceleration & Deceleration'!F15/3.6)^2))/2 -> 27.174156 | G17: =('Specification & Data'!B$23*'Specification & Data'!B$21*'Specification & Data'!B$11*(('Acceleration & Deceleration'!G15/3.6)^2))/2 -> 50.530455 | H17: =('Specification & Data'!B$23*'Specification & Data'!B$21*'Specification & Data'!B$11*(('Acceleration & Deceleration'!H15/3.6)^2))/2 -> 86.672613 | I17: =('Specification & Data'!B$21*'Specification & Data'!B$23*'Specification & Data'!B$11*('Acceleration & Deceleration'!F15/3.6+'Specification & Data'!B$22)^2)/2 -> 45.453208 | J17: =('Specification & Data'!B$21*'Specification & Data'!B$23*'Specification & Data'!B$11*('Acceleration & Deceleration'!G15/3.6+'Specification & Data'!B$22)^2)/2 -> 74.606294 | K17: =('Specification & Data'!B$21*'Specification & Data'!B$23*'Specification & Data'!B$11*('Acceleration & Deceleration'!H15/3.6+'Specification & Data'!B$22)^2)/2 -> 117.4802 | L17: =('Specification & Data'!B$23*'Specification & Data'!B$21*'Specification & Data'!B$11*(('Acceleration & Deceleration'!F15/3.6)^2))/2 -> 27.174156 | M17: =('Specification & Data'!B$23*'Specification & Data'!B$21*'Specification & Data'!B$11*(('Acceleration & Deceleration'!G15/3.6)^2))/2 -> 50.530455 | N17: =('Specification & Data'!B$23*'Specification & Data'!B$21*'Specification & Data'!B$11*(('Acceleration & Deceleration'!H15/3.6)^2))/2 -> 86.672613 | O17: =('Specification & Data'!B$21*'Specification & Data'!B$23*'Specification & Data'!B$11*('Acceleration & Deceleration'!F15/3.6-'Specification & Data'!B$22)^2)/2 -> 13.570882 | P17: =('Specification & Data'!B$21*'Specification & Data'!B$23*'Specification & Data'!B$11*('Acceleration & Deceleration'!G15/3.6-'Specification & Data'!B$22)^2)/2 -> 31.130395 | Q17: =('Specification & Data'!B$21*'Specification & Data'!B$23*'Specification & Data'!B$11*('Acceleration & Deceleration'!H15/3.6-'Specification & Data'!B$22)^2)/2 -> 60.540801

Sheet Net Resistive Force
B2: Total Resistance Forces at every sector for each Gear
C4: Terrain AB | F4: Terrain BC | I4: Terrain CD | L4: Terrain DE | O4: Terrain EF
B5: RPM | C5: Gear 1 | D5: Gear 2 | E5: Gear 3 | F5: Gear 1 | G5: Gear 2 | H5: Gear 3 | I5: Gear 1 | J5: Gear 2 | K5: Gear 3 | L5: Gear 1 | M5: Gear 2 | N5: Gear 3 | O5: Gear 1 | P5: Gear 2 | Q5: Gear 3
B6: 1000 | C6: ='Specification & Data'!E$14+'Specification & Data'!E$24+'Aerodynamic Resistance'!C6 -> 588.69851 | D6: ='Specification & Data'!E$15+'Specification & Data'!E$25+'Aerodynamic Resistance'!D6 -> 589.25133 | E6: ='Specification & Data'!E$16+'Specification & Data'!E$26+'Aerodynamic Resistance'!E6 -> 590.10676 | F6: ='Specification & Data'!F$14+'Aerodynamic Resistance'!F6 -> 103.00268 | G6: ='Specification & Data'!F$15+'Aerodynamic Resistance'!G6 -> 103.55549 | H6: ='Specification & Data'!F$16+'Aerodynamic Resistance'!H6 -> 104.41092 | I6: ='Specification & Data'!G$14+'Aerodynamic Resistance'!I6 -> 107.79305 | J6: ='Specification & Data'!G$15+'Aerodynamic Resistance'!J6 -> 109.23768 | K6: ='Specification & Data'!G$16+'Aerodynamic Resistance'!K6 -> 111.12877 | L6: ='Specification & Data'!H$14+'Aerodynamic Resistance'!L6 -> 103.00268 | M6: ='Specification & Data'!H$15+'Aerodynamic Resistance'!M6 -> 103.55549 | N6: ='Specification & Data'!H$16+'Aerodynamic Resistance'!N6 -> 104.41092 | O6: ='Specification & Data'!I$14+'Specification & Data'!I$24+'Aerodynamic Resistance'!O6 -> -75.729251 | P6: ='Specification & Data'!I$15+'Specification & Data'!I$25+'Aerodynamic Resistance'!P6 -> -76.068252 | Q6: ='Specification & Data'!I$16+'Specification & Data'!I$26+'Aerodynamic Resistance'!Q6 -> -76.248471
B7: =B6+500 -> 1500 | C7: ='Specification & Data'!E$14+'Specification & Data'!E$24+'Aerodynamic Resistance'!C7 -> 589.50248 | D7: ='Specification & Data'!E$15+'Specification & Data'!E$25+'Aerodynamic Resistance'!D7 -> 590.74631 | E7: ='Specification & Data'!E$16+'Specification & Data'!E$26+'Aerodynamic Resistance'!E7 -> 592.67104 | F7: ='Specification & Data'!F$14+'Aerodynamic Resistance'!F7 -> 103.80665 | G7: ='Specification & Data'!F$15+'Aerodynamic Resistance'!G7 -> 105.05047 | H7: ='Specification & Data'!F$16+'Aerodynamic Resistance'!H7 -> 106.9752 | I7: ='Specification & Data'!G$14+'Aerodynamic Resistance'!I7 -> 109.82327 | J7: ='Specification & Data'!G$15+'Aerodynamic Resistance'!J7 -> 112.40481 | K7: ='Specification & Data'!G$16+'Aerodynamic Resistance'!K7 -> 115.88302 | L7: ='Specification & Data'!H$14+'Aerodynamic Resistance'!L7 -> 103.80665 | M7: ='Specification & Data'!H$15+'Aerodynamic Resistance'!M7 -> 105.05047 | N7: ='Specification & Data'!H$16+'Aerodynamic Resistance'!N7 -> 106.9752 | O7: ='Specification & Data'!I$14+'Specification & Data'!I$24+'Aerodynamic Resistance'!O7 -> -76.151525 | P7: ='Specification & Data'!I$15+'Specification & Data'!I$25+'Aerodynamic Resistance'!P7 -> -76.245419 | Q7: ='Specification & Data'!I$16+'Specification & Data'!I$26+'Aerodynamic Resistance'!Q7 -> -75.87417
B8: =B7+500 -> 2000 | C8: ='Specification & Data'!E$14+'Specification & Data'!E$24+'Aerodynamic Resistance'!C8 -> 590.62804 | D8: ='Specification & Data'!E$15+'Specification & Data'!E$25+'Aerodynamic Resistance'!D8 -> 592.83929 | E8: ='Specification & Data'!E$16+'Specification & Data'!E$26+'Aerodynamic Resistance'!E8 -> 596.26103 | F8: ='Specification & Data'!F$14+'Aerodynamic Resistance'!F8 -> 104.9322 | G8: ='Specification & Data'!F$15+'Aerodynamic Resistance'!G8 -> 107.14345 | H8: ='Specification & Data'!F$16+'Aerodynamic Resistance'!H8 -> 110.56519 | I8: ='Specification & Data'!G$14+'Aerodynamic Resistance'!I8 -> 112.17507 | J8: ='Specification & Data'!G$15+'Aerodynamic Resistance'!J8 -> 116.16994 | K8: ='Specification & Data'!G$16+'Aerodynamic Resistance'!K8 -> 121.66299 | L8: ='Specification & Data'!H$14+'Aerodynamic Resistance'!L8 -> 104.9322 | M8: ='Specification & Data'!H$15+'Aerodynamic Resistance'!M8 -> 107.14345 | N8: ='Specification & Data'!H$16+'Aerodynamic Resistance'!N8 -> 110.56519 | O8: ='Specification & Data'!I$14+'Specification & Data'!I$24+'Aerodynamic Resistance'!O8 -> -76.252212 | P8: ='Specification & Data'!I$15+'Specification & Data'!I$25+'Aerodynamic Resistance'!P8 -> -75.824591 | Q8: ='Specification & Data'!I$16+'Specification & Data'!I$26+'Aerodynamic Resistance'!Q8 -> -74.474157
B9: =B8+500 -> 2500 | C9: ='Specification & Data'!E$14+'Specification & Data'!E$24+'Aerodynamic Resistance'!C9 -> 592.07518 | D9: ='Specification & Data'!E$15+'Specification & Data'!E$25+'Aerodynamic Resistance'!D9 -> 595.53026 | E9: ='Specification & Data'!E$16+'Specification & Data'!E$26+'Aerodynamic Resistance'!E9 -> 600.87673 | F9: ='Specification & Data'!F$14+'Aerodynamic Resistance'!F9 -> 106.37935 | G9: ='Specification & Data'!F$15+'Aerodynamic Resistance'!G9 -> 109.83442 | H9: ='Specification & Data'!F$16+'Aerodynamic Resistance'!H9 -> 115.18089 | I9: ='Specification & Data'!G$14+'Aerodynamic Resistance'!I9 -> 114.84845 | J9: ='Specification & Data'!G$15+'Aerodynamic Resistance'!J9 -> 120.53306 | K9: ='Specification & Data'!G$16+'Aerodynamic Resistance'!K9 -> 128.46867 | L9: ='Specification & Data'!H$14+'Aerodynamic Resistance'!L9 -> 106.37935 | M9: ='Specification & Data'!H$15+'Aerodynamic Resistance'!M9 -> 109.83442 | N9: ='Specification & Data'!H$16+'Aerodynamic Resistance'!N9 -> 115.18089 | O9: ='Specification & Data'!I$14+'Specification & Data'!I$24+'Aerodynamic Resistance'!O9 -> -76.031311 | P9: ='Specification & Data'!I$15+'Specification & Data'!I$25+'Aerodynamic Resistance'!P9 -> -74.80577 | Q9: ='Specification & Data'!I$16+'Specification & Data'!I$26+'Aerodynamic Resistance'!Q9 -> -72.048432
B10: =B9+500 -> 3000 | C10: ='Specification & Data'!E$14+'Specification & Data'!E$24+'Aerodynamic Resistance'!C10 -> 593.84392 | D10: ='Specification & Data'!E$15+'Specification & Data'!E$25+'Aerodynamic Resistance'!D10 -> 598.81922 | E10: ='Specification & Data'!E$16+'Specification & Data'!E$26+'Aerodynamic Resistance'!E10 -> 606.51814 | F10: ='Specification & Data'!F$14+'Aerodynamic Resistance'!F10 -> 108.14808 | G10: ='Specification & Data'!F$15+'Aerodynamic Resistance'!G10 -> 113.12339 | H10: ='Specification & Data'!F$16+'Aerodynamic Resistance'!H10 -> 120.82231 | I10: ='Specification & Data'!G$14+'Aerodynamic Resistance'!I10 -> 117.84343 | J10: ='Specification & Data'!G$15+'Aerodynamic Resistance'!J10 -> 125.49418 | K10: ='Specification & Data'!G$16+'Aerodynamic Resistance'!K10 -> 136.30006 | L10: ='Specification & Data'!H$14+'Aerodynamic Resistance'!L10 -> 108.14808 | M10: ='Specification & Data'!H$15+'Aerodynamic Resistance'!M10 -> 113.12339 | N10: ='Specification & Data'!H$16+'Aerodynamic Resistance'!N10 -> 120.82231 | O10: ='Specification & Data'!I$14+'Specification & Data'!I$24+'Aerodynamic Resistance'!O10 -> -75.488822 | P10: ='Specification & Data'!I$15+'Specification & Data'!I$25+'Aerodynamic Resistance'!P10 -> -73.188955 | Q10: ='Specification & Data'!I$16+'Specification & Data'!I$26+'Aerodynamic Resistance'!Q10 -> -68.596997
B11: =B10+500 -> 3500 | C11: ='Specification & Data'!E$14+'Specification & Data'!E$24+'Aerodynamic Resistance'!C11 -> 595.93424 | D11: ='Specification & Data'!E$15+'Specification & Data'!E$25+'Aerodynamic Resistance'!D11 -> 602.70618 | E11: ='Specification & Data'!E$16+'Specification & Data'!E$26+'Aerodynamic Resistance'!E11 -> 613.18527 | F11: ='Specification & Data'!F$14+'Aerodynamic Resistance'!F11 -> 110.2384 | G11: ='Specification & Data'!F$15+'Aerodynamic Resistance'!G11 -> 117.01034 | H11: ='Specification & Data'!F$16+'Aerodynamic Resistance'!H11 -> 127.48943 | I11: ='Specification & Data'!G$14+'Aerodynamic Resistance'!I11 -> 121.15999 | J11: ='Specification & Data'!G$15+'Aerodynamic Resistance'!J11 -> 131.05328 | K11: ='Specification & Data'!G$16+'Aerodynamic Resistance'!K11 -> 145.15716 | L11: ='Specification & Data'!H$14+'Aerodynamic Resistance'!L11 -> 110.2384 | M11: ='Specification & Data'!H$15+'Aerodynamic Resistance'!M11 -> 117.01034 | N11: ='Specification & Data'!H$16+'Aerodynamic Resistance'!N11 -> 127.48943 | O11: ='Specification & Data'!I$14+'Specification & Data'!I$24+'Aerodynamic Resistance'!O11 -> -74.624746 | P11: ='Specification & Data'!I$15+'Specification & Data'!I$25+'Aerodynamic Resistance'!P11 -> -70.974147 | Q11: ='Specification & Data'!I$16+'Specification & Data'!I$26+'Aerodynamic Resistance'!Q11 -> -64.11985
B12: =B11+500 -> 4000 | C12: ='Specification & Data'!E$14+'Specification & Data'!E$24+'Aerodynamic Resistance'!C12 -> 598.34614 | D12: ='Specification & Data'!E$15+'Specification & Data'!E$25+'Aerodynamic Resistance'!D12 -> 607.19113 | E12: ='Specification & Data'!E$16+'Specification & Data'!E$26+'Aerodynamic Resistance'!E12 -> 620.8781 | F12: ='Specification & Data'!F$14+'Aerodynamic Resistance'!F12 -> 112.65031 | G12: ='Specification & Data'!F$15+'Aerodynamic Resistance'!G12 -> 121.4953 | H12: ='Specification & Data'!F$16+'Aerodynamic Resistance'!H12 -> 135.18227 | I12: ='Specification & Data'!G$14+'Aerodynamic Resistance'!I12 -> 124.79814 | J12: ='Specification & Data'!G$15+'Aerodynamic Resistance'!J12 -> 137.21038 | K12: ='Specification & Data'!G$16+'Aerodynamic Resistance'!K12 -> 155.03997 | L12: ='Specification & Data'!H$14+'Aerodynamic Resistance'!L12 -> 112.65031 | M12: ='Specification & Data'!H$15+'Aerodynamic Resistance'!M12 -> 121.4953 | N12: ='Specification & Data'!H$16+'Aerodynamic Resistance'!N12 -> 135.18227 | O12: ='Specification & Data'!I$14+'Specification & Data'!I$24+'Aerodynamic Resistance'!O12 -> -73.439081 | P12: ='Specification & Data'!I$15+'Specification & Data'!I$25+'Aerodynamic Resistance'!P12 -> -68.161346 | Q12: ='Specification & Data'!I$16+'Specification & Data'!I$26+'Aerodynamic Resistance'!Q12 -> -58.616991
B13: =B12+500 -> 4500 | C13: ='Specification & Data'!E$14+'Specification & Data'!E$24+'Aerodynamic Resistance'!C13 -> 601.07964 | D13: ='Specification & Data'!E$15+'Specification & Data'!E$25+'Aerodynamic Resistance'!D13 -> 612.27408 | E13: ='Specification & Data'!E$16+'Specification & Data'!E$26+'Aerodynamic Resistance'!E13 -> 629.59665 | F13: ='Specification & Data'!F$14+'Aerodynamic Resistance'!F13 -> 115.3838 | G13: ='Specification & Data'!F$15+'Aerodynamic Resistance'!G13 -> 126.57824 | H13: ='Specification & Data'!F$16+'Aerodynamic Resistance'!H13 -> 143.90081 | I13: ='Specification & Data'!G$14+'Aerodynamic Resistance'!I13 -> 128.75788 | J13: ='Specification & Data'!G$15+'Aerodynamic Resistance'!J13 -> 143.96548 | K13: ='Specification & Data'!G$16+'Aerodynamic Resistance'!K13 -> 165.9485 | L13: ='Specification & Data'!H$14+'Aerodynamic Resistance'!L13 -> 115.3838 | M13: ='Specification & Data'!H$15+'Aerodynamic Resistance'!M13 -> 126.57824 | N13: ='Specification & Data'!H$16+'Aerodynamic Resistance'!N13 -> 143.90081 | O13: ='Specification & Data'!I$14+'Specification & Data'!I$24+'Aerodynamic Resistance'!O13 -> -71.93183 | P13: ='Specification & Data'!I$15+'Specification & Data'!I$25+'Aerodynamic Resistance'!P13 -> -64.75055 | Q13: ='Specification & Data'!I$16+'Specification & Data'!I$26+'Aerodynamic Resistance'!Q13 -> -52.088422
B14: =B13+500 -> 5000 | C14: ='Specification & Data'!E$14+'Specification & Data'!E$24+'Aerodynamic Resistance'!C14 -> 604.13472 | D14: ='Specification & Data'!E$15+'Specification & Data'!E$25+'Aerodynamic Resistance'!D14 -> 617.95502 | E14: ='Specification & Data'!E$16+'Specification & Data'!E$26+'Aerodynamic Resistance'!E14 -> 639.34091 | F14: ='Specification & Data'!F$14+'Aerodynamic Resistance'!F14 -> 118.43888 | G14: ='Specification & Data'!F$15+'Aerodynamic Resistance'!G14 -> 132.25918 | H14: ='Specification & Data'!F$16+'Aerodynamic Resistance'!H14 -> 153.64507 | I14: ='Specification & Data'!G$14+'Aerodynamic Resistance'!I14 -> 133.03921 | J14: ='Specification & Data'!G$15+'Aerodynamic Resistance'!J14 -> 151.31857 | K14: ='Specification & Data'!G$16+'Aerodynamic Resistance'!K14 -> 177.88273 | L14: ='Specification & Data'!H$14+'Aerodynamic Resistance'!L14 -> 118.43888 | M14: ='Specification & Data'!H$15+'Aerodynamic Resistance'!M14 -> 132.25918 | N14: ='Specification & Data'!H$16+'Aerodynamic Resistance'!N14 -> 153.64507 | O14: ='Specification & Data'!I$14+'Specification & Data'!I$24+'Aerodynamic Resistance'!O14 -> -70.102991 | P14: ='Specification & Data'!I$15+'Specification & Data'!I$25+'Aerodynamic Resistance'!P14 -> -60.741762 | Q14: ='Specification & Data'!I$16+'Specification & Data'!I$26+'Aerodynamic Resistance'!Q14 -> -44.53414
B15: =B14+500 -> 5500 | C15: ='Specification & Data'!E$14+'Specification & Data'!E$24+'Aerodynamic Resistance'!C15 -> 607.51139 | D15: ='Specification & Data'!E$15+'Specification & Data'!E$25+'Aerodynamic Resistance'!D15 -> 624.23395 | E15: ='Specification & Data'!E$16+'Specification & Data'!E$26+'Aerodynamic Resistance'!E15 -> 650.11088 | F15: ='Specification & Data'!F$14+'Aerodynamic Resistance'!F15 -> 121.81555 | G15: ='Specification & Data'!F$15+'Aerodynamic Resistance'!G15 -> 138.53811 | H15: ='Specification & Data'!F$16+'Aerodynamic Resistance'!H15 -> 164.41504 | I15: ='Specification & Data'!G$14+'Aerodynamic Resistance'!I15 -> 137.64212 | J15: ='Specification & Data'!G$15+'Aerodynamic Resistance'!J15 -> 159.26965 | K15: ='Specification & Data'!G$16+'Aerodynamic Resistance'!K15 -> 190.84268 | L15: ='Specification & Data'!H$14+'Aerodynamic Resistance'!L15 -> 121.81555 | M15: ='Specification & Data'!H$15+'Aerodynamic Resistance'!M15 -> 138.53811 | N15: ='Specification & Data'!H$16+'Aerodynamic Resistance'!N15 -> 164.41504 | O15: ='Specification & Data'!I$14+'Specification & Data'!I$24+'Aerodynamic Resistance'!O15 -> -67.952564 | P15: ='Specification & Data'!I$15+'Specification & Data'!I$25+'Aerodynamic Resistance'!P15 -> -56.134979 | Q15: ='Specification & Data'!I$16+'Specification & Data'!I$26+'Aerodynamic Resistance'!Q15 -> -35.954148
B16: =B15+500 -> 6000 | C16: ='Specification & Data'!E$14+'Specification & Data'!E$24+'Aerodynamic Resistance'!C16 -> 611.20965 | D16: ='Specification & Data'!E$15+'Specification & Data'!E$25+'Aerodynamic Resistance'!D16 -> 631.11087 | E16: ='Specification & Data'!E$16+'Specification & Data'!E$26+'Aerodynamic Resistance'!E16 -> 661.90656 | F16: ='Specification & Data'!F$14+'Aerodynamic Resistance'!F16 -> 125.51381 | G16: ='Specification & Data'!F$15+'Aerodynamic Resistance'!G16 -> 145.41504 | H16: ='Specification & Data'!F$16+'Aerodynamic Resistance'!H16 -> 176.21072 | I16: ='Specification & Data'!G$14+'Aerodynamic Resistance'!I16 -> 142.56662 | J16: ='Specification & Data'!G$15+'Aerodynamic Resistance'!J16 -> 167.81873 | K16: ='Specification & Data'!G$16+'Aerodynamic Resistance'!K16 -> 204.82834 | L16: ='Specification & Data'!H$14+'Aerodynamic Resistance'!L16 -> 125.51381 | M16: ='Specification & Data'!H$15+'Aerodynamic Resistance'!M16 -> 145.41504 | N16: ='Specification & Data'!H$16+'Aerodynamic Resistance'!N16 -> 176.21072 | O16: ='Specification & Data'!I$14+'Specification & Data'!I$24+'Aerodynamic Resistance'!O16 -> -65.480549 | P16: ='Specification & Data'!I$15+'Specification & Data'!I$25+'Aerodynamic Resistance'!P16 -> -50.930203 | Q16: ='Specification & Data'!I$16+'Specification & Data'!I$26+'Aerodynamic Resistance'!Q16 -> -26.348444
B17: =B16+500 -> 6500 | C17: ='Specification & Data'!E$14+'Specification & Data'!E$24+'Aerodynamic Resistance'!C17 -> 615.22949 | D17: ='Specification & Data'!E$15+'Specification & Data'!E$25+'Aerodynamic Resistance'!D17 -> 638.58579 | E17: ='Specification & Data'!E$16+'Specification & Data'!E$26+'Aerodynamic Resistance'!E17 -> 674.72795 | F17: ='Specification & Data'!F$14+'Aerodynamic Resistance'!F17 -> 129.53366 | G17: ='Specification & Data'!F$15+'Aerodynamic Resistance'!G17 -> 152.88996 | H17: ='Specification & Data'!F$16+'Aerodynamic Resistance'!H17 -> 189.03212 | I17: ='Specification & Data'!G$14+'Aerodynamic Resistance'!I17 -> 147.81271 | J17: ='Specification & Data'!G$15+'Aerodynamic Resistance'!J17 -> 176.9658 | K17: ='Specification & Data'!G$16+'Aerodynamic Resistance'!K17 -> 219.83971 | L17: ='Specification & Data'!H$14+'Aerodynamic Resistance'!L17 -> 129.53366 | M17: ='Specification & Data'!H$15+'Aerodynamic Resistance'!M17 -> 152.88996 | N17: ='Specification & Data'!H$16+'Aerodynamic Resistance'!N17 -> 189.03212 | O17: ='Specification & Data'!I$14+'Specification & Data'!I$24+'Aerodynamic Resistance'!O17 -> -62.686947 | P17: ='Specification & Data'!I$15+'Specification & Data'!I$25+'Aerodynamic Resistance'!P17 -> -45.127434 | Q17: ='Specification & Data'!I$16+'Specification & Data'!I$26+'Aerodynamic Resistance'!Q17 -> -15.717028
B20: Acceleration Decrease Due to Resistive Forces
C22: Terrain AB | F22: Terrain BC | I22: Terrain CD | L22: Terrain DE | O22: Terrain EF
B23: RPM | C23: Gear 1 | D23: Gear 2 | E23: Gear 3 | F23: Gear 1 | G23: Gear 2 | H23: Gear 3 | I23: Gear 1 | J23: Gear 2 | K23: Gear 3 | L23: Gear 1 | M23: Gear 2 | N23: Gear 3 | O23: Gear 1 | P23: Gear 2 | Q23: Gear 3
B24: 1000 | C24: =C6/'Specification & Data'!B$19 -> 1.1284018 | D24: =D6/'Specification & Data'!B$19 -> 1.1294614 | E24: =E6/'Specification & Data'!B$19 -> 1.1311011 | F24: =F6/'Specification & Data'!B$19 -> 0.19743282 | G24: =G6/'Specification & Data'!B$19 -> 0.19849244 | H24: =H6/'Specification & Data'!B$19 -> 0.20013211 | I24: =I6/'Specification & Data'!B$19 -> 0.20661489 | J24: =J6/'Specification & Data'!B$19 -> 0.20938391 | K24: =K6/'Specification & Data'!B$19 -> 0.2130087 | L24: =L6/'Specification & Data'!B$19 -> 0.19743282 | M24: =M6/'Specification & Data'!B$19 -> 0.19849244 | N24: =N6/'Specification & Data'!B$19 -> 0.20013211 | O24: =O6/'Specification & Data'!B$19 -> -0.14515584 | P24: =P6/'Specification & Data'!B$19 -> -0.14580562 | Q24: =Q6/'Specification & Data'!B$19 -> -0.14615106
B25: =B24+500 -> 1500 | C25: =C7/'Specification & Data'!B$19 -> 1.1299428 | D25: =D7/'Specification & Data'!B$19 -> 1.132327 | E25: =E7/'Specification & Data'!B$19 -> 1.1360163 | F25: =F7/'Specification & Data'!B$19 -> 0.19897385 | G25: =G7/'Specification & Data'!B$19 -> 0.20135798 | H25: =H7/'Specification & Data'!B$19 -> 0.20504725 | I25: =I7/'Specification & Data'!B$19 -> 0.21050635 | J25: =J7/'Specification & Data'!B$19 -> 0.21545459 | K25: =K7/'Specification & Data'!B$19 -> 0.22212153 | L25: =L7/'Specification & Data'!B$19 -> 0.19897385 | M25: =M7/'Specification & Data'!B$19 -> 0.20135798 | N25: =N7/'Specification & Data'!B$19 -> 0.20504725 | O25: =O7/'Specification & Data'!B$19 -> -0.14596524 | P25: =P7/'Specification & Data'!B$19 -> -0.14614521 | Q25: =Q7/'Specification & Data'!B$19 -> -0.14543361
B26: =B25+500 -> 2000 | C26: =C8/'Specification & Data'!B$19 -> 1.1321003 | D26: =D8/'Specification & Data'!B$19 -> 1.1363387 | E26: =E8/'Specification & Data'!B$19 -> 1.1428975 | F26: =F8/'Specification & Data'!B$19 -> 0.20113129 | G26: =G8/'Specification & Data'!B$19 -> 0.20536975 | H26: =H8/'Specification & Data'!B$19 -> 0.21192845 | I26: =I8/'Specification & Data'!B$19 -> 0.21501421 | J26: =J8/'Specification & Data'!B$19 -> 0.22267148 | K26: =K8/'Specification & Data'!B$19 -> 0.23320042 | L26: =L8/'Specification & Data'!B$19 -> 0.20113129 | M26: =M8/'Specification & Data'!B$19 -> 0.20536975 | N26: =N8/'Specification & Data'!B$19 -> 0.21192845 | O26: =O8/'Specification & Data'!B$19 -> -0.14615823 | P26: =P8/'Specification & Data'!B$19 -> -0.14533858 | Q26: =Q8/'Specification & Data'!B$19 -> -0.1427501
B27: =B26+500 -> 2500 | C27: =C9/'Specification & Data'!B$19 -> 1.1348741 | D27: =D9/'Specification & Data'!B$19 -> 1.1414967 | E27: =E9/'Specification & Data'!B$19 -> 1.1517447 | F27: =F9/'Specification & Data'!B$19 -> 0.20390513 | G27: =G9/'Specification & Data'!B$19 -> 0.21052773 | H27: =H9/'Specification & Data'!B$19 -> 0.22077571 | I27: =I9/'Specification & Data'!B$19 -> 0.22013849 | J27: =J9/'Specification & Data'!B$19 -> 0.2310346 | K27: =K9/'Specification & Data'!B$19 -> 0.24624536 | L27: =L9/'Specification & Data'!B$19 -> 0.20390513 | M27: =M9/'Specification & Data'!B$19 -> 0.21052773 | N27: =N9/'Specification & Data'!B$19 -> 0.22077571 | O27: =O9/'Specification & Data'!B$19 -> -0.14573482 | P27: =P9/'Specification & Data'!B$19 -> -0.14338573 | Q27: =Q9/'Specification & Data'!B$19 -> -0.13810054
B28: =B27+500 -> 3000 | C28: =C10/'Specification & Data'!B$19 -> 1.1382644 | D28: =D10/'Specification & Data'!B$19 -> 1.1478009 | E28: =E10/'Specification & Data'!B$19 -> 1.162558 | F28: =F10/'Specification & Data'!B$19 -> 0.20729539 | G28: =G10/'Specification & Data'!B$19 -> 0.21683193 | H28: =H10/'Specification & Data'!B$19 -> 0.23158902 | I28: =I10/'Specification & Data'!B$19 -> 0.22587918 | J28: =J10/'Specification & Data'!B$19 -> 0.24054393 | K28: =K10/'Specification & Data'!B$19 -> 0.26125637 | L28: =L10/'Specification & Data'!B$19 -> 0.20729539 | M28: =M10/'Specification & Data'!B$19 -> 0.21683193 | N28: =N10/'Specification & Data'!B$19 -> 0.23158902 | O28: =O10/'Specification & Data'!B$19 -> -0.14469499 | P28: =P10/'Specification & Data'!B$19 -> -0.14028666 | Q28: =Q10/'Specification & Data'!B$19 -> -0.13148492
B29: =B28+500 -> 3500 | C29: =C11/'Specification & Data'!B$19 -> 1.1422711 | D29: =D11/'Specification & Data'!B$19 -> 1.1552513 | E29: =E11/'Specification & Data'!B$19 -> 1.1753374 | F29: =F11/'Specification & Data'!B$19 -> 0.21130206 | G29: =G11/'Specification & Data'!B$19 -> 0.22428235 | H29: =H11/'Specification & Data'!B$19 -> 0.24436839 | I29: =I11/'Specification & Data'!B$19 -> 0.23223628 | J29: =J11/'Specification & Data'!B$19 -> 0.25119948 | K29: =K11/'Specification & Data'!B$19 -> 0.27823342 | L29: =L11/'Specification & Data'!B$19 -> 0.21130206 | M29: =M11/'Specification & Data'!B$19 -> 0.22428235 | N29: =N11/'Specification & Data'!B$19 -> 0.24436839 | O29: =O11/'Specification & Data'!B$19 -> -0.14303875 | P29: =P11/'Specification & Data'!B$19 -> -0.13604138 | Q29: =Q11/'Specification & Data'!B$19 -> -0.12290324
B30: =B29+500 -> 4000 | C30: =C12/'Specification & Data'!B$19 -> 1.1468941 | D30: =D12/'Specification & Data'!B$19 -> 1.163848 | E30: =E12/'Specification & Data'!B$19 -> 1.1900828 | F30: =F12/'Specification & Data'!B$19 -> 0.21592514 | G30: =G12/'Specification & Data'!B$19 -> 0.23287899 | H30: =H12/'Specification & Data'!B$19 -> 0.25911381 | I30: =I12/'Specification & Data'!B$19 -> 0.2392098 | J30: =J12/'Specification & Data'!B$19 -> 0.26300125 | K30: =K12/'Specification & Data'!B$19 -> 0.29717654 | L30: =L12/'Specification & Data'!B$19 -> 0.21592514 | M30: =M12/'Specification & Data'!B$19 -> 0.23287899 | N30: =N12/'Specification & Data'!B$19 -> 0.25911381 | O30: =O12/'Specification & Data'!B$19 -> -0.1407661 | P30: =P12/'Specification & Data'!B$19 -> -0.13064987 | Q30: =Q12/'Specification & Data'!B$19 -> -0.11235551
B31: =B30+500 -> 4500 | C31: =C13/'Specification & Data'!B$19 -> 1.1521336 | D31: =D13/'Specification & Data'!B$19 -> 1.1735908 | E31: =E13/'Specification & Data'!B$19 -> 1.2067943 | F31: =F13/'Specification & Data'!B$19 -> 0.22116463 | G31: =G13/'Specification & Data'!B$19 -> 0.24262184 | H31: =H13/'Specification & Data'!B$19 -> 0.27582529 | I31: =I13/'Specification & Data'!B$19 -> 0.24679972 | J31: =J13/'Specification & Data'!B$19 -> 0.27594924 | K31: =K13/'Specification & Data'!B$19 -> 0.31808571 | L31: =L13/'Specification & Data'!B$19 -> 0.22116463 | M31: =M13/'Specification & Data'!B$19 -> 0.24262184 | N31: =N13/'Specification & Data'!B$19 -> 0.27582529 | O31: =O13/'Specification & Data'!B$19 -> -0.13787704 | P31: =P13/'Specification & Data'!B$19 -> -0.12411215 | Q31: =Q13/'Specification & Data'!B$19 -> -0.099841716
B32: =B31+500 -> 5000 | C32: =C14/'Specification & Data'!B$19 -> 1.1579895 | D32: =D14/'Specification & Data'!B$19 -> 1.1844799 | E32: =E14/'Specification & Data'!B$19 -> 1.2254718 | F32: =F14/'Specification & Data'!B$19 -> 0.22702054 | G32: =G14/'Specification & Data'!B$19 -> 0.25351092 | H32: =H14/'Specification & Data'!B$19 -> 0.29450283 | I32: =I14/'Specification & Data'!B$19 -> 0.25500605 | J32: =J14/'Specification & Data'!B$19 -> 0.29004345 | K32: =K14/'Specification & Data'!B$19 -> 0.34096094 | L32: =L14/'Specification & Data'!B$19 -> 0.22702054 | M32: =M14/'Specification & Data'!B$19 -> 0.25351092 | N32: =N14/'Specification & Data'!B$19 -> 0.29450283 | O32: =O14/'Specification & Data'!B$19 -> -0.13437157 | P32: =P14/'Specification & Data'!B$19 -> -0.11642821 | Q32: =Q14/'Specification & Data'!B$19 -> -0.085361868
B33: =B32+500 -> 5500 | C33: =C15/'Specification & Data'!B$19 -> 1.1644618 | D33: =D15/'Specification & Data'!B$19 -> 1.1965152 | E33: =E15/'Specification & Data'!B$19 -> 1.2461154 | F33: =F15/'Specification & Data'!B$19 -> 0.23349285 | G33: =G15/'Specification & Data'!B$19 -> 0.26554621 | H33: =H15/'Specification & Data'!B$19 -> 0.31514643 | I33: =I15/'Specification & Data'!B$19 -> 0.26382879 | J33: =J15/'Specification & Data'!B$19 -> 0.30528388 | K33: =K15/'Specification & Data'!B$19 -> 0.36580222 | L33: =L15/'Specification & Data'!B$19 -> 0.23349285 | M33: =M15/'Specification & Data'!B$19 -> 0.26554621 | N33: =N15/'Specification & Data'!B$19 -> 0.31514643 | O33: =O15/'Specification & Data'!B$19 -> -0.13024969 | P33: =P15/'Specification & Data'!B$19 -> -0.10759805 | Q33: =Q15/'Specification & Data'!B$19 -> -0.068915964
B34: =B33+500 -> 6000 | C34: =C16/'Specification & Data'!B$19 -> 1.1715506 | D34: =D16/'Specification & Data'!B$19 -> 1.2096967 | E34: =E16/'Specification & Data'!B$19 -> 1.2687251 | F34: =F16/'Specification & Data'!B$19 -> 0.24058157 | G34: =G16/'Specification & Data'!B$19 -> 0.27872772 | H34: =H16/'Specification & Data'!B$19 -> 0.33775608 | I34: =I16/'Specification & Data'!B$19 -> 0.27326795 | J34: =J16/'Specification & Data'!B$19 -> 0.32167052 | K34: =K16/'Specification & Data'!B$19 -> 0.39260957 | L34: =L16/'Specification & Data'!B$19 -> 0.24058157 | M34: =M16/'Specification & Data'!B$19 -> 0.27872772 | N34: =N16/'Specification & Data'!B$19 -> 0.33775608 | O34: =O16/'Specification & Data'!B$19 -> -0.12551139 | P34: =P16/'Specification & Data'!B$19 -> -0.097621674 | Q34: =Q16/'Specification & Data'!B$19 -> -0.050504003
B35: =B34+500 -> 6500 | C35: =C17/'Specification & Data'!B$19 -> 1.1792557 | D35: =D17/'Specification & Data'!B$19 -> 1.2240244 | E35: =E17/'Specification & Data'!B$19 -> 1.2933008 | F35: =F17/'Specification & Data'!B$19 -> 0.24828671 | G35: =G17/'Specification & Data'!B$19 -> 0.29305545 | H35: =H17/'Specification & Data'!B$19 -> 0.36233178 | I35: =I17/'Specification & Data'!B$19 -> 0.28332351 | J35: =J17/'Specification & Data'!B$19 -> 0.33920338 | K35: =K17/'Specification & Data'!B$19 -> 0.42138296 | L35: =L17/'Specification & Data'!B$19 -> 0.24828671 | M35: =M17/'Specification & Data'!B$19 -> 0.29305545 | N35: =N17/'Specification & Data'!B$19 -> 0.36233178 | O35: =O17/'Specification & Data'!B$19 -> -0.12015669 | P35: =P17/'Specification & Data'!B$19 -> -0.086499078 | Q35: =Q17/'Specification & Data'!B$19 -> -0.030125986

Sheet Simulation
A2: Simulation
A4: Track Layout | B4: μR Coefficient | C4: Start | D4: End | E4: Length | G4: RPM | H4: Power(HP) | I4: Power(kw) | J4: Torque(Nm) | K4: BSFC | L4: Gear | M4: Sector | N4: Distance | O4: Time(s) | P4: Speed (kmph) | Q4: Speed (m/s) | R4: Acceleration(m/s2) | S4: Aero Drag(N) | T4: Rolling Resistance(N) | U4: Gradient Resistance (N) | V4: Driving Force(N) | W4: Available Acceleration(m/s2) | X4: Angular Velocity(Wheel RPM) | Y4: Reduced Mass | Z4: Kinetic Energy(KJ)
A5: Sector 1 (Sand) | B5: 0.08 | C5: Point A | D5: Point B | E5: 60 | G5: 1000 | H5: 0.68 | I5: =Simulation!H5*746/1000 -> 0.50728 | J5: =60*1000*Simulation!I5/(2*PI()*Simulation!G5) -> 4.8441672 | K5: 709.8937 | L5: =IF(Q5<='Specification & Data'!I$7,1,IF(AND(Q5>'Specification & Data'!I$7,Q5<='Specification & Data'!I$8),2,IF(Q5>'Specification & Data'!I$8,3))) -> 1 | M5: 1 | N5: 0 | O5: 0 | P5: =Simulation!Q5*3.6 -> 0 | Q5: 0 | R5: =Simulation!V5/Simulation!Y5 -> 0.20182618 | S5: ='Specification & Data'!B$21*'Specification & Data'!B$11*'Specification & Data'!B$23*(Simulation!Q5^2)/2 -> 0 | T5: =IF(AND(M5=1,L5=1),'Specification & Data'!E$14,IF(AND(M5=1,L5=2),'Specification & Data'!E$15,IF(AND(M5=1,L5=3),'Specification & Data'!E$16,IF(AND(M5=2,L5=1),'Specification & Data'!F$14,IF(AND(M5=2,L5=2),'Specification & Data'!F$15,IF(AND(M5=2,L5=3),'Specification & Data'!F$16,IF(AND(M5=3,L5=1),'Specification & Data'!I$14,IF(AND(M5=3,L5=2),'Specification & Data'!I$15,IF(AND(M5=3,L5=3),'Specification & Data'!I$16))))))))) -> 409.43801 | U5: =IF(AND(M5=1,L5=1),'Specification & Data'!E$24,IF(AND(M5=1,L5=2),'Specification & Data'!E$25,IF(AND(M5=1,L5=3),'Specification & Data'!E$26,IF(M5=2,0,IF(AND(M5=3,L5=1),'Specification & Data'!I$24,IF(AND(M5=3,L5=2),'Specification & Data'!I$25,IF(AND(M5=3,L5=3),'Specification & Data'!I$26))))))) -> 178.61733 | V5: ='Specification & Data'!B$46-Simulation!S5-Simulation!T5-Simulation!U5 -> 119.84608 | W5: =Simulation!V5/Simulation!Y5 -> 0.20182618 | X5: =60*Simulation!Q5/(2*'Specification & Data'!B$15*PI()) -> 0 | Y5: =IF(L5=1,'Specification & Data'!B$56,IF(L5=2,'Specification & Data'!B$57,IF(L5=3,'Specification & Data'!B$58))) -> 593.80838 | Z5: =Simulation!Y5*Simulation!Q5^2/2*1000 -> 0
A6: Sector 2 (Asphalt) | B6: 0.02 | C6: Point B | D6: Point E | E6: 150.4 | G6: 1200 | H6: 1.03 | I6: =Simulation!H6*746/1000 -> 0.76838 | J6: =60*1000*Simulation!I6/(2*PI()*Simulation!G6) -> 6.1145738 | K6: 738.1738 | L6: =IF(Q6<='Specification & Data'!I$7,1,IF(AND(Q6>'Specification & Data'!I$7,Q6<='Specification & Data'!I$8),2,IF(Q6>'Specification & Data'!I$8,3))) -> 1 | M6: 1 | N6: =N5+1 -> 1 | O6: =O5+(1/Simulation!Q6) -> 1.5739693 | P6: =Simulation!Q6*3.6 -> 2.2872111 | Q6: =MIN('Specification & Data'!I$9,SQRT(2*Simulation!R5+Simulation!Q5^2)) -> 0.63533642 | R6: =IF(Q6=Q5,0,IF(Q6<>Q5,Simulation!V6/Simulation!Y6)) -> 0.20150661 | S6: ='Specification & Data'!B$21*'Specification & Data'!B$11*'Specification & Data'!B$23*(Simulation!Q6^2)/2 -> 0.18976745 | T6: =IF(AND(M6=1,L6=1),'Specification & Data'!E$14,IF(AND(M6=1,L6=2),'Specification & Data'!E$15,IF(AND(M6=1,L6=3),'Specification & Data'!E$16,IF(AND(M6=2,L6=1),'Specification & Data'!F$14,IF(AND(M6=2,L6=2),'Specification & Data'!F$15,IF(AND(M6=2,L6=3),'Specification & Data'!F$16,IF(AND(M6=3,L6=1),'Specification & Data'!I$14,IF(AND(M6=3,L6=2),'Specification & Data'!I$15,IF(AND(M6=3,L6=3),'Specification & Data'!I$16))))))))) -> 409.43801 | U6: =IF(AND(M6=1,L6=1),'Specification & Data'!E$24,IF(AND(M6=1,L6=2),'Specification & Data'!E$25,IF(AND(M6=1,L6=3),'Specification & Data'!E$26,IF(M6=2,0,IF(AND(M6=3,L6=1),'Specification & Data'!I$24,IF(AND(M6=3,L6=2),'Specification & Data'!I$25,IF(AND(M6=3,L6=3),'Specification & Data'!I$26))))))) -> 178.61733 | V6: ='Specification & Data'!B$46-Simulation!S6-Simulation!T6-Simulation!U6 -> 119.65631 | W6: =Simulation!V6/Simulation!Y6 -> 0.20150661 | X6: =60*Simulation!Q6/(2*'Specification & Data'!B$15*PI()) -> 23.885889 | Y6: =IF(L6=1,'Specification & Data'!B$56,IF(L6=2,'Specification & Data'!B$57,IF(L6=3,'Specification & Data'!B$58))) -> 593.80838 | Z6: =Simulation!Y6*Simulation!Q6^2/(2*1000) -> 0.11984608
A7: Sector 3 (Gravel) | B7: 0.02 | C7: Point E | D7: Point F | E7: 104 | G7: 1400 | H7: 1.39 | I7: =Simulation!H7*746/1000 -> 1.03694 | J7: =60*1000*Simulation!I7/(2*PI()*Simulation!G7) -> 7.0728911 | K7: 698.9772 | L7: =IF(Q7<='Specification & Data'!I$7,1,IF(AND(Q7>'Specification & Data'!I$7,Q7<='Specification & Data'!I$8),2,IF(Q7>'Specification & Data'!I$8,3))) -> 1 | M7: 1 | N7: =N6+1 -> 2 | O7: =O6+(1/Simulation!Q7) -> 2.6873744 | P7: =Simulation!Q7*3.6 -> 3.2333243 | Q7: =MIN('Specification & Data'!I$9,SQRT(2*Simulation!R6+Simulation!Q6^2)) -> 0.89814563 | R7: =IF(Q7=Q6,0,IF(Q7<>Q6,Simulation!V7/Simulation!Y7)) -> 0.20118754 | S7: ='Specification & Data'!B$21*'Specification & Data'!B$11*'Specification & Data'!B$23*(Simulation!Q7^2)/2 -> 0.37923442 | T7: =IF(AND(M7=1,L7=1),'Specification & Data'!E$14,IF(AND(M7=1,L7=2),'Specification & Data'!E$15,IF(AND(M7=1,L7=3),'Specification & Data'!E$16,IF(AND(M7=2,L7=1),'Specification & Data'!F$14,IF(AND(M7=2,L7=2),'Specification & Data'!F$15,IF(AND(M7=2,L7=3),'Specification & Data'!F$16,IF(AND(M7=3,L7=1),'Specification & Data'!I$14,IF(AND(M7=3,L7=2),'Specification & Data'!I$15,IF(AND(M7=3,L7=3),'Specification & Data'!I$16))))))))) -> 409.43801 | U7: =IF(AND(M7=1,L7=1),'Specification & Data'!E$24,IF(AND(M7=1,L7=2),'Specification & Data'!E$25,IF(AND(M7=1,L7=3),'Specification & Data'!E$26,IF(M7=2,0,IF(AND(M7=3,L7=1),'Specification & Data'!I$24,IF(AND(M7=3,L7=2),'Specification & Data'!I$25,IF(AND(M7=3,L7=3),'Specification & Data'!I$26))))))) -> 178.61733 | V7: ='Specification & Data'!B$46-Simulation!S7-Simulation!T7-Simulation!U7 -> 119.46684 | W7: =Simulation!V7/Simulation!Y7 -> 0.20118754 | X7: =60*Simulation!Q7/(2*'Specification & Data'!B$15*PI()) -> 33.766374 | Y7: =IF(L7=1,'Specification & Data'!B$56,IF(L7=2,'Specification & Data'!B$57,IF(L7=3,'Specification & Data'!B$58))) -> 593.80838 | Z7: =Simulation!Y7*Simulation!Q7^2/(2*1000) -> 0.23950239
A8: Total Length | E8: =SUM(E5:E7) -> 314.4 | G8: 1900 | H8: 2.92 | I8: =Simulation!H8*746/1000 -> 2.17832 | J8: =60*1000*Simulation!I8/(2*PI()*Simulation!G8) -> 10.948118 | K8: 671.425 | L8: =IF(Q8<='Specification & Data'!I$7,1,IF(AND(Q8>'Specification & Data'!I$7,Q8<='Specification & Data'!I$8),2,IF(Q8>'Specification & Data'!I$8,3))) -> 1 | M8: 1 | N8: =N7+1 -> 3 | O8: =O7+(1/Simulation!Q8) -> 3.596826 | P8: =Simulation!Q8*3.6 -> 3.9584298 | Q8: =MIN('Specification & Data'!I$9,SQRT(2*Simulation!R7+Simulation!Q7^2)) -> 1.0995638 | R8: =IF(Q8=Q7,0,IF(Q8<>Q7,Simulation!V8/Simulation!Y8)) -> 0.20086897 | S8: ='Specification & Data'!B$21*'Specification & Data'!B$11*'Specification & Data'!B$23*(Simulation!Q8^2)/2 -> 0.56840139 | T8: =IF(AND(M8=1,L8=1),'Specification & Data'!E$14,IF(AND(M8=1,L8=2),'Specification & Data'!E$15,IF(AND(M8=1,L8=3),'Specification & Data'!E$16,IF(AND(M8=2,L8=1),'Specification & Data'!F$14,IF(AND(M8=2,L8=2),'Specification & Data'!F$15,IF(AND(M8=2,L8=3),'Specification & Data'!F$16,IF(AND(M8=3,L8=1),'Specification & Data'!I$14,IF(AND(M8=3,L8=2),'Specification & Data'!I$15,IF(AND(M8=3,L8=3),'Specification & Data'!I$16))))))))) -> 409.43801 | U8: =IF(AND(M8=1,L8=1),'Specification & Data'!E$24,IF(AND(M8=1,L8=2),'Specification & Data'!E$25,IF(AND(M8=1,L8=3),'Specification & Data'!E$26,IF(M8=2,0,IF(AND(M8=3,L8=1),'Specification & Data'!I$24,IF(AND(M8=3,L8=2),'Specification & Data'!I$25,IF(AND(M8=3,L8=3),'Specification & Data'!I$26))))))) -> 178.61733 | V8: ='Specification & Data'!B$46-Simulation!S8-Simulation!T8-Simulation!U8 -> 119.27768 | W8: =Simulation!V8/Simulation!Y8 -> 0.20086897 | X8: =60*Simulation!Q8/(2*'Specification & Data'!B$15*PI()) -> 41.338824 | Y8: =IF(L8=1,'Specification & Data'!B$56,IF(L8=2,'Specification & Data'!B$57,IF(L8=3,'Specification & Data'!B$58))) -> 593.80838 | Z8: =Simulation!Y8*Simulation!Q8^2/(2*1000) -> 0.35896923
G9: 2300 | H9: 4.24 | I9: =Simulation!H9*746/1000 -> 3.16304 | J9: =60*1000*Simulation!I9/(2*PI()*Simulation!G9) -> 13.132525 | K9: 537.86 | L9: =IF(Q9<='Specification & Data'!I$7,1,IF(AND(Q9>'Specification & Data'!I$7,Q9<='Specification & Data'!I$8),2,IF(Q9>'Specification & Data'!I$8,3))) -> 1 | M9: 1 | N9: =N8+1 -> 4 | O9: =O8+(1/Simulation!Q9) -> 4.3847459 | P9: =Simulation!Q9*3.6 -> 4.5689923 | Q9: =MIN('Specification & Data'!I$9,SQRT(2*Simulation!R8+Simulation!Q8^2)) -> 1.2691645 | R9: =IF(Q9=Q8,0,IF(Q9<>Q8,Simulation!V9/Simulation!Y9)) -> 0.20055091 | S9: ='Specification & Data'!B$21*'Specification & Data'!B$11*'Specification & Data'!B$23*(Simulation!Q9^2)/2 -> 0.75726882 | T9: =IF(AND(M9=1,L9=1),'Specification & Data'!E$14,IF(AND(M9=1,L9=2),'Specification & Data'!E$15,IF(AND(M9=1,L9=3),'Specification & Data'!E$16,IF(AND(M9=2,L9=1),'Specification & Data'!F$14,IF(AND(M9=2,L9=2),'Specification & Data'!F$15,IF(AND(M9=2,L9=3),'Specification & Data'!F$16,IF(AND(M9=3,L9=1),'Specification & Data'!I$14,IF(AND(M9=3,L9=2),'Specification & Data'!I$15,IF(AND(M9=3,L9=3),'Specification & Data'!I$16))))))))) -> 409.43801 | U9: =IF(AND(M9=1,L9=1),'Specification & Data'!E$24,IF(AND(M9=1,L9=2),'Specification & Data'!E$25,IF(AND(M9=1,L9=3),'Specification & Data'!E$26,IF(M9=2,0,IF(AND(M9=3,L9=1),'Specification & Data'!I$24,IF(AND(M9=3,L9=2),'Specification & Data'!I$25,IF(AND(M9=3,L9=3),'Specification & Data'!I$26))))))) -> 178.61733 | V9: ='Specification & Data'!B$46-Simulation!S9-Simulation!T9-Simulation!U9 -> 119.08881 | W9: =Simulation!V9/Simulation!Y9 -> 0.20055091 | X9: =60*Simulation!Q9/(2*'Specification & Data'!B$15*PI()) -> 47.715073 | Y9: =IF(L9=1,'Specification & Data'!B$56,IF(L9=2,'Specification & Data'!B$57,IF(L9=3,'Specification & Data'!B$58))) -> 593.80838 | Z9: =Simulation!Y9*Simulation!Q9^2/(2*1000) -> 0.47824691
G10: 2500 | H10: 5.24 | I10: =Simulation!H10*746/1000 -> 3.90904 | J10: =60*1000*Simulation!I10/(2*PI()*Simulation!G10) -> 14.931433 | K10: 519.9 | L10: =IF(Q10<='Specification & Data'!I$7,1,IF(AND(Q10>'Specification & Data'!I$7,Q10<='Specification & Data'!I$8),2,IF(Q10>'Specification & Data'!I$8,3))) -> 1 | M10: 1 | N10: =N9+1 -> 5 | O10: =O9+(1/Simulation!Q10) -> 5.0897618 | P10: =Simulation!Q10*3.6 -> 5.1062677 | Q10: =MIN('Specification & Data'!I$9,SQRT(2*Simulation!R9+Simulation!Q9^2)) -> 1.4184077 | R10: =IF(Q10=Q9,0,IF(Q10<>Q9,Simulation!V10/Simulation!Y10)) -> 0.20023335 | S10: ='Specification & Data'!B$21*'Specification & Data'!B$11*'Specification & Data'!B$23*(Simulation!Q10^2)/2 -> 0.94583719 | T10: =IF(AND(M10=1,L10=1),'Specification & Data'!E$14,IF(AND(M10=1,L10=2),'Specification & Data'!E$15,IF(AND(M10=1,L10=3),'Specification & Data'!E$16,IF(AND(M10=2,L10=1),'Specification & Data'!F$14,IF(AND(M10=2,L10=2),'Specification & Data'!F$15,IF(AND(M10=2,L10=3),'Specification & Data'!F$16,IF(AND(M10=3,L10=1),'Specification & Data'!I$14,IF(AND(M10=3,L10=2),'Specification & Data'!I$15,IF(AND(M10=3,L10=3),'Specification & Data'!I$16))))))))) -> 409.43801 | U10: =IF(AND(M10=1,L10=1),'Specification & Data'!E$24,IF(AND(M10=1,L10=2),'Specification & Data'!E$25,IF(AND(M10=1,L10=3),'Specification & Data'!E$26,IF(M10=2,0,IF(AND(M10=3,L10=1),'Specification & Data'!I$24,IF(AND(M10=3,L10=2),'Specification & Data'!I$25,IF(AND(M10=3,L10=3),'Specification & Data'!I$26))))))) -> 178.61733 | V10: ='Specification & Data'!B$46-Simulation!S10-Simulation!T10-Simulation!U10 -> 118.90024 | W10: =Simulation!V10/Simulation!Y10 -> 0.20023335 | X10: =60*Simulation!Q10/(2*'Specification & Data'!B$15*PI()) -> 53.325968 | Y10: =IF(L10=1,'Specification & Data'!B$56,IF(L10=2,'Specification & Data'!B$57,IF(L10=3,'Specification & Data'!B$58))) -> 593.80838 | Z10: =Simulation!Y10*Simulation!Q10^2/(2*1000) -> 0.59733572
G11: 2700 | H11: 5.93 | I11: =Simulation!H11*746/1000 -> 4.42378 | J11: =60*1000*Simulation!I11/(2*PI()*Simulation!G11) -> 15.645921 | K11: 516.02 | L11: =IF(Q11<='Specification & Data'!I$7,1,IF(AND(Q11>'Specification & Data'!I$7,Q11<='Specification & Data'!I$8),2,IF(Q11>'Specification & Data'!I$8,3))) -> 1 | M11: 1 | N11: =N10+1 -> 6 | O11: =O10+(1/Simulation!Q11) -> 5.733605 | P11: =Simulation!Q11*3.6 -> 5.5914237 | Q11: =MIN('Specification & Data'!I$9,SQRT(2*Simulation!R10+Simulation!Q10^2)) -> 1.5531732 | R11: =IF(Q11=Q10,0,IF(Q11<>Q10,Simulation!V11/Simulation!Y11)) -> 0.1999163 | S11: ='Specification & Data'!B$21*'Specification & Data'!B$11*'Specification & Data'!B$23*(Simulation!Q11^2)/2 -> 1.134107 | T11: =IF(AND(M11=1,L11=1),'Specification & Data'!E$14,IF(AND(M11=1,L11=2),'Specification & Data'!E$15,IF(AND(M11=1,L11=3),'Specification & Data'!E$16,IF(AND(M11=2,L11=1),'Specification & Data'!F$14,IF(AND(M11=2,L11=2),'Specification & Data'!F$15,IF(AND(M11=2,L11=3),'Specification & Data'!F$16,IF(AND(M11=3,L11=1),'Specification & Data'!I$14,IF(AND(M11=3,L11=2),'Specification & Data'!I$15,IF(AND(M11=3,L11=3),'Specification & Data'!I$16))))))))) -> 409.43801 | U11: =IF(AND(M11=1,L11=1),'Specification & Data'!E$24,IF(AND(M11=1,L11=2),'Specification & Data'!E$25,IF(AND(M11=1,L11=3),'Specification & Data'!E$26,IF(M11=2,0,IF(AND(M11=3,L11=1),'Specification & Data'!I$24,IF(AND(M11=3,L11=2),'Specification & Data'!I$25,IF(AND(M11=3,L11=3),'Specification & Data'!I$26))))))) -> 178.61733 | V11: ='Specification & Data'!B$46-Simulation!S11-Simulation!T11-Simulation!U11 -> 118.71197 | W11: =Simulation!V11/Simulation!Y11 -> 0.1999163 | X11: =60*Simulation!Q11/(2*'Specification & Data'!B$15*PI()) -> 58.392567 | Y11: =IF(L11=1,'Specification & Data'!B$56,IF(L11=2,'Specification & Data'!B$57,IF(L11=3,'Specification & Data'!B$58))) -> 593.80838 | Z11: =Simulation!Y11*Simulation!Q11^2/(2*1000) -> 0.71623596
G12: 3000 | H12: 7.17 | I12: =Simulation!H12*746/1000 -> 5.34882 | J12: =60*1000*Simulation!I12/(2*PI()*Simulation!G12) -> 17.025823 | K12: 504.2 | L12: =IF(Q12<='Specification & Data'!I$7,1,IF(AND(Q12>'Specification & Data'!I$7,Q12<='Specification & Data'!I$8),2,IF(Q12>'Specification & Data'!I$8,3))) -> 1 | M12: 1 | N12: =N11+1 -> 7 | O12: =O11+(1/Simulation!Q12) -> 6.3299237 | P12: =Simulation!Q12*3.6 -> 6.0370398 | Q12: =MIN('Specification & Data'!I$9,SQRT(2*Simulation!R11+Simulation!Q11^2)) -> 1.6769555 | R12: =IF(Q12=Q11,0,IF(Q12<>Q11,Simulation!V12/Simulation!Y12)) -> 0.19959974 | S12: ='Specification & Data'!B$21*'Specification & Data'!B$11*'Specification & Data'!B$23*(Simulation!Q12^2)/2 -> 1.3220787 | T12: =IF(AND(M12=1,L12=1),'Specification & Data'!E$14,IF(AND(M12=1,L12=2),'Specification & Data'!E$15,IF(AND(M12=1,L12=3),'Specification & Data'!E$16,IF(AND(M12=2,L12=1),'Specification & Data'!F$14,IF(AND(M12=2,L12=2),'Specification & Data'!F$15,IF(AND(M12=2,L12=3),'Specification & Data'!F$16,IF(AND(M12=3,L12=1),'Specification & Data'!I$14,IF(AND(M12=3,L12=2),'Specification & Data'!I$15,IF(AND(M12=3,L12=3),'Specification & Data'!I$16))))))))) -> 409.43801 | U12: =IF(AND(M12=1,L12=1),'Specification & Data'!E$24,IF(AND(M12=1,L12=2),'Specification & Data'!E$25,IF(AND(M12=1,L12=3),'Specification & Data'!E$26,IF(M12=2,0,IF(AND(M12=3,L12=1),'Specification & Data'!I$24,IF(AND(M12=3,L12=2),'Specification & Data'!I$25,IF(AND(M12=3,L12=3),'Specification & Data'!I$26))))))) -> 178.61733 | V12: ='Specification & Data'!B$46-Simulation!S12-Simulation!T12-Simulation!U12 -> 118.524 | W12: =Simulation!V12/Simulation!Y12 -> 0.19959974 | X12: =60*Simulation!Q12/(2*'Specification & Data'!B$15*PI()) -> 63.046241 | Y12: =IF(L12=1,'Specification & Data'!B$56,IF(L12=2,'Specification & Data'!B$57,IF(L12=3,'Specification & Data'!B$58))) -> 593.80838 | Z12: =Simulation!Y12*Simulation!Q12^2/(2*1000) -> 0.83494793
G13: 3200 | H13: 8.03 | I13: =Simulation!H13*746/1000 -> 5.99038 | J13: =60*1000*Simulation!I13/(2*PI()*Simulation!G13) -> 17.876224 | K13: 498.7 | L13: =IF(Q13<='Specification & Data'!I$7,1,IF(AND(Q13>'Specification & Data'!I$7,Q13<='Specification & Data'!I$8),2,IF(Q13>'Specification & Data'!I$8,3))) -> 1 | M13: 1 | N13: =N12+1 -> 8 | O13: =O12+(1/Simulation!Q13) -> 6.8879494 | P13: =Simulation!Q13*3.6 -> 6.4513157 | Q13: =MIN('Specification & Data'!I$9,SQRT(2*Simulation!R12+Simulation!Q12^2)) -> 1.7920321 | R13: =IF(Q13=Q12,0,IF(Q13<>Q12,Simulation!V13/Simulation!Y13)) -> 0.19928369 | S13: ='Specification & Data'!B$21*'Specification & Data'!B$11*'Specification & Data'!B$23*(Simulation!Q13^2)/2 -> 1.5097527 | T13: =IF(AND(M13=1,L13=1),'Specification & Data'!E$14,IF(AND(M13=1,L13=2),'Specification & Data'!E$15,IF(AND(M13=1,L13=3),'Specification & Data'!E$16,IF(AND(M13=2,L13=1),'Specification & Data'!F$14,IF(AND(M13=2,L13=2),'Specification & Data'!F$15,IF(AND(M13=2,L13=3),'Specification & Data'!F$16,IF(AND(M13=3,L13=1),'Specification & Data'!I$14,IF(AND(M13=3,L13=2),'Specification & Data'!I$15,IF(AND(M13=3,L13=3),'Specification & Data'!I$16))))))))) -> 409.43801 | U13: =IF(AND(M13=1,L13=1),'Specification & Data'!E$24,IF(AND(M13=1,L13=2),'Specification & Data'!E$25,IF(AND(M13=1,L13=3),'Specification & Data'!E$26,IF(M13=2,0,IF(AND(M13=3,L13=1),'Specification & Data'!I$24,IF(AND(M13=3,L13=2),'Specification & Data'!I$25,IF(AND(M13=3,L13=3),'Specification & Data'!I$26))))))) -> 178.61733 | V13: ='Specification & Data'!B$46-Simulation!S13-Simulation!T13-Simulation!U13 -> 118.33633 | W13: =Simulation!V13/Simulation!Y13 -> 0.19928369 | X13: =60*Simulation!Q13/(2*'Specification & Data'!B$15*PI()) -> 67.372624 | Y13: =IF(L13=1,'Specification & Data'!B$56,IF(L13=2,'Specification & Data'!B$57,IF(L13=3,'Specification & Data'!B$58))) -> 593.80838 | Z13: =Simulation!Y13*Simulation!Q13^2/(2*1000) -> 0.95347193
G14: 3400 | H14: 8.96 | I14: =Simulation!H14*746/1000 -> 6.68416 | J14: =60*1000*Simulation!I14/(2*PI()*Simulation!G14) -> 18.773243 | K14: 493.2 | L14: =IF(Q14<='Specification & Data'!I$7,1,IF(AND(Q14>'Specification & Data'!I$7,Q14<='Specification & Data'!I$8),2,IF(Q14>'Specification & Data'!I$8,3))) -> 1 | M14: 1 | N14: =N13+1 -> 9 | O14: =O13+(1/Simulation!Q14) -> 7.4142691 | P14: =Simulation!Q14*3.6 -> 6.8399494 | Q14: =MIN('Specification & Data'!I$9,SQRT(2*Simulation!R13+Simulation!Q13^2)) -> 1.8999859 | R14: =IF(Q14=Q13,0,IF(Q14<>Q13,Simulation!V14/Simulation!Y14)) -> 0.19896814 | S14: ='Specification & Data'!B$21*'Specification & Data'!B$11*'Specification & Data'!B$23*(Simulation!Q14^2)/2 -> 1.6971296 | T14: =IF(AND(M14=1,L14=1),'Specification & Data'!E$14,IF(AND(M14=1,L14=2),'Specification & Data'!E$15,IF(AND(M14=1,L14=3),'Specification & Data'!E$16,IF(AND(M14=2,L14=1),'Specification & Data'!F$14,IF(AND(M14=2,L14=2),'Specification & Data'!F$15,IF(AND(M14=2,L14=3),'Specification & Data'!F$16,IF(AND(M14=3,L14=1),'Specification & Data'!I$14,IF(AND(M14=3,L14=2),'Specification & Data'!I$15,IF(AND(M14=3,L14=3),'Specification & Data'!I$16))))))))) -> 409.43801 | U14: =IF(AND(M14=1,L14=1),'Specification & Data'!E$24,IF(AND(M14=1,L14=2),'Specification & Data'!E$25,IF(AND(M14=1,L14=3),'Specification & Data'!E$26,IF(M14=2,0,IF(AND(M14=3,L14=1),'Specification & Data'!I$24,IF(AND(M14=3,L14=2),'Specification & Data'!I$25,IF(AND(M14=3,L14=3),'Specification & Data'!I$26))))))) -> 178.61733 | V14: ='Specification & Data'!B$46-Simulation!S14-Simulation!T14-Simulation!U14 -> 118.14895 | W14: =Simulation!V14/Simulation!Y14 -> 0.19896814 | X14: =60*Simulation!Q14/(2*'Specification & Data'!B$15*PI()) -> 71.431218 | Y14: =IF(L14=1,'Specification & Data'!B$56,IF(L14=2,'Specification & Data'!B$57,IF(L14=3,'Specification & Data'!B$58))) -> 593.80838 | Z14: =Simulation!Y14*Simulation!Q14^2/(2*1000) -> 1.0718083
G15: 3600 | H15: 9.64 | I15: =Simulation!H15*746/1000 -> 7.19144 | J15: =60*1000*Simulation!I15/(2*PI()*Simulation!G15) -> 19.075887 | K15: 487.6 | L15: =IF(Q15<='Specification & Data'!I$7,1,IF(AND(Q15>'Specification & Data'!I$7,Q15<='Specification & Data'!I$8),2,IF(Q15>'Specification & Data'!I$8,3))) -> 1 | M15: 1 | N15: =N14+1 -> 10 | O15: =O14+(1/Simulation!Q15) -> 7.9137771 | P15: =Simulation!Q15*3.6 -> 7.2070911 | Q15: =MIN('Specification & Data'!I$9,SQRT(2*Simulation!R14+Simulation!Q14^2)) -> 2.0019697 | R15: =IF(Q15=Q14,0,IF(Q15<>Q14,Simulation!V15/Simulation!Y15)) -> 0.19865309 | S15: ='Specification & Data'!B$21*'Specification & Data'!B$11*'Specification & Data'!B$23*(Simulation!Q15^2)/2 -> 1.8842097 | T15: =IF(AND(M15=1,L15=1),'Specification & Data'!E$14,IF(AND(M15=1,L15=2),'Specification & Data'!E$15,IF(AND(M15=1,L15=3),'Specification & Data'!E$16,IF(AND(M15=2,L15=1),'Specification & Data'!F$14,IF(AND(M15=2,L15=2),'Specification & Data'!F$15,IF(AND(M15=2,L15=3),'Specification & Data'!F$16,IF(AND(M15=3,L15=1),'Specification & Data'!I$14,IF(AND(M15=3,L15=2),'Specification & Data'!I$15,IF(AND(M15=3,L15=3),'Specification & Data'!I$16))))))))) -> 409.43801 | U15: =IF(AND(M15=1,L15=1),'Specification & Data'!E$24,IF(AND(M15=1,L15=2),'Specification & Data'!E$25,IF(AND(M15=1,L15=3),'Specification & Data'!E$26,IF(M15=2,0,IF(AND(M15=3,L15=1),'Specification & Data'!I$24,IF(AND(M15=3,L15=2),'Specification & Data'!I$25,IF(AND(M15=3,L15=3),'Specification & Data'!I$26))))))) -> 178.61733 | V15: ='Specification & Data'!B$46-Simulation!S15-Simulation!T15-Simulation!U15 -> 117.96187 | W15: =Simulation!V15/Simulation!Y15 -> 0.19865309 | X15: =60*Simulation!Q15/(2*'Specification & Data'!B$15*PI()) -> 75.265366 | Y15: =IF(L15=1,'Specification & Data'!B$56,IF(L15=2,'Specification & Data'!B$57,IF(L15=3,'Specification & Data'!B$58))) -> 593.80838 | Z15: =Simulation!Y15*Simulation!Q15^2/(2*1000) -> 1.1899572
G16: 3800 | H16: 10.07 | I16: =Simulation!H16*746/1000 -> 7.51222 | J16: =60*1000*Simulation!I16/(2*PI()*Simulation!G16) -> 18.878004 | K16: 488.4 | L16: =IF(Q16<='Specification & Data'!I$7,1,IF(AND(Q16>'Specification & Data'!I$7,Q16<='Specification & Data'!I$8),2,IF(Q16>'Specification & Data'!I$8,3))) -> 1 | M16: 1 | N16: =N15+1 -> 11 | O16: =O15+(1/Simulation!Q16) -> 8.3902276 | P16: =Simulation!Q16*3.6 -> 7.5558752 | Q16: =MIN('Specification & Data'!I$9,SQRT(2*Simulation!R15+Simulation!Q15^2)) -> 2.0988542 | R16: =IF(Q16=Q15,0,IF(Q16<>Q15,Simulation!V16/Simulation!Y16)) -> 0.19833854 | S16: ='Specification & Data'!B$21*'Specification & Data'!B$11*'Specification & Data'!B$23*(Simulation!Q16^2)/2 -> 2.0709937 | T16: =IF(AND(M16=1,L16=1),'Specification & Data'!E$14,IF(AND(M16=1,L16=2),'Specification & Data'!E$15,IF(AND(M16=1,L16=3),'Specification & Data'!E$16,IF(AND(M16=2,L16=1),'Specification & Data'!F$14,IF(AND(M16=2,L16=2),'Specification & Data'!F$15,IF(AND(M16=2,L16=3),'Specification & Data'!F$16,IF(AND(M16=3,L16=1),'Specification & Data'!I$14,IF(AND(M16=3,L16=2),'Specification & Data'!I$15,IF(AND(M16=3,L16=3),'Specification & Data'!I$16))))))))) -> 409.43801 | U16: =IF(AND(M16=1,L16=1),'Specification & Data'!E$24,IF(AND(M16=1,L16=2),'Specification & Data'!E$25,IF(AND(M16=1,L16=3),'Specification & Data'!E$26,IF(M16=2,0,IF(AND(M16=3,L16=1),'Specification & Data'!I$24,IF(AND(M16=3,L16=2),'Specification & Data'!I$25,IF(AND(M16=3,L16=3),'Specification & Data'!I$26))))))) -> 178.61733 | V16: ='Specification & Data'!B$46-Simulation!S16-Simulation!T16-Simulation!U16 -> 117.77508 | W16: =Simulation!V16/Simulation!Y16 -> 0.19833854 | X16: =60*Simulation!Q16/(2*'Specification & Data'!B$15*PI()) -> 78.907801 | Y16: =IF(L16=1,'Specification & Data'!B$56,IF(L16=2,'Specification & Data'!B$57,IF(L16=3,'Specification & Data'!B$58))) -> 593.80838 | Z16: =Simulation!Y16*Simulation!Q16^2/(2*1000) -> 1.3079191
G17: 3900 | H17: 10.28 | I17: =Simulation!H17*746/1000 -> 7.66888 | J17: =60*1000*Simulation!I17/(2*PI()*Simulation!G17) -> 18.777541 | K17: 488.4 | L17: =IF(Q17<='Specification & Data'!I$7,1,IF(AND(Q17>'Specification & Data'!I$7,Q17<='Specification & Data'!I$8),2,IF(Q17>'Specification & Data'!I$8,3))) -> 1 | M17: 1 | N17: =N16+1 -> 12 | O17: =O16+(1/Simulation!Q17) -> 8.8465743 | P17: =Simulation!Q17*3.6 -> 7.8887379 | Q17: =MIN('Specification & Data'!I$9,SQRT(2*Simulation!R16+Simulation!Q16^2)) -> 2.1913161 | R17: =IF(Q17=Q16,0,IF(Q17<>Q16,Simulation!V17/Simulation!Y17)) -> 0.19802448 | S17: ='Specification & Data'!B$21*'Specification & Data'!B$11*'Specification & Data'!B$23*(Simulation!Q17^2)/2 -> 2.2574819 | T17: =IF(AND(M17=1,L17=1),'Specification & Data'!E$14,IF(AND(M17=1,L17=2),'Specification & Data'!E$15,IF(AND(M17=1,L17=3),'Specification & Data'!E$16,IF(AND(M17=2,L17=1),'Specification & Data'!F$14,IF(AND(M17=2,L17=2),'Specification & Data'!F$15,IF(AND(M17=2,L17=3),'Specification & Data'!F$16,IF(AND(M17=3,L17=1),'Specification & Data'!I$14,IF(AND(M17=3,L17=2),'Specification & Data'!I$15,IF(AND(M17=3,L17=3),'Specification & Data'!I$16))))))))) -> 409.43801 | U17: =IF(AND(M17=1,L17=1),'Specification & Data'!E$24,IF(AND(M17=1,L17=2),'Specification & Data'!E$25,IF(AND(M17=1,L17=3),'Specification & Data'!E$26,IF(M17=2,0,IF(AND(M17=3,L17=1),'Specification & Data'!I$24,IF(AND(M17=3,L17=2),'Specification & Data'!I$25,IF(AND(M17=3,L17=3),'Specification & Data'!I$26))))))) -> 178.61733 | V17: ='Specification & Data'!B$46-Simulation!S17-Simulation!T17-Simulation!U17 -> 117.5886 | W17: =Simulation!V17/Simulation!Y17 -> 0.19802448 | X17: =60*Simulation!Q17/(2*'Specification & Data'!B$15*PI()) -> 82.383965 | Y17: =IF(L17=1,'Specification & Data'!B$56,IF(L17=2,'Specification & Data'!B$57,IF(L17=3,'Specification & Data'!B$58))) -> 593.80838 | Z17: =Simulation!Y17*Simulation!Q17^2/(2*1000) -> 1.4256942
G18: 4000 | H18: 10.86 | I18: =Simulation!H18*746/1000 -> 8.10156 | J18: =60*1000*Simulation!I18/(2*PI()*Simulation!G18) -> 19.34105 | K18: 482.7 | L18: =IF(Q18<='Specification & Data'!I$7,1,IF(AND(Q18>'Specification & Data'!I$7,Q18<='Specification & Data'!I$8),2,IF(Q18>'Specification & Data'!I$8,3))) -> 1 | M18: 1 | N18: =N17+1 -> 13 | O18: =O17+(1/Simulation!Q18) -> 9.2851913 | P18: =Simulation!Q18*3.6 -> 8.2076172 | Q18: =MIN('Specification & Data'!I$9,SQRT(2*Simulation!R17+Simulation!Q17^2)) -> 2.2798937 | R18: =IF(Q18=Q17,0,IF(Q18<>Q17,Simulation!V18/Simulation!Y18)) -> 0.19771093 | S18: ='Specification & Data'!B$21*'Specification & Data'!B$11*'Specification & Data'!B$23*(Simulation!Q18^2)/2 -> 2.4436748 | T18: =IF(AND(M18=1,L18=1),'Specification & Data'!E$14,IF(AND(M18=1,L18=2),'Specification & Data'!E$15,IF(AND(M18=1,L18=3),'Specification & Data'!E$16,IF(AND(M18=2,L18=1),'Specification & Data'!F$14,IF(AND(M18=2,L18=2),'Specification & Data'!F$15,IF(AND(M18=2,L18=3),'Specification & Data'!F$16,IF(AND(M18=3,L18=1),'Specification & Data'!I$14,IF(AND(M18=3,L18=2),'Specification & Data'!I$15,IF(AND(M18=3,L18=3),'Specification & Data'!I$16))))))))) -> 409.43801 | U18: =IF(AND(M18=1,L18=1),'Specification & Data'!E$24,IF(AND(M18=1,L18=2),'Specification & Data'!E$25,IF(AND(M18=1,L18=3),'Specification & Data'!E$26,IF(M18=2,0,IF(AND(M18=3,L18=1),'Specification & Data'!I$24,IF(AND(M18=3,L18=2),'Specification & Data'!I$25,IF(AND(M18=3,L18=3),'Specification & Data'!I$26))))))) -> 178.61733 | V18: ='Specification & Data'!B$46-Simulation!S18-Simulation!T18-Simulation!U18 -> 117.4024 | W18: =Simulation!V18/Simulation!Y18 -> 0.19771093 | X18: =60*Simulation!Q18/(2*'Specification & Data'!B$15*PI()) -> 85.714097 | Y18: =IF(L18=1,'Specification & Data'!B$56,IF(L18=2,'Specification & Data'!B$57,IF(L18=3,'Specification & Data'!B$58))) -> 593.80838 | Z18: =Simulation!Y18*Simulation!Q18^2/(2*1000) -> 1.5432828
G19: 4200 | H19: 12.04 | I19: =Simulation!H19*746/1000 -> 8.98184 | J19: =60*1000*Simulation!I19/(2*PI()*Simulation!G19) -> 20.421489 | K19: 479.7 | L19: =IF(Q19<='Specification & Data'!I$7,1,IF(AND(Q19>'Specification & Data'!I$7,Q19<='Specification & Data'!I$8),2,IF(Q19>'Specification & Data'!I$8,3))) -> 1 | M19: 1 | N19: =N18+1 -> 14 | O19: =O18+(1/Simulation!Q19) -> 9.70802 | P19: =Simulation!Q19*3.6 -> 8.5140852 | Q19: =MIN('Specification & Data'!I$9,SQRT(2*Simulation!R18+Simulation!Q18^2)) -> 2.3650237 | R19: =IF(Q19=Q18,0,IF(Q19<>Q18,Simulation!V19/Simulation!Y19)) -> 0.19739786 | S19: ='Specification & Data'!B$21*'Specification & Data'!B$11*'Specification & Data'!B$23*(Simulation!Q19^2)/2 -> 2.6295728 | T19: =IF(AND(M19=1,L19=1),'Specification & Data'!E$14,IF(AND(M19=1,L19=2),'Specification & Data'!E$15,IF(AND(M19=1,L19=3),'Specification & Data'!E$16,IF(AND(M19=2,L19=1),'Specification & Data'!F$14,IF(AND(M19=2,L19=2),'Specification & Data'!F$15,IF(AND(M19=2,L19=3),'Specification & Data'!F$16,IF(AND(M19=3,L19=1),'Specification & Data'!I$14,IF(AND(M19=3,L19=2),'Specification & Data'!I$15,IF(AND(M19=3,L19=3),'Specification & Data'!I$16))))))))) -> 409.43801 | U19: =IF(AND(M19=1,L19=1),'Specification & Data'!E$24,IF(AND(M19=1,L19=2),'Specification & Data'!E$25,IF(AND(M19=1,L19=3),'Specification & Data'!E$26,IF(M19=2,0,IF(AND(M19=3,L19=1),'Specification & Data'!I$24,IF(AND(M19=3,L19=2),'Specification & Data'!I$25,IF(AND(M19=3,L19=3),'Specification & Data'!I$26))))))) -> 178.61733 | V19: ='Specification & Data'!B$46-Simulation!S19-Simulation!T19-Simulation!U19 -> 117.21651 | W19: =Simulation!V19/Simulation!Y19 -> 0.19739786 | X19: =60*Simulation!Q19/(2*'Specification & Data'!B$15*PI()) -> 88.914616 | Y19: =IF(L19=1,'Specification & Data'!B$56,IF(L19=2,'Specification & Data'!B$57,IF(L19=3,'Specification & Data'!B$58))) -> 593.80838 | Z19: =Simulation!Y19*Simulation!Q19^2/(2*1000) -> 1.6606852
G20: 4300 | H20: 12.63 | I20: =Simulation!H20*746/1000 -> 9.42198 | J20: =60*1000*Simulation!I20/(2*PI()*Simulation!G20) -> 20.924019 | K20: 491.4 | L20: =IF(Q20<='Specification & Data'!I$7,1,IF(AND(Q20>'Specification & Data'!I$7,Q20<='Specification & Data'!I$8),2,IF(Q20>'Specification & Data'!I$8,3))) -> 1 | M20: 1 | N20: =N19+1 -> 15 | O20: =O19+(1/Simulation!Q20) -> 10.116673 | P20: =Simulation!Q20*3.6 -> 8.8094381 | Q20: =MIN('Specification & Data'!I$9,SQRT(2*Simulation!R19+Simulation!Q19^2)) -> 2.4470661 | R20: =IF(Q20=Q19,0,IF(Q20<>Q19,Simulation!V20/Simulation!Y20)) -> 0.1970853 | S20: ='Specification & Data'!B$21*'Specification & Data'!B$11*'Specification & Data'!B$23*(Simulation!Q20^2)/2 -> 2.8151766 | T20: =IF(AND(M20=1,L20=1),'Specification & Data'!E$14,IF(AND(M20=1,L20=2),'Specification & Data'!E$15,IF(AND(M20=1,L20=3),'Specification & Data'!E$16,IF(AND(M20=2,L20=1),'Specification & Data'!F$14,IF(AND(M20=2,L20=2),'Specification & Data'!F$15,IF(AND(M20=2,L20=3),'Specification & Data'!F$16,IF(AND(M20=3,L20=1),'Specification & Data'!I$14,IF(AND(M20=3,L20=2),'Specification & Data'!I$15,IF(AND(M20=3,L20=3),'Specification & Data'!I$16))))))))) -> 409.43801 | U20: =IF(AND(M20=1,L20=1),'Specification & Data'!E$24,IF(AND(M20=1,L20=2),'Specification & Data'!E$25,IF(AND(M20=1,L20=3),'Specification & Data'!E$26,IF(M20=2,0,IF(AND(M20=3,L20=1),'Specification & Data'!I$24,IF(AND(M20=3,L20=2),'Specification & Data'!I$25,IF(AND(M20=3,L20=3),'Specification & Data'!I$26))))))) -> 178.61733 | V20: ='Specification & Data'!B$46-Simulation!S20-Simulation!T20-Simulation!U20 -> 117.0309 | W20: =Simulation!V20/Simulation!Y20 -> 0.1970853 | X20: =60*Simulation!Q20/(2*'Specification & Data'!B$15*PI()) -> 91.999056 | Y20: =IF(L20=1,'Specification & Data'!B$56,IF(L20=2,'Specification & Data'!B$57,IF(L20=3,'Specification & Data'!B$58))) -> 593.80838 | Z20: =Simulation!Y20*Simulation!Q20^2/(2*1000) -> 1.7779017
... G27: 5200 | H27: 15.92 | I27: =Simulation!H27*746/1000 -> 11.87632 | J27: =60*1000*Simulation!I27/(2*PI()*Simulation!G27) -> 21.809712 | K27: 470.6 | L27: =IF(Q27<='Specification & Data'!I$7,1,IF(AND(Q27>'Specification & Data'!I$7,Q27<='Specification & Data'!I$8),2,IF(Q27>'Specification & Data'!I$8,3))) -> 1 | M27: 1 | N27: =N26+1 -> 22 | O27: =O26+(1/Simulation!Q27) -> 12.672991 | P27: =Simulation!Q27*3.6 -> 10.639358 | Q27: =MIN('Specification & Data'!I$9,SQRT(2*Simulation!R26+Simulation!Q26^2)) -> 2.9553772 | R27: =IF(Q27=Q26,0,IF(Q27<>Q26,Simulation!V27/Simulation!Y27)) -> 0.19491116 | S27: ='Specification & Data'!B$21*'Specification & Data'!B$11*'Specification & Data'!B$23*(Simulation!Q27^2)/2 -> 4.1061997 | T27: =IF(AND(M27=1,L27=1),'Specification & Data'!E$14,IF(AND(M27=1,L27=2),'Specification & Data'!E$15,IF(AND(M27=1,L27=3),'Specification & Data'!E$16,IF(AND(M27=2,L27=1),'Specification & Data'!F$14,IF(AND(M27=2,L27=2),'Specification & Data'!F$15,IF(AND(M27=2,L27=3),'Specification & Data'!F$16,IF(AND(M27=3,L27=1),'Specification & Data'!I$14,IF(AND(M27=3,L27=2),'Specification & Data'!I$15,IF(AND(M27=3,L27=3),'Specification & Data'!I$16))))))))) -> 409.43801 | U27: =IF(AND(M27=1,L27=1),'Specification & Data'!E$24,IF(AND(M27=1,L27=2),'Specification & Data'!E$25,IF(AND(M27=1,L27=3),'Specification & Data'!E$26,IF(M27=2,0,IF(AND(M27=3,L27=1),'Specification & Data'!I$24,IF(AND(M27=3,L27=2),'Specification & Data'!I$25,IF(AND(M27=3,L27=3),'Specification & Data'!I$26))))))) -> 178.61733 | V27: ='Specification & Data'!B$46-Simulation!S27-Simulation!T27-Simulation!U27 -> 115.73988 | W27: =Simulation!V27/Simulation!Y27 -> 0.19491116 | X27: =60*Simulation!Q27/(2*'Specification & Data'!B$15*PI()) -> 111.10934 | Y27: =IF(L27=1,'Specification & Data'!B$56,IF(L27=2,'Specification & Data'!B$57,IF(L27=3,'Specification & Data'!B$58))) -> 593.80838 | Z27: =Simulation!Y27*Simulation!Q27^2/(2*1000) -> 2.5932367
A28: Color Code | G28: 5300 | H28: 16.25 | I28: =Simulation!H28*746/1000 -> 12.1225 | J28: =60*1000*Simulation!I28/(2*PI()*Simulation!G28) -> 21.841764 | K28: 470.6 | L28: =IF(Q28<='Specification & Data'!I$7,1,IF(AND(Q28>'Specification & Data'!I$7,Q28<='Specification & Data'!I$8),2,IF(Q28>'Specification & Data'!I$8,3))) -> 1 | M28: 1 | N28: =N27+1 -> 23 | O28: =O27+(1/Simulation!Q28) -> 13.00405 | P28: =Simulation!Q28*3.6 -> 10.874191 | Q28: =MIN('Specification & Data'!I$9,SQRT(2*Simulation!R27+Simulation!Q27^2)) -> 3.0206087 | R28: =IF(Q28=Q27,0,IF(Q28<>Q27,Simulation!V28/Simulation!Y28)) -> 0.19460253 | S28: ='Specification & Data'!B$21*'Specification & Data'!B$11*'Specification & Data'!B$23*(Simulation!Q28^2)/2 -> 4.2894653 | T28: =IF(AND(M28=1,L28=1),'Specification & Data'!E$14,IF(AND(M28=1,L28=2),'Specification & Data'!E$15,IF(AND(M28=1,L28=3),'Specification & Data'!E$16,IF(AND(M28=2,L28=1),'Specification & Data'!F$14,IF(AND(M28=2,L28=2),'Specification & Data'!F$15,IF(AND(M28=2,L28=3),'Specification & Data'!F$16,IF(AND(M28=3,L28=1),'Specification & Data'!I$14,IF(AND(M28=3,L28=2),'Specification & Data'!I$15,IF(AND(M28=3,L28=3),'Specification & Data'!I$16))))))))) -> 409.43801 | U28: =IF(AND(M28=1,L28=1),'Specification & Data'!E$24,IF(AND(M28=1,L28=2),'Specification & Data'!E$25,IF(AND(M28=1,L28=3),'Specification & Data'!E$26,IF(M28=2,0,IF(AND(M28=3,L28=1),'Specification & Data'!I$24,IF(AND(M28=3,L28=2),'Specification & Data'!I$25,IF(AND(M28=3,L28=3),'Specification & Data'!I$26))))))) -> 178.61733 | V28: ='Specification & Data'!B$46-Simulation!S28-Simulation!T28-Simulation!U28 -> 115.55661 | W28: =Simulation!V28/Simulation!Y28 -> 0.19460253 | X28: =60*Simulation!Q28/(2*'Specification & Data'!B$15*PI()) -> 113.56176 | Y28: =IF(L28=1,'Specification & Data'!B$56,IF(L28=2,'Specification & Data'!B$57,IF(L28=3,'Specification & Data'!B$58))) -> 593.80838 | Z28: =Simulation!Y28*Simulation!Q28^2/(2*1000) -> 2.7089766
A29: Straight | G29: 5400 | H29: 16.58 | I29: =Simulation!H29*746/1000 -> 12.36868 | J29: =60*1000*Simulation!I29/(2*PI()*Simulation!G29) -> 21.872628 | K29: 470.6 | L29: =IF(Q29<='Specification & Data'!I$7,1,IF(AND(Q29>'Specification & Data'!I$7,Q29<='Specification & Data'!I$8),2,IF(Q29>'Specification & Data'!I$8,3))) -> 1 | M29: 1 | N29: =N28+1 -> 24 | O29: =O28+(1/Simulation!Q29) -> 13.328266 | P29: =Simulation!Q29*3.6 -> 11.103699 | Q29: =MIN('Specification & Data'!I$9,SQRT(2*Simulation!R28+Simulation!Q28^2)) -> 3.0843608 | R29: =IF(Q29=Q28,0,IF(Q29<>Q28,Simulation!V29/Simulation!Y29)) -> 0.19429439 | S29: ='Specification & Data'!B$21*'Specification & Data'!B$11*'Specification & Data'!B$23*(Simulation!Q29^2)/2 -> 4.4724407 | T29: =IF(AND(M29=1,L29=1),'Specification & Data'!E$14,IF(AND(M29=1,L29=2),'Specification & Data'!E$15,IF(AND(M29=1,L29=3),'Specification & Data'!E$16,IF(AND(M29=2,L29=1),'Specification & Data'!F$14,IF(AND(M29=2,L29=2),'Specification & Data'!F$15,IF(AND(M29=2,L29=3),'Specification & Data'!F$16,IF(AND(M29=3,L29=1),'Specification & Data'!I$14,IF(AND(M29=3,L29=2),'Specification & Data'!I$15,IF(AND(M29=3,L29=3),'Specification & Data'!I$16))))))))) -> 409.43801 | U29: =IF(AND(M29=1,L29=1),'Specification & Data'!E$24,IF(AND(M29=1,L29=2),'Specification & Data'!E$25,IF(AND(M29=1,L29=3),'Specification & Data'!E$26,IF(M29=2,0,IF(AND(M29=3,L29=1),'Specification & Data'!I$24,IF(AND(M29=3,L29=2),'Specification & Data'!I$25,IF(AND(M29=3,L29=3),'Specification & Data'!I$26))))))) -> 178.61733 | V29: ='Specification & Data'!B$46-Simulation!S29-Simulation!T29-Simulation!U29 -> 115.37364 | W29: =Simulation!V29/Simulation!Y29 -> 0.19429439 | X29: =60*Simulation!Q29/(2*'Specification & Data'!B$15*PI()) -> 115.95857 | Y29: =IF(L29=1,'Specification & Data'!B$56,IF(L29=2,'Specification & Data'!B$57,IF(L29=3,'Specification & Data'!B$58))) -> 593.80838 | Z29: =Simulation!Y29*Simulation!Q29^2/(2*1000) -> 2.8245332
A30: Gradient up | G30: 5500 | H30: 16.94 | I30: =Simulation!H30*746/1000 -> 12.63724 | J30: =60*1000*Simulation!I30/(2*PI()*Simulation!G30) -> 21.941228 | K30: 443.8 | L30: =IF(Q30<='Specification & Data'!I$7,1,IF(AND(Q30>'Specification & Data'!I$7,Q30<='Specification & Data'!I$8),2,IF(Q30>'Specification & Data'!I$8,3))) -> 1 | M30: 1 | N30: =N29+1 -> 25 | O30: =O29+(1/Simulation!Q30) -> 13.646057 | P30: =Simulation!Q30*3.6 -> 11.328206 | Q30: =MIN('Specification & Data'!I$9,SQRT(2*Simulation!R29+Simulation!Q29^2)) -> 3.1467238 | R30: =IF(Q30=Q29,0,IF(Q30<>Q29,Simulation!V30/Simulation!Y30)) -> 0.19398674 | S30: ='Specification & Data'!B$21*'Specification & Data'!B$11*'Specification & Data'!B$23*(Simulation!Q30^2)/2 -> 4.6551263 | T30: =IF(AND(M30=1,L30=1),'Specification & Data'!E$14,IF(AND(M30=1,L30=2),'Specification & Data'!E$15,IF(AND(M30=1,L30=3),'Specification & Data'!E$16,IF(AND(M30=2,L30=1),'Specification & Data'!F$14,IF(AND(M30=2,L30=2),'Specification & Data'!F$15,IF(AND(M30=2,L30=3),'Specification & Data'!F$16,IF(AND(M30=3,L30=1),'Specification & Data'!I$14,IF(AND(M30=3,L30=2),'Specification & Data'!I$15,IF(AND(M30=3,L30=3),'Specification & Data'!I$16))))))))) -> 409.43801 | U30: =IF(AND(M30=1,L30=1),'Specification & Data'!E$24,IF(AND(M30=1,L30=2),'Specification & Data'!E$25,IF(AND(M30=1,L30=3),'Specification & Data'!E$26,IF(M30=2,0,IF(AND(M30=3,L30=1),'Specification & Data'!I$24,IF(AND(M30=3,L30=2),'Specification & Data'!I$25,IF(AND(M30=3,L30=3),'Specification & Data'!I$26))))))) -> 178.61733 | V30: ='Specification & Data'!B$46-Simulation!S30-Simulation!T30-Simulation!U30 -> 115.19095 | W30: =Simulation!V30/Simulation!Y30 -> 0.19398674 | X30: =60*Simulation!Q30/(2*'Specification & Data'!B$15*PI()) -> 118.30314 | Y30: =IF(L30=1,'Specification & Data'!B$56,IF(L30=2,'Specification & Data'!B$57,IF(L30=3,'Specification & Data'!B$58))) -> 593.80838 | Z30: =Simulation!Y30*Simulation!Q30^2/(2*1000) -> 2.9399069
A31: Gradient Down | G31: 5600 | H31: 17.05 | I31: =Simulation!H31*746/1000 -> 12.7193 | J31: =60*1000*Simulation!I31/(2*PI()*Simulation!G31) -> 21.689351 | K31: 443.8 | L31: =IF(Q31<='Specification & Data'!I$7,1,IF(AND(Q31>'Specification & Data'!I$7,Q31<='Specification & Data'!I$8),2,IF(Q31>'Specification & Data'!I$8,3))) -> 1 | M31: 1 | N31: =N30+1 -> 26 | O31: =O30+(1/Simulation!Q31) -> 13.957799 | P31: =Simulation!Q31*3.6 -> 11.548003 | Q31: =MIN('Specification & Data'!I$9,SQRT(2*Simulation!R30+Simulation!Q30^2)) -> 3.2077787 | R31: =IF(Q31=Q30,0,IF(Q31<>Q30,Simulation!V31/Simulation!Y31)) -> 0.19367958 | S31: ='Specification & Data'!B$21*'Specification & Data'!B$11*'Specification & Data'!B$23*(Simulation!Q31^2)/2 -> 4.8375227 | T31: =IF(AND(M31=1,L31=1),'Specification & Data'!E$14,IF(AND(M31=1,L31=2),'Specification & Data'!E$15,IF(AND(M31=1,L31=3),'Specification & Data'!E$16,IF(AND(M31=2,L31=1),'Specification & Data'!F$14,IF(AND(M31=2,L31=2),'Specification & Data'!F$15,IF(AND(M31=2,L31=3),'Specification & Data'!F$16,IF(AND(M31=3,L31=1),'Specification & Data'!I$14,IF(AND(M31=3,L31=2),'Specification & Data'!I$15,IF(AND(M31=3,L31=3),'Specification & Data'!I$16))))))))) -> 409.43801 | U31: =IF(AND(M31=1,L31=1),'Specification & Data'!E$24,IF(AND(M31=1,L31=2),'Specification & Data'!E$25,IF(AND(M31=1,L31=3),'Specification & Data'!E$26,IF(M31=2,0,IF(AND(M31=3,L31=1),'Specification & Data'!I$24,IF(AND(M31=3,L31=2),'Specification & Data'!I$25,IF(AND(M31=3,L31=3),'Specification & Data'!I$26))))))) -> 178.61733 | V31: ='Specification & Data'!B$46-Simulation!S31-Simulation!T31-Simulation!U31 -> 115.00856 | W31: =Simulation!V31/Simulation!Y31 -> 0.19367958 | X31: =60*Simulation!Q31/(2*'Specification & Data'!B$15*PI()) -> 120.59854 | Y31: =IF(L31=1,'Specification & Data'!B$56,IF(L31=2,'Specification & Data'!B$57,IF(L31=3,'Specification & Data'!B$58))) -> 593.80838 | Z31: =Simulation!Y31*Simulation!Q31^2/(2*1000) -> 3.0550978
A32: Breaking Point/ Corner | G32: 5700 | H32: 17.11 | I32: =Simulation!H32*746/1000 -> 12.76406 | J32: =60*1000*Simulation!I32/(2*PI()*Simulation!G32) -> 21.383824 | K32: 443.8 | L32: =IF(Q32<='Specification & Data'!I$7,1,IF(AND(Q32>'Specification & Data'!I$7,Q32<='Specification & Data'!I$8),2,IF(Q32>'Specification & Data'!I$8,3))) -> 1 | M32: 1 | N32: =N31+1 -> 27 | O32: =O31+(1/Simulation!Q32) -> 14.263834 | P32: =Simulation!Q32*3.6 -> 11.763356 | Q32: =MIN('Specification & Data'!I$9,SQRT(2*Simulation!R31+Simulation!Q31^2)) -> 3.267599 | R32: =IF(Q32=Q31,0,IF(Q32<>Q31,Simulation!V32/Simulation!Y32)) -> 0.1933729 | S32: ='Specification & Data'!B$21*'Specification & Data'!B$11*'Specification & Data'!B$23*(Simulation!Q32^2)/2 -> 5.0196303 | T32: =IF(AND(M32=1,L32=1),'Specification & Data'!E$14,IF(AND(M32=1,L32=2),'Specification & Data'!E$15,IF(AND(M32=1,L32=3),'Specification & Data'!E$16,IF(AND(M32=2,L32=1),'Specification & Data'!F$14,IF(AND(M32=2,L32=2),'Specification & Data'!F$15,IF(AND(M32=2,L32=3),'Specification & Data'!F$16,IF(AND(M32=3,L32=1),'Specification & Data'!I$14,IF(AND(M32=3,L32=2),'Specification & Data'!I$15,IF(AND(M32=3,L32=3),'Specification & Data'!I$16))))))))) -> 409.43801 | U32: =IF(AND(M32=1,L32=1),'Specification & Data'!E$24,IF(AND(M32=1,L32=2),'Specification & Data'!E$25,IF(AND(M32=1,L32=3),'Specification & Data'!E$26,IF(M32=2,0,IF(AND(M32=3,L32=1),'Specification & Data'!I$24,IF(AND(M32=3,L32=2),'Specification & Data'!I$25,IF(AND(M32=3,L32=3),'Specification & Data'!I$26))))))) -> 178.61733 | V32: ='Specification & Data'!B$46-Simulation!S32-Simulation!T32-Simulation!U32 -> 114.82645 | W32: =Simulation!V32/Simulation!Y32 -> 0.1933729 | X32: =60*Simulation!Q32/(2*'Specification & Data'!B$15*PI()) -> 122.84753 | Y32: =IF(L32=1,'Specification & Data'!B$56,IF(L32=2,'Specification & Data'!B$57,IF(L32=3,'Specification & Data'!B$58))) -> 593.80838 | Z32: =Simulation!Y32*Simulation!Q32^2/(2*1000) -> 3.1701064
G33: 5800 | H33: 17.18 | I33: =Simulation!H33*746/1000 -> 12.81628 | J33: =60*1000*Simulation!I33/(2*PI()*Simulation!G33) -> 21.101114 | K33: 443.8 | L33: =IF(Q33<='Specification & Data'!I$7,1,IF(AND(Q33>'Specification & Data'!I$7,Q33<='Specification & Data'!I$8),2,IF(Q33>'Specification & Data'!I$8,3))) -> 1 | M33: 1 | N33: =N32+1 -> 28 | O33: =O32+(1/Simulation!Q33) -> 14.564473 | P33: =Simulation!Q33*3.6 -> 11.974505 | Q33: =MIN('Specification & Data'!I$9,SQRT(2*Simulation!R32+Simulation!Q32^2)) -> 3.3262515 | R33: =IF(Q33=Q32,0,IF(Q33<>Q32,Simulation!V33/Simulation!Y33)) -> 0.19306671 | S33: ='Specification & Data'!B$21*'Specification & Data'!B$11*'Specification & Data'!B$23*(Simulation!Q33^2)/2 -> 5.2014496 | T33: =IF(AND(M33=1,L33=1),'Specification & Data'!E$14,IF(AND(M33=1,L33=2),'Specification & Data'!E$15,IF(AND(M33=1,L33=3),'Specification & Data'!E$16,IF(AND(M33=2,L33=1),'Specification & Data'!F$14,IF(AND(M33=2,L33=2),'Specification & Data'!F$15,IF(AND(M33=2,L33=3),'Specification & Data'!F$16,IF(AND(M33=3,L33=1),'Specification & Data'!I$14,IF(AND(M33=3,L33=2),'Specification & Data'!I$15,IF(AND(M33=3,L33=3),'Specification & Data'!I$16))))))))) -> 409.43801 | U33: =IF(AND(M33=1,L33=1),'Specification & Data'!E$24,IF(AND(M33=1,L33=2),'Specification & Data'!E$25,IF(AND(M33=1,L33=3),'Specification & Data'!E$26,IF(M33=2,0,IF(AND(M33=3,L33=1),'Specification & Data'!I$24,IF(AND(M33=3,L33=2),'Specification & Data'!I$25,IF(AND(M33=3,L33=3),'Specification & Data'!I$26))))))) -> 178.61733 | V33: ='Specification & Data'!B$46-Simulation!S33-Simulation!T33-Simulation!U33 -> 114.64463 | W33: =Simulation!V33/Simulation!Y33 -> 0.19306671 | X33: =60*Simulation!Q33/(2*'Specification & Data'!B$15*PI()) -> 125.05261 | Y33: =IF(L33=1,'Specification & Data'!B$56,IF(L33=2,'Specification & Data'!B$57,IF(L33=3,'Specification & Data'!B$58))) -> 593.80838 | Z33: =Simulation!Y33*Simulation!Q33^2/(2*1000) -> 3.2849328
A34: Straight/ Breaking Zone/ Corner | B34: Distance(m) | C34: Corner Radius(m) | D34: Radians | G34: 5900 | H34: 17.24 | I34: =Simulation!H34*746/1000 -> 12.86104 | J34: =60*1000*Simulation!I34/(2*PI()*Simulation!G34) -> 20.815913 | K34: 469.1 | L34: =IF(Q34<='Specification & Data'!I$7,1,IF(AND(Q34>'Specification & Data'!I$7,Q34<='Specification & Data'!I$8),2,IF(Q34>'Specification & Data'!I$8,3))) -> 1 | M34: 1 | N34: =N33+1 -> 29 | O34: =O33+(1/Simulation!Q34) -> 14.859999 | P34: =Simulation!Q34*3.6 -> 12.181669 | Q34: =MIN('Specification & Data'!I$9,SQRT(2*Simulation!R33+Simulation!Q33^2)) -> 3.3837971 | R34: =IF(Q34=Q33,0,IF(Q34<>Q33,Simulation!V34/Simulation!Y34)) -> 0.192761 | S34: ='Specification & Data'!B$21*'Specification & Data'!B$11*'Specification & Data'!B$23*(Simulation!Q34^2)/2 -> 5.3829809 | T34: =IF(AND(M34=1,L34=1),'Specification & Data'!E$14,IF(AND(M34=1,L34=2),'Specification & Data'!E$15,IF(AND(M34=1,L34=3),'Specification & Data'!E$16,IF(AND(M34=2,L34=1),'Specification & Data'!F$14,IF(AND(M34=2,L34=2),'Specification & Data'!F$15,IF(AND(M34=2,L34=3),'Specification & Data'!F$16,IF(AND(M34=3,L34=1),'Specification & Data'!I$14,IF(AND(M34=3,L34=2),'Specification & Data'!I$15,IF(AND(M34=3,L34=3),'Specification & Data'!I$16))))))))) -> 409.43801 | U34: =IF(AND(M34=1,L34=1),'Specification & Data'!E$24,IF(AND(M34=1,L34=2),'Specification & Data'!E$25,IF(AND(M34=1,L34=3),'Specification & Data'!E$26,IF(M34=2,0,IF(AND(M34=3,L34=1),'Specification & Data'!I$24,IF(AND(M34=3,L34=2),'Specification & Data'!I$25,IF(AND(M34=3,L34=3),'Specification & Data'!I$26))))))) -> 178.61733 | V34: ='Specification & Data'!B$46-Simulation!S34-Simulation!T34-Simulation!U34 -> 114.4631 | W34: =Simulation!V34/Simulation!Y34 -> 0.192761 | X34: =60*Simulation!Q34/(2*'Specification & Data'!B$15*PI()) -> 127.21607 | Y34: =IF(L34=1,'Specification & Data'!B$56,IF(L34=2,'Specification & Data'!B$57,IF(L34=3,'Specification & Data'!B$58))) -> 593.80838 | Z34: =Simulation!Y34*Simulation!Q34^2/(2*1000) -> 3.3995774
A35: AB (Sector 1) | B35: 60 | G35: 6000 | H35: 17.32 | I35: =Simulation!H35*746/1000 -> 12.92072 | J35: =60*1000*Simulation!I35/(2*PI()*Simulation!G35) -> 20.563965 | K35: 469.1 | L35: =IF(Q35<='Specification & Data'!I$7,1,IF(AND(Q35>'Specification & Data'!I$7,Q35<='Specification & Data'!I$8),2,IF(Q35>'Specification & Data'!I$8,3))) -> 1 | M35: 1 | N35: =N34+1 -> 30 | O35: =O34+(1/Simulation!Q35) -> 15.150672 | P35: =Simulation!Q35*3.6 -> 12.385049 | Q35: =MIN('Specification & Data'!I$9,SQRT(2*Simulation!R34+Simulation!Q34^2)) -> 3.4402913 | R35: =IF(Q35=Q34,0,IF(Q35<>Q34,Simulation!V35/Simulation!Y35)) -> 0.19245578 | S35: ='Specification & Data'!B$21*'Specification & Data'!B$11*'Specification & Data'!B$23*(Simulation!Q35^2)/2 -> 5.5642248 | T35: =IF(AND(M35=1,L35=1),'Specification & Data'!E$14,IF(AND(M35=1,L35=2),'Specification & Data'!E$15,IF(AND(M35=1,L35=3),'Specification & Data'!E$16,IF(AND(M35=2,L35=1),'Specification & Data'!F$14,IF(AND(M35=2,L35=2),'Specification & Data'!F$15,IF(AND(M35=2,L35=3),'Specification & Data'!F$16,IF(AND(M35=3,L35=1),'Specification & Data'!I$14,IF(AND(M35=3,L35=2),'Specification & Data'!I$15,IF(AND(M35=3,L35=3),'Specification & Data'!I$16))))))))) -> 409.43801 | U35: =IF(AND(M35=1,L35=1),'Specification & Data'!E$24,IF(AND(M35=1,L35=2),'Specification & Data'!E$25,IF(AND(M35=1,L35=3),'Specification & Data'!E$26,IF(M35=2,0,IF(AND(M35=3,L35=1),'Specification & Data'!I$24,IF(AND(M35=3,L35=2),'Specification & Data'!I$25,IF(AND(M35=3,L35=3),'Specification & Data'!I$26))))))) -> 178.61733 | V35: ='Specification & Data'!B$46-Simulation!S35-Simulation!T35-Simulation!U35 -> 114.28185 | W35: =Simulation!V35/Simulation!Y35 -> 0.19245578 | X35: =60*Simulation!Q35/(2*'Specification & Data'!B$15*PI()) -> 129.34001 | Y35: =IF(L35=1,'Specification & Data'!B$56,IF(L35=2,'Specification & Data'!B$57,IF(L35=3,'Specification & Data'!B$58))) -> 593.80838 | Z35: =Simulation!Y35*Simulation!Q35^2/(2*1000) -> 3.5140405
A36: BC (Sector 2) | B36: 4.7 | C36: 6 | D36: =3.14/2 -> 1.57 | G36: 6100 | H36: 17.37 | I36: =Simulation!H36*746/1000 -> 12.95802 | J36: =60*1000*Simulation!I36/(2*PI()*Simulation!G36) -> 20.285242 | K36: 469.1 | L36: =IF(Q36<='Specification & Data'!I$7,1,IF(AND(Q36>'Specification & Data'!I$7,Q36<='Specification & Data'!I$8),2,IF(Q36>'Specification & Data'!I$8,3))) -> 1 | M36: 1 | N36: =N35+1 -> 31 | O36: =O35+(1/Simulation!Q36) -> 15.436731 | P36: =Simulation!Q36*3.6 -> 12.584828 | Q36: =MIN('Specification & Data'!I$9,SQRT(2*Simulation!R35+Simulation!Q35^2)) -> 3.4957855 | R36: =IF(Q36=Q35,0,IF(Q36<>Q35,Simulation!V36/Simulation!Y36)) -> 0.19215104 | S36: ='Specification & Data'!B$21*'Specification & Data'!B$11*'Specification & Data'!B$23*(Simulation!Q36^2)/2 -> 5.7451817 | T36: =IF(AND(M36=1,L36=1),'Specification & Data'!E$14,IF(AND(M36=1,L36=2),'Specification & Data'!E$15,IF(AND(M36=1,L36=3),'Specification & Data'!E$16,IF(AND(M36=2,L36=1),'Specification & Data'!F$14,IF(AND(M36=2,L36=2),'Specification & Data'!F$15,IF(AND(M36=2,L36=3),'Specification & Data'!F$16,IF(AND(M36=3,L36=1),'Specification & Data'!I$14,IF(AND(M36=3,L36=2),'Specification & Data'!I$15,IF(AND(M36=3,L36=3),'Specification & Data'!I$16))))))))) -> 409.43801 | U36: =IF(AND(M36=1,L36=1),'Specification & Data'!E$24,IF(AND(M36=1,L36=2),'Specification & Data'!E$25,IF(AND(M36=1,L36=3),'Specification & Data'!E$26,IF(M36=2,0,IF(AND(M36=3,L36=1),'Specification & Data'!I$24,IF(AND(M36=3,L36=2),'Specification & Data'!I$25,IF(AND(M36=3,L36=3),'Specification & Data'!I$26))))))) -> 178.61733 | V36: ='Specification & Data'!B$46-Simulation!S36-Simulation!T36-Simulation!U36 -> 114.1009 | W36: =Simulation!V36/Simulation!Y36 -> 0.19215104 | X36: =60*Simulation!Q36/(2*'Specification & Data'!B$15*PI()) -> 131.42635 | Y36: =IF(L36=1,'Specification & Data'!B$56,IF(L36=2,'Specification & Data'!B$57,IF(L36=3,'Specification & Data'!B$58))) -> 593.80838 | Z36: =Simulation!Y36*Simulation!Q36^2/(2*1000) -> 3.6283224
A37: CD (Sector 2) | B37: 108 | G37: 6200 | H37: 17.44 | I37: =Simulation!H37*746/1000 -> 13.01024 | J37: =60*1000*Simulation!I37/(2*PI()*Simulation!G37) -> 20.03849 | K37: 469.1 | L37: =IF(Q37<='Specification & Data'!I$7,1,IF(AND(Q37>'Specification & Data'!I$7,Q37<='Specification & Data'!I$8),2,IF(Q37>'Specification & Data'!I$8,3))) -> 1 | M37: 1 | N37: =N36+1 -> 32 | O37: =O36+(1/Simulation!Q37) -> 15.718395 | P37: =Simulation!Q37*3.6 -> 12.781175 | Q37: =MIN('Specification & Data'!I$9,SQRT(2*Simulation!R36+Simulation!Q36^2)) -> 3.5503265 | R37: =IF(Q37=Q36,0,IF(Q37<>Q36,Simulation!V37/Simulation!Y37)) -> 0.19184678 | S37: ='Specification & Data'!B$21*'Specification & Data'!B$11*'Specification & Data'!B$23*(Simulation!Q37^2)/2 -> 5.9258521 | T37: =IF(AND(M37=1,L37=1),'Specification & Data'!E$14,IF(AND(M37=1,L37=2),'Specification & Data'!E$15,IF(AND(M37=1,L37=3),'Specification & Data'!E$16,IF(AND(M37=2,L37=1),'Specification & Data'!F$14,IF(AND(M37=2,L37=2),'Specification & Data'!F$15,IF(AND(M37=2,L37=3),'Specification & Data'!F$16,IF(AND(M37=3,L37=1),'Specification & Data'!I$14,IF(AND(M37=3,L37=2),'Specification & Data'!I$15,IF(AND(M37=3,L37=3),'Specification & Data'!I$16))))))))) -> 409.43801 | U37: =IF(AND(M37=1,L37=1),'Specification & Data'!E$24,IF(AND(M37=1,L37=2),'Specification & Data'!E$25,IF(AND(M37=1,L37=3),'Specification & Data'!E$26,IF(M37=2,0,IF(AND(M37=3,L37=1),'Specification & Data'!I$24,IF(AND(M37=3,L37=2),'Specification & Data'!I$25,IF(AND(M37=3,L37=3),'Specification & Data'!I$26))))))) -> 178.61733 | V37: ='Specification & Data'!B$46-Simulation!S37-Simulation!T37-Simulation!U37 -> 113.92023 | W37: =Simulation!V37/Simulation!Y37 -> 0.19184678 | X37: =60*Simulation!Q37/(2*'Specification & Data'!B$15*PI()) -> 133.47685 | Y37: =IF(L37=1,'Specification & Data'!B$56,IF(L37=2,'Specification & Data'!B$57,IF(L37=3,'Specification & Data'!B$58))) -> 593.80838 | Z37: =Simulation!Y37*Simulation!Q37^2/(2*1000) -> 3.7424233
A38: DE (Sector 2) | B38: 37.7 | C38: 12 | D38: 3.14 | G38: 4800 | H38: 14.68 | I38: =Simulation!H38*746/1000 -> 10.95128 | J38: =60*1000*Simulation!I38/(2*PI()*Simulation!G38) -> 21.786879 | K38: 483 | L38: =IF(Q38<='Specification & Data'!I$7,1,IF(AND(Q38>'Specification & Data'!I$7,Q38<='Specification & Data'!I$8),2,IF(Q38>'Specification & Data'!I$8,3))) -> 1 | M38: 1 | N38: =N37+1 -> 33 | O38: =O37+(1/Simulation!Q38) -> 15.995868 | P38: =Simulation!Q38*3.6 -> 12.974248 | Q38: =MIN('Specification & Data'!I$9,SQRT(2*Simulation!R37+Simulation!Q37^2)) -> 3.6039578 | R38: =IF(Q38=Q37,0,IF(Q38<>Q37,Simulation!V38/Simulation!Y38)) -> 0.19154301 | S38: ='Specification & Data'!B$21*'Specification & Data'!B$11*'Specification & Data'!B$23*(Simulation!Q38^2)/2 -> 6.1062364 | T38: =IF(AND(M38=1,L38=1),'Specification & Data'!E$14,IF(AND(M38=1,L38=2),'Specification & Data'!E$15,IF(AND(M38=1,L38=3),'Specification & Data'!E$16,IF(AND(M38=2,L38=1),'Specification & Data'!F$14,IF(AND(M38=2,L38=2),'Specification & Data'!F$15,IF(AND(M38=2,L38=3),'Specification & Data'!F$16,IF(AND(M38=3,L38=1),'Specification & Data'!I$14,IF(AND(M38=3,L38=2),'Specification & Data'!I$15,IF(AND(M38=3,L38=3),'Specification & Data'!I$16))))))))) -> 409.43801 | U38: =IF(AND(M38=1,L38=1),'Specification & Data'!E$24,IF(AND(M38=1,L38=2),'Specification & Data'!E$25,IF(AND(M38=1,L38=3),'Specification & Data'!E$26,IF(M38=2,0,IF(AND(M38=3,L38=1),'Specification & Data'!I$24,IF(AND(M38=3,L38=2),'Specification & Data'!I$25,IF(AND(M38=3,L38=3),'Specification & Data'!I$26))))))) -> 178.61733 | V38: ='Specification & Data'!B$46-Simulation!S38-Simulation!T38-Simulation!U38 -> 113.73984 | W38: =Simulation!V38/Simulation!Y38 -> 0.19154301 | X38: =60*Simulation!Q38/(2*'Specification & Data'!B$15*PI()) -> 135.49316 | Y38: =IF(L38=1,'Specification & Data'!B$56,IF(L38=2,'Specification & Data'!B$57,IF(L38=3,'Specification & Data'!B$58))) -> 593.80838 | Z38: =Simulation!Y38*Simulation!Q38^2/(2*1000) -> 3.8563435
