Workbook
Name ChainSize: #REF!
Name First: 'Gearbox 675R'!$C$9
Name First_1: #REF!
Name FrontSprockets: #REF!
Name Number_of_Links: #REF!
Name RearSprockets: #REF!

Sheet Gearbox 675R
A1: TRIUMPH 675R 2015
A2: Gear Calc. | F2: Gearbox N° | G2: 1 - Last Year | I2: Gear Calc. | N2: Gearbox N° | O2: 2 - Current | Q2: Gear Calc. | V2: Gearbox N° | W2: 3 - New | Z2: Chain Length | AV2: Moto 2 Primary
A3: Primary | C3: 46 | D3: 85 | I3: Primary | K3: 46 | L3: 85 | Q3: Primary | S3: 46 | T3: 85 | Z3: Chain size | AA3: Front sprocket | AB3: Rear sprocket | AC3: Chain | AD3: Distance between front sprocket and pivot | AE3: Swing arm Length | AV3: 36 | AW3: 76 | BL3: 17000
A4: FINAL | C4: 14 | D4: 42 | I4: FINAL | K4: 14 | L4: 45 | Q4: FINAL | S4: 16 | T4: 47 | Z4: 5/8" | AA4: 16 | AB4: 45 | AC4: 114 | AD4: 87 | AE4: =0.5*(AC4-0.5*(AA4+AB4))*25.4*VLOOKUP(Z4,'Gearbox 675R'!AZ14:BA16,2,FALSE)-AD4 -> 575.78125 | AI4: Gear | AJ4: Gearbox A | AM4: Gearbox B | AP4: Gearbox C | AS4: Gearbox D | AV4: Gearbox Moto 2 | BL4: 16900
A5: Diam | C5: A Tyre | E5: =$BH$19*IF(C5="A Tyre",1,0)+$BH$20*IF(C5="B Tyre",1,0)+$BH$21*IF(C5="INTER",1,0)+$BH$22*IF(C5="RAIN",1,0) -> 0.656 | F5: m | G5: Circ | H5: =3.142*E5 -> 2.061152 | I5: Diam | K5: A Tyre | M5: =$BH$19*IF(K5="A Tyre",1,0)+$BH$20*IF(K5="B Tyre",1,0)+$BH$21*IF(K5="INTER",1,0)+$BH$22*IF(K5="RAIN",1,0) -> 0.656 | N5: m | O5: Circ | P5: =3.142*M5 -> 2.061152 | Q5: Diam | S5: A Tyre | U5: =$BH$19*IF(S5="A Tyre",1,0)+$BH$20*IF(S5="B Tyre",1,0)+$BH$21*IF(S5="INTER",1,0)+$BH$22*IF(S5="RAIN",1,0) -> 0.656 | V5: m | W5: Circ | X5: =3.142*U5 -> 2.061152 | AI5: 1 | AJ5: 15 | AK5: 33 | AL5: =AK5/AJ5 -> 2.2 | AM5: 14 | AN5: 37 | AO5: =AN5/AM5 -> 2.6428571 | AP5: 14 | AQ5: 36 | AR5: =AQ5/AP5 -> 2.5714286 | AS5: 16 | AT5: 40 | AU5: =AT5/AS5 -> 2.5 | AV5: 15 | AW5: 39 | AX5: =AW5/AV5 -> 2.6 | BC5: A | BG5: 14 | BH5: 37 | BL5: 16800
A6: RPM | C6: 14200 | D6: 14200 | E6: tr/mn | I6: RPM | K6: 15200 | L6: 15200 | M6: tr/mn | Q6: RPM | S6: 15000 | T6: 15000 | U6: tr/mn | Z6: Gearbox 1 | AI6: 2 | AJ6: 16 | AK6: 28 | AL6: =AK6/AJ6 -> 1.75 | AM6: 18 | AN6: 39 | AO6: =AN6/AM6 -> 2.1666667 | AP6: 16 | AQ6: 34 | AR6: =AQ6/AP6 -> 2.125 | AS6: 16 | AT6: 36 | AU6: =AT6/AS6 -> 2.25 | AV6: 16 | AW6: 32 | AX6: =AW6/AV6 -> 2 | BC6: B | BG6: 15 | BH6: 38 | BL6: 16700
A7: Ratios | F7: Speeds | G7: Revs | H7: Falls | I7: Ratios | N7: Speeds | O7: Revs | P7: Falls | Q7: Ratios | V7: Speeds | W7: Revs | X7: Falls | Z7: Chain size | AA7: Front sprocket | AB7: Rear sprocket | AC7: Chain | AD7: Distance between front sprocket and pivot | AE7: Swing arm Length | AI7: 3 | AJ7: 18 | AK7: 27 | AL7: =AK7/AJ7 -> 1.5 | AM7: 17 | AN7: 32 | AO7: =AN7/AM7 -> 1.8823529 | AP7: 22 | AQ7: 40 | AR7: =AQ7/AP7 -> 1.8181818 | AS7: 21 | AT7: 40 | AU7: =AT7/AS7 -> 1.9047619 | AV7: 18 | AW7: 30 | AX7: =AW7/AV7 -> 1.6666667 | BC7: C | BG7: 16 | BH7: 39 | BL7: 16600
F8: =G8*60*(C9/D9)*($C$3/$D$3)*$E$5*PI()/1000*$C$4/$D$4 -> 96.321567 | G8: 9500 | N8: =O8*60*(K9/L9)*($C$3/$D$3)*$E$5*PI()/1000*$C$4/$D$4 -> 96.321567 | O8: 9500 | V8: =W8*60*(S9/T9)*($C$3/$D$3)*$E$5*PI()/1000*$C$4/$D$4 -> 96.321567 | W8: 9500 | AI8: 4 | AJ8: 20 | AK8: 27 | AL8: =AK8/AJ8 -> 1.35 | AM8: 20 | AN8: 33 | AO8: =AN8/AM8 -> 1.65 | AP8: 23 | AQ8: 39 | AR8: =AQ8/AP8 -> 1.6956522 | AS8: 19 | AT8: 30 | AU8: =AT8/AS8 -> 1.5789474 | AV8: 18 | AW8: 26 | AX8: =AW8/AV8 -> 1.4444444 | BC8: D | BG8: 17 | BH8: 40 | BL8: 16500
A9: 1st | B9: A | C9: =$AJ$5*IF(B9="A",1,0)+$AM$5*IF(B9="B",1,0)+$AP$5*IF(B9="C",1,0)+$AV$5*IF(B9="M",1,0) -> 15 | D9: =$AK$5*IF(B9="A",1,0)+$AN$5*IF(B9="B",1,0)+$AQ$5*IF(B9="C",1,0)+$AW$5*IF(B9="M",1,0) -> 33 | E9: =D9/First -> 2.2 | F9: =$C$6*60*(C9/D9)*($C$3/$D$3)*$E$5*PI()/1000*$C$4/$D$4 -> 143.97539 | G9: =$C$6 -> 14200 | H9: =H10 -> 2904.5455 | I9: 1st | J9: A | K9: =$AJ$5*IF(J9="A",1,0)+$AM$5*IF(J9="B",1,0)+$AP$5*IF(J9="C",1,0)+$AS$5*IF(J9="D",1,0) -> 15 | L9: =$AK$5*IF(J9="A",1,0)+$AN$5*IF(J9="B",1,0)+$AQ$5*IF(J9="C",1,0)+$AT$5*IF(J9="D",1,0) -> 33 | M9: =L9/K9 -> 2.2 | N9: =$K$6*60*(K9/L9)*($K$3/$L$3)*$M$5*PI()/1000*$K$4/$L$4 -> 143.84021 | O9: =$K$6 -> 15200 | P9: =P10 -> 3109.0909 | Q9: 1st | R9: A | S9: =$AJ$5*IF(R9="A",1,0)+$AM$5*IF(R9="B",1,0)+$AP$5*IF(R9="C",1,0)+$AS$5*IF(R9="D",1,0) -> 15 | T9: =$AK$5*IF(R9="A",1,0)+$AN$5*IF(R9="B",1,0)+$AQ$5*IF(R9="C",1,0)+$AT$5*IF(R9="D",1,0) -> 33 | U9: =T9/S9 -> 2.2 | V9: =$S$6*60*(S9/T9)*($S$3/$T$3)*$U$5*PI()/1000*$S$4/$T$4 -> 155.32257 | W9: =$S$6 -> 15000 | X9: =X10 -> 3068.1818 | Z9: 5/8" | AA9: =C4 -> 14 | AB9: =D4 -> 42 | AC9: 112 | AD9: 87 | AE9: =0.5*(AC9-0.5*(AA9+AB9))*25.4*VLOOKUP(Z9,'Gearbox 675R'!AZ14:BA16,2,FALSE)-AD9 -> 579.75 | AI9: 5 | AJ9: 21 | AK9: 26 | AL9: =AK9/AJ9 -> 1.2380952 | AM9: 20 | AN9: 30 | AO9: =AN9/AM9 -> 1.5 | AP9: 22 | AQ9: 32 | AR9: =AQ9/AP9 -> 1.4545455 | AS9: 23 | AT9: 32 | AU9: =AT9/AS9 -> 1.3913043 | AV9: 23 | AW9: 30 | AX9: =AW9/AV9 -> 1.3043478 | BC9: M | BH9: 41 | BL9: 16400
F10: =F9 -> 143.97539 | G10: =$C$6*(C9/D9)*(D11/C11) -> 11295.455 | H10: =$C$6-G10 -> 2904.5455 | N10: =N9 -> 143.84021 | O10: =$K$6*(K9/L9)*(L11/K11) -> 12090.909 | P10: =$K$6-O10 -> 3109.0909 | V10: =V9 -> 155.32257 | W10: =$S$6*(S9/T9)*(T11/S11) -> 11931.818 | X10: =$S$6-W10 -> 3068.1818 | AI10: 6 | AJ10: 21 | AK10: 24 | AL10: =AK10/AJ10 -> 1.1428571 | AM10: 23 | AN10: 32 | AO10: =AN10/AM10 -> 1.3913043 | AP10: 26 | AQ10: 35 | AR10: =AQ10/AP10 -> 1.3461538 | AS10: 23 | AT10: 29 | AU10: =AT10/AS10 -> 1.2608696 | AV10: 24 | AW10: 29 | AX10: =AW10/AV10 -> 1.2083333 | BH10: 42 | BL10: 16300
A11: 2nd | B11: A | C11: =$AJ$6*IF(B11="A",1,0)+$AM$6*IF(B11="B",1,0)+$AP$6*IF(B11="C",1,0)+$AS$6*IF(B11="D",1,0)+$AV$6*IF(B11="E",1,0)+$AY$6*IF(B11="f",1,0)+$AV$6*IF(B11="M",1,0) -> 16 | D11: =$AK$6*IF(B11="A",1,0)+$AN$6*IF(B11="B",1,0)+$AQ$6*IF(B11="C",1,0)+$AT$6*IF(B11="D",1,0)+$AW$6*IF(B11="E",1,0)+$AZ$6*IF(B11="f",1,0)+$AW$6*IF(B11="M",1,0) -> 28 | E11: =D11/First -> 1.8666667 | F11: =$C$6*60*(C11/D11)*($C$3/$D$3)*$E$5*PI()/1000*$C$4/$D$4 -> 180.99764 | G11: =$C$6 -> 14200 | I11: 2nd | J11: A | K11: =$AJ$6*IF(J11="A",1,0)+$AM$6*IF(J11="B",1,0)+$AP$6*IF(J11="C",1,0)+$AS$6*IF(J11="D",1,0)+$AV$6*IF(J11="E",1,0)+$AY$6*IF(J11="f",1,0) -> 16 | L11: =$AK$6*IF(J11="A",1,0)+$AN$6*IF(J11="B",1,0)+$AQ$6*IF(J11="C",1,0)+$AT$6*IF(J11="D",1,0)+$AW$6*IF(J11="E",1,0)+$AZ$6*IF(J11="f",1,0) -> 28 | M11: =L11/First -> 1.8666667 | N11: =$K$6*60*(K11/L11)*($K$3/$L$3)*$M$5*PI()/1000*$K$4/$L$4 -> 180.82769 | O11: =$K$6 -> 15200 | Q11: 2nd | R11: A | S11: =$AJ$6*IF(R11="A",1,0)+$AM$6*IF(R11="B",1,0)+$AP$6*IF(R11="C",1,0)+$AS$6*IF(R11="D",1,0)+$AV$6*IF(R11="E",1,0)+$AY$6*IF(R11="f",1,0) -> 16 | T11: =$AK$6*IF(R11="A",1,0)+$AN$6*IF(R11="B",1,0)+$AQ$6*IF(R11="C",1,0)+$AT$6*IF(R11="D",1,0)+$AW$6*IF(R11="E",1,0)+$AZ$6*IF(R11="f",1,0) -> 28 | U11: =T11/First -> 1.8666667 | V11: =$S$6*60*(S11/T11)*($S$3/$T$3)*$U$5*PI()/1000*$S$4/$T$4 -> 195.26266 | W11: =$S$6 -> 15000 | Z11: Gearbox 2 | BH11: 43 | BL11: 16200
F12: =F11 -> 180.99764 | G12: =$C$6*(C11/D11)*(D13/C13) -> 12171.429 | H12: =$C$6-G12 -> 2028.5714 | N12: =N11 -> 180.82769 | O12: =$K$6*(K11/L11)*(L13/K13) -> 13028.571 | P12: =$K$6-O12 -> 2171.4286 | V12: =V11 -> 195.26266 | W12: =$S$6*(S11/T11)*(T13/S13) -> 12857.143 | X12: =$S$6-W12 -> 2142.8571 | Z12: Chain size | AA12: Front sprocket | AB12: Rear sprocket | AC12: Chain | AD12: Distance between front sprocket and pivot | AE12: Swing arm Length | BH12: 44 | BL12: 16100
A13: 3rd | B13: A | C13: =$AJ$7*IF(B13="A",1,0)+$AM$7*IF(B13="B",1,0)+$AP$7*IF(B13="C",1,0)+$AS$7*IF(B13="D",1,0)+$AV$7*IF(B13="E",1,0)+$AY$7*IF(B13="f",1,0)+$AV$7*IF(B13="M",1,0) -> 18 | D13: =$AK$7*IF(B13="A",1,0)+$AN$7*IF(B13="B",1,0)+$AQ$7*IF(B13="C",1,0)+$AT$7*IF(B13="D",1,0)+$AW$7*IF(B13="E",1,0)+$AZ$7*IF(B13="f",1,0)+$AW$7*IF(B13="M",1,0) -> 27 | E13: =D13/First -> 1.8 | F13: =$C$6*60*(C13/D13)*($C$3/$D$3)*$E$5*PI()/1000*$C$4/$D$4 -> 211.16391 | G13: =$C$6 -> 14200 | I13: 3rd | J13: A | K13: =$AJ$7*IF(J13="A",1,0)+$AM$7*IF(J13="B",1,0)+$AP$7*IF(J13="C",1,0)+$AS$7*IF(J13="D",1,0) -> 18 | L13: =$AK$7*IF(J13="A",1,0)+$AN$7*IF(J13="B",1,0)+$AQ$7*IF(J13="C",1,0)+$AT$7*IF(J13="D",1,0) -> 27 | M13: =L13/First -> 1.8 | N13: =$K$6*60*(K13/L13)*($K$3/$L$3)*$M$5*PI()/1000*$K$4/$L$4 -> 210.96564 | O13: =$K$6 -> 15200 | Q13: 3rd | R13: A | S13: =$AJ$7*IF(R13="A",1,0)+$AM$7*IF(R13="B",1,0)+$AP$7*IF(R13="C",1,0)+$AS$7*IF(R13="D",1,0) -> 18 | T13: =$AK$7*IF(R13="A",1,0)+$AN$7*IF(R13="B",1,0)+$AQ$7*IF(R13="C",1,0)+$AT$7*IF(R13="D",1,0) -> 27 | U13: =T13/First -> 1.8 | V13: =$S$6*60*(S13/T13)*($S$3/$T$3)*$U$5*PI()/1000*$S$4/$T$4 -> 227.80644 | W13: =$S$6 -> 15000 | AM13: Cluster 3-4 | AZ13: Chain Size | BA13: Dimension | BH13: 45 | BL13: 16000
F14: =F13 -> 211.16391 | G14: =$C$6*(C13/D13)*(D15/C15) -> 12780 | H14: =$C$6-G14 -> 1420 | N14: =N13 -> 210.96564 | O14: =$K$6*(K13/L13)*(L15/K15) -> 13680 | P14: =$K$6-O14 -> 1520 | V14: =V13 -> 227.80644 | W14: =$S$6*(S13/T13)*(T15/S15) -> 13500 | X14: =$S$6-W14 -> 1500 | Z14: 5/8" | AA14: =K4 -> 14 | AB14: =L4 -> 45 | AC14: 112 | AD14: 87 | AE14: =0.5*(AC14-0.5*(AA14+AB14))*25.4*VLOOKUP(Z14,'Gearbox 675R'!AZ14:BA16,2,FALSE)-AD14 -> 567.84375 | AN14: A-A | AO14: A-B | AZ14: 1/2" | BA14: =1/2 -> 0.5 | BH14: 46 | BL14: 15900
A15: 4th | B15: A | C15: =$AJ$8*IF(B15="A",1,0)+$AM$8*IF(B15="B",1,0)+$AP$8*IF(B15="C",1,0)+$AS$8*IF(B15="D",1,0)+$AV$8*IF(B15="E",1,0)+$AY$8*IF(B15="f",1,0)+$AV$8*IF(B15="M",1,0) -> 20 | D15: =$AK$8*IF(B15="A",1,0)+$AN$8*IF(B15="B",1,0)+$AQ$8*IF(B15="C",1,0)+$AT$8*IF(B15="D",1,0)+$AW$8*IF(B15="E",1,0)+$AZ$8*IF(B15="f",1,0)+$AW$8*IF(B15="M",1,0) -> 27 | E15: =D15/First -> 1.8 | F15: =$C$6*60*(C15/D15)*($C$3/$D$3)*$E$5*PI()/1000*$C$4/$D$4 -> 234.62657 | G15: =$C$6 -> 14200 | I15: 4th | J15: A | K15: =$AJ$8*IF(J15="A",1,0)+$AM$8*IF(J15="B",1,0)+$AP$8*IF(J15="C",1,0)+$AS$8*IF(J15="D",1,0)+$AV$8*IF(J15="E",1,0)+$AY$8*IF(J15="f",1,0) -> 20 | L15: =$AK$8*IF(J15="A",1,0)+$AN$8*IF(J15="B",1,0)+$AQ$8*IF(J15="C",1,0)+$AT$8*IF(J15="D",1,0)+$AW$8*IF(J15="E",1,0)+$AZ$8*IF(J15="f",1,0) -> 27 | M15: =L15/First -> 1.8 | N15: =$K$6*60*(K15/L15)*($K$3/$L$3)*$M$5*PI()/1000*$K$4/$L$4 -> 234.40626 | O15: =$K$6 -> 15200 | Q15: 4th | R15: A | S15: =$AJ$8*IF(R15="A",1,0)+$AM$8*IF(R15="B",1,0)+$AP$8*IF(R15="C",1,0)+$AS$8*IF(R15="D",1,0)+$AV$8*IF(R15="E",1,0)+$AY$8*IF(R15="f",1,0) -> 20 | T15: =$AK$8*IF(R15="A",1,0)+$AN$8*IF(R15="B",1,0)+$AQ$8*IF(R15="C",1,0)+$AT$8*IF(R15="D",1,0)+$AW$8*IF(R15="E",1,0)+$AZ$8*IF(R15="f",1,0) -> 27 | U15: =T15/First -> 1.8 | V15: =$S$6*60*(S15/T15)*($S$3/$T$3)*$U$5*PI()/1000*$S$4/$T$4 -> 253.11826 | W15: =$S$6 -> 15000 | AN15: A-D | AO15: B-A | AZ15: 5/8" | BA15: =5/8 -> 0.625 | BH15: 47 | BL15: 15800
F16: =F15 -> 234.62657 | G16: =$C$6*(C15/D15)*(D17/C17) -> 13022.928 | H16: =$C$6-G16 -> 1177.0723 | N16: =N15 -> 234.40626 | O16: =$K$6*(K15/L15)*(L17/K17) -> 13940.035 | P16: =$K$6-O16 -> 1259.9647 | V16: =V15 -> 253.11826 | W16: =$S$6*(S15/T15)*(T17/S17) -> 13756.614 | X16: =$S$6-W16 -> 1243.3862 | Z16: Gearbox 3 | AN16: B-B | AO16: B-C | AZ16: 3/4" | BA16: =3/4 -> 0.75 | BH16: 48 | BL16: 15700
A17: 5th | B17: A | C17: =$AJ$9*IF(B17="A",1,0)+$AM$9*IF(B17="B",1,0)+$AP$9*IF(B17="C",1,0)+$AS$9*IF(B17="D",1,0)+$AV$9*IF(B17="E",1,0)+$AY$9*IF(B17="f",1,0)+$AV$9*IF(B17="M",1,0) -> 21 | D17: =$AK$9*IF(B17="A",1,0)+$AN$9*IF(B17="B",1,0)+$AQ$9*IF(B17="C",1,0)+$AT$9*IF(B17="D",1,0)+$AW$9*IF(B17="E",1,0)+$AZ$9*IF(B17="f",1,0)+$AW$9*IF(B17="M",1,0) -> 26 | E17: =D17/First -> 1.7333333 | F17: =$C$6*60*(C17/D17)*($C$3/$D$3)*$E$5*PI()/1000*$C$4/$D$4 -> 255.8332 | G17: =$C$6 -> 14200 | I17: 5th | J17: A | K17: =$AJ$9*IF(J17="A",1,0)+$AM$9*IF(J17="B",1,0)+$AP$9*IF(J17="C",1,0)+$AS$9*IF(J17="D",1,0)+$AV$9*IF(J17="E",1,0)+$AY$9*IF(J17="f",1,0) -> 21 | L17: =$AK$9*IF(J17="A",1,0)+$AN$9*IF(J17="B",1,0)+$AQ$9*IF(J17="C",1,0)+$AT$9*IF(J17="D",1,0)+$AW$9*IF(J17="E",1,0)+$AZ$9*IF(J17="f",1,0) -> 26 | M17: =L17/First -> 1.7333333 | N17: =$K$6*60*(K17/L17)*($K$3/$L$3)*$M$5*PI()/1000*$K$4/$L$4 -> 255.59298 | O17: =$K$6 -> 15200 | Q17: 5th | R17: A | S17: =$AJ$9*IF(R17="A",1,0)+$AM$9*IF(R17="B",1,0)+$AP$9*IF(R17="C",1,0)+$AS$9*IF(R17="D",1,0)+$AV$9*IF(R17="E",1,0)+$AY$9*IF(R17="f",1,0) -> 21 | T17: =$AK$9*IF(R17="A",1,0)+$AN$9*IF(R17="B",1,0)+$AQ$9*IF(R17="C",1,0)+$AT$9*IF(R17="D",1,0)+$AW$9*IF(R17="E",1,0)+$AZ$9*IF(R17="f",1,0) -> 26 | U17: =T17/First -> 1.7333333 | V17: =$S$6*60*(S17/T17)*($S$3/$T$3)*$U$5*PI()/1000*$S$4/$T$4 -> 275.99626 | W17: =$S$6 -> 15000 | Z17: Chain size | AA17: Front sprocket | AB17: Rear sprocket | AC17: Chain | AD17: Distance between front sprocket and pivot | AE17: Swing arm Length | BH17: 49 | BL17: 15600
F18: =F17 -> 255.8332 | G18: =$C$6*(C17/D17)*(D19/C19) -> 13107.692 | H18: =$C$6-G18 -> 1092.3077 | N18: =N17 -> 255.59298 | O18: =$K$6*(K17/L17)*(L19/K19) -> 14030.769 | P18: =$K$6-O18 -> 1169.2308 | V18: =V17 -> 275.99626 | W18: =$S$6*(S17/T17)*(T19/S19) -> 13846.154 | X18: =$S$6-W18 -> 1153.8462 | AZ18: Number of Links | BG18: Rear tyre diameter | BI18: Width | BJ18: Aspect Ratio | BK18: Rim Size | BL18: 15500
A19: 6th | B19: A | C19: =$AJ$10*IF(B19="A",1,0)+$AM$10*IF(B19="B",1,0)+$AP$10*IF(B19="C",1,0)+$AS$10*IF(B19="D",1,0)+$AV$10*IF(B19="E",1,0)+$AY$10*IF(B19="f",1,0)+$AV$10*IF(B19="M",1,0) -> 21 | D19: =$AK$10*IF(B19="A",1,0)+$AN$10*IF(B19="B",1,0)+$AQ$10*IF(B19="C",1,0)+$AT$10*IF(B19="D",1,0)+$AW$10*IF(B19="E",1,0)+$AZ$10*IF(B19="f",1,0)+$AW$10*IF(B19="M",1,0) -> 24 | E19: =D19/First -> 1.6 | F19: =D6*60*(C19/D19)*($C$3/$D$3)*$E$5*PI()/1000*$C$4/$D$4 -> 277.15263 | G19: =D6 -> 14200 | I19: 6th | J19: A | K19: =$AJ$10*IF(J19="A",1,0)+$AM$10*IF(J19="B",1,0)+$AP$10*IF(J19="C",1,0)+$AS$10*IF(J19="D",1,0)+$AV$10*IF(J19="E",1,0)+$AY$10*IF(J19="f",1,0) -> 21 | L19: =$AK$10*IF(J19="A",1,0)+$AN$10*IF(J19="B",1,0)+$AQ$10*IF(J19="C",1,0)+$AT$10*IF(J19="D",1,0)+$AW$10*IF(J19="E",1,0)+$AZ$10*IF(J19="f",1,0) -> 24 | M19: =L19/First -> 1.6 | N19: =L6*60*(K19/L19)*($K$3/$L$3)*$M$5*PI()/1000*$K$4/$L$4 -> 276.8924 | O19: =L6 -> 15200 | Q19: 6th | R19: A | S19: =$AJ$10*IF(R19="A",1,0)+$AM$10*IF(R19="B",1,0)+$AP$10*IF(R19="C",1,0)+$AS$10*IF(R19="D",1,0)+$AV$10*IF(R19="E",1,0)+$AY$10*IF(R19="f",1,0) -> 21 | T19: =$AK$10*IF(R19="A",1,0)+$AN$10*IF(R19="B",1,0)+$AQ$10*IF(R19="C",1,0)+$AT$10*IF(R19="D",1,0)+$AW$10*IF(R19="E",1,0)+$AZ$10*IF(R19="f",1,0) -> 24 | U19: =T19/First -> 1.6 | V19: =T6*60*(S19/T19)*($S$3/$T$3)*$U$5*PI()/1000*$S$4/$T$4 -> 298.99595 | W19: =T6 -> 15000 | Z19: 5/8" | AA19: =S4 -> 16 | AB19: =T4 -> 47 | AC19: 112 | AD19: 87 | AE19: =0.5*(AC19-0.5*(AA19+AB19))*25.4*VLOOKUP(Z19,'Gearbox 675R'!AZ14:BA16,2,FALSE)-AD19 -> 551.96875 | AZ19: 108 | BG19: A Tyre | BH19: =((((BI19/25.4*BJ19/100+BK19/2)*2*3.142)*25.4)/3.142)/1000 -> 0.656 | BI19: 190 | BJ19: 59 | BK19: 17 | BL19: 15400
AZ20: 110 | BG20: B Tyre | BH20: =((((BI20/25.4*BJ20/100+BK20/2)*2*3.142)*25.4)/3.142)/1000 -> 0.6619 | BI20: 195 | BJ20: 59 | BK20: 17 | BL20: 15300
AZ21: 112 | BG21: INTER | BH21: =((((BI21/25.4*BJ21/100+BK21/2)*2*3.142)*25.4)/3.142)/1000 -> 0.6522 | BI21: 190 | BJ21: 58 | BK21: 17 | BL21: 15200
AZ22: 114 | BG22: RAIN | BH22: =((((BI22/25.4*BJ22/100+BK22/2)*2*3.142)*25.4)/3.142)/1000 -> 0.656 | BI22: 190 | BJ22: 59 | BK22: 17 | BL22: 15100
AZ23: 116 | BL23: 15000
BL24: 14900
AZ25: Front Sprockets | BA25: Rear Sprockets | BL25: 14800
AZ26: 14 | BA26: 38 | BL26: 14700
AZ27: 15 | BA27: 39 | BL27: 14600
AZ28: 16 | BA28: 40 | BL28: 14500
AZ29: 17 | BA29: 41 | BL29: 14400
BA30: 42 | BL30: 14300
BA31: 43 | BL31: 14200
BA32: 44 | BL32: 14100
BA33: 45 | BL33: 14000
BA34: 46 | BL34: 13900
BA35: 47 | BL35: 13800
BL36: 13700
BL37: 13600
BL38: 13500
BL39: 13400
BL40: 13300
...

Sheet Gear Change Calc
A1: RPM | B1: Power (hp) | C1: Torque (Nm) | D1: Power (Kw) | H1: Road Speed 1st | I1: Road Speed 2nd | J1: Road Speed 3rd | K1: Road Speed 4th | L1: Road Speed 5th | M1: Road Speed 6th | O1: Driving Force 1st | P1: Driving Force 2nd | Q1: Driving Force 3rd | R1: Driving Force 4th | S1: Driving Force 5th | T1: Driving Force 6th | V1: Percentage Increase | AC1: Percentage Increase at New RPM's
A2: 5000 | B2: 48 | C2: =(B2*5252)/A2 -> 50.4192 | D2: =0.7457*B2 -> 35.7936 | H2: =A2*60*(First/'Gearbox 675R'!$D$9)*('Gearbox 675R'!$C$3/'Gearbox 675R'!$D$3)*'Gearbox 675R'!$E$5*PI()/1000*'Gearbox 675R'!$C$4/'Gearbox 675R'!$D$4 -> 50.695561 | I2: =A2*60*('Gearbox 675R'!$C$11/'Gearbox 675R'!$D$11)*('Gearbox 675R'!$C$3/'Gearbox 675R'!$D$3)*'Gearbox 675R'!$E$5*PI()/1000*'Gearbox 675R'!$C$4/'Gearbox 675R'!$D$4 -> 63.731563 | J2: =A2*60*('Gearbox 675R'!$C$13/'Gearbox 675R'!$D$13)*('Gearbox 675R'!$C$3/'Gearbox 675R'!$D$3)*'Gearbox 675R'!$E$5*PI()/1000*'Gearbox 675R'!$C$4/'Gearbox 675R'!$D$4 -> 74.35349 | K2: =A2*60*('Gearbox 675R'!$C$15/'Gearbox 675R'!$D$15)*('Gearbox 675R'!$C$3/'Gearbox 675R'!$D$3)*'Gearbox 675R'!$E$5*PI()/1000*'Gearbox 675R'!$C$4/'Gearbox 675R'!$D$4 -> 82.614989 | L2: =A2*60*('Gearbox 675R'!$C$17/'Gearbox 675R'!$D$17)*('Gearbox 675R'!$C$3/'Gearbox 675R'!$D$3)*'Gearbox 675R'!$E$5*PI()/1000*'Gearbox 675R'!$C$4/'Gearbox 675R'!$D$4 -> 90.082113 | M2: =A2*60*('Gearbox 675R'!$C$19/'Gearbox 675R'!$D$19)*('Gearbox 675R'!$C$3/'Gearbox 675R'!$D$3)*'Gearbox 675R'!$E$5*PI()/1000*'Gearbox 675R'!$C$4/'Gearbox 675R'!$D$4 -> 97.588956 | O2: =($D2*1000)/(H2/3.6)-(0.5*1.167*0.5*0.5*(H2/3.6)^2) -> 2512.8521 | P2: =($D2*1000)/(I2/3.6)-(0.5*1.167*0.5*0.5*(I2/3.6)^2) -> 1976.1526 | Q2: =($D2*1000)/(J2/3.6)-(0.5*1.167*0.5*0.5*(J2/3.6)^2) -> 1670.8048 | R2: =($D2*1000)/(K2/3.6)-(0.5*1.167*0.5*0.5*(K2/3.6)^2) -> 1482.9052 | S2: =($D2*1000)/(L2/3.6)-(0.5*1.167*0.5*0.5*(L2/3.6)^2) -> 1339.1006 | T2: =($D2*1000)/(M2/3.6)-(0.5*1.167*0.5*0.5*(M2/3.6)^2) -> 1213.2095 | V2: =(O2-O15)/O15 -> 0.28169713 | W2: =(P2-P15)/P15 -> 0.28341518 | X2: =(Q2-Q15)/Q15 -> 0.28550692 | Y2: =(R2-R15)/R15 -> 0.28767304 | Z2: =(S2-S15)/S15 -> 0.29012167 | AA2: =(T2-T15)/T15 -> 0.29314224 | AC2: =(O2-O15)/O16 -> 0.27659121 | AD2: =(P2-P15)/P16 -> 0.27976565 | AE2: =(Q2-Q15)/Q16 -> 0.2836767 | AF2: =(R2-R15)/R16 -> 0.28778118 | AG2: =(S2-S15)/S16 -> 0.29248902 | AH2: =(T2-T15)/T16 -> 0.29839841 | AJ2: =O2/245 -> 10.256539 | AK2: =P2/245 -> 8.0659291 | AL2: =Q2/245 -> 6.8196114 | AM2: =R2/245 -> 6.0526742 | AN2: =S2/245 -> 5.4657167 | AO2: =T2/245 -> 4.9518755
A3: 6000 | B3: 62 | C3: =(B3*5252)/A3 -> 54.270667 | D3: =0.7457*B3 -> 46.2334 | H3: =A3*60*(First/'Gearbox 675R'!$D$9)*('Gearbox 675R'!$C$3/'Gearbox 675R'!$D$3)*'Gearbox 675R'!$E$5*PI()/1000*'Gearbox 675R'!$C$4/'Gearbox 675R'!$D$4 -> 60.834674 | I3: =A3*60*('Gearbox 675R'!$C$11/'Gearbox 675R'!$D$11)*('Gearbox 675R'!$C$3/'Gearbox 675R'!$D$3)*'Gearbox 675R'!$E$5*PI()/1000*'Gearbox 675R'!$C$4/'Gearbox 675R'!$D$4 -> 76.477876 | J3: =A3*60*('Gearbox 675R'!$C$13/'Gearbox 675R'!$D$13)*('Gearbox 675R'!$C$3/'Gearbox 675R'!$D$3)*'Gearbox 675R'!$E$5*PI()/1000*'Gearbox 675R'!$C$4/'Gearbox 675R'!$D$4 -> 89.224188 | K3: =A3*60*('Gearbox 675R'!$C$15/'Gearbox 675R'!$D$15)*('Gearbox 675R'!$C$3/'Gearbox 675R'!$D$3)*'Gearbox 675R'!$E$5*PI()/1000*'Gearbox 675R'!$C$4/'Gearbox 675R'!$D$4 -> 99.137987 | L3: =A3*60*('Gearbox 675R'!$C$17/'Gearbox 675R'!$D$17)*('Gearbox 675R'!$C$3/'Gearbox 675R'!$D$3)*'Gearbox 675R'!$E$5*PI()/1000*'Gearbox 675R'!$C$4/'Gearbox 675R'!$D$4 -> 108.09854 | M3: =A3*60*('Gearbox 675R'!$C$19/'Gearbox 675R'!$D$19)*('Gearbox 675R'!$C$3/'Gearbox 675R'!$D$3)*'Gearbox 675R'!$E$5*PI()/1000*'Gearbox 675R'!$C$4/'Gearbox 675R'!$D$4 -> 117.10675 | O3: =($D3*1000)/(H3/3.6)-(0.5*1.167*0.5*0.5*(H3/3.6)^2) -> 2694.2876 | P3: =($D3*1000)/(I3/3.6)-(0.5*1.167*0.5*0.5*(I3/3.6)^2) -> 2110.4852 | Q3: =($D3*1000)/(J3/3.6)-(0.5*1.167*0.5*0.5*(J3/3.6)^2) -> 1775.8093 | R3: =($D3*1000)/(K3/3.6)-(0.5*1.167*0.5*0.5*(K3/3.6)^2) -> 1568.2488 | S3: =($D3*1000)/(L3/3.6)-(0.5*1.167*0.5*0.5*(L3/3.6)^2) -> 1408.1814 | T3: =($D3*1000)/(M3/3.6)-(0.5*1.167*0.5*0.5*(M3/3.6)^2) -> 1266.9077 | V3: =(O3-O16)/O16 -> 0.34933064 | W3: =(P3-P16)/P16 -> 0.35300779 | X3: =(Q3-Q16)/Q16 -> 0.35753819 | Y3: =(R3-R16)/R16 -> 0.36229266 | Z3: =(S3-S16)/S16 -> 0.36774604 | AA3: =(T3-T16)/T16 -> 0.37459124 | AC3: =(O3-O16)/O17 -> 0.31419436 | AD3: =(P3-P16)/P17 -> 0.31880691 | AE3: =(Q3-Q16)/Q17 -> 0.32454217 | AF3: =(R3-R16)/R17 -> 0.33062421 | AG3: =(S3-S16)/S17 -> 0.33768127 | AH3: =(T3-T16)/T17 -> 0.34666425 | AJ3: =O3/245 -> 10.997092 | AK3: =P3/245 -> 8.6142255 | AL3: =Q3/245 -> 7.2482013 | AM3: =R3/245 -> 6.4010156 | AN3: =S3/245 -> 5.7476791 | AO3: =T3/245 -> 5.1710518
A4: 7000 | B4: 73 | C4: =(B4*5252)/A4 -> 54.770857 | D4: =0.7457*B4 -> 54.4361 | H4: =A4*60*(First/'Gearbox 675R'!$D$9)*('Gearbox 675R'!$C$3/'Gearbox 675R'!$D$3)*'Gearbox 675R'!$E$5*PI()/1000*'Gearbox 675R'!$C$4/'Gearbox 675R'!$D$4 -> 70.973786 | I4: =A4*60*('Gearbox 675R'!$C$11/'Gearbox 675R'!$D$11)*('Gearbox 675R'!$C$3/'Gearbox 675R'!$D$3)*'Gearbox 675R'!$E$5*PI()/1000*'Gearbox 675R'!$C$4/'Gearbox 675R'!$D$4 -> 89.224188 | J4: =A4*60*('Gearbox 675R'!$C$13/'Gearbox 675R'!$D$13)*('Gearbox 675R'!$C$3/'Gearbox 675R'!$D$3)*'Gearbox 675R'!$E$5*PI()/1000*'Gearbox 675R'!$C$4/'Gearbox 675R'!$D$4 -> 104.09489 | K4: =A4*60*('Gearbox 675R'!$C$15/'Gearbox 675R'!$D$15)*('Gearbox 675R'!$C$3/'Gearbox 675R'!$D$3)*'Gearbox 675R'!$E$5*PI()/1000*'Gearbox 675R'!$C$4/'Gearbox 675R'!$D$4 -> 115.66098 | L4: =A4*60*('Gearbox 675R'!$C$17/'Gearbox 675R'!$D$17)*('Gearbox 675R'!$C$3/'Gearbox 675R'!$D$3)*'Gearbox 675R'!$E$5*PI()/1000*'Gearbox 675R'!$C$4/'Gearbox 675R'!$D$4 -> 126.11496 | M4: =A4*60*('Gearbox 675R'!$C$19/'Gearbox 675R'!$D$19)*('Gearbox 675R'!$C$3/'Gearbox 675R'!$D$3)*'Gearbox 675R'!$E$5*PI()/1000*'Gearbox 675R'!$C$4/'Gearbox 675R'!$D$4 -> 136.62454 | O4: =($D4*1000)/(H4/3.6)-(0.5*1.167*0.5*0.5*(H4/3.6)^2) -> 2704.4612 | P4: =($D4*1000)/(I4/3.6)-(0.5*1.167*0.5*0.5*(I4/3.6)^2) -> 2106.7702 | Q4: =($D4*1000)/(J4/3.6)-(0.5*1.167*0.5*0.5*(J4/3.6)^2) -> 1760.6441 | R4: =($D4*1000)/(K4/3.6)-(0.5*1.167*0.5*0.5*(K4/3.6)^2) -> 1543.7741 | S4: =($D4*1000)/(L4/3.6)-(0.5*1.167*0.5*0.5*(L4/3.6)^2) -> 1374.8763 | T4: =($D4*1000)/(M4/3.6)-(0.5*1.167*0.5*0.5*(M4/3.6)^2) -> 1224.2652 | V4: =(O4-O17)/O17 -> 0.21819524 | W4: =(P4-P17)/P17 -> 0.2197718 | X4: =(Q4-Q17)/Q17 -> 0.2217321 | Y4: =(R4-R17)/R17 -> 0.22381094 | Z4: =(S4-S17)/S17 -> 0.22622303 | AA4: =(T4-T17)/T17 -> 0.2292934 | AC4: =(O4-O17)/O18 -> 0.21621425 | AD4: =(P4-P17)/P18 -> 0.21922453 | AE4: =(Q4-Q17)/Q18 -> 0.22302381 | AF4: =(R4-R17)/R18 -> 0.22712266 | AG4: =(S4-S17)/S18 -> 0.23197118 | AH4: =(T4-T17)/T18 -> 0.23829158 | AJ4: =O4/245 -> 11.038617 | AK4: =P4/245 -> 8.5990622 | AL4: =Q4/245 -> 7.1863023 | AM4: =R4/245 -> 6.3011189 | AN4: =S4/245 -> 5.6117401 | AO4: =T4/245 -> 4.9970008
A5: 8000 | B5: 90 | C5: =(B5*5252)/A5 -> 59.085 | D5: =0.7457*B5 -> 67.113 | H5: =A5*60*(First/'Gearbox 675R'!$D$9)*('Gearbox 675R'!$C$3/'Gearbox 675R'!$D$3)*'Gearbox 675R'!$E$5*PI()/1000*'Gearbox 675R'!$C$4/'Gearbox 675R'!$D$4 -> 81.112898 | I5: =A5*60*('Gearbox 675R'!$C$11/'Gearbox 675R'!$D$11)*('Gearbox 675R'!$C$3/'Gearbox 675R'!$D$3)*'Gearbox 675R'!$E$5*PI()/1000*'Gearbox 675R'!$C$4/'Gearbox 675R'!$D$4 -> 101.9705 | J5: =A5*60*('Gearbox 675R'!$C$13/'Gearbox 675R'!$D$13)*('Gearbox 675R'!$C$3/'Gearbox 675R'!$D$3)*'Gearbox 675R'!$E$5*PI()/1000*'Gearbox 675R'!$C$4/'Gearbox 675R'!$D$4 -> 118.96558 | K5: =A5*60*('Gearbox 675R'!$C$15/'Gearbox 675R'!$D$15)*('Gearbox 675R'!$C$3/'Gearbox 675R'!$D$3)*'Gearbox 675R'!$E$5*PI()/1000*'Gearbox 675R'!$C$4/'Gearbox 675R'!$D$4 -> 132.18398 | L5: =A5*60*('Gearbox 675R'!$C$17/'Gearbox 675R'!$D$17)*('Gearbox 675R'!$C$3/'Gearbox 675R'!$D$3)*'Gearbox 675R'!$E$5*PI()/1000*'Gearbox 675R'!$C$4/'Gearbox 675R'!$D$4 -> 144.13138 | M5: =A5*60*('Gearbox 675R'!$C$19/'Gearbox 675R'!$D$19)*('Gearbox 675R'!$C$3/'Gearbox 675R'!$D$3)*'Gearbox 675R'!$E$5*PI()/1000*'Gearbox 675R'!$C$4/'Gearbox 675R'!$D$4 -> 156.14233 | O5: =($D5*1000)/(H5/3.6)-(0.5*1.167*0.5*0.5*(H5/3.6)^2) -> 2904.5931 | P5: =($D5*1000)/(I5/3.6)-(0.5*1.167*0.5*0.5*(I5/3.6)^2) -> 2252.3419 | Q5: =($D5*1000)/(J5/3.6)-(0.5*1.167*0.5*0.5*(J5/3.6)^2) -> 1871.5956 | R5: =($D5*1000)/(K5/3.6)-(0.5*1.167*0.5*0.5*(K5/3.6)^2) -> 1631.139 | S5: =($D5*1000)/(L5/3.6)-(0.5*1.167*0.5*0.5*(L5/3.6)^2) -> 1442.4695 | T5: =($D5*1000)/(M5/3.6)-(0.5*1.167*0.5*0.5*(M5/3.6)^2) -> 1272.9289 | V5: =(O5-O18)/O18 -> 0.29646409 | W5: =(P5-P18)/P18 -> 0.30080711 | X5: =(Q5-Q18)/Q18 -> 0.30628848 | Y5: =(R5-R18)/R18 -> 0.31220201 | Z5: =(S5-S18)/S18 -> 0.31919714 | AA5: =(T5-T18)/T18 -> 0.32831579 | AC5: =(O5-O18)/O19 -> 0.27221621 | AD5: =(P5-P18)/P19 -> 0.27751971 | AE5: =(Q5-Q18)/Q19 -> 0.28428585 | AF5: =(R5-R18)/R19 -> 0.29167785 | AG5: =(S5-S18)/S19 -> 0.30054821 | AH5: =(T5-T18)/T19 -> 0.31232207 | AJ5: =O5/245 -> 11.855482 | AK5: =P5/245 -> 9.1932322 | AL5: =Q5/245 -> 7.6391656 | AM5: =R5/245 -> 6.6577103 | AN5: =S5/245 -> 5.8876307 | AO5: =T5/245 -> 5.1956281
A6: 9000 | B6: 105 | C6: =(B6*5252)/A6 -> 61.273333 | D6: =0.7457*B6 -> 78.2985 | H6: =A6*60*(First/'Gearbox 675R'!$D$9)*('Gearbox 675R'!$C$3/'Gearbox 675R'!$D$3)*'Gearbox 675R'!$E$5*PI()/1000*'Gearbox 675R'!$C$4/'Gearbox 675R'!$D$4 -> 91.252011 | I6: =A6*60*('Gearbox 675R'!$C$11/'Gearbox 675R'!$D$11)*('Gearbox 675R'!$C$3/'Gearbox 675R'!$D$3)*'Gearbox 675R'!$E$5*PI()/1000*'Gearbox 675R'!$C$4/'Gearbox 675R'!$D$4 -> 114.71681 | J6: =A6*60*('Gearbox 675R'!$C$13/'Gearbox 675R'!$D$13)*('Gearbox 675R'!$C$3/'Gearbox 675R'!$D$3)*'Gearbox 675R'!$E$5*PI()/1000*'Gearbox 675R'!$C$4/'Gearbox 675R'!$D$4 -> 133.83628 | K6: =A6*60*('Gearbox 675R'!$C$15/'Gearbox 675R'!$D$15)*('Gearbox 675R'!$C$3/'Gearbox 675R'!$D$3)*'Gearbox 675R'!$E$5*PI()/1000*'Gearbox 675R'!$C$4/'Gearbox 675R'!$D$4 -> 148.70698 | L6: =A6*60*('Gearbox 675R'!$C$17/'Gearbox 675R'!$D$17)*('Gearbox 675R'!$C$3/'Gearbox 675R'!$D$3)*'Gearbox 675R'!$E$5*PI()/1000*'Gearbox 675R'!$C$4/'Gearbox 675R'!$D$4 -> 162.1478 | M6: =A6*60*('Gearbox 675R'!$C$19/'Gearbox 675R'!$D$19)*('Gearbox 675R'!$C$3/'Gearbox 675R'!$D$3)*'Gearbox 675R'!$E$5*PI()/1000*'Gearbox 675R'!$C$4/'Gearbox 675R'!$D$4 -> 175.66012 | O6: =($D6*1000)/(H6/3.6)-(0.5*1.167*0.5*0.5*(H6/3.6)^2) -> 2995.2425 | P6: =($D6*1000)/(I6/3.6)-(0.5*1.167*0.5*0.5*(I6/3.6)^2) -> 2309.0086 | Q6: =($D6*1000)/(J6/3.6)-(0.5*1.167*0.5*0.5*(J6/3.6)^2) -> 1904.4996 | R6: =($D6*1000)/(K6/3.6)-(0.5*1.167*0.5*0.5*(K6/3.6)^2) -> 1646.5956 | S6: =($D6*1000)/(L6/3.6)-(0.5*1.167*0.5*0.5*(L6/3.6)^2) -> 1442.4445 | T6: =($D6*1000)/(M6/3.6)-(0.5*1.167*0.5*0.5*(M6/3.6)^2) -> 1257.3451 | V6: =(O6-O19)/O19 -> 0.22757794 | W6: =(P6-P19)/P19 -> 0.23029674 | X6: =(Q6-Q19)/Q19 -> 0.23376536 | Y6: =(R6-R19)/R19 -> 0.23755482 | Z6: =(S6-S19)/S19 -> 0.24210215 | AA6: =(T6-T19)/T19 -> 0.24813794 | AC6: =(O6-O19)/O20 -> 0.22130998 | AD6: =(P6-P19)/P20 -> 0.22549831 | AE6: =(Q6-Q19)/Q20 -> 0.23092634 | AF6: =(R6-R19)/R20 -> 0.23696767 | AG6: =(S6-S19)/S20 -> 0.24437525 | AH6: =(T6-T19)/T20 -> 0.25448399 | AJ6: =O6/245 -> 12.22548 | AK6: =P6/245 -> 9.4245249 | AL6: =Q6/245 -> 7.7734679 | AM6: =R6/245 -> 6.7207986 | AN6: =S6/245 -> 5.8875285 | AO6: =T6/245 -> 5.1320208
A7: 10000 | B7: 125 | C7: =(B7*5252)/A7 -> 65.65 | D7: =0.7457*B7 -> 93.2125 | H7: =A7*60*(First/'Gearbox 675R'!$D$9)*('Gearbox 675R'!$C$3/'Gearbox 675R'!$D$3)*'Gearbox 675R'!$E$5*PI()/1000*'Gearbox 675R'!$C$4/'Gearbox 675R'!$D$4 -> 101.39112 | I7: =A7*60*('Gearbox 675R'!$C$11/'Gearbox 675R'!$D$11)*('Gearbox 675R'!$C$3/'Gearbox 675R'!$D$3)*'Gearbox 675R'!$E$5*PI()/1000*'Gearbox 675R'!$C$4/'Gearbox 675R'!$D$4 -> 127.46313 | J7: =A7*60*('Gearbox 675R'!$C$13/'Gearbox 675R'!$D$13)*('Gearbox 675R'!$C$3/'Gearbox 675R'!$D$3)*'Gearbox 675R'!$E$5*PI()/1000*'Gearbox 675R'!$C$4/'Gearbox 675R'!$D$4 -> 148.70698 | K7: =A7*60*('Gearbox 675R'!$C$15/'Gearbox 675R'!$D$15)*('Gearbox 675R'!$C$3/'Gearbox 675R'!$D$3)*'Gearbox 675R'!$E$5*PI()/1000*'Gearbox 675R'!$C$4/'Gearbox 675R'!$D$4 -> 165.22998 | L7: =A7*60*('Gearbox 675R'!$C$17/'Gearbox 675R'!$D$17)*('Gearbox 675R'!$C$3/'Gearbox 675R'!$D$3)*'Gearbox 675R'!$E$5*PI()/1000*'Gearbox 675R'!$C$4/'Gearbox 675R'!$D$4 -> 180.16423 | M7: =A7*60*('Gearbox 675R'!$C$19/'Gearbox 675R'!$D$19)*('Gearbox 675R'!$C$3/'Gearbox 675R'!$D$3)*'Gearbox 675R'!$E$5*PI()/1000*'Gearbox 675R'!$C$4/'Gearbox 675R'!$D$4 -> 195.17791 | O7: =($D7*1000)/(H7/3.6)-(0.5*1.167*0.5*0.5*(H7/3.6)^2) -> 3193.898 | P7: =($D7*1000)/(I7/3.6)-(0.5*1.167*0.5*0.5*(I7/3.6)^2) -> 2449.7727 | Q7: =($D7*1000)/(J7/3.6)-(0.5*1.167*0.5*0.5*(J7/3.6)^2) -> 2007.6439 | R7: =($D7*1000)/(K7/3.6)-(0.5*1.167*0.5*0.5*(K7/3.6)^2) -> 1723.603 | S7: =($D7*1000)/(L7/3.6)-(0.5*1.167*0.5*0.5*(L7/3.6)^2) -> 1497.1974 | T7: =($D7*1000)/(M7/3.6)-(0.5*1.167*0.5*0.5*(M7/3.6)^2) -> 1290.4949 | V7: =(O7-O20)/O20 -> 0.27294303 | W7: =(P7-P20)/P20 -> 0.27810229 | X7: =(Q7-Q20)/Q20 -> 0.28478862 | Y7: =(R7-R20)/R20 -> 0.29223043 | Z7: =(S7-S20)/S20 -> 0.30135522 | AA7: =(T7-T20)/T20 -> 0.31380733 | AC7: =(O7-O20)/O21 -> 0.27022331 | AD7: =(P7-P20)/P21 -> 0.27759941 | AE7: =(Q7-Q20)/Q21 -> 0.28734151 | AF7: =(R7-R20)/R21 -> 0.29843462 | AG7: =(S7-S20)/S21 -> 0.31241014 | AH7: =(T7-T20)/T21 -> 0.33217862 | AJ7: =O7/245 -> 13.036318 | AK7: =P7/245 -> 9.9990721 | AL7: =Q7/245 -> 8.194465 | AM7: =R7/245 -> 7.0351141 | AN7: =S7/245 -> 6.1110098 | AO7: =T7/245 -> 5.2673261
A8: 11000 | B8: 132 | C8: =(B8*5252)/A8 -> 63.024 | D8: =0.7457*B8 -> 98.4324 | H8: =A8*60*(First/'Gearbox 675R'!$D$9)*('Gearbox 675R'!$C$3/'Gearbox 675R'!$D$3)*'Gearbox 675R'!$E$5*PI()/1000*'Gearbox 675R'!$C$4/'Gearbox 675R'!$D$4 -> 111.53024 | I8: =A8*60*('Gearbox 675R'!$C$11/'Gearbox 675R'!$D$11)*('Gearbox 675R'!$C$3/'Gearbox 675R'!$D$3)*'Gearbox 675R'!$E$5*PI()/1000*'Gearbox 675R'!$C$4/'Gearbox 675R'!$D$4 -> 140.20944 | J8: =A8*60*('Gearbox 675R'!$C$13/'Gearbox 675R'!$D$13)*('Gearbox 675R'!$C$3/'Gearbox 675R'!$D$3)*'Gearbox 675R'!$E$5*PI()/1000*'Gearbox 675R'!$C$4/'Gearbox 675R'!$D$4 -> 163.57768 | K8: =A8*60*('Gearbox 675R'!$C$15/'Gearbox 675R'!$D$15)*('Gearbox 675R'!$C$3/'Gearbox 675R'!$D$3)*'Gearbox 675R'!$E$5*PI()/1000*'Gearbox 675R'!$C$4/'Gearbox 675R'!$D$4 -> 181.75298 | L8: =A8*60*('Gearbox 675R'!$C$17/'Gearbox 675R'!$D$17)*('Gearbox 675R'!$C$3/'Gearbox 675R'!$D$3)*'Gearbox 675R'!$E$5*PI()/1000*'Gearbox 675R'!$C$4/'Gearbox 675R'!$D$4 -> 198.18065 | M8: =A8*60*('Gearbox 675R'!$C$19/'Gearbox 675R'!$D$19)*('Gearbox 675R'!$C$3/'Gearbox 675R'!$D$3)*'Gearbox 675R'!$E$5*PI()/1000*'Gearbox 675R'!$C$4/'Gearbox 675R'!$D$4 -> 214.6957 | O8: =($D8*1000)/(H8/3.6)-(0.5*1.167*0.5*0.5*(H8/3.6)^2) -> 3037.2142 | P8: =($D8*1000)/(I8/3.6)-(0.5*1.167*0.5*0.5*(I8/3.6)^2) -> 2306.064 | Q8: =($D8*1000)/(J8/3.6)-(0.5*1.167*0.5*0.5*(J8/3.6)^2) -> 1865.1112 | R8: =($D8*1000)/(K8/3.6)-(0.5*1.167*0.5*0.5*(K8/3.6)^2) -> 1577.8354 | S8: =($D8*1000)/(L8/3.6)-(0.5*1.167*0.5*0.5*(L8/3.6)^2) -> 1345.9712 | T8: =($D8*1000)/(M8/3.6)-(0.5*1.167*0.5*0.5*(M8/3.6)^2) -> 1131.6794 | V8: =(O8-O21)/O21 -> 0.19843409 | W8: =(P8-P21)/P21 -> 0.20095065 | X8: =(Q8-Q21)/Q21 -> 0.20427445 | Y8: =(R8-R21)/R21 -> 0.20805917 | Z8: =(S8-S21)/S21 -> 0.21282731 | AA8: =(T8-T21)/T21 -> 0.21957188 | AC8: =(O8-O21)/O22 -> 0.18520801 | AD8: =(P8-P21)/P22 -> 0.18859834 | AE8: =(Q8-Q21)/Q22 -> 0.19313429 | AF8: =(R8-R21)/R22 -> 0.19838159 | AG8: =(S8-S21)/S22 -> 0.20512045 | AH8: =(T8-T21)/T22 -> 0.21490515 | AJ8: =O8/245 -> 12.396793 | AK8: =P8/245 -> 9.4125061 | AL8: =Q8/245 -> 7.6126988 | AM8: =R8/245 -> 6.4401447 | AN8: =S8/245 -> 5.49376 | AO8: =T8/245 -> 4.6190997
A9: 12000 | B9: 148 | C9: =(B9*5252)/A9 -> 64.774667 | D9: =0.7457*B9 -> 110.3636 | H9: =A9*60*(First/'Gearbox 675R'!$D$9)*('Gearbox 675R'!$C$3/'Gearbox 675R'!$D$3)*'Gearbox 675R'!$E$5*PI()/1000*'Gearbox 675R'!$C$4/'Gearbox 675R'!$D$4 -> 121.66935 | I9: =A9*60*('Gearbox 675R'!$C$11/'Gearbox 675R'!$D$11)*('Gearbox 675R'!$C$3/'Gearbox 675R'!$D$3)*'Gearbox 675R'!$E$5*PI()/1000*'Gearbox 675R'!$C$4/'Gearbox 675R'!$D$4 -> 152.95575 | J9: =A9*60*('Gearbox 675R'!$C$13/'Gearbox 675R'!$D$13)*('Gearbox 675R'!$C$3/'Gearbox 675R'!$D$3)*'Gearbox 675R'!$E$5*PI()/1000*'Gearbox 675R'!$C$4/'Gearbox 675R'!$D$4 -> 178.44838 | K9: =A9*60*('Gearbox 675R'!$C$15/'Gearbox 675R'!$D$15)*('Gearbox 675R'!$C$3/'Gearbox 675R'!$D$3)*'Gearbox 675R'!$E$5*PI()/1000*'Gearbox 675R'!$C$4/'Gearbox 675R'!$D$4 -> 198.27597 | L9: =A9*60*('Gearbox 675R'!$C$17/'Gearbox 675R'!$D$17)*('Gearbox 675R'!$C$3/'Gearbox 675R'!$D$3)*'Gearbox 675R'!$E$5*PI()/1000*'Gearbox 675R'!$C$4/'Gearbox 675R'!$D$4 -> 216.19707 | M9: =A9*60*('Gearbox 675R'!$C$19/'Gearbox 675R'!$D$19)*('Gearbox 675R'!$C$3/'Gearbox 675R'!$D$3)*'Gearbox 675R'!$E$5*PI()/1000*'Gearbox 675R'!$C$4/'Gearbox 675R'!$D$4 -> 234.21349 | O9: =($D9*1000)/(H9/3.6)-(0.5*1.167*0.5*0.5*(H9/3.6)^2) -> 3098.8569 | P9: =($D9*1000)/(I9/3.6)-(0.5*1.167*0.5*0.5*(I9/3.6)^2) -> 2334.2075 | Q9: =($D9*1000)/(J9/3.6)-(0.5*1.167*0.5*0.5*(J9/3.6)^2) -> 1868.0371 | R9: =($D9*1000)/(K9/3.6)-(0.5*1.167*0.5*0.5*(K9/3.6)^2) -> 1561.3151 | S9: =($D9*1000)/(L9/3.6)-(0.5*1.167*0.5*0.5*(L9/3.6)^2) -> 1311.608 | T9: =($D9*1000)/(M9/3.6)-(0.5*1.167*0.5*0.5*(M9/3.6)^2) -> 1078.9068 | V9: =(O9-O22)/O22 -> 0.14125774 | W9: =(P9-P22)/P22 -> 0.14088456 | X9: =(Q9-Q22)/Q22 -> 0.14038527 | Y9: =(R9-R22)/R22 -> 0.13980767 | Z9: =(S9-S22)/S22 -> 0.1390659 | AA9: =(T9-T22)/T22 -> 0.13798886 | AC9: =(O9-O22)/O23 -> 0.1474655 | AD9: =(P9-P22)/P23 -> 0.14894369 | AE9: =(Q9-Q22)/Q23 -> 0.1509811 | AF9: =(R9-R22)/R23 -> 0.15342768 | AG9: =(S9-S22)/S23 -> 0.15672009 | AH9: =(T9-T22)/T23 -> 0.16182882 | AJ9: =O9/245 -> 12.648395 | AK9: =P9/245 -> 9.5273775 | AL9: =Q9/245 -> 7.6246413 | AM9: =R9/245 -> 6.3727149 | AN9: =S9/245 -> 5.3535019 | AO9: =T9/245 -> 4.4037013
A10: 13000 | B10: 152 | C10: =(B10*5252)/A10 -> 61.408 | D10: =0.7457*B10 -> 113.3464 | H10: =A10*60*(First/'Gearbox 675R'!$D$9)*('Gearbox 675R'!$C$3/'Gearbox 675R'!$D$3)*'Gearbox 675R'!$E$5*PI()/1000*'Gearbox 675R'!$C$4/'Gearbox 675R'!$D$4 -> 131.80846 | I10: =A10*60*('Gearbox 675R'!$C$11/'Gearbox 675R'!$D$11)*('Gearbox 675R'!$C$3/'Gearbox 675R'!$D$3)*'Gearbox 675R'!$E$5*PI()/1000*'Gearbox 675R'!$C$4/'Gearbox 675R'!$D$4 -> 165.70206 | J10: =A10*60*('Gearbox 675R'!$C$13/'Gearbox 675R'!$D$13)*('Gearbox 675R'!$C$3/'Gearbox 675R'!$D$3)*'Gearbox 675R'!$E$5*PI()/1000*'Gearbox 675R'!$C$4/'Gearbox 675R'!$D$4 -> 193.31907 | K10: =A10*60*('Gearbox 675R'!$C$15/'Gearbox 675R'!$D$15)*('Gearbox 675R'!$C$3/'Gearbox 675R'!$D$3)*'Gearbox 675R'!$E$5*PI()/1000*'Gearbox 675R'!$C$4/'Gearbox 675R'!$D$4 -> 214.79897 | L10: =A10*60*('Gearbox 675R'!$C$17/'Gearbox 675R'!$D$17)*('Gearbox 675R'!$C$3/'Gearbox 675R'!$D$3)*'Gearbox 675R'!$E$5*PI()/1000*'Gearbox 675R'!$C$4/'Gearbox 675R'!$D$4 -> 234.21349 | M10: =A10*60*('Gearbox 675R'!$C$19/'Gearbox 675R'!$D$19)*('Gearbox 675R'!$C$3/'Gearbox 675R'!$D$3)*'Gearbox 675R'!$E$5*PI()/1000*'Gearbox 675R'!$C$4/'Gearbox 675R'!$D$4 -> 253.73129 | O10: =($D10*1000)/(H10/3.6)-(0.5*1.167*0.5*0.5*(H10/3.6)^2) -> 2900.2055 | P10: =($D10*1000)/(I10/3.6)-(0.5*1.167*0.5*0.5*(I10/3.6)^2) -> 2153.4823 | Q10: =($D10*1000)/(J10/3.6)-(0.5*1.167*0.5*0.5*(J10/3.6)^2) -> 1690.0896 | R10: =($D10*1000)/(K10/3.6)-(0.5*1.167*0.5*0.5*(K10/3.6)^2) -> 1380.3432 | S10: =($D10*1000)/(L10/3.6)-(0.5*1.167*0.5*0.5*(L10/3.6)^2) -> 1124.7542 | T10: =($D10*1000)/(M10/3.6)-(0.5*1.167*0.5*0.5*(M10/3.6)^2) -> 883.54309 | V10: =(O10-O23)/O23 -> 0.1150367 | W10: =(P10-P23)/P23 -> 0.11276196 | X10: =(Q10-Q23)/Q23 -> 0.10962662 | Y10: =(R10-R23)/R23 -> 0.10586162 | Z10: =(S10-S23)/S23 -> 0.100795 | AA10: =(T10-T23)/T23 -> 0.092933263 | AC10: =(O10-O23)/O24 -> 0.11424666 | AD10: =(P10-P23)/P24 -> 0.11317455 | AE10: =(Q10-Q23)/Q24 -> 0.11165903 | AF10: =(R10-R23)/R24 -> 0.1097787 | AG10: =(S10-S23)/S24 -> 0.10713802 | AH10: =(T10-T23)/T24 -> 0.10276859 | AJ10: =O10/245 -> 11.837574 | AK10: =P10/245 -> 8.7897239 | AL10: =Q10/245 -> 6.8983247 | AM10: =R10/245 -> 5.6340539 | AN10: =S10/245 -> 4.5908336 | AO10: =T10/245 -> 3.6062983
A11: 14000 | B11: 151 | C11: =(B11*5252)/A11 -> 56.646571 | D11: =0.7457*B11 -> 112.6007 | H11: =A11*60*(First/'Gearbox 675R'!$D$9)*('Gearbox 675R'!$C$3/'Gearbox 675R'!$D$3)*'Gearbox 675R'!$E$5*PI()/1000*'Gearbox 675R'!$C$4/'Gearbox 675R'!$D$4 -> 141.94757 | I11: =A11*60*('Gearbox 675R'!$C$11/'Gearbox 675R'!$D$11)*('Gearbox 675R'!$C$3/'Gearbox 675R'!$D$3)*'Gearbox 675R'!$E$5*PI()/1000*'Gearbox 675R'!$C$4/'Gearbox 675R'!$D$4 -> 178.44838 | J11: =A11*60*('Gearbox 675R'!$C$13/'Gearbox 675R'!$D$13)*('Gearbox 675R'!$C$3/'Gearbox 675R'!$D$3)*'Gearbox 675R'!$E$5*PI()/1000*'Gearbox 675R'!$C$4/'Gearbox 675R'!$D$4 -> 208.18977 | K11: =A11*60*('Gearbox 675R'!$C$15/'Gearbox 675R'!$D$15)*('Gearbox 675R'!$C$3/'Gearbox 675R'!$D$3)*'Gearbox 675R'!$E$5*PI()/1000*'Gearbox 675R'!$C$4/'Gearbox 675R'!$D$4 -> 231.32197 | L11: =A11*60*('Gearbox 675R'!$C$17/'Gearbox 675R'!$D$17)*('Gearbox 675R'!$C$3/'Gearbox 675R'!$D$3)*'Gearbox 675R'!$E$5*PI()/1000*'Gearbox 675R'!$C$4/'Gearbox 675R'!$D$4 -> 252.22992 | M11: =A11*60*('Gearbox 675R'!$C$19/'Gearbox 675R'!$D$19)*('Gearbox 675R'!$C$3/'Gearbox 675R'!$D$3)*'Gearbox 675R'!$E$5*PI()/1000*'Gearbox 675R'!$C$4/'Gearbox 675R'!$D$4 -> 273.24908 | O11: =($D11*1000)/(H11/3.6)-(0.5*1.167*0.5*0.5*(H11/3.6)^2) -> 2628.9259 | P11: =($D11*1000)/(I11/3.6)-(0.5*1.167*0.5*0.5*(I11/3.6)^2) -> 1913.1682 | Q11: =($D11*1000)/(J11/3.6)-(0.5*1.167*0.5*0.5*(J11/3.6)^2) -> 1459.2224 | R11: =($D11*1000)/(K11/3.6)-(0.5*1.167*0.5*0.5*(K11/3.6)^2) -> 1150.0781 | S11: =($D11*1000)/(L11/3.6)-(0.5*1.167*0.5*0.5*(L11/3.6)^2) -> 891.02276 | T11: =($D11*1000)/(M11/3.6)-(0.5*1.167*0.5*0.5*(M11/3.6)^2) -> 643.07692 | V11: =(O11-O24)/O24 -> 0.0037967894 | W11: =(P11-P24)/P24 -> -0.0077976154 | X11: =(Q11-Q24)/Q24 -> -0.02418727 | Y11: =(R11-R24)/R24 -> -0.044522252 | Z11: =(S11-S24)/S24 -> -0.073080035 | AA11: =(T11-T24)/T24 -> -0.12033354 | AC11: =(O11-O24)/O25 -> 0.0040442728 | AD11: =(P11-P24)/P25 -> -0.0084574197 | AE11: =(Q11-Q24)/Q25 -> -0.026928397 | AF11: =(R11-R24)/R25 -> -0.051251315 | AG11: =(S11-S24)/S25 -> -0.088338522 | AH11: =(T11-T24)/T25 -> -0.15860145 | AJ11: =O11/245 -> 10.73031 | AK11: =P11/245 -> 7.8088496 | AL11: =Q11/245 -> 5.95601 | AM11: =R11/245 -> 4.6941964 | AN11: =S11/245 -> 3.6368276 | AO11: =T11/245 -> 2.6248038
AK12: =AVERAGE(AK2:AL11) -> 8.1193696
AO13: =AVERAGE(AK9:AN11) -> 6.4072546
A14: RPM | B14: Power (hp) | C14: Torque (Nm) | D14: Power (Kw) | H14: Road Speed 1st | I14: Road Speed 2nd | J14: Road Speed 3rd | K14: Road Speed 4th | L14: Road Speed 5th | M14: Road Speed 6th | O14: Driving Force 1st | P14: Driving Force 2nd | Q14: Driving Force 3rd | R14: Driving Force 4th | S14: Driving Force 5th | T14: Driving Force 6th | AQ14: =SQRT(1300/AK12) -> 12.653496 | AS14: =AQ28-AQ14 -> 1.2793073
A15: 5000 | B15: 35 | C15: =(B15*5252)/A15 -> 36.764 | D15: =0.7457*B15 -> 26.0995 | H15: =A15*60*(First/'Gearbox 675R'!$L$9)*('Gearbox 675R'!$K$3/'Gearbox 675R'!$L$3)*'Gearbox 675R'!$M$5*PI()/1000*'Gearbox 675R'!$K$4/'Gearbox 675R'!$L$4 -> 47.315857 | I15: =A15*60*('Gearbox 675R'!$K$11/'Gearbox 675R'!$L$11)*('Gearbox 675R'!$K$3/'Gearbox 675R'!$L$3)*'Gearbox 675R'!$M$5*PI()/1000*'Gearbox 675R'!$K$4/'Gearbox 675R'!$L$4 -> 59.482792 | J15: =A15*60*('Gearbox 675R'!$K$13/'Gearbox 675R'!$L$13)*('Gearbox 675R'!$K$3/'Gearbox 675R'!$L$3)*'Gearbox 675R'!$M$5*PI()/1000*'Gearbox 675R'!$K$4/'Gearbox 675R'!$L$4 -> 69.396591 | K15: =A15*60*('Gearbox 675R'!$K$15/'Gearbox 675R'!$L$15)*('Gearbox 675R'!$K$3/'Gearbox 675R'!$L$3)*'Gearbox 675R'!$M$5*PI()/1000*'Gearbox 675R'!$K$4/'Gearbox 675R'!$L$4 -> 77.107323 | L15: =A15*60*('Gearbox 675R'!$K$17/'Gearbox 675R'!$L$17)*('Gearbox 675R'!$K$3/'Gearbox 675R'!$L$3)*'Gearbox 675R'!$M$5*PI()/1000*'Gearbox 675R'!$K$4/'Gearbox 675R'!$L$4 -> 84.076639 | M15: =A15*60*('Gearbox 675R'!$K$19/'Gearbox 675R'!$L$19)*('Gearbox 675R'!$K$3/'Gearbox 675R'!$L$3)*'Gearbox 675R'!$M$5*PI()/1000*'Gearbox 675R'!$K$4/'Gearbox 675R'!$L$4 -> 91.083025 | O15: =($D15*1000)/(H15/3.6)-(0.5*1.167*0.5*0.5*(H15/3.6)^2) -> 1960.5662 | P15: =($D15*1000)/(I15/3.6)-(0.5*1.167*0.5*0.5*(I15/3.6)^2) -> 1539.761 | Q15: =($D15*1000)/(J15/3.6)-(0.5*1.167*0.5*0.5*(J15/3.6)^2) -> 1299.7245 | R15: =($D15*1000)/(K15/3.6)-(0.5*1.167*0.5*0.5*(K15/3.6)^2) -> 1151.6162 | S15: =($D15*1000)/(L15/3.6)-(0.5*1.167*0.5*0.5*(L15/3.6)^2) -> 1037.9646 | T15: =($D15*1000)/(M15/3.6)-(0.5*1.167*0.5*0.5*(M15/3.6)^2) -> 938.18719 | AJ15: =O15/245 -> 8.0023111 | AK15: =P15/245 -> 6.2847387 | AL15: =Q15/245 -> 5.3049978 | AM15: =R15/245 -> 4.7004744 | AN15: =S15/245 -> 4.2365901 | AO15: =T15/245 -> 3.8293355 | AQ15: =SQRT(472/AO13) -> 8.5829189 | AS15: =AQ29-AQ15 -> 2.3721844
A16: 6000 | B16: 43 | C16: =(B16*5252)/A16 -> 37.639333 | D16: =0.7457*B16 -> 32.0651 | H16: =A16*60*(First/'Gearbox 675R'!$L$9)*('Gearbox 675R'!$K$3/'Gearbox 675R'!$L$3)*'Gearbox 675R'!$M$5*PI()/1000*'Gearbox 675R'!$K$4/'Gearbox 675R'!$L$4 -> 56.779029 | I16: =A16*60*('Gearbox 675R'!$K$11/'Gearbox 675R'!$L$11)*('Gearbox 675R'!$K$3/'Gearbox 675R'!$L$3)*'Gearbox 675R'!$M$5*PI()/1000*'Gearbox 675R'!$K$4/'Gearbox 675R'!$L$4 -> 71.379351 | J16: =A16*60*('Gearbox 675R'!$K$13/'Gearbox 675R'!$L$13)*('Gearbox 675R'!$K$3/'Gearbox 675R'!$L$3)*'Gearbox 675R'!$M$5*PI()/1000*'Gearbox 675R'!$K$4/'Gearbox 675R'!$L$4 -> 83.275909 | K16: =A16*60*('Gearbox 675R'!$K$15/'Gearbox 675R'!$L$15)*('Gearbox 675R'!$K$3/'Gearbox 675R'!$L$3)*'Gearbox 675R'!$M$5*PI()/1000*'Gearbox 675R'!$K$4/'Gearbox 675R'!$L$4 -> 92.528788 | L16: =A16*60*('Gearbox 675R'!$K$17/'Gearbox 675R'!$L$17)*('Gearbox 675R'!$K$3/'Gearbox 675R'!$L$3)*'Gearbox 675R'!$M$5*PI()/1000*'Gearbox 675R'!$K$4/'Gearbox 675R'!$L$4 -> 100.89197 | M16: =A16*60*('Gearbox 675R'!$K$19/'Gearbox 675R'!$L$19)*('Gearbox 675R'!$K$3/'Gearbox 675R'!$L$3)*'Gearbox 675R'!$M$5*PI()/1000*'Gearbox 675R'!$K$4/'Gearbox 675R'!$L$4 -> 109.29963 | O16: =($D16*1000)/(H16/3.6)-(0.5*1.167*0.5*0.5*(H16/3.6)^2) -> 1996.7586 | P16: =($D16*1000)/(I16/3.6)-(0.5*1.167*0.5*0.5*(I16/3.6)^2) -> 1559.8471 | Q16: =($D16*1000)/(J16/3.6)-(0.5*1.167*0.5*0.5*(J16/3.6)^2) -> 1308.11 | R16: =($D16*1000)/(K16/3.6)-(0.5*1.167*0.5*0.5*(K16/3.6)^2) -> 1151.1835 | S16: =($D16*1000)/(L16/3.6)-(0.5*1.167*0.5*0.5*(L16/3.6)^2) -> 1029.5635 | T16: =($D16*1000)/(M16/3.6)-(0.5*1.167*0.5*0.5*(M16/3.6)^2) -> 921.66139 | AJ16: =O16/245 -> 8.1500352 | AK16: =P16/245 -> 6.3667227 | AL16: =Q16/245 -> 5.3392246 | AM16: =R16/245 -> 4.6987081 | AN16: =S16/245 -> 4.2022999 | AO16: =T16/245 -> 3.7618832 | AS16: =SUM(AS14:AS15) -> 3.6514916
A17: 7000 | B17: 56 | C17: =(B17*5252)/A17 -> 42.016 | D17: =0.7457*B17 -> 41.7592 | H17: =A17*60*(First/'Gearbox 675R'!$L$9)*('Gearbox 675R'!$K$3/'Gearbox 675R'!$L$3)*'Gearbox 675R'!$M$5*PI()/1000*'Gearbox 675R'!$K$4/'Gearbox 675R'!$L$4 -> 66.2422 | I17: =A17*60*('Gearbox 675R'!$K$11/'Gearbox 675R'!$L$11)*('Gearbox 675R'!$K$3/'Gearbox 675R'!$L$3)*'Gearbox 675R'!$M$5*PI()/1000*'Gearbox 675R'!$K$4/'Gearbox 675R'!$L$4 -> 83.275909 | J17: =A17*60*('Gearbox 675R'!$K$13/'Gearbox 675R'!$L$13)*('Gearbox 675R'!$K$3/'Gearbox 675R'!$L$3)*'Gearbox 675R'!$M$5*PI()/1000*'Gearbox 675R'!$K$4/'Gearbox 675R'!$L$4 -> 97.155227 | K17: =A17*60*('Gearbox 675R'!$K$15/'Gearbox 675R'!$L$15)*('Gearbox 675R'!$K$3/'Gearbox 675R'!$L$3)*'Gearbox 675R'!$M$5*PI()/1000*'Gearbox 675R'!$K$4/'Gearbox 675R'!$L$4 -> 107.95025 | L17: =A17*60*('Gearbox 675R'!$K$17/'Gearbox 675R'!$L$17)*('Gearbox 675R'!$K$3/'Gearbox 675R'!$L$3)*'Gearbox 675R'!$M$5*PI()/1000*'Gearbox 675R'!$K$4/'Gearbox 675R'!$L$4 -> 117.70729 | M17: =A17*60*('Gearbox 675R'!$K$19/'Gearbox 675R'!$L$19)*('Gearbox 675R'!$K$3/'Gearbox 675R'!$L$3)*'Gearbox 675R'!$M$5*PI()/1000*'Gearbox 675R'!$K$4/'Gearbox 675R'!$L$4 -> 127.51624 | O17: =($D17*1000)/(H17/3.6)-(0.5*1.167*0.5*0.5*(H17/3.6)^2) -> 2220.0556 | P17: =($D17*1000)/(I17/3.6)-(0.5*1.167*0.5*0.5*(I17/3.6)^2) -> 1727.1839 | Q17: =($D17*1000)/(J17/3.6)-(0.5*1.167*0.5*0.5*(J17/3.6)^2) -> 1441.1049 | R17: =($D17*1000)/(K17/3.6)-(0.5*1.167*0.5*0.5*(K17/3.6)^2) -> 1261.4482 | S17: =($D17*1000)/(L17/3.6)-(0.5*1.167*0.5*0.5*(L17/3.6)^2) -> 1121.2286 | T17: =($D17*1000)/(M17/3.6)-(0.5*1.167*0.5*0.5*(M17/3.6)^2) -> 995.90968 | AJ17: =O17/245 -> 9.0614516 | AK17: =P17/245 -> 7.0497303 | AL17: =Q17/245 -> 5.8820606 | AM17: =R17/245 -> 5.1487683 | AN17: =S17/245 -> 4.5764432 | AO17: =T17/245 -> 4.0649375
A18: 8000 | B18: 65 | C18: =(B18*5252)/A18 -> 42.6725 | D18: =0.7457*B18 -> 48.4705 | H18: =A18*60*(First/'Gearbox 675R'!$L$9)*('Gearbox 675R'!$K$3/'Gearbox 675R'!$L$3)*'Gearbox 675R'!$M$5*PI()/1000*'Gearbox 675R'!$K$4/'Gearbox 675R'!$L$4 -> 75.705372 | I18: =A18*60*('Gearbox 675R'!$K$11/'Gearbox 675R'!$L$11)*('Gearbox 675R'!$K$3/'Gearbox 675R'!$L$3)*'Gearbox 675R'!$M$5*PI()/1000*'Gearbox 675R'!$K$4/'Gearbox 675R'!$L$4 -> 95.172467 | J18: =A18*60*('Gearbox 675R'!$K$13/'Gearbox 675R'!$L$13)*('Gearbox 675R'!$K$3/'Gearbox 675R'!$L$3)*'Gearbox 675R'!$M$5*PI()/1000*'Gearbox 675R'!$K$4/'Gearbox 675R'!$L$4 -> 111.03455 | K18: =A18*60*('Gearbox 675R'!$K$15/'Gearbox 675R'!$L$15)*('Gearbox 675R'!$K$3/'Gearbox 675R'!$L$3)*'Gearbox 675R'!$M$5*PI()/1000*'Gearbox 675R'!$K$4/'Gearbox 675R'!$L$4 -> 123.37172 | L18: =A18*60*('Gearbox 675R'!$K$17/'Gearbox 675R'!$L$17)*('Gearbox 675R'!$K$3/'Gearbox 675R'!$L$3)*'Gearbox 675R'!$M$5*PI()/1000*'Gearbox 675R'!$K$4/'Gearbox 675R'!$L$4 -> 134.52262 | M18: =A18*60*('Gearbox 675R'!$K$19/'Gearbox 675R'!$L$19)*('Gearbox 675R'!$K$3/'Gearbox 675R'!$L$3)*'Gearbox 675R'!$M$5*PI()/1000*'Gearbox 675R'!$K$4/'Gearbox 675R'!$L$4 -> 145.73284 | O18: =($D18*1000)/(H18/3.6)-(0.5*1.167*0.5*0.5*(H18/3.6)^2) -> 2240.3961 | P18: =($D18*1000)/(I18/3.6)-(0.5*1.167*0.5*0.5*(I18/3.6)^2) -> 1731.4957 | Q18: =($D18*1000)/(J18/3.6)-(0.5*1.167*0.5*0.5*(J18/3.6)^2) -> 1432.7582 | R18: =($D18*1000)/(K18/3.6)-(0.5*1.167*0.5*0.5*(K18/3.6)^2) -> 1243.0548 | S18: =($D18*1000)/(L18/3.6)-(0.5*1.167*0.5*0.5*(L18/3.6)^2) -> 1093.445 | T18: =($D18*1000)/(M18/3.6)-(0.5*1.167*0.5*0.5*(M18/3.6)^2) -> 958.30291 | AJ18: =O18/245 -> 9.144474 | AK18: =P18/245 -> 7.0673292 | AL18: =Q18/245 -> 5.8479928 | AM18: =R18/245 -> 5.0736931 | AN18: =S18/245 -> 4.4630408 | AO18: =T18/245 -> 3.9114405
A19: 9000 | B19: 80 | C19: =(B19*5252)/A19 -> 46.684444 | D19: =0.7457*B19 -> 59.656 | H19: =A19*60*(First/'Gearbox 675R'!$L$9)*('Gearbox 675R'!$K$3/'Gearbox 675R'!$L$3)*'Gearbox 675R'!$M$5*PI()/1000*'Gearbox 675R'!$K$4/'Gearbox 675R'!$L$4 -> 85.168543 | I19: =A19*60*('Gearbox 675R'!$K$11/'Gearbox 675R'!$L$11)*('Gearbox 675R'!$K$3/'Gearbox 675R'!$L$3)*'Gearbox 675R'!$M$5*PI()/1000*'Gearbox 675R'!$K$4/'Gearbox 675R'!$L$4 -> 107.06903 | J19: =A19*60*('Gearbox 675R'!$K$13/'Gearbox 675R'!$L$13)*('Gearbox 675R'!$K$3/'Gearbox 675R'!$L$3)*'Gearbox 675R'!$M$5*PI()/1000*'Gearbox 675R'!$K$4/'Gearbox 675R'!$L$4 -> 124.91386 | K19: =A19*60*('Gearbox 675R'!$K$15/'Gearbox 675R'!$L$15)*('Gearbox 675R'!$K$3/'Gearbox 675R'!$L$3)*'Gearbox 675R'!$M$5*PI()/1000*'Gearbox 675R'!$K$4/'Gearbox 675R'!$L$4 -> 138.79318 | L19: =A19*60*('Gearbox 675R'!$K$17/'Gearbox 675R'!$L$17)*('Gearbox 675R'!$K$3/'Gearbox 675R'!$L$3)*'Gearbox 675R'!$M$5*PI()/1000*'Gearbox 675R'!$K$4/'Gearbox 675R'!$L$4 -> 151.33795 | M19: =A19*60*('Gearbox 675R'!$K$19/'Gearbox 675R'!$L$19)*('Gearbox 675R'!$K$3/'Gearbox 675R'!$L$3)*'Gearbox 675R'!$M$5*PI()/1000*'Gearbox 675R'!$K$4/'Gearbox 675R'!$L$4 -> 163.94945 | O19: =($D19*1000)/(H19/3.6)-(0.5*1.167*0.5*0.5*(H19/3.6)^2) -> 2439.9612 | P19: =($D19*1000)/(I19/3.6)-(0.5*1.167*0.5*0.5*(I19/3.6)^2) -> 1876.79 | Q19: =($D19*1000)/(J19/3.6)-(0.5*1.167*0.5*0.5*(J19/3.6)^2) -> 1543.6482 | R19: =($D19*1000)/(K19/3.6)-(0.5*1.167*0.5*0.5*(K19/3.6)^2) -> 1330.5234 | S19: =($D19*1000)/(L19/3.6)-(0.5*1.167*0.5*0.5*(L19/3.6)^2) -> 1161.293 | T19: =($D19*1000)/(M19/3.6)-(0.5*1.167*0.5*0.5*(M19/3.6)^2) -> 1007.3767 | AJ19: =O19/245 -> 9.9590252 | AK19: =P19/245 -> 7.6603672 | AL19: =Q19/245 -> 6.3006048 | AM19: =R19/245 -> 5.4307078 | AN19: =S19/245 -> 4.7399713 | AO19: =T19/245 -> 4.1117417
A20: 10000 | B20: 92 | C20: =(B20*5252)/A20 -> 48.3184 | D20: =0.7457*B20 -> 68.6044 | H20: =A20*60*(First/'Gearbox 675R'!$L$9)*('Gearbox 675R'!$K$3/'Gearbox 675R'!$L$3)*'Gearbox 675R'!$M$5*PI()/1000*'Gearbox 675R'!$K$4/'Gearbox 675R'!$L$4 -> 94.631715 | I20: =A20*60*('Gearbox 675R'!$K$11/'Gearbox 675R'!$L$11)*('Gearbox 675R'!$K$3/'Gearbox 675R'!$L$3)*'Gearbox 675R'!$M$5*PI()/1000*'Gearbox 675R'!$K$4/'Gearbox 675R'!$L$4 -> 118.96558 | J20: =A20*60*('Gearbox 675R'!$K$13/'Gearbox 675R'!$L$13)*('Gearbox 675R'!$K$3/'Gearbox 675R'!$L$3)*'Gearbox 675R'!$M$5*PI()/1000*'Gearbox 675R'!$K$4/'Gearbox 675R'!$L$4 -> 138.79318 | K20: =A20*60*('Gearbox 675R'!$K$15/'Gearbox 675R'!$L$15)*('Gearbox 675R'!$K$3/'Gearbox 675R'!$L$3)*'Gearbox 675R'!$M$5*PI()/1000*'Gearbox 675R'!$K$4/'Gearbox 675R'!$L$4 -> 154.21465 | L20: =A20*60*('Gearbox 675R'!$K$17/'Gearbox 675R'!$L$17)*('Gearbox 675R'!$K$3/'Gearbox 675R'!$L$3)*'Gearbox 675R'!$M$5*PI()/1000*'Gearbox 675R'!$K$4/'Gearbox 675R'!$L$4 -> 168.15328 | M20: =A20*60*('Gearbox 675R'!$K$19/'Gearbox 675R'!$L$19)*('Gearbox 675R'!$K$3/'Gearbox 675R'!$L$3)*'Gearbox 675R'!$M$5*PI()/1000*'Gearbox 675R'!$K$4/'Gearbox 675R'!$L$4 -> 182.16605 | O20: =($D20*1000)/(H20/3.6)-(0.5*1.167*0.5*0.5*(H20/3.6)^2) -> 2509.0659 | P20: =($D20*1000)/(I20/3.6)-(0.5*1.167*0.5*0.5*(I20/3.6)^2) -> 1916.7266 | Q20: =($D20*1000)/(J20/3.6)-(0.5*1.167*0.5*0.5*(J20/3.6)^2) -> 1562.6259 | R20: =($D20*1000)/(K20/3.6)-(0.5*1.167*0.5*0.5*(K20/3.6)^2) -> 1333.8201 | S20: =($D20*1000)/(L20/3.6)-(0.5*1.167*0.5*0.5*(L20/3.6)^2) -> 1150.491 | T20: =($D20*1000)/(M20/3.6)-(0.5*1.167*0.5*0.5*(M20/3.6)^2) -> 982.25582 | AJ20: =O20/245 -> 10.241085 | AK20: =P20/245 -> 7.8233739 | AL20: =Q20/245 -> 6.3780648 | AM20: =R20/245 -> 5.4441638 | AN20: =S20/245 -> 4.6958815 | AO20: =T20/245 -> 4.0092074
A21: 11000 | B21: 103 | C21: =(B21*5252)/A21 -> 49.177818 | D21: =0.7457*B21 -> 76.8071 | H21: =A21*60*(First/'Gearbox 675R'!$L$9)*('Gearbox 675R'!$K$3/'Gearbox 675R'!$L$3)*'Gearbox 675R'!$M$5*PI()/1000*'Gearbox 675R'!$K$4/'Gearbox 675R'!$L$4 -> 104.09489 | I21: =A21*60*('Gearbox 675R'!$K$11/'Gearbox 675R'!$L$11)*('Gearbox 675R'!$K$3/'Gearbox 675R'!$L$3)*'Gearbox 675R'!$M$5*PI()/1000*'Gearbox 675R'!$K$4/'Gearbox 675R'!$L$4 -> 130.86214 | J21: =A21*60*('Gearbox 675R'!$K$13/'Gearbox 675R'!$L$13)*('Gearbox 675R'!$K$3/'Gearbox 675R'!$L$3)*'Gearbox 675R'!$M$5*PI()/1000*'Gearbox 675R'!$K$4/'Gearbox 675R'!$L$4 -> 152.6725 | K21: =A21*60*('Gearbox 675R'!$K$15/'Gearbox 675R'!$L$15)*('Gearbox 675R'!$K$3/'Gearbox 675R'!$L$3)*'Gearbox 675R'!$M$5*PI()/1000*'Gearbox 675R'!$K$4/'Gearbox 675R'!$L$4 -> 169.63611 | L21: =A21*60*('Gearbox 675R'!$K$17/'Gearbox 675R'!$L$17)*('Gearbox 675R'!$K$3/'Gearbox 675R'!$L$3)*'Gearbox 675R'!$M$5*PI()/1000*'Gearbox 675R'!$K$4/'Gearbox 675R'!$L$4 -> 184.96861 | M21: =A21*60*('Gearbox 675R'!$K$19/'Gearbox 675R'!$L$19)*('Gearbox 675R'!$K$3/'Gearbox 675R'!$L$3)*'Gearbox 675R'!$M$5*PI()/1000*'Gearbox 675R'!$K$4/'Gearbox 675R'!$L$4 -> 200.38266 | O21: =($D21*1000)/(H21/3.6)-(0.5*1.167*0.5*0.5*(H21/3.6)^2) -> 2534.319 | P21: =($D21*1000)/(I21/3.6)-(0.5*1.167*0.5*0.5*(I21/3.6)^2) -> 1920.1988 | Q21: =($D21*1000)/(J21/3.6)-(0.5*1.167*0.5*0.5*(J21/3.6)^2) -> 1548.7427 | R21: =($D21*1000)/(K21/3.6)-(0.5*1.167*0.5*0.5*(K21/3.6)^2) -> 1306.0912 | S21: =($D21*1000)/(L21/3.6)-(0.5*1.167*0.5*0.5*(L21/3.6)^2) -> 1109.7798 | T21: =($D21*1000)/(M21/3.6)-(0.5*1.167*0.5*0.5*(M21/3.6)^2) -> 927.93172 | AJ21: =O21/245 -> 10.344159 | AK21: =P21/245 -> 7.8375461 | AL21: =Q21/245 -> 6.3213986 | AM21: =R21/245 -> 5.3309844 | AN21: =S21/245 -> 4.5297133 | AO21: =T21/245 -> 3.7874764
A22: 12000 | B22: 121 | C22: =(B22*5252)/A22 -> 52.957667 | D22: =0.7457*B22 -> 90.2297 | H22: =A22*60*(First/'Gearbox 675R'!$L$9)*('Gearbox 675R'!$K$3/'Gearbox 675R'!$L$3)*'Gearbox 675R'!$M$5*PI()/1000*'Gearbox 675R'!$K$4/'Gearbox 675R'!$L$4 -> 113.55806 | I22: =A22*60*('Gearbox 675R'!$K$11/'Gearbox 675R'!$L$11)*('Gearbox 675R'!$K$3/'Gearbox 675R'!$L$3)*'Gearbox 675R'!$M$5*PI()/1000*'Gearbox 675R'!$K$4/'Gearbox 675R'!$L$4 -> 142.7587 | J22: =A22*60*('Gearbox 675R'!$K$13/'Gearbox 675R'!$L$13)*('Gearbox 675R'!$K$3/'Gearbox 675R'!$L$3)*'Gearbox 675R'!$M$5*PI()/1000*'Gearbox 675R'!$K$4/'Gearbox 675R'!$L$4 -> 166.55182 | K22: =A22*60*('Gearbox 675R'!$K$15/'Gearbox 675R'!$L$15)*('Gearbox 675R'!$K$3/'Gearbox 675R'!$L$3)*'Gearbox 675R'!$M$5*PI()/1000*'Gearbox 675R'!$K$4/'Gearbox 675R'!$L$4 -> 185.05758 | L22: =A22*60*('Gearbox 675R'!$K$17/'Gearbox 675R'!$L$17)*('Gearbox 675R'!$K$3/'Gearbox 675R'!$L$3)*'Gearbox 675R'!$M$5*PI()/1000*'Gearbox 675R'!$K$4/'Gearbox 675R'!$L$4 -> 201.78393 | M22: =A22*60*('Gearbox 675R'!$K$19/'Gearbox 675R'!$L$19)*('Gearbox 675R'!$K$3/'Gearbox 675R'!$L$3)*'Gearbox 675R'!$M$5*PI()/1000*'Gearbox 675R'!$K$4/'Gearbox 675R'!$L$4 -> 218.59926 | O22: =($D22*1000)/(H22/3.6)-(0.5*1.167*0.5*0.5*(H22/3.6)^2) -> 2715.2998 | P22: =($D22*1000)/(I22/3.6)-(0.5*1.167*0.5*0.5*(I22/3.6)^2) -> 2045.9629 | Q22: =($D22*1000)/(J22/3.6)-(0.5*1.167*0.5*0.5*(J22/3.6)^2) -> 1638.0755 | R22: =($D22*1000)/(K22/3.6)-(0.5*1.167*0.5*0.5*(K22/3.6)^2) -> 1369.8058 | S22: =($D22*1000)/(L22/3.6)-(0.5*1.167*0.5*0.5*(L22/3.6)^2) -> 1151.4768 | T22: =($D22*1000)/(M22/3.6)-(0.5*1.167*0.5*0.5*(M22/3.6)^2) -> 948.08207 | AJ22: =O22/245 -> 11.082856 | AK22: =P22/245 -> 8.350869 | AL22: =Q22/245 -> 6.6860223 | AM22: =R22/245 -> 5.591044 | AN22: =S22/245 -> 4.6999053 | AO22: =T22/245 -> 3.8697227
A23: 13000 | B23: 127 | C23: =(B23*5252)/A23 -> 51.308 | D23: =0.7457*B23 -> 94.7039 | H23: =A23*60*(First/'Gearbox 675R'!$L$9)*('Gearbox 675R'!$K$3/'Gearbox 675R'!$L$3)*'Gearbox 675R'!$M$5*PI()/1000*'Gearbox 675R'!$K$4/'Gearbox 675R'!$L$4 -> 123.02123 | I23: =A23*60*('Gearbox 675R'!$K$11/'Gearbox 675R'!$L$11)*('Gearbox 675R'!$K$3/'Gearbox 675R'!$L$3)*'Gearbox 675R'!$M$5*PI()/1000*'Gearbox 675R'!$K$4/'Gearbox 675R'!$L$4 -> 154.65526 | J23: =A23*60*('Gearbox 675R'!$K$13/'Gearbox 675R'!$L$13)*('Gearbox 675R'!$K$3/'Gearbox 675R'!$L$3)*'Gearbox 675R'!$M$5*PI()/1000*'Gearbox 675R'!$K$4/'Gearbox 675R'!$L$4 -> 180.43114 | K23: =A23*60*('Gearbox 675R'!$K$15/'Gearbox 675R'!$L$15)*('Gearbox 675R'!$K$3/'Gearbox 675R'!$L$3)*'Gearbox 675R'!$M$5*PI()/1000*'Gearbox 675R'!$K$4/'Gearbox 675R'!$L$4 -> 200.47904 | L23: =A23*60*('Gearbox 675R'!$K$17/'Gearbox 675R'!$L$17)*('Gearbox 675R'!$K$3/'Gearbox 675R'!$L$3)*'Gearbox 675R'!$M$5*PI()/1000*'Gearbox 675R'!$K$4/'Gearbox 675R'!$L$4 -> 218.59926 | M23: =A23*60*('Gearbox 675R'!$K$19/'Gearbox 675R'!$L$19)*('Gearbox 675R'!$K$3/'Gearbox 675R'!$L$3)*'Gearbox 675R'!$M$5*PI()/1000*'Gearbox 675R'!$K$4/'Gearbox 675R'!$L$4 -> 236.81587 | O23: =($D23*1000)/(H23/3.6)-(0.5*1.167*0.5*0.5*(H23/3.6)^2) -> 2600.9956 | P23: =($D23*1000)/(I23/3.6)-(0.5*1.167*0.5*0.5*(I23/3.6)^2) -> 1935.2588 | Q23: =($D23*1000)/(J23/3.6)-(0.5*1.167*0.5*0.5*(J23/3.6)^2) -> 1523.1156 | R23: =($D23*1000)/(K23/3.6)-(0.5*1.167*0.5*0.5*(K23/3.6)^2) -> 1248.2061 | S23: =($D23*1000)/(L23/3.6)-(0.5*1.167*0.5*0.5*(L23/3.6)^2) -> 1021.7654 | T23: =($D23*1000)/(M23/3.6)-(0.5*1.167*0.5*0.5*(M23/3.6)^2) -> 808.41449 | AJ23: =O23/245 -> 10.616308 | AK23: =P23/245 -> 7.8990154 | AL23: =Q23/245 -> 6.2167982 | AM23: =R23/245 -> 5.0947187 | AN23: =S23/245 -> 4.170471 | AO23: =T23/245 -> 3.299651
A24: 14000 | B24: 139 | C24: =(B24*5252)/A24 -> 52.144857 | D24: =0.7457*B24 -> 103.6523 | H24: =A24*60*(First/'Gearbox 675R'!$L$9)*('Gearbox 675R'!$K$3/'Gearbox 675R'!$L$3)*'Gearbox 675R'!$M$5*PI()/1000*'Gearbox 675R'!$K$4/'Gearbox 675R'!$L$4 -> 132.4844 | I24: =A24*60*('Gearbox 675R'!$K$11/'Gearbox 675R'!$L$11)*('Gearbox 675R'!$K$3/'Gearbox 675R'!$L$3)*'Gearbox 675R'!$M$5*PI()/1000*'Gearbox 675R'!$K$4/'Gearbox 675R'!$L$4 -> 166.55182 | J24: =A24*60*('Gearbox 675R'!$K$13/'Gearbox 675R'!$L$13)*('Gearbox 675R'!$K$3/'Gearbox 675R'!$L$3)*'Gearbox 675R'!$M$5*PI()/1000*'Gearbox 675R'!$K$4/'Gearbox 675R'!$L$4 -> 194.31045 | K24: =A24*60*('Gearbox 675R'!$K$15/'Gearbox 675R'!$L$15)*('Gearbox 675R'!$K$3/'Gearbox 675R'!$L$3)*'Gearbox 675R'!$M$5*PI()/1000*'Gearbox 675R'!$K$4/'Gearbox 675R'!$L$4 -> 215.9005 | L24: =A24*60*('Gearbox 675R'!$K$17/'Gearbox 675R'!$L$17)*('Gearbox 675R'!$K$3/'Gearbox 675R'!$L$3)*'Gearbox 675R'!$M$5*PI()/1000*'Gearbox 675R'!$K$4/'Gearbox 675R'!$L$4 -> 235.41459 | M24: =A24*60*('Gearbox 675R'!$K$19/'Gearbox 675R'!$L$19)*('Gearbox 675R'!$K$3/'Gearbox 675R'!$L$3)*'Gearbox 675R'!$M$5*PI()/1000*'Gearbox 675R'!$K$4/'Gearbox 675R'!$L$4 -> 255.03247 | O24: =($D24*1000)/(H24/3.6)-(0.5*1.167*0.5*0.5*(H24/3.6)^2) -> 2618.9821 | P24: =($D24*1000)/(I24/3.6)-(0.5*1.167*0.5*0.5*(I24/3.6)^2) -> 1928.2036 | Q24: =($D24*1000)/(J24/3.6)-(0.5*1.167*0.5*0.5*(J24/3.6)^2) -> 1495.3919 | R24: =($D24*1000)/(K24/3.6)-(0.5*1.167*0.5*0.5*(K24/3.6)^2) -> 1203.6681 | S24: =($D24*1000)/(L24/3.6)-(0.5*1.167*0.5*0.5*(L24/3.6)^2) -> 961.27259 | T24: =($D24*1000)/(M24/3.6)-(0.5*1.167*0.5*0.5*(M24/3.6)^2) -> 731.04631 | AJ24: =O24/245 -> 10.689723 | AK24: =P24/245 -> 7.8702186 | AL24: =Q24/245 -> 6.1036404 | AM24: =R24/245 -> 4.9129312 | AN24: =S24/245 -> 3.9235616 | AO24: =T24/245 -> 2.9838625
A25: 15000 | B25: 142 | C25: =(B25*5252)/A25 -> 49.718933 | D25: =0.7457*B25 -> 105.8894 | H25: =A25*60*(First/'Gearbox 675R'!$L$9)*('Gearbox 675R'!$K$3/'Gearbox 675R'!$L$3)*'Gearbox 675R'!$M$5*PI()/1000*'Gearbox 675R'!$K$4/'Gearbox 675R'!$L$4 -> 141.94757 | I25: =A25*60*('Gearbox 675R'!$K$11/'Gearbox 675R'!$L$11)*('Gearbox 675R'!$K$3/'Gearbox 675R'!$L$3)*'Gearbox 675R'!$M$5*PI()/1000*'Gearbox 675R'!$K$4/'Gearbox 675R'!$L$4 -> 178.44838 | J25: =A25*60*('Gearbox 675R'!$K$13/'Gearbox 675R'!$L$13)*('Gearbox 675R'!$K$3/'Gearbox 675R'!$L$3)*'Gearbox 675R'!$M$5*PI()/1000*'Gearbox 675R'!$K$4/'Gearbox 675R'!$L$4 -> 208.18977 | K25: =A25*60*('Gearbox 675R'!$K$15/'Gearbox 675R'!$L$15)*('Gearbox 675R'!$K$3/'Gearbox 675R'!$L$3)*'Gearbox 675R'!$M$5*PI()/1000*'Gearbox 675R'!$K$4/'Gearbox 675R'!$L$4 -> 231.32197 | L25: =A25*60*('Gearbox 675R'!$K$17/'Gearbox 675R'!$L$17)*('Gearbox 675R'!$K$3/'Gearbox 675R'!$L$3)*'Gearbox 675R'!$M$5*PI()/1000*'Gearbox 675R'!$K$4/'Gearbox 675R'!$L$4 -> 252.22992 | M25: =A25*60*('Gearbox 675R'!$K$19/'Gearbox 675R'!$L$19)*('Gearbox 675R'!$K$3/'Gearbox 675R'!$L$3)*'Gearbox 675R'!$M$5*PI()/1000*'Gearbox 675R'!$K$4/'Gearbox 675R'!$L$4 -> 273.24908 | O25: =($D25*1000)/(H25/3.6)-(0.5*1.167*0.5*0.5*(H25/3.6)^2) -> 2458.7174 | P25: =($D25*1000)/(I25/3.6)-(0.5*1.167*0.5*0.5*(I25/3.6)^2) -> 1777.7751 | Q25: =($D25*1000)/(J25/3.6)-(0.5*1.167*0.5*0.5*(J25/3.6)^2) -> 1343.1712 | R25: =($D25*1000)/(K25/3.6)-(0.5*1.167*0.5*0.5*(K25/3.6)^2) -> 1045.632 | S25: =($D25*1000)/(L25/3.6)-(0.5*1.167*0.5*0.5*(L25/3.6)^2) -> 795.23444 | T25: =($D25*1000)/(M25/3.6)-(0.5*1.167*0.5*0.5*(M25/3.6)^2) -> 554.65693 | AJ25: =O25/245 -> 10.035581 | AK25: =P25/245 -> 7.2562247 | AL25: =Q25/245 -> 5.4823315 | AM25: =R25/245 -> 4.2678857 | AN25: =S25/245 -> 3.2458548 | AO25: =T25/245 -> 2.2639058
AK27: =AVERAGE(AK15:AL25) -> 6.6967851
AO28: =AVERAGE(AK23:AO25) -> 4.9994047 | AQ28: =SQRT(1300/AK27) -> 13.932803
AQ29: =SQRT(600/AO28) -> 10.955103
