Workbook

Sheet DBMS
A2: UWTSD No | B2: GIVEN NAME | C2: FAMILY NAME | D2: PART 1 | E2: PART 2 | F2: GRADE
A3: 1809785 | B3: Callum | C3: Warwick | D3: =Marks!G2 -> 76 | E3: =Marks!G13 -> 64 | F3: =SUM(D3*0.5+E3*0.5) -> 70 | I3: Percentage above 60: | J3: =COUNTIF(F3:F9,">=60")/COUNTIF(F3:F9,">0") -> 0.71428571
A4: 1602834 | B4: Declan | C4: Davies | D4: =Marks!G3 -> 50 | E4: =Marks!G14 -> 55 | F4: =SUM(D4*0.5+E4*0.5) -> 52.5
A5: 1910386 | B5: Luke | C5: Hall | D5: =Marks!G4 -> 78 | E5: =Marks!G15 -> 74 | F5: =SUM(D5*0.5+E5*0.5) -> 76
A6: 1909703 | B6: Nicholas | C6: King | D6: =Marks!G5 -> 64 | E6: =Marks!G16 -> 71 | F6: =SUM(D6*0.5+E6*0.5) -> 67.5
A7: 1909708 | B7: Michael | C7: Rhys-Jones | D7: =Marks!G6 -> 40 | E7: =Marks!G17 -> 46 | F7: =SUM(D7*0.5+E7*0.5) -> 43
A8: 1909705 | B8: Sophie | C8: Slaughter | D8: =Marks!G7 -> 77 | E8: =Marks!G18 -> 64 | F8: =SUM(D8*0.5+E8*0.5) -> 70.5
A9: 1809787 | B9: Teirion | C9: Jones | D9: =Marks!G8 -> 75 | E9: =Marks!G19 -> 65 | F9: =SUM(D9*0.5+E9*0.5) -> 70
C10: MEAN VALUE | D10: =SUMIF(D3:D9,">0")/COUNTIF(D3:D9,">0") -> 65.714286 | E10: =SUMIF(E3:E9,">0")/COUNTIF(E3:E9,">0") -> 62.714286 | F10: =SUMIF(F3:F9,">0")/COUNTIF(F3:F9,">0") -> 64.214286
D11: SD | F11: =STDEV(F3:F9) -> 11.856282
D12: Skewness | F12: =SKEW(F3:F9) -> -1.2385397

Sheet Marks
A1: Name | B1: 1 | C1: 2 | D1: 3 | E1: 4 | F1: 5 | G1: Total
A2: Callum Warwick | B2: 4 | C2: 14 | D2: 20 | E2: 34 | F2: 4 | G2: =SUM(B2:F2) -> 76
A3: Declan Davies | B3: 0 | C3: 11 | D3: 12 | E3: 23 | F3: 4 | G3: =SUM(B3:F3) -> 50
A4: Luke Hall | B4: 5 | C4: 16 | D4: 19 | E4: 34 | F4: 4 | G4: =SUM(B4:F4) -> 78
A5: Nicholas King | B5: 3 | C5: 15 | D5: 19 | E5: 23 | F5: 4 | G5: =SUM(B5:F5) -> 64
A6: Michael Rhys-Jones | B6: 2 | C6: 8 | D6: 12 | E6: 16 | F6: 2 | G6: =SUM(B6:F6) -> 40
A7: Sophie Slaughter | B7: 4 | C7: 16 | D7: 19 | E7: 34 | F7: 4 | G7: =SUM(B7:F7) -> 77
A8: Teirion Jones | B8: 4 | C8: 18 | D8: 15 | E8: 34 | F8: 4 | G8: =SUM(B8:F8) -> 75
A11: Assignment 2 | B11: 1 | C11: 2 | D11: 3 | E11: 4 | F11: 5 | G11: Total
A13: Callum Warwick | B13: 10 | C13: 20 | D13: 20 | E13: 10 | F13: 4 | G13: =SUM(B13:F13) -> 64
A14: Declan Davies | B14: 5 | C14: 16 | D14: 22 | E14: 8 | F14: 4 | G14: =SUM(B14:F14) -> 55
A15: Luke Hall | B15: 13 | C15: 25 | D15: 21 | E15: 10 | F15: 5 | G15: =SUM(B15:F15) -> 74
A16: Nicholas King | B16: 12 | C16: 23 | D16: 20 | E16: 12 | F16: 4 | G16: =SUM(B16:F16) -> 71
A17: Michael Rhys-Jones | B17: 7 | C17: 14 | D17: 16 | E17: 6 | F17: 3 | G17: =SUM(B17:F17) -> 46
A18: Sophie Slaughter | B18: 9 | C18: 19 | D18: 20 | E18: 12 | F18: 4 | G18: =SUM(B18:F18) -> 64
A19: Teirion Jones | B19: 13 | C19: 17 | D19: 18 | E19: 13 | F19: 4 | G19: =SUM(B19:F19) -> 65
