Workbook

Sheet Overall Summary
B4: Test | C4: Sweat Loss | D4: HR Drift | E4: VO2 Drift | F4: Temp increase | G4: Temp @ 30min
B5: Cold | C5: 0.4 | D5: 7.7 | E5: 2.7 | F5: 0.6 | G5: 36.66
B6: Ambient | C6: 0.4 | D6: 12.3 | E6: 2.3 | F6: 1.2 | G6: 37.5
B7: Hot | C7: 0.6 | D7: 18.3 | E7: 6.3 | F7: 1.5 | G7: 38.08
B8: Hot Precool
B11: Test | C11: Sweat Loss | D11: HR Drift | E11: Mean HR | F11: Mean O2 sats | G11: Mean Watts
B12: Normoxic | C12: 0.3 | D12: 7.8 | E12: 138.4 | F12: 95.9 | G12: 153.7
B13: Hypoxic | C13: 0.45 | D13: 8.9 | E13: 149 | F13: 85.6 | G13: 151.7

Sheet Ambient test
A1: Participant | B1: Time (mins) | C1: Temp (DegC) | D1: HR (bpm) | E1: Power (W) | F1: VO2 (ml/kg/min) | G1: RPE | H1: Weight pre (kg) | I1: Weight post (kg) | J1: Sweat loss (kg) | K1: HR Drift (bpm) | L1: VO2 Drift | M1: Temp diff (DegC) | N1: VO2 Max | O1: % of VO2 Max | P1: Target W | Q1: Actual W
A2: Menna | B2: 0 | C2: 36.4 | D2: 66 | H2: 67 | I2: 66.7 | J2: ='Ambient test'!H2-'Ambient test'!I2 -> 0.3 | K2: ='Ambient test'!D5-'Ambient test'!D3 -> 4 | L2: ='Ambient test'!F5-'Ambient test'!F3 -> -0.4
B3: 10 | C3: 37.3 | D3: 150 | E3: 128 | F3: 28.8
B4: 20 | C4: 37.4 | D4: 149 | E4: 127 | F4: 25.5
B5: 30 | C5: 37.3 | D5: 154 | E5: 128 | F5: 28.4 | M5: ='Ambient test'!C5-'Ambient test'!C2 -> 0.9 | N5: 42.6 | O5: ='Ambient test'!F5/N5*100 -> 66.666667 | Q5: =SUM('Ambient test'!E3:E5)/3 -> 127.66667
A6: Amy | B6: 0 | C6: 36.5 | H6: 71.1 | I6: 71 | J6: ='Ambient test'!H6-'Ambient test'!I6 -> 0.1 | K6: ='Ambient test'!D9-'Ambient test'!D7 -> 6 | L6: ='Ambient test'!F9-'Ambient test'!F7 -> 0.12
B7: 10 | C7: 36.6 | D7: 140 | E7: 129 | F7: 4.01
B8: 20 | C8: 37.3 | D8: 141 | E8: 128 | F8: 3.9
B9: 30 | C9: 37.5 | D9: 146 | E9: 127 | F9: 4.13 | M9: ='Ambient test'!C9-'Ambient test'!C6 -> 1 | N9: 45.6 | O9: ='Ambient test'!F9/N9*100 -> 9.0570175 | Q9: =SUM('Ambient test'!E7:E9)/3 -> 128
A10: Guto | B10: 0 | C10: 36.2 | H10: 74.4 | I10: 73.8 | J10: =H10-I10 -> 0.6 | K10: =D13-D11 -> 14 | L10: =F13-F11 -> 4.1
B11: 10 | C11: 37.4 | D11: 149 | E11: 251 | F11: 41.4 | G11: 10
B12: 20 | C12: 37.9 | D12: 159 | E12: 251 | F12: 45.9 | G12: 12
B13: 30 | C13: 37.9 | D13: 163 | E13: 251 | F13: 45.5 | G13: 12 | M13: =C13-C10 -> 1.7 | N13: 71.1 | O13: =F13/N13*100 -> 63.994374 | Q13: =SUM(E11:E13)/3 -> 251
A14: Jay | B14: 0 | C14: 35.2 | H14: 72.4 | I14: 71.9 | J14: =H14-I14 -> 0.5 | K14: =D17-D15 -> 11 | L14: =F17-F15 -> 2.6
B15: 10 | C15: 36.7 | D15: 142 | E15: 167 | F15: 33.9
B16: 20 | C16: 37.2 | D16: 149 | E16: 167 | F16: 35.6
B17: 30 | C17: 37.6 | D17: 153 | E17: 168 | F17: 36.5 | M17: =C17-C14 -> 2.4 | N17: 54.3 | O17: =F17/N17*100 -> 67.219153 | Q17: =SUM(E15:E17)/3 -> 167.33333
A18: Ieuan | B18: 0 | C18: 35.1 | H18: 93.4 | I18: 93 | J18: =H18-I18 -> 0.4 | K18: =D21-D19 -> 8 | L18: =F21-F19 -> 0.5
B19: 10 | C19: 36 | D19: 161 | E19: 173 | F19: 25
B20: 20 | C20: 36.6 | D20: 165 | E20: 175 | F20: 28.2
B21: 30 | C21: 36.5 | D21: 169 | E21: 175 | F21: 25.5 | M21: =C21-C18 -> 1.4 | N21: 46.9 | O21: =F21/N21*100 -> 54.371002 | Q21: =SUM(E19:E21)/3 -> 174.33333
A22: A | B22: 0 | C22: 36.6 | D22: 0 | E22: 0 | F22: 0 | H22: 95.1 | I22: 94.9 | J22: =H22-I22 -> 0.2 | K22: =D25-D23 -> 19 | L22: =F25-F23 -> 3.4461248
B23: 10 | C23: 37.2 | D23: 167 | E23: 207 | F23: 36.586032
B24: 20 | C24: 37.6 | D24: 173 | E24: 202 | F24: 36.781928
B25: 30 | C25: 37.4 | D25: 186 | E25: 212 | F25: 40.032156 | M25: =C25-C22 -> 0.8 | N25: 53.5 | O25: =F25/N25*100 -> 74.826461 | P25: 213 | Q25: =SUM(E23:E25)/3 -> 207
A26: B | B26: 0 | C26: 36.7 | D26: 53 | E26: 0 | F26: 0 | H26: 78.1 | I26: 77.7 | J26: =H26-I26 -> 0.4 | K26: =D29-D27 -> 9 | L26: =F29-F27 -> 5.3700666
B27: 10 | C27: 37.5 | D27: 145 | E27: 240 | F27: 35.837019
B28: 20 | C28: 37.6 | D28: 149 | E28: 239 | F28: 40.874413
B29: 30 | C29: 38.8 | D29: 154 | E29: 239 | F29: 41.207086 | M29: =C29-C26 -> 2.1 | N29: 61.7 | O29: =F29/N29*100 -> 66.786201 | P29: 240 | Q29: =SUM(E27:E29)/3 -> 239.33333
A30: C | B30: 0 | C30: 36.4 | D30: 50 | E30: 0 | F30: 0 | H30: 88.3 | I30: 87.8 | J30: =H30-I30 -> 0.5 | K30: =D33-D31 -> 11 | L30: =F33-F31 -> 1.6745845
B31: 10 | C31: 37.6 | D31: 143 | E31: 214 | F31: 36.328758
B32: 20 | C32: 38.5 | D32: 142 | E32: 212 | F32: 36.164845
B33: 30 | C33: 38.7 | D33: 154 | E33: 212 | F33: 38.003343 | M33: =C33-C30 -> 2.3 | N33: 49 | O33: =F33/N33*100 -> 77.557843 | P33: 212 | Q33: =SUM(E31:E33)/3 -> 212.66667
A34: D | B34: 0 | C34: 36.9 | D34: 0 | E34: 0 | F34: 0 | H34: 58.7 | I34: 58.5 | J34: =H34-I34 -> 0.2 | K34: =D37-D35 -> 8 | L34: =F37-F35 -> 1.7333755
B35: 10 | C35: 37.6 | D35: 169 | E35: 117 | F35: 31.719668
B36: 20 | C36: 37.5 | D36: 173 | E36: 116 | F36: 35.646285
B37: 30 | C37: 37.5 | D37: 177 | E37: 117 | F37: 33.453043 | M37: =C37-C34 -> 0.6 | N37: 50 | O37: =F37/N37*100 -> 66.906086 | P37: 115 | Q37: =SUM(E35:E37)/3 -> 116.66667
A38: E | B38: 0 | C38: 35.9 | D38: 0 | E38: 0 | F38: 0 | H38: 76.7 | I38: 76.5 | J38: =H38-I38 -> 0.2 | K38: =D41-D39 -> 16 | L38: =F41-F39 -> 4.4343838
B39: 10 | C39: 36.9 | D39: 146 | E39: 131 | F39: 25.792655
B40: 20 | C40: 36.4 | D40: 156 | E40: 132 | F40: 30.616287
B41: 30 | C41: 35.9 | D41: 162 | E41: 133 | F41: 30.227039 | M41: =C41-C38 -> 0 | N41: 42.9 | O41: =F41/N41*100 -> 70.459299 | P41: 131 | Q41: =SUM(E39:E41)/3 -> 132
A42: F | B42: 0 | C42: 36.7 | D42: 0 | E42: 0 | F42: 0 | H42: 62.2 | I42: 61.9 | J42: =H42-I42 -> 0.3 | K42: =D45-D43 -> 22 | L42: =F45-F43 -> 3.9263999
B43: 10 | C43: 36.1 | D43: 152 | E43: 141 | F43: 37.235615
B44: 20 | C44: 38 | D44: 169 | E44: 141 | F44: 40.202379
B45: 30 | C45: 36.7 | D45: 174 | E45: 140 | F45: 41.162015 | M45: =C45-C42 -> 0 | N45: 61 | O45: =F45/N45*100 -> 67.478713 | P45: 140 | Q45: =SUM(E43:E45)/3 -> 140.66667
A46: G | B46: 0 | C46: 36.4 | D46: 0 | E46: 0 | F46: 0 | H46: 101.1 | I46: 100 | J46: =H46-I46 -> 1.1 | K46: =D49-D47 -> 16 | L46: =F49-F47 -> 1.6
B47: 10 | C47: 37.8 | D47: 142 | E47: 253 | F47: 37.5
B48: 20 | C48: 37.9 | D48: 152 | E48: 253 | F48: 34.9
B49: 30 | C49: 38 | D49: 158 | E49: 254 | F49: 39.1 | M49: =C49-C46 -> 1.6 | N49: 57 | O49: =F49/N49*100 -> 68.596491 | P49: 255 | Q49: =SUM(E47:E49)/3 -> 253.33333
A50: H | B50: 0 | C50: 36.5 | D50: 0 | E50: 0 | F50: 0 | H50: 88 | I50: 87.4 | J50: =H50-I50 -> 0.6 | K50: =D53-D51 -> 16 | L50: =F53-F51 -> 0.69214875
B51: 10 | C51: 36.4 | D51: 136 | E51: 225 | F51: 37.611791
B52: 20 | C52: 37.8 | D52: 144 | E52: 225 | F52: 37.900659
B53: 30 | C53: 37.8 | D53: 152 | E53: 225 | F53: 38.30394 | M53: =C53-C50 -> 1.3 | N53: 57 | O53: =F53/N53*100 -> 67.199894 | P53: 225 | Q53: =SUM(E51:E53)/3 -> 225
B56: Mean End Temp | C56: =(C5+C9+C13+C17+C21+C25+C29+C33+C37+C41+C45+C49+C53)/13 -> 37.507692 | I56: Mean | J56: =AVERAGE(J2:J55) -> 0.41538462 | K56: =AVERAGE(K2:K55) -> 12.307692 | L56: =AVERAGE(L2:L55) -> 2.2920834 | M56: =AVERAGE(M2:M55) -> 1.2384615 | N56: =AVERAGE(N2:N55) -> 53.276923 | O56: =AVERAGE(O2:O55) -> 63.163015 | P56: =AVERAGE(P2:P55) -> 191.375 | Q56: =AVERAGE(Q2:Q55) -> 182.69231

Sheet Hot Test
A1: Participant | B1: Time (mins) | C1: Temp (DegC) | D1: HR (bpm) | E1: Power (W) | F1: VO2 (ml/kg/min) | G1: RPE | H1: Weight pre (kg) | I1: Weight post (kg) | J1: Sweat loss (kg) | K1: HR Drift (bpm) | L1: VO2 Drift | M1: Temp diff (DegC) | N1: VO2 Max | O1: % of VO2 Max | P1: Target W | Q1: Actual W
A2: Menna | B2: 0 | C2: 36.3 | D2: 97 | H2: 67.9 | I2: 66.7 | J2: =H2-I2 -> 1.2 | K2: =D5-D3 -> 8 | L2: =F5-F3 -> -3.5890905 | M2: =C5-C2 -> 1.6 | N2: 42.6 | O2: =F5/N2*100 -> 64.343829 | Q2: =SUM(E3:E5)/3 -> 127.33333
B3: 10 | C3: 37.1 | D3: 151 | E3: 128 | F3: 30.999562 | G3: 12
B4: 20 | C4: 37.7 | D4: 161 | E4: 127 | F4: 31.380545 | G4: 14
B5: 30 | C5: 37.9 | D5: 159 | E5: 127 | F5: 27.410471 | G5: 15
A6: Amy | B6: 0 | C6: 36.8 | H6: 70.7 | I6: 70.2 | J6: =H6-I6 -> 0.5 | K6: =D9-D7 -> 8 | L6: =F9-F7 -> 1.8577351 | M6: =C9-C6 -> 0.5 | N6: 45.6 | O6: =F9/N6*100 -> 63.472283 | Q6: =SUM(E7:E9)/3 -> 126.66667
B7: 10 | C7: 36.7 | D7: 152 | E7: 127 | F7: 27.085626 | G7: 10
B8: 20 | C8: 36.9 | D8: 152 | E8: 126 | F8: 30.022262 | G8: 13
B9: 30 | C9: 37.3 | D9: 160 | E9: 127 | F9: 28.943361 | G9: 14
A10: Guto | B10: 0 | C10: 36.4 | H10: 74 | I10: 73.3 | J10: =H10-I10 -> 0.7 | K10: =D13-D11 -> 18 | L10: =F13-F11 -> 3.7 | M10: =C13-C10 -> 1.9 | N10: 71.1 | O10: =F13/N10*100 -> 72.855134 | Q10: =SUM(E11:E13)/3 -> 252
B11: 10 | C11: 37.6 | D11: 164 | E11: 252 | F11: 48.1 | G11: 11
B12: 20 | C12: 38.1 | D12: 174 | E12: 252 | F12: 49.8 | G12: 13
B13: 30 | C13: 38.3 | D13: 182 | E13: 252 | F13: 51.8 | G13: 15
A14: Jay | B14: 0 | C14: 36 | H14: 73.1 | I14: 72.8 | J14: =H14-I14 -> 0.3 | K14: =D17-D15 -> 18 | L14: =F17-F15 -> 10.1 | M14: =C17-C14 -> 1.8 | N14: 54.3 | O14: =F17/N14*100 -> 75.506446 | Q14: =SUM(E15:E17)/3 -> 168
B15: 10 | C15: 36.1 | D15: 140 | E15: 168 | F15: 30.9 | G15: 10
B16: 20 | C16: 37.2 | D16: 150 | E16: 168 | F16: 36.6 | G16: 12
B17: 30 | C17: 37.8 | D17: 158 | E17: 168 | F17: 41 | G17: 14
A18: Ieuan | B18: 0 | C18: 36.1 | H18: 93.2 | I18: 92.9 | J18: =H18-I18 -> 0.3 | K18: =D21-D19 -> 19 | L18: =F21-F19 -> 9.2 | M18: =C21-C18 -> 0.7 | N18: 46.9 | O18: =F21/N18*100 -> 81.449893 | Q18: =SUM(E19:E21)/3 -> 169.33333
B19: 10 | C19: 36.5 | D19: 169 | E19: 167 | F19: 29
B20: 20 | C20: 36.6 | D20: 175 | E20: 167 | F20: 32.9
B21: 30 | C21: 36.8 | D21: 188 | E21: 174 | F21: 38.2
A22: A | B22: 0 | C22: 37.1 | H22: 94.7 | I22: 93.8 | J22: =H22-I22 -> 0.9 | K22: =D25-D23 -> 22 | L22: =F25-F23 -> 9.1 | M22: =C25-C22 -> 0.7 | N22: 53.5 | O22: =F25/N22*100 -> 84.299065 | P22: 213 | Q22: =SUM(E23:E25)/3 -> 211.33333
B23: 10 | C23: 37 | D23: 150 | E23: 212 | F23: 36
B24: 20 | C24: 37.7 | D24: 165 | E24: 213 | F24: 38.8
B25: 30 | C25: 37.8 | D25: 172 | E25: 209 | F25: 45.1
A26: B | B26: 0 | C26: 37.2 | D26: 52 | E26: 0 | H26: 79.2 | I26: 78.8 | J26: =H26-I26 -> 0.4 | K26: =D29-D27 -> 15 | L26: =F29-F27 -> 6.7 | M26: =C29-C26 -> 1.6 | N26: 61.7 | O26: =F29/N26*100 -> 85.41329 | P26: 240 | Q26: =SUM(E27:E29)/3 -> 239.33333
B27: 10 | C27: 37.1 | D27: 145 | E27: 239 | F27: 46
B28: 20 | C28: 37.9 | D28: 154 | E28: 239 | F28: 50
B29: 30 | C29: 38.8 | D29: 160 | E29: 240 | F29: 52.7
A30: C | B30: 0 | C30: 37.5 | H30: 89.9 | I30: 89.4 | J30: =H30-I30 -> 0.5 | K30: =D33-D31 -> 20 | L30: =F33-F31 -> 8.0988985 | M30: =C33-C30 -> 1 | N30: 49 | O30: =F33/N30*100 -> 72.50959 | P30: 212 | Q30: =SUM(E31:E33)/3 -> 212
B31: 10 | C31: 37 | D31: 132 | E31: 212 | F31: 27.430801
B32: 20 | C32: 37.7 | D32: 147 | E32: 212 | F32: 35.749518
B33: 30 | C33: 38.5 | D33: 152 | E33: 212 | F33: 35.529699
A34: D | B34: 0 | C34: 36 | H34: 57.9 | I34: 57.7 | J34: =H34-I34 -> 0.2 | K34: =D37-D35 -> 17 | L34: =F37-F35 -> -2.2502441 | M34: =C37-C34 -> 1.7 | N34: 50 | O34: =F37/N34*100 -> 71.995946 | P34: 115 | Q34: =SUM(E35:E37)/3 -> 117.66667
B35: 10 | C35: 37 | D35: 164 | E35: 118 | F35: 38.248217
B36: 20 | C36: 37.8 | D36: 185 | E36: 117 | F36: 38.718098
B37: 30 | C37: 37.7 | D37: 181 | E37: 118 | F37: 35.997973
A38: E | B38: 0 | C38: 36.3 | H38: 76.2 | I38: 74.7 | J38: =H38-I38 -> 1.5 | K38: =D41-D39 -> 20 | L38: =F41-F39 -> 8.8 | M38: =C41-C38 -> 1.4 | N38: 42.9 | O38: =F41/N38*100 -> 96.270396 | P38: 131 | Q38: =SUM(E39:E41)/3 -> 130.33333
B39: 10 | C39: 36.8 | D39: 153 | E39: 131 | F39: 32.5
B40: 20 | C40: 37.2 | D40: 170 | E40: 130 | F40: 38.7
B41: 30 | C41: 37.7 | D41: 173 | E41: 130 | F41: 41.3
A42: F | B42: 0 | C42: 36.2 | H42: 63 | I42: 62.8 | J42: =H42-I42 -> 0.2 | K42: =D45-D43 -> 36 | L42: =F45-F43 -> 7.697818 | M42: =C45-C42 -> 2 | N42: 61 | O42: =F45/N42*100 -> 87.970149 | P42: 140 | Q42: =SUM(E43:E45)/3 -> 140.66667
B43: 10 | C43: 37.3 | D43: 149 | E43: 140 | F43: 45.963973
B44: 20 | C44: 38.4 | D44: 174 | E44: 141 | F44: 49.832161
B45: 30 | C45: 38.2 | D45: 185 | E45: 141 | F45: 53.661791
A46: G | B46: 0 | C46: 37.4 | H46: 102.7 | I46: 102.1 | J46: =H46-I46 -> 0.6 | K46: =D49-D47 -> 16 | L46: =F49-F47 -> 5.9674094 | M46: =C49-C46 -> 2.1 | N46: 57 | O46: =F49/N46*100 -> 85.835765 | P46: 255 | Q46: =SUM(E47:E49)/3 -> 253.33333
B47: 10 | C47: 38.4 | D47: 145 | E47: 255 | F47: 42.958976
B48: 20 | C48: 39.2 | D48: 159 | E48: 254 | F48: 48.971357
B49: 30 | C49: 39.5 | D49: 161 | E49: 251 | F49: 48.926386
A50: H | B50: 0 | C50: 35.7 | H50: 88 | I50: 87.6 | J50: =H50-I50 -> 0.4 | K50: =D53-D51 -> 21 | L50: =F53-F51 -> 6.8346053 | M50: =C53-C50 -> 3 | N50: 57 | O50: =F53/N50*100 -> 80.142125 | P50: 225 | Q50: =SUM(E51:E53)/3 -> 225
B51: 10 | C51: 37.6 | D51: 146 | E51: 225 | F51: 38.846406
B52: 20 | C52: 37.4 | D52: 160 | E52: 225 | F52: 44.643661
B53: 30 | C53: 38.7 | D53: 167 | E53: 225 | F53: 45.681011
B56: Mean End Temp | C56: =(C5+C9+C13+C17+C21+C25+C29+C33+C37+C41+C45+C49+C53)/13 -> 38.076923 | I56: Mean | J56: =AVERAGE(J2:J55) -> 0.59230769 | K56: =AVERAGE(K2:K55) -> 18.307692 | L56: =AVERAGE(L2:L55) -> 5.555164 | M56: =AVERAGE(M2:M55) -> 1.5384615 | N56: =AVERAGE(N2:N55) -> 53.276923 | O56: =AVERAGE(O2:O55) -> 78.620301 | P56: =AVERAGE(P2:P55) -> 191.375 | Q56: =AVERAGE(Q2:Q55) -> 182.53846

Sheet Cold test
A1: Participant | B1: Time (mins) | C1: Temp (DegC) | D1: HR (bpm) | E1: Power (W) | F1: VO2 (ml/kg/min) | G1: RPE | H1: Weight pre (kg) | I1: Weight post (kg) | J1: Sweat loss (kg) | K1: HR Drift (bpm) | L1: VO2 Drift | M1: Temp diff (DegC) | N1: VO2 Max | O1: % of VO2 Max | P1: Target W | Q1: Actual W | R1: height (CM) | S1: gender
A2: Menna | B2: 0 | C2: 36.1 | D2: 86 | H2: 67 | I2: 66.8 | J2: =H2-I2 -> 0.2 | K2: =D5-D3 -> 3 | L2: =F5-F3 -> 0.9 | M2: =C5-C2 -> 1.3 | N2: 42.6 | O2: =F5/N2*100 -> 62.206573 | Q2: =SUM(E3:E5)/3 -> 128.66667 | R2: 167 | S2: F
B3: 10 | C3: 36.9 | D3: 147 | E3: 129 | F3: 25.6 | G3: 9
B4: 20 | C4: 36.7 | D4: 150 | E4: 129 | F4: 24.6 | G4: 13
B5: 30 | C5: 37.4 | D5: 150 | E5: 128 | F5: 26.5 | G5: 13
A6: Amy | B6: 0 | C6: 36 | H6: 71.1 | I6: 70.9 | J6: =H6-I6 -> 0.2 | K6: =D9-D7 -> 0 | L6: =F9-F7 -> 1.7 | M6: =C9-C6 -> -0.1 | N6: 45.6 | O6: =F9/N6*100 -> 59.649123 | Q6: =SUM(E7:E9)/3 -> 127.66667 | R6: 165 | S6: F
B7: 10 | C7: 36.3 | D7: 135 | E7: 128 | F7: 25.5 | G7: 10
B8: 20 | C8: 36.1 | D8: 135 | E8: 127 | F8: 25 | G8: 11
B9: 30 | C9: 35.9 | D9: 135 | E9: 128 | F9: 27.2 | G9: 12
A10: Guto | B10: 0 | C10: 35.8 | H10: 73.2 | I10: 72.7 | J10: =H10-I10 -> 0.5 | K10: =D13-D11 -> 11 | L10: =F13-F11 -> 8.9 | M10: =C13-C10 -> 0.6 | N10: 71.1 | O10: =F13/N10*100 -> 61.462729 | Q10: =SUM(E11:E13)/3 -> 250.66667 | R10: 182 | S10: M
B11: 10 | C11: 36.8 | D11: 140 | E11: 250 | F11: 34.8 | G11: 8
B12: 20 | C12: 36.6 | D12: 148 | E12: 250 | F12: 39.9 | G12: 11
B13: 30 | C13: 36.4 | D13: 151 | E13: 252 | F13: 43.7 | G13: 12
A14: Jay | B14: 0 | C14: 36 | H14: 73.1 | I14: 72.8 | J14: =H14-I14 -> 0.3 | K14: =D17-D15 -> 18 | L14: =F17-F15 -> -0.7 | M14: =C17-C14 -> 1.8 | N14: 54.3 | O14: =F17/N14*100 -> 75.690608 | Q14: =SUM(E15:E17)/3 -> 168 | R14: 186 | S14: M
B15: 10 | C15: 36.1 | D15: 140 | E15: 168 | F15: 41.8 | G15: 10
B16: 20 | C16: 37.2 | D16: 150 | E16: 168 | F16: 36.7 | G16: 12
B17: 30 | C17: 37.8 | D17: 158 | E17: 168 | F17: 41.1 | G17: 14
A18: Ieuan | B18: 0 | C18: 34.5 | H18: 93.5 | I18: 93 | J18: =H18-I18 -> 0.5 | K18: =D21-D19 -> 3 | L18: =F21-F19 -> 5.3 | M18: =C21-C18 -> 0.1 | N18: 46.9 | O18: =F21/N18*100 -> 62.260128 | Q18: =SUM(E19:E21)/3 -> 171.33333 | R18: 182 | S18: M
B19: 10 | C19: 34.9 | D19: 147 | E19: 172 | F19: 23.9 | G19: 8
B20: 20 | C20: 34.5 | D20: 146 | E20: 172 | F20: 29.1 | G20: 12
B21: 30 | C21: 34.6 | D21: 150 | E21: 170 | F21: 29.2 | G21: 15
A22: A | B22: 0 | C22: 36.1 | D22: 0 | E22: 0 | F22: 0 | H22: 93.5 | I22: 93 | J22: =H22-I22 -> 0.5 | K22: =D25-D23 -> 17 | L22: =F25-F23 -> 5.7815932 | M22: =C25-C22 -> 0.4 | N22: 53.5 | O22: =F25/N22*100 -> 79.241055 | P22: 213 | Q22: =SUM(E23:E25)/3 -> 212.33333 | R22: 176 | S22: M
B23: 10 | C23: 36.2 | D23: 155 | E23: 211 | F23: 36.612372
B24: 20 | C24: 35.7 | D24: 167 | E24: 213 | F24: 41.309741
B25: 30 | C25: 36.5 | D25: 172 | E25: 213 | F25: 42.393965
A26: B | B26: 0 | C26: 36.1 | D26: 52 | E26: 0 | H26: 78.2 | I26: 78 | J26: =H26-I26 -> 0.2 | K26: =D29-D27 -> 7 | L26: =F29-F27 -> 0.4 | M26: =C29-C26 -> 1 | N26: 61.7 | O26: =F29/N26*100 -> 67.909238 | P26: 240 | Q26: =SUM(E27:E29)/3 -> 240 | R26: 175 | S26: M
B27: 10 | C27: 37.1 | D27: 140 | E27: 240 | F27: 41.5
B28: 20 | C28: 35.8 | D28: 146 | E28: 240 | F28: 41.5
B29: 30 | C29: 37.1 | D29: 147 | E29: 240 | F29: 41.9
A30: C | B30: 0 | C30: 36 | D30: 49 | E30: 0 | F30: 0 | H30: 88.3 | I30: 87.8 | J30: =H30-I30 -> 0.5 | K30: =D33-D31 -> 7 | L30: =F33-F31 -> -1.3261801 | M30: =C33-C30 -> 2.3 | N30: 49 | O30: =F33/N30*100 -> 80.567197 | P30: 212 | Q30: =SUM(E31:E33)/3 -> 212 | R30: 174 | S30: M
B31: 10 | C31: 35.7 | D31: 145 | E31: 212 | F31: 40.804107
B32: 20 | C32: 37.7 | D32: 149 | E32: 212 | F32: 38.217977
B33: 30 | C33: 38.3 | D33: 152 | E33: 212 | F33: 39.477927
A34: D | B34: 0 | C34: 37.1 | D34: 0 | E34: 0 | F34: 0 | H34: 58.4 | I34: 58.2 | J34: =H34-I34 -> 0.2 | K34: =D37-D35 -> 4 | L34: =F37-F35 -> 2.357707 | M34: =C37-C34 -> -1.8 | N34: 50 | O34: =F37/N34*100 -> 70.421426 | P34: 115 | Q34: =SUM(E35:E37)/3 -> 117.33333 | R34: 160 | S34: F
B35: 10 | C35: 36.5 | D35: 168 | E35: 118 | F35: 32.853006
B36: 20 | C36: 35.2 | D36: 167 | E36: 117 | F36: 35.081027
B37: 30 | C37: 35.3 | D37: 172 | E37: 117 | F37: 35.210713
A38: E | B38: 0 | C38: 36.2 | D38: 0 | E38: 0 | F38: 0 | H38: 77.3 | I38: 77 | J38: =H38-I38 -> 0.3 | K38: =D41-D39 -> 8 | L38: =F41-F39 -> 3.6670622 | M38: =C41-C38 -> -1.3 | N38: 42.9 | O38: =F41/N38*100 -> 74.357378 | P38: 131 | Q38: =SUM(E39:E41)/3 -> 132.33333 | R38: 185 | S38: M
B39: 10 | C39: 36.3 | D39: 136 | E39: 131 | F39: 28.232253
B40: 20 | C40: 35.2 | D40: 140 | E40: 133 | F40: 32.69393
B41: 30 | C41: 34.9 | D41: 144 | E41: 133 | F41: 31.899315
A42: F | B42: 0 | C42: 35.5 | D42: 0 | E42: 0 | F42: 0 | H42: 62.9 | I42: 62.7 | J42: =H42-I42 -> 0.2 | K42: =D45-D43 -> 10 | L42: =F45-F43 -> 5.4308413 | M42: =C45-C42 -> 2.6 | N42: 61 | O42: =F45/N42*100 -> 69.946512 | P42: 140 | Q42: =SUM(E43:E45)/3 -> 140 | R42: 171 | S42: M
B43: 10 | C43: 36.1 | D43: 142 | E43: 140 | F43: 37.236531
B44: 20 | C44: 36.1 | D44: 156 | E44: 140 | F44: 42.808075
B45: 30 | C45: 38.1 | D45: 152 | E45: 140 | F45: 42.667372
A46: G | B46: 0 | C46: 36.1 | D46: 0 | E46: 0 | F46: 0 | H46: 102 | I46: 101.5 | J46: =H46-I46 -> 0.5 | K46: =D49-D47 -> 5 | L46: =F49-F47 -> 1.5572637 | M46: =C49-C46 -> 0.6 | N46: 57 | O46: =F49/N46*100 -> 69.183667 | P46: 255 | Q46: =SUM(E47:E49)/3 -> 255 | R46: 200 | S46: M
B47: 10 | C47: 35.9 | D47: 136 | E47: 255 | F47: 37.877427
B48: 20 | C48: 36.6 | D48: 142 | E48: 255 | F48: 40.187458
B49: 30 | C49: 36.7 | D49: 141 | E49: 255 | F49: 39.43469
A50: H | B50: 0 | C50: 36.7 | D50: 0 | E50: 0 | F50: 0 | H50: 87.9 | I50: 87.4 | J50: =H50-I50 -> 0.5 | K50: =D53-D51 -> 7 | L50: =F53-F51 -> 0.78893052 | M50: =C53-C50 -> 0.9 | N50: 57 | O50: =F53/N50*100 -> 71.851896 | P50: 225 | Q50: =SUM(E51:E53)/3 -> 225 | R50: 180 | S50: M
B51: 10 | C51: 37.7 | D51: 141 | E51: 225 | F51: 40.16665
B52: 20 | C52: 38.5 | D52: 145 | E52: 225 | F52: 39.690059
B53: 30 | C53: 37.6 | D53: 148 | E53: 225 | F53: 40.955581
B56: Mean End Temp | C56: =(C5+C9+C13+C17+C21+C25+C29+C33+C37+C41+C45+C49+C53)/13 -> 36.661538 | I56: Mean | J56: =AVERAGE(J2:J55) -> 0.35384615 | K56: =AVERAGE(K2:K55) -> 7.6923077 | L56: =AVERAGE(L2:L55) -> 2.6736321 | M56: =AVERAGE(M2:M55) -> 0.64615385 | N56: =AVERAGE(N2:N55) -> 53.276923 | O56: =AVERAGE(O2:O55) -> 69.595964 | P56: =AVERAGE(P2:P55) -> 191.375 | Q56: =AVERAGE(Q2:Q55) -> 183.10256

Sheet Hot with external cooling
A1: Participant | B1: Time (mins) | C1: Temp (DegC) | D1: HR (bpm) | E1: Power (W) | F1: VO2 (ml/kg/min) | G1: RPE | H1: Weight pre (kg) | I1: Weight post (kg) | J1: Sweat loss (kg) | K1: HR Drift (bpm) | L1: VO2 Drift | M1: Temp diff (DegC) | N1: VO2 Max | O1: % of VO2 Max | P1: Target W | Q1: Actual W | S1: Force Paltorm Results | T1: Max Power | U1: Max Force | V1: Average power | W1: Average Force
A2: Menna | B2: 0 | C2: 35.2 | D2: 81 | H2: 66.9 | I2: 66.7 | J2: ='Ambient test'!H2-'Ambient test'!I2 -> 0.3 | K2: ='Ambient test'!D5-'Ambient test'!D3 -> 4 | L2: ='Ambient test'!F5-'Ambient test'!F3 -> -0.4 | M2: ='Ambient test'!C5-'Ambient test'!C2 -> 0.9 | N2: 42.6 | O2: ='Ambient test'!F5/N2*100 -> 66.666667 | P2: 212 | Q2: =SUM('Ambient test'!E3:E5)/3 -> 127.66667 | S2: Pre-cooling
B3: 10 | C3: 37 | D3: 151 | E3: 122 | F3: 29.4 | S3: Post-cooling
B4: 20 | C4: 35.5 | D4: 161 | E4: 128 | F4: 29.9
B5: 30 | C5: 37.8 | D5: 164 | E5: 128 | F5: 28.7
A6: Amy | B6: 0 | C6: 34.8 | H6: 70.8 | I6: 70.6 | J6: ='Ambient test'!H6-'Ambient test'!I6 -> 0.1 | K6: ='Ambient test'!D9-'Ambient test'!D7 -> 6 | L6: ='Ambient test'!F9-'Ambient test'!F7 -> 0.12 | M6: ='Ambient test'!C9-'Ambient test'!C6 -> 1 | N6: 45.6 | O6: ='Ambient test'!F9/N6*100 -> 9.0570175 | P6: 212 | Q6: =SUM('Ambient test'!E7:E9)/3 -> 128 | S6: Pre-cooling
B7: 10 | C7: 37.1 | D7: 144 | E7: 127 | F7: 27.5 | S7: Post-cooling
B8: 20 | C8: 37.6 | D8: 152 | E8: 127 | F8: 26.1
B9: 30 | C9: 37.5 | D9: 158 | E9: 128 | F9: 29.6
A10: Guto | B10: 0 | C10: 35.3 | H10: 74.1 | I10: 73.4 | J10: =H10-I10 -> 0.7 | K10: =D13-D11 -> 20 | L10: =F13-F11 -> 7.3 | M10: =C13-C10 -> 2.4 | N10: 71.1 | O10: =F13/N10*100 -> 54.711674 | P10: 212 | Q10: =SUM(E11:E13)/3 -> 250.66667 | S10: Pre-cooling | T10: 4177 | U10: 1871 | V10: 911 | W10: 973
B11: 10 | C11: 36.4 | D11: 152 | E11: 251 | F11: 31.6 | G11: 8 | S11: Post-cooling
B12: 20 | C12: 37.3 | D12: 160 | E12: 250 | F12: 36.9 | G12: 11
B13: 30 | C13: 37.7 | D13: 172 | E13: 251 | F13: 38.9 | G13: 12
A14: Jay | B14: 0 | J14: =H14-I14 -> 0 | K14: =D17-D15 -> 0 | L14: =F17-F15 -> 0 | M14: =C17-C14 -> 0 | N14: 54.3 | O14: =F17/N14*100 -> 0 | P14: 115 | Q14: =SUM(E15:E17)/3 -> 0 | S14: Pre-cooling | T14: 3522 | U14: 1758 | V14: 1091 | W14: 1015
B15: 10 | S15: Post-cooling
B16: 20
B17: 30
A18: Ieuan | B18: 0 | C18: 34.7 | H18: 94.3 | I18: 93.8 | J18: =H18-I18 -> 0.5 | K18: =D21-D19 -> 36 | L18: =F21-F19 -> 0.2 | M18: =C21-C18 -> 2.9 | N18: 46.9 | O18: =F21/N18*100 -> 57.356077 | P18: 131 | Q18: =SUM(E19:E21)/3 -> 168 | S18: Pre-cooling | T18: 4169 | U18: 2086 | V18: 1234 | W18: 1235
B19: 10 | C19: 36.8 | D19: 142 | E19: 170 | F19: 26.7 | G19: 13 | S19: Post-cooling
B20: 20 | C20: 37.3 | D20: 160 | E20: 162 | F20: 32.8 | G20: 16
B21: 30 | C21: 37.6 | D21: 178 | E21: 172 | F21: 26.9 | G21: 17
A22: A | B22: 0 | C22: 37.2 | H22: 93.7 | I22: 93.2 | J22: =H22-I22 -> 0.5 | K22: =D25-D23 -> -8 | L22: =F25-F23 -> -2.9592926 | M22: =C25-C22 -> 1 | N22: 53.5 | O22: =F25/N22*100 -> 60.941936 | P22: 213 | Q22: =SUM(E23:E25)/3 -> 173 | S22: Pre-cooling | T22: 3980 | U22: 2120 | V22: 1177 | W22: 814
B23: 10 | C23: 37.2 | D23: 160 | E23: 200 | F23: 35.563228 | S23: Post-cooling | T23: 3987 | U23: 2092 | V23: 1181 | W23: 812
B24: 20 | C24: 37.5 | D24: 165 | E24: 177 | F24: 36.096355
B25: 30 | C25: 38.2 | D25: 152 | E25: 142 | F25: 32.603936
A26: B | B26: 0 | C26: 34.8 | H26: 78.6 | I26: 78.3 | J26: =H26-I26 -> 0.3 | K26: =D29-D27 -> 10 | L26: =F29-F27 -> 4.4797941 | M26: =C29-C26 -> 3.1 | N26: 61.7 | O26: =F29/N26*100 -> 71.557339 | P26: 240 | Q26: =SUM(E27:E29)/3 -> 239.66667 | S26: Pre-cooling | T26: 3916 | U26: 1734 | V26: 1037 | W26: 1108
B27: 10 | C27: 35.7 | D27: 140 | E27: 240 | F27: 39.671084 | S27: Post-cooling | T27: 3891 | U27: 1690 | V27: 1037 | W27: 1067
B28: 20 | C28: 36.7 | D28: 150 | E28: 239 | F28: 42.684286
B29: 30 | C29: 37.9 | D29: 150 | E29: 240 | F29: 44.150878
A30: C | B30: 0 | C30: 36.7 | H30: 88.8 | I30: 88.4 | J30: =H30-I30 -> 0.4 | K30: =D33-D31 -> 10 | L30: =F33-F31 -> 1.7191475 | M30: =C33-C30 -> 2 | N30: 49 | O30: =F33/N30*100 -> 79.972825 | P30: 212 | Q30: =SUM(E31:E33)/3 -> 212 | S30: Pre-cooling | T30: 3558 | U30: 1949 | V30: 886 | W30: 1132
B31: 10 | C31: 37.3 | D31: 150 | E31: 212 | F31: 37.467537 | S31: Post-cooling | T31: 3711 | U31: 1936 | V31: 1087 | W31: 1155
B32: 20 | C32: 38.3 | D32: 155 | E32: 212 | F32: 39.574647
B33: 30 | C33: 38.7 | D33: 160 | E33: 212 | F33: 39.186684
A34: D | B34: 0 | C34: 36.3 | H34: 58.3 | I34: 58 | J34: =H34-I34 -> 0.3 | K34: =D37-D35 -> 13 | L34: =F37-F35 -> 4.9190116 | M34: =C37-C34 -> 2 | N34: 50 | O34: =F37/N34*100 -> 85.771527 | P34: 115 | Q34: =SUM(E35:E37)/3 -> 116 | S34: Pre-cooling | T34: 2673 | U34: 1233 | V34: 764 | W34: 702
B35: 10 | C35: 37.3 | D35: 178 | E35: 116 | F35: 37.966752 | S35: Post-cooling | T35: 2570 | U35: 1245 | V35: 766 | W35: 747
B36: 20 | C36: 37.9 | D36: 186 | E36: 116 | F36: 39.985164
B37: 30 | C37: 38.3 | D37: 191 | E37: 116 | F37: 42.885763
A38: E | B38: 0 | C38: 36 | H38: 76.7 | I38: 76.4 | J38: =H38-I38 -> 0.3 | K38: =D41-D39 -> 22 | L38: =F41-F39 -> 3.5627404 | M38: =C41-C38 -> 1.4 | N38: 42.9 | O38: =F41/N38*100 -> 86.000676 | P38: 131 | Q38: =SUM(E39:E41)/3 -> 128.66667 | S38: Pre-cooling | T38: 3352 | U38: 1685 | V38: 962 | W38: 683
B39: 10 | C39: 37 | D39: 157 | E39: 128 | F39: 33.33155 | S39: Post-cooling | T39: 3386 | U39: 1691 | V39: 974 | W39: 743
B40: 20 | C40: 36.9 | D40: 168 | E40: 129 | F40: 37.452838
B41: 30 | C41: 37.4 | D41: 179 | E41: 129 | F41: 36.89429
A42: F | B42: 0 | C42: 37 | H42: 62.6 | I42: 62.3 | J42: =H42-I42 -> 0.3 | K42: =D45-D43 -> 8 | L42: =F45-F43 -> 3.1626586 | M42: =C45-C42 -> 1.7 | N42: 61 | O42: =F45/N42*100 -> 65.773116 | P42: 140 | Q42: =SUM(E43:E45)/3 -> 140.33333 | S42: Pre-cooling | T42: 3219 | U42: 1540 | V42: 808 | W42: 828
B43: 10 | C43: 37.9 | D43: 142 | E43: 141 | F43: 36.958942 | S43: Post-cooling | T43: 3156 | U43: 1471 | V43: 752 | W43: 814
B44: 20 | C44: 38.5 | D44: 148 | E44: 140 | F44: 39.655487
B45: 30 | C45: 38.7 | D45: 150 | E45: 140 | F45: 40.121601
A46: G | B46: 0 | C46: 37.5 | H46: 102.8 | I46: 102 | J46: =H46-I46 -> 0.8 | K46: =D49-D47 -> 15 | L46: =F49-F47 -> 9.0265124 | M46: =C49-C46 -> 0.6 | N46: 57 | O46: =F49/N46*100 -> 76.306768 | P46: 255 | Q46: =SUM(E47:E49)/3 -> 248 | S46: Pre-cooling | T46: 5245 | U46: 2195 | V46: 1311 | W46: 1190
B47: 10 | C47: 34.7 | D47: 135 | E47: 245 | F47: 34.468345 | S47: Post-cooling | T47: 5527 | U47: 2324 | V47: 1289 | W47: 1054
B48: 20 | C48: 37.4 | D48: 145 | E48: 249 | F48: 39.645684
B49: 30 | C49: 38.1 | D49: 150 | E49: 250 | F49: 43.494858
A50: H | B50: 0 | C50: 37 | H50: 87 | I50: 86.5 | J50: =H50-I50 -> 0.5 | K50: =D53-D51 -> 21 | L50: =F53-F51 -> 1.5436153 | M50: =C53-C50 -> 1.3 | N50: 57 | O50: =F53/N50*100 -> 71.212107 | P50: 225 | Q50: =SUM(E51:E53)/3 -> 224.66667 | S50: Pre-cooling | T50: 4107 | U50: 1832 | V50: 1092 | W50: 890
B51: 10 | C51: 36.9 | D51: 143 | E51: 225 | F51: 39.047286 | S51: Post-cooling | T51: 4067 | U51: 1786 | V51: 1085 | W51: 910
B52: 20 | C52: 37.8 | D52: 151 | E52: 224 | F52: 38.770305
B53: 30 | C53: 38.3 | D53: 164 | E53: 225 | F53: 40.590901
B56: Mean End Temp | C56: =(C5+C9+C13+C17+C21+C25+C29+C33+C37+C41+C45+C49+C53)/13 -> 35.092308 | I56: Mean | J56: =AVERAGE(J2:J55) -> 0.38461538 | K56: =AVERAGE(K2:K55) -> 12.076923 | L56: =AVERAGE(L2:L55) -> 2.513399 | M56: =AVERAGE(M2:M55) -> 1.5615385 | N56: =AVERAGE(N2:N55) -> 53.276923 | O56: =AVERAGE(O2:O55) -> 60.409825 | P56: =AVERAGE(P2:P55) -> 185.61538 | Q56: =AVERAGE(Q2:Q55) -> 165.89744

Sheet Normoxic
A1: Participant | B1: Time (mins) | C1: o2 sats | D1: HR (bpm) | E1: Power (W) | F1: VO2 (ml/kg/min) | G1: RPE | H1: Weight pre (kg) | I1: Weight post (kg) | J1: Sweat loss (kg) | K1: HR Drift (bpm) | L1: VO2 Drift | M1: O2 diff | N1: VO2 Max | O1: % of VO2 Max | P1: Target W | Q1: Actual W
A2: Menna | B2: 0 | H2: 67 | I2: 66.7 | J2: ='Ambient test'!H2-'Ambient test'!I2 -> 0.3 | K2: ='Ambient test'!D5-'Ambient test'!D3 -> 4 | L2: ='Ambient test'!F5-'Ambient test'!F3 -> -0.4
B3: 10 | D3: 150 | E3: 128 | F3: 28.8
B4: 20 | D4: 149 | E4: 127 | F4: 25.5
B5: 30 | D5: 154 | E5: 128 | F5: 28.4 | N5: 42.6 | O5: ='Ambient test'!F5/N5*100 -> 66.666667 | Q5: =SUM('Ambient test'!E3:E5)/3 -> 127.66667
A6: Amy | B6: 0 | H6: 71.1 | I6: 71 | J6: ='Ambient test'!H6-'Ambient test'!I6 -> 0.1 | K6: ='Ambient test'!D9-'Ambient test'!D7 -> 6 | L6: ='Ambient test'!F9-'Ambient test'!F7 -> 0.12
B7: 10 | D7: 140 | E7: 129 | F7: 4.01
B8: 20 | D8: 141 | E8: 128 | F8: 3.9
B9: 30 | D9: 146 | E9: 127 | F9: 4.13 | N9: 45.6 | O9: ='Ambient test'!F9/N9*100 -> 9.0570175 | Q9: =SUM('Ambient test'!E7:E9)/3 -> 128
A10: Guto | B10: 0 | H10: 74.4 | I10: 73.8 | J10: =H10-I10 -> 0.6 | K10: =D13-D11 -> 14 | L10: =F13-F11 -> 4.1
B11: 10 | D11: 149 | E11: 251 | F11: 41.4 | G11: 10
B12: 20 | D12: 159 | E12: 251 | F12: 45.9 | G12: 12
B13: 30 | D13: 163 | E13: 251 | F13: 45.5 | G13: 12 | N13: 71.1 | O13: =F13/N13*100 -> 63.994374 | Q13: =SUM(E11:E13)/3 -> 251
A14: Jay | B14: 0 | H14: 72.4 | I14: 71.9 | J14: =H14-I14 -> 0.5 | K14: =D17-D15 -> 11 | L14: =F17-F15 -> 2.6
B15: 10 | D15: 142 | E15: 167 | F15: 33.9
B16: 20 | D16: 149 | E16: 167 | F16: 35.6
B17: 30 | D17: 153 | E17: 168 | F17: 36.5 | N17: 54.3 | O17: =F17/N17*100 -> 67.219153 | Q17: =SUM(E15:E17)/3 -> 167.33333
A18: Ieuan | B18: 0 | H18: 93.4 | I18: 93 | J18: =H18-I18 -> 0.4 | K18: =D21-D19 -> 8 | L18: =F21-F19 -> 0.5
B19: 10 | D19: 161 | E19: 173 | F19: 25
B20: 20 | D20: 165 | E20: 175 | F20: 28.2
B21: 30 | D21: 169 | E21: 175 | F21: 25.5 | N21: 46.9 | O21: =F21/N21*100 -> 54.371002 | Q21: =SUM(E19:E21)/3 -> 174.33333
A22: A | B22: 0 | H22: 93.7 | I22: 93.1 | J22: =H22-I22 -> 0.6 | K22: =D25-D23 -> 5 | L22: =F25-F23 -> 1.668259 | M22: =C25-C23 -> -4 | N22: 53.5 | O22: =F25/N22*100 -> 55.522623 | P22: 160 | Q22: =SUM(E23:E25)/3 -> 160
B23: 10 | C23: 98 | D23: 139 | E23: 160 | F23: 28.036344
B24: 20 | C24: 90 | D24: 142 | E24: 160 | F24: 27.269992
B25: 30 | C25: 94 | D25: 144 | E25: 160 | F25: 29.704603
A26: B | B26: 0 | H26: 77.2 | I26: 77 | J26: =H26-I26 -> 0.2 | K26: =D29-D27 -> 11 | L26: =F29-F27 -> 0.62101529 | M26: =C29-C27 -> -3 | N26: 61.7 | O26: =F29/N26*100 -> 54.119985 | P26: 180 | Q26: =SUM(E27:E29)/3 -> 179
B27: 10 | C27: 99 | D27: 124 | E27: 179 | F27: 32.771016
B28: 20 | C28: 97 | D28: 130 | E28: 179 | F28: 33.231768
B29: 30 | C29: 96 | D29: 135 | E29: 179 | F29: 33.392031
A30: C | B30: 0 | H30: 88.8 | I30: 88.5 | J30: =H30-I30 -> 0.3 | K30: =D33-D31 -> 3 | L30: =F33-F31 -> 1.5176658 | M30: =C33-C31 -> -2 | N30: 49 | O30: =F33/N30*100 -> 54.817703 | P30: 159 | Q30: =SUM(E31:E33)/3 -> 158.33333
B31: 10 | C31: 98 | D31: 131 | E31: 159 | F31: 25.343008
B32: 20 | C32: 93 | D32: 126 | E32: 157 | F32: 25.714671
B33: 30 | C33: 96 | D33: 134 | E33: 159 | F33: 26.860674
A34: D | B34: 0 | H34: 58.8 | I34: 58.6 | J34: =H34-I34 -> 0.2 | K34: =D37-D35 -> 7 | L34: =F37-F35 -> 7.8619891 | M34: =C37-C35 -> 0 | N34: 50 | O34: =F37/N34*100 -> 66.027913 | P34: 86 | Q34: =SUM(E35:E37)/3 -> 88.666667
B35: 10 | C35: 96 | D35: 140 | E35: 89 | F35: 25.151967
B36: 20 | C36: 95 | D36: 143 | E36: 88 | F36: 30.886888
B37: 30 | C37: 96 | D37: 147 | E37: 89 | F37: 33.013957
A38: E | B38: 0 | H38: 76.2 | I38: 76.1 | J38: =H38-I38 -> 0.1 | K38: =D41-D39 -> 14 | L38: =F41-F39 -> -0.05777256 | M38: =C41-C39 -> -2 | N38: 42.9 | O38: =F41/N38*100 -> 55.934422 | P38: 98 | Q38: =SUM(E39:E41)/3 -> 99
B39: 10 | C39: 97 | D39: 117 | E39: 98 | F39: 24.05364
B40: 20 | C40: 96 | D40: 125 | E40: 98 | F40: 22.589049
B41: 30 | C41: 95 | D41: 131 | E41: 101 | F41: 23.995867
A42: F | B42: 0 | H42: 62.8 | I42: 62.5 | J42: =H42-I42 -> 0.3 | K42: =D45-D43 -> 4 | L42: =F45-F43 -> 0.32737016 | M42: =C45-C43 -> -1 | N42: 61 | O42: =F45/N42*100 -> 46.334906 | P42: 105 | Q42: =SUM(E43:E45)/3 -> 105.33333
B43: 10 | C43: 96 | D43: 128 | E43: 106 | F43: 27.936922
B44: 20 | C44: 97 | D44: 126 | E44: 105 | F44: 30.359673
B45: 30 | C45: 95 | D45: 132 | E45: 105 | F45: 28.264292
A46: G | B46: 0 | H46: 103.5 | I46: 103.1 | J46: =H46-I46 -> 0.4 | K46: =D49-D47 -> 1 | L46: =F49-F47 -> -5.3041963 | M46: =C49-C47 -> -3 | N46: 57 | O46: =F49/N46*100 -> 48.467643 | P46: 190 | Q46: =SUM(E47:E49)/3 -> 190
B47: 10 | C47: 97 | D47: 117 | E47: 190 | F47: 32.930753
B48: 20 | C48: 94 | D48: 117 | E48: 190 | F48: 30.078566
B49: 30 | C49: 94 | D49: 118 | E49: 190 | F49: 27.626556
A50: H | B50: 0 | H50: 86.5 | I50: 86.2 | J50: =H50-I50 -> 0.3 | K50: =D53-D51 -> 14 | L50: =F53-F51 -> 0.78971008 | M50: =C53-C51 -> -1 | N50: 57 | O50: =F53/N50*100 -> 54.692032 | P50: 169 | Q50: =SUM(E51:E53)/3 -> 169
B51: 10 | C51: 98 | D51: 114 | E51: 169 | F51: 30.384748
B52: 20 | C52: 98 | D52: 120 | E52: 169 | F52: 29.165265
B53: 30 | C53: 97 | D53: 128 | E53: 169 | F53: 31.174458
A56: Mean | C56: =AVERAGE(C23:C53) -> 95.916667 | D56: =AVERAGE(D3:D53) -> 138.41026 | E56: =AVERAGE(E3:E53) -> 153.66667 | F56: =AVERAGE(F3:F53) -> 28.260941 | I56: Mean | J56: =AVERAGE(J2:J55) -> 0.33076923 | K56: =AVERAGE(K2:K55) -> 7.8461538 | L56: =AVERAGE(L2:L55) -> 1.1033877 | M56: =AVERAGE(M2:M55) -> -2 | N56: =AVERAGE(N2:N55) -> 53.276923 | O56: =AVERAGE(O2:O55) -> 53.632726 | P56: =AVERAGE(P2:P55) -> 143.375 | Q56: =AVERAGE(Q2:Q55) -> 153.66667

Sheet Hypoxic
A1: Participant | B1: Time (mins) | C1: O2 Sats | D1: HR (bpm) | E1: Power (W) | F1: VO2 (ml/kg/min) | G1: RPE | H1: Weight pre (kg) | I1: Weight post (kg) | J1: Sweat loss (kg) | K1: HR Drift (bpm) | L1: VO2 Drift | M1: O2 Sats Diff % | N1: VO2 Max | O1: % of VO2 Max | P1: Target W | Q1: Actual W
A2: Menna | B2: 0 | H2: 67.2 | J2: =H2-I2 -> 67.2 | K2: =D5-D3 -> 5 | L2: =F5-F3 -> 0 | M2: =C5-C3 -> 0 | N2: 42.6 | O2: =F5/N2*100 -> 0 | Q2: =SUM(E3:E5)/3 -> 131.33333
B3: 10 | D3: 153 | E3: 130 | G3: 12
B4: 20 | D4: 155 | E4: 129 | G4: 13
B5: 30 | D5: 158 | E5: 135 | G5: 10
A6: Amy | B6: 0 | H6: 70 | I6: 68.9 | J6: =H6-I6 -> 1.1 | K6: =D9-D7 -> 8 | L6: =F9-F7 -> 0 | M6: =C9-C7 -> 0 | N6: 45.6 | O6: =F9/N6*100 -> 0 | Q6: =SUM(E7:E9)/3 -> 126.33333
B7: 10 | D7: 150 | E7: 127 | G7: 12
B8: 20 | D8: 155 | E8: 126 | G8: 13
B9: 30 | D9: 158 | E9: 126 | G9: 13
A10: Guto | B10: 0 | H10: 73.7 | I10: 72.9 | J10: =H10-I10 -> 0.8 | K10: =D13-D11 -> 10 | L10: =F13-F11 -> 0 | M10: =C13-C11 -> 0 | N10: 71.1 | O10: =F13/N10*100 -> 0 | Q10: =SUM(E11:E13)/3 -> 250.66667
B11: 10 | D11: 166 | E11: 250 | G11: 11
B12: 20 | D12: 171 | E12: 250 | G12: 14
B13: 30 | D13: 176 | E13: 252 | G13: 15
A14: Jay | B14: 0 | H14: 72.9 | I14: 72.5 | J14: =H14-I14 -> 0.4 | K14: =D17-D15 -> 9 | L14: =F17-F15 -> 0 | M14: =C17-C15 -> 0 | N14: 54.3 | O14: =F17/N14*100 -> 0 | Q14: =SUM(E15:E17)/3 -> 167
B15: 10 | D15: 149 | E15: 166 | G15: 14
B16: 20 | D16: 157 | E16: 168 | G16: 14
B17: 30 | D17: 158 | E17: 167 | G17: 15
A18: A | B18: 0 | H18: 94.4 | I18: 94 | J18: =H18-I18 -> 0.4 | K18: =D21-D19 -> 9 | L18: =F21-F19 -> 0 | M18: =C21-C19 -> -2 | N18: 53.5 | O18: =F21/N18*100 -> 0 | P18: 160 | Q18: =SUM(E19:E21)/3 -> 160.33333
B19: 10 | C19: 88 | D19: 146 | E19: 161
B20: 20 | C20: 87 | D20: 151 | E20: 160
B21: 30 | C21: 86 | D21: 155 | E21: 160
A22: B | B22: 0 | H22: 77.9 | I22: 77.7 | J22: =H22-I22 -> 0.2 | K22: =D25-D23 -> 9 | L22: =F25-F23 -> 0 | M22: =C25-C23 -> -10 | N22: 61.7 | O22: =F25/N22*100 -> 0 | P22: 180 | Q22: =SUM(E23:E25)/3 -> 180
B23: 10 | C23: 89 | D23: 136 | E23: 180
B24: 20 | C24: 80 | D24: 141 | E24: 180
B25: 30 | C25: 79 | D25: 145 | E25: 180
A26: C | B26: 0 | H26: 88.1 | I26: 87.8 | J26: =H26-I26 -> 0.3 | K26: =D29-D27 -> 4 | L26: =F29-F27 -> 0 | M26: =C29-C27 -> 5 | N26: 49 | O26: =F29/N26*100 -> 0 | P26: 159 | Q26: =SUM(E27:E29)/3 -> 156.66667
B27: 10 | C27: 86 | D27: 139 | E27: 158
B28: 20 | C28: 94 | D28: 139 | E28: 156
B29: 30 | C29: 91 | D29: 143 | E29: 156
A30: D | B30: 0 | H30: 59.2 | I30: 58.9 | J30: =H30-I30 -> 0.3 | K30: =D33-D31 -> 19 | L30: =F33-F31 -> 0 | M30: =C33-C31 -> 0 | N30: 50 | O30: =F33/N30*100 -> 0 | P30: 86 | Q30: =SUM(E31:E33)/3 -> 87.333333
B31: 10 | C31: 88 | D31: 142 | E31: 88
B32: 20 | C32: 86 | D32: 153 | E32: 87
B33: 30 | C33: 88 | D33: 161 | E33: 87
A34: E | B34: 0 | H34: 76.5 | I34: 76.2 | J34: =H34-I34 -> 0.3 | K34: =D37-D35 -> 5 | L34: =F37-F35 -> 0 | M34: =C37-C35 -> 0 | N34: 42.9 | O34: =F37/N34*100 -> 0 | P34: 98 | Q34: =SUM(E35:E37)/3 -> 97
B35: 10 | C35: 88 | D35: 139 | E35: 97
B36: 20 | C36: 85 | D36: 141 | E36: 97
B37: 30 | C37: 88 | D37: 144 | E37: 97
A38: F | B38: 0 | H38: 63.2 | I38: 63 | J38: =H38-I38 -> 0.2 | K38: =D41-D39 -> 8 | L38: =F41-F39 -> 0 | M38: =C41-C39 -> 1 | N38: 61 | O38: =F41/N38*100 -> 0 | P38: 105 | Q38: =SUM(E39:E41)/3 -> 105.33333
B39: 10 | C39: 89 | D39: 140 | E39: 105
B40: 20 | C40: 86 | D40: 145 | E40: 105
B41: 30 | C41: 90 | D41: 148 | E41: 106
A42: G | B42: 0 | H42: 102.4 | I42: 101.8 | J42: =H42-I42 -> 0.6 | K42: =D45-D43 -> 3 | L42: =F45-F43 -> 0 | M42: =C45-C43 -> -1 | N42: 57 | O42: =F45/N42*100 -> 0 | P42: 190 | Q42: =SUM(E43:E45)/3 -> 190
B43: 10 | C43: 85 | D43: 138 | E43: 190
B44: 20 | C44: 87 | D44: 145 | E44: 190
B45: 30 | C45: 84 | D45: 141 | E45: 190
A46: H | B46: 0 | H46: 86.6 | I46: 86.3 | J46: =H46-I46 -> 0.3 | K46: =D49-D47 -> 14 | L46: =F49-F47 -> 0 | M46: =C49-C47 -> -5 | N46: 57 | O46: =F49/N46*100 -> 0 | P46: 169 | Q46: =SUM(E47:E49)/3 -> 169
B47: 10 | C47: 80 | D47: 135 | E47: 169
B48: 20 | C48: 76 | D48: 141 | E48: 169
B49: 30 | C49: 75 | D49: 149 | E49: 169
A52: Mean | C52: =AVERAGE(C19:C49) -> 85.625 | D52: =AVERAGE(D3:D49) -> 148.97222 | E52: =AVERAGE(E3:E49) -> 151.75 | I52: Mean | J52: =AVERAGE(J3:J49) -> 0.44545455 | K52: =AVERAGE(K3:K49) -> 8.9090909 | L52: =AVERAGE(L3:L49) -> 0 | M52: =AVERAGE(M18:M49) -> -1.5 | N52: =AVERAGE(N3:N49) -> 54.827273 | O52: =AVERAGE(O3:O49) -> 0 | P52: =AVERAGE(P3:P49) -> 143.375 | Q52: =AVERAGE(Q3:Q49) -> 153.60606

Sheet Grip Strength
A1: Participants | B1: Start | C1: 5min | D1: 10min | E1: 15min | F1: 20min | G1: 25min | H1: 30min | I1: Max Difference
A2: A | B2: 57 | C2: 54 | D2: 56 | E2: 55 | F2: 53.5 | G2: 51 | H2: 50 | I2: -7
A4: B | B4: 34 | C4: 31 | D4: 34 | E4: 35 | F4: 32 | G4: 31 | H4: 32.5 | I4: -3
A6: C | B6: 61.5 | C6: 60.5 | D6: 59 | E6: 58 | F6: 55 | G6: 55 | H6: 53 | I6: -8.5
A8: D | B8: 56 | C8: 52 | D8: 54 | E8: 50 | F8: 51 | G8: 50 | H8: 49 | I8: -7
A10: E | B10: 58 | C10: 58 | D10: 58 | E10: 55 | F10: 50 | G10: 53 | H10: 49 | I10: -9
A12: F | B12: 54 | C12: 46 | D12: 44 | E12: 53 | F12: 47 | G12: 44 | H12: 41 | I12: -13
A14: G | B14: 50 | C14: 51 | D14: 51 | E14: 46 | F14: 44 | G14: 44 | H14: 42 | I14: -8
A16: H | B16: 29 | C16: 28 | D16: 28 | E16: 30 | F16: 28 | G16: 28 | H16: 27 | I16: -2
