Workbook

Sheet Overall Summary
B4: Test | C4: Sweat Loss | D4: HR Drift | E4: VO2 Drift | F4: Temp increase | G4: Temp @ 30min
B5: Cold | C5: 0.4 | D5: 7.7 | E5: 2.7 | F5: 0.6 | G5: 36.66
B6: Ambient | C6: 0.4 | D6: 12.3 | E6: 2.3 | F6: 1.2 | G6: 37.5
B7: Hot | C7: 0.6 | D7: 18.3 | E7: 6.3 | F7: 1.5 | G7: 38.08
B8: Hot Precool
B11: Test | C11: Sweat Loss | D11: HR Drift | E11: Mean HR | F11: Mean O2 sats | G11: Mean Watts
B12: Normoxic | C12: 0.3 | D12: 7.8 | E12: 138.4 | F12: 95.9 | G12: 153.7
B13: Hypoxic | C13: 0.45 | D13: 8.9 | E13: 149 | F13: 85.6 | G13: 151.7

Sheet Ambient test
A1: Participant | B1: Time (mins) | C1: Temp (DegC) | D1: HR (bpm) | E1: Power (W) | F1: VO2 (ml/kg/min) | G1: RPE | H1: Weight pre (kg) | I1: Weight post (kg) | J1: Sweat loss (kg) | K1: HR Drift (bpm) | L1: VO2 Drift | M1: Temp diff (DegC) | N1: VO2 Max | O1: % of VO2 Max | P1: Target W | Q1: Actual W
A2: Menna | B2: 0 | C2: 36.4 | D2: 66 | H2: 67 | I2: 66.7 | J2: ='Ambient test'!H2-'Ambient test'!I2 -> 0.3 | K2: ='Ambient test'!D5-'Ambient test'!D3 -> 4 | L2: ='Ambient test'!F5-'Ambient test'!F3 -> -0.4
B3: 10 | C3: 37.3 | D3: 150 | E3: 128 | F3: 28.8
B4: 20 | C4: 37.4 | D4: 149 | E4: 127 | F4: 25.5
B5: 30 | C5: 37.3 | D5: 154 | E5: 128 | F5: 28.4 | M5: ='Ambient test'!C5-'Ambient test'!C2 -> 0.9 | N5: 42.6 | O5: ='Ambient test'!F5/N5*100 -> 66.666667 | Q5: =SUM('Ambient test'!E3:E5)/3 -> 127.66667
A6: Amy | B6: 0 | C6: 36.5 | H6: 71.1 | I6: 71 | J6: ='Ambient test'!H6-'Ambient test'!I6 -> 0.1 | K6: ='Ambient test'!D9-'Ambient test'!D7 -> 6 | L6: ='Ambient test'!F9-'Ambient test'!F7 -> 0.12
B7: 10 | C7: 36.6 | D7: 140 | E7: 129 | F7: 4.01
B8: 20 | C8: 37.3 | D8: 141 | E8: 128 | F8: 3.9
B9: 30 | C9: 37.5 | D9: 146 | E9: 127 | F9: 4.13 | M9: ='Ambient test'!C9-'Ambient test'!C6 -> 1 | N9: 45.6 | O9: ='Ambient test'!F9/N9*100 -> 9.0570175 | Q9: =SUM('Ambient test'!E7:E9)/3 -> 128
A10: Guto | B10: 0 | C10: 36.2 | H10: 74.4 | I10: 73.8 | J10: =H10-I10 -> 0.6 | K10: =D13-D11 -> 14 | L10: =F13-F11 -> 4.1
B11: 10 | C11: 37.4 | D11: 149 | E11: 251 | F11: 41.4 | G11: 10
B12: 20 | C12: 37.9 | D12: 159 | E12: 251 | F12: 45.9 | G12: 12
B13: 30 | C13: 37.9 | D13: 163 | E13: 251 | F13: 45.5 | G13: 12 | M13: =C13-C10 -> 1.7 | N13: 71.1 | O13: =F13/N13*100 -> 63.994374 | Q13: =SUM(E11:E13)/3 -> 251
A14: Jay | B14: 0 | C14: 35.2 | H14: 72.4 | I14: 71.9 | J14: =H14-I14 -> 0.5 | K14: =D17-D15 -> 11 | L14: =F17-F15 -> 2.6
B15: 10 | C15: 36.7 | D15: 142 | E15: 167 | F15: 33.9
B16: 20 | C16: 37.2 | D16: 149 | E16: 167 | F16: 35.6
B17: 30 | C17: 37.6 | D17: 153 | E17: 168 | F17: 36.5 | M17: =C17-C14 -> 2.4 | N17: 54.3 | O17: =F17/N17*100 -> 67.219153 | Q17: =SUM(E15:E17)/3 -> 167.33333
A18: Ieuan | B18: 0 | C18: 35.1 | H18: 93.4 | I18: 93 | J18: =H18-I18 -> 0.4 | K18: =D21-D19 -> 8 | L18: =F21-F19 -> 0.5
B19: 10 | C19: 36 | D19: 161 | E19: 173 | F19: 25
B20: 20 | C20: 36.6 | D20: 165 | E20: 175 | F20: 28.2
B21: 30 | C21: 36.5 | D21: 169 | E21: 175 | F21: 25.5 | M21: =C21-C18 -> 1.4 | N21: 46.9 | O21: =F21/N21*100 -> 54.371002 | Q21: =SUM(E19:E21)/3 -> 174.33333
A22: A | B22: 0 | C22: 36.6 | D22: 0 | E22: 0 | F22: 0 | H22: 95.1 | I22: 94.9 | J22: =H22-I22 -> 0.2 | K22: =D25-D23 -> 19 | L22: =F25-F23 -> 3.4461248
B23: 10 | C23: 37.2 | D23: 167 | E23: 207 | F23: 36.586032
B24: 20 | C24: 37.6 | D24: 173 | E24: 202 | F24: 36.781928
B25: 30 | C25: 37.4 | D25: 186 | E25: 212 | F25: 40.032156 | M25: =C25-C22 -> 0.8 | N25: 53.5 | O25: =F25/N25*100 -> 74.826461 | P25: 213 | Q25: =SUM(E23:E25)/3 -> 207
A26: B | B26: 0 | C26: 36.7 | D26: 53 | E26: 0 | F26: 0 | H26: 78.1 | I26: 77.7 | J26: =H26-I26 -> 0.4 | K26: =D29-D27 -> 9 | L26: =F29-F27 -> 5.3700666
B27: 10 | C27: 37.5 | D27: 145 | E27: 240 | F27: 35.837019
B28: 20 | C28: 37.6 | D28: 149 | E28: 239 | F28: 40.874413
B29: 30 | C29: 38.8 | D29: 154 | E29: 239 | F29: 41.207086 | M29: =C29-C26 -> 2.1 | N29: 61.7 | O29: =F29/N29*100 -> 66.786201 | P29: 240 | Q29: =SUM(E27:E29)/3 -> 239.33333
A30: C | B30: 0 | C30: 36.4 | D30: 50 | E30: 0 | F30: 0 | H30: 88.3 | I30: 87.8 | J30: =H30-I30 -> 0.5 | K30: =D33-D31 -> 11 | L30: =F33-F31 -> 1.6745845
B31: 10 | C31: 37.6 | D31: 143 | E31: 214 | F31: 36.328758
B32: 20 | C32: 38.5 | D32: 142 | E32: 212 | F32: 36.164845
B33: 30 | C33: 38.7 | D33: 154 | E33: 212 | F33: 38.003343 | M33: =C33-C30 -> 2.3 | N33: 49 | O33: =F33/N33*100 -> 77.557843 | P33: 212 | Q33: =SUM(E31:E33)/3 -> 212.66667
A34: D | B34: 0 | C34: 36.9 | D34: 0 | E34: 0 | F34: 0 | H34: 58.7 | I34: 58.5 | J34: =H34-I34 -> 0.2 | K34: =D37-D35 -> 8 | L34: =F37-F35 -> 1.7333755
B35: 10 | C35: 37.6 | D35: 169 | E35: 117 | F35: 31.719668
B36: 20 | C36: 37.5 | D36: 173 | E36: 116 | F36: 35.646285
B37: 30 | C37: 37.5 | D37: 177 | E37: 117 | F37: 33.453043 | M37: =C37-C34 -> 0.6 | N37: 50 | O37: =F37/N37*100 -> 66.906086 | P37: 115 | Q37: =SUM(E35:E37)/3 -> 116.66667
A38: E | B38: 0 | C38: 35.9 | D38: 0 | E38: 0 | F38: 0 | H38: 76.7 | I38: 76.5 | J38: =H38-I38 -> 0.2 | K38: =D41-D39 -> 16 | L38: =F41-F39 -> 4.4343838
B39: 10 | C39: 36.9 | D39: 146 | E39: 131 | F39: 25.792655
B40: 20 | C40: 36.4 | D40: 156 | E40: 132 | F40: 30.616287
...

Sheet Hot Test
A1: Participant | B1: Time (mins) | C1: Temp (DegC) | D1: HR (bpm) | E1: Power (W) | F1: VO2 (ml/kg/min) | G1: RPE | H1: Weight pre (kg) | I1: Weight post (kg) | J1: Sweat loss (kg) | K1: HR Drift (bpm) | L1: VO2 Drift | M1: Temp diff (DegC) | N1: VO2 Max | O1: % of VO2 Max | P1: Target W | Q1: Actual W
A2: Menna | B2: 0 | C2: 36.3 | D2: 97 | H2: 67.9 | I2: 66.7 | J2: =H2-I2 -> 1.2 | K2: =D5-D3 -> 8 | L2: =F5-F3 -> -3.5890905 | M2: =C5-C2 -> 1.6 | N2: 42.6 | O2: =F5/N2*100 -> 64.343829 | Q2: =SUM(E3:E5)/3 -> 127.33333
B3: 10 | C3: 37.1 | D3: 151 | E3: 128 | F3: 30.999562 | G3: 12
B4: 20 | C4: 37.7 | D4: 161 | E4: 127 | F4: 31.380545 | G4: 14
B5: 30 | C5: 37.9 | D5: 159 | E5: 127 | F5: 27.410471 | G5: 15
A6: Amy | B6: 0 | C6: 36.8 | H6: 70.7 | I6: 70.2 | J6: =H6-I6 -> 0.5 | K6: =D9-D7 -> 8 | L6: =F9-F7 -> 1.8577351 | M6: =C9-C6 -> 0.5 | N6: 45.6 | O6: =F9/N6*100 -> 63.472283 | Q6: =SUM(E7:E9)/3 -> 126.66667
B7: 10 | C7: 36.7 | D7: 152 | E7: 127 | F7: 27.085626 | G7: 10
B8: 20 | C8: 36.9 | D8: 152 | E8: 126 | F8: 30.022262 | G8: 13
B9: 30 | C9: 37.3 | D9: 160 | E9: 127 | F9: 28.943361 | G9: 14
A10: Guto | B10: 0 | C10: 36.4 | H10: 74 | I10: 73.3 | J10: =H10-I10 -> 0.7 | K10: =D13-D11 -> 18 | L10: =F13-F11 -> 3.7 | M10: =C13-C10 -> 1.9 | N10: 71.1 | O10: =F13/N10*100 -> 72.855134 | Q10: =SUM(E11:E13)/3 -> 252
B11: 10 | C11: 37.6 | D11: 164 | E11: 252 | F11: 48.1 | G11: 11
B12: 20 | C12: 38.1 | D12: 174 | E12: 252 | F12: 49.8 | G12: 13
B13: 30 | C13: 38.3 | D13: 182 | E13: 252 | F13: 51.8 | G13: 15
A14: Jay | B14: 0 | C14: 36 | H14: 73.1 | I14: 72.8 | J14: =H14-I14 -> 0.3 | K14: =D17-D15 -> 18 | L14: =F17-F15 -> 10.1 | M14: =C17-C14 -> 1.8 | N14: 54.3 | O14: =F17/N14*100 -> 75.506446 | Q14: =SUM(E15:E17)/3 -> 168
B15: 10 | C15: 36.1 | D15: 140 | E15: 168 | F15: 30.9 | G15: 10
B16: 20 | C16: 37.2 | D16: 150 | E16: 168 | F16: 36.6 | G16: 12
B17: 30 | C17: 37.8 | D17: 158 | E17: 168 | F17: 41 | G17: 14
A18: Ieuan | B18: 0 | C18: 36.1 | H18: 93.2 | I18: 92.9 | J18: =H18-I18 -> 0.3 | K18: =D21-D19 -> 19 | L18: =F21-F19 -> 9.2 | M18: =C21-C18 -> 0.7 | N18: 46.9 | O18: =F21/N18*100 -> 81.449893 | Q18: =SUM(E19:E21)/3 -> 169.33333
B19: 10 | C19: 36.5 | D19: 169 | E19: 167 | F19: 29
B20: 20 | C20: 36.6 | D20: 175 | E20: 167 | F20: 32.9
B21: 30 | C21: 36.8 | D21: 188 | E21: 174 | F21: 38.2
A22: A | B22: 0 | C22: 37.1 | H22: 94.7 | I22: 93.8 | J22: =H22-I22 -> 0.9 | K22: =D25-D23 -> 22 | L22: =F25-F23 -> 9.1 | M22: =C25-C22 -> 0.7 | N22: 53.5 | O22: =F25/N22*100 -> 84.299065 | P22: 213 | Q22: =SUM(E23:E25)/3 -> 211.33333
B23: 10 | C23: 37 | D23: 150 | E23: 212 | F23: 36
B24: 20 | C24: 37.7 | D24: 165 | E24: 213 | F24: 38.8
B25: 30 | C25: 37.8 | D25: 172 | E25: 209 | F25: 45.1
A26: B | B26: 0 | C26: 37.2 | D26: 52 | E26: 0 | H26: 79.2 | I26: 78.8 | J26: =H26-I26 -> 0.4 | K26: =D29-D27 -> 15 | L26: =F29-F27 -> 6.7 | M26: =C29-C26 -> 1.6 | N26: 61.7 | O26: =F29/N26*100 -> 85.41329 | P26: 240 | Q26: =SUM(E27:E29)/3 -> 239.33333
B27: 10 | C27: 37.1 | D27: 145 | E27: 239 | F27: 46
B28: 20 | C28: 37.9 | D28: 154 | E28: 239 | F28: 50
B29: 30 | C29: 38.8 | D29: 160 | E29: 240 | F29: 52.7
A30: C | B30: 0 | C30: 37.5 | H30: 89.9 | I30: 89.4 | J30: =H30-I30 -> 0.5 | K30: =D33-D31 -> 20 | L30: =F33-F31 -> 8.0988985 | M30: =C33-C30 -> 1 | N30: 49 | O30: =F33/N30*100 -> 72.50959 | P30: 212 | Q30: =SUM(E31:E33)/3 -> 212
B31: 10 | C31: 37 | D31: 132 | E31: 212 | F31: 27.430801
B32: 20 | C32: 37.7 | D32: 147 | E32: 212 | F32: 35.749518
B33: 30 | C33: 38.5 | D33: 152 | E33: 212 | F33: 35.529699
A34: D | B34: 0 | C34: 36 | H34: 57.9 | I34: 57.7 | J34: =H34-I34 -> 0.2 | K34: =D37-D35 -> 17 | L34: =F37-F35 -> -2.2502441 | M34: =C37-C34 -> 1.7 | N34: 50 | O34: =F37/N34*100 -> 71.995946 | P34: 115 | Q34: =SUM(E35:E37)/3 -> 117.66667
B35: 10 | C35: 37 | D35: 164 | E35: 118 | F35: 38.248217
B36: 20 | C36: 37.8 | D36: 185 | E36: 117 | F36: 38.718098
B37: 30 | C37: 37.7 | D37: 181 | E37: 118 | F37: 35.997973
A38: E | B38: 0 | C38: 36.3 | H38: 76.2 | I38: 74.7 | J38: =H38-I38 -> 1.5 | K38: =D41-D39 -> 20 | L38: =F41-F39 -> 8.8 | M38: =C41-C38 -> 1.4 | N38: 42.9 | O38: =F41/N38*100 -> 96.270396 | P38: 131 | Q38: =SUM(E39:E41)/3 -> 130.33333
B39: 10 | C39: 36.8 | D39: 153 | E39: 131 | F39: 32.5
B40: 20 | C40: 37.2 | D40: 170 | E40: 130 | F40: 38.7
...

Sheet Cold test
A1: Participant | B1: Time (mins) | C1: Temp (DegC) | D1: HR (bpm) | E1: Power (W) | F1: VO2 (ml/kg/min) | G1: RPE | H1: Weight pre (kg) | I1: Weight post (kg) | J1: Sweat loss (kg) | K1: HR Drift (bpm) | L1: VO2 Drift | M1: Temp diff (DegC) | N1: VO2 Max | O1: % of VO2 Max | P1: Target W | Q1: Actual W | R1: height (CM) | S1: gender
A2: Menna | B2: 0 | C2: 36.1 | D2: 86 | H2: 67 | I2: 66.8 | J2: =H2-I2 -> 0.2 | K2: =D5-D3 -> 3 | L2: =F5-F3 -> 0.9 | M2: =C5-C2 -> 1.3 | N2: 42.6 | O2: =F5/N2*100 -> 62.206573 | Q2: =SUM(E3:E5)/3 -> 128.66667 | R2: 167 | S2: F
B3: 10 | C3: 36.9 | D3: 147 | E3: 129 | F3: 25.6 | G3: 9
B4: 20 | C4: 36.7 | D4: 150 | E4: 129 | F4: 24.6 | G4: 13
B5: 30 | C5: 37.4 | D5: 150 | E5: 128 | F5: 26.5 | G5: 13
A6: Amy | B6: 0 | C6: 36 | H6: 71.1 | I6: 70.9 | J6: =H6-I6 -> 0.2 | K6: =D9-D7 -> 0 | L6: =F9-F7 -> 1.7 | M6: =C9-C6 -> -0.1 | N6: 45.6 | O6: =F9/N6*100 -> 59.649123 | Q6: =SUM(E7:E9)/3 -> 127.66667 | R6: 165 | S6: F
B7: 10 | C7: 36.3 | D7: 135 | E7: 128 | F7: 25.5 | G7: 10
B8: 20 | C8: 36.1 | D8: 135 | E8: 127 | F8: 25 | G8: 11
B9: 30 | C9: 35.9 | D9: 135 | E9: 128 | F9: 27.2 | G9: 12
A10: Guto | B10: 0 | C10: 35.8 | H10: 73.2 | I10: 72.7 | J10: =H10-I10 -> 0.5 | K10: =D13-D11 -> 11 | L10: =F13-F11 -> 8.9 | M10: =C13-C10 -> 0.6 | N10: 71.1 | O10: =F13/N10*100 -> 61.462729 | Q10: =SUM(E11:E13)/3 -> 250.66667 | R10: 182 | S10: M
B11: 10 | C11: 36.8 | D11: 140 | E11: 250 | F11: 34.8 | G11: 8
B12: 20 | C12: 36.6 | D12: 148 | E12: 250 | F12: 39.9 | G12: 11
B13: 30 | C13: 36.4 | D13: 151 | E13: 252 | F13: 43.7 | G13: 12
A14: Jay | B14: 0 | C14: 36 | H14: 73.1 | I14: 72.8 | J14: =H14-I14 -> 0.3 | K14: =D17-D15 -> 18 | L14: =F17-F15 -> -0.7 | M14: =C17-C14 -> 1.8 | N14: 54.3 | O14: =F17/N14*100 -> 75.690608 | Q14: =SUM(E15:E17)/3 -> 168 | R14: 186 | S14: M
B15: 10 | C15: 36.1 | D15: 140 | E15: 168 | F15: 41.8 | G15: 10
B16: 20 | C16: 37.2 | D16: 150 | E16: 168 | F16: 36.7 | G16: 12
B17: 30 | C17: 37.8 | D17: 158 | E17: 168 | F17: 41.1 | G17: 14
A18: Ieuan | B18: 0 | C18: 34.5 | H18: 93.5 | I18: 93 | J18: =H18-I18 -> 0.5 | K18: =D21-D19 -> 3 | L18: =F21-F19 -> 5.3 | M18: =C21-C18 -> 0.1 | N18: 46.9 | O18: =F21/N18*100 -> 62.260128 | Q18: =SUM(E19:E21)/3 -> 171.33333 | R18: 182 | S18: M
B19: 10 | C19: 34.9 | D19: 147 | E19: 172 | F19: 23.9 | G19: 8
B20: 20 | C20: 34.5 | D20: 146 | E20: 172 | F20: 29.1 | G20: 12
B21: 30 | C21: 34.6 | D21: 150 | E21: 170 | F21: 29.2 | G21: 15
A22: A | B22: 0 | C22: 36.1 | D22: 0 | E22: 0 | F22: 0 | H22: 93.5 | I22: 93 | J22: =H22-I22 -> 0.5 | K22: =D25-D23 -> 17 | L22: =F25-F23 -> 5.7815932 | M22: =C25-C22 -> 0.4 | N22: 53.5 | O22: =F25/N22*100 -> 79.241055 | P22: 213 | Q22: =SUM(E23:E25)/3 -> 212.33333 | R22: 176 | S22: M
B23: 10 | C23: 36.2 | D23: 155 | E23: 211 | F23: 36.612372
B24: 20 | C24: 35.7 | D24: 167 | E24: 213 | F24: 41.309741
B25: 30 | C25: 36.5 | D25: 172 | E25: 213 | F25: 42.393965
A26: B | B26: 0 | C26: 36.1 | D26: 52 | E26: 0 | H26: 78.2 | I26: 78 | J26: =H26-I26 -> 0.2 | K26: =D29-D27 -> 7 | L26: =F29-F27 -> 0.4 | M26: =C29-C26 -> 1 | N26: 61.7 | O26: =F29/N26*100 -> 67.909238 | P26: 240 | Q26: =SUM(E27:E29)/3 -> 240 | R26: 175 | S26: M
B27: 10 | C27: 37.1 | D27: 140 | E27: 240 | F27: 41.5
B28: 20 | C28: 35.8 | D28: 146 | E28: 240 | F28: 41.5
B29: 30 | C29: 37.1 | D29: 147 | E29: 240 | F29: 41.9
A30: C | B30: 0 | C30: 36 | D30: 49 | E30: 0 | F30: 0 | H30: 88.3 | I30: 87.8 | J30: =H30-I30 -> 0.5 | K30: =D33-D31 -> 7 | L30: =F33-F31 -> -1.3261801 | M30: =C33-C30 -> 2.3 | N30: 49 | O30: =F33/N30*100 -> 80.567197 | P30: 212 | Q30: =SUM(E31:E33)/3 -> 212 | R30: 174 | S30: M
B31: 10 | C31: 35.7 | D31: 145 | E31: 212 | F31: 40.804107
B32: 20 | C32: 37.7 | D32: 149 | E32: 212 | F32: 38.217977
B33: 30 | C33: 38.3 | D33: 152 | E33: 212 | F33: 39.477927
A34: D | B34: 0 | C34: 37.1 | D34: 0 | E34: 0 | F34: 0 | H34: 58.4 | I34: 58.2 | J34: =H34-I34 -> 0.2 | K34: =D37-D35 -> 4 | L34: =F37-F35 -> 2.357707 | M34: =C37-C34 -> -1.8 | N34: 50 | O34: =F37/N34*100 -> 70.421426 | P34: 115 | Q34: =SUM(E35:E37)/3 -> 117.33333 | R34: 160 | S34: F
B35: 10 | C35: 36.5 | D35: 168 | E35: 118 | F35: 32.853006
B36: 20 | C36: 35.2 | D36: 167 | E36: 117 | F36: 35.081027
B37: 30 | C37: 35.3 | D37: 172 | E37: 117 | F37: 35.210713
A38: E | B38: 0 | C38: 36.2 | D38: 0 | E38: 0 | F38: 0 | H38: 77.3 | I38: 77 | J38: =H38-I38 -> 0.3 | K38: =D41-D39 -> 8 | L38: =F41-F39 -> 3.6670622 | M38: =C41-C38 -> -1.3 | N38: 42.9 | O38: =F41/N38*100 -> 74.357378 | P38: 131 | Q38: =SUM(E39:E41)/3 -> 132.33333 | R38: 185 | S38: M
B39: 10 | C39: 36.3 | D39: 136 | E39: 131 | F39: 28.232253
B40: 20 | C40: 35.2 | D40: 140 | E40: 133 | F40: 32.69393
...

Sheet Hot with external cooling
A1: Participant | B1: Time (mins) | C1: Temp (DegC) | D1: HR (bpm) | E1: Power (W) | F1: VO2 (ml/kg/min) | G1: RPE | H1: Weight pre (kg) | I1: Weight post (kg) | J1: Sweat loss (kg) | K1: HR Drift (bpm) | L1: VO2 Drift | M1: Temp diff (DegC) | N1: VO2 Max | O1: % of VO2 Max | P1: Target W | Q1: Actual W | S1: Force Paltorm Results | T1: Max Power | U1: Max Force | V1: Average power | W1: Average Force
A2: Menna | B2: 0 | C2: 35.2 | D2: 81 | H2: 66.9 | I2: 66.7 | J2: ='Ambient test'!H2-'Ambient test'!I2 -> 0.3 | K2: ='Ambient test'!D5-'Ambient test'!D3 -> 4 | L2: ='Ambient test'!F5-'Ambient test'!F3 -> -0.4 | M2: ='Ambient test'!C5-'Ambient test'!C2 -> 0.9 | N2: 42.6 | O2: ='Ambient test'!F5/N2*100 -> 66.666667 | P2: 212 | Q2: =SUM('Ambient test'!E3:E5)/3 -> 127.66667 | S2: Pre-cooling
B3: 10 | C3: 37 | D3: 151 | E3: 122 | F3: 29.4 | S3: Post-cooling
B4: 20 | C4: 35.5 | D4: 161 | E4: 128 | F4: 29.9
B5: 30 | C5: 37.8 | D5: 164 | E5: 128 | F5: 28.7
A6: Amy | B6: 0 | C6: 34.8 | H6: 70.8 | I6: 70.6 | J6: ='Ambient test'!H6-'Ambient test'!I6 -> 0.1 | K6: ='Ambient test'!D9-'Ambient test'!D7 -> 6 | L6: ='Ambient test'!F9-'Ambient test'!F7 -> 0.12 | M6: ='Ambient test'!C9-'Ambient test'!C6 -> 1 | N6: 45.6 | O6: ='Ambient test'!F9/N6*100 -> 9.0570175 | P6: 212 | Q6: =SUM('Ambient test'!E7:E9)/3 -> 128 | S6: Pre-cooling
B7: 10 | C7: 37.1 | D7: 144 | E7: 127 | F7: 27.5 | S7: Post-cooling
B8: 20 | C8: 37.6 | D8: 152 | E8: 127 | F8: 26.1
B9: 30 | C9: 37.5 | D9: 158 | E9: 128 | F9: 29.6
A10: Guto | B10: 0 | C10: 35.3 | H10: 74.1 | I10: 73.4 | J10: =H10-I10 -> 0.7 | K10: =D13-D11 -> 20 | L10: =F13-F11 -> 7.3 | M10: =C13-C10 -> 2.4 | N10: 71.1 | O10: =F13/N10*100 -> 54.711674 | P10: 212 | Q10: =SUM(E11:E13)/3 -> 250.66667 | S10: Pre-cooling | T10: 4177 | U10: 1871 | V10: 911 | W10: 973
B11: 10 | C11: 36.4 | D11: 152 | E11: 251 | F11: 31.6 | G11: 8 | S11: Post-cooling
B12: 20 | C12: 37.3 | D12: 160 | E12: 250 | F12: 36.9 | G12: 11
B13: 30 | C13: 37.7 | D13: 172 | E13: 251 | F13: 38.9 | G13: 12
A14: Jay | B14: 0 | J14: =H14-I14 -> 0 | K14: =D17-D15 -> 0 | L14: =F17-F15 -> 0 | M14: =C17-C14 -> 0 | N14: 54.3 | O14: =F17/N14*100 -> 0 | P14: 115 | Q14: =SUM(E15:E17)/3 -> 0 | S14: Pre-cooling | T14: 3522 | U14: 1758 | V14: 1091 | W14: 1015
B15: 10 | S15: Post-cooling
B16: 20
B17: 30
A18: Ieuan | B18: 0 | C18: 34.7 | H18: 94.3 | I18: 93.8 | J18: =H18-I18 -> 0.5 | K18: =D21-D19 -> 36 | L18: =F21-F19 -> 0.2 | M18: =C21-C18 -> 2.9 | N18: 46.9 | O18: =F21/N18*100 -> 57.356077 | P18: 131 | Q18: =SUM(E19:E21)/3 -> 168 | S18: Pre-cooling | T18: 4169 | U18: 2086 | V18: 1234 | W18: 1235
B19: 10 | C19: 36.8 | D19: 142 | E19: 170 | F19: 26.7 | G19: 13 | S19: Post-cooling
B20: 20 | C20: 37.3 | D20: 160 | E20: 162 | F20: 32.8 | G20: 16
B21: 30 | C21: 37.6 | D21: 178 | E21: 172 | F21: 26.9 | G21: 17
A22: A | B22: 0 | C22: 37.2 | H22: 93.7 | I22: 93.2 | J22: =H22-I22 -> 0.5 | K22: =D25-D23 -> -8 | L22: =F25-F23 -> -2.9592926 | M22: =C25-C22 -> 1 | N22: 53.5 | O22: =F25/N22*100 -> 60.941936 | P22: 213 | Q22: =SUM(E23:E25)/3 -> 173 | S22: Pre-cooling | T22: 3980 | U22: 2120 | V22: 1177 | W22: 814
B23: 10 | C23: 37.2 | D23: 160 | E23: 200 | F23: 35.563228 | S23: Post-cooling | T23: 3987 | U23: 2092 | V23: 1181 | W23: 812
B24: 20 | C24: 37.5 | D24: 165 | E24: 177 | F24: 36.096355
B25: 30 | C25: 38.2 | D25: 152 | E25: 142 | F25: 32.603936
A26: B | B26: 0 | C26: 34.8 | H26: 78.6 | I26: 78.3 | J26: =H26-I26 -> 0.3 | K26: =D29-D27 -> 10 | L26: =F29-F27 -> 4.4797941 | M26: =C29-C26 -> 3.1 | N26: 61.7 | O26: =F29/N26*100 -> 71.557339 | P26: 240 | Q26: =SUM(E27:E29)/3 -> 239.66667 | S26: Pre-cooling | T26: 3916 | U26: 1734 | V26: 1037 | W26: 1108
B27: 10 | C27: 35.7 | D27: 140 | E27: 240 | F27: 39.671084 | S27: Post-cooling | T27: 3891 | U27: 1690 | V27: 1037 | W27: 1067
B28: 20 | C28: 36.7 | D28: 150 | E28: 239 | F28: 42.684286
B29: 30 | C29: 37.9 | D29: 150 | E29: 240 | F29: 44.150878
A30: C | B30: 0 | C30: 36.7 | H30: 88.8 | I30: 88.4 | J30: =H30-I30 -> 0.4 | K30: =D33-D31 -> 10 | L30: =F33-F31 -> 1.7191475 | M30: =C33-C30 -> 2 | N30: 49 | O30: =F33/N30*100 -> 79.972825 | P30: 212 | Q30: =SUM(E31:E33)/3 -> 212 | S30: Pre-cooling | T30: 3558 | U30: 1949 | V30: 886 | W30: 1132
B31: 10 | C31: 37.3 | D31: 150 | E31: 212 | F31: 37.467537 | S31: Post-cooling | T31: 3711 | U31: 1936 | V31: 1087 | W31: 1155
B32: 20 | C32: 38.3 | D32: 155 | E32: 212 | F32: 39.574647
B33: 30 | C33: 38.7 | D33: 160 | E33: 212 | F33: 39.186684
A34: D | B34: 0 | C34: 36.3 | H34: 58.3 | I34: 58 | J34: =H34-I34 -> 0.3 | K34: =D37-D35 -> 13 | L34: =F37-F35 -> 4.9190116 | M34: =C37-C34 -> 2 | N34: 50 | O34: =F37/N34*100 -> 85.771527 | P34: 115 | Q34: =SUM(E35:E37)/3 -> 116 | S34: Pre-cooling | T34: 2673 | U34: 1233 | V34: 764 | W34: 702
B35: 10 | C35: 37.3 | D35: 178 | E35: 116 | F35: 37.966752 | S35: Post-cooling | T35: 2570 | U35: 1245 | V35: 766 | W35: 747
B36: 20 | C36: 37.9 | D36: 186 | E36: 116 | F36: 39.985164
B37: 30 | C37: 38.3 | D37: 191 | E37: 116 | F37: 42.885763
A38: E | B38: 0 | C38: 36 | H38: 76.7 | I38: 76.4 | J38: =H38-I38 -> 0.3 | K38: =D41-D39 -> 22 | L38: =F41-F39 -> 3.5627404 | M38: =C41-C38 -> 1.4 | N38: 42.9 | O38: =F41/N38*100 -> 86.000676 | P38: 131 | Q38: =SUM(E39:E41)/3 -> 128.66667 | S38: Pre-cooling | T38: 3352 | U38: 1685 | V38: 962 | W38: 683
B39: 10 | C39: 37 | D39: 157 | E39: 128 | F39: 33.33155 | S39: Post-cooling | T39: 3386 | U39: 1691 | V39: 974 | W39: 743
B40: 20 | C40: 36.9 | D40: 168 | E40: 129 | F40: 37.452838
...

Sheet Normoxic
A1: Participant | B1: Time (mins) | C1: o2 sats | D1: HR (bpm) | E1: Power (W) | F1: VO2 (ml/kg/min) | G1: RPE | H1: Weight pre (kg) | I1: Weight post (kg) | J1: Sweat loss (kg) | K1: HR Drift (bpm) | L1: VO2 Drift | M1: O2 diff | N1: VO2 Max | O1: % of VO2 Max | P1: Target W | Q1: Actual W
A2: Menna | B2: 0 | H2: 67 | I2: 66.7 | J2: ='Ambient test'!H2-'Ambient test'!I2 -> 0.3 | K2: ='Ambient test'!D5-'Ambient test'!D3 -> 4 | L2: ='Ambient test'!F5-'Ambient test'!F3 -> -0.4
B3: 10 | D3: 150 | E3: 128 | F3: 28.8
B4: 20 | D4: 149 | E4: 127 | F4: 25.5
B5: 30 | D5: 154 | E5: 128 | F5: 28.4 | N5: 42.6 | O5: ='Ambient test'!F5/N5*100 -> 66.666667 | Q5: =SUM('Ambient test'!E3:E5)/3 -> 127.66667
A6: Amy | B6: 0 | H6: 71.1 | I6: 71 | J6: ='Ambient test'!H6-'Ambient test'!I6 -> 0.1 | K6: ='Ambient test'!D9-'Ambient test'!D7 -> 6 | L6: ='Ambient test'!F9-'Ambient test'!F7 -> 0.12
B7: 10 | D7: 140 | E7: 129 | F7: 4.01
B8: 20 | D8: 141 | E8: 128 | F8: 3.9
B9: 30 | D9: 146 | E9: 127 | F9: 4.13 | N9: 45.6 | O9: ='Ambient test'!F9/N9*100 -> 9.0570175 | Q9: =SUM('Ambient test'!E7:E9)/3 -> 128
A10: Guto | B10: 0 | H10: 74.4 | I10: 73.8 | J10: =H10-I10 -> 0.6 | K10: =D13-D11 -> 14 | L10: =F13-F11 -> 4.1
B11: 10 | D11: 149 | E11: 251 | F11: 41.4 | G11: 10
B12: 20 | D12: 159 | E12: 251 | F12: 45.9 | G12: 12
B13: 30 | D13: 163 | E13: 251 | F13: 45.5 | G13: 12 | N13: 71.1 | O13: =F13/N13*100 -> 63.994374 | Q13: =SUM(E11:E13)/3 -> 251
A14: Jay | B14: 0 | H14: 72.4 | I14: 71.9 | J14: =H14-I14 -> 0.5 | K14: =D17-D15 -> 11 | L14: =F17-F15 -> 2.6
B15: 10 | D15: 142 | E15: 167 | F15: 33.9
B16: 20 | D16: 149 | E16: 167 | F16: 35.6
B17: 30 | D17: 153 | E17: 168 | F17: 36.5 | N17: 54.3 | O17: =F17/N17*100 -> 67.219153 | Q17: =SUM(E15:E17)/3 -> 167.33333
A18: Ieuan | B18: 0 | H18: 93.4 | I18: 93 | J18: =H18-I18 -> 0.4 | K18: =D21-D19 -> 8 | L18: =F21-F19 -> 0.5
B19: 10 | D19: 161 | E19: 173 | F19: 25
B20: 20 | D20: 165 | E20: 175 | F20: 28.2
B21: 30 | D21: 169 | E21: 175 | F21: 25.5 | N21: 46.9 | O21: =F21/N21*100 -> 54.371002 | Q21: =SUM(E19:E21)/3 -> 174.33333
A22: A | B22: 0 | H22: 93.7 | I22: 93.1 | J22: =H22-I22 -> 0.6 | K22: =D25-D23 -> 5 | L22: =F25-F23 -> 1.668259 | M22: =C25-C23 -> -4 | N22: 53.5 | O22: =F25/N22*100 -> 55.522623 | P22: 160 | Q22: =SUM(E23:E25)/3 -> 160
B23: 10 | C23: 98 | D23: 139 | E23: 160 | F23: 28.036344
B24: 20 | C24: 90 | D24: 142 | E24: 160 | F24: 27.269992
B25: 30 | C25: 94 | D25: 144 | E25: 160 | F25: 29.704603
A26: B | B26: 0 | H26: 77.2 | I26: 77 | J26: =H26-I26 -> 0.2 | K26: =D29-D27 -> 11 | L26: =F29-F27 -> 0.62101529 | M26: =C29-C27 -> -3 | N26: 61.7 | O26: =F29/N26*100 -> 54.119985 | P26: 180 | Q26: =SUM(E27:E29)/3 -> 179
B27: 10 | C27: 99 | D27: 124 | E27: 179 | F27: 32.771016
B28: 20 | C28: 97 | D28: 130 | E28: 179 | F28: 33.231768
B29: 30 | C29: 96 | D29: 135 | E29: 179 | F29: 33.392031
A30: C | B30: 0 | H30: 88.8 | I30: 88.5 | J30: =H30-I30 -> 0.3 | K30: =D33-D31 -> 3 | L30: =F33-F31 -> 1.5176658 | M30: =C33-C31 -> -2 | N30: 49 | O30: =F33/N30*100 -> 54.817703 | P30: 159 | Q30: =SUM(E31:E33)/3 -> 158.33333
B31: 10 | C31: 98 | D31: 131 | E31: 159 | F31: 25.343008
B32: 20 | C32: 93 | D32: 126 | E32: 157 | F32: 25.714671
B33: 30 | C33: 96 | D33: 134 | E33: 159 | F33: 26.860674
A34: D | B34: 0 | H34: 58.8 | I34: 58.6 | J34: =H34-I34 -> 0.2 | K34: =D37-D35 -> 7 | L34: =F37-F35 -> 7.8619891 | M34: =C37-C35 -> 0 | N34: 50 | O34: =F37/N34*100 -> 66.027913 | P34: 86 | Q34: =SUM(E35:E37)/3 -> 88.666667
B35: 10 | C35: 96 | D35: 140 | E35: 89 | F35: 25.151967
B36: 20 | C36: 95 | D36: 143 | E36: 88 | F36: 30.886888
B37: 30 | C37: 96 | D37: 147 | E37: 89 | F37: 33.013957
A38: E | B38: 0 | H38: 76.2 | I38: 76.1 | J38: =H38-I38 -> 0.1 | K38: =D41-D39 -> 14 | L38: =F41-F39 -> -0.05777256 | M38: =C41-C39 -> -2 | N38: 42.9 | O38: =F41/N38*100 -> 55.934422 | P38: 98 | Q38: =SUM(E39:E41)/3 -> 99
B39: 10 | C39: 97 | D39: 117 | E39: 98 | F39: 24.05364
B40: 20 | C40: 96 | D40: 125 | E40: 98 | F40: 22.589049
...

Sheet Hypoxic
A1: Participant | B1: Time (mins) | C1: O2 Sats | D1: HR (bpm) | E1: Power (W) | F1: VO2 (ml/kg/min) | G1: RPE | H1: Weight pre (kg) | I1: Weight post (kg) | J1: Sweat loss (kg) | K1: HR Drift (bpm) | L1: VO2 Drift | M1: O2 Sats Diff % | N1: VO2 Max | O1: % of VO2 Max | P1: Target W | Q1: Actual W
A2: Menna | B2: 0 | H2: 67.2 | J2: =H2-I2 -> 67.2 | K2: =D5-D3 -> 5 | L2: =F5-F3 -> 0 | M2: =C5-C3 -> 0 | N2: 42.6 | O2: =F5/N2*100 -> 0 | Q2: =SUM(E3:E5)/3 -> 131.33333
B3: 10 | D3: 153 | E3: 130 | G3: 12
B4: 20 | D4: 155 | E4: 129 | G4: 13
B5: 30 | D5: 158 | E5: 135 | G5: 10
A6: Amy | B6: 0 | H6: 70 | I6: 68.9 | J6: =H6-I6 -> 1.1 | K6: =D9-D7 -> 8 | L6: =F9-F7 -> 0 | M6: =C9-C7 -> 0 | N6: 45.6 | O6: =F9/N6*100 -> 0 | Q6: =SUM(E7:E9)/3 -> 126.33333
B7: 10 | D7: 150 | E7: 127 | G7: 12
B8: 20 | D8: 155 | E8: 126 | G8: 13
B9: 30 | D9: 158 | E9: 126 | G9: 13
A10: Guto | B10: 0 | H10: 73.7 | I10: 72.9 | J10: =H10-I10 -> 0.8 | K10: =D13-D11 -> 10 | L10: =F13-F11 -> 0 | M10: =C13-C11 -> 0 | N10: 71.1 | O10: =F13/N10*100 -> 0 | Q10: =SUM(E11:E13)/3 -> 250.66667
B11: 10 | D11: 166 | E11: 250 | G11: 11
B12: 20 | D12: 171 | E12: 250 | G12: 14
B13: 30 | D13: 176 | E13: 252 | G13: 15
A14: Jay | B14: 0 | H14: 72.9 | I14: 72.5 | J14: =H14-I14 -> 0.4 | K14: =D17-D15 -> 9 | L14: =F17-F15 -> 0 | M14: =C17-C15 -> 0 | N14: 54.3 | O14: =F17/N14*100 -> 0 | Q14: =SUM(E15:E17)/3 -> 167
B15: 10 | D15: 149 | E15: 166 | G15: 14
B16: 20 | D16: 157 | E16: 168 | G16: 14
B17: 30 | D17: 158 | E17: 167 | G17: 15
A18: A | B18: 0 | H18: 94.4 | I18: 94 | J18: =H18-I18 -> 0.4 | K18: =D21-D19 -> 9 | L18: =F21-F19 -> 0 | M18: =C21-C19 -> -2 | N18: 53.5 | O18: =F21/N18*100 -> 0 | P18: 160 | Q18: =SUM(E19:E21)/3 -> 160.33333
B19: 10 | C19: 88 | D19: 146 | E19: 161
B20: 20 | C20: 87 | D20: 151 | E20: 160
B21: 30 | C21: 86 | D21: 155 | E21: 160
A22: B | B22: 0 | H22: 77.9 | I22: 77.7 | J22: =H22-I22 -> 0.2 | K22: =D25-D23 -> 9 | L22: =F25-F23 -> 0 | M22: =C25-C23 -> -10 | N22: 61.7 | O22: =F25/N22*100 -> 0 | P22: 180 | Q22: =SUM(E23:E25)/3 -> 180
B23: 10 | C23: 89 | D23: 136 | E23: 180
B24: 20 | C24: 80 | D24: 141 | E24: 180
B25: 30 | C25: 79 | D25: 145 | E25: 180
A26: C | B26: 0 | H26: 88.1 | I26: 87.8 | J26: =H26-I26 -> 0.3 | K26: =D29-D27 -> 4 | L26: =F29-F27 -> 0 | M26: =C29-C27 -> 5 | N26: 49 | O26: =F29/N26*100 -> 0 | P26: 159 | Q26: =SUM(E27:E29)/3 -> 156.66667
B27: 10 | C27: 86 | D27: 139 | E27: 158
B28: 20 | C28: 94 | D28: 139 | E28: 156
B29: 30 | C29: 91 | D29: 143 | E29: 156
A30: D | B30: 0 | H30: 59.2 | I30: 58.9 | J30: =H30-I30 -> 0.3 | K30: =D33-D31 -> 19 | L30: =F33-F31 -> 0 | M30: =C33-C31 -> 0 | N30: 50 | O30: =F33/N30*100 -> 0 | P30: 86 | Q30: =SUM(E31:E33)/3 -> 87.333333
B31: 10 | C31: 88 | D31: 142 | E31: 88
B32: 20 | C32: 86 | D32: 153 | E32: 87
B33: 30 | C33: 88 | D33: 161 | E33: 87
A34: E | B34: 0 | H34: 76.5 | I34: 76.2 | J34: =H34-I34 -> 0.3 | K34: =D37-D35 -> 5 | L34: =F37-F35 -> 0 | M34: =C37-C35 -> 0 | N34: 42.9 | O34: =F37/N34*100 -> 0 | P34: 98 | Q34: =SUM(E35:E37)/3 -> 97
B35: 10 | C35: 88 | D35: 139 | E35: 97
B36: 20 | C36: 85 | D36: 141 | E36: 97
B37: 30 | C37: 88 | D37: 144 | E37: 97
A38: F | B38: 0 | H38: 63.2 | I38: 63 | J38: =H38-I38 -> 0.2 | K38: =D41-D39 -> 8 | L38: =F41-F39 -> 0 | M38: =C41-C39 -> 1 | N38: 61 | O38: =F41/N38*100 -> 0 | P38: 105 | Q38: =SUM(E39:E41)/3 -> 105.33333
B39: 10 | C39: 89 | D39: 140 | E39: 105
B40: 20 | C40: 86 | D40: 145 | E40: 105
...

Sheet Grip Strength
A1: Participants | B1: Start | C1: 5min | D1: 10min | E1: 15min | F1: 20min | G1: 25min | H1: 30min | I1: Max Difference
A2: A | B2: 57 | C2: 54 | D2: 56 | E2: 55 | F2: 53.5 | G2: 51 | H2: 50 | I2: -7
A4: B | B4: 34 | C4: 31 | D4: 34 | E4: 35 | F4: 32 | G4: 31 | H4: 32.5 | I4: -3
A6: C | B6: 61.5 | C6: 60.5 | D6: 59 | E6: 58 | F6: 55 | G6: 55 | H6: 53 | I6: -8.5
A8: D | B8: 56 | C8: 52 | D8: 54 | E8: 50 | F8: 51 | G8: 50 | H8: 49 | I8: -7
A10: E | B10: 58 | C10: 58 | D10: 58 | E10: 55 | F10: 50 | G10: 53 | H10: 49 | I10: -9
A12: F | B12: 54 | C12: 46 | D12: 44 | E12: 53 | F12: 47 | G12: 44 | H12: 41 | I12: -13
A14: G | B14: 50 | C14: 51 | D14: 51 | E14: 46 | F14: 44 | G14: 44 | H14: 42 | I14: -8
A16: H | B16: 29 | C16: 28 | D16: 28 | E16: 30 | F16: 28 | G16: 28 | H16: 27 | I16: -2
