Workbook

Sheet CamShafts 
A1: Degree Of Rotation | B1: Rads Of Rotation | C1: Velocity Pre Degree | D1: Inlet | E1: Exhaust | F1: Sin(θ) | G1: Cos(θ) | H1: Crank Motion | I1: Rod-Angle | J1: Pistion Position | K1: Piston Velocity | L1: Cam Lobe Lift - Intake | M1: Cam Lobe Lift - Exhaust | N1: Valve Velocity Intake | O1: Valve Velocity Exhaust | P1: Valve Acceleration Intake | Q1: Valve Acceleration Exhaust | R1: Intake Jerk | S1: Exhaust Jerk
A2: 0 | B2: 0 | C2: =J15-J14 -> 0.0002160215 | D2: 0 | E2: 0 | F2: =SIN(B2) -> 0 | G2: =COS(B2) -> 1 | H2: =$V$9*(1-G2) -> 0 | I2: =$V$8-SQRT($V$8^2-($V$9*F2)^2) -> 0 | J2: =H2+I2 -> 0 | K2: =C2*6*3000 -> 3.8883869 | L2: =D2/1.8 -> 0 | M2: =E2/1.8 -> 0 | N2: =L3-L2 -> 0 | O2: =M3-M2 -> 0 | P2: =N3-N2 -> 0.0055555556 | Q2: =O2-O3 -> 0 | R2: =P3-P2 -> -0.011111111 | S2: =Q3-Q2 -> 0 | U2: Inlet Weight 2.13kg | V2: Exhaust Weight 2.1kg | X2: Crank Radius | Y2: Angle into Radians | AA2: Piston Position
A3: 1 | B3: =A3*3.14/180 -> 0.017444444 | C3: =J16-J15 -> 0.00023149098 | D3: 0 | E3: 0 | F3: =SIN(B3) -> 0.01744356 | G3: =COS(B3) -> 0.99984785 | H3: =$V$9*(1-G3) -> 6.3218517e-06 | I3: =$V$8-SQRT($V$8^2-($V$9*F3)^2) -> 1.7990039e-06 | J3: =H3+I3 -> 8.1208557e-06 | K3: =C3*6*3000 -> 4.1668376 | L3: =D3/1.8 -> 0 | M3: =E3/1.8 -> 0 | N3: =L4-L3 -> 0.0055555556 | O3: =M4-M3 -> 0 | P3: =N4-N3 -> -0.0055555556 | Q3: =O3-O4 -> 0 | R3: =P4-P3 -> 0.0055555556 | S3: =Q4-Q3 -> 0 | U3: lobe lift for each in mm at each degree of rotation
A4: =ROW(A1)+1 -> 2 | B4: =A4*3.14/180 -> 0.034888889 | C4: =J17-J16 -> 0.00024684755 | D4: 0.01 | E4: 0 | F4: =SIN(B4) -> 0.034881811 | G4: =COS(B4) -> 0.99939144 | H4: =$V$9*(1-G4) -> 2.5285483e-05 | I4: =$V$8-SQRT($V$8^2-($V$9*F4)^2) -> 7.1939591e-06 | J4: =H4+I4 -> 3.2479442e-05 | K4: =C4*6*3000 -> 4.4432559 | L4: =D4/1.8 -> 0.0055555556 | M4: =E4/1.8 -> 0 | N4: =L5-L4 -> 0 | O4: =M5-M4 -> 0 | P4: =N5-N4 -> 0 | Q4: =O4-O5 -> 0 | R4: =P5-P4 -> 0 | S4: =Q5-Q4 -> 0 | U4: ENGINE SPECIFICATIONS | W4: Unit | X4: Pistion Velocity | Y4: M/s | Z4: Unit
A5: =ROW(A3)+1 -> 4 | B5: =A5*3.14/180 -> 0.069777778 | C5: =J18-J17 -> 0.00026208382 | D5: 0.01 | E5: 0 | F5: =SIN(B5) -> 0.069721168 | G5: =COS(B5) -> 0.99756652 | H5: =$V$9*(1-G5) -> 0.00010111116 | I5: =$V$8-SQRT($V$8^2-($V$9*F5)^2) -> 2.8742945e-05 | J5: =H5+I5 -> 0.0001298541 | K5: =C5*6*3000 -> 4.7175088 | L5: =D5/1.8 -> 0.0055555556 | M5: =E5/1.8 -> 0 | N5: =L6-L5 -> 0 | O5: =M6-M5 -> 0 | P5: =N6-N5 -> 0 | Q5: =O5-O6 -> 0 | R5: =P6-P5 -> 0.0055555556 | S5: =Q6-Q5 -> 0 | U5: Stoke: | V5: 83.1 | W5: mm | X5: Max Velocity | Y5: =MAX(K:K) -> 13.567255
A6: =ROW(A4)+1 -> 5 | B6: =A6*3.14/180 -> 0.087222222 | C6: =J19-J18 -> 0.00027719246 | D6: 0.01 | E6: 0 | F6: =SIN(B6) -> 0.087111671 | G6: =COS(B6) -> 0.99619855 | H6: =$V$9*(1-G6) -> 0.00015795013 | I6: =$V$8-SQRT($V$8^2-($V$9*F6)^2) -> 4.4872331e-05 | J6: =H6+I6 -> 0.00020282246 | K6: =C6*6*3000 -> 4.9894643 | L6: =D6/1.8 -> 0.0055555556 | M6: =E6/1.8 -> 0 | N6: =L7-L6 -> 0 | O6: =M7-M6 -> 0 | P6: =N7-N6 -> 0.0055555556 | Q6: =O6-O7 -> 0 | R6: =P7-P6 -> -0.011111111 | S6: =Q7-Q6 -> 0 | U6: Bore: | V6: 87.5 | W6: mm | X6: Min Velocity | Y6: =MIN(K:K) -> -13.566914
A7: =ROW(A5)+1 -> 6 | B7: =A7*3.14/180 -> 0.10466667 | C7: =J20-J19 -> 0.00029216623 | D7: 0.01 | E7: 0 | F7: =SIN(B7) -> 0.10447567 | G7: =COS(B7) -> 0.99452744 | H7: =$V$9*(1-G7) -> 0.00022738473 | I7: =$V$8-SQRT($V$8^2-($V$9*F7)^2) -> 6.4548404e-05 | J7: =H7+I7 -> 0.00029193314 | K7: =C7*6*3000 -> 5.2589921 | L7: =D7/1.8 -> 0.0055555556 | M7: =E7/1.8 -> 0 | N7: =L8-L7 -> 0.0055555556 | O7: =M8-M7 -> 0 | P7: =N8-N7 -> -0.0055555556 | Q7: =O7-O8 -> 0 | R7: =P8-P7 -> 0.0055555556 | S7: =Q8-Q7 -> 0 | U7: Compression Ratio: | V7: 10.8:1 | W7: N/A | X7: Mean Piston Speed | Y7: =2*V5/1000 * 3000/60 -> 8.31
A8: =ROW(A6)+1 -> 7 | B8: =A8*3.14/180 -> 0.12211111 | C8: =J21-J20 -> 0.00030699796 | D8: 0.02 | E8: 0 | F8: =SIN(B8) -> 0.12180787 | G8: =COS(B8) -> 0.9925537 | H8: =$V$9*(1-G8) -> 0.00030939385 | I8: =$V$8-SQRT($V$8^2-($V$9*F8)^2) -> 8.7748645e-05 | J8: =H8+I8 -> 0.0003971425 | K8: =C8*6*3000 -> 5.5259634 | L8: =D8/1.8 -> 0.011111111 | M8: =E8/1.8 -> 0 | N8: =L9-L8 -> 0 | O8: =M9-M8 -> 0 | P8: =N9-N8 -> 0 | Q8: =O8-O9 -> 0 | R8: =P9-P8 -> 0.0055555556 | S8: =Q9-Q8 -> 0 | U8: Connecting Rod: | V8: =146/1000 -> 0.146 | W8: m | X8: Spring
A9: =ROW(A7)+1 -> 8 | B9: =A9*3.14/180 -> 0.13955556 | C9: =J22-J21 -> 0.00032168061 | D9: 0.02 | E9: 0 | F9: =SIN(B9) -> 0.139103 | G9: =COS(B9) -> 0.99027792 | H9: =$V$9*(1-G9) -> 0.00040395252 | I9: =$V$8-SQRT($V$8^2-($V$9*F9)^2) -> 0.00011444649 | J9: =H9+I9 -> 0.00051839902 | K9: =C9*6*3000 -> 5.790251 | L9: =D9/1.8 -> 0.011111111 | M9: =E9/1.8 -> 0 | N9: =L10-L9 -> 0 | O9: =M10-M9 -> 0 | P9: =N10-N9 -> 0.0055555556 | Q9: =O9-O10 -> 0 | R9: =P10-P9 -> -0.011111111 | S9: =Q10-Q9 -> 0 | U9: Crank Radius: | V9: =V5/2 /1000 -> 0.04155 | W9: m | X9: Stiffness | Y9: =0.17+0.1+0.3+0.052 -> 0.622 | Z9: Kg
A10: =ROW(A8)+1 -> 9 | B10: =A10*3.14/180 -> 0.157 | C10: =J23-J22 -> 0.0003362072 | D10: 0.02 | E10: 0 | F10: =SIN(B10) -> 0.15635581 | G10: =COS(B10) -> 0.98770079 | H10: =$V$9*(1-G10) -> 0.00051103198 | I10: =$V$8-SQRT($V$8^2-($V$9*F10)^2) -> 0.00014461136 | J10: =H10+I10 -> 0.00065564333 | K10: =C10*6*3000 -> 6.0517297 | L10: =D10/1.8 -> 0.011111111 | M10: =E10/1.8 -> 0 | N10: =L11-L10 -> 0.0055555556 | O10: =M11-M10 -> 0 | P10: =N11-N10 -> -0.0055555556 | Q10: =O10-O11 -> 0 | R10: =P11-P10 -> 0.0055555556 | S10: =Q11-Q10 -> 0 | X10: Stiffness | Y10: 0.467 | Z10: Kg
A11: =ROW(A9)+1 -> 10 | B11: =A11*3.14/180 -> 0.17444444 | C11: =J24-J23 -> 0.00035057087 | D11: 0.03 | E11: 0 | F11: =SIN(B11) -> 0.17356104 | G11: =COS(B11) -> 0.98482311 | H11: =$V$9*(1-G11) -> 0.00063059963 | I11: =$V$8-SQRT($V$8^2-($V$9*F11)^2) -> 0.00017820867 | J11: =H11+I11 -> 0.0008088083 | K11: =C11*6*3000 -> 6.3102757 | L11: =D11/1.8 -> 0.016666667 | M11: =E11/1.8 -> 0 | N11: =L12-L11 -> 0 | O11: =M12-M11 -> 0 | P11: =N12-N11 -> 0 | Q11: =O11-O12 -> 0 | R11: =P12-P11 -> 0.0055555556 | S11: =Q12-Q11 -> 0 | U11: Float Speed | V11: Standard Vavletrain
A12: =ROW(A10)+1 -> 11 | B12: =A12*3.14/180 -> 0.19188889 | C12: =J25-J24 -> 0.00036476485 | D12: 0.03 | E12: 0 | F12: =SIN(B12) -> 0.19071345 | G12: =COS(B12) -> 0.98164575 | H12: =$V$9*(1-G12) -> 0.00076261909 | I12: =$V$8-SQRT($V$8^2-($V$9*F12)^2) -> 0.00021519989 | J12: =H12+I12 -> 0.00097781898 | K12: =C12*6*3000 -> 6.5657674 | L12: =D12/1.8 -> 0.016666667 | M12: =E12/1.8 -> 0 | N12: =L13-L12 -> 0 | O12: =M13-M12 -> 0 | P12: =N13-N12 -> 0.0055555556 | Q12: =O12-O13 -> 0 | R12: =P13-P12 -> -0.011111111 | S12: =Q13-Q12 -> 0 | U12: =(42000/0.622) -> 67524.116
A13: =ROW(A11)+1 -> 12 | B13: =A13*3.14/180 -> 0.20933333 | C13: =J26-J25 -> 0.00037878251 | D13: 0.03 | E13: 0 | F13: =SIN(B13) -> 0.20780783 | G13: =COS(B13) -> 0.97816967 | H13: =$V$9*(1-G13) -> 0.00090705018 | I13: =$V$8-SQRT($V$8^2-($V$9*F13)^2) -> 0.00025554258 | J13: =H13+I13 -> 0.0011625928 | K13: =C13*6*3000 -> 6.8180851 | L13: =D13/1.8 -> 0.016666667 | M13: =E13/1.8 -> 0 | N13: =L14-L13 -> 0.0055555556 | O13: =M14-M13 -> 0 | P13: =N14-N13 -> -0.0055555556 | Q13: =O13-O14 -> 0 | R13: =P14-P13 -> 0.0055555556 | S13: =Q14-Q13 -> 0 | U13: =SQRT(U12) -> 259.85403 | V13: Rad/s
A14: =ROW(A12)+1 -> 13 | B14: =A14*3.14/180 -> 0.22677778 | C14: =J27-J26 -> 0.0003926173 | D14: 0.04 | E14: 0 | F14: =SIN(B14) -> 0.22483898 | G14: =COS(B14) -> 0.97439593 | H14: =$V$9*(1-G14) -> 0.001063849 | I14: =$V$8-SQRT($V$8^2-($V$9*F14)^2) -> 0.00029919038 | J14: =H14+I14 -> 0.0013630393 | K14: =C14*6*3000 -> 7.0671114 | L14: =D14/1.8 -> 0.022222222 | M14: =E14/1.8 -> 0 | N14: =L15-L14 -> 0 | O14: =M15-M14 -> 0 | P14: =N15-N14 -> 0 | Q14: =O14-O15 -> 0 | R14: =P15-P14 -> 0 | S14: =Q15-Q14 -> 0 | U14: =U13*60/2*3.14 -> 24478.249 | V14: RPMCam
A15: =ROW(A13)+1 -> 14 | B15: =A15*3.14/180 -> 0.24422222 | C15: =J28-J27 -> 0.00040626282 | D15: 0.04 | E15: 0 | F15: =SIN(B15) -> 0.2418017 | G15: =COS(B15) -> 0.97032569 | H15: =$V$9*(1-G15) -> 0.0012329677 | I15: =$V$8-SQRT($V$8^2-($V$9*F15)^2) -> 0.00034609311 | J15: =H15+I15 -> 0.0015790608 | K15: =C15*6*3000 -> 7.3127307 | L15: =D15/1.8 -> 0.022222222 | M15: =E15/1.8 -> 0 | N15: =L16-L15 -> 0 | O15: =M16-M15 -> 0 | P15: =N16-N15 -> 0 | Q15: =O15-O16 -> 0 | R15: =P16-P15 -> 0.0055555556 | S15: =Q16-Q15 -> 0 | U15: =U14*2 -> 48956.499 | V15: RPMEngine
A16: =ROW(A14)+1 -> 15 | B16: =A16*3.14/180 -> 0.26166667 | C16: =J29-J28 -> 0.00041971277 | D16: 0.04 | E16: 0 | F16: =SIN(B16) -> 0.25869084 | G16: =COS(B16) -> 0.96596017 | H16: =$V$9*(1-G16) -> 0.001414355 | I16: =$V$8-SQRT($V$8^2-($V$9*F16)^2) -> 0.00039619682 | J16: =H16+I16 -> 0.0018105518 | K16: =C16*6*3000 -> 7.5548299 | L16: =D16/1.8 -> 0.022222222 | M16: =E16/1.8 -> 0 | N16: =L17-L16 -> 0 | O16: =M17-M16 -> 0 | P16: =N17-N16 -> 0.0055555556 | Q16: =O16-O17 -> 0 | R16: =P17-P16 -> -0.011111111 | S16: =Q17-Q16 -> 0 | U16: Float Speed | V16: LightWeight Vavletrain
A17: =ROW(A15)+1 -> 16 | B17: =A17*3.14/180 -> 0.27911111 | C17: =J30-J29 -> 0.00043296101 | D17: 0.04 | E17: 0 | F17: =SIN(B17) -> 0.27550127 | G17: =COS(B17) -> 0.96130071 | H17: =$V$9*(1-G17) -> 0.0016079556 | I17: =$V$8-SQRT($V$8^2-($V$9*F17)^2) -> 0.00044944379 | J17: =H17+I17 -> 0.0020573994 | K17: =C17*6*3000 -> 7.7932982 | L17: =D17/1.8 -> 0.022222222 | M17: =E17/1.8 -> 0 | N17: =L18-L17 -> 0.0055555556 | O17: =M18-M17 -> 0 | P17: =N18-N17 -> -0.0055555556 | Q17: =O17-O18 -> 0 | R17: =P18-P17 -> 0.011111111 | S17: =Q18-Q17 -> 0 | U17: =(42000/0.467) -> 89935.76
A18: =ROW(A16)+1 -> 17 | B18: =A18*3.14/180 -> 0.29655556 | C18: =J31-J30 -> 0.00044600152 | D18: 0.05 | E18: 0 | F18: =SIN(B18) -> 0.29222786 | G18: =COS(B18) -> 0.95634872 | H18: =$V$9*(1-G18) -> 0.0018137106 | I18: =$V$8-SQRT($V$8^2-($V$9*F18)^2) -> 0.00050577263 | J18: =H18+I18 -> 0.0023194832 | K18: =C18*6*3000 -> 8.0280273 | L18: =D18/1.8 -> 0.027777778 | M18: =E18/1.8 -> 0 | N18: =L19-L18 -> 0 | O18: =M19-M18 -> 0 | P18: =N19-N18 -> 0.0055555556 | Q18: =O18-O19 -> 0 | R18: =P19-P18 -> -0.011111111 | S18: =Q19-Q18 -> 0 | U18: =SQRT(U17) -> 299.89291 | V18: Rad/s
A19: =ROW(A17)+1 -> 18 | B19: =A19*3.14/180 -> 0.314 | C19: =J32-J31 -> 0.0004588284 | D19: 0.05 | E19: 0 | F19: =SIN(B19) -> 0.30886552 | G19: =COS(B19) -> 0.95110572 | H19: =$V$9*(1-G19) -> 0.0020315573 | I19: =$V$8-SQRT($V$8^2-($V$9*F19)^2) -> 0.00056511832 | J19: =H19+I19 -> 0.0025966757 | K19: =C19*6*3000 -> 8.2589111 | L19: =D19/1.8 -> 0.027777778 | M19: =E19/1.8 -> 0 | N19: =L20-L19 -> 0.0055555556 | O19: =M20-M19 -> 0 | P19: =N20-N19 -> -0.0055555556 | Q19: =O19-O20 -> 0 | R19: =P20-P19 -> 0.0055555556 | S19: =Q20-Q19 -> 0 | U19: =U18*60/2*3.14 -> 28249.913 | V19: RPMcam
A20: =ROW(A18)+1 -> 19 | B20: =A20*3.14/180 -> 0.33144444 | C20: =J33-J32 -> 0.00047143592 | D20: 0.06 | E20: 0 | F20: =SIN(B20) -> 0.3254092 | G20: =COS(B20) -> 0.94557329 | H20: =$V$9*(1-G20) -> 0.0022614296 | I20: =$V$8-SQRT($V$8^2-($V$9*F20)^2) -> 0.00062741227 | J20: =H20+I20 -> 0.0028888419 | K20: =C20*6*3000 -> 8.4858465 | L20: =D20/1.8 -> 0.033333333 | M20: =E20/1.8 -> 0 | N20: =L21-L20 -> 0 | O20: =M21-M20 -> 0 | P20: =N21-N20 -> 0 | Q20: =O20-O21 -> 0 | R20: =P21-P20 -> 0.0055555556 | S20: =Q21-Q20 -> 0 | U20: =U19*2 -> 56499.825 | V20: RPMEngine
A21: =ROW(A19)+1 -> 20 | B21: =A21*3.14/180 -> 0.34888889 | C21: =J34-J33 -> 0.00048381849 | D21: 0.06 | E21: 0 | F21: =SIN(B21) -> 0.34185385 | G21: =COS(B21) -> 0.93975313 | H21: =$V$9*(1-G21) -> 0.0025032574 | I21: =$V$8-SQRT($V$8^2-($V$9*F21)^2) -> 0.00069258241 | J21: =H21+I21 -> 0.0031958398 | K21: =C21*6*3000 -> 8.7087328 | L21: =D21/1.8 -> 0.033333333 | M21: =E21/1.8 -> 0 | N21: =L22-L21 -> 0 | O21: =M22-M21 -> 0 | P21: =N22-N21 -> 0.0055555556 | Q21: =O21-O22 -> 0 | R21: =P22-P21 -> -0.011111111 | S21: =Q22-Q21 -> 0 | U21: Diameter Intake | V21: Diameter exhaust
A22: =ROW(A20)+1 -> 21 | B22: =A22*3.14/180 -> 0.36633333 | C22: =J35-J34 -> 0.00049597067 | D22: 0.06 | E22: 0 | F22: =SIN(B22) -> 0.35819448 | G22: =COS(B22) -> 0.933647 | H22: =$V$9*(1-G22) -> 0.0027569672 | I22: =$V$8-SQRT($V$8^2-($V$9*F22)^2) -> 0.00076055325 | J22: =H22+I22 -> 0.0035175205 | K22: =C22*6*3000 -> 8.9274721 | L22: =D22/1.8 -> 0.033333333 | M22: =E22/1.8 -> 0 | N22: =L23-L22 -> 0.0055555556 | O22: =M23-M22 -> 0 | P22: =N23-N22 -> -0.0055555556 | Q22: =O22-O23 -> 0 | R22: =P23-P22 -> 0.0055555556 | S22: =Q23-Q22 -> 0 | U22: =SuperFlow!D16/4 -> 8.75 | V22: =SuperFlow!D17/4 -> 7.5
A23: =ROW(A21)+1 -> 22 | B23: =A23*3.14/180 -> 0.38377778 | C23: =J36-J35 -> 0.00050788718 | D23: 0.07 | E23: 0 | F23: =SIN(B23) -> 0.3744261 | G23: =COS(B23) -> 0.92725676 | H23: =$V$9*(1-G23) -> 0.0030224817 | I23: =$V$8-SQRT($V$8^2-($V$9*F23)^2) -> 0.00083124591 | J23: =H23+I23 -> 0.0038537277 | K23: =C23*6*3000 -> 9.1419693 | L23: =D23/1.8 -> 0.038888889 | M23: =E23/1.8 -> 0 | N23: =L24-L23 -> 0 | O23: =M24-M23 -> 0 | P23: =N24-N23 -> 0 | Q23: =O23-O24 -> 0 | R23: =P24-P23 -> 0.0055555556 | S23: =Q24-Q23 -> 0 | U23: Ideal Flow - Intake | V23: Ideal Flow - Exhaust
A24: =ROW(A22)+1 -> 23 | B24: =A24*3.14/180 -> 0.40122222 | C24: =J37-J36 -> 0.0005195629 | D24: 0.07 | E24: 0 | F24: =SIN(B24) -> 0.39054379 | G24: =COS(B24) -> 0.92058435 | H24: =$V$9*(1-G24) -> 0.0032997202 | I24: =$V$8-SQRT($V$8^2-($V$9*F24)^2) -> 0.00090457829 | J24: =H24+I24 -> 0.0042042985 | K24: =C24*6*3000 -> 9.3521322 | L24: =D24/1.8 -> 0.038888889 | M24: =E24/1.8 -> 0 | N24: =L25-L24 -> 0 | O24: =M25-M24 -> 0 | P24: =N25-N24 -> 0.0055555556 | Q24: =O24-O25 -> 0 | R24: =P25-P24 -> -0.011111111 | S24: =Q25-Q24 -> 0 | U24: =SuperFlow!D20*56.2 -> 98.35 | V24: =SuperFlow!E21*56.2 -> 168.6
A25: =ROW(A23)+1 -> 24 | B25: =A25*3.14/180 -> 0.41866667 | C25: =J38-J37 -> 0.00053099288 | D25: 0.07 | E25: 0 | F25: =SIN(B25) -> 0.40654264 | G25: =COS(B25) -> 0.91363181 | H25: =$V$9*(1-G25) -> 0.0035885983 | I25: =$V$8-SQRT($V$8^2-($V$9*F25)^2) -> 0.00098046505 | J25: =H25+I25 -> 0.0045690634 | K25: =C25*6*3000 -> 9.5578718 | L25: =D25/1.8 -> 0.038888889 | M25: =E25/1.8 -> 0 | N25: =L26-L25 -> 0.0055555556 | O25: =M26-M25 -> 0 | P25: =N26-N25 -> -0.0055555556 | Q25: =O25-O26 -> 0 | R25: =P26-P25 -> 0.0055555556 | S25: =Q26-Q25 -> 0 | U25: =SuperFlow!E20*56.2 -> 196.7 | V25: =SuperFlow!F21*56.2 -> 252.9
A26: =ROW(A24)+1 -> 25 | B26: =A26*3.14/180 -> 0.43611111 | C26: =J39-J38 -> 0.00054217232 | D26: 0.08 | E26: 0 | F26: =SIN(B26) -> 0.42241777 | G26: =COS(B26) -> 0.90640125 | H26: =$V$9*(1-G26) -> 0.0038890281 | I26: =$V$8-SQRT($V$8^2-($V$9*F26)^2) -> 0.0010588178 | J26: =H26+I26 -> 0.0049478459 | K26: =C26*6*3000 -> 9.7591017 | L26: =D26/1.8 -> 0.044444444 | M26: =E26/1.8 -> 0 | N26: =L27-L26 -> 0 | O26: =M27-M26 -> 0 | P26: =N27-N26 -> 0 | Q26: =O26-O27 -> 0 | R26: =P27-P26 -> 0.0055555556 | S26: =Q27-Q26 -> 0 | U26: =SuperFlow!F20*56.2 -> 295.05 | V26: =SuperFlow!G21*56.2 -> 337.2
A27: =ROW(A25)+1 -> 26 | B27: =A27*3.14/180 -> 0.45355556 | C27: =J40-J39 -> 0.00055309661 | D27: 0.08 | E27: 0 | F27: =SIN(B27) -> 0.43816437 | G27: =COS(B27) -> 0.89889487 | H27: =$V$9*(1-G27) -> 0.0042009182 | I27: =$V$8-SQRT($V$8^2-($V$9*F27)^2) -> 0.001139545 | J27: =H27+I27 -> 0.0053404632 | K27: =C27*6*3000 -> 9.955739 | L27: =D27/1.8 -> 0.044444444 | M27: =E27/1.8 -> 0 | N27: =L28-L27 -> 0 | O27: =M28-M27 -> 0 | P27: =N28-N27 -> 0.0055555556 | Q27: =O27-O28 -> 0 | R27: =P28-P27 -> -0.011111111 | S27: =Q28-Q27 -> 0 | U27: =SuperFlow!G20*56.2 -> 393.4 | V27: =SuperFlow!H21*56.2 -> 421.5
A28: =ROW(A26)+1 -> 27 | B28: =A28*3.14/180 -> 0.471 | C28: =J41-J40 -> 0.00056376133 | D28: 0.08 | E28: 0 | F28: =SIN(B28) -> 0.45377763 | G28: =COS(B28) -> 0.89111496 | H28: =$V$9*(1-G28) -> 0.0045241736 | I28: =$V$8-SQRT($V$8^2-($V$9*F28)^2) -> 0.0012225524 | J28: =H28+I28 -> 0.005746726 | K28: =C28*6*3000 -> 10.147704 | L28: =D28/1.8 -> 0.044444444 | M28: =E28/1.8 -> 0 | N28: =L29-L28 -> 0.0055555556 | O28: =M29-M28 -> 0 | P28: =N29-N28 -> -0.0055555556 | Q28: =O28-O29 -> 0 | R28: =P29-P28 -> 0.011111111 | S28: =Q29-Q28 -> 0 | U28: =SuperFlow!H20*56.2 -> 491.75 | V28: =SuperFlow!I21*56.2 -> 505.8
A29: =ROW(A27)+1 -> 28 | B29: =A29*3.14/180 -> 0.48844444 | C29: =J42-J41 -> 0.0005741622 | D29: 0.09 | E29: 0 | F29: =SIN(B29) -> 0.4692528 | G29: =COS(B29) -> 0.88306388 | H29: =$V$9*(1-G29) -> 0.004858696 | I29: =$V$8-SQRT($V$8^2-($V$9*F29)^2) -> 0.0013077428 | J29: =H29+I29 -> 0.0061664388 | K29: =C29*6*3000 -> 10.33492 | L29: =D29/1.8 -> 0.05 | M29: =E29/1.8 -> 0 | N29: =L30-L29 -> 0 | O29: =M30-M29 -> 0 | P29: =N30-N29 -> 0.0055555556 | Q29: =O29-O30 -> 0 | R29: =P30-P29 -> -0.011111111 | S29: =Q30-Q29 -> 0 | U29: =SuperFlow!I20*56.2 -> 590.1 | V29: =SuperFlow!J21*56.2 -> 590.1
A30: =ROW(A28)+1 -> 29 | B30: =A30*3.14/180 -> 0.50588889 | C30: =J43-J42 -> 0.00058429517 | D30: 0.09 | E30: 0 | F30: =SIN(B30) -> 0.48458518 | G30: =COS(B30) -> 0.87474408 | H30: =$V$9*(1-G30) -> 0.0052043836 | I30: =$V$8-SQRT($V$8^2-($V$9*F30)^2) -> 0.0013950162 | J30: =H30+I30 -> 0.0065993998 | K30: =C30*6*3000 -> 10.517313 | L30: =D30/1.8 -> 0.05 | M30: =E30/1.8 -> 0 | N30: =L31-L30 -> 0.0055555556 | O30: =M31-M30 -> 0 | P30: =N31-N30 -> -0.0055555556 | Q30: =O30-O31 -> 0 | R30: =P31-P30 -> 0.011111111 | S30: =Q31-Q30 -> 0 | U30: =SuperFlow!J20*56.2 -> 688.45 | V30: =SuperFlow!K21*56.2 -> 674.4
A31: =ROW(A29)+1 -> 30 | B31: =A31*3.14/180 -> 0.52333333 | C31: =J44-J43 -> 0.00059415634 | D31: 0.1 | E31: 0 | F31: =SIN(B31) -> 0.4997701 | G31: =COS(B31) -> 0.86615809 | H31: =$V$9*(1-G31) -> 0.0055611312 | I31: =$V$8-SQRT($V$8^2-($V$9*F31)^2) -> 0.0014842701 | J31: =H31+I31 -> 0.0070454013 | K31: =C31*6*3000 -> 10.694814 | L31: =D31/1.8 -> 0.055555556 | M31: =E31/1.8 -> 0 | N31: =L32-L31 -> 0 | O31: =M32-M31 -> 0 | P31: =N32-N31 -> 0.0055555556 | Q31: =O31-O32 -> 0 | R31: =P32-P31 -> -0.011111111 | S31: =Q32-Q31 -> 0 | U31: =SuperFlow!K20*56.2 -> 786.8 | V31: =SuperFlow!L21*56.2 -> 758.7
A32: =ROW(A30)+1 -> 31 | B32: =A32*3.14/180 -> 0.54077778 | C32: =J45-J44 -> 0.00060374203 | D32: 0.1 | E32: 0 | F32: =SIN(B32) -> 0.51480294 | G32: =COS(B32) -> 0.85730854 | H32: =$V$9*(1-G32) -> 0.0059288302 | I32: =$V$8-SQRT($V$8^2-($V$9*F32)^2) -> 0.0015753995 | J32: =H32+I32 -> 0.0075042297 | K32: =C32*6*3000 -> 10.867357 | L32: =D32/1.8 -> 0.055555556 | M32: =E32/1.8 -> 0 | N32: =L33-L32 -> 0.0055555556 | O32: =M33-M32 -> 0 | P32: =N33-N32 -> -0.0055555556 | Q32: =O32-O33 -> 0 | R32: =P33-P32 -> 0.0055555556 | S32: =Q33-Q32 -> 0 | U32: =SuperFlow!L20*56.2 -> 885.15 | V32: =SuperFlow!M21*56.2 -> 843
A33: =ROW(A31)+1 -> 32 | B33: =A33*3.14/180 -> 0.55822222 | C33: =J46-J45 -> 0.00061304873 | D33: 0.11 | E33: 0 | F33: =SIN(B33) -> 0.52967913 | G33: =COS(B33) -> 0.8481981 | H33: =$V$9*(1-G33) -> 0.0063073688 | I33: =$V$8-SQRT($V$8^2-($V$9*F33)^2) -> 0.0016682968 | J33: =H33+I33 -> 0.0079756656 | K33: =C33*6*3000 -> 11.034877 | L33: =D33/1.8 -> 0.061111111 | M33: =E33/1.8 -> 0 | N33: =L34-L33 -> 0 | O33: =M34-M33 -> 0 | P33: =N34-N33 -> 0 | Q33: =O33-O34 -> 0 | R33: =P34-P33 -> 0.0055555556 | S33: =Q34-Q33 -> 0
A34: =ROW(A32)+1 -> 33 | B34: =A34*3.14/180 -> 0.57566667 | C34: =J47-J46 -> 0.00062207315 | D34: 0.11 | E34: 0 | F34: =SIN(B34) -> 0.54439413 | G34: =COS(B34) -> 0.83882956 | H34: =$V$9*(1-G34) -> 0.0066966318 | I34: =$V$8-SQRT($V$8^2-($V$9*F34)^2) -> 0.0017628523 | J34: =H34+I34 -> 0.0084594841 | K34: =C34*6*3000 -> 11.197317 | L34: =D34/1.8 -> 0.061111111 | M34: =E34/1.8 -> 0 | N34: =L35-L34 -> 0 | O34: =M35-M34 -> 0 | P34: =N35-N34 -> 0.0055555556 | Q34: =O34-O35 -> 0 | R34: =P35-P34 -> -0.011111111 | S34: =Q35-Q34 -> 0 | U34: Flow Coefficient - Intake | V34: Flow Coefficient - Exhaust
A35: =ROW(A33)+1 -> 34 | B35: =A35*3.14/180 -> 0.59311111 | C35: =J48-J47 -> 0.00063081218 | D35: 0.11 | E35: 0 | F35: =SIN(B35) -> 0.55894348 | G35: =COS(B35) -> 0.82920576 | H35: =$V$9*(1-G35) -> 0.0070965007 | I35: =$V$8-SQRT($V$8^2-($V$9*F35)^2) -> 0.0018589541 | J35: =H35+I35 -> 0.0089554548 | K35: =C35*6*3000 -> 11.354619 | L35: =D35/1.8 -> 0.061111111 | M35: =E35/1.8 -> 0 | N35: =L36-L35 -> 0.0055555556 | O35: =M36-M35 -> 0 | P35: =N36-N35 -> -0.0055555556 | Q35: =O35-O36 -> 0 | R35: =P36-P35 -> 0.0055555556 | S35: =Q36-Q35 -> 0 | U35: =SuperFlow!D36/'CamShafts '!U24 -> 0.29368582 | V35: =SuperFlow!D49/'CamShafts '!V24 -> 0.1122242
A36: =ROW(A34)+1 -> 35 | B36: =A36*3.14/180 -> 0.61055556 | C36: =J49-J48 -> 0.00063926292 | D36: 0.12 | E36: 0 | F36: =SIN(B36) -> 0.57332273 | G36: =COS(B36) -> 0.81932963 | H36: =$V$9*(1-G36) -> 0.0075068538 | I36: =$V$8-SQRT($V$8^2-($V$9*F36)^2) -> 0.0019564882 | J36: =H36+I36 -> 0.009463342 | K36: =C36*6*3000 -> 11.506733 | L36: =D36/1.8 -> 0.066666667 | M36: =E36/1.8 -> 0 | N36: =L37-L36 -> 0 | O36: =M37-M36 -> 0 | P36: =N37-N36 -> 0 | Q36: =O36-O37 -> 0 | R36: =P37-P36 -> 0.0055555556 | S36: =Q37-Q36 -> 0 | U36: =SuperFlow!E36/'CamShafts '!U25 -> 0.26221657 | V36: =SuperFlow!E49/'CamShafts '!V25 -> 0.15865955
A37: =ROW(A35)+1 -> 36 | B37: =A37*3.14/180 -> 0.628 | C37: =J50-J49 -> 0.00064742268 | D37: 0.12 | E37: 0 | F37: =SIN(B37) -> 0.58752753 | G37: =COS(B37) -> 0.80920418 | H37: =$V$9*(1-G37) -> 0.0079275663 | I37: =$V$8-SQRT($V$8^2-($V$9*F37)^2) -> 0.0020553386 | J37: =H37+I37 -> 0.0099829049 | K37: =C37*6*3000 -> 11.653608 | L37: =D37/1.8 -> 0.066666667 | M37: =E37/1.8 -> 0 | N37: =L38-L37 -> 0 | O37: =M38-M37 -> 0 | P37: =N38-N37 -> 0.0055555556 | Q37: =O37-O38 -> 0 | R37: =P38-P37 -> -0.011111111 | S37: =Q38-Q37 -> 0 | U37: =SuperFlow!F36/'CamShafts '!U26 -> 0.2435655 | V37: =SuperFlow!F49/'CamShafts '!V26 -> 0.16459075
A38: =ROW(A36)+1 -> 37 | B38: =A38*3.14/180 -> 0.64544444 | C38: =J51-J50 -> 0.00065528897 | D38: 0.12 | E38: 0 | F38: =SIN(B38) -> 0.60155353 | G38: =COS(B38) -> 0.79883249 | H38: =$V$9*(1-G38) -> 0.0083585101 | I38: =$V$8-SQRT($V$8^2-($V$9*F38)^2) -> 0.0021553876 | J38: =H38+I38 -> 0.010513898 | K38: =C38*6*3000 -> 11.795201 | L38: =D38/1.8 -> 0.066666667 | M38: =E38/1.8 -> 0 | N38: =L39-L38 -> 0.0055555556 | O38: =M39-M38 -> 0 | P38: =N39-N38 -> -0.0055555556 | Q38: =O38-O39 -> 0 | R38: =P39-P38 -> 0.0055555556 | S38: =Q39-Q38 -> 0 | U38: =SuperFlow!G36/'CamShafts '!U27 -> 0.22482969 | V38: =SuperFlow!G49/'CamShafts '!V27 -> 0.15836299
A39: =ROW(A37)+1 -> 38 | B39: =A39*3.14/180 -> 0.66288889 | C39: =J52-J51 -> 0.00066285952 | D39: 0.13 | E39: 0 | F39: =SIN(B39) -> 0.61539649 | G39: =COS(B39) -> 0.78821771 | H39: =$V$9*(1-G39) -> 0.0087995541 | I39: =$V$8-SQRT($V$8^2-($V$9*F39)^2) -> 0.002256516 | J39: =H39+I39 -> 0.01105607 | K39: =C39*6*3000 -> 11.931471 | L39: =D39/1.8 -> 0.072222222 | M39: =E39/1.8 -> 0 | N39: =L40-L39 -> 0 | O39: =M40-M39 -> 0 | P39: =N40-N39 -> 0 | Q39: =O39-O40 -> 0 | R39: =P40-P39 -> 0.0055555556 | S39: =Q40-Q39 -> 0 | U39: =SuperFlow!H36/'CamShafts '!U28 -> 0.20234672 | V39: =SuperFlow!H49/'CamShafts '!V28 -> 0.13493476
A40: =ROW(A38)+1 -> 39 | B40: =A40*3.14/180 -> 0.68033333 | C40: =J53-J52 -> 0.00067013225 | D40: 0.13 | E40: 0 | F40: =SIN(B40) -> 0.62905218 | G40: =COS(B40) -> 0.77736308 | H40: =$V$9*(1-G40) -> 0.0092505641 | I40: =$V$8-SQRT($V$8^2-($V$9*F40)^2) -> 0.0023586026 | J40: =H40+I40 -> 0.011609167 | K40: =C40*6*3000 -> 12.062381 | L40: =D40/1.8 -> 0.072222222 | M40: =E40/1.8 -> 0 | N40: =L41-L40 -> 0 | O40: =M41-M40 -> 0 | P40: =N41-N40 -> 0.0055555556 | Q40: =O40-O41 -> 0 | R40: =P41-P40 -> -0.011111111 | S40: =Q41-Q40 -> 0 | U40: =SuperFlow!I36/'CamShafts '!U29 -> 0.18033215 | V40: =SuperFlow!J49/'CamShafts '!V30 -> 0.10787367
...

Sheet SuperFlow
H1: SuperFlow SF-110 Test Data
C4: Test Description: | K4: Test Number
C5: Head Description: | D5: 2 Litre Duratec | K5: Serial Number
C6: Intake Valve: | K6: Valve Seat Angle | N6: Degrees
C7: Intake Port: | K7: Port Volume | N7: cc
C8: Radiused Inlet: | K8: Port Length | N8: m
C9: Exhaust Valve: | K9: Exhaust Seat Angle | N9: Degrees
C10: Intake Manifold: | K10: Runner Length | N10: m
C11: Cylinder Bore: | D11: 87.5mm | K11: Stroke | N11: mm
C12: Test Operator: | D12: Ryan Williams | K12: Head Porter
H14: Test Setup Data
D15: Diameter | F15: Stem | H15: Lift Increments | J15: Effective Area | L15: Leakage | N15: Seat Width
C16: Intake Valve | D16: 35 | E16: mm | F16: 5.5 | G16: mm | H16: 1.75 | I16: mm | J16: 8.71 | K16: sq.cm | L16: 0 | M16: litres/sec | O16: mm
C17: Exhaust Valve | D17: 30 | E17: mm | F17: 5.5 | G17: mm | H17: 1.5 | I17: mm | K17: sq.cm | L17: 0 | M17: litres/sec | O17: mm
C19: Valve Lift/Diameter (L/D) Ratio | D19: 0.05 | E19: 0.1 | F19: 0.15 | G19: 0.2 | H19: 0.25 | I19: 0.3 | J19: 0.35 | K19: 0.4 | L19: 0.45 | M19: 0.5
C20: A. Intake Valve Lift (mm) | D20: 1.75 | E20: =D20+1.75 -> 3.5 | F20: =E20+1.75 -> 5.25 | G20: =F20+1.75 -> 7 | H20: =G20+1.75 -> 8.75 | I20: =H20+1.75 -> 10.5 | J20: =I20+1.75 -> 12.25 | K20: =J20+1.75 -> 14 | L20: =K20+1.75 -> 15.75 | M20: =L20+1.75 -> 17.5
C21: B. Exhaust Valve Lift (mm) | D21: 1.5 | E21: =D21+1.5 -> 3 | F21: =E21+1.5 -> 4.5 | G21: =F21+1.5 -> 6 | H21: =G21+1.5 -> 7.5 | I21: =H21+1.5 -> 9 | J21: =I21+1.5 -> 10.5 | K21: =J21+1.5 -> 12 | L21: =K21+1.5 -> 13.5 | M21: =L21+1.5 -> 15
C23: Range | D23: 1 | E23: 2 | F23: 3 | G23: 4 | H23: 5 | I23: 6
C24: E. Intake | D24: 16.5 | E24: 33.2 | F24: 69.7 | G24: 138.2 | H24: 207.8 | I24: 279.5
C25: F. Exhaust | D25: 19.5 | E25: 37.1 | F25: 75 | G25: 148.5 | H25: 219.6 | I25: 284.6
H27: Intake Valve Test Data
B28: 1 | C28: Test Number | D28: 1 | E28: 2 | F28: 3 | G28: 4 | H28: 5 | I28: 6 | J28: 7 | K28: 8 | L28: 9 | M28: 10 | N28: 11
B29: 2 | C29: Test Pressure | D29: 25 | E29: 25 | F29: 25 | G29: 25 | H29: 25 | I29: 25 | J29: 25 | K29: 25 | L29: 25
B30: 3 | C30: Valve Lift (A) | D30: 1.75 | E30: =D30+1.75 -> 3.5 | F30: =E30+1.75 -> 5.25 | G30: =F30+1.75 -> 7 | H30: =G30+1.75 -> 8.75 | I30: =H30+1.75 -> 10.5 | J30: =I30+1.75 -> 12.25 | K30: =J30+1.75 -> 14 | L30: =K30+1.75 -> 15.75
B31: 4 | C31: Flow Range (1-6) | D31: 2 | E31: 3 | F31: 4 | G31: 4 | H31: 4 | I31: 4 | J31: 4 | K31: 4 | L31: 4
B32: 5 | C32: Flow Scale Reading (%) | D32: 87 | E32: 74 | F32: 52 | G32: 64 | H32: 72 | I32: 77 | J32: 80.5 | K32: 84 | L32: 86
B33: 6 | C33: Flow Scale (5./100) | D33: =D32/100 -> 0.87 | E33: =E32/100 -> 0.74 | F33: =F32/100 -> 0.52 | G33: =G32/100 -> 0.64 | H33: =H32/100 -> 0.72 | I33: =I32/100 -> 0.77 | J33: =J32/100 -> 0.805 | K33: =K32/100 -> 0.84 | L33: =L32/100 -> 0.86
B34: 7 | C34: Raw Test Flow l/s (6. x E) | D34: =D33*E24 -> 28.884 | E34: =E33*F24 -> 51.578 | F34: =F33*$G$24 -> 71.864 | G34: =G33*$G$24 -> 88.448 | H34: =H33*$G$24 -> 99.504 | I34: =I33*$G$24 -> 106.414 | J34: =J33*$G$24 -> 111.251 | K34: =K33*$G$24 -> 116.088 | L34: =L33*$G$24 -> 118.852
B35: 8 | C35: Leakage (l/s) | D35: 0 | E35: 0 | F35: 0 | G35: 0 | H35: 0 | I35: 0 | J35: 0 | K35: 0 | L35: 0
B36: 9 | C36: Test Flow (l/s) (7-8) | D36: =D34-D35 -> 28.884 | E36: =E34-E35 -> 51.578 | F36: =F34-F35 -> 71.864 | G36: =G34-G35 -> 88.448 | H36: =H34-H35 -> 99.504 | I36: =I34-I35 -> 106.414 | J36: =J34-J35 -> 111.251 | K36: =K34-K35 -> 116.088 | L36: =L34-L35 -> 118.852
B37: 10 | C37: Test Flow (l/s/sq cm)
E38: Average Flow | G38: l/s | K38: Maximum Flow | M38: l/s
H40: Exhaust Valve Test Data
B41: 1 | C41: Test Number | D41: 1 | E41: 2 | F41: 3 | G41: 4 | H41: 5 | I41: 6 | J41: 7 | K41: 8 | L41: 9 | M41: 10 | N41: 11
B42: 2 | C42: Test Pressure | D42: 25 | E42: 25 | F42: 25 | G42: 25 | H42: 25 | I42: 25 | J42: 25 | K42: 25 | L42: 25 | M42: 25 | N42: 25
B43: 3 | C43: Valve Lift (A) | D43: 1.5 | E43: =D43+1.5 -> 3 | F43: =E43+1.5 -> 4.5 | G43: =F43+1.5 -> 6 | H43: =G43+1.5 -> 7.5 | I43: =H43+1.5 -> 9 | J43: =I43+1.5 -> 10.5 | K43: =J43+1.5 -> 12 | L43: =K43+1.5 -> 13.5
B44: 4 | C44: Flow Range (1-6) | D44: 2 | E44: 3 | F44: 3 | G44: 3 | H44: 3 | I44: 3 | J44: 3 | K44: 3 | L44: 3
B45: 5 | C45: Flow Scale Reading (%) | D45: 51 | E45: 53.5 | F45: 74 | G45: 89 | H45: 91 | I45: 96 | J45: 97 | K45: 98 | L45: 99.5
B46: 6 | C46: Flow Scale (5./100) | D46: =D45/100 -> 0.51 | E46: =E45/100 -> 0.535 | F46: =F45/100 -> 0.74 | G46: =G45/100 -> 0.89 | H46: =H45/100 -> 0.91 | I46: =I45/100 -> 0.96 | J46: =J45/100 -> 0.97 | K46: =K45/100 -> 0.98 | L46: =L45/100 -> 0.995
B47: 7 | C47: Raw Test Flow l/s (6. xF.) | D47: =D46*E25 -> 18.921 | E47: =E46*$F$25 -> 40.125 | F47: =F46*$F$25 -> 55.5 | G47: =G46*$F$25 -> 66.75 | H47: =H46*$F$25 -> 68.25 | I47: =I46*$F$25 -> 72 | J47: =J46*$F$25 -> 72.75 | K47: =K46*$F$25 -> 73.5 | L47: =L46*$F$25 -> 74.625
...
