Workbook

Sheet Vehicle data and specs
B2: 1974 MK3 MG Midget
B3: Kerb mass | C3: 742 | D3: kg
B4: Gross vehicle mass | C4: 950 | D4: kg
B6: Test mass | C6: =C3+(50%*(C4-C3)) -> 846 | D6: kg
B7: Max velocity | C7: 165 | D7: km/h
B8: Width | C8: 1394 | D8: mm
B9: Height | C9: 1235 | D9: mm
B10: Length | C10: 3496 | D10: mm
B11: Estimated frontal area | C11: 1.43 | D11: m^2
B13: Estimated drag coefficient | C13: 0.5 | D13: cd
B15: Estimated drag area | C15: 0.714 | D15: m^2
B17: Coefficient of Rolling resistance | C17: 0.01 | D17: Car tyres on tarmac, 0.007 - 0.015
B20: Density of air @ 0m @15C | C20: 1.225 | D20: kg/m^3
B22: Efficiency of the Hybrid system | C22: 80 | D22: %

Sheet WLTP data and calculations
A1: Phase | B1: Total elapsed time (s) | C1: Phase elapsed time (s) | D1: WLTC class 3, version 5, vehicle speed (m/s) | E1: WLTC class 3, version 5, vehicle speed (km/h) | F1: WLTC class 3, version 5, acceleration (m/s²) | G1: WLTC class 3, version 5, acceleration (km/h/s) | H1: Distance (m) | I1: Change distance (m) | J1: Acceleration resistance (N) | K1: Rolling resistance (N) | L1: Aerodynamic resistance (N) | M1: Total resistance (N) | N1: Recovarable energy periods | O1: Tractive energy (J) | P1: Cumalitive tractive energy (J) | Q1: Cumulative Tractive Energy (kJ) | R1: Bracking energy (J) | S1: Inverse Braking Energy (J) | T1: Inverse Braking Energy (kJ) | U1: Cumalitive bracking energy (J) | V1: Inverse of cumalitive bracking energy (J) | W1: Cumulative Braking Energy (kJ) | X1: Inverse of Cumulative Braking Energy (kJ) | Y1: Energy losses (kJ) | Z1: Total Energy (J) | AA1: Drive Kenetic Energy (J) | AB1: Drive Kenetic Energy (kJ) | AC1: Cumulative Tractive Energy (kW/h) | AD1: Cumulative Braking Energy (kW/h) | AE1: Inverse of Cumulative Braking Energy (kW/h) | AF1: Energy losses (kW/h) | AG1: Recovarable Energy for 80% efficiency (kJ) | AH1: Recovarable Energy for 80% efficiency (kW/h) | AI1: Tractive power (kW) | AJ1: Braking power (kW) | AK1: Inverse of braking power (kW) | AL1: Total power (kW)
A2: Low | B2: 0 | C2: 0 | D2: =$E2/3.6 -> 0 | E2: 0 | F2: =($E3-0)/2/3.6 -> 0 | G2: =($E3-0)/2 -> 0 | H2: =SUM($D$2:$D2) -> 0 | I2: =$H2 -> 0 | J2: ='Vehicle data and specs'!$C$6*$F2 -> 0 | K2: ='Vehicle data and specs'!$C$6*9.81*'Vehicle data and specs'!$C$17 -> 82.9926 | L2: =(1/2)*'Vehicle data and specs'!$C$20*'Vehicle data and specs'!$C$11*'Vehicle data and specs'!$C$13*$D2^2 -> 0 | M2: =SUM($J2:$L2) -> 82.9926 | N2: =IF($M2>0.0001, 0, 1) -> 0 | O2: =IF($F2<0.000001,0,$M2*$I2) -> 0 | P2: =SUM($O$2:$O2) -> 0 | Q2: =$P2/1000 -> 0 | R2: =IF($M2>0,0,$M2*$I2) -> 0 | S2: =R2*-1 -> 0 | T2: =S2/1000 -> 0 | U2: =SUM($R$2:$R2) -> 0 | V2: =$U2*-1 -> 0 | W2: =$U2/1000 -> 0 | X2: =$W2*-1 -> 0 | Y2: =Q2-X2 -> 0 | Z2: =$O2+$R2 -> 0 | AA2: =1/2*'Vehicle data and specs'!$C$6*$D2^2 -> 0 | AB2: =$AA2/1000 -> 0 | AC2: =$Q2/3600 -> 0 | AD2: =$W2/3600 -> 0 | AE2: =$X2/3600 -> 0 | AF2: =AC2-AE2 -> 0 | AG2: =$X2*80% -> 0 | AH2: =$AG2/3600 -> 0 | AI2: =IF($AL2>0,$AL2,0) -> 0 | AJ2: =IF($AL2<0,$AL2,0) -> 0 | AK2: =$AJ2*-1 -> 0 | AL2: =($M2*$D2)/1000 -> 0
A3: Low | B3: 1 | C3: 1 | D3: =$E3/3.6 -> 0 | E3: 0 | F3: =($E4-$E2)/2/3.6 -> 0 | G3: =($E4-$E2)/2 -> 0 | H3: =SUM($D$2:$D3) -> 0 | I3: =$H4-$H3 -> 0 | J3: ='Vehicle data and specs'!$C$6*$F3 -> 0 | K3: ='Vehicle data and specs'!$C$6*9.81*'Vehicle data and specs'!$C$17 -> 82.9926 | L3: =(1/2)*'Vehicle data and specs'!$C$20*'Vehicle data and specs'!$C$11*'Vehicle data and specs'!$C$13*$D3^2 -> 0 | M3: =SUM($J3:$L3) -> 82.9926 | N3: =IF($M3>0.0001, 0, 1) -> 0 | O3: =IF($F3<0.000001,0,$M3*$I3) -> 0 | P3: =SUM($O$2:$O3) -> 0 | Q3: =$P3/1000 -> 0 | R3: =IF($M3>0,0,$M3*$I3) -> 0 | S3: =R3*-1 -> 0 | T3: =S3/1000 -> 0 | U3: =SUM($R$2:$R3) -> 0 | V3: =$U3*-1 -> 0 | W3: =$U3/1000 -> 0 | X3: =$W3*-1 -> 0 | Y3: =Q3-X3 -> 0 | Z3: =$O3+$R3 -> 0 | AA3: =1/2*'Vehicle data and specs'!$C$6*$D3^2 -> 0 | AB3: =$AA3/1000 -> 0 | AC3: =$Q3/3600 -> 0 | AD3: =$W3/3600 -> 0 | AE3: =$X3/3600 -> 0 | AF3: =AC3-AE3 -> 0 | AG3: =$X3*80% -> 0 | AH3: =$AG3/3600 -> 0 | AI3: =IF($AL3>0,$AL3,0) -> 0 | AJ3: =IF($AL3<0,$AL3,0) -> 0 | AK3: =$AJ3*-1 -> 0 | AL3: =($M3*$D3)/1000 -> 0
A4: Low | B4: 2 | C4: 2 | D4: =$E4/3.6 -> 0 | E4: 0 | F4: =($E5-$E3)/2/3.6 -> 0 | G4: =($E5-$E3)/2 -> 0 | H4: =SUM($D$2:$D4) -> 0 | I4: =$H5-$H4 -> 0 | J4: ='Vehicle data and specs'!$C$6*$F4 -> 0 | K4: ='Vehicle data and specs'!$C$6*9.81*'Vehicle data and specs'!$C$17 -> 82.9926 | L4: =(1/2)*'Vehicle data and specs'!$C$20*'Vehicle data and specs'!$C$11*'Vehicle data and specs'!$C$13*$D4^2 -> 0 | M4: =SUM($J4:$L4) -> 82.9926 | N4: =IF($M4>0.0001, 0, 1) -> 0 | O4: =IF($F4<0.000001,0,$M4*$I4) -> 0 | P4: =SUM($O$2:$O4) -> 0 | Q4: =$P4/1000 -> 0 | R4: =IF($M4>0,0,$M4*$I4) -> 0 | S4: =R4*-1 -> 0 | T4: =S4/1000 -> 0 | U4: =SUM($R$2:$R4) -> 0 | V4: =$U4*-1 -> 0 | W4: =$U4/1000 -> 0 | X4: =$W4*-1 -> 0 | Y4: =Q4-X4 -> 0 | Z4: =$O4+$R4 -> 0 | AA4: =1/2*'Vehicle data and specs'!$C$6*$D4^2 -> 0 | AB4: =$AA4/1000 -> 0 | AC4: =$Q4/3600 -> 0 | AD4: =$W4/3600 -> 0 | AE4: =$X4/3600 -> 0 | AF4: =AC4-AE4 -> 0 | AG4: =$X4*80% -> 0 | AH4: =$AG4/3600 -> 0 | AI4: =IF($AL4>0,$AL4,0) -> 0 | AJ4: =IF($AL4<0,$AL4,0) -> 0 | AK4: =$AJ4*-1 -> 0 | AL4: =($M4*$D4)/1000 -> 0
A5: Low | B5: 3 | C5: 3 | D5: =$E5/3.6 -> 0 | E5: 0 | F5: =($E6-$E4)/2/3.6 -> 0 | G5: =($E6-$E4)/2 -> 0 | H5: =SUM($D$2:$D5) -> 0 | I5: =$H6-$H5 -> 0 | J5: ='Vehicle data and specs'!$C$6*$F5 -> 0 | K5: ='Vehicle data and specs'!$C$6*9.81*'Vehicle data and specs'!$C$17 -> 82.9926 | L5: =(1/2)*'Vehicle data and specs'!$C$20*'Vehicle data and specs'!$C$11*'Vehicle data and specs'!$C$13*$D5^2 -> 0 | M5: =SUM($J5:$L5) -> 82.9926 | N5: =IF($M5>0.0001, 0, 1) -> 0 | O5: =IF($F5<0.000001,0,$M5*$I5) -> 0 | P5: =SUM($O$2:$O5) -> 0 | Q5: =$P5/1000 -> 0 | R5: =IF($M5>0,0,$M5*$I5) -> 0 | S5: =R5*-1 -> 0 | T5: =S5/1000 -> 0 | U5: =SUM($R$2:$R5) -> 0 | V5: =$U5*-1 -> 0 | W5: =$U5/1000 -> 0 | X5: =$W5*-1 -> 0 | Y5: =Q5-X5 -> 0 | Z5: =$O5+$R5 -> 0 | AA5: =1/2*'Vehicle data and specs'!$C$6*$D5^2 -> 0 | AB5: =$AA5/1000 -> 0 | AC5: =$Q5/3600 -> 0 | AD5: =$W5/3600 -> 0 | AE5: =$X5/3600 -> 0 | AF5: =AC5-AE5 -> 0 | AG5: =$X5*80% -> 0 | AH5: =$AG5/3600 -> 0 | AI5: =IF($AL5>0,$AL5,0) -> 0 | AJ5: =IF($AL5<0,$AL5,0) -> 0 | AK5: =$AJ5*-1 -> 0 | AL5: =($M5*$D5)/1000 -> 0
A6: Low | B6: 4 | C6: 4 | D6: =$E6/3.6 -> 0 | E6: 0 | F6: =($E7-$E5)/2/3.6 -> 0 | G6: =($E7-$E5)/2 -> 0 | H6: =SUM($D$2:$D6) -> 0 | I6: =$H7-$H6 -> 0 | J6: ='Vehicle data and specs'!$C$6*$F6 -> 0 | K6: ='Vehicle data and specs'!$C$6*9.81*'Vehicle data and specs'!$C$17 -> 82.9926 | L6: =(1/2)*'Vehicle data and specs'!$C$20*'Vehicle data and specs'!$C$11*'Vehicle data and specs'!$C$13*$D6^2 -> 0 | M6: =SUM($J6:$L6) -> 82.9926 | N6: =IF($M6>0.0001, 0, 1) -> 0 | O6: =IF($F6<0.000001,0,$M6*$I6) -> 0 | P6: =SUM($O$2:$O6) -> 0 | Q6: =$P6/1000 -> 0 | R6: =IF($M6>0,0,$M6*$I6) -> 0 | S6: =R6*-1 -> 0 | T6: =S6/1000 -> 0 | U6: =SUM($R$2:$R6) -> 0 | V6: =$U6*-1 -> 0 | W6: =$U6/1000 -> 0 | X6: =$W6*-1 -> 0 | Y6: =Q6-X6 -> 0 | Z6: =$O6+$R6 -> 0 | AA6: =1/2*'Vehicle data and specs'!$C$6*$D6^2 -> 0 | AB6: =$AA6/1000 -> 0 | AC6: =$Q6/3600 -> 0 | AD6: =$W6/3600 -> 0 | AE6: =$X6/3600 -> 0 | AF6: =AC6-AE6 -> 0 | AG6: =$X6*80% -> 0 | AH6: =$AG6/3600 -> 0 | AI6: =IF($AL6>0,$AL6,0) -> 0 | AJ6: =IF($AL6<0,$AL6,0) -> 0 | AK6: =$AJ6*-1 -> 0 | AL6: =($M6*$D6)/1000 -> 0
A7: Low | B7: 5 | C7: 5 | D7: =$E7/3.6 -> 0 | E7: 0 | F7: =($E8-$E6)/2/3.6 -> 0 | G7: =($E8-$E6)/2 -> 0 | H7: =SUM($D$2:$D7) -> 0 | I7: =$H8-$H7 -> 0 | J7: ='Vehicle data and specs'!$C$6*$F7 -> 0 | K7: ='Vehicle data and specs'!$C$6*9.81*'Vehicle data and specs'!$C$17 -> 82.9926 | L7: =(1/2)*'Vehicle data and specs'!$C$20*'Vehicle data and specs'!$C$11*'Vehicle data and specs'!$C$13*$D7^2 -> 0 | M7: =SUM($J7:$L7) -> 82.9926 | N7: =IF($M7>0.0001, 0, 1) -> 0 | O7: =IF($F7<0.000001,0,$M7*$I7) -> 0 | P7: =SUM($O$2:$O7) -> 0 | Q7: =$P7/1000 -> 0 | R7: =IF($M7>0,0,$M7*$I7) -> 0 | S7: =R7*-1 -> 0 | T7: =S7/1000 -> 0 | U7: =SUM($R$2:$R7) -> 0 | V7: =$U7*-1 -> 0 | W7: =$U7/1000 -> 0 | X7: =$W7*-1 -> 0 | Y7: =Q7-X7 -> 0 | Z7: =$O7+$R7 -> 0 | AA7: =1/2*'Vehicle data and specs'!$C$6*$D7^2 -> 0 | AB7: =$AA7/1000 -> 0 | AC7: =$Q7/3600 -> 0 | AD7: =$W7/3600 -> 0 | AE7: =$X7/3600 -> 0 | AF7: =AC7-AE7 -> 0 | AG7: =$X7*80% -> 0 | AH7: =$AG7/3600 -> 0 | AI7: =IF($AL7>0,$AL7,0) -> 0 | AJ7: =IF($AL7<0,$AL7,0) -> 0 | AK7: =$AJ7*-1 -> 0 | AL7: =($M7*$D7)/1000 -> 0
A8: Low | B8: 6 | C8: 6 | D8: =$E8/3.6 -> 0 | E8: 0 | F8: =($E9-$E7)/2/3.6 -> 0 | G8: =($E9-$E7)/2 -> 0 | H8: =SUM($D$2:$D8) -> 0 | I8: =$H9-$H8 -> 0 | J8: ='Vehicle data and specs'!$C$6*$F8 -> 0 | K8: ='Vehicle data and specs'!$C$6*9.81*'Vehicle data and specs'!$C$17 -> 82.9926 | L8: =(1/2)*'Vehicle data and specs'!$C$20*'Vehicle data and specs'!$C$11*'Vehicle data and specs'!$C$13*$D8^2 -> 0 | M8: =SUM($J8:$L8) -> 82.9926 | N8: =IF($M8>0.0001, 0, 1) -> 0 | O8: =IF($F8<0.000001,0,$M8*$I8) -> 0 | P8: =SUM($O$2:$O8) -> 0 | Q8: =$P8/1000 -> 0 | R8: =IF($M8>0,0,$M8*$I8) -> 0 | S8: =R8*-1 -> 0 | T8: =S8/1000 -> 0 | U8: =SUM($R$2:$R8) -> 0 | V8: =$U8*-1 -> 0 | W8: =$U8/1000 -> 0 | X8: =$W8*-1 -> 0 | Y8: =Q8-X8 -> 0 | Z8: =$O8+$R8 -> 0 | AA8: =1/2*'Vehicle data and specs'!$C$6*$D8^2 -> 0 | AB8: =$AA8/1000 -> 0 | AC8: =$Q8/3600 -> 0 | AD8: =$W8/3600 -> 0 | AE8: =$X8/3600 -> 0 | AF8: =AC8-AE8 -> 0 | AG8: =$X8*80% -> 0 | AH8: =$AG8/3600 -> 0 | AI8: =IF($AL8>0,$AL8,0) -> 0 | AJ8: =IF($AL8<0,$AL8,0) -> 0 | AK8: =$AJ8*-1 -> 0 | AL8: =($M8*$D8)/1000 -> 0
A9: Low | B9: 7 | C9: 7 | D9: =$E9/3.6 -> 0 | E9: 0 | F9: =($E10-$E8)/2/3.6 -> 0 | G9: =($E10-$E8)/2 -> 0 | H9: =SUM($D$2:$D9) -> 0 | I9: =$H10-$H9 -> 0 | J9: ='Vehicle data and specs'!$C$6*$F9 -> 0 | K9: ='Vehicle data and specs'!$C$6*9.81*'Vehicle data and specs'!$C$17 -> 82.9926 | L9: =(1/2)*'Vehicle data and specs'!$C$20*'Vehicle data and specs'!$C$11*'Vehicle data and specs'!$C$13*$D9^2 -> 0 | M9: =SUM($J9:$L9) -> 82.9926 | N9: =IF($M9>0.0001, 0, 1) -> 0 | O9: =IF($F9<0.000001,0,$M9*$I9) -> 0 | P9: =SUM($O$2:$O9) -> 0 | Q9: =$P9/1000 -> 0 | R9: =IF($M9>0,0,$M9*$I9) -> 0 | S9: =R9*-1 -> 0 | T9: =S9/1000 -> 0 | U9: =SUM($R$2:$R9) -> 0 | V9: =$U9*-1 -> 0 | W9: =$U9/1000 -> 0 | X9: =$W9*-1 -> 0 | Y9: =Q9-X9 -> 0 | Z9: =$O9+$R9 -> 0 | AA9: =1/2*'Vehicle data and specs'!$C$6*$D9^2 -> 0 | AB9: =$AA9/1000 -> 0 | AC9: =$Q9/3600 -> 0 | AD9: =$W9/3600 -> 0 | AE9: =$X9/3600 -> 0 | AF9: =AC9-AE9 -> 0 | AG9: =$X9*80% -> 0 | AH9: =$AG9/3600 -> 0 | AI9: =IF($AL9>0,$AL9,0) -> 0 | AJ9: =IF($AL9<0,$AL9,0) -> 0 | AK9: =$AJ9*-1 -> 0 | AL9: =($M9*$D9)/1000 -> 0
A10: Low | B10: 8 | C10: 8 | D10: =$E10/3.6 -> 0 | E10: 0 | F10: =($E11-$E9)/2/3.6 -> 0 | G10: =($E11-$E9)/2 -> 0 | H10: =SUM($D$2:$D10) -> 0 | I10: =$H11-$H10 -> 0 | J10: ='Vehicle data and specs'!$C$6*$F10 -> 0 | K10: ='Vehicle data and specs'!$C$6*9.81*'Vehicle data and specs'!$C$17 -> 82.9926 | L10: =(1/2)*'Vehicle data and specs'!$C$20*'Vehicle data and specs'!$C$11*'Vehicle data and specs'!$C$13*$D10^2 -> 0 | M10: =SUM($J10:$L10) -> 82.9926 | N10: =IF($M10>0.0001, 0, 1) -> 0 | O10: =IF($F10<0.000001,0,$M10*$I10) -> 0 | P10: =SUM($O$2:$O10) -> 0 | Q10: =$P10/1000 -> 0 | R10: =IF($M10>0,0,$M10*$I10) -> 0 | S10: =R10*-1 -> 0 | T10: =S10/1000 -> 0 | U10: =SUM($R$2:$R10) -> 0 | V10: =$U10*-1 -> 0 | W10: =$U10/1000 -> 0 | X10: =$W10*-1 -> 0 | Y10: =Q10-X10 -> 0 | Z10: =$O10+$R10 -> 0 | AA10: =1/2*'Vehicle data and specs'!$C$6*$D10^2 -> 0 | AB10: =$AA10/1000 -> 0 | AC10: =$Q10/3600 -> 0 | AD10: =$W10/3600 -> 0 | AE10: =$X10/3600 -> 0 | AF10: =AC10-AE10 -> 0 | AG10: =$X10*80% -> 0 | AH10: =$AG10/3600 -> 0 | AI10: =IF($AL10>0,$AL10,0) -> 0 | AJ10: =IF($AL10<0,$AL10,0) -> 0 | AK10: =$AJ10*-1 -> 0 | AL10: =($M10*$D10)/1000 -> 0
A11: Low | B11: 9 | C11: 9 | D11: =$E11/3.6 -> 0 | E11: 0 | F11: =($E12-$E10)/2/3.6 -> 0 | G11: =($E12-$E10)/2 -> 0 | H11: =SUM($D$2:$D11) -> 0 | I11: =$H12-$H11 -> 0 | J11: ='Vehicle data and specs'!$C$6*$F11 -> 0 | K11: ='Vehicle data and specs'!$C$6*9.81*'Vehicle data and specs'!$C$17 -> 82.9926 | L11: =(1/2)*'Vehicle data and specs'!$C$20*'Vehicle data and specs'!$C$11*'Vehicle data and specs'!$C$13*$D11^2 -> 0 | M11: =SUM($J11:$L11) -> 82.9926 | N11: =IF($M11>0.0001, 0, 1) -> 0 | O11: =IF($F11<0.000001,0,$M11*$I11) -> 0 | P11: =SUM($O$2:$O11) -> 0 | Q11: =$P11/1000 -> 0 | R11: =IF($M11>0,0,$M11*$I11) -> 0 | S11: =R11*-1 -> 0 | T11: =S11/1000 -> 0 | U11: =SUM($R$2:$R11) -> 0 | V11: =$U11*-1 -> 0 | W11: =$U11/1000 -> 0 | X11: =$W11*-1 -> 0 | Y11: =Q11-X11 -> 0 | Z11: =$O11+$R11 -> 0 | AA11: =1/2*'Vehicle data and specs'!$C$6*$D11^2 -> 0 | AB11: =$AA11/1000 -> 0 | AC11: =$Q11/3600 -> 0 | AD11: =$W11/3600 -> 0 | AE11: =$X11/3600 -> 0 | AF11: =AC11-AE11 -> 0 | AG11: =$X11*80% -> 0 | AH11: =$AG11/3600 -> 0 | AI11: =IF($AL11>0,$AL11,0) -> 0 | AJ11: =IF($AL11<0,$AL11,0) -> 0 | AK11: =$AJ11*-1 -> 0 | AL11: =($M11*$D11)/1000 -> 0
A12: Low | B12: 10 | C12: 10 | D12: =$E12/3.6 -> 0 | E12: 0 | F12: =($E13-$E11)/2/3.6 -> 0 | G12: =($E13-$E11)/2 -> 0 | H12: =SUM($D$2:$D12) -> 0 | I12: =$H13-$H12 -> 0 | J12: ='Vehicle data and specs'!$C$6*$F12 -> 0 | K12: ='Vehicle data and specs'!$C$6*9.81*'Vehicle data and specs'!$C$17 -> 82.9926 | L12: =(1/2)*'Vehicle data and specs'!$C$20*'Vehicle data and specs'!$C$11*'Vehicle data and specs'!$C$13*$D12^2 -> 0 | M12: =SUM($J12:$L12) -> 82.9926 | N12: =IF($M12>0.0001, 0, 1) -> 0 | O12: =IF($F12<0.000001,0,$M12*$I12) -> 0 | P12: =SUM($O$2:$O12) -> 0 | Q12: =$P12/1000 -> 0 | R12: =IF($M12>0,0,$M12*$I12) -> 0 | S12: =R12*-1 -> 0 | T12: =S12/1000 -> 0 | U12: =SUM($R$2:$R12) -> 0 | V12: =$U12*-1 -> 0 | W12: =$U12/1000 -> 0 | X12: =$W12*-1 -> 0 | Y12: =Q12-X12 -> 0 | Z12: =$O12+$R12 -> 0 | AA12: =1/2*'Vehicle data and specs'!$C$6*$D12^2 -> 0 | AB12: =$AA12/1000 -> 0 | AC12: =$Q12/3600 -> 0 | AD12: =$W12/3600 -> 0 | AE12: =$X12/3600 -> 0 | AF12: =AC12-AE12 -> 0 | AG12: =$X12*80% -> 0 | AH12: =$AG12/3600 -> 0 | AI12: =IF($AL12>0,$AL12,0) -> 0 | AJ12: =IF($AL12<0,$AL12,0) -> 0 | AK12: =$AJ12*-1 -> 0 | AL12: =($M12*$D12)/1000 -> 0
A13: Low | B13: 11 | C13: 11 | D13: =$E13/3.6 -> 0 | E13: 0 | F13: =($E14-$E12)/2/3.6 -> 0.027777778 | G13: =($E14-$E12)/2 -> 0.1 | H13: =SUM($D$2:$D13) -> 0 | I13: =$H14-$H13 -> 0.055555556 | J13: ='Vehicle data and specs'!$C$6*$F13 -> 23.5 | K13: ='Vehicle data and specs'!$C$6*9.81*'Vehicle data and specs'!$C$17 -> 82.9926 | L13: =(1/2)*'Vehicle data and specs'!$C$20*'Vehicle data and specs'!$C$11*'Vehicle data and specs'!$C$13*$D13^2 -> 0 | M13: =SUM($J13:$L13) -> 106.4926 | N13: =IF($M13>0.0001, 0, 1) -> 0 | O13: =IF($F13<0.000001,0,$M13*$I13) -> 5.9162556 | P13: =SUM($O$2:$O13) -> 5.9162556 | Q13: =$P13/1000 -> 0.0059162556 | R13: =IF($M13>0,0,$M13*$I13) -> 0 | S13: =R13*-1 -> 0 | T13: =S13/1000 -> 0 | U13: =SUM($R$2:$R13) -> 0 | V13: =$U13*-1 -> 0 | W13: =$U13/1000 -> 0 | X13: =$W13*-1 -> 0 | Y13: =Q13-X13 -> 0.0059162556 | Z13: =$O13+$R13 -> 5.9162556 | AA13: =1/2*'Vehicle data and specs'!$C$6*$D13^2 -> 0 | AB13: =$AA13/1000 -> 0 | AC13: =$Q13/3600 -> 1.6434043e-06 | AD13: =$W13/3600 -> 0 | AE13: =$X13/3600 -> 0 | AF13: =AC13-AE13 -> 1.6434043e-06 | AG13: =$X13*80% -> 0 | AH13: =$AG13/3600 -> 0 | AI13: =IF($AL13>0,$AL13,0) -> 0 | AJ13: =IF($AL13<0,$AL13,0) -> 0 | AK13: =$AJ13*-1 -> 0 | AL13: =($M13*$D13)/1000 -> 0
A14: Low | B14: 12 | C14: 12 | D14: =$E14/3.6 -> 0.055555556 | E14: 0.2 | F14: =($E15-$E13)/2/3.6 -> 0.23611111 | G14: =($E15-$E13)/2 -> 0.85 | H14: =SUM($D$2:$D14) -> 0.055555556 | I14: =$H15-$H14 -> 0.47222222 | J14: ='Vehicle data and specs'!$C$6*$F14 -> 199.75 | K14: ='Vehicle data and specs'!$C$6*9.81*'Vehicle data and specs'!$C$17 -> 82.9926 | L14: =(1/2)*'Vehicle data and specs'!$C$20*'Vehicle data and specs'!$C$11*'Vehicle data and specs'!$C$13*$D14^2 -> 0.001351659 | M14: =SUM($J14:$L14) -> 282.74395 | N14: =IF($M14>0.0001, 0, 1) -> 0 | O14: =IF($F14<0.000001,0,$M14*$I14) -> 133.51798 | P14: =SUM($O$2:$O14) -> 139.43423 | Q14: =$P14/1000 -> 0.13943423 | R14: =IF($M14>0,0,$M14*$I14) -> 0 | S14: =R14*-1 -> 0 | T14: =S14/1000 -> 0 | U14: =SUM($R$2:$R14) -> 0 | V14: =$U14*-1 -> 0 | W14: =$U14/1000 -> 0 | X14: =$W14*-1 -> 0 | Y14: =Q14-X14 -> 0.13943423 | Z14: =$O14+$R14 -> 133.51798 | AA14: =1/2*'Vehicle data and specs'!$C$6*$D14^2 -> 1.3055556 | AB14: =$AA14/1000 -> 0.0013055556 | AC14: =$Q14/3600 -> 3.8731731e-05 | AD14: =$W14/3600 -> 0 | AE14: =$X14/3600 -> 0 | AF14: =AC14-AE14 -> 3.8731731e-05 | AG14: =$X14*80% -> 0 | AH14: =$AG14/3600 -> 0 | AI14: =IF($AL14>0,$AL14,0) -> 0.015707997 | AJ14: =IF($AL14<0,$AL14,0) -> 0 | AK14: =$AJ14*-1 -> 0 | AL14: =($M14*$D14)/1000 -> 0.015707997
... A1802: Extra-high | B1802: 1800 | C1802: 323 | D1802: =$E1802/3.6 -> 0 | E1802: 0 | F1802: =($E1803-$E1801)/2/3.6 -> 0 | G1802: =($E1803-$E1801)/2 -> 0 | H1802: =SUM($D$2:$D1802) -> 23262.389 | I1802: =$H1803-$H1802 -> -23262.389 | J1802: ='Vehicle data and specs'!$C$6*$F1802 -> 0 | K1802: ='Vehicle data and specs'!$C$6*9.81*'Vehicle data and specs'!$C$17 -> 82.9926 | L1802: =(1/2)*'Vehicle data and specs'!$C$20*'Vehicle data and specs'!$C$11*'Vehicle data and specs'!$C$13*$D1802^2 -> 0 | M1802: =SUM($J1802:$L1802) -> 82.9926 | N1802: =IF($M1802>0.0001, 0, 1) -> 0 | O1802: =IF($F1802<0.000001,0,$M1802*$I1802) -> 0 | P1802: =SUM($O$2:$O1802) -> 6786800.6 | Q1802: =$P1802/1000 -> 6786.8006 | R1802: =IF($M1802>0,0,$M1802*$I1802) -> 0 | S1802: =R1802*-1 -> 0 | T1802: =S1802/1000 -> 0 | U1802: =SUM($R$2:$R1802) -> -1330666.6 | V1802: =$U1802*-1 -> 1330666.6 | W1802: =$U1802/1000 -> -1330.6666 | X1802: =$W1802*-1 -> 1330.6666 | Y1802: =Q1802-X1802 -> 5456.134 | Z1802: =$O1802+$R1802 -> 0 | AA1802: =1/2*'Vehicle data and specs'!$C$6*$D1802^2 -> 0 | AB1802: =$AA1802/1000 -> 0 | AC1802: =$Q1802/3600 -> 1.8852224 | AD1802: =$W1802/3600 -> -0.36962962 | AE1802: =$X1802/3600 -> 0.36962962 | AF1802: =AC1802-AE1802 -> 1.5155928 | AG1802: =$X1802*80% -> 1064.5333 | AH1802: =$AG1802/3600 -> 0.29570369 | AI1802: =IF($AL1802>0,$AL1802,0) -> 0 | AJ1802: =IF($AL1802<0,$AL1802,0) -> 0 | AK1802: =$AJ1802*-1 -> 0 | AL1802: =($M1802*$D1802)/1000 -> 0

Sheet Braking Energy
B1: Total elapsed time (s) | C1: Braking energy (J) | D1: Braking energy (kJ) | E1: Inverse Braking energy (kJ) | F1: Sum of braking energy points (kJ) | G1: Time for each braking period (s) | H1: Total sum of braking energy (kJ) | I1: Sum of total braking time (s)
B2: 0 | C2: =IF('WLTP data and calculations'!M2>0,0,'WLTP data and calculations'!M2*'WLTP data and calculations'!I2) -> 0 | D2: =$C2/1000 -> 0 | E2: =$D2*-1 -> 0 | H2: =SUM(F2:F1802) -> 1330.6666 | I2: =SUM(G2:G1802) -> 414 | K2: ICE probably 20% efficient
B3: 1 | C3: =IF('WLTP data and calculations'!M3>0,0,'WLTP data and calculations'!M3*'WLTP data and calculations'!I3) -> 0 | D3: =$C3/1000 -> 0 | E3: =$D3*-1 -> 0
B4: 2 | C4: =IF('WLTP data and calculations'!M4>0,0,'WLTP data and calculations'!M4*'WLTP data and calculations'!I4) -> 0 | D4: =$C4/1000 -> 0 | E4: =$D4*-1 -> 0 | L4: Sum of braking energy (kJ) | M4: ='Braking Energy'!H2 -> 1330.6666
B5: 3 | C5: =IF('WLTP data and calculations'!M5>0,0,'WLTP data and calculations'!M5*'WLTP data and calculations'!I5) -> 0 | D5: =$C5/1000 -> 0 | E5: =$D5*-1 -> 0 | L5: Sum of total braking time (s) | M5: =SUM('Braking Energy'!G2:G1802) -> 414
B6: 4 | C6: =IF('WLTP data and calculations'!M6>0,0,'WLTP data and calculations'!M6*'WLTP data and calculations'!I6) -> 0 | D6: =$C6/1000 -> 0 | E6: =$D6*-1 -> 0 | L6: Average braking time | M6: =AVERAGE('Braking Energy'!G2:G1802) -> 7.0169492
B7: 5 | C7: =IF('WLTP data and calculations'!M7>0,0,'WLTP data and calculations'!M7*'WLTP data and calculations'!I7) -> 0 | D7: =$C7/1000 -> 0 | E7: =$D7*-1 -> 0 | L7: Peak braking power (kJ/s) or (kW) | M7: =MAX('Braking Energy'!E2:E1802) -> 14.218525
B8: 6 | C8: =IF('WLTP data and calculations'!M8>0,0,'WLTP data and calculations'!M8*'WLTP data and calculations'!I8) -> 0 | D8: =$C8/1000 -> 0 | E8: =$D8*-1 -> 0 | L8: Maximum required KERS power | M8: =M7*0.8 -> 11.37482
B9: 7 | C9: =IF('WLTP data and calculations'!M9>0,0,'WLTP data and calculations'!M9*'WLTP data and calculations'!I9) -> 0 | D9: =$C9/1000 -> 0 | E9: =$D9*-1 -> 0
B10: 8 | C10: =IF('WLTP data and calculations'!M10>0,0,'WLTP data and calculations'!M10*'WLTP data and calculations'!I10) -> 0 | D10: =$C10/1000 -> 0 | E10: =$D10*-1 -> 0
B11: 9 | C11: =IF('WLTP data and calculations'!M11>0,0,'WLTP data and calculations'!M11*'WLTP data and calculations'!I11) -> 0 | D11: =$C11/1000 -> 0 | E11: =$D11*-1 -> 0
B12: 10 | C12: =IF('WLTP data and calculations'!M12>0,0,'WLTP data and calculations'!M12*'WLTP data and calculations'!I12) -> 0 | D12: =$C12/1000 -> 0 | E12: =$D12*-1 -> 0
B13: 11 | C13: =IF('WLTP data and calculations'!M13>0,0,'WLTP data and calculations'!M13*'WLTP data and calculations'!I13) -> 0 | D13: =$C13/1000 -> 0 | E13: =$D13*-1 -> 0
B14: 12 | C14: =IF('WLTP data and calculations'!M14>0,0,'WLTP data and calculations'!M14*'WLTP data and calculations'!I14) -> 0 | D14: =$C14/1000 -> 0 | E14: =$D14*-1 -> 0
B15: 13 | C15: =IF('WLTP data and calculations'!M15>0,0,'WLTP data and calculations'!M15*'WLTP data and calculations'!I15) -> 0 | D15: =$C15/1000 -> 0 | E15: =$D15*-1 -> 0
B16: 14 | C16: =IF('WLTP data and calculations'!M16>0,0,'WLTP data and calculations'!M16*'WLTP data and calculations'!I16) -> 0 | D16: =$C16/1000 -> 0 | E16: =$D16*-1 -> 0
B17: 15 | C17: =IF('WLTP data and calculations'!M17>0,0,'WLTP data and calculations'!M17*'WLTP data and calculations'!I17) -> 0 | D17: =$C17/1000 -> 0 | E17: =$D17*-1 -> 0
B18: 16 | C18: =IF('WLTP data and calculations'!M18>0,0,'WLTP data and calculations'!M18*'WLTP data and calculations'!I18) -> 0 | D18: =$C18/1000 -> 0 | E18: =$D18*-1 -> 0
B19: 17 | C19: =IF('WLTP data and calculations'!M19>0,0,'WLTP data and calculations'!M19*'WLTP data and calculations'!I19) -> 0 | D19: =$C19/1000 -> 0 | E19: =$D19*-1 -> 0
B20: 18 | C20: =IF('WLTP data and calculations'!M20>0,0,'WLTP data and calculations'!M20*'WLTP data and calculations'!I20) -> 0 | D20: =$C20/1000 -> 0 | E20: =$D20*-1 -> 0
... B37: 35 | C37: =IF('WLTP data and calculations'!M37>0,0,'WLTP data and calculations'!M37*'WLTP data and calculations'!I37) -> 0 | D37: =$C37/1000 -> 0 | E37: =$D37*-1 -> 0
B38: 36 | C38: =IF('WLTP data and calculations'!M38>0,0,'WLTP data and calculations'!M38*'WLTP data and calculations'!I38) -> -741.21299 | D38: =$C38/1000 -> -0.74121299 | E38: =$D38*-1 -> 0.74121299 | F38: =SUM(E38:E50) -> 37.088641 | G38: =B51-B38 -> 13
B39: 37 | C39: =IF('WLTP data and calculations'!M39>0,0,'WLTP data and calculations'!M39*'WLTP data and calculations'!I39) -> -3997.157 | D39: =$C39/1000 -> -3.997157 | E39: =$D39*-1 -> 3.997157
B40: 38 | C40: =IF('WLTP data and calculations'!M40>0,0,'WLTP data and calculations'!M40*'WLTP data and calculations'!I40) -> -5477.6551 | D40: =$C40/1000 -> -5.4776551 | E40: =$D40*-1 -> 5.4776551
B41: 39 | C41: =IF('WLTP data and calculations'!M41>0,0,'WLTP data and calculations'!M41*'WLTP data and calculations'!I41) -> -4743.0533 | D41: =$C41/1000 -> -4.7430533 | E41: =$D41*-1 -> 4.7430533
B42: 40 | C42: =IF('WLTP data and calculations'!M42>0,0,'WLTP data and calculations'!M42*'WLTP data and calculations'!I42) -> -3847.3212 | D42: =$C42/1000 -> -3.8473212 | E42: =$D42*-1 -> 3.8473212
B43: 41 | C43: =IF('WLTP data and calculations'!M43>0,0,'WLTP data and calculations'!M43*'WLTP data and calculations'!I43) -> -4348.011 | D43: =$C43/1000 -> -4.348011 | E43: =$D43*-1 -> 4.348011
B44: 42 | C44: =IF('WLTP data and calculations'!M44>0,0,'WLTP data and calculations'!M44*'WLTP data and calculations'!I44) -> -5121.7162 | D44: =$C44/1000 -> -5.1217162 | E44: =$D44*-1 -> 5.1217162
B45: 43 | C45: =IF('WLTP data and calculations'!M45>0,0,'WLTP data and calculations'!M45*'WLTP data and calculations'!I45) -> -4284.097 | D45: =$C45/1000 -> -4.284097 | E45: =$D45*-1 -> 4.284097
B46: 44 | C46: =IF('WLTP data and calculations'!M46>0,0,'WLTP data and calculations'!M46*'WLTP data and calculations'!I46) -> -2286.539 | D46: =$C46/1000 -> -2.286539 | E46: =$D46*-1 -> 2.286539
B47: 45 | C47: =IF('WLTP data and calculations'!M47>0,0,'WLTP data and calculations'!M47*'WLTP data and calculations'!I47) -> -644.56603 | D47: =$C47/1000 -> -0.64456603 | E47: =$D47*-1 -> 0.64456603
B48: 46 | C48: =IF('WLTP data and calculations'!M48>0,0,'WLTP data and calculations'!M48*'WLTP data and calculations'!I48) -> -365.32568 | D48: =$C48/1000 -> -0.36532568 | E48: =$D48*-1 -> 0.36532568
B49: 47 | C49: =IF('WLTP data and calculations'!M49>0,0,'WLTP data and calculations'!M49*'WLTP data and calculations'!I49) -> -711.25298 | D49: =$C49/1000 -> -0.71125298 | E49: =$D49*-1 -> 0.71125298
B50: 48 | C50: =IF('WLTP data and calculations'!M50>0,0,'WLTP data and calculations'!M50*'WLTP data and calculations'!I50) -> -520.73385 | D50: =$C50/1000 -> -0.52073385 | E50: =$D50*-1 -> 0.52073385
... B52: 50 | C52: =IF('WLTP data and calculations'!M52>0,0,'WLTP data and calculations'!M52*'WLTP data and calculations'!I52) -> 0 | D52: =$C52/1000 -> 0 | E52: =$D52*-1 -> 0
B53: 51 | C53: =IF('WLTP data and calculations'!M53>0,0,'WLTP data and calculations'!M53*'WLTP data and calculations'!I53) -> -669.54697 | D53: =$C53/1000 -> -0.66954697 | E53: =$D53*-1 -> 0.66954697 | F53: =SUM(E53:E56) -> 3.4367972 | G53: =B57-B53 -> 4
B54: 52 | C54: =IF('WLTP data and calculations'!M54>0,0,'WLTP data and calculations'!M54*'WLTP data and calculations'!I54) -> -1506.2385 | D54: =$C54/1000 -> -1.5062385 | E54: =$D54*-1 -> 1.5062385
B55: 53 | C55: =IF('WLTP data and calculations'!M55>0,0,'WLTP data and calculations'!M55*'WLTP data and calculations'!I55) -> -1123.3117 | D55: =$C55/1000 -> -1.1233117 | E55: =$D55*-1 -> 1.1233117
B56: 54 | C56: =IF('WLTP data and calculations'!M56>0,0,'WLTP data and calculations'!M56*'WLTP data and calculations'!I56) -> -137.69997 | D56: =$C56/1000 -> -0.13769997 | E56: =$D56*-1 -> 0.13769997
B57: 55 | C57: =IF('WLTP data and calculations'!M57>0,0,'WLTP data and calculations'!M57*'WLTP data and calculations'!I57) -> 0 | D57: =$C57/1000 -> 0 | E57: =$D57*-1 -> 0
...

Sheet Energy and Power Totals
B2: Energy (kJ)
B3: Total tractive energy | C3: =(SUM('WLTP data and calculations'!O2:O1802))/1000 -> 6786.8006
B4: Total braking energy | C4: =SUM('Braking Energy'!E2:E1802) -> 1330.6666
B5: Total energy losses | C5: =C3-C4 -> 5456.134
B6: Maximum braking energy | C6: =MAX('Braking Energy'!E2:E1802) -> 14.218525
B8: Braking events
B9: Total braking time (s) | C9: =SUM('Braking Energy'!G2:G1802) -> 414
B10: Number of braking events | C10: 59
B11: Average braking period (s) | C11: =AVERAGE('Braking Energy'!G2:G1802) -> 7.0169492
B13: Power (kW/h)
B14: Maximum tractive power | C14: =MAX('WLTP data and calculations'!AI2:AI1802) -> 29.035768
B15: Maximum braking power | C15: =MAX('WLTP data and calculations'!AK2:AK1802) -> 15.747089

Sheet Graphs
