Workbook

Sheet ACCA5036
A2: UWTSD No | B2: GIVEN NAME | C2: FAMILY NAME | D2: PART 1 | E2: GRADE
A3: 2017104 | B3: Callum | C3: Bain | D3: =Marks!G2 -> 65 | E3: =D3 -> 65 | H3: Percentage above 60: | I3: =COUNTIF(E3:E9,">=60")/COUNTIF(E3:E9,">0") -> 0.71428571
A4: 2017099 | B4: Sam | C4: Brocklesby | D4: =Marks!G3 -> 52 | E4: =D4 -> 52
A5: 2017103 | B5: Jordan | C5: Griffiths | D5: =Marks!G4 -> 84 | E5: =D5 -> 84
A6: 2017102 | B6: Nathan Kyle | C6: Hudson | D6: =Marks!G5 -> 79 | E6: =D6 -> 79
A7: 2020661 | B7: Daniel | C7: Morgan | D7: =Marks!G6 -> 42 | E7: =D7 -> 42
A8: 2017108 | B8: Christopher | C8: Painter | D8: =Marks!G7 -> 76 | E8: =D8 -> 76
A9: 2017105 | B9: Brandon | C9: Stevens | D9: =Marks!G8 -> 70 | E9: =D9 -> 70
C10: MEAN VALUE | D10: =SUMIF(D3:D9,">0")/COUNTIF(D3:D9,">0") -> 66.857143 | E10: =SUMIF(E3:E9,">0")/COUNTIF(E3:E9,">0") -> 66.857143
D11: SD | E11: =STDEV(E3:E9) -> 15.148472
D12: Skewness | E12: =SKEW(E3:E9) -> -0.739754

Sheet Marks
A1: Name | B1: 1 | C1: 2 | D1: 3 | E1: 4 | F1: 5 | G1: Total
A2: Callum Bain | B2: 7 | C2: 13 | D2: 11 | E2: 26 | F2: 8 | G2: =SUM(B2:F2) -> 65
A3: Sam Brocklesby | B3: 4 | C3: 10 | D3: 10 | E3: 25 | F3: 3 | G3: =SUM(B3:F3) -> 52
A4: Jordan Griffiths | B4: 10 | C4: 16 | D4: 16 | E4: 34 | F4: 8 | G4: =SUM(B4:F4) -> 84
A5: Nathan Kyle Hudson | B5: 10 | C5: 16 | D5: 17 | E5: 28 | F5: 8 | G5: =SUM(B5:F5) -> 79
A6: Daniel Morgan | B6: 4 | C6: 8 | D6: 9 | E6: 16 | F6: 5 | G6: =SUM(B6:F6) -> 42
A7: Christopher Painter | B7: 8 | C7: 14 | D7: 14 | E7: 32 | F7: 8 | G7: =SUM(B7:F7) -> 76
A8: Brandon Stevens | B8: 7 | C8: 13 | D8: 14 | E8: 28 | F8: 8 | G8: =SUM(B8:F8) -> 70
