Workbook

Sheet Timesheet 2026
F1: Hourly Paid Casual Student Visa Holder Timesheet | J1: Please select a date
B4: By submitting this timesheet you are confirming that you have not worked in excess of 20 hours per week in accordance with the terms of your visa (either in this post or in total if you hold a number of posts). This would cover posts within or outside of the University. The timesheet must include all work completed within the University during the week which is defined as from Monday to Sunday (please record all hours worked on this timesheet). Only one timesheet per week will be accepted. Timesheets should be submitted on a weekly basis. You must provide official confirmation to HR of your University term dates. The timesheet must be signed by the Head of Department for each day worked to authorise payment for the hours worked. The timesheet should then be forwarded to the HR Department by the 5th of each month to humanresources@uwtsd.ac.uk for processing.
J16: Timesheet checklist
B17: Name of Employee: | C17: Rehan Joseph | E17: Employee Number: | G17: 706299 | J17: Please ensure the following are completed
J18: Employee Name | L18: =IF(C17="", 0, 1) -> 1
B19: Post Title(s): | C19: Mr | E19: Department/Campus: | G19: Swansea | J19: Employee Number | L19: =IF(G17="", 0, 1) -> 1
J20: Employee Signature | L20: =IF(D101="", 0, 1) -> 1
B22: Non-Teaching Activities.
B24: =_xlfn.IFNA(VLOOKUP(J1, Data!G3:H14, 2, FALSE),"Week 1") -> Week 1
A26: Week 1 | B26: Day | C26: Date | D26: Start | E26: End | F26: Break | G26: Worked Hours | H26: Description of work undertaken | K26: Pre-agreed by | L26: Confirmed by | M26: Comments
B27: =_xlfn.IFNA(VLOOKUP(C27,Data!A:B,2,FALSE),"") | G27: =(E27-D27)*24-F27 -> 0
B28: =_xlfn.IFNA(VLOOKUP(C28,Data!A:B,2,FALSE),"") | G28: =(E28-D28)*24-F28 -> 0
B29: =_xlfn.IFNA(VLOOKUP(C29,Data!A:B,2,FALSE),"") | G29: =(E29-D29)*24-F29 -> 0
B30: =_xlfn.IFNA(VLOOKUP(C30,Data!A:B,2,FALSE),"") | G30: =(E30-D30)*24-F30 -> 0
B31: =_xlfn.IFNA(VLOOKUP(C31,Data!A:B,2,FALSE),"") | G31: =(E31-D31)*24-F31 -> 0
B32: =_xlfn.IFNA(VLOOKUP(C32,Data!A:B,2,FALSE),"") | G32: =(E32-D32)*24-F32 -> 0
B33: =_xlfn.IFNA(VLOOKUP(C33,Data!A:B,2,FALSE),"") | G33: =(E33-D33)*24-F33 -> 0
F34: Week 1 Total: | G34: =SUM(G27:G33) -> 0
B36: =_xlfn.IFNA(VLOOKUP(J1, Data!G17:H28, 2, FALSE),"Week 2") -> Week 2
A38: Week 2 | B38: Day | C38: Date | D38: Start | E38: End | F38: Break | G38: Worked Hours | H38: Description of work undertaken | K38: Pre-agreed by | L38: Confirmed by | M38: Comments
B39: =_xlfn.IFNA(VLOOKUP(C39,Data!A:B,2,FALSE),"") | G39: =(E39-D39)*24-F39 -> 0
B40: =_xlfn.IFNA(VLOOKUP(C40,Data!A:B,2,FALSE),"") | G40: =(E40-D40)*24-F40 -> 0
B41: =_xlfn.IFNA(VLOOKUP(C41,Data!A:B,2,FALSE),"") | G41: =(E41-D41)*24-F41 -> 0
B42: =_xlfn.IFNA(VLOOKUP(C42,Data!A:B,2,FALSE),"") | G42: =(E42-D42)*24-F42 -> 0
B43: =_xlfn.IFNA(VLOOKUP(C43,Data!A:B,2,FALSE),"") | G43: =(E43-D43)*24-F43 -> 0
B44: =_xlfn.IFNA(VLOOKUP(C44,Data!A:B,2,FALSE),"") | G44: =(E44-D44)*24-F44 -> 0
B45: =_xlfn.IFNA(VLOOKUP(C45,Data!A:B,2,FALSE),"") | G45: =(E45-D45)*24-F45 -> 0
F46: Week 2 Total: | G46: =SUM(G39:G45) -> 0
B48: =_xlfn.IFNA(VLOOKUP(J1,Data!G31:H42, 2, FALSE),"Week 3") -> Week 3
A50: Week 3 | B50: Day | C50: Date | D50: Start | E50: End | F50: Break | G50: Worked Hours | H50: Description of work undertaken | K50: Pre-agreed by | L50: Confirmed by | M50: Comments
B51: =_xlfn.IFNA(VLOOKUP(C51,Data!A:B,2,FALSE),"") -> Monday | C51: 46223 | D51: 16:30 | E51: 19:30 | G51: =(E51-D51)*24-F51 -> 3 | H51: Calling Campaign
B52: =_xlfn.IFNA(VLOOKUP(C52,Data!A:B,2,FALSE),"") -> Tuesday | C52: 46224 | D52: 16:30 | E52: 19:30 | G52: =(E52-D52)*24-F52 -> 3 | H52: Calling Campaign
B53: =_xlfn.IFNA(VLOOKUP(C53,Data!A:B,2,FALSE),"") -> Wednesday | C53: 46225 | D53: 16:30 | E53: 19:30 | G53: =(E53-D53)*24-F53 -> 3 | H53: Calling Campaign
B54: =_xlfn.IFNA(VLOOKUP(C54,Data!A:B,2,FALSE),"") -> Thursday | C54: 46226 | D54: 16:30 | E54: 19:30 | G54: =(E54-D54)*24-F54 -> 3 | H54: Calling Campaign
B55: =_xlfn.IFNA(VLOOKUP(C55,Data!A:B,2,FALSE),"") -> Saturday | C55: 46193 | D55: 08:30 | E55: 14:00 | G55: =(E55-D55)*24-F55 -> 5.5 | H55: June Open Day
B56: =_xlfn.IFNA(VLOOKUP(C56,Data!A:B,2,FALSE),"") | G56: =(E56-D56)*24-F56 -> 0
B57: =_xlfn.IFNA(VLOOKUP(C57,Data!A:B,2,FALSE),"") | G57: =(E57-D57)*24-F57 -> 0
F58: Week 3 Total: | G58: =SUM(G51:G57) -> 17.5
B60: =_xlfn.IFNA(VLOOKUP(J1, Data!G45:H56, 2, FALSE),"Week 4") -> Week 4
A62: Week 4 | B62: Day | C62: Date | D62: Start | E62: End | F62: Break | G62: Worked Hours | H62: Description of work undertaken | K62: Pre-agreed by | L62: Confirmed by | M62: Comments
B63: =_xlfn.IFNA(VLOOKUP(C63,Data!A:B,2,FALSE),"") -> Monday | C63: 46230 | D63: 16:30 | E63: 19:30 | G63: =(E63-D63)*24-F63 -> 3 | H63: Calling Campaign
B64: =_xlfn.IFNA(VLOOKUP(C64,Data!A:B,2,FALSE),"") -> Tuesday | C64: 46231 | D64: 16:00 | E64: 19:30 | G64: =(E64-D64)*24-F64 -> 3.5 | H64: Calling Campaign
B65: =_xlfn.IFNA(VLOOKUP(C65,Data!A:B,2,FALSE),"") -> Wednesday | C65: 46232 | D65: 16:00 | E65: 18:30 | G65: =(E65-D65)*24-F65 -> 2.5 | H65: Calling Campaign
B66: =_xlfn.IFNA(VLOOKUP(C66,Data!A:B,2,FALSE),"") | G66: =(E66-D66)*24-F66 -> 0
B67: =_xlfn.IFNA(VLOOKUP(C67,Data!A:B,2,FALSE),"") | G67: =(E67-D67)*24-F67 -> 0
B68: =_xlfn.IFNA(VLOOKUP(C68,Data!A:B,2,FALSE),"") | G68: =(E68-D68)*24-F68 -> 0
B69: =_xlfn.IFNA(VLOOKUP(C69,Data!A:B,2,FALSE),"") | G69: =(E69-D69)*24-F69 -> 0
F70: Week 4 Total: | G70: =SUM(G63:G69) -> 9
B72: =_xlfn.IFNA(VLOOKUP(J1, Data!G59:H70, 2, FALSE), "Week 5") -> Week 5
A74: Week 5 | B74: Day | C74: Date | D74: Start | E74: End | F74: Break | G74: Worked Hours | H74: Description of work undertaken | K74: Pre-agreed by | L74: Confirmed by | M74: Comments
B75: =_xlfn.IFNA(VLOOKUP(C75,Data!A:B,2,FALSE),"") | G75: =(E75-D75)*24-F75 -> 0
B76: =_xlfn.IFNA(VLOOKUP(C76,Data!A:B,2,FALSE),"") | G76: =(E76-D76)*24-F76 -> 0
B77: =_xlfn.IFNA(VLOOKUP(C77,Data!A:B,2,FALSE),"") | G77: =(E77-D77)*24-F77 -> 0
B78: =_xlfn.IFNA(VLOOKUP(C78,Data!A:B,2,FALSE),"") | G78: =(E78-D78)*24-F78 -> 0
B79: =_xlfn.IFNA(VLOOKUP(C79,Data!A:B,2,FALSE),"") | G79: =(E79-D79)*24-F79 -> 0
B80: =_xlfn.IFNA(VLOOKUP(C80,Data!A:B,2,FALSE),"") | G80: =(E80-D80)*24-F80 -> 0
B81: =_xlfn.IFNA(VLOOKUP(C81,Data!A:B,2,FALSE),"") | G81: =(E81-D81)*24-F81 -> 0
F82: Week 5 Total: | G82: =SUM(G75:G81) -> 0
B85: =_xlfn.IFNA(VLOOKUP(J1, Data!G72:H83, 2, FALSE), "Week 6") -> Week 6
A87: Week 5 | B87: Day | C87: Date | D87: Start | E87: End | F87: Break | G87: Worked Hours | H87: Description of work undertaken | K87: Pre-agreed by | L87: Confirmed by | M87: Comments
B88: =_xlfn.IFNA(VLOOKUP(C88,Data!A:B,2,FALSE),"") | G88: =(E88-D88)*24-F88 -> 0
B89: =_xlfn.IFNA(VLOOKUP(C89,Data!A:B,2,FALSE),"") | G89: =(E89-D89)*24-F89 -> 0
B90: =_xlfn.IFNA(VLOOKUP(C90,Data!A:B,2,FALSE),"") | G90: =(E90-D90)*24-F90 -> 0
B91: =_xlfn.IFNA(VLOOKUP(C91,Data!A:B,2,FALSE),"") | G91: =(E91-D91)*24-F91 -> 0
B92: =_xlfn.IFNA(VLOOKUP(C92,Data!A:B,2,FALSE),"") | G92: =(E92-D92)*24-F92 -> 0
B93: =_xlfn.IFNA(VLOOKUP(C93,Data!A:B,2,FALSE),"") | G93: =(E93-D93)*24-F93 -> 0
B94: =_xlfn.IFNA(VLOOKUP(C94,Data!A:B,2,FALSE),"") | G94: =(E94-D94)*24-F94 -> 0
F95: Week 6 Total: | G95: =SUM(G88:G94) -> 0
B98: Total Hours: | D98: =SUM(G34,G46,G58,G70,G82,G95) -> 26.5
B101: Employee Signature: | D101: Rehan Joseph
B103: Countersigned:
B106: Please Note: Timesheets must be signed by both the employee and Head of Department.
B107: In order to ensure equity of pay rates across the University it is recommended that rates of pay are checked with HR before agreeing with the employee.

Sheet Data
A1: Date | B1: Day | D1: Time | E1: Break | J1: Please select a date
B2: Monday | D2: 00:00 | E2: 0.25 | J2: January 2026
B3: Tuesday | D3: 00:15 | E3: 0.5 | G3: January 2026 | H3: Week 1: Thursday 1st to Sunday 4th January | J3: February 2026
B4: Wednesday | D4: 00:30 | E4: 0.75 | G4: February 2026 | H4: Week 1: Sunday 1st February | J4: March 2026
A5: 46023 | B5: Thursday | D5: 00:45 | E5: 1 | G5: March 2026 | H5: Week 1: Sunday 1st March | J5: April 2026
A6: 46024 | B6: Friday | D6: 01:00 | E6: 1.25 | G6: April 2026 | H6: Week 1: Wednesday 1st to Sunday 5th April | J6: May 2026
A7: 46025 | B7: Saturday | D7: 01:15 | E7: 1.5 | G7: May 2026 | H7: Week 1: Friday 1st to Sunday 3rd May | J7: June 2026
A8: 46026 | B8: Sunday | D8: 01:30 | E8: 2 | G8: June 2026 | H8: Week 1: Monday 1st to Sunday 7th June | J8: July 2026
A9: 46027 | B9: Monday | D9: 01:45 | G9: July 2026 | H9: Week 1: Wednesday 1st to Sunday 5th July | J9: August 2026
A10: 46028 | B10: Tuesday | D10: 02:00 | G10: August 2026 | H10: Week 1: Saturday 1st to Sunday 2nd August | J10: September 2026
A11: 46029 | B11: Wednesday | D11: 02:15 | G11: September 2026 | H11: Week 1: Tuesday 1st to Sunday 6th September | J11: October 2026
A12: 46030 | B12: Thursday | D12: 02:30 | G12: October 2026 | H12: Week 1: Thursday 1st to Sunday 4th October | J12: November 2026
A13: 46031 | B13: Friday | D13: 02:45 | G13: November 2026 | H13: Week 1: Sunday 1st November | J13: December 2026
A14: 46032 | B14: Saturday | D14: 03:00 | G14: December 2026 | H14: Week 1: Tuesday 1st to Sunday 6th December
A15: 46033 | B15: Sunday | D15: 0.13541667
A16: 46034 | B16: Monday | D16: 0.14583333
A17: 46035 | B17: Tuesday | D17: 0.15625 | G17: January 2026 | H17: Week 2: Monday 5th to Sunday 11th January
A18: 46036 | B18: Wednesday | D18: 0.16666667 | G18: February 2026 | H18: Week 2: Monday 2nd to Sunday 8th February
A19: 46037 | B19: Thursday | D19: 0.17708333 | G19: March 2026 | H19: Week 2: Monday 2nd to Sunday 8th March
A20: 46038 | B20: Friday | D20: 0.1875 | G20: April 2026 | H20: Week 2: Monday 6th to Sunday 12th April
A21: 46039 | B21: Saturday | D21: 0.19791667 | G21: May 2026 | H21: Week 2: Monday 4th to Sunday 10th May
A22: 46040 | B22: Sunday | D22: 0.20833333 | G22: June 2026 | H22: Week 2: Monday 8th to Sunday 14th June
A23: 46041 | B23: Monday | D23: 0.21875 | G23: July 2026 | H23: Week 2: Monday 6th to Sunday 12th July
A24: 46042 | B24: Tuesday | D24: 0.22916667 | G24: August 2026 | H24: Week 2: Monday 3rd to Sunday 9th August
A25: 46043 | B25: Wednesday | D25: 0.23958333 | G25: September 2026 | H25: Week 2: Monday 7th to Sunday 13th September
A26: 46044 | B26: Thursday | D26: 0.25 | G26: October 2026 | H26: Week 2: Monday 5th to Sunday 11th October
A27: 46045 | B27: Friday | D27: 0.26041667 | G27: November 2026 | H27: Week 2: Monday 2nd to Sunday 8th November
A28: 46046 | B28: Saturday | D28: 0.27083333 | G28: December 2026 | H28: Week 2: Monday 7th to Sunday 13th December
A29: 46047 | B29: Sunday | D29: 0.28125
A30: 46048 | B30: Monday | D30: 07:00
A31: 46049 | B31: Tuesday | D31: 07:15 | G31: January 2026 | H31: Week 3: Monday 12th to Sunday 18th January
A32: 46050 | B32: Wednesday | D32: 07:30 | G32: February 2026 | H32: Week 3: Monday 9th to Sunday 15th February
A33: 46051 | B33: Thursday | D33: 07:45 | G33: March 2026 | H33: Week 3: Monday 9th to Sunday 15th March
A34: 46052 | B34: Friday | D34: 08:00 | G34: April 2026 | H34: Week 3: Monday 13th to Sunday 19th April
A35: 46053 | B35: Saturday | D35: 08:15 | G35: May 2026 | H35: Week 3: Monday 11th to Sunday 17th May
A36: 46054 | B36: Sunday | D36: 08:30 | G36: June 2026 | H36: Week 3: Monday 15th to Sunday 21st June
A37: 46055 | B37: Monday | D37: 08:45 | G37: July 2026 | H37: Week 3: Monday 13th to Sunday 19th July
A38: 46056 | B38: Tuesday | D38: 09:00 | G38: August 2026 | H38: Week 3: Monday 10th to Sunday 16th August
A39: 46057 | B39: Wednesday | D39: 09:15 | G39: September 2026 | H39: Week 3: Monday 14th to Sunday 20th September
A40: 46058 | B40: Thursday | D40: 09:30 | G40: October 2026 | H40: Week 3: Monday 12th to Sunday 18th October
A41: 46059 | B41: Friday | D41: 09:45 | G41: November 2026 | H41: Week 3: Monday 9th to Sunday 15th November
A42: 46060 | B42: Saturday | D42: 10:00 | G42: December 2026 | H42: Week 3: Monday 14th to Sunday 18th December
A43: 46061 | B43: Sunday | D43: 10:15
A44: 46062 | B44: Monday | D44: 10:30
A45: 46063 | B45: Tuesday | D45: 10:45 | G45: January 2026 | H45: Week 4: Monday 19th to Sunday 25th January
A46: 46064 | B46: Wednesday | D46: 11:00 | G46: February 2026 | H46: Week 4: Monday 16th to Sunday 22nd February
A47: 46065 | B47: Thursday | D47: 11:15 | G47: March 2026 | H47: Week 4: Monday 16th to Sunday 22nd March
A48: 46066 | B48: Friday | D48: 11:30 | G48: April 2026 | H48: Week 4: Monday 20th to Sunday 26th April
A49: 46067 | B49: Saturday | D49: 11:45 | G49: May 2026 | H49: Week 4: Monday 18th to Sunday 24th May
A50: 46068 | B50: Sunday | D50: 12:00 | G50: June 2026 | H50: Week 4: Monday 22nd to Sunday 28th June
A51: 46069 | B51: Monday | D51: 12:15 | G51: July 2026 | H51: Week 4: Monday 20th to Sunday 26th July
A52: 46070 | B52: Tuesday | D52: 12:30 | G52: August 2026 | H52: Week 4: Monday 17th to Sunday 23rd August
A53: 46071 | B53: Wednesday | D53: 12:45 | G53: September 2026 | H53: Week 4: Monday 21st to Sunday 27th September
A54: 46072 | B54: Thursday | D54: 13:00 | G54: October 2026 | H54: Week 4: Monday 19th to Sunday 25th October
A55: 46073 | B55: Friday | D55: 13:15 | G55: November 2026 | H55: Week 4: Monday 16th to Sunday 22nd November
A56: 46074 | B56: Saturday | D56: 13:30 | G56: December 2026 | H56: Week 4: Monday 21st to Sunday 27th December
A57: 46075 | B57: Sunday | D57: 13:45
A58: 46076 | B58: Monday | D58: 14:00
A59: 46077 | B59: Tuesday | D59: 14:15 | G59: January 2026 | H59: Week 5: Monday 26th to Saturday 31st January
A60: 46078 | B60: Wednesday | D60: 14:30 | G60: February 2026 | H60: Week 5: Monday 23rd to Saturday 28th February
A61: 46079 | B61: Thursday | D61: 14:45 | G61: March 2026 | H61: Week 5: Monday 23rd to Sunday 29th March
A62: 46080 | B62: Friday | D62: 15:00 | G62: April 2026 | H62: Week 5: Monday 27th to Thursday 30th April
A63: 46081 | B63: Saturday | D63: 15:15 | G63: May 2026 | H63: Week 5: Monday 25th to Sunday 31st May
A64: 46082 | B64: Sunday | D64: 15:30 | G64: June 2026 | H64: Week 5: Monday 29th to Tuesday 30th June
A65: 46083 | B65: Monday | D65: 15:45 | G65: July 2026 | H65: Week 5: Monday 27th to Friday 31st July
A66: 46084 | B66: Tuesday | D66: 16:00 | G66: August 2026 | H66: Week 5: Monday 24th to Sunday 30th August
A67: 46085 | B67: Wednesday | D67: 16:15 | G67: September 2026 | H67: Week 5: Monday 28th to Wednesday 30th September
A68: 46086 | B68: Thursday | D68: 16:30 | G68: October 2026 | H68: Week 5: Monday 26th to Saturday 31st October
A69: 46087 | B69: Friday | D69: 16:45 | G69: November 2026 | H69: Week 5: Monday 23rd to Sunday 29th November
A70: 46088 | B70: Saturday | D70: 17:00 | G70: December 2026 | H70: Week 5: Monday 28th to Thursday 31st Decmeber
A71: 46089 | B71: Sunday | D71: 17:15
A72: 46090 | B72: Monday | D72: 17:30
A73: 46091 | B73: Tuesday | D73: 17:45 | G73: January 2026 | H73: Week 6: Not Applicable
A74: 46092 | B74: Wednesday | D74: 18:00 | G74: February 2026 | H74: Week 6: Not Applicable
A75: 46093 | B75: Thursday | D75: 18:15 | G75: March 2026 | H75: Week 6: Monday 30th to Tuesday 31st March
A76: 46094 | B76: Friday | D76: 18:30 | G76: April 2026 | H76: Week 6: Not Applicable
A77: 46095 | B77: Saturday | D77: 18:45 | G77: May 2026 | H77: Week 6: Not Applicable
A78: 46096 | B78: Sunday | D78: 19:00 | G78: June 2026 | H78: Week 6: Not Applicable
A79: 46097 | B79: Monday | D79: 19:15 | G79: July 2026 | H79: Week 6: Not Applicable
A80: 46098 | B80: Tuesday | D80: 19:30 | G80: August 2026 | H80: Week 6: Monday 31st August
A81: 46099 | B81: Wednesday | D81: 19:45 | G81: September 2026 | H81: Week 6: Not Applicable
A82: 46100 | B82: Thursday | D82: 20:00 | G82: October 2026 | H82: Week 6: Not Applicable
A83: 46101 | B83: Friday | D83: 20:15 | G83: November 2026 | H83: Week 6: Monday 30th November
A84: 46102 | B84: Saturday | D84: 20:30 | G84: December 2026 | H84: Week 6: Not Applicable
A85: 46103 | B85: Sunday | D85: 20:45
A86: 46104 | B86: Monday | D86: 21:00
A87: 46105 | B87: Tuesday | D87: 21:15
A88: 46106 | B88: Wednesday | D88: 21:30
A89: 46107 | B89: Thursday | D89: 21:45
A90: 46108 | B90: Friday | D90: 22:00
A91: 46109 | B91: Saturday | D91: 22:15
A92: 46110 | B92: Sunday | D92: 22:30
A93: 46111 | B93: Monday | D93: 22:45
A94: 46112 | B94: Tuesday | D94: 0.95833333
A95: 46113 | B95: Wednesday | D95: 0.96875
A96: 46114 | B96: Thursday | D96: 0.97916667
A97: 46115 | B97: Friday | D97: 0.98958333
A98: 46116 | B98: Saturday | D98: 24:00
A99: 46117 | B99: Sunday
A100: 46118 | B100: Monday
...
