Workbook
Name DateRange: {15,30,45,60,75,90,105,120}
Name End_Date: IFERROR(IF(MAX(Tasks[End Date])="",TODAY(),MAX(MAX(Tasks[End Date]),MAX(Milestones[date]))),"")
Name Start_Date: IFERROR(IF(MIN(Tasks[Start Date])="",TODAY(),MIN(Tasks[Start Date])),"")
Name Track_Today: 'Chart data'!$D$2

Sheet Chart data
A1: Create a Date Tracking Gantt Chart in this worksheet. The title of this worksheet is in cell B1. Information about how to use this worksheet, including instructions for screen readers, is in the About worksheet. Continue navigating down column A for further instructions. | B1: Date Tracking Gantt Chart
A2: Select option Yes in cell D2 if you want to highlight today’s date in the Gantt Chart worksheet. Select option No in cell D2 if you do not want to highlight today’s date in the Gantt Chart worksheet. In Cell D2, select ALT+Arrow Down for options. | B2: Track today’s date? | D2: Yes
A3: Milestones header for the milestone table is in cell B3. Tasks header for the tasks table is in cell G3. | B3: Milestones | G3: Tasks
A4: Information about the columns in the milestone table are in this row from cells B4 to E4. Information about the columns in the tasks table are in this row from cells G4 to J4. | B4: This column should be ordered sequentially. | C4: The position column, charts milestones within the task chart. | D4: Enter the date for a milestone in this column. | E4: Enter a milestone description in this column. These descriptions will appear in the chart. | G4: This column should be ordered sequentially. | H4: Enter the start date for each task below. For best results sort this column in ascending order. | I4: Enter the end date for each task or activity below, in this column. | J4: Enter tasks and/or activities in this column. | K4: Auto-calculated column used for charting the duration of each task. Do not delete or modify.
A5: Milestone table headers are in cells B5 to E5. Tasks table headers are in cells G5 to K5. Milestone sample data is in cells B6 to E17. Tasks sample data is in cells G6 to J17. The next instruction is in cell A21. | B5: No. | C5: Position | D5: date | E5: Milestone | G5: No. | H5: Start Date | I5: End Date | J5: Task | K5: Duration in days
B6: 1 | C6: 1 | D6: 43749 | E6: Dissertation Plan | G6: 1 | H6: 43759 | I6: 43784 | J6: Block 2 Nero | K6: =IFERROR(IF(LEN(Tasks[[#This Row],[Start Date]])=0,"",(INT(Tasks[[#This Row],[End Date]])-INT(Tasks[[#This Row],[Start Date]]))-(INT(Tasks[[#This Row],[Start Date]])-INT(Tasks[[#This Row],[Start Date]]))+1),"") -> 26
B7: 2 | C7: 1 | D7: 43864 | E7: Dissertation Presentation | G7: 2 | H7: 43762 | I7: 43762 | J7: Quiz 1 | K7: =IFERROR(IF(LEN(Tasks[[#This Row],[Start Date]])=0,"",(INT(Tasks[[#This Row],[End Date]])-INT(Tasks[[#This Row],[Start Date]]))-(INT(Tasks[[#This Row],[Start Date]])-INT(Tasks[[#This Row],[Start Date]]))+1),"") -> 1
B8: 3 | C8: 1 | D8: 43952 | E8: Dissertation Hand in | G8: 3 | H8: 43766 | I8: 43766 | J8: Oral Exam | K8: =IFERROR(IF(LEN(Tasks[[#This Row],[Start Date]])=0,"",(INT(Tasks[[#This Row],[End Date]])-INT(Tasks[[#This Row],[Start Date]]))-(INT(Tasks[[#This Row],[Start Date]])-INT(Tasks[[#This Row],[Start Date]]))+1),"") -> 1
G9: 4 | H9: 43770 | I9: =Tasks[[#This Row],[Start Date]] -> 43770 | J9: Quiz 2 | K9: =IFERROR(IF(LEN(Tasks[[#This Row],[Start Date]])=0,"",(INT(Tasks[[#This Row],[End Date]])-INT(Tasks[[#This Row],[Start Date]]))-(INT(Tasks[[#This Row],[Start Date]])-INT(Tasks[[#This Row],[Start Date]]))+1),"") -> 1
G10: 5 | H10: 43776 | I10: =Tasks[[#This Row],[Start Date]] -> 43776 | J10: Group Presentation | K10: =IFERROR(IF(LEN(Tasks[[#This Row],[Start Date]])=0,"",(INT(Tasks[[#This Row],[End Date]])-INT(Tasks[[#This Row],[Start Date]]))-(INT(Tasks[[#This Row],[Start Date]])-INT(Tasks[[#This Row],[Start Date]]))+1),"") -> 1
G11: 6 | H11: 43777 | I11: =Tasks[[#This Row],[Start Date]] -> 43777 | J11: Quiz 3 | K11: =IFERROR(IF(LEN(Tasks[[#This Row],[Start Date]])=0,"",(INT(Tasks[[#This Row],[End Date]])-INT(Tasks[[#This Row],[Start Date]]))-(INT(Tasks[[#This Row],[Start Date]])-INT(Tasks[[#This Row],[Start Date]]))+1),"") -> 1
G12: 7 | H12: 43780 | I12: =Tasks[[#This Row],[Start Date]] -> 43780 | J12: Quiz 4 | K12: =IFERROR(IF(LEN(Tasks[[#This Row],[Start Date]])=0,"",(INT(Tasks[[#This Row],[End Date]])-INT(Tasks[[#This Row],[Start Date]]))-(INT(Tasks[[#This Row],[Start Date]])-INT(Tasks[[#This Row],[Start Date]]))+1),"") -> 1
G13: 8 | H13: 43784 | I13: =Tasks[[#This Row],[Start Date]] -> 43784 | J13: Take Home Exam | K13: =IFERROR(IF(LEN(Tasks[[#This Row],[Start Date]])=0,"",(INT(Tasks[[#This Row],[End Date]])-INT(Tasks[[#This Row],[Start Date]]))-(INT(Tasks[[#This Row],[Start Date]])-INT(Tasks[[#This Row],[Start Date]]))+1),"") -> 1
G14: 9 | H14: 43792 | I14: 43819 | J14: Block 3 Sparta | K14: =IFERROR(IF(LEN(Tasks[[#This Row],[Start Date]])=0,"",(INT(Tasks[[#This Row],[End Date]])-INT(Tasks[[#This Row],[Start Date]]))-(INT(Tasks[[#This Row],[Start Date]])-INT(Tasks[[#This Row],[Start Date]]))+1),"") -> 28
G15: 10 | H15: 43820 | I15: 43825 | J15: Christmas Break | K15: =IFERROR(IF(LEN(Tasks[[#This Row],[Start Date]])=0,"",(INT(Tasks[[#This Row],[End Date]])-INT(Tasks[[#This Row],[Start Date]]))-(INT(Tasks[[#This Row],[Start Date]])-INT(Tasks[[#This Row],[Start Date]]))+1),"") -> 6
G16: 11 | H16: 43836 | I16: 43861 | J16: Block 4- Myth | K16: =IFERROR(IF(LEN(Tasks[[#This Row],[Start Date]])=0,"",(INT(Tasks[[#This Row],[End Date]])-INT(Tasks[[#This Row],[Start Date]]))-(INT(Tasks[[#This Row],[Start Date]])-INT(Tasks[[#This Row],[Start Date]]))+1),"") -> 26
G17: 12 | H17: 43866 | I17: 43890 | J17: Reading | K17: =IFERROR(IF(LEN(Tasks[[#This Row],[Start Date]])=0,"",(INT(Tasks[[#This Row],[End Date]])-INT(Tasks[[#This Row],[Start Date]]))-(INT(Tasks[[#This Row],[Start Date]])-INT(Tasks[[#This Row],[Start Date]]))+1),"") -> 25
G18: 13 | H18: 43891 | I18: 43897 | J18: Draft plan | K18: =IFERROR(IF(LEN(Tasks[[#This Row],[Start Date]])=0,"",(INT(Tasks[[#This Row],[End Date]])-INT(Tasks[[#This Row],[Start Date]]))-(INT(Tasks[[#This Row],[Start Date]])-INT(Tasks[[#This Row],[Start Date]]))+1),"") -> 7
G19: 14 | H19: 43898 | I19: 43904 | J19: Chapter 1 | K19: =IFERROR(IF(LEN(Tasks[[#This Row],[Start Date]])=0,"",(INT(Tasks[[#This Row],[End Date]])-INT(Tasks[[#This Row],[Start Date]]))-(INT(Tasks[[#This Row],[Start Date]])-INT(Tasks[[#This Row],[Start Date]]))+1),"") -> 7
G20: 15 | H20: 43905 | I20: 43911 | J20: Chapter 2 | K20: =IFERROR(IF(LEN(Tasks[[#This Row],[Start Date]])=0,"",(INT(Tasks[[#This Row],[End Date]])-INT(Tasks[[#This Row],[Start Date]]))-(INT(Tasks[[#This Row],[Start Date]])-INT(Tasks[[#This Row],[Start Date]]))+1),"") -> 7
A21: To add more Milestones, add a new row above this one. Note, the default number of milestones to chart is 15. Adding new milestones requires a change in the hidden worksheet. See the About worksheet cell A9 for more information. The next instruction is in cell A26. | B21: To add more Milestones, add a new row above this one. | G21: 16 | H21: 43912 | I21: 43918 | J21: Chapter 3 | K21: =IFERROR(IF(LEN(Tasks[[#This Row],[Start Date]])=0,"",(INT(Tasks[[#This Row],[End Date]])-INT(Tasks[[#This Row],[Start Date]]))-(INT(Tasks[[#This Row],[Start Date]])-INT(Tasks[[#This Row],[Start Date]]))+1),"") -> 7
G22: 17 | H22: 43919 | I22: 43925 | J22: Chapter 4 | K22: =IFERROR(IF(LEN(Tasks[[#This Row],[Start Date]])=0,"",(INT(Tasks[[#This Row],[End Date]])-INT(Tasks[[#This Row],[Start Date]]))-(INT(Tasks[[#This Row],[Start Date]])-INT(Tasks[[#This Row],[Start Date]]))+1),"") -> 7
G23: 18 | H23: 43926 | I23: 43932 | J23: First Draft | K23: =IFERROR(IF(LEN(Tasks[[#This Row],[Start Date]])=0,"",(INT(Tasks[[#This Row],[End Date]])-INT(Tasks[[#This Row],[Start Date]]))-(INT(Tasks[[#This Row],[Start Date]])-INT(Tasks[[#This Row],[Start Date]]))+1),"") -> 7
G24: 19 | H24: 43944 | I24: 43944 | J24: Print- have finished aleterations | K24: =IFERROR(IF(LEN(Tasks[[#This Row],[Start Date]])=0,"",(INT(Tasks[[#This Row],[End Date]])-INT(Tasks[[#This Row],[Start Date]]))-(INT(Tasks[[#This Row],[Start Date]])-INT(Tasks[[#This Row],[Start Date]]))+1),"") -> 1
K25: =IFERROR(IF(LEN(Tasks[[#This Row],[Start Date]])=0,"",(INT(Tasks[[#This Row],[End Date]])-INT(Tasks[[#This Row],[Start Date]]))-(INT(Tasks[[#This Row],[Start Date]])-INT(Tasks[[#This Row],[Start Date]]))+1),"")
A26: A note is in cell G26. This is the last instruction in this worksheet. | G26: To add more Tasks, add a new row above this one.

Sheet Gantt Chart
A1: Gantt Chart showing Today, milestones and tasks within a date range is in this worksheet. A scrollbar is in row 1 from cells B1 to R1 and increments the date range showing future milestones. The chart is drawn within cells B2 to R3. This is the last instruction in this worksheet.

Sheet Dynamic Chart Data Hidden
A1: Title of this worksheet is in cell B1. | B1: Dynamic Chart data, Do NOT edit or delete this worksheet!
A2: Table title is in cells B2 and C2. | B2: =IF(TODAY()>=MIN(DynamicTaskData[Start date]),"Today","") | C2: highlight
A3: Table heading is in cells B3 and C3. These coordinates create the Today highlight in the chart. The first column marks the day, the second indicates to draw the line that highlights today. The first column date may change so the chart date range stays readable as the dates progress, however, a y co-ord of 0 indicates that no line has been drawn. Do not modify or delete this content or the charting may break. To no longer highlight Today’s date, simply select “no” in the Chart Data worksheet in cell D2. The next instruction is in cell A7. | B3: today highlight x co-ord | C3: y co-ord
B4: =IFERROR(IF(TODAY()<MIN(DynamicTaskData[Start date]),MIN($B$11,MIN(DynamicTaskData[Start date])),TODAY()),TODAY()) -> 43759 | C4: =IFERROR(IF(Track_Today="Yes",IF(TODAY()<MIN(DynamicTaskData[Start date]),0,9),0),0) -> 0
B5: =IFERROR(IF(TODAY()<MIN(DynamicTaskData[Start date]),MIN($B$11,MIN(DynamicTaskData[Start date])),TODAY()),TODAY()) -> 43759 | C5: =IFERROR(IF(Track_Today="Yes",IF(TODAY()<MIN(DynamicTaskData[Start date]),0,9),0),0) -> 0
A7: Table heading is in cell B7. The scrolling increment in cell B8 represents the data graphed and visually appearing in the Gantt Chart at any one time. Scrolling with the scroll bar at the top of the chart in row 1 of the Gantt Chart worksheet will increment this number. The charting works best with single increments. The next instruction is in cell A10. | B7: scroll increment
B8: 0
A10: Table heading is in cell B10 and D10. The Charting Range helps select the appropriate range of tasks and milestones. Do not modify these fields. The ageoff number keeps the chart readable by ageing tasks from the range and only plotting those that are within the range. Do not modify this number. The next instruction is in cell A14. | B10: Charting range | D10: ageoff
B11: =IFERROR(IF(ScrollingIncrement[scroll increment]=0,Start_Date,IF(Start_Date+ScrollingIncrement[scroll increment]*15<End_Date,Start_Date+ScrollingIncrement[scroll increment]*15,End_Date-1)),"") -> 43759 | D11: 45
B12: =IFERROR(IF($B$11+15<End_Date,$B$11+15,End_Date),"") -> 43774
A14: Table heading for Dynamic Milestone Data is in cells B14 to E14. A note is in cell F14. This table creates the Gantt Chart in the Gantt Chart worksheet, plotting 7 milestones at a time. The data in this chart is auto-generated based on the content in the table above. Do not edit or delete this table or its contents. The next instruction is in cell A17. | B14: Tasks | C14: Start date | D14: Task duration in days | E14: position | F14: <-- this table creates the gantt chart, plotting 7 milestones at a time
B15: =IFERROR(IF(LEN(OFFSET('Chart data'!$H6,ScrollingIncrement[scroll increment],0,1,1))=0,"",IF(OR(OFFSET('Chart data'!$I6,ScrollingIncrement[scroll increment],0,1,1)<=$B$12,OFFSET('Chart data'!$H6,ScrollingIncrement[scroll increment],0,1,1)>=($B$11-$D$11)),INDEX(Tasks[],OFFSET('Chart data'!$G6,ScrollingIncrement[scroll increment],0,1,1),4),"")),"") -> Block 2 Nero | C15: =IFERROR(IF(LEN(DynamicTaskData[[#This Row],[Tasks]])=0,$B$11,INDEX(Tasks[],OFFSET('Chart data'!$G6,ScrollingIncrement[scroll increment],0,1,1),2)),"") -> 43759 | D15: =IFERROR(IF(LEN(DynamicTaskData[[#This Row],[Tasks]])=0,0,IF(AND('Chart data'!$H6<=$B$12,'Chart data'!$I6>=$B$12),ABS(OFFSET('Chart data'!$H6,ScrollingIncrement[scroll increment],0,1,1)-$B$12)+1,OFFSET('Chart data'!$K6,ScrollingIncrement[scroll increment],0,1,1))),"") -> 16 | E15: =IFERROR(IF(LEN(DynamicTaskData[[#This Row],[Tasks]])=0,"",8),"") -> 8
B16: =IFERROR(IF(LEN(OFFSET('Chart data'!$H7,ScrollingIncrement[scroll increment],0,1,1))=0,"",IF(OR(OFFSET('Chart data'!$I7,ScrollingIncrement[scroll increment],0,1,1)<=$B$12,OFFSET('Chart data'!$H7,ScrollingIncrement[scroll increment],0,1,1)>=($B$11-$D$11)),INDEX(Tasks[],OFFSET('Chart data'!$G7,ScrollingIncrement[scroll increment],0,1,1),4),"")),"") -> Quiz 1 | C16: =IFERROR(IF(LEN(DynamicTaskData[[#This Row],[Tasks]])=0,$B$11,INDEX(Tasks[],OFFSET('Chart data'!$G7,ScrollingIncrement[scroll increment],0,1,1),2)),"") -> 43762 | D16: =IFERROR(IF(LEN(DynamicTaskData[[#This Row],[Tasks]])=0,0,IF(AND('Chart data'!$H7<=$B$12,'Chart data'!$I7>=$B$12),ABS(OFFSET('Chart data'!$H7,ScrollingIncrement[scroll increment],0,1,1)-$B$12)+1,OFFSET('Chart data'!$K7,ScrollingIncrement[scroll increment],0,1,1))),"") -> 1 | E16: =IFERROR(IF(LEN(DynamicTaskData[[#This Row],[Tasks]])=0,"",7),"") -> 7 | G16: Milestone charting
A17: Cells G15 to I15 contain table headings for Dynamic Milestone Data. Data in this table may appear blank, dates may appear to be incorrect, do not fill in, edit, delete or otherwise modify this data or you risk overwriting formulas and breaking the chart graphing capability. The table allows for 15 milestones to be charted. To chart more than 15, simply expand the table to accommodate your number. Remember, only add the milestones in the Chart Data worksheet. Do not add any content to this table. A note is in cell J15. The next instruction is in cell A32. | B17: =IFERROR(IF(LEN(OFFSET('Chart data'!$H8,ScrollingIncrement[scroll increment],0,1,1))=0,"",IF(OR(OFFSET('Chart data'!$I8,ScrollingIncrement[scroll increment],0,1,1)<=$B$12,OFFSET('Chart data'!$H8,ScrollingIncrement[scroll increment],0,1,1)>=($B$11-$D$11)),INDEX(Tasks[],OFFSET('Chart data'!$G8,ScrollingIncrement[scroll increment],0,1,1),4),"")),"") -> Oral Exam | C17: =IFERROR(IF(LEN(DynamicTaskData[[#This Row],[Tasks]])=0,$B$11,INDEX(Tasks[],OFFSET('Chart data'!$G8,ScrollingIncrement[scroll increment],0,1,1),2)),"") -> 43766 | D17: =IFERROR(IF(LEN(DynamicTaskData[[#This Row],[Tasks]])=0,0,IF(AND('Chart data'!$H8<=$B$12,'Chart data'!$I8>=$B$12),ABS(OFFSET('Chart data'!$H8,ScrollingIncrement[scroll increment],0,1,1)-$B$12)+1,OFFSET('Chart data'!$K8,ScrollingIncrement[scroll increment],0,1,1))),"") -> 1 | E17: =IFERROR(IF(LEN(DynamicTaskData[[#This Row],[Tasks]])=0,"",6),"") -> 6 | G17: Milestones | H17: Date | I17: Baseline | J17: <-- this table creates the milestone markers in the gantt chart, plotting only those milestones that fit in the range of dates shown – up to 15 milestones
B18: =IFERROR(IF(LEN(OFFSET('Chart data'!$H9,ScrollingIncrement[scroll increment],0,1,1))=0,"",IF(OR(OFFSET('Chart data'!$I9,ScrollingIncrement[scroll increment],0,1,1)<=$B$12,OFFSET('Chart data'!$H9,ScrollingIncrement[scroll increment],0,1,1)>=($B$11-$D$11)),INDEX(Tasks[],OFFSET('Chart data'!$G9,ScrollingIncrement[scroll increment],0,1,1),4),"")),"") -> Quiz 2 | C18: =IFERROR(IF(LEN(DynamicTaskData[[#This Row],[Tasks]])=0,$B$11,INDEX(Tasks[],OFFSET('Chart data'!$G9,ScrollingIncrement[scroll increment],0,1,1),2)),"") -> 43770 | D18: =IFERROR(IF(LEN(DynamicTaskData[[#This Row],[Tasks]])=0,0,IF(AND('Chart data'!$H9<=$B$12,'Chart data'!$I9>=$B$12),ABS(OFFSET('Chart data'!$H9,ScrollingIncrement[scroll increment],0,1,1)-$B$12)+1,OFFSET('Chart data'!$K9,ScrollingIncrement[scroll increment],0,1,1))),"") -> 1 | E18: =IFERROR(IF(LEN(DynamicTaskData[[#This Row],[Tasks]])=0,"",5),"") -> 5 | G18: =IFERROR(IF(LEN('Chart data'!D6)=0,"",IF(AND('Chart data'!D6<=$B$12,'Chart data'!D6>=$B$11-$D$11),'Chart data'!E6,"")),"") -> Dissertation Plan | H18: =IFERROR(IF(LEN(DynamicMilestoneData[[#This Row],[Milestones]])=0,$B$12,'Chart data'!$D6),2) -> 43749 | I18: =IFERROR(IF(LEN(DynamicMilestoneData[[#This Row],[Milestones]])=0,"",'Chart data'!$C6),"") -> 1
B19: =IFERROR(IF(LEN(OFFSET('Chart data'!$H10,ScrollingIncrement[scroll increment],0,1,1))=0,"",IF(OR(OFFSET('Chart data'!$I10,ScrollingIncrement[scroll increment],0,1,1)<=$B$12,OFFSET('Chart data'!$H10,ScrollingIncrement[scroll increment],0,1,1)>=($B$11-$D$11)),INDEX(Tasks[],OFFSET('Chart data'!$G10,ScrollingIncrement[scroll increment],0,1,1),4),"")),"") -> Group Presentation | C19: =IFERROR(IF(LEN(DynamicTaskData[[#This Row],[Tasks]])=0,$B$11,INDEX(Tasks[],OFFSET('Chart data'!$G10,ScrollingIncrement[scroll increment],0,1,1),2)),"") -> 43776 | D19: =IFERROR(IF(LEN(DynamicTaskData[[#This Row],[Tasks]])=0,0,IF(AND('Chart data'!$H10<=$B$12,'Chart data'!$I10>=$B$12),ABS(OFFSET('Chart data'!$H10,ScrollingIncrement[scroll increment],0,1,1)-$B$12)+1,OFFSET('Chart data'!$K10,ScrollingIncrement[scroll increment],0,1,1))),"") -> 1 | E19: =IFERROR(IF(LEN(DynamicTaskData[[#This Row],[Tasks]])=0,"",4),"") -> 4 | G19: =IFERROR(IF(LEN('Chart data'!D7)=0,"",IF(AND('Chart data'!D7<=$B$12,'Chart data'!D7>=$B$11-$D$11),'Chart data'!E7,"")),"") | H19: =IFERROR(IF(LEN(DynamicMilestoneData[[#This Row],[Milestones]])=0,$B$12,'Chart data'!$D7),2) -> 43774 | I19: =IFERROR(IF(LEN(DynamicMilestoneData[[#This Row],[Milestones]])=0,"",'Chart data'!$C7),"")
B20: =IFERROR(IF(LEN(OFFSET('Chart data'!#REF!,ScrollingIncrement[scroll increment],0,1,1))=0,"",IF(OR(OFFSET('Chart data'!$I11,ScrollingIncrement[scroll increment],0,1,1)<=$B$12,OFFSET('Chart data'!#REF!,ScrollingIncrement[scroll increment],0,1,1)>=($B$11-$D$11)),INDEX(Tasks[],OFFSET('Chart data'!$G11,ScrollingIncrement[scroll increment],0,1,1),4),"")),"") | C20: =IFERROR(IF(LEN(DynamicTaskData[[#This Row],[Tasks]])=0,$B$11,INDEX(Tasks[],OFFSET('Chart data'!$G11,ScrollingIncrement[scroll increment],0,1,1),2)),"") -> 43759 | D20: =IFERROR(IF(LEN(DynamicTaskData[[#This Row],[Tasks]])=0,0,IF(AND('Chart data'!#REF!<=$B$12,'Chart data'!$I11>=$B$12),ABS(OFFSET('Chart data'!#REF!,ScrollingIncrement[scroll increment],0,1,1)-$B$12)+1,OFFSET('Chart data'!$K11,ScrollingIncrement[scroll increment],0,1,1))),"") -> 0 | E20: =IFERROR(IF(LEN(DynamicTaskData[[#This Row],[Tasks]])=0,"",3),"") | G20: =IFERROR(IF(LEN('Chart data'!D8)=0,"",IF(AND('Chart data'!D8<=$B$12,'Chart data'!D8>=$B$11-$D$11),'Chart data'!E8,"")),"") | H20: =IFERROR(IF(LEN(DynamicMilestoneData[[#This Row],[Milestones]])=0,$B$12,'Chart data'!$D8),2) -> 43774 | I20: =IFERROR(IF(LEN(DynamicMilestoneData[[#This Row],[Milestones]])=0,"",'Chart data'!$C8),"")
B21: =IFERROR(IF(LEN(OFFSET('Chart data'!$H11,ScrollingIncrement[scroll increment],0,1,1))=0,"",IF(OR(OFFSET('Chart data'!$I12,ScrollingIncrement[scroll increment],0,1,1)<=$B$12,OFFSET('Chart data'!$H11,ScrollingIncrement[scroll increment],0,1,1)>=($B$11-$D$11)),INDEX(Tasks[],OFFSET('Chart data'!$G12,ScrollingIncrement[scroll increment],0,1,1),4),"")),"") -> Quiz 4 | C21: =IFERROR(IF(LEN(DynamicTaskData[[#This Row],[Tasks]])=0,$B$11,INDEX(Tasks[],OFFSET('Chart data'!$G12,ScrollingIncrement[scroll increment],0,1,1),2)),"") -> 43780 | D21: =IFERROR(IF(LEN(DynamicTaskData[[#This Row],[Tasks]])=0,0,IF(AND('Chart data'!$H11<=$B$12,'Chart data'!$I12>=$B$12),ABS(OFFSET('Chart data'!$H11,ScrollingIncrement[scroll increment],0,1,1)-$B$12)+1,OFFSET('Chart data'!$K12,ScrollingIncrement[scroll increment],0,1,1))),"") -> 1 | E21: =IFERROR(IF(LEN(DynamicTaskData[[#This Row],[Tasks]])=0,"",2),"") -> 2 | G21: =IFERROR(IF(LEN('Chart data'!D9)=0,"",IF(AND('Chart data'!D9<=$B$12,'Chart data'!D9>=$B$11-$D$11),'Chart data'!E9,"")),"") | H21: =IFERROR(IF(LEN(DynamicMilestoneData[[#This Row],[Milestones]])=0,$B$12,'Chart data'!$D9),2) -> 43774 | I21: =IFERROR(IF(LEN(DynamicMilestoneData[[#This Row],[Milestones]])=0,"",'Chart data'!$C9),"")
G22: =IFERROR(IF(LEN('Chart data'!D10)=0,"",IF(AND('Chart data'!D10<=$B$12,'Chart data'!D10>=$B$11-$D$11),'Chart data'!E10,"")),"") | H22: =IFERROR(IF(LEN(DynamicMilestoneData[[#This Row],[Milestones]])=0,$B$12,'Chart data'!$D10),2) -> 43774 | I22: =IFERROR(IF(LEN(DynamicMilestoneData[[#This Row],[Milestones]])=0,"",'Chart data'!$C10),"")
G23: =IFERROR(IF(LEN('Chart data'!D11)=0,"",IF(AND('Chart data'!D11<=$B$12,'Chart data'!D11>=$B$11-$D$11),'Chart data'!E11,"")),"") | H23: =IFERROR(IF(LEN(DynamicMilestoneData[[#This Row],[Milestones]])=0,$B$12,'Chart data'!$D11),2) -> 43774 | I23: =IFERROR(IF(LEN(DynamicMilestoneData[[#This Row],[Milestones]])=0,"",'Chart data'!$C11),"")
G24: =IFERROR(IF(LEN('Chart data'!D12)=0,"",IF(AND('Chart data'!D12<=$B$12,'Chart data'!D12>=$B$11-$D$11),'Chart data'!E12,"")),"") | H24: =IFERROR(IF(LEN(DynamicMilestoneData[[#This Row],[Milestones]])=0,$B$12,'Chart data'!$D12),2) -> 43774 | I24: =IFERROR(IF(LEN(DynamicMilestoneData[[#This Row],[Milestones]])=0,"",'Chart data'!$C12),"")
G25: =IFERROR(IF(LEN('Chart data'!D13)=0,"",IF(AND('Chart data'!D13<=$B$12,'Chart data'!D13>=$B$11-$D$11),'Chart data'!E13,"")),"") | H25: =IFERROR(IF(LEN(DynamicMilestoneData[[#This Row],[Milestones]])=0,$B$12,'Chart data'!$D13),2) -> 43774 | I25: =IFERROR(IF(LEN(DynamicMilestoneData[[#This Row],[Milestones]])=0,"",'Chart data'!$C13),"")
G26: =IFERROR(IF(LEN('Chart data'!D14)=0,"",IF(AND('Chart data'!D14<=$B$12,'Chart data'!D14>=$B$11-$D$11),'Chart data'!E14,"")),"") | H26: =IFERROR(IF(LEN(DynamicMilestoneData[[#This Row],[Milestones]])=0,$B$12,'Chart data'!$D14),2) -> 43774 | I26: =IFERROR(IF(LEN(DynamicMilestoneData[[#This Row],[Milestones]])=0,"",'Chart data'!$C14),"")
G27: =IFERROR(IF(LEN('Chart data'!D15)=0,"",IF(AND('Chart data'!D15<=$B$12,'Chart data'!D15>=$B$11-$D$11),'Chart data'!E15,"")),"") | H27: =IFERROR(IF(LEN(DynamicMilestoneData[[#This Row],[Milestones]])=0,$B$12,'Chart data'!$D15),2) -> 43774 | I27: =IFERROR(IF(LEN(DynamicMilestoneData[[#This Row],[Milestones]])=0,"",'Chart data'!$C15),"")
G28: =IFERROR(IF(LEN('Chart data'!D16)=0,"",IF(AND('Chart data'!D16<=$B$12,'Chart data'!D16>=$B$11-$D$11),'Chart data'!E16,"")),"") | H28: =IFERROR(IF(LEN(DynamicMilestoneData[[#This Row],[Milestones]])=0,$B$12,'Chart data'!$D16),2) -> 43774 | I28: =IFERROR(IF(LEN(DynamicMilestoneData[[#This Row],[Milestones]])=0,"",'Chart data'!$C16),"")
G29: =IFERROR(IF(LEN('Chart data'!D17)=0,"",IF(AND('Chart data'!D17<=$B$12,'Chart data'!D17>=$B$11-$D$11),'Chart data'!E17,"")),"") | H29: =IFERROR(IF(LEN(DynamicMilestoneData[[#This Row],[Milestones]])=0,$B$12,'Chart data'!$D17),2) -> 43774 | I29: =IFERROR(IF(LEN(DynamicMilestoneData[[#This Row],[Milestones]])=0,"",'Chart data'!$C17),"")
G30: =IFERROR(IF(LEN('Chart data'!D18)=0,"",IF(AND('Chart data'!D18<=$B$12,'Chart data'!D18>=$B$11-$D$11),'Chart data'!E18,"")),"") | H30: =IFERROR(IF(LEN(DynamicMilestoneData[[#This Row],[Milestones]])=0,$B$12,'Chart data'!$D18),2) -> 43774 | I30: =IFERROR(IF(LEN(DynamicMilestoneData[[#This Row],[Milestones]])=0,"",'Chart data'!$C18),"")
G31: =IFERROR(IF(LEN('Chart data'!D19)=0,"",IF(AND('Chart data'!D19<=$B$12,'Chart data'!D19>=$B$11-$D$11),'Chart data'!E19,"")),"") | H31: =IFERROR(IF(LEN(DynamicMilestoneData[[#This Row],[Milestones]])=0,$B$12,'Chart data'!$D19),2) -> 43774 | I31: =IFERROR(IF(LEN(DynamicMilestoneData[[#This Row],[Milestones]])=0,"",'Chart data'!$C19),"")
A32: A note is in cell J32. This is the last instruction in this worksheet. | G32: =IFERROR(IF(LEN('Chart data'!D20)=0,"",IF(AND('Chart data'!D20<=$B$12,'Chart data'!D20>=$B$11-$D$11),'Chart data'!E20,"")),"") | H32: =IFERROR(IF(LEN(DynamicMilestoneData[[#This Row],[Milestones]])=0,$B$12,'Chart data'!$D20),2) -> 43774 | I32: =IFERROR(IF(LEN(DynamicMilestoneData[[#This Row],[Milestones]])=0,"",'Chart data'!$C20),"") | J32: <--To chart more than 15 milestones, simply expand this table and enter new entries in the Milestone table in the Chart Data worksheet.

Sheet About
A1: About this workbook
A2: Enter milestone and task information in the Chart Data worksheet. To chart milestones along the timeline, enter 0 in the No. column, then update the label position to be “below” to avoid overlapping labels. The position column in the milestone table charts milestones within the task chart either on the same row or in stacked rows. To chart them on the same row, enter the same number in this column for each milestone. To chart them on different rows, enter different numbers. Sample data charts all milestones along the row position of 2.
A3: Guide for screen readers
A4: There are 4 worksheets in this workbook. Chart Data Gantt Chart Dynamic Chart Data (Hidden) About The instructions for each worksheet are in the A column starting in cell A1 of each worksheet. They are written with hidden text. Each step guides you to the information in that row. Each subsequent step continues in cell A2, A3 and so on, unless otherwise explicitly directed. For example, instruction text might say “continue to cell A6” for the next step. Hidden text will not print. To remove these instructions from any worksheet, simply delete column A.
A5: Dynamic Chart Data (Hidden)
A6: Do not delete or modify content in the Hidden worksheet. Doing so could compromise the integrity of the Gantt Charting. Data may appear blank, dates may appear to be incorrect, do not fill in, edit, delete or otherwise modify the data or you risk overwriting formulas and breaking the chart graphing capability. The DynamicMilestone table allows for 15 milestones to be charted. To chart more than 15, simply expand the table to accommodate your number. Remember, only add the actual milestone data in the Chart Data worksheet.
A7: Tips
A8: By default, milestones are charted on row 1 of the Gantt Chart using the Position column in the Chart Data worksheet, starting in cell C5. To chart milestones on different rows, simply change the number.
A9: The default setting is to highlight today’s date in the Gantt Chart. To no longer highlight Today’s date, simply select “no” in the Chart Data worksheet in cell D2.
A10: The Gantt Chart date timeline is charted with a gap of 5 dates between them. To change this, select the timeline in the Gantt Chart worksheet and select Format Axis. Change the Major unit from 5 to 1 or 10, for example.
A11: This is the last instruction in this worksheet.
