Workbook

Sheet Student Feedback
B3: MARKING CRITERIA and STUDENT FEEDBACK
B5: This section details the assessment criteria. The extent to which these are demonstrated by you determines your mark. The
B6: marks available for each criterion are shown. Lecturers will use the space provided to comment on the achievement of the
B7: task(s), including those areas in which you have performed well and areas that would benefit from development/improvement.
B9: Common Assessment Criteria Applied | J9: Marks Available | K9: Marks Awarded
B10: 1. Engagement with Literature Skills
B11: Extent of research and/or own reading, selection of credible sources, application of appropriate referencing conventions.
B12: No discussion | J12: =IF('Marking Criteria'!D67 = 0, 0, 'Marking Criteria'!D67) -> 25 | K12: =IF('Marking Criteria'!H67 = 0, "", 'Marking Criteria'!H67)
B18: 2. Knowledge and Understanding of Subject
B19: Extent of knowledge and understanding of concepts and underlying principles associated with the discipline.
J20: =IF('Marking Criteria'!D68 = 0, "", 'Marking Criteria'!D68) | K20: =IF('Marking Criteria'!H68 = 0, "", 'Marking Criteria'!H68)
B26: 3. Cognitive and Intellectual Skills
B27: Analysis, evaluation and synthesis; logic, argument and judgement; analytical reflection; organisation of ideas and evidence
B28: No testing supplied. Evaluation is made by a running demo that demonstrates its operation | J28: =IF('Marking Criteria'!D69 = 0, "", 'Marking Criteria'!D69) -> 20 | K28: =IF('Marking Criteria'!H69 = 0, "", 'Marking Criteria'!H69) -> 6
B34: 4. Practical Skills
B35: Deployment of methods, materials, tools and techniques; application of concepts; formulation of innovative and creative solutions to solve problems.
B36: The initial part of the design was looking promising with a good intro and a well laid out ERD. Although there is a running demo, the design process is somewhat incomplete (pseudo code + form designs). Running demo does show some functionality, but there are a number of run-time errors due to syntax errors in the development. On the positive side of the app, you have a understanding of C#+DB. For completeness most run-rime errors are simple to fix - is this a time issuw ? | J36: =IF('Marking Criteria'!D70 = 0, "", 'Marking Criteria'!D70) -> 50 | K36: =IF('Marking Criteria'!H70 = 0, "", 'Marking Criteria'!H70) -> 34
B42: 5. Transferable Skills for Life and Professional Practice
B43: Attributes in professional practice: individual and collaborative working; deployment of appropriate media; presentation and organisation.
B44: Mark reflects the quality of work submitted | J44: =IF('Marking Criteria'!D71 = 0, "", 'Marking Criteria'!D71) -> 5 | K44: =IF('Marking Criteria'!H71 = 0, "", 'Marking Criteria'!H71) -> 3
B51: Assignment Mark (Assessment marks are subject to ratification at the Exam | H51: Late Submission Penalties (tick if appropriate) | J51: =IF(I52="Y",0,'Marking Criteria'!M66) -> 43
B52: Board. These comments and marks are to give feedback on module work and are for | H52: Up to one week late
B53: guidance only until they are confirmed. ) | H53: 1st/2nd/3rd attempt? | I53: 1st

Sheet Marking Criteria
B8: Assignment Marking Agreement Form (not to be seen by students)
C9: Marking scheme | I9: Marks available | J9: 1st marker | K9: 2nd marker (Sample 2nd Marking) | L9: 3rd marker (if required) | M9: ß AGREED MARK AWARDED | N9: Error ?
B10: 1 | C10: Engagement with Literature Skills
N11: =IF(J11>I11,"*",IF(K11>I11,"*",IF(L11>I11,"*"," ")))
N12: =IF(J12>I12,"*",IF(K12>I12,"*",IF(L12>I12,"*"," ")))
C13: Discussion of application development concepts | I13: 15 | J13: 0 | K13: 0 | N13: =IF(J13>I13,"*",IF(K13>I13,"*",IF(L13>I13,"*"," ")))
C14: Appropriate refrencing to support research | I14: 10 | J14: 0 | K14: 0 | N14: =IF(J14>I14,"*",IF(K14>I14,"*",IF(L14>I14,"*"," ")))
N15: =IF(J15>I15,"*",IF(K15>I15,"*",IF(L15>I15,"*"," ")))
N16: =IF(J16>I16,"*",IF(K16>I16,"*",IF(L16>I16,"*"," ")))
N17: =IF(J17>I17,"*",IF(K17>I17,"*",IF(L17>I17,"*"," ")))
N18: =IF(J18>I18,"*",IF(K18>I18,"*",IF(L18>I18,"*"," ")))
B19: 2 | C19: Knowledge and Understanding of subject | N19: =IF(J19>I19,"*",IF(K19>I19,"*",IF(L19>I19,"*"," ")))
N20: =IF(J20>I20,"*",IF(K20>I20,"*",IF(L20>I20,"*"," ")))
N21: =IF(J21>I21,"*",IF(K21>I21,"*",IF(L21>I21,"*"," ")))
C22: N/A | I22: 0 | N22: =IF(J22>I22,"*",IF(K22>I22,"*",IF(L22>I22,"*"," ")))
N23: =IF(J23>I23,"*",IF(K23>I23,"*",IF(L23>I23,"*"," ")))
N24: =IF(J24>I24,"*",IF(K24>I24,"*",IF(L24>I24,"*"," ")))
N25: =IF(J25>I25,"*",IF(K25>I25,"*",IF(L25>I25,"*"," ")))
N26: =IF(J26>I26,"*",IF(K26>I26,"*",IF(L26>I26,"*"," ")))
N27: =IF(J27>I27,"*",IF(K27>I27,"*",IF(L27>I27,"*"," ")))
N28: =IF(J28>I28,"*",IF(K28>I28,"*",IF(L28>I28,"*"," ")))
N29: =IF(J29>I29,"*",IF(K29>I29,"*",IF(L29>I29,"*"," ")))
N30: =IF(J30>I30,"*",IF(K30>I30,"*",IF(L30>I30,"*"," ")))
N31: =IF(J31>I31,"*",IF(K31>I31,"*",IF(L31>I31,"*"," ")))
N32: =IF(J32>I32,"*",IF(K32>I32,"*",IF(L32>I32,"*"," ")))
B33: 3 | C33: Cognitive and Intellectual Skills | N33: =IF(J33>I33,"*",IF(K33>I33,"*",IF(L33>I33,"*"," ")))
N34: =IF(J34>I34,"*",IF(K34>I34,"*",IF(L34>I34,"*"," ")))
C35: Suitable testing of application | I35: 10 | J35: 2 | K35: 2 | N35: =IF(J35>I35,"*",IF(K35>I35,"*",IF(L35>I35,"*"," ")))
C36: Evaluation and Recommendations | I36: 10 | J36: 4 | K36: 4 | N36: =IF(J36>I36,"*",IF(K36>I36,"*",IF(L36>I36,"*"," ")))
N37: =IF(J37>I37,"*",IF(K37>I37,"*",IF(L37>I37,"*"," ")))
N38: =IF(J38>I38,"*",IF(K38>I38,"*",IF(L38>I38,"*"," ")))
N39: =IF(J39>I39,"*",IF(K39>I39,"*",IF(L39>I39,"*"," ")))
N40: =IF(J40>I40,"*",IF(K40>I40,"*",IF(L40>I40,"*"," ")))
N41: =IF(J41>I41,"*",IF(K41>I41,"*",IF(L41>I41,"*"," ")))
N42: =IF(J42>I42,"*",IF(K42>I42,"*",IF(L42>I42,"*"," ")))
N43: =IF(J43>I43,"*",IF(K43>I43,"*",IF(L43>I43,"*"," ")))
B44: 4 | C44: Practical Skills | N44: =IF(J44>I44,"*",IF(K44>I44,"*",IF(L44>I44,"*"," ")))
C45: Section marks will be based on: | I45: 50 | J45: 34 | K45: 34 | N45: =IF(J45>I45,"*",IF(K45>I45,"*",IF(L45>I45,"*"," ")))
C46: Coding skills in developing a DB driven application in C# | N46: =IF(J46>I46,"*",IF(K46>I46,"*",IF(L46>I46,"*"," ")))
C47: Usability/look and feel of the interface | N47: =IF(J47>I47,"*",IF(K47>I47,"*",IF(L47>I47,"*"," ")))
...
