Workbook

Sheet Student Feedback
B3: MARKING CRITERIA and STUDENT FEEDBACK
B5: This section details the assessment criteria. The extent to which these are demonstrated by you determines your mark. The
B6: marks available for each criterion are shown. Lecturers will use the space provided to comment on the achievement of the
B7: task(s), including those areas in which you have performed well and areas that would benefit from development/improvement.
B9: Common Assessment Criteria Applied | J9: Marks Available | K9: Marks Awarded
B10: 1. Engagement with Literature Skills
B11: Extent of research and/or own reading, selection of credible sources, application of appropriate referencing conventions.
B12: No discussion | J12: =IF('Marking Criteria'!D67 = 0, 0, 'Marking Criteria'!D67) -> 25 | K12: =IF('Marking Criteria'!H67 = 0, "", 'Marking Criteria'!H67)
B18: 2. Knowledge and Understanding of Subject
B19: Extent of knowledge and understanding of concepts and underlying principles associated with the discipline.
J20: =IF('Marking Criteria'!D68 = 0, "", 'Marking Criteria'!D68) | K20: =IF('Marking Criteria'!H68 = 0, "", 'Marking Criteria'!H68)
B26: 3. Cognitive and Intellectual Skills
B27: Analysis, evaluation and synthesis; logic, argument and judgement; analytical reflection; organisation of ideas and evidence
B28: No testing supplied. Evaluation is made by a running demo that demonstrates its operation | J28: =IF('Marking Criteria'!D69 = 0, "", 'Marking Criteria'!D69) -> 20 | K28: =IF('Marking Criteria'!H69 = 0, "", 'Marking Criteria'!H69) -> 6
B34: 4. Practical Skills
B35: Deployment of methods, materials, tools and techniques; application of concepts; formulation of innovative and creative solutions to solve problems.
B36: The initial part of the design was looking promising with a good intro and a well laid out ERD. Although there is a running demo, the design process is somewhat incomplete (pseudo code + form designs). Running demo does show some functionality, but there are a number of run-time errors due to syntax errors in the development. On the positive side of the app, you have a understanding of C#+DB. For completeness most run-rime errors are simple to fix - is this a time issuw ? | J36: =IF('Marking Criteria'!D70 = 0, "", 'Marking Criteria'!D70) -> 50 | K36: =IF('Marking Criteria'!H70 = 0, "", 'Marking Criteria'!H70) -> 34
B42: 5. Transferable Skills for Life and Professional Practice
B43: Attributes in professional practice: individual and collaborative working; deployment of appropriate media; presentation and organisation.
B44: Mark reflects the quality of work submitted | J44: =IF('Marking Criteria'!D71 = 0, "", 'Marking Criteria'!D71) -> 5 | K44: =IF('Marking Criteria'!H71 = 0, "", 'Marking Criteria'!H71) -> 3
B51: Assignment Mark (Assessment marks are subject to ratification at the Exam | H51: Late Submission Penalties (tick if appropriate) | J51: =IF(I52="Y",0,'Marking Criteria'!M66) -> 43
B52: Board. These comments and marks are to give feedback on module work and are for | H52: Up to one week late
B53: guidance only until they are confirmed. ) | H53: 1st/2nd/3rd attempt? | I53: 1st

Sheet Marking Criteria
B8: Assignment Marking Agreement Form (not to be seen by students)
C9: Marking scheme | I9: Marks available | J9: 1st marker | K9: 2nd marker (Sample 2nd Marking) | L9: 3rd marker (if required) | M9: ß AGREED MARK AWARDED | N9: Error ?
B10: 1 | C10: Engagement with Literature Skills
N11: =IF(J11>I11,"*",IF(K11>I11,"*",IF(L11>I11,"*"," ")))
N12: =IF(J12>I12,"*",IF(K12>I12,"*",IF(L12>I12,"*"," ")))
C13: Discussion of application development concepts | I13: 15 | J13: 0 | K13: 0 | N13: =IF(J13>I13,"*",IF(K13>I13,"*",IF(L13>I13,"*"," ")))
C14: Appropriate refrencing to support research | I14: 10 | J14: 0 | K14: 0 | N14: =IF(J14>I14,"*",IF(K14>I14,"*",IF(L14>I14,"*"," ")))
N15: =IF(J15>I15,"*",IF(K15>I15,"*",IF(L15>I15,"*"," ")))
N16: =IF(J16>I16,"*",IF(K16>I16,"*",IF(L16>I16,"*"," ")))
N17: =IF(J17>I17,"*",IF(K17>I17,"*",IF(L17>I17,"*"," ")))
N18: =IF(J18>I18,"*",IF(K18>I18,"*",IF(L18>I18,"*"," ")))
B19: 2 | C19: Knowledge and Understanding of subject | N19: =IF(J19>I19,"*",IF(K19>I19,"*",IF(L19>I19,"*"," ")))
N20: =IF(J20>I20,"*",IF(K20>I20,"*",IF(L20>I20,"*"," ")))
N21: =IF(J21>I21,"*",IF(K21>I21,"*",IF(L21>I21,"*"," ")))
C22: N/A | I22: 0 | N22: =IF(J22>I22,"*",IF(K22>I22,"*",IF(L22>I22,"*"," ")))
N23: =IF(J23>I23,"*",IF(K23>I23,"*",IF(L23>I23,"*"," ")))
N24: =IF(J24>I24,"*",IF(K24>I24,"*",IF(L24>I24,"*"," ")))
N25: =IF(J25>I25,"*",IF(K25>I25,"*",IF(L25>I25,"*"," ")))
N26: =IF(J26>I26,"*",IF(K26>I26,"*",IF(L26>I26,"*"," ")))
N27: =IF(J27>I27,"*",IF(K27>I27,"*",IF(L27>I27,"*"," ")))
N28: =IF(J28>I28,"*",IF(K28>I28,"*",IF(L28>I28,"*"," ")))
N29: =IF(J29>I29,"*",IF(K29>I29,"*",IF(L29>I29,"*"," ")))
N30: =IF(J30>I30,"*",IF(K30>I30,"*",IF(L30>I30,"*"," ")))
N31: =IF(J31>I31,"*",IF(K31>I31,"*",IF(L31>I31,"*"," ")))
N32: =IF(J32>I32,"*",IF(K32>I32,"*",IF(L32>I32,"*"," ")))
B33: 3 | C33: Cognitive and Intellectual Skills | N33: =IF(J33>I33,"*",IF(K33>I33,"*",IF(L33>I33,"*"," ")))
N34: =IF(J34>I34,"*",IF(K34>I34,"*",IF(L34>I34,"*"," ")))
C35: Suitable testing of application | I35: 10 | J35: 2 | K35: 2 | N35: =IF(J35>I35,"*",IF(K35>I35,"*",IF(L35>I35,"*"," ")))
C36: Evaluation and Recommendations | I36: 10 | J36: 4 | K36: 4 | N36: =IF(J36>I36,"*",IF(K36>I36,"*",IF(L36>I36,"*"," ")))
N37: =IF(J37>I37,"*",IF(K37>I37,"*",IF(L37>I37,"*"," ")))
N38: =IF(J38>I38,"*",IF(K38>I38,"*",IF(L38>I38,"*"," ")))
N39: =IF(J39>I39,"*",IF(K39>I39,"*",IF(L39>I39,"*"," ")))
N40: =IF(J40>I40,"*",IF(K40>I40,"*",IF(L40>I40,"*"," ")))
N41: =IF(J41>I41,"*",IF(K41>I41,"*",IF(L41>I41,"*"," ")))
N42: =IF(J42>I42,"*",IF(K42>I42,"*",IF(L42>I42,"*"," ")))
N43: =IF(J43>I43,"*",IF(K43>I43,"*",IF(L43>I43,"*"," ")))
B44: 4 | C44: Practical Skills | N44: =IF(J44>I44,"*",IF(K44>I44,"*",IF(L44>I44,"*"," ")))
C45: Section marks will be based on: | I45: 50 | J45: 34 | K45: 34 | N45: =IF(J45>I45,"*",IF(K45>I45,"*",IF(L45>I45,"*"," ")))
C46: Coding skills in developing a DB driven application in C# | N46: =IF(J46>I46,"*",IF(K46>I46,"*",IF(L46>I46,"*"," ")))
C47: Usability/look and feel of the interface | N47: =IF(J47>I47,"*",IF(K47>I47,"*",IF(L47>I47,"*"," ")))
C48: Functionality of application | N48: =IF(J48>I48,"*",IF(K48>I48,"*",IF(L48>I48,"*"," ")))
C49: Complexity of database operation | N49: =IF(J49>I49,"*",IF(K49>I49,"*",IF(L49>I49,"*"," ")))
N51: =IF(J51>I51,"*",IF(K51>I51,"*",IF(L51>I51,"*"," ")))
N55: =IF(J55>I55,"*",IF(K55>I55,"*",IF(L55>I55,"*"," ")))
N56: =IF(J56>I56,"*",IF(K56>I56,"*",IF(L56>I56,"*"," ")))
N57: =IF(J57>I57,"*",IF(K57>I57,"*",IF(L57>I57,"*"," ")))
B58: 5 | C58: Transferable Skills for Life and Professional Practice | N58: =IF(J58>I58,"*",IF(K58>I58,"*",IF(L58>I58,"*"," ")))
N59: =IF(J59>I59,"*",IF(K59>I59,"*",IF(L59>I59,"*"," ")))
N60: =IF(J60>I60,"*",IF(K60>I60,"*",IF(L60>I60,"*"," ")))
C61: Readability of the report, Written Quality, Structure and prestation of report | I61: 5 | J61: 3 | K61: 3 | N61: =IF(J61>I61,"*",IF(K61>I61,"*",IF(L61>I61,"*"," ")))
N62: =IF(J62>I62,"*",IF(K62>I62,"*",IF(L62>I62,"*"," ")))
N63: =IF(J63>I63,"*",IF(K63>I63,"*",IF(L63>I63,"*"," ")))
N64: =IF(J64>I64,"*",IF(K64>I64,"*",IF(L64>I64,"*"," ")))
C66: Totals | I66: =SUM(I11:I65) -> 100 | J66: =SUM(J11:J65) -> 43 | K66: =SUM(K11:K65) -> 43 | L66: =SUM(L11:L65) -> 0 | M66: =IF(L66<>0, L66,IF(K66<>0,K66,IF(J66<>0,J66,0))) -> 43
C67: Sec1 | D67: =SUM(I11:I18) -> 25 | E67: =SUM(J11:J18) -> 0 | F67: =SUM(K11:K18) -> 0 | G67: =SUM(L11:L18) -> 0 | H67: =IF(G67>0,G67,IF(F67>0,F67,IF(E67>0,E67,0))) -> 0
C68: Sec2 | D68: =SUM(I20:I32) -> 0 | E68: =SUM(J20:J32) -> 0 | F68: =SUM(K20:K32) -> 0 | G68: =SUM(L20:L32) -> 0 | H68: =IF(G68>0,G68,IF(F68>0,F68,IF(E68>0,E68,0))) -> 0
C69: Sec3 | D69: =SUM(I34:I43) -> 20 | E69: =SUM(J34:J43) -> 6 | F69: =SUM(K34:K43) -> 6 | G69: =SUM(L34:L43) -> 0 | H69: =IF(G69>0,G69,IF(F69>0,F69,IF(E69>0,E69,0))) -> 6
C70: Sec4 | D70: =SUM(I45:I57) -> 50 | E70: =SUM(J45:J57) -> 34 | F70: =SUM(K45:K57) -> 34 | G70: =SUM(L45:L57) -> 0 | H70: =IF(G70>0,G70,IF(F70>0,F70,IF(E70>0,E70,0))) -> 34
C71: Sec5 | D71: =SUM(I59:I65) -> 5 | E71: =SUM(J59:J65) -> 3 | F71: =SUM(K59:K65) -> 3 | G71: =SUM(L59:L65) -> 0 | H71: =IF(G71>0,G71,IF(F71>0,F71,IF(E71>0,E71,0))) -> 3
B72: 1st Marker Name | E72: Paul John | H72: 1st Marker Signature | J72: Paul John
B73: 2nd Marker Name | E73: Clive Prosser | H73: 2nd Marker Signature | J73: Clive Prosser
B74: 3rd Marker Name | H74: 3rd Marker Signature
B75: Reasons for awarding the final mark where there is more than one marker
B76: Type 1: second (or double) as sampling or moderation has been used
B78: Notes:
B79: 1 | C79: The 3rd marker may be used where there is more than a 10 percentage point difference (in the TOTAL mark) between markers 1 and 2 OR when it is not possible to get agreement between markers 1 and 2. Reasons must be given where an agreed mark is given.
B80: 2 | C80: This form is for internal use only and is NOT to be returned to the student. The final agreed marks must be transferred to the student feedback sheet in the assignment specification.
B81: 3 | C81: The external examiner MUST be shown this form.
