Workbook

Sheet Sheet1
D5: Jan | E5: February | F5: March | G5: April | H5: May | I5: June | J5: July | K5: August | L5: Sept | M5: Oct | N5: Nov | O5: Dec | P5: Total
D6: £ | E6: £ | F6: £ | G6: £ | H6: £ | I6: £ | J6: £ | K6: £ | L6: £ | M6: £ | N6: £ | O6: £ | P6: £
A9: Receipts :
A11: Cash sales | D11: =Sheet2!E10 -> 81800 | E11: =Sheet2!F10 -> 52800 | F11: =Sheet2!G10 -> 81800 | G11: =Sheet2!H10 -> 36800 | H11: =Sheet2!I10 -> 38800 | I11: =Sheet2!J10 -> 45800 | J11: =Sheet2!K10 -> 53300 | K11: =Sheet2!L10 -> 53700 | ... O11: =Sheet2!P10 -> 47600 | P11: =SUM(D11:O11) -> 646700
A12: Interest Received | E12: =Sheet2!E103 -> 1555.7 | F12: =Sheet2!F103 -> 2436.514 | G12: =Sheet2!G103 -> 3920.9443 | H12: =Sheet2!H103 -> 4465.0632 | I12: =Sheet2!I103 -> 5097.0644 | J12: =Sheet2!J103 -> 5904.7057 | K12: =Sheet2!K103 -> 6888.4998 | L12: =Sheet2!L103 -> 7848.9698 | ... O12: =Sheet2!O103 -> 10774.941 | P12: =SUM(D12:O12) -> 67736.994
A15: Total Receipts | D15: =SUM(D11:D12) -> 81800 | E15: =SUM(E11:E12) -> 54355.7 | F15: =SUM(F11:F12) -> 84236.514 | G15: =SUM(G11:G12) -> 40720.944 | H15: =SUM(H11:H12) -> 43265.063 | I15: =SUM(I11:I12) -> 50897.064 | J15: =SUM(J11:J12) -> 59204.706 | K15: =SUM(K11:K12) -> 60588.5 | ... P15: =SUM(P11:P12) -> 714436.99
A19: Payments :
A21: Fixtures and fittings | D21: 1500 | E21: 1500 | F21: 1500 | G21: 1500 | H21: 1500 | I21: 1500 | J21: 1500 | K21: 1500 | L21: 1500 | M21: 1500 | N21: 1500 | O21: 1500 | P21: 1500
A22: Property expenses | D22: 0 | E22: 0 | F22: 0 | G22: 0 | H22: 0 | I22: 0 | J22: 0 | K22: 0 | L22: 2500 | M22: 0 | N22: 0 | O22: 0 | P22: =SUM(D22:O22) -> 2500
A23: Utilities | D23: 800 | E23: 800 | F23: 800 | G23: 800 | H23: 800 | I23: 800 | J23: 800 | K23: 800 | L23: 800 | M23: 800 | N23: 800 | O23: 800 | P23: =SUM(D23:O23) -> 9600
A24: Payments to suppliers | D24: =Sheet2!E52 -> 3400 | E24: =Sheet2!F52 -> 3700 | F24: =Sheet2!G52 -> 3400 | G24: =Sheet2!H52 -> 6900 | H24: =Sheet2!I52 -> 5450 | I24: =Sheet2!J52 -> 3900 | J24: =Sheet2!K52 -> 3400 | K24: =Sheet2!L52 -> 5950 | ... O24: =Sheet2!P52 -> 3900 | P24: =SUM(D24:O24) -> 52750
A25: Wages | D25: 3000 | E25: 3000 | F25: 3000 | G25: 3000 | H25: 3000 | I25: 3000 | J25: 3000 | K25: 3000 | L25: 3000 | M25: 3000 | N25: 3000 | O25: 3000 | P25: =SUM(D25:O25) -> 36000
A26: Vehicles | D26: =Sheet2!E71 -> 415 | E26: =Sheet2!F71 -> 415 | F26: =Sheet2!G71 -> 415 | G26: =Sheet2!H71 -> 415 | H26: =Sheet2!I71 -> 415 | I26: =Sheet2!J71 -> 415 | J26: =Sheet2!K71 -> 415 | K26: =Sheet2!L71 -> 415 | ... O26: =Sheet2!P71 -> 4415 | P26: =SUM(D26:O26) -> 8980
A27: Petrol and diesel | D27: =Sheet2!E78 -> 500 | E27: =Sheet2!F78 -> 500 | F27: =Sheet2!G78 -> 500 | G27: =Sheet2!H78 -> 500 | H27: =Sheet2!I78 -> 500 | I27: =Sheet2!J78 -> 500 | J27: =Sheet2!K78 -> 500 | K27: =Sheet2!L78 -> 500 | ... O27: =Sheet2!P78 -> 500 | P27: =SUM(D27:O27) -> 6000
A28: Rates | D28: 400 | E28: 400 | F28: 400 | G28: 400 | H28: 0 | I28: 400 | J28: 400 | K28: 400 | L28: 0 | M28: 400 | N28: 400 | O28: 400 | P28: =SUM(D28:O28) -> 4000
A29: Overdraft Interest | D29: 0 | E29: 0 | F29: 0 | G29: 0 | H29: 0 | I29: 0 | J29: 0 | K29: 0 | L29: 0 | M29: 0 | N29: 0 | O29: 0 | P29: 0
A31: Total payments | D31: =SUM(D21:D29) -> 10015 | E31: =SUM(E21:E29) -> 10315 | F31: =SUM(F21:F29) -> 10015 | G31: =SUM(G21:G29) -> 13515 | H31: =SUM(H21:H29) -> 11665 | I31: =SUM(I21:I29) -> 10515 | J31: =SUM(J21:J29) -> 10015 | K31: =SUM(K21:K29) -> 12565 | ... P31: =SUM(P21:P29) -> 121330
A35: Balance b / f | D35: =6000 -> 6000 | E35: =D41 -> 77785 | F35: =E41 -> 121825.7 | G35: =F41 -> 196047.21 | H35: =G41 -> 223253.16 | I35: =H41 -> 254853.22 | J35: =I41 -> 295235.29 | K35: =J41 -> 344424.99 | L35: =K41 -> 392448.49 | ... O35: =N41 -> 538747.05
D37: =D15-D31 -> 71785 | E37: =E15-E31 -> 44040.7 | F37: =F15-F31 -> 74221.514 | G37: =G15-G31 -> 27205.944 | H37: =H15-H31 -> 31600.063 | I37: =I15-I31 -> 40382.064 | J37: =J15-J31 -> 49189.706 | K37: =K15-K31 -> 48023.5 | ... O37: =O15-O31 -> 43859.941
A38: Net cashflow in month
A41: Balance c / f | D41: =D35+D37 -> 77785 | E41: =E35+E37 -> 121825.7 | F41: =F35+F37 -> 196047.21 | G41: =G35+G37 -> 223253.16 | H41: =H35+H37 -> 254853.22 | I41: =I35+I37 -> 295235.29 | J41: =J35+J37 -> 344424.99 | K41: =K35+K37 -> 392448.49 | ... O41: =O35+O37 -> 582606.99

Sheet Sheet2
A1: WORKINGS : | D1: this page is for your workings - include within your hard copy submission.
A4: RECEIPTS W/O INTEREST
E6: Jan | F6: Feb | G6: Mar | H6: April | I6: May | J6: June | K6: July | L6: August | M6: September | N6: October | O6: November | P6: December
A8: Room Revenue | E8: 75000 | F8: 46000 | G8: 75000 | H8: 30000 | I8: 32000 | J8: 39000 | K8: 46500 | L8: 46900 | M8: 54000 | N8: 39000 | O8: 40900 | P8: 40800
A9: Mini bar | E9: 6800 | F9: 6800 | G9: 6800 | H9: 6800 | I9: 6800 | J9: 6800 | K9: 6800 | L9: 6800 | M9: 6800 | N9: 6800 | O9: 6800 | P9: 6800
E10: =SUM(E8,E9) -> 81800 | F10: =SUM(F8,F9) -> 52800 | G10: =SUM(G8,G9) -> 81800 | H10: =SUM(H8,H9) -> 36800 | I10: =SUM(I8,I9) -> 38800 | J10: =SUM(J8,J9) -> 45800 | K10: =SUM(K8,K9) -> 53300 | L10: =SUM(L8,L9) -> 53700 | ... P10: =SUM(P8,P9) -> 47600
A13: TOTAL | E13: =E10 -> 81800 | F13: =F10 -> 52800 | G13: =G10 -> 81800 | H13: =H10 -> 36800 | I13: =I10 -> 38800 | J13: =J10 -> 45800 | K13: =K10 -> 53300 | L13: =L10 -> 53700 | ... P13: =P10 -> 47600
A15: PAYMENTS W/O OVERDRAWN
A17: (1) Fixtures and Fittings
E19: Jan | F19: Feb | G19: Mar | H19: April | I19: May | J19: June | K19: July | L19: August | M19: September | N19: October | O19: November | P19: December
A21: Virgin Active Features | E21: 1500 | F21: 1500 | G21: 1500 | H21: 1500 | I21: 1500 | J21: 1500 | K21: 1500 | L21: 1500 | M21: 1500 | N21: 1500 | O21: 1500 | P21: 1500
E22: 1500 | F22: 1500 | G22: 1500 | H22: 1500 | I22: 1500 | J22: 1500 | K22: 1500 | L22: 1500 | M22: 1500 | N22: 1500 | O22: 1500 | P22: 1500
A25: (2) Property Expenses
E27: Jan | F27: Feb | G27: Mar | H27: April | I27: May | J27: June | K27: July | L27: August | M27: September | N27: October | O27: November | P27: December
A29: Building Insurance | M29: 2500
E30: =E29 -> 0 | F30: =F29 -> 0 | G30: =G29 -> 0 | H30: =H29 -> 0 | I30: =I29 -> 0 | J30: =J29 -> 0 | K30: =K29 -> 0 | L30: =L29 -> 0 | ... P30: =P29 -> 0
A33: (3) Utility
E35: Jan | F35: Feb | G35: Mar | H35: April | I35: May | J35: June | K35: July | L35: August | M35: September | N35: October | O35: November | P35: December
A37: Utility Bills | E37: 800 | F37: 800 | G37: 800 | H37: 800 | I37: 800 | J37: 800 | K37: 800 | L37: 800 | M37: 800 | N37: 800 | O37: 800 | P37: 800
E38: 800 | F38: 800 | G38: 800 | H38: 800 | I38: 800 | J38: 800 | K38: 800 | L38: 800 | M38: 800 | N38: 800 | O38: 800 | P38: 800
A41: (4) Payment to Suppliers
E43: Jan | F43: Feb | G43: Mar | H43: April | I43: May | J43: June | K43: July | L43: August | M43: September | N43: October | O43: November | P43: December
A45: Magazines | F45: 300 | I45: 300 | L45: 300 | O45: 300
A46: Beverages | H46: 500 | J46: 500 | L46: 500 | N46: 500 | P46: 500
A47: Newspapers | E47: 150 | F47: 150 | G47: 150 | H47: 150 | I47: 150 | J47: 150 | K47: 150 | L47: 150 | M47: 150 | N47: 150 | O47: 150 | P47: 150
A48: Wardrobe | I48: =7000/4 -> 1750 | L48: =7000/4 -> 1750 | O48: =7000/4 -> 1750
A49: Sky Sports & Movie | E49: 250 | F49: 250 | G49: 250 | H49: 250 | I49: 250 | J49: 250 | K49: 250 | L49: 250 | M49: 250 | N49: 250 | O49: 250 | P49: 250
A50: Premier League | H50: 3000
A51: Mini Bar | E51: 3000 | F51: 3000 | G51: 3000 | H51: 3000 | I51: 3000 | J51: 3000 | K51: 3000 | L51: 3000 | M51: 3000 | N51: 3000 | O51: 3000 | P51: 3000
A52: Payments to | E52: =SUM(E45:E51) -> 3400 | F52: =SUM(F45:F51) -> 3700 | G52: =SUM(G45:G51) -> 3400 | H52: =SUM(H45:H51) -> 6900 | I52: =SUM(I45:I51) -> 5450 | J52: =SUM(J45:J51) -> 3900 | K52: =SUM(K45:K51) -> 3400 | L52: =SUM(L45:L51) -> 5950 | ... P52: =SUM(P45:P51) -> 3900
A53: suppliers (£)
A56: (5) Wages
E58: Jan | F58: Feb | G58: Mar | H58: April | I58: May | J58: June | K58: July | L58: August | M58: September | N58: October | O58: November | P58: December
E60: 3000 | F60: 3000 | G60: 3000 | H60: 3000 | I60: 3000 | J60: 3000 | K60: 3000 | L60: 3000 | M60: 3000 | N60: 3000 | O60: 3000 | P60: 3000
A61: Wages paid | E61: 3000 | F61: 3000 | G61: 3000 | H61: 3000 | I61: 3000 | J61: 3000 | K61: 3000 | L61: 3000 | M61: 3000 | N61: 3000 | O61: 3000 | P61: 3000
A64: (6) Vehicles
E66: Jan | F66: Feb | G66: Mar | H66: April | I66: May | J66: June | K66: July | L66: August | M66: September | N66: October | O66: November | P66: December
A68: Lease | E68: 275 | F68: 275 | G68: 275 | H68: 275 | I68: 275 | J68: 275 | K68: 275 | L68: 275 | M68: 275 | N68: 275 | O68: 275 | P68: 275
A69: Insurance | P69: 4000
A70: Valet | E70: =35*4 -> 140 | F70: =35*4 -> 140 | G70: =35*4 -> 140 | H70: =35*4 -> 140 | I70: =35*4 -> 140 | J70: =35*4 -> 140 | K70: =35*4 -> 140 | L70: =35*4 -> 140 | ... P70: =35*4 -> 140
...

Sheet Sheet19
