Workbook

Sheet Coursework
D2: Research | H2: Knowledge | I2: Cognative | J2: Practical | K2: Professional | L2: Total
D3: Inclusion of Ext Info | E3: Proper Citations | F3: Quality of Citations | G3: Total | I3: Total
B4: Student | D4: 0.16 | E4: 0.16 | F4: 0.08 | G4: =SUM(D4:F4) -> 0.4 | H4: 0.3 | I4: 0.2 | J4: 0 | K4: 0.1 | L4: =SUM(G4+H4+I4+J4+K4) -> 1
A5: 1 | B5: Aguilar | C5: Eduardo | D5: 80 | E5: 55 | F5: 65 | G5: =SUM(((D5*D$4)+(E5*E$4)+(F5*F$4))/40*100) -> 67 | H5: 60 | I5: 50 | J5: 0 | K5: 70 | L5: =SUM((G5*G$4)+(H5*H$4)+(I5*I$4)+(J5*J$4)+(K5*K$4)) -> 61.8
A6: 2 | B6: Barsoum | C6: Ehab | D6: 65 | E6: 55 | F6: 50 | G6: =SUM(((D6*D$4)+(E6*E$4)+(F6*F$4))/40*100) -> 58 | H6: 55 | I6: 45 | J6: 0 | K6: 50 | L6: =SUM((G6*G$4)+(H6*H$4)+(I6*I$4)+(J6*J$4)+(K6*K$4)) -> 53.7
A7: 3 | B7: Beck | C7: Oliver | D7: 75 | E7: 75 | F7: 65 | G7: =SUM(((D7*D$4)+(E7*E$4)+(F7*F$4))/40*100) -> 73 | H7: 68 | I7: 68 | J7: 0 | K7: 65 | L7: =SUM((G7*G$4)+(H7*H$4)+(I7*I$4)+(J7*J$4)+(K7*K$4)) -> 69.7
A8: 4 | B8: Beynon | C8: Jack | D8: 75 | E8: 60 | F8: 58 | G8: =SUM(((D8*D$4)+(E8*E$4)+(F8*F$4))/40*100) -> 65.6 | H8: 60 | I8: 58 | J8: 0 | K8: 65 | L8: =SUM((G8*G$4)+(H8*H$4)+(I8*I$4)+(J8*J$4)+(K8*K$4)) -> 62.34
A9: 5 | B9: Cripps | C9: Luke | D9: 68 | E9: 65 | F9: 60 | G9: =SUM(((D9*D$4)+(E9*E$4)+(F9*F$4))/40*100) -> 65.2 | H9: 58 | I9: 55 | J9: 0 | K9: 60 | L9: =SUM((G9*G$4)+(H9*H$4)+(I9*I$4)+(J9*J$4)+(K9*K$4)) -> 60.48
A10: 6 | B10: Edwards | C10: Ashley | D10: 80 | E10: 75 | F10: 68 | G10: =SUM(((D10*D$4)+(E10*E$4)+(F10*F$4))/40*100) -> 75.6 | H10: 65 | I10: 65 | J10: 0 | K10: 58 | L10: =SUM((G10*G$4)+(H10*H$4)+(I10*I$4)+(J10*J$4)+(K10*K$4)) -> 68.54
A11: 7 | B11: Fripp | C11: Sam | D11: 10 | E11: 10 | F11: 40 | G11: =SUM(((D11*D$4)+(E11*E$4)+(F11*F$4))/40*100) -> 16 | H11: 40 | I11: 30 | J11: 0 | K11: 55 | L11: =SUM((G11*G$4)+(H11*H$4)+(I11*I$4)+(J11*J$4)+(K11*K$4)) -> 29.9
A12: 8 | B12: Hutchings | C12: Stephen | D12: 85 | E12: 85 | F12: 95 | G12: 85 | H12: 80 | I12: 75 | J12: 0 | K12: 90 | L12: =SUM((G12*G$4)+(H12*H$4)+(I12*I$4)+(J12*J$4)+(K12*K$4)) -> 82
A13: 9 | B13: Perry | C13: Matthew | D13: 55 | E13: 55 | F13: 65 | G13: =SUM(((D13*D$4)+(E13*E$4)+(F13*F$4))/40*100) -> 57 | H13: 58 | I13: 55 | J13: 0 | K13: 60 | L13: =SUM((G13*G$4)+(H13*H$4)+(I13*I$4)+(J13*J$4)+(K13*K$4)) -> 57.2
A14: 10 | B14: Prewitt | C14: Jamie | D14: 55 | E14: 55 | F14: 55 | G14: =SUM(((D14*D$4)+(E14*E$4)+(F14*F$4))/40*100) -> 55 | H14: 50 | I14: 45 | J14: 0 | K14: 60 | L14: =SUM((G14*G$4)+(H14*H$4)+(I14*I$4)+(J14*J$4)+(K14*K$4)) -> 52
A15: 11 | B15: Salathiel | C15: Daniel | D15: 78 | E15: 80 | F15: 85 | G15: =SUM(((D15*D$4)+(E15*E$4)+(F15*F$4))/40*100) -> 80.2 | H15: 78 | I15: 74 | J15: 0 | K15: 85 | L15: =SUM((G15*G$4)+(H15*H$4)+(I15*I$4)+(J15*J$4)+(K15*K$4)) -> 78.78
A16: 12 | B16: Thomas | C16: Iwan | D16: 70 | E16: 75 | F16: 75 | G16: =SUM(((D16*D$4)+(E16*E$4)+(F16*F$4))/40*100) -> 73 | H16: 75 | I16: 65 | J16: 0 | K16: 70 | L16: =SUM((G16*G$4)+(H16*H$4)+(I16*I$4)+(J16*J$4)+(K16*K$4)) -> 71.7
A17: 12 | B17: Youngs | C17: Josh | D17: 60 | E17: 50 | F17: 60 | G17: =SUM(((D17*D$4)+(E17*E$4)+(F17*F$4))/40*100) -> 56 | H17: 65 | I17: 58 | J17: 0 | K17: 70 | L17: =SUM((G17*G$4)+(H17*H$4)+(I17*I$4)+(J17*J$4)+(K17*K$4)) -> 60.5
A18: 12

Sheet Exam
E3: 1a | F3: 1b | G3: 2a | H3: 2b | I3: 3a | J3: 3b
A4: Attendance | C4: Student | E4: 10 | F4: 40 | G4: 15 | H4: 35 | I4: 20 | J4: 30 | K4: Total
A5: 0.23529412 | B5: 1 | C5: Aguilar | D5: Eduardo | E5: 0 | F5: 13 | I5: 13 | J5: 24 | K5: =SUM(E5:J5) -> 50
A6: 1 | B6: 2 | C6: Barsoum | D6: Ehab | G6: 7 | H6: 13 | I6: 9 | J6: 24 | K6: =SUM(E6:J6) -> 53
A7: 0.57894737 | B7: 3 | C7: Beck | D7: Oliver | G7: 13 | H7: 14 | I7: 10 | J7: 18 | K7: =SUM(E7:J7) -> 55
A8: 0.47368421 | B8: 4 | C8: Beynon | D8: Jack | G8: 12 | H8: 7 | I8: 18 | J8: 16 | K8: =SUM(E8:J8) -> 53
A9: 0.84210526 | B9: 5 | C9: Cripps | D9: Luke | E9: 3.5 | F9: 7 | I9: 6 | J9: 28 | K9: =SUM(E9:J9) -> 44.5
A10: 0.8 | B10: 6 | C10: Edwards | D10: Ashley | G10: 15 | H10: 12 | I10: 9 | J10: 29 | K10: =SUM(E10:J10) -> 65
A11: 0.52631579 | B11: 7 | C11: Fripp | D11: Sam | E11: 7 | F11: 15 | I11: 6 | J11: 17 | K11: =SUM(E11:J11) -> 45
A12: 0.94444444 | B12: 8 | C12: Hutchings | D12: Stephen | G12: 2.5 | H12: 2 | I12: 4 | J12: 29 | K12: =SUM(E12:J12) -> 37.5
A13: 0.85 | B13: 9 | C13: Perry | D13: Matthew | G13: 0 | H13: 13 | I13: 1 | J13: 27 | K13: =SUM(E13:J13) -> 41
A14: 0.47368421 | B14: 10 | C14: Prewitt | D14: Jamie | G14: 8 | H14: 2 | I14: 2 | J14: 29 | K14: =SUM(E14:J14) -> 41
A15: 0.68421053 | B15: 11 | C15: Salathiel | D15: Daniel | G15: 15 | H15: 24 | I15: 20 | J15: 30 | K15: =SUM(E15:J15) -> 89
A16: 0.85 | B16: 12 | C16: Thomas | D16: Iwan | G16: 0 | H16: 14 | I16: 16 | J16: 27 | K16: =SUM(E16:J16) -> 57
A17: 0.21052632 | B17: 13 | C17: Youngs | D17: Josh | E17: 7 | F17: 15 | I17: 12 | J17: 20 | K17: =SUM(E17:J17) -> 54

Sheet Total
E3: Coursework | F3: Exam | G3: Total
C4: Student | E4: 50 | F4: 50
B5: 1 | C5: Aguilar | D5: Eduardo | E5: =Coursework!L5 -> 61.8 | F5: =Exam!K5 -> 50 | G5: =(E5*0.5)+(F5*0.5) -> 55.9
B6: 2 | C6: Barsoum | D6: Ehab | E6: =Coursework!L6 -> 53.7 | F6: =Exam!K6 -> 53 | G6: =(E6*0.5)+(F6*0.5) -> 53.35
B7: 3 | C7: Beck | D7: Oliver | E7: =Coursework!L7 -> 69.7 | F7: =Exam!K7 -> 55 | G7: =(E7*0.5)+(F7*0.5) -> 62.35
B8: 4 | C8: Beynon | D8: Jack | E8: =Coursework!L8 -> 62.34 | F8: =Exam!K8 -> 53 | G8: =(E8*0.5)+(F8*0.5) -> 57.67
B9: 5 | C9: Cripps | D9: Luke | E9: =Coursework!L9 -> 60.48 | F9: =Exam!K9 -> 44.5 | G9: =(E9*0.5)+(F9*0.5) -> 52.49
B10: 6 | C10: Edwards | D10: Ashley | E10: =Coursework!L10 -> 68.54 | F10: =Exam!K10 -> 65 | G10: =(E10*0.5)+(F10*0.5) -> 66.77
B11: 7 | C11: Fripp | D11: Sam | E11: =Coursework!L11 -> 29.9 | F11: =Exam!K11 -> 45 | G11: =(E11*0.5)+(F11*0.5) -> 37.45
B12: 8 | C12: Hutchings | D12: Stephen | E12: =Coursework!L12 -> 82 | F12: =Exam!K12 -> 37.5 | G12: =(E12*0.5)+(F12*0.5) -> 59.75
B13: 9 | C13: Perry | D13: Matthew | E13: =Coursework!L13 -> 57.2 | F13: =Exam!K13 -> 41 | G13: =(E13*0.5)+(F13*0.5) -> 49.1
B14: 10 | C14: Prewitt | D14: Jamie | E14: =Coursework!L14 -> 52 | F14: =Exam!K14 -> 41 | G14: =(E14*0.5)+(F14*0.5) -> 46.5
B15: 11 | C15: Salathiel | D15: Daniel | E15: =Coursework!L15 -> 78.78 | F15: =Exam!K15 -> 89 | G15: =(E15*0.5)+(F15*0.5) -> 83.89
B16: 12 | C16: Thomas | D16: Iwan | E16: =Coursework!L16 -> 71.7 | F16: =Exam!K16 -> 57 | G16: =(E16*0.5)+(F16*0.5) -> 64.35
B17: 13 | C17: Youngs | D17: Josh | E17: =Coursework!L17 -> 60.5 | F17: =Exam!K17 -> 54 | G17: =(E17*0.5)+(F17*0.5) -> 57.25
D19: Average | E19: =AVERAGE(E5:E17) -> 62.203077 | F19: =AVERAGE(F5:F17) -> 52.692308 | G19: =AVERAGE(G5:G17) -> 57.447692
D20: Standard Deviation | E20: =STDEVA(E5:E17) -> 13.242104 | F20: =STDEVA(F5:F17) -> 13.333133 | G20: =STDEVA(G5:G17) -> 11.166816
