Workbook

Sheet Fuel listing
C5: Properties of Fuels
C7: Formula | D7: Fuel | E7: M | G7: Cpg^a | I7: HHV | J7: LHV | K7: hfg^b | N7: delta h^0
E8: (kg/kmol) | F8: Tb (degC) | G8: (kJ/kg-K) | H8: Tig (degC) | I8: (MJ/kg) | J8: (MJ/kg) | K8: (kJ/kg) | L8: AFRs | M8: Tf (K)c | N8: (kJ/mol) | O8: RONd | P8: MONe
C9: CH4 | D9: Methane | E9: 16.04 | F9: 161 | G9: 2.21 | H9: 537 | I9: 55.536 | J9: 50.048 | K9: 510 | L9: 17.2 | M9: 2226 | N9: 74.4 | O9: 120 | P9: 120
C10: C2H2 | D10: Acetylene | E10: 26.04 | F10: 84 | G10: 1.6 | H10: 305 | I10: 49.923 | J10: 48.225 | K10: - | L10: 13.2 | M10: 2540 | N10: 8.7 | O10: 50 | P10: 50
C11: C2H4 | D11: Ethylene | E11: 28.05 | F11: 104 | G11: 1.54 | H11: 490 | I11: 50.312 | J11: 47.132 | K11: - | L11: 14.7 | M11: 2380 | N11: 52.4 | O11: - | P11: -
C12: C2H6 | D12: Ethane | E12: 30.07 | F12: 89 | G12: 1.75 | H12: 472 | I12: 51.902 | J12: 47.611 | K12: 489 | L12: 16.1 | M12: 2370 | N12: 83.8 | O12: 115 | P12: 99
C13: C3H8 | D13: Propane | E13: 44.1 | F13: 42 | G13: 1.62 | H13: 470 | I13: 50.322 | J13: 46.33 | K13: 432 | L13: 15.7 | M13: 2334 | N13: 104.7 | O13: 112 | P13: 97
C14: C4H10 | D14: n-Butane | E14: 58.12 | F14: 0.5 | G14: 1.64 | H14: 365 | I14: 49.511 | J14: 45.725 | K14: 386 | L14: 15.5 | M14: 2270 | N14: 146.6 | O14: 94 | P14: 90
C15: C4H10 | D15: iso-Butane | E15: 58.12 | F15: 12 | G15: 1.62 | H15: 460 | I15: 49.363 | J15: 45.577 | K15: 366 | L15: 15.5 | M15: 2310 | N15: 153.5 | O15: 102 | P15: 98
C16: C5H12 | D16: n-Pentane | E16: 72.15 | F16: 36 | G16: 1.62 | H16: 284 | I16: 49.003 | J16: 45.343 | K16: 357 | L16: 15.3 | M16: 2270 | N16: 173.5 | O16: 62 | P16: 63
C17: C5H12 | D17: iso-Pentane | E17: 72.15 | F17: 28 | G17: 1.6 | H17: 420 | I17: 48.909 | J17: 45.249 | K17: 342 | L17: 15.3 | M17: 2310 | N17: 178.5 | O17: 93 | P17: 90
C18: C6H14 | D18: n-Hexane | E18: 86.18 | F18: 69 | G18: 1.62 | H18: 233 | I18: 48.674 | J18: 45.099 | K18: 335 | L18: 15.2 | M18: 2271 | N18: 198.7 | O18: 25 | P18: 26
C19: C6H14 | D19: iso-Hexane | E19: 86.18 | F19: 50 | G19: 1.58 | H19: 421 | I19: 48.454 | J19: 44.879 | K19: 305 | L19: 15.2 | M19: 2300 | N19: 207.4 | O19: 104 | P19: 94
C20: C7H16 | D20: n-Heptane | E20: 100.2 | F20: 99 | G20: 1.61 | H20: 215 | I20: 48.438 | J20: 44.925 | K20: 317 | L20: 15.2 | M20: 2273 | N20: 224.2 | O20: 0 | P20: 0
C21: C8H18 | D21: n-Octane | E21: 114.23 | F21: 126 | G21: 1.61 | H21: 206 | I21: 48.254 | J21: 44.786 | K21: 301 | L21: 15.1 | M21: 2275 | N21: 250.1 | O21: 20 | P21: 17
C22: C8H18 | D22: iso-Octane | E22: 114.23 | F22: 114 | G22: 1.59 | H22: 418 | I22: 48.119 | J22: 44.651 | K22: 283 | L22: 15.1 | M22: 2300 | N22: 259.2 | O22: 100 | P22: 100
C23: C9H20 | D23: n-Nonane | E23: 128.6 | F23: 151 | G23: 1.61 | H23: - | I23: 48.119 | J23: 44.688 | K23: 295 | L23: 15.1 | M23: 2274 | N23: 274.7 | O23: - | P23: -
C24: C10H22 | D24: n-Decane | E24: 142.28 | F24: 174 | G24: 1.61 | H24: 210 | I24: 48.002 | J24: 44.599 | K24: 277 | L24: 15.1 | M24: 2278 | N24: 300.9 | O24: 41 | P24: 38
C25: C10H22 | D25: iso-Decane | E25: 142.28 | F25: 171 | G25: 1.61 | H25: - | I25: 48.565 | J25: 44.413 | K25: - | L25: 15.1 | M25: 2340 | N25: - | O25: 113 | P25: 92
C26: C12H26 | D26: n-Dodecane | E26: 170.33 | F26: 216 | G26: 1.61 | H26: 204 | I26: 47.838 | J26: 44.574 | K26: 256 | L26: 15 | M26: 2276 | N26: 350.9 | O26: 88 | P26: 90
C27: CH4O | D27: Methanol | E27: 32.04 | F27: 65 | G27: 1.37 | H27: 385 | I27: 22.663 | J27: 19.915 | K27: 1099 | L27: 6.5 | M27: 2183 | N27: 201.5 | O27: 106 | P27: 92
C28: C2H6O | D28: Ethanol | E28: 46.07 | F28: 78 | G28: 1.42 | H28: 365 | I28: 29.668 | J28: 26.803 | K28: 836 | L28: 9 | M28: 2144 | N28: 235.1 | O28: 107 | P28: 89
C29: H2 | D29: Hydrogen | E29: 2.02 | F29: 253 | G29: 14.47 | H29: 400 | I29: 141.72 | J29: 119.96 | K29: 451 | L29: 34.3 | M29: 2345 | N29: 0 | O29: - | P29: -
C31: a Gas phase specific heat evaluated at 25 Deg C
C32: b Heat of vaporization at 1 atm
C33: c Estimated equilibrium flame temperature
C34: d Research octane number
C35: e Motoring octane number

Sheet CO2
A1: Ideal Gas Enthalpy of CO2
A3: Enthalpy Formation
F4: CO2 at pressure (1 atm) | M4: y = 8.5770134353E-19x6 - 1.0374875556E-14x5 + 4.9689475953E-11x4 - 1.2019118054E-07x3 + 1.5650954893E-04x2 - 4.8239362033E-02x + 5.2084519626E+00
A5: Molecular Weight | F5: T (K) | G5: cp (kJ/kmol-K) | H5: h0 (MJ/kmol) Enthalpy of Formation | I5: s (kJ/kmol-K) | J5: g0/RuT
F6: 200 | G6: 32.39 | H6: -3.42 | I6: 199.87 | J6: 262.76
F7: 250 | G7: 34.96 | H7: -1.74 | I7: 207.37 | J7: 215.11
F8: 298 | G8: 37.2 | H8: 0 | I8: 213.73 | J8: 184.46
F9: 300 | G9: 37.28 | H9: 0.07 | I9: 213.96 | J9: 183.48
F10: 350 | G10: 39.37 | H10: 1.99 | I10: 219.86 | J10: 161
F11: 400 | G11: 41.27 | H11: 4 | I11: 225.25 | J11: 144.22
F12: 450 | G12: 43 | H12: 6.11 | I12: 230.21 | J12: 131.24
F13: 500 | G13: 44.57 | H13: 8.3 | I13: 234.82 | J13: 120.91
F14: 550 | G14: 46 | H14: 10.56 | I14: 239.14 | J14: 112.51
F15: 600 | G15: 47.31 | H15: 12.9 | I15: 243.2 | J15: 105.55
F16: 650 | G16: 48.51 | H16: 15.29 | I16: 247.03 | J16: 99.7
F17: 700 | G17: 49.61 | H17: 17.75 | I17: 250.67 | J17: 94.72
... F73: 3500 | G73: 62.72 | H73: 184.11 | I73: 343.73 | J73: 48.54

Sheet H2O
A1: Ideal Gas Enthalpy of H20
J6: y = 6.6506859177E-19x6 - 7.8984343104E-15x5 + 3.6879849877E-11x4 - 8.6386228559E-08x3 + 1.1074017861E-04x2 - 3.1241611608E-02x + 3.3006694533E+00
E8: H2O
E9: T (K) | F9: cp (kJ/kmol-K) | G9: h0 (MJ/kmol) Enthalpy of Formation | H9: s (kJ/kmol-K) | I9: g
E10: 200 | F10: 32.25 | G10: -3.23 | H10: 175.59 | I10: 168.5
E11: 250 | F11: 32.9 | G11: -1.6 | H11: 182.86 | I11: 139.11
E12: 298 | F12: 33.45 | G12: 0 | H12: 188.71 | I12: 120.26
E13: 300 | F13: 33.47 | G13: 0.06 | H13: 188.91 | I13: 119.66
E14: 350 | F14: 33.97 | G14: 1.75 | H14: 194.11 | I14: 105.85
E15: 400 | F15: 34.44 | G15: 3.46 | H15: 198.68 | I15: 95.58
E16: 450 | F16: 34.89 | G16: 5.19 | H16: 202.76 | I16: 87.64
E17: 500 | F17: 35.34 | G17: 6.95 | H17: 206.46 | I17: 81.34
E18: 550 | F18: 35.8 | G18: 8.73 | H18: 209.85 | I18: 76.22
E19: 600 | F19: 36.29 | G19: 10.53 | H19: 212.98 | I19: 71.99
E20: 650 | F20: 36.81 | G20: 12.35 | H20: 215.91 | I20: 68.43
E21: 700 | F21: 37.36 | G21: 14.21 | H21: 218.65 | I21: 65.41
... E77: 3500 | F77: 57.07 | G77: 154.79 | H77: 295.11 | I77: 38.49

Sheet O2
A2: Ideal Gas Enthalpy of O2
K5: y = 6.4958291549E-19x6 - 7.8224528491E-15x5 + 3.7120417697E-11x4 - 8.7983176170E-08x3 + 1.0982327235E-04x2 - 3.2606444641E-02x + 3.5786489003E+00
E9: O2
E10: T (K) | F10: cp (kJ/kmol-K) | G10: h0 (MJ/kmol) Enthalpy of Formation | H10: s (kJ/kmol-K) | I10: g0
E11: 200 | F11: 28.47 | G11: 2.84 | H11: 193.51 | I11: 24.98
E12: 250 | F12: 28.9 | G12: 1.4 | H12: 199.91 | I12: 24.72
E13: 298 | F13: 29.31 | G13: 0 | H13: 205.03 | I13: 24.66
E14: 300 | F14: 29.33 | G14: 0.05 | H14: 205.21 | I14: 24.66
E15: 350 | F15: 29.77 | G15: 1.53 | H15: 209.77 | I15: 24.7
E16: 400 | F16: 30.21 | G16: 3.03 | H16: 213.77 | I16: 24.8
E17: 450 | F17: 30.66 | G17: 4.55 | H17: 217.36 | I17: 24.93
E18: 500 | F18: 31.11 | G18: 6.1 | H18: 220.61 | I18: 25.07
E19: 550 | F19: 31.57 | G19: 7.66 | H19: 223.6 | I19: 25.22
E20: 600 | F20: 32.03 | G20: 9.25 | H20: 226.36 | I20: 25.37
E21: 650 | F21: 32.48 | G21: 10.87 | H21: 228.94 | I21: 25.53
E22: 700 | F22: 32.93 | G22: 12.5 | H22: 231.37 | I22: 25.68
... E78: 3500 | F78: 40.68 | G78: 118.17 | H78: 303.85346 | I78: 290.58

Sheet N2
A1: Ideal Gas Enthalpy of N2
I4: y = 5.9376621671E-19x6 - 7.1020711589E-15x5 + 3.3460896805E-11x4 - 7.8909601634E-08x3 + 9.8599769212E-05x2 - 2.8172899156E-02x + 3.0537890800E+00
C6: N2
C7: T (K) | D7: cp (kJ/kmol-K) | E7: h0 (MJ/kmol) Enthalpy of Formation | F7: s (kJ/kmol-K) | G7: g
C8: 200 | D8: 28.79 | E8: 2.84 | F8: 179.95 | G8: 23.35
C9: 250 | D9: 28.95 | E9: 1.4 | F9: 186.39 | G9: 23.09
C10: 298 | D10: 29.07 | E10: 0 | F10: 191.5 | G10: 23.03
C11: 300 | D11: 29.07 | E11: 0.05 | F11: 191.68 | G11: 23.03
C12: 350 | D12: 29.19 | E12: 1.51 | F12: 196.17 | G12: 23.08
C13: 400 | D13: 29.32 | E13: 2.97 | F13: 200.08 | G13: 23.17
C14: 450 | D14: 29.46 | E14: 4.44 | F14: 203.54 | G14: 23.29
C15: 500 | D15: 29.63 | E15: 5.92 | F15: 206.65 | G15: 23.43
C16: 550 | D16: 29.84 | E16: 7.41 | F16: 209.49 | G16: 23.58
C17: 600 | D17: 30.08 | E17: 8.9 | F17: 212.09 | G17: 23.72
C18: 650 | D18: 30.37 | E18: 10.42 | F18: 214.51 | G18: 23.87
C19: 700 | D19: 30.68 | E19: 11.94 | F19: 216.77 | G19: 24.02
... C75: 3500 | D75: 37.3 | E75: 111.31 | F75: 272.53 | G75: 28.95

Sheet Molar Enthalpy
A1: Molar Enthalpy
G4: Fuel | H4: Formula
G5: iso-Octane | H5: =IF(G5='Fuel listing'!D22,'Fuel listing'!C22,IF('Molar Enthalpy'!G5='Fuel listing'!D27,'Fuel listing'!C27)) -> C8H18
C12: CO2 | F12: H2O | I12: O2 | L12: N2
B13: T (K) | C13: Entalpy needed to increase 1 Kmol By 1 kelvin | D13: Net Enthalpy (No of Mols) | F13: Entalpy needed to increase 1 Kmol By 1 kelvin | G13: Net Enthalpy (No of Mols) | I13: Entalpy needed to increase 1 Kmol By 1 kelvin | J13: Net Enthalpy (No of Mols) | L13: Entalpy needed to increase 1 Kmol By 1 kelvin | M13: Net Enthalpy (No of Mols)
B14: 200 | C14: =((8.5770134353*10^-19)*(B14^6))-((1.0374875556*10^-14)*(B14^5))+((4.9689475953*10^-11)*(B14^4))-((1.2019118054*10^-7)*(B14^3))+((1.5650954893*10^-4)*(B14^2))-((4.8239362033*10^-2)*(B14))+((5.2084519626)) -> 0.93567016 | D14: =C14*Fuels!$C$13 -> 7.4853613 | F14: =((6.6506859177*10^-19)*(B14^6))-((7.8984343104*10^-15)*(B14^5))+((3.6879849877*10^-11)*(B14^4))-((8.6386228559*10^-8)*(B14^3))+((1.1074017861*10^-4)*(B14^2))-((3.1241611608*10^-2)*(B14))+(3.3006694533) -> 0.84738727 | G14: =F14*Fuels!$C$14 -> 7.6264855 | I14: =((6.4958291549*10^-19)*(B14^6))-((7.8224528491*10^-15)*(B14^5))+((3.7120417697*10^-11)*(B14^4))-((8.798317617*10^-8)*(B14^3))+((1.0982327235*10^-4)*(B14^2))-((3.2606444641*10^-2)*(B14))+((3.5786489003)) -> 0.80335651 | J14: =I14*(Fuels!$C$16/2) -> 10.041956 | L14: =((5.9376621671*10^-19)*(B14^6))-((7.1020711589*10^-15)*(B14^5))+((3.3460896805*10^-11)*(B14^4))-((7.8909601634*10^-8)*(B14^3))+((9.8599769212*10^-5)*(B14^2))-((2.8172899156*10^-2)*(B14))+(3.05378908) -> 0.78322598 | M14: =L14*Fuels!$C$15 -> 36.830262
B15: 250 | C15: =((8.5770134353*10^-19)*(B15^6))-((1.0374875556*10^-14)*(B15^5))+((4.9689475953*10^-11)*(B15^4))-((1.2019118054*10^-7)*(B15^3))+((1.5650954893*10^-4)*(B15^2))-((4.8239362033*10^-2)*(B15))+((5.2084519626)) -> 1.2366483 | D15: =C15*Fuels!$C$13 -> 9.8931861 | F15: =((6.6506859177*10^-19)*(B15^6))-((7.8984343104*10^-15)*(B15^5))+((3.6879849877*10^-11)*(B15^4))-((8.6386228559*10^-8)*(B15^3))+((1.1074017861*10^-4)*(B15^2))-((3.1241611608*10^-2)*(B15))+(3.3006694533) -> 1.1982539 | G15: =F15*Fuels!$C$14 -> 10.784285 | I15: =((6.4958291549*10^-19)*(B15^6))-((7.8224528491*10^-15)*(B15^5))+((3.7120417697*10^-11)*(B15^4))-((8.798317617*10^-8)*(B15^3))+((1.0982327235*10^-4)*(B15^2))-((3.2606444641*10^-2)*(B15))+((3.5786489003)) -> 1.0537762 | J15: =I15*(Fuels!$C$16/2) -> 13.172203 | L15: =((5.9376621671*10^-19)*(B15^6))-((7.1020711589*10^-15)*(B15^5))+((3.3460896805*10^-11)*(B15^4))-((7.8909601634*10^-8)*(B15^3))+((9.8599769212*10^-5)*(B15^2))-((2.8172899156*10^-2)*(B15))+(3.05378908) -> 1.0640033 | M15: =L15*Fuels!$C$15 -> 50.033479
B16: 298 | C16: =((8.5770134353*10^-19)*(B16^6))-((1.0374875556*10^-14)*(B16^5))+((4.9689475953*10^-11)*(B16^4))-((1.2019118054*10^-7)*(B16^3))+((1.5650954893*10^-4)*(B16^2))-((4.8239362033*10^-2)*(B16))+((5.2084519626)) -> 1.9191833 | D16: =C16*Fuels!$C$13 -> 15.353467 | F16: =((6.6506859177*10^-19)*(B16^6))-((7.8984343104*10^-15)*(B16^5))+((3.6879849877*10^-11)*(B16^4))-((8.6386228559*10^-8)*(B16^3))+((1.1074017861*10^-4)*(B16^2))-((3.1241611608*10^-2)*(B16))+(3.3006694533) -> 1.811494 | G16: =F16*Fuels!$C$14 -> 16.303446 | I16: =((6.4958291549*10^-19)*(B16^6))-((7.8224528491*10^-15)*(B16^5))+((3.7120417697*10^-11)*(B16^4))-((8.798317617*10^-8)*(B16^3))+((1.0982327235*10^-4)*(B16^2))-((3.2606444641*10^-2)*(B16))+((3.5786489003)) -> 1.5611322 | J16: =I16*(Fuels!$C$16/2) -> 19.514152 | L16: =((5.9376621671*10^-19)*(B16^6))-((7.1020711589*10^-15)*(B16^5))+((3.3460896805*10^-11)*(B16^4))-((7.8909601634*10^-8)*(B16^3))+((9.8599769212*10^-5)*(B16^2))-((2.8172899156*10^-2)*(B16))+(3.05378908) -> 1.5736906 | M16: =L16*Fuels!$C$15 -> 74.000914
B17: 300 | C17: =((8.5770134353*10^-19)*(B17^6))-((1.0374875556*10^-14)*(B17^5))+((4.9689475953*10^-11)*(B17^4))-((1.2019118054*10^-7)*(B17^3))+((1.5650954893*10^-4)*(B17^2))-((4.8239362033*10^-2)*(B17))+((5.2084519626)) -> 1.95524 | D17: =C17*Fuels!$C$13 -> 15.64192 | F17: =((6.6506859177*10^-19)*(B17^6))-((7.8984343104*10^-15)*(B17^5))+((3.6879849877*10^-11)*(B17^4))-((8.6386228559*10^-8)*(B17^3))+((1.1074017861*10^-4)*(B17^2))-((3.1241611608*10^-2)*(B17))+(3.3006694533) -> 1.8423923 | G17: =F17*Fuels!$C$14 -> 16.581531 | I17: =((6.4958291549*10^-19)*(B17^6))-((7.8224528491*10^-15)*(B17^5))+((3.7120417697*10^-11)*(B17^4))-((8.798317617*10^-8)*(B17^3))+((1.0982327235*10^-4)*(B17^2))-((3.2606444641*10^-2)*(B17))+((3.5786489003)) -> 1.5874046 | J17: =I17*(Fuels!$C$16/2) -> 19.842558 | L17: =((5.9376621671*10^-19)*(B17^6))-((7.1020711589*10^-15)*(B17^5))+((3.3460896805*10^-11)*(B17^4))-((7.8909601634*10^-8)*(B17^3))+((9.8599769212*10^-5)*(B17^2))-((2.8172899156*10^-2)*(B17))+(3.05378908) -> 1.5995474 | M17: =L17*Fuels!$C$15 -> 75.216797
B18: 350 | C18: =((8.5770134353*10^-19)*(B18^6))-((1.0374875556*10^-14)*(B18^5))+((4.9689475953*10^-11)*(B18^4))-((1.2019118054*10^-7)*(B18^3))+((1.5650954893*10^-4)*(B18^2))-((4.8239362033*10^-2)*(B18))+((5.2084519626)) -> 3.0366367 | D18: =C18*Fuels!$C$13 -> 24.293094 | F18: =((6.6506859177*10^-19)*(B18^6))-((7.8984343104*10^-15)*(B18^5))+((3.6879849877*10^-11)*(B18^4))-((8.6386228559*10^-8)*(B18^3))+((1.1074017861*10^-4)*(B18^2))-((3.1241611608*10^-2)*(B18))+(3.3006694533) -> 2.7411345 | G18: =F18*Fuels!$C$14 -> 24.67021 | I18: =((6.4958291549*10^-19)*(B18^6))-((7.8224528491*10^-15)*(B18^5))+((3.7120417697*10^-11)*(B18^4))-((8.798317617*10^-8)*(B18^3))+((1.0982327235*10^-4)*(B18^2))-((3.2606444641*10^-2)*(B18))+((3.5786489003)) -> 2.3646128 | J18: =I18*(Fuels!$C$16/2) -> 29.557661 | L18: =((5.9376621671*10^-19)*(B18^6))-((7.1020711589*10^-15)*(B18^5))+((3.3460896805*10^-11)*(B18^4))-((7.8909601634*10^-8)*(B18^3))+((9.8599769212*10^-5)*(B18^2))-((2.8172899156*10^-2)*(B18))+(3.05378908) -> 2.3544096 | M18: =L18*Fuels!$C$15 -> 110.71329
B19: 400 | C19: =((8.5770134353*10^-19)*(B19^6))-((1.0374875556*10^-14)*(B19^5))+((4.9689475953*10^-11)*(B19^4))-((1.2019118054*10^-7)*(B19^3))+((1.5650954893*10^-4)*(B19^2))-((4.8239362033*10^-2)*(B19))+((5.2084519626)) -> 4.4313244 | D19: =C19*Fuels!$C$13 -> 35.450595 | F19: =((6.6506859177*10^-19)*(B19^6))-((7.8984343104*10^-15)*(B19^5))+((3.6879849877*10^-11)*(B19^4))-((8.6386228559*10^-8)*(B19^3))+((1.1074017861*10^-4)*(B19^2))-((3.1241611608*10^-2)*(B19))+(3.3006694533) -> 3.8597031 | G19: =F19*Fuels!$C$14 -> 34.737328 | I19: =((6.4958291549*10^-19)*(B19^6))-((7.8224528491*10^-15)*(B19^5))+((3.7120417697*10^-11)*(B19^4))-((8.798317617*10^-8)*(B19^3))+((1.0982327235*10^-4)*(B19^2))-((3.2606444641*10^-2)*(B19))+((3.5786489003)) -> 3.3497128 | J19: =I19*(Fuels!$C$16/2) -> 41.87141 | L19: =((5.9376621671*10^-19)*(B19^6))-((7.1020711589*10^-15)*(B19^5))+((3.3460896805*10^-11)*(B19^4))-((7.8909601634*10^-8)*(B19^3))+((9.8599769212*10^-5)*(B19^2))-((2.8172899156*10^-2)*(B19))+(3.05378908) -> 3.2966838 | M19: =L19*Fuels!$C$15 -> 155.0226
B20: 450 | C20: =((8.5770134353*10^-19)*(B20^6))-((1.0374875556*10^-14)*(B20^5))+((4.9689475953*10^-11)*(B20^4))-((1.2019118054*10^-7)*(B20^3))+((1.5650954893*10^-4)*(B20^2))-((4.8239362033*10^-2)*(B20))+((5.2084519626)) -> 6.094757 | D20: =C20*Fuels!$C$13 -> 48.758056 | F20: =((6.6506859177*10^-19)*(B20^6))-((7.8984343104*10^-15)*(B20^5))+((3.6879849877*10^-11)*(B20^4))-((8.6386228559*10^-8)*(B20^3))+((1.1074017861*10^-4)*(B20^2))-((3.1241611608*10^-2)*(B20))+(3.3006694533) -> 5.1669639 | G20: =F20*Fuels!$C$14 -> 46.502675 | I20: =((6.4958291549*10^-19)*(B20^6))-((7.8224528491*10^-15)*(B20^5))+((3.7120417697*10^-11)*(B20^4))-((8.798317617*10^-8)*(B20^3))+((1.0982327235*10^-4)*(B20^2))-((3.2606444641*10^-2)*(B20))+((3.5786489003)) -> 4.5107114 | J20: =I20*(Fuels!$C$16/2) -> 56.383892 | L20: =((5.9376621671*10^-19)*(B20^6))-((7.1020711589*10^-15)*(B20^5))+((3.3460896805*10^-11)*(B20^4))-((7.8909601634*10^-8)*(B20^3))+((9.8599769212*10^-5)*(B20^2))-((2.8172899156*10^-2)*(B20))+(3.05378908) -> 4.3977835 | M20: =L20*Fuels!$C$15 -> 206.80049
B21: 500 | C21: =((8.5770134353*10^-19)*(B21^6))-((1.0374875556*10^-14)*(B21^5))+((4.9689475953*10^-11)*(B21^4))-((1.2019118054*10^-7)*(B21^3))+((1.5650954893*10^-4)*(B21^2))-((4.8239362033*10^-2)*(B21))+((5.2084519626)) -> 7.9870396 | D21: =C21*Fuels!$C$13 -> 63.896317 | F21: =((6.6506859177*10^-19)*(B21^6))-((7.8984343104*10^-15)*(B21^5))+((3.6879849877*10^-11)*(B21^4))-((8.6386228559*10^-8)*(B21^3))+((1.1074017861*10^-4)*(B21^2))-((3.1241611608*10^-2)*(B21))+(3.3006694533) -> 6.635186 | G21: =F21*Fuels!$C$14 -> 59.716674 | I21: =((6.4958291549*10^-19)*(B21^6))-((7.8224528491*10^-15)*(B21^5))+((3.7120417697*10^-11)*(B21^4))-((8.798317617*10^-8)*(B21^3))+((1.0982327235*10^-4)*(B21^2))-((3.2606444641*10^-2)*(B21))+((3.5786489003)) -> 5.8190718 | J21: =I21*(Fuels!$C$16/2) -> 72.738398 | L21: =((5.9376621671*10^-19)*(B21^6))-((7.1020711589*10^-15)*(B21^5))+((3.3460896805*10^-11)*(B21^4))-((7.8909601634*10^-8)*(B21^3))+((9.8599769212*10^-5)*(B21^2))-((2.8172899156*10^-2)*(B21))+(3.05378908) -> 5.6322255 | M21: =L21*Fuels!$C$15 -> 264.84865
B22: 550 | C22: =((8.5770134353*10^-19)*(B22^6))-((1.0374875556*10^-14)*(B22^5))+((4.9689475953*10^-11)*(B22^4))-((1.2019118054*10^-7)*(B22^3))+((1.5650954893*10^-4)*(B22^2))-((4.8239362033*10^-2)*(B22))+((5.2084519626)) -> 10.072622 | D22: =C22*Fuels!$C$13 -> 80.580974 | F22: =((6.6506859177*10^-19)*(B22^6))-((7.8984343104*10^-15)*(B22^5))+((3.6879849877*10^-11)*(B22^4))-((8.6386228559*10^-8)*(B22^3))+((1.1074017861*10^-4)*(B22^2))-((3.1241611608*10^-2)*(B22))+(3.3006694533) -> 8.2398088 | G22: =F22*Fuels!$C$14 -> 74.158279 | I22: =((6.4958291549*10^-19)*(B22^6))-((7.8224528491*10^-15)*(B22^5))+((3.7120417697*10^-11)*(B22^4))-((8.798317617*10^-8)*(B22^3))+((1.0982327235*10^-4)*(B22^2))-((3.2606444641*10^-2)*(B22))+((3.5786489003)) -> 7.2494826 | J22: =I22*(Fuels!$C$16/2) -> 90.618532 | L22: =((5.9376621671*10^-19)*(B22^6))-((7.1020711589*10^-15)*(B22^5))+((3.3460896805*10^-11)*(B22^4))-((7.8909601634*10^-8)*(B22^3))+((9.8599769212*10^-5)*(B22^2))-((2.8172899156*10^-2)*(B22))+(3.05378908) -> 6.9774206 | M22: =L22*Fuels!$C$15 -> 328.10483
B23: 600 | C23: =((8.5770134353*10^-19)*(B23^6))-((1.0374875556*10^-14)*(B23^5))+((4.9689475953*10^-11)*(B23^4))-((1.2019118054*10^-7)*(B23^3))+((1.5650954893*10^-4)*(B23^2))-((4.8239362033*10^-2)*(B23))+((5.2084519626)) -> 12.32 | D23: =C23*Fuels!$C$13 -> 98.56 | F23: =((6.6506859177*10^-19)*(B23^6))-((7.8984343104*10^-15)*(B23^5))+((3.6879849877*10^-11)*(B23^4))-((8.6386228559*10^-8)*(B23^3))+((1.1074017861*10^-4)*(B23^2))-((3.1241611608*10^-2)*(B23))+(3.3006694533) -> 9.9592172 | G23: =F23*Fuels!$C$14 -> 89.632954 | I23: =((6.4958291549*10^-19)*(B23^6))-((7.8224528491*10^-15)*(B23^5))+((3.7120417697*10^-11)*(B23^4))-((8.798317617*10^-8)*(B23^3))+((1.0982327235*10^-4)*(B23^2))-((3.2606444641*10^-2)*(B23))+((3.5786489003)) -> 8.7796332 | J23: =I23*(Fuels!$C$16/2) -> 109.74542 | L23: =((5.9376621671*10^-19)*(B23^6))-((7.1020711589*10^-15)*(B23^5))+((3.3460896805*10^-11)*(B23^4))-((7.8909601634*10^-8)*(B23^3))+((9.8599769212*10^-5)*(B23^2))-((2.8172899156*10^-2)*(B23))+(3.05378908) -> 8.4134705 | M23: =L23*Fuels!$C$15 -> 395.63335
B24: 650 | C24: =((8.5770134353*10^-19)*(B24^6))-((1.0374875556*10^-14)*(B24^5))+((4.9689475953*10^-11)*(B24^4))-((1.2019118054*10^-7)*(B24^3))+((1.5650954893*10^-4)*(B24^2))-((4.8239362033*10^-2)*(B24))+((5.2084519626)) -> 14.70143 | D24: =C24*Fuels!$C$13 -> 117.61144 | F24: =((6.6506859177*10^-19)*(B24^6))-((7.8984343104*10^-15)*(B24^5))+((3.6879849877*10^-11)*(B24^4))-((8.6386228559*10^-8)*(B24^3))+((1.1074017861*10^-4)*(B24^2))-((3.1241611608*10^-2)*(B24))+(3.3006694533) -> 11.774524 | G24: =F24*Fuels!$C$14 -> 105.97071 | I24: =((6.4958291549*10^-19)*(B24^6))-((7.8224528491*10^-15)*(B24^5))+((3.7120417697*10^-11)*(B24^4))-((8.798317617*10^-8)*(B24^3))+((1.0982327235*10^-4)*(B24^2))-((3.2606444641*10^-2)*(B24))+((3.5786489003)) -> 10.389998 | J24: =I24*(Fuels!$C$16/2) -> 129.87498 | L24: =((5.9376621671*10^-19)*(B24^6))-((7.1020711589*10^-15)*(B24^5))+((3.3460896805*10^-11)*(B24^4))-((7.8909601634*10^-8)*(B24^3))+((9.8599769212*10^-5)*(B24^2))-((2.8172899156*10^-2)*(B24))+(3.05378908) -> 9.9229715 | M24: =L24*Fuels!$C$15 -> 466.61583
B25: 700 | C25: =((8.5770134353*10^-19)*(B25^6))-((1.0374875556*10^-14)*(B25^5))+((4.9689475953*10^-11)*(B25^4))-((1.2019118054*10^-7)*(B25^3))+((1.5650954893*10^-4)*(B25^2))-((4.8239362033*10^-2)*(B25))+((5.2084519626)) -> 17.192648 | D25: =C25*Fuels!$C$13 -> 137.54119 | F25: =((6.6506859177*10^-19)*(B25^6))-((7.8984343104*10^-15)*(B25^5))+((3.6879849877*10^-11)*(B25^4))-((8.6386228559*10^-8)*(B25^3))+((1.1074017861*10^-4)*(B25^2))-((3.1241611608*10^-2)*(B25))+(3.3006694533) -> 13.669359 | G25: =F25*Fuels!$C$14 -> 123.02423 | I25: =((6.4958291549*10^-19)*(B25^6))-((7.8224528491*10^-15)*(B25^5))+((3.7120417697*10^-11)*(B25^4))-((8.798317617*10^-8)*(B25^3))+((1.0982327235*10^-4)*(B25^2))-((3.2606444641*10^-2)*(B25))+((3.5786489003)) -> 12.063627 | J25: =I25*(Fuels!$C$16/2) -> 150.79534 | L25: =((5.9376621671*10^-19)*(B25^6))-((7.1020711589*10^-15)*(B25^5))+((3.3460896805*10^-11)*(B25^4))-((7.8909601634*10^-8)*(B25^3))+((9.8599769212*10^-5)*(B25^2))-((2.8172899156*10^-2)*(B25))+(3.05378908) -> 11.490825 | M25: =L25*Fuels!$C$15 -> 540.34228
... B81: 3500 | C81: =((8.5770134353*10^-19)*(B81^6))-((1.0374875556*10^-14)*(B81^5))+((4.9689475953*10^-11)*(B81^4))-((1.2019118054*10^-7)*(B81^3))+((1.5650954893*10^-4)*(B81^2))-((4.8239362033*10^-2)*(B81))+((5.2084519626)) -> 184.5465 | D81: =C81*Fuels!$C$13 -> 1476.372 | F81: =((6.6506859177*10^-19)*(B81^6))-((7.8984343104*10^-15)*(B81^5))+((3.6879849877*10^-11)*(B81^4))-((8.6386228559*10^-8)*(B81^3))+((1.1074017861*10^-4)*(B81^2))-((3.1241611608*10^-2)*(B81))+(3.3006694533) -> 155.16207 | G81: =F81*Fuels!$C$14 -> 1396.4587 | I81: =((6.4958291549*10^-19)*(B81^6))-((7.8224528491*10^-15)*(B81^5))+((3.7120417697*10^-11)*(B81^4))-((8.798317617*10^-8)*(B81^3))+((1.0982327235*10^-4)*(B81^2))-((3.2606444641*10^-2)*(B81))+((3.5786489003)) -> 118.50222 | J81: =I81*(Fuels!$C$16/2) -> 1481.2777 | L81: =((5.9376621671*10^-19)*(B81^6))-((7.1020711589*10^-15)*(B81^5))+((3.3460896805*10^-11)*(B81^4))-((7.8909601634*10^-8)*(B81^3))+((9.8599769212*10^-5)*(B81^2))-((2.8172899156*10^-2)*(B81))+(3.05378908) -> 111.63156 | M81: =L81*Fuels!$C$15 -> 5249.3402

Sheet Fuels
B2: Hydrocarbon fuel balance Iso-octane | G2: Molecule | H2: Atomic weight | I2: Hydrocarbon fuel balance Methonol
B4: C8H18 + A(O2+3.76 N2) = xCO2 + yH2O + 3.76 N2 | G4: Carbon | H4: 12.011 | I4: CH4 O + A(O2+3.76 N2) = xCO2 + yH2O + 3.76 N2
G5: Hydrogen | H5: 1.008
B6: molecule | C6: No of moecules | G6: oxegen | H6: 15.999 | N6: molecule | O6: No of moecules
B7: Carbon (x) | C7: 8 | G7: Nitrogen | H7: 14.007 | N7: Carbon (x) | O7: 1
B8: Hdrogen(Y) | C8: 18 | G8: % of N2 in Air | H8: 3.761904 | N8: Hydrogen(Y) | O8: 4
B9: oxengen | C9: 0 | G9: kmols per kg | H9: 32 | N9: oxengen | O9: 1
B11: Molecular compound | G11: Compund | H11: (ΔHof) Enthalpy of combustion (Energy Required for) | J11: Enthalpy of combustion (Energy Required for) | N11: Molecular compound
B12: A | C12: =$C$16/2 -> 12.5 | G12: iso-octane (Kj/mol) | H12: 259.2 | N12: A | O12: =O16/2 -> 1.5
B13: CO2 | C13: =C7 -> 8 | G13: Methanol (Kj/mol) | H13: 201.5 | N13: CO2 | O13: =O7 -> 1
B14: H2O | C14: =C8/2 -> 9 | G14: CO2 (Kj/mol) | H14: 393.5 | N14: H2O | O14: =$O$8/2 -> 2
B15: N2 | C15: =C12*H8 -> 47.0238 | G15: H2O (Gas) (Kj/mol) | H15: 241.8 | N15: N2 | O15: =$O$12*$H$8 -> 5.642856
B16: O | C16: =(2*C13)+C14 -> 25 | G16: H2O (Liquid) (Kj/mol) | H16: 285.8 | N16: O | O16: =(2*O13)+O14-1 -> 3
B18: Masses | G18: Toatal mass of fuel combined fuel | N18: Masses
B19: mass of Air | C19: =$C$12*((2*$H$6)+($H$8*2*$H$7)) -> 1717.2997 | G19: =$C$20+$O$20 -> 146.274 | N19: mass of Air | O19: =O12*((2*$H$6)+($H$8*2*$H$7)) -> 206.07597
B20: Mass of octane Fuel | C20: =($C$7*$H$4)+($C$8*$H$5) -> 114.232 | G20: (%) Fuel mass of iso-octane | H20: (%) fuel mass of Methanol | N20: Mass of Methanol Fuel | O20: =($H$4+$H$6)+(H5*O8) -> 32.042
G21: =($C$20/$G$19)*100 -> 78.094535 | H21: =($O$20/$G$19)*100 -> 21.905465
B22: stoichiometric AFR by mass | C22: =C19/C20 -> 15.033438 | N22: stoichiometric AFR by mass | O22: =O19/O20 -> 6.4314327
E23: Iso -Octane Enthalpy | I23: Methanol Enthalpy
B25: Energy output per mol burnt | C25: =F27-E27 -> 5065 | E25: Enthalpy required for reaction (MJ) | F25: Reaction Engery (MJ) | G25: Net (Product) Enthalpy | I25: Enthalpy required for reaction (MJ) | J25: Reaction Engery (MJ) | K25: Net (Product) Enthalpy | N25: Energy output per mol burnt (MJ) | O25: =J27-I27 -> 675.6
E27: =H12 -> 259.2 | F27: =(((C13*H14)+(C14*$H$15)+($C$15*0))) -> 5324.2 | G27: =F27-E27 -> 5065 | I27: =H13 -> 201.5 | J27: =(((O13*Fuels!H14)+(O14*H15)+(O15*0))) -> 877.1 | K27: =J27-I27 -> 675.6
B28: eq ratio | C28: =C22/13.7 -> 1.0973313 | N28: mass of fuel per Kmol (Kg) | O28: =((O7*H4)+(O8*H5)+(O9*H6)) -> 32.042
B30: fuel ratio | C30: =C22*C28 -> 16.496662
N31: LHV | O31: =O25/O28 -> 21.084826
F33: enthalpy of oxegen
F34: https://www.ohio.edu/mechanical/thermo/property_tables/combustion/oxygen_enth.html
N35: eq ratio | O35: =O22/13.7 -> 0.46944765
N37: fuel ratio | O37: =O22*O35 -> 3.019221

Sheet 50% - 50%
B2: Hydrocarbon fuel balance 50% Iso-octane & 50% Ethanol | I2: Molecule | J2: Atomic weight
B4: CH4O + C8H18 + A(O2+3.76 N2) = (n1)CO2 + (n2)H2O + 3.76 (n3)N2 | I4: Carbon | J4: 12.011
I5: Hydrogen | J5: 1.008
B6: fuel composition Molecules | I6: oxegen | J6: 15.999
B7: Molecule | C7: Toatal No of moecules | I7: Nitrogen | J7: 14.007
B8: Carbon (x) | C8: =Fuels!C7+Fuels!O7 -> 9 | I8: % of N2 in Air | J8: 3.761904
B9: Hydrogen(Y) | C9: =Fuels!C8+Fuels!O8 -> 22
B10: oxengen | C10: =Fuels!O9+Fuels!C9 -> 1
I11: Compund | J11: (ΔHof) Enthalpy of combustion (Energy Required for)
B12: Product Molecules | I12: iso-octane (Kj/mol) | J12: 259.2
B13: A | C13: =C17/2 -> 14 | I13: Methanol (Kj/mol) | J13: 201.5
B14: (n1) CO2 | C14: =C8 -> 9 | I14: CO2 (Kj/mol) | J14: 393.5
B15: (n2) H2O | C15: =C9/2 -> 11 | I15: H2O (Gas) (Kj/mol) | J15: 241.8
B16: (n3) N2 | C16: =C13*J8 -> 52.666656 | I16: H2O (Liquid) (Kj/mol) | J16: 285.8
B17: O | C17: =(2*C14)+C15-C10 -> 28
B20: AFR | C20: =($C$13*((2*$J$6)+($J$8*2*$J$7)))/(($C$8*$J$4)+($C$9*$J$5)+(J6)) -> 13.149129
I22: Masses (kg)
B23: Net (Product) Enthalpy (H2O as Gas) | C23: =J39-I39 -> 5740.6
I24: Toatal mass of Fuel Blend | J24: Mass of Air
B25: Net (Product) Enthalpy (H2O as Liquid) | C25: =K39-I39 -> 6224.6
I26: =($C$8*$J$4)+($C$9*$J$5)+(J6) -> 146.274 | J26: =$C$13*((2*$J$6)+($J$8*2*$J$7)) -> 1923.3757
B28: LHV (MJ) | C28: HHV (MJ)
B30: =C23/I26 -> 39.245526 | C30: =C25/I26 -> 42.554384 | I30: (%) Fuel mass of iso-octane | J30: (%) fuel mass of Methanol
I32: =Fuels!G21 -> 78.094535 | J32: =Fuels!H21 -> 21.905465
B33: Mass of CO2 (KG) | C33: =($C$14*($J$4+(J6*2))) -> 396.081
B35: CO2 Per Kg of Fuel | C35: =C33/I26 -> 2.7078018 | I35: Enthalpy With H2O as Gas | K35: Enthalpy With H2O as Liquid
I37: Enthalpy required for reaction (MJ) | J37: Reaction Engery (MJ) | K37: Reaction Engery (MJ)
I39: =J12+J13 -> 460.7 | J39: =((($C$14*J14)+('50% - 50%'!$C$15*J15)+('50% - 50%'!$C$16*0))) -> 6201.3 | K39: =((($C$14*$J$14)+('50% - 50%'!$C$15*$J$16)+('50% - 50%'!$C$16*0))) -> 6685.3

Sheet Task 2 & Goal seek
A1: RPM | B1: 1800 | E1: Hydrocarbon fuel balance Iso-octane | J1: Molecule | K1: Atomic weight
A2: No of Cylinders | B2: 4
A3: Displacement (cc) | B3: 1600 | E3: CxHy + A(O2+3.76 N2) = xCO2 + yH2O + 3.76 N2 | J3: Carbon | K3: 12.011
A4: Volume Per cyl (cc) | B4: =B3/B2 -> 400 | J4: Hydrogen | K4: 1.008
A5: Vc (cc) | B5: 40 | E5: molecule | F5: No of moecules | J5: oxegen | K5: 15.999
A6: Vol Effic (%) | B6: 0.4 | E6: Carbon (x) | F6: 8 | J6: Nitrogen | K6: 14.007
A7: temp (K) | B7: =20+273 -> 293 | E7: Hdrogen(Y) | F7: 18 | J7: % of N2 in Air | K7: 3.761904
A8: R | B8: 8314 | E8: oxengen | F8: 0 | J8: kmols per kg | K8: 32
A9: inlet P | B9: =1*10^5 -> 100000
A10: ZAB | B10: =4.7*10^13 -> 47000000000000 | E10: Molecular compound | J10: Compund | K10: Enthalpy of combustion
A11: EA | B11: -67837 | E11: A | F11: =(F15/2) -> 12.5 | J11: iso-octane (Kj/mol) | K11: 259.2
A12: No of kmol's drawn in at a sprcific Vc | B12: =(((10^5*($B$4*$B$6)*10^-6)/($B$8*$B$7))) -> 6.5681391e-06 | E12: CO2 | F12: =F6 -> 8 | J12: CO2 (Kj/mol) | K12: 393.5
E13: H2O | F13: =(F7/2) -> 9 | J13: H2O (Gas) (Kj/mol) | K13: 241.8
E14: N2 | F14: =F11*K7 -> 47.0238 | J14: H2O (Liquid) (Kj/mol) | K14: 285.8
E15: O | F15: =(2*F12)+F13 -> 25
E17: Masses
E19: Mass of Air | F19: =F11*((2*K5)+(K7*2*K6)) -> 1717.2997
E21: mass of fuel per Kmol (Kg) | F21: =(F6*K3)+(F7*K4) -> 114.232
M23: Goal Seek Results | Q23: Crank angle | R23: Pressure (Bar) | S23: Pressure (M) | T23: Phi | U23: Enthalpy | V23: flame Temp (k) | W23: (n) no of mols Drawn Per cycle | X23: Alpha | Y23: (n1) CO2 | Z23: (n2) H2O | AA23: (n3) O2 | AB23: (n4) N2 | AC23: (n3) O3 | AD23: (n4) N3 | AE23: Nox (kmol/deg) | AF23: Kmol/Cycle | AG23: Exhaust Kmols | AH23: NOx PPM
E24: AFR | F24: =F19/F21 -> 15.033438 | M24: Phi | N24: Enthalpy | O24: Flame Temps (K) | Q24: 0 | R24: 10 | S24: =R24*10^5 -> 1000000 | T24: 1 | U24: 5065 | V24: 2327.3884 | W24: =(((10^5*($B$4*$B$6)*10^-6)/($B$8*$B$7))) -> 6.5681391e-06 | X24: =$W$24/(T24*$F$11*((AA24/2)+3.76)) -> 1.3974764e-07 | Y24: =T24*$F$12 -> 8 | Z24: =T24*$F$13 -> 9 | AA24: =(($F$15/2)*(1-T24)) -> 0 | AB24: =$F$14 -> 47.0238 | AC24: =((AA24*X24)/($B$5*10^-6)) -> 0 | AD24: =((AB24*X24)/($B$5*10^-6)) -> 0.16428663 | AE24: =((4.7*10^13*AD24*(AC24^0.5)*EXP($B$11/V24))/($B$1*6))*$B$5*10^-6 -> 0
M25: 1 | N25: 5065 | O25: 2390.3031 | Q25: 1 | R25: =R24+2 -> 12 | S25: =R25*10^5 -> 1200000 | T25: 0.99 | U25: =(((Y25*$K$12)+(Z25*$K$13)+($F$14*0)))-$A$30 -> 5011.758 | V25: 2322.5378 | W25: =(((10^5*($B$4*$B$6)*10^-6)/($B$8*$B$7))) -> 6.5681391e-06 | X25: =$W$24/(T25*$F$11*((AA25/2)+3.76)) -> 1.388512e-07 | Y25: =T25*$F$12 -> 7.92 | Z25: =T25*$F$13 -> 8.91 | AA25: =(($F$15/2)*(1-T25)) -> 0.125 | AB25: =$F$14 -> 47.0238 | AC25: =((AA25*X25)/($B$5*10^-6)) -> 0.00043391 | AD25: =((AB25*X25)/($B$5*10^-6)) -> 0.16323278 | AE25: =((4.7*10^13*AD25*(AC25^0.5)*EXP($B$11/V25))/($B$1*6))*$B$5*10^-6 -> 1.2226696e-10
A26: Enthalpy | C26: Enthalpy With H2O as Liquid | M26: 0.99 | N26: 5011.758 | O26: 2373.8991 | Q26: 2 | R26: =R25+2 -> 14 | S26: =R26*10^5 -> 1400000 | T26: 0.98 | U26: =(((Y26*$K$12)+(Z26*$K$13)+($F$14*0)))-$A$30 -> 4958.516 | V26: 2295.6162 | W26: =(((10^5*($B$4*$B$6)*10^-6)/($B$8*$B$7))) -> 6.5681391e-06 | X26: =$W$24/(T26*$F$11*((AA26/2)+3.76)) -> 1.3801149e-07 | Y26: =T26*$F$12 -> 7.84 | Z26: =T26*$F$13 -> 8.82 | AA26: =(($F$15/2)*(1-T26)) -> 0.25 | AB26: =$F$14 -> 47.0238 | AC26: =((AA26*X26)/($B$5*10^-6)) -> 0.00086257178 | AD26: =((AB26*X26)/($B$5*10^-6)) -> 0.16224561 | AE26: =((4.7*10^13*AD26*(AC26^0.5)*EXP($B$11/V26))/($B$1*6))*$B$5*10^-6 -> 1.2164976e-10
E27: Energy output per mol burnt (H2O Gas) | F27: =B30-A30 -> 5065 | I27: iso octane Goal seek Olynomial Equation | M27: 0.98 | N27: 4958.516 | O27: 2357.4217 | Q27: 3 | R27: =R26+2 -> 16 | S27: =R27*10^5 -> 1600000 | T27: 0.97 | U27: =(((Y27*$K$12)+(Z27*$K$13)+($F$14*0)))-$A$30 -> 4905.274 | V27: 2279.6027 | W27: =(((10^5*($B$4*$B$6)*10^-6)/($B$8*$B$7))) -> 6.5681391e-06 | X27: =$W$24/(T27*$F$11*((AA27/2)+3.76)) -> 1.3722665e-07 | Y27: =T27*$F$12 -> 7.76 | Z27: =T27*$F$13 -> 8.73 | AA27: =(($F$15/2)*(1-T27)) -> 0.375 | AB27: =$F$14 -> 47.0238 | AC27: =((AA27*X27)/($B$5*10^-6)) -> 0.0012864998 | AD27: =((AB27*X27)/($B$5*10^-6)) -> 0.16132296 | AE27: =((4.7*10^13*AD27*(AC27^0.5)*EXP($B$11/V27))/($B$1*6))*$B$5*10^-6 -> 1.2002974e-10
A28: Product Energy (MJ) | B28: Reaction Engery (MJ) | C28: Reaction Engery (MJ) | I28: (8ϕ x Poly CO2 )+ (9ϕ x Poly H20) + (A(1-ϕ) Poly O2) + (47 N2) | M28: 0.97 | N28: 4905.274 | O28: 2340.8652 | Q28: 4 | R28: =R27+2 -> 18 | S28: =R28*10^5 -> 1800000 | T28: 0.96 | U28: =(((Y28*$K$12)+(Z28*$K$13)+($F$14*0)))-$A$30 -> 4852.032 | V28: 2263.5075 | W28: =(((10^5*($B$4*$B$6)*10^-6)/($B$8*$B$7))) -> 6.5681391e-06 | X28: =$W$24/(T28*$F$11*((AA28/2)+3.76)) -> 1.3649499e-07 | Y28: =T28*$F$12 -> 7.68 | Z28: =T28*$F$13 -> 8.64 | AA28: =(($F$15/2)*(1-T28)) -> 0.5 | AB28: =$F$14 -> 47.0238 | AC28: =((AA28*X28)/($B$5*10^-6)) -> 0.0017061874 | AD28: =((AB28*X28)/($B$5*10^-6)) -> 0.16046283 | AE28: =((4.7*10^13*AD28*(AC28^0.5)*EXP($B$11/V28))/($B$1*6))*$B$5*10^-6 -> 1.1126984e-10
E29: Energy output per mol burnt (H20 Liquid) | F29: =C30-A30 -> 5461 | M29: 0.96 | N29: 4852.032 | O29: 2324.2345 | Q29: 5 | R29: =R28+2 -> 20 | S29: =R29*10^5 -> 2000000 | T29: 0.95 | U29: =(((Y29*$K$12)+(Z29*$K$13)+($F$14*0)))-$A$30 -> 4798.79 | V29: 2247.3249 | W29: =(((10^5*($B$4*$B$6)*10^-6)/($B$8*$B$7))) -> 6.5681391e-06 | X29: =$W$24/(T29*$F$11*((AA29/2)+3.76)) -> 1.3581497e-07 | Y29: =T29*$F$12 -> 7.6 | Z29: =T29*$F$13 -> 8.55 | AA29: =(($F$15/2)*(1-T29)) -> 0.625 | AB29: =$F$14 -> 47.0238 | AC29: =((AA29*X29)/($B$5*10^-6)) -> 0.0021221089 | AD29: =((AB29*X29)/($B$5*10^-6)) -> 0.1596634 | AE29: =((4.7*10^13*AD29*(AC29^0.5)*EXP($B$11/V29))/($B$1*6))*$B$5*10^-6 -> 9.9507336e-11
A30: =K11 -> 259.2 | B30: =(((F12*K12)+(F13*K13)+(F14*0))) -> 5324.2 | C30: =(((F12*K12)+(F13*K14)+(F14*0))) -> 5720.2 | H30: Eq Ratio | I30: 0.97 | M30: 0.95 | N30: 4798.79 | O30: 2307.5237 | Q30: 6 | R30: =R29+2 -> 22 | S30: =R30*10^5 -> 2200000 | T30: 0.9 | U30: =(((Y30*$K$12)+(Z30*$K$13)+($F$14*0)))-$A$30 -> 4532.58 | V30: 2165.0278 | W30: =(((10^5*($B$4*$B$6)*10^-6)/($B$8*$B$7))) -> 6.5681391e-06 | X30: =$W$24/(T30*$F$11*((AA30/2)+3.76)) -> 1.3314358e-07 | Y30: =T30*$F$12 -> 7.2 | Z30: =T30*$F$13 -> 8.1 | AA30: =(($F$15/2)*(1-T30)) -> 1.25 | AB30: =$F$14 -> 47.0238 | AC30: =((AA30*X30)/($B$5*10^-6)) -> 0.0041607368 | AD30: =((AB30*X30)/($B$5*10^-6)) -> 0.15652292 | AE30: =((4.7*10^13*AD30*(AC30^0.5)*EXP($B$11/V30))/($B$1*6))*$B$5*10^-6 -> 4.3362222e-11
M31: 0.9 | N31: 4532.58 | O31: 2222.6845 | Q31: 7 | R31: =R30+2 -> 24 | S31: =R31*10^5 -> 2400000 | T31: 0.85 | U31: =(((Y31*$K$12)+(Z31*$K$13)+($F$14*0)))-$A$30 -> 4266.37 | V31: 2080.2455 | W31: =(((10^5*($B$4*$B$6)*10^-6)/($B$8*$B$7))) -> 6.5681391e-06 | X31: =$W$24/(T31*$F$11*((AA31/2)+3.76)) -> 1.3159719e-07 | Y31: =T31*$F$12 -> 6.8 | Z31: =T31*$F$13 -> 7.65 | AA31: =(($F$15/2)*(1-T31)) -> 1.875 | AB31: =$F$14 -> 47.0238 | AC31: =((AA31*X31)/($B$5*10^-6)) -> 0.0061686183 | AD31: =((AB31*X31)/($B$5*10^-6)) -> 0.154705 | AE31: =((4.7*10^13*AD31*(AC31^0.5)*EXP($B$11/V31))/($B$1*6))*$B$5*10^-6 -> 1.4552868e-11
M32: 0.85 | N32: 4266.37 | O32: 2135.4958 | Q32: 8 | R32: =R31+2 -> 26 | S32: =R32*10^5 -> 2600000 | T32: 0.8 | U32: =(((Y32*$K$12)+(Z32*$K$13)+($F$14*0)))-$A$30 -> 4000.16 | V32: 1992.7424 | W32: =(((10^5*($B$4*$B$6)*10^-6)/($B$8*$B$7))) -> 6.5681391e-06 | X32: =$W$24/(T32*$F$11*((AA32/2)+3.76)) -> 1.3110058e-07 | Y32: =T32*$F$12 -> 6.4 | Z32: =T32*$F$13 -> 7.2 | AA32: =(($F$15/2)*(1-T32)) -> 2.5 | AB32: =$F$14 -> 47.0238 | AC32: =((AA32*X32)/($B$5*10^-6)) -> 0.0081937863 | AD32: =((AB32*X32)/($B$5*10^-6)) -> 0.15412119 | AE32: =((4.7*10^13*AD32*(AC32^0.5)*EXP($B$11/V32))/($B$1*6))*$B$5*10^-6 -> 3.9909161e-12
H33: Goal Seek | M33: 0.8 | N33: 4000.16 | O33: 2045.6734 | Q33: 9 | R33: =R32+2 -> 28 | S33: =R33*10^5 -> 2800000 | T33: 0.75 | U33: =(((Y33*$K$12)+(Z33*$K$13)+($F$14*0)))-$A$30 -> 3733.95 | V33: 1902.3214 | W33: =(((10^5*($B$4*$B$6)*10^-6)/($B$8*$B$7))) -> 6.5681391e-06 | X33: =$W$24/(T33*$F$11*((AA33/2)+3.76)) -> 1.3163016e-07 | Y33: =T33*$F$12 -> 6 | Z33: =T33*$F$13 -> 6.75 | AA33: =(($F$15/2)*(1-T33)) -> 3.125 | AB33: =$F$14 -> 47.0238 | AC33: =((AA33*X33)/($B$5*10^-6)) -> 0.010283606 | AD33: =((AB33*X33)/($B$5*10^-6)) -> 0.15474375 | AE33: =((4.7*10^13*AD33*(AC33^0.5)*EXP($B$11/V33))/($B$1*6))*$B$5*10^-6 -> 8.9007986e-13
M34: 0.75 | N34: 3733.95 | O34: 1952.9587 | Q34: 10 | R34: =R33+2 -> 30 | S34: =R34*10^5 -> 3000000 | T34: 0.7 | U34: =(((Y34*$K$12)+(Z34*$K$13)+($F$14*0)))-$A$30 -> 3467.74 | V34: 1808.8507 | W34: =(((10^5*($B$4*$B$6)*10^-6)/($B$8*$B$7))) -> 6.5681391e-06 | X34: =$W$24/(T34*$F$11*((AA34/2)+3.76)) -> 1.3321109e-07 | Y34: =T34*$F$12 -> 5.6 | Z34: =T34*$F$13 -> 6.3 | AA34: =(($F$15/2)*(1-T34)) -> 3.75 | AB34: =$F$14 -> 47.0238 | AC34: =((AA34*X34)/($B$5*10^-6)) -> 0.012488539 | AD34: =((AB34*X34)/($B$5*10^-6)) -> 0.15660229 | AE34: =((4.7*10^13*AD34*(AC34^0.5)*EXP($B$11/V34))/($B$1*6))*$B$5*10^-6 -> 1.572247e-13
E35: LHV | F35: =F27/F21 -> 44.33959 | H35: Flame Temprature | J35: 2340.8652 | M35: 0.7 | N35: 3467.74 | O35: 1857.1459 | Q35: 11 | R35: =R34+2 -> 32 | S35: =R35*10^5 -> 3200000 | T35: 0.65 | U35: =(((Y35*$K$12)+(Z35*$K$13)+($F$14*0)))-$A$30 -> 3201.53 | V35: 1712.2911 | W35: =(((10^5*($B$4*$B$6)*10^-6)/($B$8*$B$7))) -> 6.5681391e-06 | X35: =$W$24/(T35*$F$11*((AA35/2)+3.76)) -> 1.3592036e-07 | Y35: =T35*$F$12 -> 5.2 | Z35: =T35*$F$13 -> 5.85 | AA35: =(($F$15/2)*(1-T35)) -> 4.375 | AB35: =$F$14 -> 47.0238 | AC35: =((AA35*X35)/($B$5*10^-6)) -> 0.01486629 | AD35: =((AB35*X35)/($B$5*10^-6)) -> 0.1597873 | AE35: =((4.7*10^13*AD35*(AC35^0.5)*EXP($B$11/V35))/($B$1*6))*$B$5*10^-6 -> 2.1117272e-14
M36: 0.65 | N36: 3201.53 | O36: 1758.1155 | Q36: 12 | R36: =R35+2 -> 34 | S36: =R36*10^5 -> 3400000 | T36: 0.6 | U36: =(((Y36*$K$12)+(Z36*$K$13)+($F$14*0)))-$A$30 -> 2935.32 | V36: 1612.7439 | W36: =(((10^5*($B$4*$B$6)*10^-6)/($B$8*$B$7))) -> 6.5681391e-06 | X36: =$W$24/(T36*$F$11*((AA36/2)+3.76)) -> 1.3989647e-07 | Y36: =T36*$F$12 -> 4.8 | Z36: =T36*$F$13 -> 5.4 | AA36: =(($F$15/2)*(1-T36)) -> 5 | AB36: =$F$14 -> 47.0238 | AC36: =((AA36*X36)/($B$5*10^-6)) -> 0.017487058 | AD36: =((AB36*X36)/($B$5*10^-6)) -> 0.16446159 | AE36: =((4.7*10^13*AD36*(AC36^0.5)*EXP($B$11/V36))/($B$1*6))*$B$5*10^-6 -> 2.0435583e-15
E37: HHV | F37: =F29/F21 -> 47.806219 | H37: Polynomial | J37: =($F$12*$I$30*( 8.5770134353E-19*$J$35^6 - 1.0374875556E-14*$J$35^5 + 4.9689475953E-11*$J$35^4 - 0.00000012019118054*$J$35^3 + 0.00015650954893*$J$35^2 - 0.048239362033*$J$35 + 5.2084519626) + ($F$13*$I$30*(6.6506859177E-19*$J$35^6 - 7.8984343104E-15*$J$35^5 + 3.6879849877E-11*$J$35^4 - 0.000000086386228559*$J$35^3 + 0.00011074017861*$J$35^2 - 0.031241611608*$J$35 + 3.3006694533) + ($F$14*(5.9376621671E-19*$J$35^6 - 7.1020711589E-15*$J$35^5 + 3.3460896805E-11*$J$35^4 - 0.000000078909601634*$J$35^3 + 0.000098599769212*$J$35^2 - 0.028172899156*$J$35 + 3.05378908) + ($F$11*(1-I30)*(6.4958291549E-19*$J$35^6 - 7.8224528491E-15*$J$35^5 + 3.7120417697E-11*$J$35^4 - 0.00000008798317617*$J$35^3 + 0.00010982327235*$J$35^2 - 0.032606444641*$J$35 + 3.5786489003))))) -> 4905.27 | M37: 0.6 | N37: 2935.32 | O37: 1655.8693
E40: Mass of CO2 | F40: =(F12*(K3+(K5*2))) -> 352.072
E42: CO2 Per Kg of Fuel | F42: =F40/F21 -> 3.0820786
B45: Phi | C45: Enthalpy | D45: (n1) CO2 | E45: (n2) H2O | F45: (n3) O2 | G45: (n4) N2 | H45: Alpha | I45: Flame Temp | J45: [O2] | K45: [N2] | L45: Nox (kmol/deg) | M45: Kmol/Cycle | N45: Exhaust Kmols | O45: NOx PPM
B46: 1 | C46: 5065 | D46: =B46*$F$12 -> 8 | E46: =B46*$F$13 -> 9 | F46: =(($F$15/2)*(1-B46)) -> 0 | G46: =$F$14 -> 47.0238 | H46: =$B$12/(B46*$F$11*((1+3.76))) -> 1.1038889e-07 | I46: 2390.3031 | J46: =((F46*H46)/($B$5*10^-6)) -> 0 | K46: =((G46*H46)/($B$5*10^-6)) -> 0.12977263 | L46: =((4.7*10^13*K46*(J46^0.5)*EXP($B$11/(B8*I46)))/($B$1*6))*$B$5*10^-6 -> 0 | M46: =' NOx PPM'!AD5 -> 0 | N46: =H46*(D46+E46+F46+G46) -> 7.0675164e-06 | O46: =M46/N46*10^6 -> 0
B47: 0.99 | C47: =(((D47*$K$12)+(E47*$K$13)+($G$47*0)))-$A$30 -> 5011.758 | D47: =B47*$D$46 -> 7.92 | E47: =B47*$F$13 -> 8.91 | F47: =(($F$15/2)*(1-B47)) -> 0.125 | G47: =$F$14 -> 47.0238 | H47: =$B$12/(B47*$F$11*((1+3.76))) -> 1.1150393e-07 | I47: 2373.8991 | J47: =((F47*H47)/($B$5*10^-6)) -> 0.00034844979 | K47: =((G47*H47)/($B$5*10^-6)) -> 0.13108346 | L47: =((4.7*10^13*K47*(J47^0.5)*EXP($B$11/I47))/($B$1*6))*$B$5*10^-6 -> 1.6552702e-10 | M47: =' NOx PPM'!AD27 -> 2.0920718e-07 | N47: =H47*(D47+E47+F47+G47) -> 7.1338878e-06 | O47: =M47/N47*10^6 -> 29325.83
B48: 0.98 | C48: =(((D48*$K$12)+(E48*$K$13)+($G$47*0)))-$A$30 -> 4958.516 | D48: =B48*$D$46 -> 7.84 | E48: =B48*$F$13 -> 8.82 | F48: =(($F$15/2)*(1-B48)) -> 0.25 | G48: =$F$14 -> 47.0238 | H48: =$B$12/(B48*$F$11*((1+3.76))) -> 1.1264173e-07 | I48: 2357.4217 | J48: =((F48*H48)/($B$5*10^-6)) -> 0.00070401079 | K48: =((G48*H48)/($B$5*10^-6)) -> 0.13242105 | L48: =((4.7*10^13*K48*(J48^0.5)*EXP($B$11/I48))/($B$1*6))*$B$5*10^-6 -> 1.9464971e-10 | M48: =' NOx PPM'!AD49 -> 2.4784541e-07 | N48: =H48*(D48+E48+F48+G48) -> 7.2016137e-06 | O48: =M48/N48*10^6 -> 34415.26
B49: 0.97 | C49: =(((D49*$K$12)+(E49*$K$13)+($G$47*0)))-$A$30 -> 4905.274 | D49: =B49*$D$46 -> 7.76 | E49: =B49*$F$13 -> 8.73 | F49: =(($F$15/2)*(1-B49)) -> 0.375 | G49: =$F$14 -> 47.0238 | H49: =$B$12/(B49*$F$11*((1+3.76))) -> 1.1380298e-07 | I49: 2340.8652 | J49: =((F49*H49)/($B$5*10^-6)) -> 0.001066903 | K49: =((G49*H49)/($B$5*10^-6)) -> 0.13378622 | L49: =((4.7*10^13*K49*(J49^0.5)*EXP($B$11/I49))/($B$1*6))*$B$5*10^-6 -> 1.9751042e-10 | M49: =' NOx PPM'!AD71 -> 2.5361742e-07 | N49: =H49*(D49+E49+F49+G49) -> 7.270736e-06 | O49: =M49/N49*10^6 -> 34881.946
...

Sheet  NOx PPM
F1: Hydrocarbon fuel balance Iso-octane | K1: Molecule | L1: Atomic weight
B2: No of Cylinders | C2: 4 | R2: Phi | T2: 1 | AI2: Phi | AK2: 0.9
B3: Displacement (cc) | C3: 1600 | F3: CxHy + A(O2+3.76 N2) = xCO2 + yH2O + 3.76 N2 | K3: Carbon | L3: 12.011
B4: Volume Per cyl (cc) | C4: =C3/C2 -> 400 | K4: Hydrogen | L4: 1.008 | R4: Crank angle | S4: Pressure (Bar) | T4: Temp (k) | U4: Nox (kmol/deg) | V4: (n) no of mols Drawn Per cycle | W4: Alpha | X4: (n1) CO2 | Y4: (n2) H2O | Z4: (n3) O2 | AA4: (n4) N2 | AB4: [O2] | AC4: [N2] | AD4: sum of Nox Kmol/Cycle | AE4: Exhaust Kmols | AF4: NOx PPM | AI4: Crank angle | AJ4: Pressure (Bar) | AK4: Temp (k) | AL4: Nox (kmol/deg) | AM4: (n) no of mols Drawn Per cycle | AN4: Alpha | AO4: (n1) CO2 | AP4: (n2) H2O | AQ4: (n3) O2 | AR4: (n4) N2 | AS4: [O2] | AT4: [N2] | AU4: sum of Nox Kmol/Cycle | AV4: Exhaust Kmols | AW4: NOx PPM
B5: Vc (cc) | C5: 40 | F5: molecule | G5: No of moecules | K5: oxegen | L5: 15.999 | R5: 0 | S5: 10 | T5: 2390.3031 | U5: =((4.7*10^13*AC5*(AB5^0.5)*EXP($C$11/T5))/($C$14*6))*$C$5*10^-6 -> 0 | V5: =(((10^5*($C$4*$C$6)*10^-6)/($C$8*$C$7))) -> 6.5681391e-06 | W5: =V5/($T$2*$G$11*((Z5/2)+3.76)) -> 1.3974764e-07 | X5: =$T$2*$G$12 -> 8 | Y5: =$T$2*$G$13 -> 9 | Z5: =(($G$15/2)*(1-$T$2)) -> 0 | AA5: =$G$14 -> 47.0238 | AB5: =((Z5*W5)/($C$5*10^-6)) -> 0 | AC5: =((AA5*W5)/($C$5*10^-6)) -> 0.16428663 | AD5: =SUM($U$5:$U$20) -> 0 | AE5: =W5*(X5+Y5+Z5+AA5) -> 8.947175e-06 | AF5: =(AD5/AE5)*10^6 -> 0 | AI5: 0 | AJ5: 10 | AK5: 2222.6845 | AL5: =((4.7*10^13*AT5*(AS5^0.5)*EXP($C$11/AK5))/($C$14*6))*$C$5*10^-6 -> 9.7745904e-11 | AM5: =(((10^5*($C$4*$C$6)*10^-6)/($C$8*$C$7))) -> 6.5681391e-06 | AN5: =AM5/($AK$2*$G$11*((AQ5/2)+3.76)) -> 1.3314358e-07 | AO5: =$AK$2*$G$12 -> 7.2 | AP5: =$AK$2*$G$13 -> 8.1 | AQ5: =(($G$15/2)*(1-$AK$2)) -> 1.25 | AR5: =$G$14 -> 47.0238 | AS5: =((AQ5*AN5)/($C$5*10^-6)) -> 0.0041607368 | AT5: =((AR5*AN5)/($C$5*10^-6)) -> 0.15652292 | AU5: =SUM($AL$5:$AL$20) -> 1.2122137e-07 | AV5: =AN5*(AO5+AP5+AQ5+AR5) -> 8.4644432e-06 | AW5: =(AU5/AV5)*10^6 -> 14321.245
B6: Vol Effic (%) | C6: 0.4 | F6: Carbon (x) | G6: 8 | K6: Nitrogen | L6: 14.007 | R6: 1 | S6: =S5+2 -> 12 | T6: =(T5*((S6/S5)^(($C$13-1)/$C$13))) -> 2454.4713 | U6: =((4.7*10^13*AC6*(AB6^0.5)*EXP($C$11/T6))/($C$14*6))*$C$5*10^-6 -> 0 | V6: =(((10^5*($C$4*$C$6)*10^-6)/($C$8*$C$7))) -> 6.5681391e-06 | W6: =V6/($T$2*$G$11*((Z6/2)+3.76)) -> 1.3974764e-07 | X6: =$T$2*$G$12 -> 8 | Y6: =$T$2*$G$13 -> 9 | Z6: =(($G$15/2)*(1-$T$2)) -> 0 | AA6: =$G$14 -> 47.0238 | AB6: =((Z6*W6)/($C$5*10^-6)) -> 0 | AC6: =((AA6*W6)/($C$5*10^-6)) -> 0.16428663 | AD6: =SUM($U$5:$U$20) -> 0 | AE6: =W6*(X6+Y6+Z6+AA6) -> 8.947175e-06 | AF6: =(AD6/AE6)*10^6 -> 0 | AI6: 1 | AJ6: =AJ5+2 -> 12 | AK6: =(AK5*(($S6/$S5)^(($C$13-1)/$C$13))) -> 2282.3528 | AL6: =((4.7*10^13*AT6*(AS6^0.5)*EXP(-67837/(AK6)))/($C$15))*$C$5*10^-6 -> 2.1708182e-10 | AM6: =(((10^5*($C$4*$C$6)*10^-6)/($C$8*$C$7))) -> 6.5681391e-06 | AN6: =AM6/($AK$2*$G$11*((AQ6/2)+3.76)) -> 1.3314358e-07 | AO6: =$AK$2*$G$12 -> 7.2 | AP6: =$AK$2*$G$13 -> 8.1 | AQ6: =(($G$15/2)*(1-$AK$2)) -> 1.25 | AR6: =$G$14 -> 47.0238 | AS6: =((AQ6*AN6)/($C$5*10^-6)) -> 0.0041607368 | AT6: =((AR6*AN6)/($C$5*10^-6)) -> 0.15652292 | AU6: =SUM($AL$5:$AL$20) -> 1.2122137e-07 | AV6: =AN6*(AO6+AP6+AQ6+AR6) -> 8.4644432e-06 | AW6: =(AU6/AV6)*10^6 -> 14321.245
B7: temp (K) | C7: =20+273 -> 293 | F7: Hdrogen(Y) | G7: 18 | K7: % of N2 in Air | L7: 3.761904 | R7: 2 | S7: =S6+2 -> 14 | T7: =(T6*((S7/S6)^(($C$13-1)/$C$13))) -> 2510.0667 | U7: =((4.7*10^13*AC7*(AB7^0.5)*EXP($C$11/T7))/($C$14*6))*$C$5*10^-6 -> 0 | V7: =(((10^5*($C$4*$C$6)*10^-6)/($C$8*$C$7))) -> 6.5681391e-06 | W7: =V7/($T$2*$G$11*((Z7/2)+3.76)) -> 1.3974764e-07 | X7: =$T$2*$G$12 -> 8 | Y7: =$T$2*$G$13 -> 9 | Z7: =(($G$15/2)*(1-$T$2)) -> 0 | AA7: =$G$14 -> 47.0238 | AB7: =((Z7*W7)/($C$5*10^-6)) -> 0 | AC7: =((AA7*W7)/($C$5*10^-6)) -> 0.16428663 | AD7: =SUM($U$5:$U$20) -> 0 | AE7: =W7*(X7+Y7+Z7+AA7) -> 8.947175e-06 | AF7: =(AD7/AE7)*10^6 -> 0 | AI7: 2 | AJ7: =AJ6+2 -> 14 | AK7: =(AK6*(($S7/$S6)^(($C$13-1)/$C$13))) -> 2334.0497 | AL7: =((4.7*10^13*AT7*(AS7^0.5)*EXP(-67837/(AK7)))/($C$15))*$C$5*10^-6 -> 4.1930369e-10 | AM7: =(((10^5*($C$4*$C$6)*10^-6)/($C$8*$C$7))) -> 6.5681391e-06 | AN7: =AM7/($AK$2*$G$11*((AQ7/2)+3.76)) -> 1.3314358e-07 | AO7: =$AK$2*$G$12 -> 7.2 | AP7: =$AK$2*$G$13 -> 8.1 | AQ7: =(($G$15/2)*(1-$AK$2)) -> 1.25 | AR7: =$G$14 -> 47.0238 | AS7: =((AQ7*AN7)/($C$5*10^-6)) -> 0.0041607368 | AT7: =((AR7*AN7)/($C$5*10^-6)) -> 0.15652292 | AU7: =SUM($AL$5:$AL$20) -> 1.2122137e-07 | AV7: =AN7*(AO7+AP7+AQ7+AR7) -> 8.4644432e-06 | AW7: =(AU7/AV7)*10^6 -> 14321.245
B8: R | C8: 8314 | F8: oxengen | G8: 0 | K8: kmols per kg | L8: 32 | R8: 3 | S8: =S7+2 -> 16 | T8: =(T7*((S8/S7)^(($C$13-1)/$C$13))) -> 2559.2425 | U8: =((4.7*10^13*AC8*(AB8^0.5)*EXP($C$11/T8))/($C$14*6))*$C$5*10^-6 -> 0 | V8: =(((10^5*($C$4*$C$6)*10^-6)/($C$8*$C$7))) -> 6.5681391e-06 | W8: =V8/($T$2*$G$11*((Z8/2)+3.76)) -> 1.3974764e-07 | X8: =$T$2*$G$12 -> 8 | Y8: =$T$2*$G$13 -> 9 | Z8: =(($G$15/2)*(1-$T$2)) -> 0 | AA8: =$G$14 -> 47.0238 | AB8: =((Z8*W8)/($C$5*10^-6)) -> 0 | AC8: =((AA8*W8)/($C$5*10^-6)) -> 0.16428663 | AD8: =SUM($U$5:$U$20) -> 0 | AE8: =W8*(X8+Y8+Z8+AA8) -> 8.947175e-06 | AF8: =(AD8/AE8)*10^6 -> 0 | AI8: 3 | AJ8: =AJ7+2 -> 16 | AK8: =(AK7*(($S8/$S7)^(($C$13-1)/$C$13))) -> 2379.777 | AL8: =((4.7*10^13*AT8*(AS8^0.5)*EXP(-67837/(AK8)))/($C$15))*$C$5*10^-6 -> 7.3293821e-10 | AM8: =(((10^5*($C$4*$C$6)*10^-6)/($C$8*$C$7))) -> 6.5681391e-06 | AN8: =AM8/($AK$2*$G$11*((AQ8/2)+3.76)) -> 1.3314358e-07 | AO8: =$AK$2*$G$12 -> 7.2 | AP8: =$AK$2*$G$13 -> 8.1 | AQ8: =(($G$15/2)*(1-$AK$2)) -> 1.25 | AR8: =$G$14 -> 47.0238 | AS8: =((AQ8*AN8)/($C$5*10^-6)) -> 0.0041607368 | AT8: =((AR8*AN8)/($C$5*10^-6)) -> 0.15652292 | AU8: =SUM($AL$5:$AL$20) -> 1.2122137e-07 | AV8: =AN8*(AO8+AP8+AQ8+AR8) -> 8.4644432e-06 | AW8: =(AU8/AV8)*10^6 -> 14321.245
B9: inlet P | C9: =1*10^5 -> 100000 | R9: 4 | S9: =S8+2 -> 18 | T9: =(T8*((S9/S8)^(($C$13-1)/$C$13))) -> 2603.4177 | U9: =((4.7*10^13*AC9*(AB9^0.5)*EXP($C$11/T9))/($C$14*6))*$C$5*10^-6 -> 0 | V9: =(((10^5*($C$4*$C$6)*10^-6)/($C$8*$C$7))) -> 6.5681391e-06 | W9: =V9/($T$2*$G$11*((Z9/2)+3.76)) -> 1.3974764e-07 | X9: =$T$2*$G$12 -> 8 | Y9: =$T$2*$G$13 -> 9 | Z9: =(($G$15/2)*(1-$T$2)) -> 0 | AA9: =$G$14 -> 47.0238 | AB9: =((Z9*W9)/($C$5*10^-6)) -> 0 | AC9: =((AA9*W9)/($C$5*10^-6)) -> 0.16428663 | AD9: =SUM($U$5:$U$20) -> 0 | AE9: =W9*(X9+Y9+Z9+AA9) -> 8.947175e-06 | AF9: =(AD9/AE9)*10^6 -> 0 | AI9: 4 | AJ9: =AJ8+2 -> 18 | AK9: =(AK8*(($S9/$S8)^(($C$13-1)/$C$13))) -> 2420.8545 | AL9: =((4.7*10^13*AT9*(AS9^0.5)*EXP(-67837/(AK9)))/($C$15))*$C$5*10^-6 -> 1.188859e-09 | AM9: =(((10^5*($C$4*$C$6)*10^-6)/($C$8*$C$7))) -> 6.5681391e-06 | AN9: =AM9/($AK$2*$G$11*((AQ9/2)+3.76)) -> 1.3314358e-07 | AO9: =$AK$2*$G$12 -> 7.2 | AP9: =$AK$2*$G$13 -> 8.1 | AQ9: =(($G$15/2)*(1-$AK$2)) -> 1.25 | AR9: =$G$14 -> 47.0238 | AS9: =((AQ9*AN9)/($C$5*10^-6)) -> 0.0041607368 | AT9: =((AR9*AN9)/($C$5*10^-6)) -> 0.15652292 | AU9: =SUM($AL$5:$AL$20) -> 1.2122137e-07 | AV9: =AN9*(AO9+AP9+AQ9+AR9) -> 8.4644432e-06 | AW9: =(AU9/AV9)*10^6 -> 14321.245
B10: ZAB | C10: =4.7*10^13 -> 47000000000000 | F10: Molecular compound | K10: Compund | L10: Enthalpy of combustion | R10: 5 | S10: =S9+2 -> 20 | T10: =(T9*((S10/S9)^(($C$13-1)/$C$13))) -> 2643.5796 | U10: =((4.7*10^13*AC10*(AB10^0.5)*EXP($C$11/T10))/($C$14*6))*$C$5*10^-6 -> 0 | V10: =(((10^5*($C$4*$C$6)*10^-6)/($C$8*$C$7))) -> 6.5681391e-06 | W10: =V10/($T$2*$G$11*((Z10/2)+3.76)) -> 1.3974764e-07 | X10: =$T$2*$G$12 -> 8 | Y10: =$T$2*$G$13 -> 9 | Z10: =(($G$15/2)*(1-$T$2)) -> 0 | AA10: =$G$14 -> 47.0238 | AB10: =((Z10*W10)/($C$5*10^-6)) -> 0 | AC10: =((AA10*W10)/($C$5*10^-6)) -> 0.16428663 | AD10: =SUM($U$5:$U$20) -> 0 | AE10: =W10*(X10+Y10+Z10+AA10) -> 8.947175e-06 | AF10: =(AD10/AE10)*10^6 -> 0 | AI10: 5 | AJ10: =AJ9+2 -> 20 | AK10: =(AK9*(($S10/$S9)^(($C$13-1)/$C$13))) -> 2458.2 | AL10: =((4.7*10^13*AT10*(AS10^0.5)*EXP(-67837/(AK10)))/($C$15))*$C$5*10^-6 -> 1.8197679e-09 | AM10: =(((10^5*($C$4*$C$6)*10^-6)/($C$8*$C$7))) -> 6.5681391e-06 | AN10: =AM10/($AK$2*$G$11*((AQ10/2)+3.76)) -> 1.3314358e-07 | AO10: =$AK$2*$G$12 -> 7.2 | AP10: =$AK$2*$G$13 -> 8.1 | AQ10: =(($G$15/2)*(1-$AK$2)) -> 1.25 | AR10: =$G$14 -> 47.0238 | AS10: =((AQ10*AN10)/($C$5*10^-6)) -> 0.0041607368 | AT10: =((AR10*AN10)/($C$5*10^-6)) -> 0.15652292 | AU10: =SUM($AL$5:$AL$20) -> 1.2122137e-07 | AV10: =AN10*(AO10+AP10+AQ10+AR10) -> 8.4644432e-06 | AW10: =(AU10/AV10)*10^6 -> 14321.245
B11: EA | C11: -67837 | F11: A | G11: =(G15/2) -> 12.5 | K11: iso-octane (Kj/mol) | L11: 259.2 | R11: 6 | S11: =S10+2 -> 22 | T11: =(T10*((S11/S10)^(($C$13-1)/$C$13))) -> 2680.4438 | U11: =((4.7*10^13*AC11*(AB11^0.5)*EXP($C$11/T11))/($C$14*6))*$C$5*10^-6 -> 0 | V11: =(((10^5*($C$4*$C$6)*10^-6)/($C$8*$C$7))) -> 6.5681391e-06 | W11: =V11/($T$2*$G$11*((Z11/2)+3.76)) -> 1.3974764e-07 | X11: =$T$2*$G$12 -> 8 | Y11: =$T$2*$G$13 -> 9 | Z11: =(($G$15/2)*(1-$T$2)) -> 0 | AA11: =$G$14 -> 47.0238 | AB11: =((Z11*W11)/($C$5*10^-6)) -> 0 | AC11: =((AA11*W11)/($C$5*10^-6)) -> 0.16428663 | AD11: =SUM($U$5:$U$20) -> 0 | AE11: =W11*(X11+Y11+Z11+AA11) -> 8.947175e-06 | AF11: =(AD11/AE11)*10^6 -> 0 | AI11: 6 | AJ11: =AJ10+2 -> 22 | AK11: =(AK10*(($S11/$S10)^(($C$13-1)/$C$13))) -> 2492.4792 | AL11: =((4.7*10^13*AT11*(AS11^0.5)*EXP(-67837/(AK11)))/($C$15))*$C$5*10^-6 -> 2.6597728e-09 | AM11: =(((10^5*($C$4*$C$6)*10^-6)/($C$8*$C$7))) -> 6.5681391e-06 | AN11: =AM11/($AK$2*$G$11*((AQ11/2)+3.76)) -> 1.3314358e-07 | AO11: =$AK$2*$G$12 -> 7.2 | AP11: =$AK$2*$G$13 -> 8.1 | AQ11: =(($G$15/2)*(1-$AK$2)) -> 1.25 | AR11: =$G$14 -> 47.0238 | AS11: =((AQ11*AN11)/($C$5*10^-6)) -> 0.0041607368 | AT11: =((AR11*AN11)/($C$5*10^-6)) -> 0.15652292 | AU11: =SUM($AL$5:$AL$20) -> 1.2122137e-07 | AV11: =AN11*(AO11+AP11+AQ11+AR11) -> 8.4644432e-06 | AW11: =(AU11/AV11)*10^6 -> 14321.245
B12: No of mol's drawn in at a sprcific Vc | C12: =(((10^5*($C$4*$C$6)*10^-6)/($C$8*$C$7))) -> 6.5681391e-06 | F12: CO2 | G12: =G6 -> 8 | K12: CO2 (Kj/mol) | L12: 393.5 | R12: 7 | S12: =S11+2 -> 24 | T12: =(T11*((S12/S11)^(($C$13-1)/$C$13))) -> 2714.5469 | U12: =((4.7*10^13*AC12*(AB12^0.5)*EXP($C$11/T12))/($C$14*6))*$C$5*10^-6 -> 0 | V12: =(((10^5*($C$4*$C$6)*10^-6)/($C$8*$C$7))) -> 6.5681391e-06 | W12: =V12/($T$2*$G$11*((Z12/2)+3.76)) -> 1.3974764e-07 | X12: =$T$2*$G$12 -> 8 | Y12: =$T$2*$G$13 -> 9 | Z12: =(($G$15/2)*(1-$T$2)) -> 0 | AA12: =$G$14 -> 47.0238 | AB12: =((Z12*W12)/($C$5*10^-6)) -> 0 | AC12: =((AA12*W12)/($C$5*10^-6)) -> 0.16428663 | AD12: =SUM($U$5:$U$20) -> 0 | AE12: =W12*(X12+Y12+Z12+AA12) -> 8.947175e-06 | AF12: =(AD12/AE12)*10^6 -> 0 | AI12: 7 | AJ12: =AJ11+2 -> 24 | AK12: =(AK11*(($S12/$S11)^(($C$13-1)/$C$13))) -> 2524.1908 | AL12: =((4.7*10^13*AT12*(AS12^0.5)*EXP(-67837/(AK12)))/($C$15))*$C$5*10^-6 -> 3.7440444e-09 | AM12: =(((10^5*($C$4*$C$6)*10^-6)/($C$8*$C$7))) -> 6.5681391e-06 | AN12: =AM12/($AK$2*$G$11*((AQ12/2)+3.76)) -> 1.3314358e-07 | AO12: =$AK$2*$G$12 -> 7.2 | AP12: =$AK$2*$G$13 -> 8.1 | AQ12: =(($G$15/2)*(1-$AK$2)) -> 1.25 | AR12: =$G$14 -> 47.0238 | AS12: =((AQ12*AN12)/($C$5*10^-6)) -> 0.0041607368 | AT12: =((AR12*AN12)/($C$5*10^-6)) -> 0.15652292 | AU12: =SUM($AL$5:$AL$20) -> 1.2122137e-07 | AV12: =AN12*(AO12+AP12+AQ12+AR12) -> 8.4644432e-06 | AW12: =(AU12/AV12)*10^6 -> 14321.245
B13: (n) Polytropic intex | C13: 1.17 | F13: H2O | G13: =(G7/2) -> 9 | K13: H2O (Gas) (Kj/mol) | L13: 241.8 | N13: Phi | R13: 8 | S13: =S12+2 -> 26 | T13: =(T12*((S13/S12)^(($C$13-1)/$C$13))) -> 2746.3018 | U13: =((4.7*10^13*AC13*(AB13^0.5)*EXP($C$11/T13))/($C$14*6))*$C$5*10^-6 -> 0 | V13: =(((10^5*($C$4*$C$6)*10^-6)/($C$8*$C$7))) -> 6.5681391e-06 | W13: =V13/($T$2*$G$11*((Z13/2)+3.76)) -> 1.3974764e-07 | X13: =$T$2*$G$12 -> 8 | Y13: =$T$2*$G$13 -> 9 | Z13: =(($G$15/2)*(1-$T$2)) -> 0 | AA13: =$G$14 -> 47.0238 | AB13: =((Z13*W13)/($C$5*10^-6)) -> 0 | AC13: =((AA13*W13)/($C$5*10^-6)) -> 0.16428663 | AD13: =SUM($U$5:$U$20) -> 0 | AE13: =W13*(X13+Y13+Z13+AA13) -> 8.947175e-06 | AF13: =(AD13/AE13)*10^6 -> 0 | AI13: 8 | AJ13: =AJ12+2 -> 26 | AK13: =(AK12*(($S13/$S12)^(($C$13-1)/$C$13))) -> 2553.7189 | AL13: =((4.7*10^13*AT13*(AS13^0.5)*EXP(-67837/(AK13)))/($C$15))*$C$5*10^-6 -> 5.1085364e-09 | AM13: =(((10^5*($C$4*$C$6)*10^-6)/($C$8*$C$7))) -> 6.5681391e-06 | AN13: =AM13/($AK$2*$G$11*((AQ13/2)+3.76)) -> 1.3314358e-07 | AO13: =$AK$2*$G$12 -> 7.2 | AP13: =$AK$2*$G$13 -> 8.1 | AQ13: =(($G$15/2)*(1-$AK$2)) -> 1.25 | AR13: =$G$14 -> 47.0238 | AS13: =((AQ13*AN13)/($C$5*10^-6)) -> 0.0041607368 | AT13: =((AR13*AN13)/($C$5*10^-6)) -> 0.15652292 | AU13: =SUM($AL$5:$AL$20) -> 1.2122137e-07 | AV13: =AN13*(AO13+AP13+AQ13+AR13) -> 8.4644432e-06 | AW13: =(AU13/AV13)*10^6 -> 14321.245
B14: RPM | C14: 1800 | F14: N2 | G14: =G11*L7 -> 47.0238 | K14: H2O (Liquid) (Kj/mol) | L14: 285.8 | R14: 9 | S14: =S13+2 -> 28 | T14: =(T13*((S14/S13)^(($C$13-1)/$C$13))) -> 2776.0332 | U14: =((4.7*10^13*AC14*(AB14^0.5)*EXP($C$11/T14))/($C$14*6))*$C$5*10^-6 -> 0 | V14: =(((10^5*($C$4*$C$6)*10^-6)/($C$8*$C$7))) -> 6.5681391e-06 | W14: =V14/($T$2*$G$11*((Z14/2)+3.76)) -> 1.3974764e-07 | X14: =$T$2*$G$12 -> 8 | Y14: =$T$2*$G$13 -> 9 | Z14: =(($G$15/2)*(1-$T$2)) -> 0 | AA14: =$G$14 -> 47.0238 | AB14: =((Z14*W14)/($C$5*10^-6)) -> 0 | AC14: =((AA14*W14)/($C$5*10^-6)) -> 0.16428663 | AD14: =SUM($U$5:$U$20) -> 0 | AE14: =W14*(X14+Y14+Z14+AA14) -> 8.947175e-06 | AF14: =(AD14/AE14)*10^6 -> 0 | AI14: 9 | AJ14: =AJ13+2 -> 28 | AK14: =(AK13*(($S14/$S13)^(($C$13-1)/$C$13))) -> 2581.3654 | AL14: =((4.7*10^13*AT14*(AS14^0.5)*EXP(-67837/(AK14)))/($C$15))*$C$5*10^-6 -> 6.789756e-09 | AM14: =(((10^5*($C$4*$C$6)*10^-6)/($C$8*$C$7))) -> 6.5681391e-06 | AN14: =AM14/($AK$2*$G$11*((AQ14/2)+3.76)) -> 1.3314358e-07 | AO14: =$AK$2*$G$12 -> 7.2 | AP14: =$AK$2*$G$13 -> 8.1 | AQ14: =(($G$15/2)*(1-$AK$2)) -> 1.25 | AR14: =$G$14 -> 47.0238 | AS14: =((AQ14*AN14)/($C$5*10^-6)) -> 0.0041607368 | AT14: =((AR14*AN14)/($C$5*10^-6)) -> 0.15652292 | AU14: =SUM($AL$5:$AL$20) -> 1.2122137e-07 | AV14: =AN14*(AO14+AP14+AQ14+AR14) -> 8.4644432e-06 | AW14: =(AU14/AV14)*10^6 -> 14321.245
B15: RPM | C15: =1800*(360/60) -> 10800 | F15: O | G15: =(2*G12)+G13 -> 25 | R15: 10 | S15: =S14+2 -> 30 | T15: =(T14*((S15/S14)^(($C$13-1)/$C$13))) -> 2804.0018 | U15: =((4.7*10^13*AC15*(AB15^0.5)*EXP($C$11/T15))/($C$14*6))*$C$5*10^-6 -> 0 | V15: =(((10^5*($C$4*$C$6)*10^-6)/($C$8*$C$7))) -> 6.5681391e-06 | W15: =V15/($T$2*$G$11*((Z15/2)+3.76)) -> 1.3974764e-07 | X15: =$T$2*$G$12 -> 8 | Y15: =$T$2*$G$13 -> 9 | Z15: =(($G$15/2)*(1-$T$2)) -> 0 | AA15: =$G$14 -> 47.0238 | AB15: =((Z15*W15)/($C$5*10^-6)) -> 0 | AC15: =((AA15*W15)/($C$5*10^-6)) -> 0.16428663 | AD15: =SUM($U$5:$U$20) -> 0 | AE15: =W15*(X15+Y15+Z15+AA15) -> 8.947175e-06 | AF15: =(AD15/AE15)*10^6 -> 0 | AI15: 10 | AJ15: =AJ14+2 -> 30 | AK15: =(AK14*(($S15/$S14)^(($C$13-1)/$C$13))) -> 2607.3727 | AL15: =((4.7*10^13*AT15*(AS15^0.5)*EXP(-67837/(AK15)))/($C$15))*$C$5*10^-6 -> 8.8245764e-09 | AM15: =(((10^5*($C$4*$C$6)*10^-6)/($C$8*$C$7))) -> 6.5681391e-06 | AN15: =AM15/($AK$2*$G$11*((AQ15/2)+3.76)) -> 1.3314358e-07 | AO15: =$AK$2*$G$12 -> 7.2 | AP15: =$AK$2*$G$13 -> 8.1 | AQ15: =(($G$15/2)*(1-$AK$2)) -> 1.25 | AR15: =$G$14 -> 47.0238 | AS15: =((AQ15*AN15)/($C$5*10^-6)) -> 0.0041607368 | AT15: =((AR15*AN15)/($C$5*10^-6)) -> 0.15652292 | AU15: =SUM($AL$5:$AL$20) -> 1.2122137e-07 | AV15: =AN15*(AO15+AP15+AQ15+AR15) -> 8.4644432e-06 | AW15: =(AU15/AV15)*10^6 -> 14321.245
R16: 11 | S16: =S15+2 -> 32 | T16: =(T15*((S16/S15)^(($C$13-1)/$C$13))) -> 2830.4197 | U16: =((4.7*10^13*AC16*(AB16^0.5)*EXP($C$11/T16))/($C$14*6))*$C$5*10^-6 -> 0 | V16: =(((10^5*($C$4*$C$6)*10^-6)/($C$8*$C$7))) -> 6.5681391e-06 | W16: =V16/($T$2*$G$11*((Z16/2)+3.76)) -> 1.3974764e-07 | X16: =$T$2*$G$12 -> 8 | Y16: =$T$2*$G$13 -> 9 | Z16: =(($G$15/2)*(1-$T$2)) -> 0 | AA16: =$G$14 -> 47.0238 | AB16: =((Z16*W16)/($C$5*10^-6)) -> 0 | AC16: =((AA16*W16)/($C$5*10^-6)) -> 0.16428663 | AD16: =SUM($U$5:$U$20) -> 0 | AE16: =W16*(X16+Y16+Z16+AA16) -> 8.947175e-06 | AF16: =(AD16/AE16)*10^6 -> 0 | AI16: 11 | AJ16: =AJ15+2 -> 32 | AK16: =(AK15*(($S16/$S15)^(($C$13-1)/$C$13))) -> 2631.9381 | AL16: =((4.7*10^13*AT16*(AS16^0.5)*EXP(-67837/(AK16)))/($C$15))*$C$5*10^-6 -> 1.1250082e-08 | AM16: =(((10^5*($C$4*$C$6)*10^-6)/($C$8*$C$7))) -> 6.5681391e-06 | AN16: =AM16/($AK$2*$G$11*((AQ16/2)+3.76)) -> 1.3314358e-07 | AO16: =$AK$2*$G$12 -> 7.2 | AP16: =$AK$2*$G$13 -> 8.1 | AQ16: =(($G$15/2)*(1-$AK$2)) -> 1.25 | AR16: =$G$14 -> 47.0238 | AS16: =((AQ16*AN16)/($C$5*10^-6)) -> 0.0041607368 | AT16: =((AR16*AN16)/($C$5*10^-6)) -> 0.15652292 | AU16: =SUM($AL$5:$AL$20) -> 1.2122137e-07 | AV16: =AN16*(AO16+AP16+AQ16+AR16) -> 8.4644432e-06 | AW16: =(AU16/AV16)*10^6 -> 14321.245
F17: Masses | R17: 12 | S17: =S16+2 -> 34 | T17: =(T16*((S17/S16)^(($C$13-1)/$C$13))) -> 2855.4622 | U17: =((4.7*10^13*AC17*(AB17^0.5)*EXP($C$11/T17))/($C$14*6))*$C$5*10^-6 -> 0 | V17: =(((10^5*($C$4*$C$6)*10^-6)/($C$8*$C$7))) -> 6.5681391e-06 | W17: =V17/($T$2*$G$11*((Z17/2)+3.76)) -> 1.3974764e-07 | X17: =$T$2*$G$12 -> 8 | Y17: =$T$2*$G$13 -> 9 | Z17: =(($G$15/2)*(1-$T$2)) -> 0 | AA17: =$G$14 -> 47.0238 | AB17: =((Z17*W17)/($C$5*10^-6)) -> 0 | AC17: =((AA17*W17)/($C$5*10^-6)) -> 0.16428663 | AD17: =SUM($U$5:$U$20) -> 0 | AE17: =W17*(X17+Y17+Z17+AA17) -> 8.947175e-06 | AF17: =(AD17/AE17)*10^6 -> 0 | AI17: 12 | AJ17: =AJ16+2 -> 34 | AK17: =(AK16*(($S17/$S16)^(($C$13-1)/$C$13))) -> 2655.2245 | AL17: =((4.7*10^13*AT17*(AS17^0.5)*EXP(-67837/(AK17)))/($C$15))*$C$5*10^-6 -> 1.410344e-08 | AM17: =(((10^5*($C$4*$C$6)*10^-6)/($C$8*$C$7))) -> 6.5681391e-06 | AN17: =AM17/($AK$2*$G$11*((AQ17/2)+3.76)) -> 1.3314358e-07 | AO17: =$AK$2*$G$12 -> 7.2 | AP17: =$AK$2*$G$13 -> 8.1 | AQ17: =(($G$15/2)*(1-$AK$2)) -> 1.25 | AR17: =$G$14 -> 47.0238 | AS17: =((AQ17*AN17)/($C$5*10^-6)) -> 0.0041607368 | AT17: =((AR17*AN17)/($C$5*10^-6)) -> 0.15652292 | AU17: =SUM($AL$5:$AL$20) -> 1.2122137e-07 | AV17: =AN17*(AO17+AP17+AQ17+AR17) -> 8.4644432e-06 | AW17: =(AU17/AV17)*10^6 -> 14321.245
