Workbook

Sheet Fuel listing
C5: Properties of Fuels
C7: Formula | D7: Fuel | E7: M | G7: Cpg^a | I7: HHV | J7: LHV | K7: hfg^b | N7: delta h^0
E8: (kg/kmol) | F8: Tb (degC) | G8: (kJ/kg-K) | H8: Tig (degC) | I8: (MJ/kg) | J8: (MJ/kg) | K8: (kJ/kg) | L8: AFRs | M8: Tf (K)c | N8: (kJ/mol) | O8: RONd | P8: MONe
C9: CH4 | D9: Methane | E9: 16.04 | F9: 161 | G9: 2.21 | H9: 537 | I9: 55.536 | J9: 50.048 | K9: 510 | L9: 17.2 | M9: 2226 | N9: 74.4 | O9: 120 | P9: 120
C10: C2H2 | D10: Acetylene | E10: 26.04 | F10: 84 | G10: 1.6 | H10: 305 | I10: 49.923 | J10: 48.225 | K10: - | L10: 13.2 | M10: 2540 | N10: 8.7 | O10: 50 | P10: 50
C11: C2H4 | D11: Ethylene | E11: 28.05 | F11: 104 | G11: 1.54 | H11: 490 | I11: 50.312 | J11: 47.132 | K11: - | L11: 14.7 | M11: 2380 | N11: 52.4 | O11: - | P11: -
C12: C2H6 | D12: Ethane | E12: 30.07 | F12: 89 | G12: 1.75 | H12: 472 | I12: 51.902 | J12: 47.611 | K12: 489 | L12: 16.1 | M12: 2370 | N12: 83.8 | O12: 115 | P12: 99
C13: C3H8 | D13: Propane | E13: 44.1 | F13: 42 | G13: 1.62 | H13: 470 | I13: 50.322 | J13: 46.33 | K13: 432 | L13: 15.7 | M13: 2334 | N13: 104.7 | O13: 112 | P13: 97
C14: C4H10 | D14: n-Butane | E14: 58.12 | F14: 0.5 | G14: 1.64 | H14: 365 | I14: 49.511 | J14: 45.725 | K14: 386 | L14: 15.5 | M14: 2270 | N14: 146.6 | O14: 94 | P14: 90
C15: C4H10 | D15: iso-Butane | E15: 58.12 | F15: 12 | G15: 1.62 | H15: 460 | I15: 49.363 | J15: 45.577 | K15: 366 | L15: 15.5 | M15: 2310 | N15: 153.5 | O15: 102 | P15: 98
C16: C5H12 | D16: n-Pentane | E16: 72.15 | F16: 36 | G16: 1.62 | H16: 284 | I16: 49.003 | J16: 45.343 | K16: 357 | L16: 15.3 | M16: 2270 | N16: 173.5 | O16: 62 | P16: 63
C17: C5H12 | D17: iso-Pentane | E17: 72.15 | F17: 28 | G17: 1.6 | H17: 420 | I17: 48.909 | J17: 45.249 | K17: 342 | L17: 15.3 | M17: 2310 | N17: 178.5 | O17: 93 | P17: 90
C18: C6H14 | D18: n-Hexane | E18: 86.18 | F18: 69 | G18: 1.62 | H18: 233 | I18: 48.674 | J18: 45.099 | K18: 335 | L18: 15.2 | M18: 2271 | N18: 198.7 | O18: 25 | P18: 26
C19: C6H14 | D19: iso-Hexane | E19: 86.18 | F19: 50 | G19: 1.58 | H19: 421 | I19: 48.454 | J19: 44.879 | K19: 305 | L19: 15.2 | M19: 2300 | N19: 207.4 | O19: 104 | P19: 94
C20: C7H16 | D20: n-Heptane | E20: 100.2 | F20: 99 | G20: 1.61 | H20: 215 | I20: 48.438 | J20: 44.925 | K20: 317 | L20: 15.2 | M20: 2273 | N20: 224.2 | O20: 0 | P20: 0
C21: C8H18 | D21: n-Octane | E21: 114.23 | F21: 126 | G21: 1.61 | H21: 206 | I21: 48.254 | J21: 44.786 | K21: 301 | L21: 15.1 | M21: 2275 | N21: 250.1 | O21: 20 | P21: 17
C22: C8H18 | D22: iso-Octane | E22: 114.23 | F22: 114 | G22: 1.59 | H22: 418 | I22: 48.119 | J22: 44.651 | K22: 283 | L22: 15.1 | M22: 2300 | N22: 259.2 | O22: 100 | P22: 100
C23: C9H20 | D23: n-Nonane | E23: 128.6 | F23: 151 | G23: 1.61 | H23: - | I23: 48.119 | J23: 44.688 | K23: 295 | L23: 15.1 | M23: 2274 | N23: 274.7 | O23: - | P23: -
C24: C10H22 | D24: n-Decane | E24: 142.28 | F24: 174 | G24: 1.61 | H24: 210 | I24: 48.002 | J24: 44.599 | K24: 277 | L24: 15.1 | M24: 2278 | N24: 300.9 | O24: 41 | P24: 38
C25: C10H22 | D25: iso-Decane | E25: 142.28 | F25: 171 | G25: 1.61 | H25: - | I25: 48.565 | J25: 44.413 | K25: - | L25: 15.1 | M25: 2340 | N25: - | O25: 113 | P25: 92
C26: C12H26 | D26: n-Dodecane | E26: 170.33 | F26: 216 | G26: 1.61 | H26: 204 | I26: 47.838 | J26: 44.574 | K26: 256 | L26: 15 | M26: 2276 | N26: 350.9 | O26: 88 | P26: 90
C27: CH4O | D27: Methanol | E27: 32.04 | F27: 65 | G27: 1.37 | H27: 385 | I27: 22.663 | J27: 19.915 | K27: 1099 | L27: 6.5 | M27: 2183 | N27: 201.5 | O27: 106 | P27: 92
C28: C2H6O | D28: Ethanol | E28: 46.07 | F28: 78 | G28: 1.42 | H28: 365 | I28: 29.668 | J28: 26.803 | K28: 836 | L28: 9 | M28: 2144 | N28: 235.1 | O28: 107 | P28: 89
C29: H2 | D29: Hydrogen | E29: 2.02 | F29: 253 | G29: 14.47 | H29: 400 | I29: 141.72 | J29: 119.96 | K29: 451 | L29: 34.3 | M29: 2345 | N29: 0 | O29: - | P29: -
C31: a Gas phase specific heat evaluated at 25 Deg C
C32: b Heat of vaporization at 1 atm
C33: c Estimated equilibrium flame temperature
C34: d Research octane number
C35: e Motoring octane number

Sheet CO2
A1: Ideal Gas Enthalpy of CO2
A3: Enthalpy Formation
F4: CO2 at pressure (1 atm) | M4: y = 8.5770134353E-19x6 - 1.0374875556E-14x5 + 4.9689475953E-11x4 - 1.2019118054E-07x3 + 1.5650954893E-04x2 - 4.8239362033E-02x + 5.2084519626E+00
A5: Molecular Weight | F5: T (K) | G5: cp (kJ/kmol-K) | H5: h0 (MJ/kmol) Enthalpy of Formation | I5: s (kJ/kmol-K) | J5: g0/RuT
F6: 200 | G6: 32.39 | H6: -3.42 | I6: 199.87 | J6: 262.76
F7: 250 | G7: 34.96 | H7: -1.74 | I7: 207.37 | J7: 215.11
F8: 298 | G8: 37.2 | H8: 0 | I8: 213.73 | J8: 184.46
F9: 300 | G9: 37.28 | H9: 0.07 | I9: 213.96 | J9: 183.48
F10: 350 | G10: 39.37 | H10: 1.99 | I10: 219.86 | J10: 161
F11: 400 | G11: 41.27 | H11: 4 | I11: 225.25 | J11: 144.22
F12: 450 | G12: 43 | H12: 6.11 | I12: 230.21 | J12: 131.24
F13: 500 | G13: 44.57 | H13: 8.3 | I13: 234.82 | J13: 120.91
F14: 550 | G14: 46 | H14: 10.56 | I14: 239.14 | J14: 112.51
F15: 600 | G15: 47.31 | H15: 12.9 | I15: 243.2 | J15: 105.55
F16: 650 | G16: 48.51 | H16: 15.29 | I16: 247.03 | J16: 99.7
F17: 700 | G17: 49.61 | H17: 17.75 | I17: 250.67 | J17: 94.72
... F73: 3500 | G73: 62.72 | H73: 184.11 | I73: 343.73 | J73: 48.54

Sheet H2O
A1: Ideal Gas Enthalpy of H20
J6: y = 6.6506859177E-19x6 - 7.8984343104E-15x5 + 3.6879849877E-11x4 - 8.6386228559E-08x3 + 1.1074017861E-04x2 - 3.1241611608E-02x + 3.3006694533E+00
E8: H2O
E9: T (K) | F9: cp (kJ/kmol-K) | G9: h0 (MJ/kmol) Enthalpy of Formation | H9: s (kJ/kmol-K) | I9: g
E10: 200 | F10: 32.25 | G10: -3.23 | H10: 175.59 | I10: 168.5
E11: 250 | F11: 32.9 | G11: -1.6 | H11: 182.86 | I11: 139.11
E12: 298 | F12: 33.45 | G12: 0 | H12: 188.71 | I12: 120.26
E13: 300 | F13: 33.47 | G13: 0.06 | H13: 188.91 | I13: 119.66
E14: 350 | F14: 33.97 | G14: 1.75 | H14: 194.11 | I14: 105.85
E15: 400 | F15: 34.44 | G15: 3.46 | H15: 198.68 | I15: 95.58
E16: 450 | F16: 34.89 | G16: 5.19 | H16: 202.76 | I16: 87.64
E17: 500 | F17: 35.34 | G17: 6.95 | H17: 206.46 | I17: 81.34
E18: 550 | F18: 35.8 | G18: 8.73 | H18: 209.85 | I18: 76.22
E19: 600 | F19: 36.29 | G19: 10.53 | H19: 212.98 | I19: 71.99
E20: 650 | F20: 36.81 | G20: 12.35 | H20: 215.91 | I20: 68.43
E21: 700 | F21: 37.36 | G21: 14.21 | H21: 218.65 | I21: 65.41
... E77: 3500 | F77: 57.07 | G77: 154.79 | H77: 295.11 | I77: 38.49

Sheet O2
A2: Ideal Gas Enthalpy of O2
K5: y = 6.4958291549E-19x6 - 7.8224528491E-15x5 + 3.7120417697E-11x4 - 8.7983176170E-08x3 + 1.0982327235E-04x2 - 3.2606444641E-02x + 3.5786489003E+00
E9: O2
E10: T (K) | F10: cp (kJ/kmol-K) | G10: h0 (MJ/kmol) Enthalpy of Formation | H10: s (kJ/kmol-K) | I10: g0
E11: 200 | F11: 28.47 | G11: 2.84 | H11: 193.51 | I11: 24.98
E12: 250 | F12: 28.9 | G12: 1.4 | H12: 199.91 | I12: 24.72
E13: 298 | F13: 29.31 | G13: 0 | H13: 205.03 | I13: 24.66
E14: 300 | F14: 29.33 | G14: 0.05 | H14: 205.21 | I14: 24.66
E15: 350 | F15: 29.77 | G15: 1.53 | H15: 209.77 | I15: 24.7
E16: 400 | F16: 30.21 | G16: 3.03 | H16: 213.77 | I16: 24.8
E17: 450 | F17: 30.66 | G17: 4.55 | H17: 217.36 | I17: 24.93
E18: 500 | F18: 31.11 | G18: 6.1 | H18: 220.61 | I18: 25.07
E19: 550 | F19: 31.57 | G19: 7.66 | H19: 223.6 | I19: 25.22
E20: 600 | F20: 32.03 | G20: 9.25 | H20: 226.36 | I20: 25.37
E21: 650 | F21: 32.48 | G21: 10.87 | H21: 228.94 | I21: 25.53
E22: 700 | F22: 32.93 | G22: 12.5 | H22: 231.37 | I22: 25.68
... E78: 3500 | F78: 40.68 | G78: 118.17 | H78: 303.85346 | I78: 290.58

Sheet N2
A1: Ideal Gas Enthalpy of N2
I4: y = 5.9376621671E-19x6 - 7.1020711589E-15x5 + 3.3460896805E-11x4 - 7.8909601634E-08x3 + 9.8599769212E-05x2 - 2.8172899156E-02x + 3.0537890800E+00
C6: N2
C7: T (K) | D7: cp (kJ/kmol-K) | E7: h0 (MJ/kmol) Enthalpy of Formation | F7: s (kJ/kmol-K) | G7: g
C8: 200 | D8: 28.79 | E8: 2.84 | F8: 179.95 | G8: 23.35
C9: 250 | D9: 28.95 | E9: 1.4 | F9: 186.39 | G9: 23.09
C10: 298 | D10: 29.07 | E10: 0 | F10: 191.5 | G10: 23.03
C11: 300 | D11: 29.07 | E11: 0.05 | F11: 191.68 | G11: 23.03
C12: 350 | D12: 29.19 | E12: 1.51 | F12: 196.17 | G12: 23.08
C13: 400 | D13: 29.32 | E13: 2.97 | F13: 200.08 | G13: 23.17
C14: 450 | D14: 29.46 | E14: 4.44 | F14: 203.54 | G14: 23.29
C15: 500 | D15: 29.63 | E15: 5.92 | F15: 206.65 | G15: 23.43
C16: 550 | D16: 29.84 | E16: 7.41 | F16: 209.49 | G16: 23.58
C17: 600 | D17: 30.08 | E17: 8.9 | F17: 212.09 | G17: 23.72
C18: 650 | D18: 30.37 | E18: 10.42 | F18: 214.51 | G18: 23.87
C19: 700 | D19: 30.68 | E19: 11.94 | F19: 216.77 | G19: 24.02
... C75: 3500 | D75: 37.3 | E75: 111.31 | F75: 272.53 | G75: 28.95

Sheet Molar Enthalpy
A1: Molar Enthalpy
G4: Fuel | H4: Formula
G5: iso-Octane | H5: =IF(G5='Fuel listing'!D22,'Fuel listing'!C22,IF('Molar Enthalpy'!G5='Fuel listing'!D27,'Fuel listing'!C27)) -> C8H18
C12: CO2 | F12: H2O | I12: O2 | L12: N2
B13: T (K) | C13: Entalpy needed to increase 1 Kmol By 1 kelvin | D13: Net Enthalpy (No of Mols) | F13: Entalpy needed to increase 1 Kmol By 1 kelvin | G13: Net Enthalpy (No of Mols) | I13: Entalpy needed to increase 1 Kmol By 1 kelvin | J13: Net Enthalpy (No of Mols) | L13: Entalpy needed to increase 1 Kmol By 1 kelvin | M13: Net Enthalpy (No of Mols)
B14: 200 | C14: =((8.5770134353*10^-19)*(B14^6))-((1.0374875556*10^-14)*(B14^5))+((4.9689475953*10^-11)*(B14^4))-((1.2019118054*10^-7)*(B14^3))+((1.5650954893*10^-4)*(B14^2))-((4.8239362033*10^-2)*(B14))+((5.2084519626)) -> 0.93567016 | D14: =C14*Fuels!$C$13 -> 7.4853613 | F14: =((6.6506859177*10^-19)*(B14^6))-((7.8984343104*10^-15)*(B14^5))+((3.6879849877*10^-11)*(B14^4))-((8.6386228559*10^-8)*(B14^3))+((1.1074017861*10^-4)*(B14^2))-((3.1241611608*10^-2)*(B14))+(3.3006694533) -> 0.84738727 | G14: =F14*Fuels!$C$14 -> 7.6264855 | I14: =((6.4958291549*10^-19)*(B14^6))-((7.8224528491*10^-15)*(B14^5))+((3.7120417697*10^-11)*(B14^4))-((8.798317617*10^-8)*(B14^3))+((1.0982327235*10^-4)*(B14^2))-((3.2606444641*10^-2)*(B14))+((3.5786489003)) -> 0.80335651 | J14: =I14*(Fuels!$C$16/2) -> 10.041956 | L14: =((5.9376621671*10^-19)*(B14^6))-((7.1020711589*10^-15)*(B14^5))+((3.3460896805*10^-11)*(B14^4))-((7.8909601634*10^-8)*(B14^3))+((9.8599769212*10^-5)*(B14^2))-((2.8172899156*10^-2)*(B14))+(3.05378908) -> 0.78322598 | M14: =L14*Fuels!$C$15 -> 36.830262
B15: 250 | C15: =((8.5770134353*10^-19)*(B15^6))-((1.0374875556*10^-14)*(B15^5))+((4.9689475953*10^-11)*(B15^4))-((1.2019118054*10^-7)*(B15^3))+((1.5650954893*10^-4)*(B15^2))-((4.8239362033*10^-2)*(B15))+((5.2084519626)) -> 1.2366483 | D15: =C15*Fuels!$C$13 -> 9.8931861 | F15: =((6.6506859177*10^-19)*(B15^6))-((7.8984343104*10^-15)*(B15^5))+((3.6879849877*10^-11)*(B15^4))-((8.6386228559*10^-8)*(B15^3))+((1.1074017861*10^-4)*(B15^2))-((3.1241611608*10^-2)*(B15))+(3.3006694533) -> 1.1982539 | G15: =F15*Fuels!$C$14 -> 10.784285 | I15: =((6.4958291549*10^-19)*(B15^6))-((7.8224528491*10^-15)*(B15^5))+((3.7120417697*10^-11)*(B15^4))-((8.798317617*10^-8)*(B15^3))+((1.0982327235*10^-4)*(B15^2))-((3.2606444641*10^-2)*(B15))+((3.5786489003)) -> 1.0537762 | J15: =I15*(Fuels!$C$16/2) -> 13.172203 | L15: =((5.9376621671*10^-19)*(B15^6))-((7.1020711589*10^-15)*(B15^5))+((3.3460896805*10^-11)*(B15^4))-((7.8909601634*10^-8)*(B15^3))+((9.8599769212*10^-5)*(B15^2))-((2.8172899156*10^-2)*(B15))+(3.05378908) -> 1.0640033 | M15: =L15*Fuels!$C$15 -> 50.033479
B16: 298 | C16: =((8.5770134353*10^-19)*(B16^6))-((1.0374875556*10^-14)*(B16^5))+((4.9689475953*10^-11)*(B16^4))-((1.2019118054*10^-7)*(B16^3))+((1.5650954893*10^-4)*(B16^2))-((4.8239362033*10^-2)*(B16))+((5.2084519626)) -> 1.9191833 | D16: =C16*Fuels!$C$13 -> 15.353467 | F16: =((6.6506859177*10^-19)*(B16^6))-((7.8984343104*10^-15)*(B16^5))+((3.6879849877*10^-11)*(B16^4))-((8.6386228559*10^-8)*(B16^3))+((1.1074017861*10^-4)*(B16^2))-((3.1241611608*10^-2)*(B16))+(3.3006694533) -> 1.811494 | G16: =F16*Fuels!$C$14 -> 16.303446 | I16: =((6.4958291549*10^-19)*(B16^6))-((7.8224528491*10^-15)*(B16^5))+((3.7120417697*10^-11)*(B16^4))-((8.798317617*10^-8)*(B16^3))+((1.0982327235*10^-4)*(B16^2))-((3.2606444641*10^-2)*(B16))+((3.5786489003)) -> 1.5611322 | J16: =I16*(Fuels!$C$16/2) -> 19.514152 | L16: =((5.9376621671*10^-19)*(B16^6))-((7.1020711589*10^-15)*(B16^5))+((3.3460896805*10^-11)*(B16^4))-((7.8909601634*10^-8)*(B16^3))+((9.8599769212*10^-5)*(B16^2))-((2.8172899156*10^-2)*(B16))+(3.05378908) -> 1.5736906 | M16: =L16*Fuels!$C$15 -> 74.000914
B17: 300 | C17: =((8.5770134353*10^-19)*(B17^6))-((1.0374875556*10^-14)*(B17^5))+((4.9689475953*10^-11)*(B17^4))-((1.2019118054*10^-7)*(B17^3))+((1.5650954893*10^-4)*(B17^2))-((4.8239362033*10^-2)*(B17))+((5.2084519626)) -> 1.95524 | D17: =C17*Fuels!$C$13 -> 15.64192 | F17: =((6.6506859177*10^-19)*(B17^6))-((7.8984343104*10^-15)*(B17^5))+((3.6879849877*10^-11)*(B17^4))-((8.6386228559*10^-8)*(B17^3))+((1.1074017861*10^-4)*(B17^2))-((3.1241611608*10^-2)*(B17))+(3.3006694533) -> 1.8423923 | G17: =F17*Fuels!$C$14 -> 16.581531 | I17: =((6.4958291549*10^-19)*(B17^6))-((7.8224528491*10^-15)*(B17^5))+((3.7120417697*10^-11)*(B17^4))-((8.798317617*10^-8)*(B17^3))+((1.0982327235*10^-4)*(B17^2))-((3.2606444641*10^-2)*(B17))+((3.5786489003)) -> 1.5874046 | J17: =I17*(Fuels!$C$16/2) -> 19.842558 | L17: =((5.9376621671*10^-19)*(B17^6))-((7.1020711589*10^-15)*(B17^5))+((3.3460896805*10^-11)*(B17^4))-((7.8909601634*10^-8)*(B17^3))+((9.8599769212*10^-5)*(B17^2))-((2.8172899156*10^-2)*(B17))+(3.05378908) -> 1.5995474 | M17: =L17*Fuels!$C$15 -> 75.216797
B18: 350 | C18: =((8.5770134353*10^-19)*(B18^6))-((1.0374875556*10^-14)*(B18^5))+((4.9689475953*10^-11)*(B18^4))-((1.2019118054*10^-7)*(B18^3))+((1.5650954893*10^-4)*(B18^2))-((4.8239362033*10^-2)*(B18))+((5.2084519626)) -> 3.0366367 | D18: =C18*Fuels!$C$13 -> 24.293094 | F18: =((6.6506859177*10^-19)*(B18^6))-((7.8984343104*10^-15)*(B18^5))+((3.6879849877*10^-11)*(B18^4))-((8.6386228559*10^-8)*(B18^3))+((1.1074017861*10^-4)*(B18^2))-((3.1241611608*10^-2)*(B18))+(3.3006694533) -> 2.7411345 | G18: =F18*Fuels!$C$14 -> 24.67021 | I18: =((6.4958291549*10^-19)*(B18^6))-((7.8224528491*10^-15)*(B18^5))+((3.7120417697*10^-11)*(B18^4))-((8.798317617*10^-8)*(B18^3))+((1.0982327235*10^-4)*(B18^2))-((3.2606444641*10^-2)*(B18))+((3.5786489003)) -> 2.3646128 | J18: =I18*(Fuels!$C$16/2) -> 29.557661 | L18: =((5.9376621671*10^-19)*(B18^6))-((7.1020711589*10^-15)*(B18^5))+((3.3460896805*10^-11)*(B18^4))-((7.8909601634*10^-8)*(B18^3))+((9.8599769212*10^-5)*(B18^2))-((2.8172899156*10^-2)*(B18))+(3.05378908) -> 2.3544096 | M18: =L18*Fuels!$C$15 -> 110.71329
B19: 400 | C19: =((8.5770134353*10^-19)*(B19^6))-((1.0374875556*10^-14)*(B19^5))+((4.9689475953*10^-11)*(B19^4))-((1.2019118054*10^-7)*(B19^3))+((1.5650954893*10^-4)*(B19^2))-((4.8239362033*10^-2)*(B19))+((5.2084519626)) -> 4.4313244 | D19: =C19*Fuels!$C$13 -> 35.450595 | F19: =((6.6506859177*10^-19)*(B19^6))-((7.8984343104*10^-15)*(B19^5))+((3.6879849877*10^-11)*(B19^4))-((8.6386228559*10^-8)*(B19^3))+((1.1074017861*10^-4)*(B19^2))-((3.1241611608*10^-2)*(B19))+(3.3006694533) -> 3.8597031 | G19: =F19*Fuels!$C$14 -> 34.737328 | I19: =((6.4958291549*10^-19)*(B19^6))-((7.8224528491*10^-15)*(B19^5))+((3.7120417697*10^-11)*(B19^4))-((8.798317617*10^-8)*(B19^3))+((1.0982327235*10^-4)*(B19^2))-((3.2606444641*10^-2)*(B19))+((3.5786489003)) -> 3.3497128 | J19: =I19*(Fuels!$C$16/2) -> 41.87141 | L19: =((5.9376621671*10^-19)*(B19^6))-((7.1020711589*10^-15)*(B19^5))+((3.3460896805*10^-11)*(B19^4))-((7.8909601634*10^-8)*(B19^3))+((9.8599769212*10^-5)*(B19^2))-((2.8172899156*10^-2)*(B19))+(3.05378908) -> 3.2966838 | M19: =L19*Fuels!$C$15 -> 155.0226
B20: 450 | C20: =((8.5770134353*10^-19)*(B20^6))-((1.0374875556*10^-14)*(B20^5))+((4.9689475953*10^-11)*(B20^4))-((1.2019118054*10^-7)*(B20^3))+((1.5650954893*10^-4)*(B20^2))-((4.8239362033*10^-2)*(B20))+((5.2084519626)) -> 6.094757 | D20: =C20*Fuels!$C$13 -> 48.758056 | F20: =((6.6506859177*10^-19)*(B20^6))-((7.8984343104*10^-15)*(B20^5))+((3.6879849877*10^-11)*(B20^4))-((8.6386228559*10^-8)*(B20^3))+((1.1074017861*10^-4)*(B20^2))-((3.1241611608*10^-2)*(B20))+(3.3006694533) -> 5.1669639 | G20: =F20*Fuels!$C$14 -> 46.502675 | I20: =((6.4958291549*10^-19)*(B20^6))-((7.8224528491*10^-15)*(B20^5))+((3.7120417697*10^-11)*(B20^4))-((8.798317617*10^-8)*(B20^3))+((1.0982327235*10^-4)*(B20^2))-((3.2606444641*10^-2)*(B20))+((3.5786489003)) -> 4.5107114 | J20: =I20*(Fuels!$C$16/2) -> 56.383892 | L20: =((5.9376621671*10^-19)*(B20^6))-((7.1020711589*10^-15)*(B20^5))+((3.3460896805*10^-11)*(B20^4))-((7.8909601634*10^-8)*(B20^3))+((9.8599769212*10^-5)*(B20^2))-((2.8172899156*10^-2)*(B20))+(3.05378908) -> 4.3977835 | M20: =L20*Fuels!$C$15 -> 206.80049
B21: 500 | C21: =((8.5770134353*10^-19)*(B21^6))-((1.0374875556*10^-14)*(B21^5))+((4.9689475953*10^-11)*(B21^4))-((1.2019118054*10^-7)*(B21^3))+((1.5650954893*10^-4)*(B21^2))-((4.8239362033*10^-2)*(B21))+((5.2084519626)) -> 7.9870396 | D21: =C21*Fuels!$C$13 -> 63.896317 | F21: =((6.6506859177*10^-19)*(B21^6))-((7.8984343104*10^-15)*(B21^5))+((3.6879849877*10^-11)*(B21^4))-((8.6386228559*10^-8)*(B21^3))+((1.1074017861*10^-4)*(B21^2))-((3.1241611608*10^-2)*(B21))+(3.3006694533) -> 6.635186 | G21: =F21*Fuels!$C$14 -> 59.716674 | I21: =((6.4958291549*10^-19)*(B21^6))-((7.8224528491*10^-15)*(B21^5))+((3.7120417697*10^-11)*(B21^4))-((8.798317617*10^-8)*(B21^3))+((1.0982327235*10^-4)*(B21^2))-((3.2606444641*10^-2)*(B21))+((3.5786489003)) -> 5.8190718 | J21: =I21*(Fuels!$C$16/2) -> 72.738398 | L21: =((5.9376621671*10^-19)*(B21^6))-((7.1020711589*10^-15)*(B21^5))+((3.3460896805*10^-11)*(B21^4))-((7.8909601634*10^-8)*(B21^3))+((9.8599769212*10^-5)*(B21^2))-((2.8172899156*10^-2)*(B21))+(3.05378908) -> 5.6322255 | M21: =L21*Fuels!$C$15 -> 264.84865
B22: 550 | C22: =((8.5770134353*10^-19)*(B22^6))-((1.0374875556*10^-14)*(B22^5))+((4.9689475953*10^-11)*(B22^4))-((1.2019118054*10^-7)*(B22^3))+((1.5650954893*10^-4)*(B22^2))-((4.8239362033*10^-2)*(B22))+((5.2084519626)) -> 10.072622 | D22: =C22*Fuels!$C$13 -> 80.580974 | F22: =((6.6506859177*10^-19)*(B22^6))-((7.8984343104*10^-15)*(B22^5))+((3.6879849877*10^-11)*(B22^4))-((8.6386228559*10^-8)*(B22^3))+((1.1074017861*10^-4)*(B22^2))-((3.1241611608*10^-2)*(B22))+(3.3006694533) -> 8.2398088 | G22: =F22*Fuels!$C$14 -> 74.158279 | I22: =((6.4958291549*10^-19)*(B22^6))-((7.8224528491*10^-15)*(B22^5))+((3.7120417697*10^-11)*(B22^4))-((8.798317617*10^-8)*(B22^3))+((1.0982327235*10^-4)*(B22^2))-((3.2606444641*10^-2)*(B22))+((3.5786489003)) -> 7.2494826 | J22: =I22*(Fuels!$C$16/2) -> 90.618532 | L22: =((5.9376621671*10^-19)*(B22^6))-((7.1020711589*10^-15)*(B22^5))+((3.3460896805*10^-11)*(B22^4))-((7.8909601634*10^-8)*(B22^3))+((9.8599769212*10^-5)*(B22^2))-((2.8172899156*10^-2)*(B22))+(3.05378908) -> 6.9774206 | M22: =L22*Fuels!$C$15 -> 328.10483
B23: 600 | C23: =((8.5770134353*10^-19)*(B23^6))-((1.0374875556*10^-14)*(B23^5))+((4.9689475953*10^-11)*(B23^4))-((1.2019118054*10^-7)*(B23^3))+((1.5650954893*10^-4)*(B23^2))-((4.8239362033*10^-2)*(B23))+((5.2084519626)) -> 12.32 | D23: =C23*Fuels!$C$13 -> 98.56 | F23: =((6.6506859177*10^-19)*(B23^6))-((7.8984343104*10^-15)*(B23^5))+((3.6879849877*10^-11)*(B23^4))-((8.6386228559*10^-8)*(B23^3))+((1.1074017861*10^-4)*(B23^2))-((3.1241611608*10^-2)*(B23))+(3.3006694533) -> 9.9592172 | G23: =F23*Fuels!$C$14 -> 89.632954 | I23: =((6.4958291549*10^-19)*(B23^6))-((7.8224528491*10^-15)*(B23^5))+((3.7120417697*10^-11)*(B23^4))-((8.798317617*10^-8)*(B23^3))+((1.0982327235*10^-4)*(B23^2))-((3.2606444641*10^-2)*(B23))+((3.5786489003)) -> 8.7796332 | J23: =I23*(Fuels!$C$16/2) -> 109.74542 | L23: =((5.9376621671*10^-19)*(B23^6))-((7.1020711589*10^-15)*(B23^5))+((3.3460896805*10^-11)*(B23^4))-((7.8909601634*10^-8)*(B23^3))+((9.8599769212*10^-5)*(B23^2))-((2.8172899156*10^-2)*(B23))+(3.05378908) -> 8.4134705 | M23: =L23*Fuels!$C$15 -> 395.63335
B24: 650 | C24: =((8.5770134353*10^-19)*(B24^6))-((1.0374875556*10^-14)*(B24^5))+((4.9689475953*10^-11)*(B24^4))-((1.2019118054*10^-7)*(B24^3))+((1.5650954893*10^-4)*(B24^2))-((4.8239362033*10^-2)*(B24))+((5.2084519626)) -> 14.70143 | D24: =C24*Fuels!$C$13 -> 117.61144 | F24: =((6.6506859177*10^-19)*(B24^6))-((7.8984343104*10^-15)*(B24^5))+((3.6879849877*10^-11)*(B24^4))-((8.6386228559*10^-8)*(B24^3))+((1.1074017861*10^-4)*(B24^2))-((3.1241611608*10^-2)*(B24))+(3.3006694533) -> 11.774524 | G24: =F24*Fuels!$C$14 -> 105.97071 | I24: =((6.4958291549*10^-19)*(B24^6))-((7.8224528491*10^-15)*(B24^5))+((3.7120417697*10^-11)*(B24^4))-((8.798317617*10^-8)*(B24^3))+((1.0982327235*10^-4)*(B24^2))-((3.2606444641*10^-2)*(B24))+((3.5786489003)) -> 10.389998 | J24: =I24*(Fuels!$C$16/2) -> 129.87498 | L24: =((5.9376621671*10^-19)*(B24^6))-((7.1020711589*10^-15)*(B24^5))+((3.3460896805*10^-11)*(B24^4))-((7.8909601634*10^-8)*(B24^3))+((9.8599769212*10^-5)*(B24^2))-((2.8172899156*10^-2)*(B24))+(3.05378908) -> 9.9229715 | M24: =L24*Fuels!$C$15 -> 466.61583
B25: 700 | C25: =((8.5770134353*10^-19)*(B25^6))-((1.0374875556*10^-14)*(B25^5))+((4.9689475953*10^-11)*(B25^4))-((1.2019118054*10^-7)*(B25^3))+((1.5650954893*10^-4)*(B25^2))-((4.8239362033*10^-2)*(B25))+((5.2084519626)) -> 17.192648 | D25: =C25*Fuels!$C$13 -> 137.54119 | F25: =((6.6506859177*10^-19)*(B25^6))-((7.8984343104*10^-15)*(B25^5))+((3.6879849877*10^-11)*(B25^4))-((8.6386228559*10^-8)*(B25^3))+((1.1074017861*10^-4)*(B25^2))-((3.1241611608*10^-2)*(B25))+(3.3006694533) -> 13.669359 | G25: =F25*Fuels!$C$14 -> 123.02423 | I25: =((6.4958291549*10^-19)*(B25^6))-((7.8224528491*10^-15)*(B25^5))+((3.7120417697*10^-11)*(B25^4))-((8.798317617*10^-8)*(B25^3))+((1.0982327235*10^-4)*(B25^2))-((3.2606444641*10^-2)*(B25))+((3.5786489003)) -> 12.063627 | J25: =I25*(Fuels!$C$16/2) -> 150.79534 | L25: =((5.9376621671*10^-19)*(B25^6))-((7.1020711589*10^-15)*(B25^5))+((3.3460896805*10^-11)*(B25^4))-((7.8909601634*10^-8)*(B25^3))+((9.8599769212*10^-5)*(B25^2))-((2.8172899156*10^-2)*(B25))+(3.05378908) -> 11.490825 | M25: =L25*Fuels!$C$15 -> 540.34228
... B81: 3500 | C81: =((8.5770134353*10^-19)*(B81^6))-((1.0374875556*10^-14)*(B81^5))+((4.9689475953*10^-11)*(B81^4))-((1.2019118054*10^-7)*(B81^3))+((1.5650954893*10^-4)*(B81^2))-((4.8239362033*10^-2)*(B81))+((5.2084519626)) -> 184.5465 | D81: =C81*Fuels!$C$13 -> 1476.372 | F81: =((6.6506859177*10^-19)*(B81^6))-((7.8984343104*10^-15)*(B81^5))+((3.6879849877*10^-11)*(B81^4))-((8.6386228559*10^-8)*(B81^3))+((1.1074017861*10^-4)*(B81^2))-((3.1241611608*10^-2)*(B81))+(3.3006694533) -> 155.16207 | G81: =F81*Fuels!$C$14 -> 1396.4587 | I81: =((6.4958291549*10^-19)*(B81^6))-((7.8224528491*10^-15)*(B81^5))+((3.7120417697*10^-11)*(B81^4))-((8.798317617*10^-8)*(B81^3))+((1.0982327235*10^-4)*(B81^2))-((3.2606444641*10^-2)*(B81))+((3.5786489003)) -> 118.50222 | J81: =I81*(Fuels!$C$16/2) -> 1481.2777 | L81: =((5.9376621671*10^-19)*(B81^6))-((7.1020711589*10^-15)*(B81^5))+((3.3460896805*10^-11)*(B81^4))-((7.8909601634*10^-8)*(B81^3))+((9.8599769212*10^-5)*(B81^2))-((2.8172899156*10^-2)*(B81))+(3.05378908) -> 111.63156 | M81: =L81*Fuels!$C$15 -> 5249.3402

Sheet Fuels
B2: Hydrocarbon fuel balance Iso-octane | G2: Molecule | H2: Atomic weight | I2: Hydrocarbon fuel balance Methonol
B4: C8H18 + A(O2+3.76 N2) = xCO2 + yH2O + 3.76 N2 | G4: Carbon | H4: 12.011 | I4: CH4 O + A(O2+3.76 N2) = xCO2 + yH2O + 3.76 N2
G5: Hydrogen | H5: 1.008
B6: molecule | C6: No of moecules | G6: oxegen | H6: 15.999 | N6: molecule | O6: No of moecules
B7: Carbon (x) | C7: 8 | G7: Nitrogen | H7: 14.007 | N7: Carbon (x) | O7: 1
B8: Hdrogen(Y) | C8: 18 | G8: % of N2 in Air | H8: 3.761904 | N8: Hydrogen(Y) | O8: 4
B9: oxengen | C9: 0 | G9: kmols per kg | H9: 32 | N9: oxengen | O9: 1
B11: Molecular compound | G11: Compund | H11: (ΔHof) Enthalpy of combustion (Energy Required for) | J11: Enthalpy of combustion (Energy Required for) | N11: Molecular compound
B12: A | C12: =$C$16/2 -> 12.5 | G12: iso-octane (Kj/mol) | H12: 259.2 | N12: A | O12: =O16/2 -> 1.5
B13: CO2 | C13: =C7 -> 8 | G13: Methanol (Kj/mol) | H13: 201.5 | N13: CO2 | O13: =O7 -> 1
B14: H2O | C14: =C8/2 -> 9 | G14: CO2 (Kj/mol) | H14: 393.5 | N14: H2O | O14: =$O$8/2 -> 2
B15: N2 | C15: =C12*H8 -> 47.0238 | G15: H2O (Gas) (Kj/mol) | H15: 241.8 | N15: N2 | O15: =$O$12*$H$8 -> 5.642856
B16: O | C16: =(2*C13)+C14 -> 25 | G16: H2O (Liquid) (Kj/mol) | H16: 285.8 | N16: O | O16: =(2*O13)+O14-1 -> 3
B18: Masses | G18: Toatal mass of fuel combined fuel | N18: Masses
B19: mass of Air | C19: =$C$12*((2*$H$6)+($H$8*2*$H$7)) -> 1717.2997 | G19: =$C$20+$O$20 -> 146.274 | N19: mass of Air | O19: =O12*((2*$H$6)+($H$8*2*$H$7)) -> 206.07597
B20: Mass of octane Fuel | C20: =($C$7*$H$4)+($C$8*$H$5) -> 114.232 | G20: (%) Fuel mass of iso-octane | H20: (%) fuel mass of Methanol | N20: Mass of Methanol Fuel | O20: =($H$4+$H$6)+(H5*O8) -> 32.042
G21: =($C$20/$G$19)*100 -> 78.094535 | H21: =($O$20/$G$19)*100 -> 21.905465
B22: stoichiometric AFR by mass | C22: =C19/C20 -> 15.033438 | N22: stoichiometric AFR by mass | O22: =O19/O20 -> 6.4314327
E23: Iso -Octane Enthalpy | I23: Methanol Enthalpy
B25: Energy output per mol burnt | C25: =F27-E27 -> 5065 | E25: Enthalpy required for reaction (MJ) | F25: Reaction Engery (MJ) | G25: Net (Product) Enthalpy | I25: Enthalpy required for reaction (MJ) | J25: Reaction Engery (MJ) | K25: Net (Product) Enthalpy | N25: Energy output per mol burnt (MJ) | O25: =J27-I27 -> 675.6
E27: =H12 -> 259.2 | F27: =(((C13*H14)+(C14*$H$15)+($C$15*0))) -> 5324.2 | G27: =F27-E27 -> 5065 | I27: =H13 -> 201.5 | J27: =(((O13*Fuels!H14)+(O14*H15)+(O15*0))) -> 877.1 | K27: =J27-I27 -> 675.6
B28: eq ratio | C28: =C22/13.7 -> 1.0973313 | N28: mass of fuel per Kmol (Kg) | O28: =((O7*H4)+(O8*H5)+(O9*H6)) -> 32.042
B30: fuel ratio | C30: =C22*C28 -> 16.496662
N31: LHV | O31: =O25/O28 -> 21.084826
F33: enthalpy of oxegen
F34: https://www.ohio.edu/mechanical/thermo/property_tables/combustion/oxygen_enth.html
N35: eq ratio | O35: =O22/13.7 -> 0.46944765
N37: fuel ratio | O37: =O22*O35 -> 3.019221

Sheet 50% - 50%
B2: Hydrocarbon fuel balance 50% Iso-octane & 50% Ethanol | I2: Molecule | J2: Atomic weight
B4: CH4O + C8H18 + A(O2+3.76 N2) = (n1)CO2 + (n2)H2O + 3.76 (n3)N2 | I4: Carbon | J4: 12.011
I5: Hydrogen | J5: 1.008
B6: fuel composition Molecules | I6: oxegen | J6: 15.999
B7: Molecule | C7: Toatal No of moecules | I7: Nitrogen | J7: 14.007
B8: Carbon (x) | C8: =Fuels!C7+Fuels!O7 -> 9 | I8: % of N2 in Air | J8: 3.761904
B9: Hydrogen(Y) | C9: =Fuels!C8+Fuels!O8 -> 22
B10: oxengen | C10: =Fuels!O9+Fuels!C9 -> 1
I11: Compund | J11: (ΔHof) Enthalpy of combustion (Energy Required for)
B12: Product Molecules | I12: iso-octane (Kj/mol) | J12: 259.2
B13: A | C13: =C17/2 -> 14 | I13: Methanol (Kj/mol) | J13: 201.5
B14: (n1) CO2 | C14: =C8 -> 9 | I14: CO2 (Kj/mol) | J14: 393.5
B15: (n2) H2O | C15: =C9/2 -> 11 | I15: H2O (Gas) (Kj/mol) | J15: 241.8
B16: (n3) N2 | C16: =C13*J8 -> 52.666656 | I16: H2O (Liquid) (Kj/mol) | J16: 285.8
B17: O | C17: =(2*C14)+C15-C10 -> 28
B20: AFR | C20: =($C$13*((2*$J$6)+($J$8*2*$J$7)))/(($C$8*$J$4)+($C$9*$J$5)+(J6)) -> 13.149129
I22: Masses (kg)
B23: Net (Product) Enthalpy (H2O as Gas) | C23: =J39-I39 -> 5740.6
I24: Toatal mass of Fuel Blend | J24: Mass of Air
B25: Net (Product) Enthalpy (H2O as Liquid) | C25: =K39-I39 -> 6224.6
I26: =($C$8*$J$4)+($C$9*$J$5)+(J6) -> 146.274 | J26: =$C$13*((2*$J$6)+($J$8*2*$J$7)) -> 1923.3757
B28: LHV (MJ) | C28: HHV (MJ)
B30: =C23/I26 -> 39.245526 | C30: =C25/I26 -> 42.554384 | I30: (%) Fuel mass of iso-octane | J30: (%) fuel mass of Methanol
I32: =Fuels!G21 -> 78.094535 | J32: =Fuels!H21 -> 21.905465
B33: Mass of CO2 (KG) | C33: =($C$14*($J$4+(J6*2))) -> 396.081
B35: CO2 Per Kg of Fuel | C35: =C33/I26 -> 2.7078018 | I35: Enthalpy With H2O as Gas | K35: Enthalpy With H2O as Liquid
I37: Enthalpy required for reaction (MJ) | J37: Reaction Engery (MJ) | K37: Reaction Engery (MJ)
I39: =J12+J13 -> 460.7 | J39: =((($C$14*J14)+('50% - 50%'!$C$15*J15)+('50% - 50%'!$C$16*0))) -> 6201.3 | K39: =((($C$14*$J$14)+('50% - 50%'!$C$15*$J$16)+('50% - 50%'!$C$16*0))) -> 6685.3

Sheet Task 2 & Goal seek
A1: RPM | B1: 1800 | E1: Hydrocarbon fuel balance Iso-octane | J1: Molecule | K1: Atomic weight
A2: No of Cylinders | B2: 4
A3: Displacement (cc) | B3: 1600 | E3: CxHy + A(O2+3.76 N2) = xCO2 + yH2O + 3.76 N2 | J3: Carbon | K3: 12.011
A4: Volume Per cyl (cc) | B4: =B3/B2 -> 400 | J4: Hydrogen | K4: 1.008
A5: Vc (cc) | B5: 40 | E5: molecule | F5: No of moecules | J5: oxegen | K5: 15.999
A6: Vol Effic (%) | B6: 0.4 | E6: Carbon (x) | F6: 8 | J6: Nitrogen | K6: 14.007
A7: temp (K) | B7: =20+273 -> 293 | E7: Hdrogen(Y) | F7: 18 | J7: % of N2 in Air | K7: 3.761904
A8: R | B8: 8314 | E8: oxengen | F8: 0 | J8: kmols per kg | K8: 32
A9: inlet P | B9: =1*10^5 -> 100000
A10: ZAB | B10: =4.7*10^13 -> 47000000000000 | E10: Molecular compound | J10: Compund | K10: Enthalpy of combustion
A11: EA | B11: -67837 | E11: A | F11: =(F15/2) -> 12.5 | J11: iso-octane (Kj/mol) | K11: 259.2
A12: No of kmol's drawn in at a sprcific Vc | B12: =(((10^5*($B$4*$B$6)*10^-6)/($B$8*$B$7))) -> 6.5681391e-06 | E12: CO2 | F12: =F6 -> 8 | J12: CO2 (Kj/mol) | K12: 393.5
E13: H2O | F13: =(F7/2) -> 9 | J13: H2O (Gas) (Kj/mol) | K13: 241.8
E14: N2 | F14: =F11*K7 -> 47.0238 | J14: H2O (Liquid) (Kj/mol) | K14: 285.8
E15: O | F15: =(2*F12)+F13 -> 25
E17: Masses
E19: Mass of Air | F19: =F11*((2*K5)+(K7*2*K6)) -> 1717.2997
E21: mass of fuel per Kmol (Kg) | F21: =(F6*K3)+(F7*K4) -> 114.232
M23: Goal Seek Results | Q23: Crank angle | R23: Pressure (Bar) | S23: Pressure (M) | T23: Phi | U23: Enthalpy | V23: flame Temp (k) | W23: (n) no of mols Drawn Per cycle | X23: Alpha | Y23: (n1) CO2 | Z23: (n2) H2O | AA23: (n3) O2 | AB23: (n4) N2 | AC23: (n3) O3 | AD23: (n4) N3 | AE23: Nox (kmol/deg) | AF23: Kmol/Cycle | AG23: Exhaust Kmols | AH23: NOx PPM
E24: AFR | F24: =F19/F21 -> 15.033438 | M24: Phi | N24: Enthalpy | O24: Flame Temps (K) | Q24: 0 | R24: 10 | S24: =R24*10^5 -> 1000000 | T24: 1 | U24: 5065 | V24: 2327.3884 | W24: =(((10^5*($B$4*$B$6)*10^-6)/($B$8*$B$7))) -> 6.5681391e-06 | X24: =$W$24/(T24*$F$11*((AA24/2)+3.76)) -> 1.3974764e-07 | Y24: =T24*$F$12 -> 8 | Z24: =T24*$F$13 -> 9 | AA24: =(($F$15/2)*(1-T24)) -> 0 | AB24: =$F$14 -> 47.0238 | AC24: =((AA24*X24)/($B$5*10^-6)) -> 0 | AD24: =((AB24*X24)/($B$5*10^-6)) -> 0.16428663 | AE24: =((4.7*10^13*AD24*(AC24^0.5)*EXP($B$11/V24))/($B$1*6))*$B$5*10^-6 -> 0
M25: 1 | N25: 5065 | O25: 2390.3031 | Q25: 1 | R25: =R24+2 -> 12 | S25: =R25*10^5 -> 1200000 | T25: 0.99 | U25: =(((Y25*$K$12)+(Z25*$K$13)+($F$14*0)))-$A$30 -> 5011.758 | V25: 2322.5378 | W25: =(((10^5*($B$4*$B$6)*10^-6)/($B$8*$B$7))) -> 6.5681391e-06 | X25: =$W$24/(T25*$F$11*((AA25/2)+3.76)) -> 1.388512e-07 | Y25: =T25*$F$12 -> 7.92 | Z25: =T25*$F$13 -> 8.91 | AA25: =(($F$15/2)*(1-T25)) -> 0.125 | AB25: =$F$14 -> 47.0238 | AC25: =((AA25*X25)/($B$5*10^-6)) -> 0.00043391 | AD25: =((AB25*X25)/($B$5*10^-6)) -> 0.16323278 | AE25: =((4.7*10^13*AD25*(AC25^0.5)*EXP($B$11/V25))/($B$1*6))*$B$5*10^-6 -> 1.2226696e-10
A26: Enthalpy | C26: Enthalpy With H2O as Liquid | M26: 0.99 | N26: 5011.758 | O26: 2373.8991 | Q26: 2 | R26: =R25+2 -> 14 | S26: =R26*10^5 -> 1400000 | T26: 0.98 | U26: =(((Y26*$K$12)+(Z26*$K$13)+($F$14*0)))-$A$30 -> 4958.516 | V26: 2295.6162 | W26: =(((10^5*($B$4*$B$6)*10^-6)/($B$8*$B$7))) -> 6.5681391e-06 | X26: =$W$24/(T26*$F$11*((AA26/2)+3.76)) -> 1.3801149e-07 | Y26: =T26*$F$12 -> 7.84 | Z26: =T26*$F$13 -> 8.82 | AA26: =(($F$15/2)*(1-T26)) -> 0.25 | AB26: =$F$14 -> 47.0238 | AC26: =((AA26*X26)/($B$5*10^-6)) -> 0.00086257178 | AD26: =((AB26*X26)/($B$5*10^-6)) -> 0.16224561 | AE26: =((4.7*10^13*AD26*(AC26^0.5)*EXP($B$11/V26))/($B$1*6))*$B$5*10^-6 -> 1.2164976e-10
E27: Energy output per mol burnt (H2O Gas) | F27: =B30-A30 -> 5065 | I27: iso octane Goal seek Olynomial Equation | M27: 0.98 | N27: 4958.516 | O27: 2357.4217 | Q27: 3 | R27: =R26+2 -> 16 | S27: =R27*10^5 -> 1600000 | T27: 0.97 | U27: =(((Y27*$K$12)+(Z27*$K$13)+($F$14*0)))-$A$30 -> 4905.274 | V27: 2279.6027 | W27: =(((10^5*($B$4*$B$6)*10^-6)/($B$8*$B$7))) -> 6.5681391e-06 | X27: =$W$24/(T27*$F$11*((AA27/2)+3.76)) -> 1.3722665e-07 | Y27: =T27*$F$12 -> 7.76 | Z27: =T27*$F$13 -> 8.73 | AA27: =(($F$15/2)*(1-T27)) -> 0.375 | AB27: =$F$14 -> 47.0238 | AC27: =((AA27*X27)/($B$5*10^-6)) -> 0.0012864998 | AD27: =((AB27*X27)/($B$5*10^-6)) -> 0.16132296 | AE27: =((4.7*10^13*AD27*(AC27^0.5)*EXP($B$11/V27))/($B$1*6))*$B$5*10^-6 -> 1.2002974e-10
A28: Product Energy (MJ) | B28: Reaction Engery (MJ) | C28: Reaction Engery (MJ) | I28: (8ϕ x Poly CO2 )+ (9ϕ x Poly H20) + (A(1-ϕ) Poly O2) + (47 N2) | M28: 0.97 | N28: 4905.274 | O28: 2340.8652 | Q28: 4 | R28: =R27+2 -> 18 | S28: =R28*10^5 -> 1800000 | T28: 0.96 | U28: =(((Y28*$K$12)+(Z28*$K$13)+($F$14*0)))-$A$30 -> 4852.032 | V28: 2263.5075 | W28: =(((10^5*($B$4*$B$6)*10^-6)/($B$8*$B$7))) -> 6.5681391e-06 | X28: =$W$24/(T28*$F$11*((AA28/2)+3.76)) -> 1.3649499e-07 | Y28: =T28*$F$12 -> 7.68 | Z28: =T28*$F$13 -> 8.64 | AA28: =(($F$15/2)*(1-T28)) -> 0.5 | AB28: =$F$14 -> 47.0238 | AC28: =((AA28*X28)/($B$5*10^-6)) -> 0.0017061874 | AD28: =((AB28*X28)/($B$5*10^-6)) -> 0.16046283 | AE28: =((4.7*10^13*AD28*(AC28^0.5)*EXP($B$11/V28))/($B$1*6))*$B$5*10^-6 -> 1.1126984e-10
E29: Energy output per mol burnt (H20 Liquid) | F29: =C30-A30 -> 5461 | M29: 0.96 | N29: 4852.032 | O29: 2324.2345 | Q29: 5 | R29: =R28+2 -> 20 | S29: =R29*10^5 -> 2000000 | T29: 0.95 | U29: =(((Y29*$K$12)+(Z29*$K$13)+($F$14*0)))-$A$30 -> 4798.79 | V29: 2247.3249 | W29: =(((10^5*($B$4*$B$6)*10^-6)/($B$8*$B$7))) -> 6.5681391e-06 | X29: =$W$24/(T29*$F$11*((AA29/2)+3.76)) -> 1.3581497e-07 | Y29: =T29*$F$12 -> 7.6 | Z29: =T29*$F$13 -> 8.55 | AA29: =(($F$15/2)*(1-T29)) -> 0.625 | AB29: =$F$14 -> 47.0238 | AC29: =((AA29*X29)/($B$5*10^-6)) -> 0.0021221089 | AD29: =((AB29*X29)/($B$5*10^-6)) -> 0.1596634 | AE29: =((4.7*10^13*AD29*(AC29^0.5)*EXP($B$11/V29))/($B$1*6))*$B$5*10^-6 -> 9.9507336e-11
A30: =K11 -> 259.2 | B30: =(((F12*K12)+(F13*K13)+(F14*0))) -> 5324.2 | C30: =(((F12*K12)+(F13*K14)+(F14*0))) -> 5720.2 | H30: Eq Ratio | I30: 0.97 | M30: 0.95 | N30: 4798.79 | O30: 2307.5237 | Q30: 6 | R30: =R29+2 -> 22 | S30: =R30*10^5 -> 2200000 | T30: 0.9 | U30: =(((Y30*$K$12)+(Z30*$K$13)+($F$14*0)))-$A$30 -> 4532.58 | V30: 2165.0278 | W30: =(((10^5*($B$4*$B$6)*10^-6)/($B$8*$B$7))) -> 6.5681391e-06 | X30: =$W$24/(T30*$F$11*((AA30/2)+3.76)) -> 1.3314358e-07 | Y30: =T30*$F$12 -> 7.2 | Z30: =T30*$F$13 -> 8.1 | AA30: =(($F$15/2)*(1-T30)) -> 1.25 | AB30: =$F$14 -> 47.0238 | AC30: =((AA30*X30)/($B$5*10^-6)) -> 0.0041607368 | AD30: =((AB30*X30)/($B$5*10^-6)) -> 0.15652292 | AE30: =((4.7*10^13*AD30*(AC30^0.5)*EXP($B$11/V30))/($B$1*6))*$B$5*10^-6 -> 4.3362222e-11
M31: 0.9 | N31: 4532.58 | O31: 2222.6845 | Q31: 7 | R31: =R30+2 -> 24 | S31: =R31*10^5 -> 2400000 | T31: 0.85 | U31: =(((Y31*$K$12)+(Z31*$K$13)+($F$14*0)))-$A$30 -> 4266.37 | V31: 2080.2455 | W31: =(((10^5*($B$4*$B$6)*10^-6)/($B$8*$B$7))) -> 6.5681391e-06 | X31: =$W$24/(T31*$F$11*((AA31/2)+3.76)) -> 1.3159719e-07 | Y31: =T31*$F$12 -> 6.8 | Z31: =T31*$F$13 -> 7.65 | AA31: =(($F$15/2)*(1-T31)) -> 1.875 | AB31: =$F$14 -> 47.0238 | AC31: =((AA31*X31)/($B$5*10^-6)) -> 0.0061686183 | AD31: =((AB31*X31)/($B$5*10^-6)) -> 0.154705 | AE31: =((4.7*10^13*AD31*(AC31^0.5)*EXP($B$11/V31))/($B$1*6))*$B$5*10^-6 -> 1.4552868e-11
M32: 0.85 | N32: 4266.37 | O32: 2135.4958 | Q32: 8 | R32: =R31+2 -> 26 | S32: =R32*10^5 -> 2600000 | T32: 0.8 | U32: =(((Y32*$K$12)+(Z32*$K$13)+($F$14*0)))-$A$30 -> 4000.16 | V32: 1992.7424 | W32: =(((10^5*($B$4*$B$6)*10^-6)/($B$8*$B$7))) -> 6.5681391e-06 | X32: =$W$24/(T32*$F$11*((AA32/2)+3.76)) -> 1.3110058e-07 | Y32: =T32*$F$12 -> 6.4 | Z32: =T32*$F$13 -> 7.2 | AA32: =(($F$15/2)*(1-T32)) -> 2.5 | AB32: =$F$14 -> 47.0238 | AC32: =((AA32*X32)/($B$5*10^-6)) -> 0.0081937863 | AD32: =((AB32*X32)/($B$5*10^-6)) -> 0.15412119 | AE32: =((4.7*10^13*AD32*(AC32^0.5)*EXP($B$11/V32))/($B$1*6))*$B$5*10^-6 -> 3.9909161e-12
H33: Goal Seek | M33: 0.8 | N33: 4000.16 | O33: 2045.6734 | Q33: 9 | R33: =R32+2 -> 28 | S33: =R33*10^5 -> 2800000 | T33: 0.75 | U33: =(((Y33*$K$12)+(Z33*$K$13)+($F$14*0)))-$A$30 -> 3733.95 | V33: 1902.3214 | W33: =(((10^5*($B$4*$B$6)*10^-6)/($B$8*$B$7))) -> 6.5681391e-06 | X33: =$W$24/(T33*$F$11*((AA33/2)+3.76)) -> 1.3163016e-07 | Y33: =T33*$F$12 -> 6 | Z33: =T33*$F$13 -> 6.75 | AA33: =(($F$15/2)*(1-T33)) -> 3.125 | AB33: =$F$14 -> 47.0238 | AC33: =((AA33*X33)/($B$5*10^-6)) -> 0.010283606 | AD33: =((AB33*X33)/($B$5*10^-6)) -> 0.15474375 | AE33: =((4.7*10^13*AD33*(AC33^0.5)*EXP($B$11/V33))/($B$1*6))*$B$5*10^-6 -> 8.9007986e-13
M34: 0.75 | N34: 3733.95 | O34: 1952.9587 | Q34: 10 | R34: =R33+2 -> 30 | S34: =R34*10^5 -> 3000000 | T34: 0.7 | U34: =(((Y34*$K$12)+(Z34*$K$13)+($F$14*0)))-$A$30 -> 3467.74 | V34: 1808.8507 | W34: =(((10^5*($B$4*$B$6)*10^-6)/($B$8*$B$7))) -> 6.5681391e-06 | X34: =$W$24/(T34*$F$11*((AA34/2)+3.76)) -> 1.3321109e-07 | Y34: =T34*$F$12 -> 5.6 | Z34: =T34*$F$13 -> 6.3 | AA34: =(($F$15/2)*(1-T34)) -> 3.75 | AB34: =$F$14 -> 47.0238 | AC34: =((AA34*X34)/($B$5*10^-6)) -> 0.012488539 | AD34: =((AB34*X34)/($B$5*10^-6)) -> 0.15660229 | AE34: =((4.7*10^13*AD34*(AC34^0.5)*EXP($B$11/V34))/($B$1*6))*$B$5*10^-6 -> 1.572247e-13
E35: LHV | F35: =F27/F21 -> 44.33959 | H35: Flame Temprature | J35: 2340.8652 | M35: 0.7 | N35: 3467.74 | O35: 1857.1459 | Q35: 11 | R35: =R34+2 -> 32 | S35: =R35*10^5 -> 3200000 | T35: 0.65 | U35: =(((Y35*$K$12)+(Z35*$K$13)+($F$14*0)))-$A$30 -> 3201.53 | V35: 1712.2911 | W35: =(((10^5*($B$4*$B$6)*10^-6)/($B$8*$B$7))) -> 6.5681391e-06 | X35: =$W$24/(T35*$F$11*((AA35/2)+3.76)) -> 1.3592036e-07 | Y35: =T35*$F$12 -> 5.2 | Z35: =T35*$F$13 -> 5.85 | AA35: =(($F$15/2)*(1-T35)) -> 4.375 | AB35: =$F$14 -> 47.0238 | AC35: =((AA35*X35)/($B$5*10^-6)) -> 0.01486629 | AD35: =((AB35*X35)/($B$5*10^-6)) -> 0.1597873 | AE35: =((4.7*10^13*AD35*(AC35^0.5)*EXP($B$11/V35))/($B$1*6))*$B$5*10^-6 -> 2.1117272e-14
M36: 0.65 | N36: 3201.53 | O36: 1758.1155 | Q36: 12 | R36: =R35+2 -> 34 | S36: =R36*10^5 -> 3400000 | T36: 0.6 | U36: =(((Y36*$K$12)+(Z36*$K$13)+($F$14*0)))-$A$30 -> 2935.32 | V36: 1612.7439 | W36: =(((10^5*($B$4*$B$6)*10^-6)/($B$8*$B$7))) -> 6.5681391e-06 | X36: =$W$24/(T36*$F$11*((AA36/2)+3.76)) -> 1.3989647e-07 | Y36: =T36*$F$12 -> 4.8 | Z36: =T36*$F$13 -> 5.4 | AA36: =(($F$15/2)*(1-T36)) -> 5 | AB36: =$F$14 -> 47.0238 | AC36: =((AA36*X36)/($B$5*10^-6)) -> 0.017487058 | AD36: =((AB36*X36)/($B$5*10^-6)) -> 0.16446159 | AE36: =((4.7*10^13*AD36*(AC36^0.5)*EXP($B$11/V36))/($B$1*6))*$B$5*10^-6 -> 2.0435583e-15
E37: HHV | F37: =F29/F21 -> 47.806219 | H37: Polynomial | J37: =($F$12*$I$30*( 8.5770134353E-19*$J$35^6 - 1.0374875556E-14*$J$35^5 + 4.9689475953E-11*$J$35^4 - 0.00000012019118054*$J$35^3 + 0.00015650954893*$J$35^2 - 0.048239362033*$J$35 + 5.2084519626) + ($F$13*$I$30*(6.6506859177E-19*$J$35^6 - 7.8984343104E-15*$J$35^5 + 3.6879849877E-11*$J$35^4 - 0.000000086386228559*$J$35^3 + 0.00011074017861*$J$35^2 - 0.031241611608*$J$35 + 3.3006694533) + ($F$14*(5.9376621671E-19*$J$35^6 - 7.1020711589E-15*$J$35^5 + 3.3460896805E-11*$J$35^4 - 0.000000078909601634*$J$35^3 + 0.000098599769212*$J$35^2 - 0.028172899156*$J$35 + 3.05378908) + ($F$11*(1-I30)*(6.4958291549E-19*$J$35^6 - 7.8224528491E-15*$J$35^5 + 3.7120417697E-11*$J$35^4 - 0.00000008798317617*$J$35^3 + 0.00010982327235*$J$35^2 - 0.032606444641*$J$35 + 3.5786489003))))) -> 4905.27 | M37: 0.6 | N37: 2935.32 | O37: 1655.8693
E40: Mass of CO2 | F40: =(F12*(K3+(K5*2))) -> 352.072
E42: CO2 Per Kg of Fuel | F42: =F40/F21 -> 3.0820786
B45: Phi | C45: Enthalpy | D45: (n1) CO2 | E45: (n2) H2O | F45: (n3) O2 | G45: (n4) N2 | H45: Alpha | I45: Flame Temp | J45: [O2] | K45: [N2] | L45: Nox (kmol/deg) | M45: Kmol/Cycle | N45: Exhaust Kmols | O45: NOx PPM
B46: 1 | C46: 5065 | D46: =B46*$F$12 -> 8 | E46: =B46*$F$13 -> 9 | F46: =(($F$15/2)*(1-B46)) -> 0 | G46: =$F$14 -> 47.0238 | H46: =$B$12/(B46*$F$11*((1+3.76))) -> 1.1038889e-07 | I46: 2390.3031 | J46: =((F46*H46)/($B$5*10^-6)) -> 0 | K46: =((G46*H46)/($B$5*10^-6)) -> 0.12977263 | L46: =((4.7*10^13*K46*(J46^0.5)*EXP($B$11/(B8*I46)))/($B$1*6))*$B$5*10^-6 -> 0 | M46: =' NOx PPM'!AD5 -> 0 | N46: =H46*(D46+E46+F46+G46) -> 7.0675164e-06 | O46: =M46/N46*10^6 -> 0
B47: 0.99 | C47: =(((D47*$K$12)+(E47*$K$13)+($G$47*0)))-$A$30 -> 5011.758 | D47: =B47*$D$46 -> 7.92 | E47: =B47*$F$13 -> 8.91 | F47: =(($F$15/2)*(1-B47)) -> 0.125 | G47: =$F$14 -> 47.0238 | H47: =$B$12/(B47*$F$11*((1+3.76))) -> 1.1150393e-07 | I47: 2373.8991 | J47: =((F47*H47)/($B$5*10^-6)) -> 0.00034844979 | K47: =((G47*H47)/($B$5*10^-6)) -> 0.13108346 | L47: =((4.7*10^13*K47*(J47^0.5)*EXP($B$11/I47))/($B$1*6))*$B$5*10^-6 -> 1.6552702e-10 | M47: =' NOx PPM'!AD27 -> 2.0920718e-07 | N47: =H47*(D47+E47+F47+G47) -> 7.1338878e-06 | O47: =M47/N47*10^6 -> 29325.83
B48: 0.98 | C48: =(((D48*$K$12)+(E48*$K$13)+($G$47*0)))-$A$30 -> 4958.516 | D48: =B48*$D$46 -> 7.84 | E48: =B48*$F$13 -> 8.82 | F48: =(($F$15/2)*(1-B48)) -> 0.25 | G48: =$F$14 -> 47.0238 | H48: =$B$12/(B48*$F$11*((1+3.76))) -> 1.1264173e-07 | I48: 2357.4217 | J48: =((F48*H48)/($B$5*10^-6)) -> 0.00070401079 | K48: =((G48*H48)/($B$5*10^-6)) -> 0.13242105 | L48: =((4.7*10^13*K48*(J48^0.5)*EXP($B$11/I48))/($B$1*6))*$B$5*10^-6 -> 1.9464971e-10 | M48: =' NOx PPM'!AD49 -> 2.4784541e-07 | N48: =H48*(D48+E48+F48+G48) -> 7.2016137e-06 | O48: =M48/N48*10^6 -> 34415.26
B49: 0.97 | C49: =(((D49*$K$12)+(E49*$K$13)+($G$47*0)))-$A$30 -> 4905.274 | D49: =B49*$D$46 -> 7.76 | E49: =B49*$F$13 -> 8.73 | F49: =(($F$15/2)*(1-B49)) -> 0.375 | G49: =$F$14 -> 47.0238 | H49: =$B$12/(B49*$F$11*((1+3.76))) -> 1.1380298e-07 | I49: 2340.8652 | J49: =((F49*H49)/($B$5*10^-6)) -> 0.001066903 | K49: =((G49*H49)/($B$5*10^-6)) -> 0.13378622 | L49: =((4.7*10^13*K49*(J49^0.5)*EXP($B$11/I49))/($B$1*6))*$B$5*10^-6 -> 1.9751042e-10 | M49: =' NOx PPM'!AD71 -> 2.5361742e-07 | N49: =H49*(D49+E49+F49+G49) -> 7.270736e-06 | O49: =M49/N49*10^6 -> 34881.946
B50: 0.96 | C50: =(((D50*$K$12)+(E50*$K$13)+($G$47*0)))-$A$30 -> 4852.032 | D50: =B50*$D$46 -> 7.68 | E50: =B50*$F$13 -> 8.64 | F50: =(($F$15/2)*(1-B50)) -> 0.5 | G50: =$F$14 -> 47.0238 | H50: =$B$12/(B50*$F$11*((1+3.76))) -> 1.1498843e-07 | I50: 2324.2345 | J50: =((F50*H50)/($B$5*10^-6)) -> 0.0014373554 | K50: =((G50*H50)/($B$5*10^-6)) -> 0.13517982 | L50: =((4.7*10^13*K50*(J50^0.5)*EXP($B$11/I50))/($B$1*6))*$B$5*10^-6 -> 1.8825901e-10 | M50: =' NOx PPM'!AD92 -> 2.4403221e-07 | N50: =H50*(D50+E50+F50+G50) -> 7.3412983e-06 | O50: =M50/N50*10^6 -> 33241.015
B51: 0.95 | C51: =(((D51*$K$12)+(E51*$K$13)+($G$47*0)))-$A$30 -> 4798.79 | D51: =B51*$D$46 -> 7.6 | E51: =B51*$F$13 -> 8.55 | F51: =(($F$15/2)*(1-B51)) -> 0.625 | G51: =$F$14 -> 47.0238 | H51: =$B$12/(B51*$F$11*((1+3.76))) -> 1.1619883e-07 | I51: 2307.5237 | J51: =((F51*H51)/($B$5*10^-6)) -> 0.0018156068 | K51: =((G51*H51)/($B$5*10^-6)) -> 0.13660277 | L51: =((4.7*10^13*K51*(J51^0.5)*EXP($B$11/I51))/($B$1*6))*$B$5*10^-6 -> 1.7307599e-10 | M51: =' NOx PPM'!AD114 -> 2.2671423e-07 | N51: =H51*(D51+E51+F51+G51) -> 7.4133462e-06 | O51: =M51/N51*10^6 -> 30581.902
B52: 0.9 | C52: =(((D52*$K$12)+(E52*$K$13)+($G$47*0)))-$A$30 -> 4532.58 | D52: =B52*$D$46 -> 7.2 | E52: =B52*$F$13 -> 8.1 | F52: =(($F$15/2)*(1-B52)) -> 1.25 | G52: =$F$14 -> 47.0238 | H52: =$B$12/(B52*$F$11*((1+3.76))) -> 1.2265433e-07 | I52: 2222.6845 | J52: =((F52*H52)/($B$5*10^-6)) -> 0.0038329477 | K52: =((G52*H52)/($B$5*10^-6)) -> 0.14419181 | L52: =((4.7*10^13*K52*(J52^0.5)*EXP($B$11/I52))/($B$1*6))*$B$5*10^-6 -> 8.6425627e-11 | M52: =' NOx PPM'!AU5 -> 1.2122137e-07 | N52: =H52*(D52+E52+F52+G52) -> 7.7976015e-06 | O52: =M52/N52*10^6 -> 15545.981
B53: 0.85 | C53: =(((D53*$K$12)+(E53*$K$13)+($G$47*0)))-$A$30 -> 4266.37 | D53: =B53*$D$46 -> 6.8 | E53: =B53*$F$13 -> 7.65 | F53: =(($F$15/2)*(1-B53)) -> 1.875 | G53: =$F$14 -> 47.0238 | H53: =$B$12/(B53*$F$11*((1+3.76))) -> 1.2986929e-07 | I53: 2135.4958 | J53: =((F53*H53)/($B$5*10^-6)) -> 0.0060876228 | K53: =((G53*H53)/($B$5*10^-6)) -> 0.15267368 | L53: =((4.7*10^13*K53*(J53^0.5)*EXP($B$11/I53))/($B$1*6))*$B$5*10^-6 -> 3.3170533e-11 | M53: =' NOx PPM'!AU26 -> 5.125105e-08 | N53: =H53*(D53+E53+F53+G53) -> 8.2270634e-06 | O53: =M53/N53*10^6 -> 6229.5679
B54: 0.8 | C54: =(((D54*$K$12)+(E54*$K$13)+($G$47*0)))-$A$30 -> 4000.16 | D54: =B54*$D$46 -> 6.4 | E54: =B54*$F$13 -> 7.2 | F54: =(($F$15/2)*(1-B54)) -> 2.5 | G54: =$F$14 -> 47.0238 | H54: =$B$12/(B54*$F$11*((1+3.76))) -> 1.3798612e-07 | I54: 2045.6734 | J54: =((F54*H54)/($B$5*10^-6)) -> 0.0086241322 | K54: =((G54*H54)/($B$5*10^-6)) -> 0.16221579 | L54: =((4.7*10^13*K54*(J54^0.5)*EXP($B$11/I54))/($B$1*6))*$B$5*10^-6 -> 1.0398136e-11 | M54: =' NOx PPM'!AU48 -> 1.8266124e-08 | N54: =H54*(D54+E54+F54+G54) -> 8.710208e-06 | O54: =M54/N54*10^6 -> 2097.0939
B55: 0.75 | C55: =(((D55*$K$12)+(E55*$K$13)+($G$47*0)))-$A$30 -> 3733.95 | D55: =B55*$D$46 -> 6 | E55: =B55*$F$13 -> 6.75 | F55: =(($F$15/2)*(1-B55)) -> 3.125 | G55: =$F$14 -> 47.0238 | H55: =$B$12/(B55*$F$11*((1+3.76))) -> 1.4718519e-07 | I55: 1952.9587 | J55: =((F55*H55)/($B$5*10^-6)) -> 0.011498843 | K55: =((G55*H55)/($B$5*10^-6)) -> 0.17303017 | L55: =((4.7*10^13*K55*(J55^0.5)*EXP($B$11/I55))/($B$1*6))*$B$5*10^-6 -> 2.6530563e-12 | M55: =' NOx PPM'!AU70 -> 5.4934934e-09 | N55: =H55*(D55+E55+F55+G55) -> 9.2577718e-06 | O55: =M55/N55*10^6 -> 593.39261
B56: 0.7 | C56: =(((D56*$K$12)+(E56*$K$13)+($G$47*0)))-$A$30 -> 3467.74 | D56: =B56*$D$46 -> 5.6 | E56: =B56*$F$13 -> 6.3 | F56: =(($F$15/2)*(1-B56)) -> 3.75 | G56: =$F$14 -> 47.0238 | H56: =$B$12/(B56*$F$11*((1+3.76))) -> 1.5769842e-07 | I56: 1857.1459 | J56: =((F56*H56)/($B$5*10^-6)) -> 0.014784227 | K56: =((G56*H56)/($B$5*10^-6)) -> 0.18538947 | L56: =((4.7*10^13*K56*(J56^0.5)*EXP($B$11/I56))/($B$1*6))*$B$5*10^-6 -> 5.3703525e-13 | M56: =' NOx PPM'!AU91 -> 1.3669992e-09 | N56: =H56*(D56+E56+F56+G56) -> 9.8835591e-06 | O56: =M56/N56*10^6 -> 138.31042
B57: 0.65 | C57: =(((D57*$K$12)+(E57*$K$13)+($G$47*0)))-$A$30 -> 3201.53 | D57: =B57*$D$46 -> 5.2 | E57: =B57*$F$13 -> 5.85 | F57: =(($F$15/2)*(1-B57)) -> 4.375 | G57: =$F$14 -> 47.0238 | H57: =$B$12/(B57*$F$11*((1+3.76))) -> 1.6982907e-07 | I57: 1758.1155 | J57: =((F57*H57)/($B$5*10^-6)) -> 0.018575054 | K57: =((G57*H57)/($B$5*10^-6)) -> 0.1996502 | L57: =((4.7*10^13*K57*(J57^0.5)*EXP($B$11/I57))/($B$1*6))*$B$5*10^-6 -> 8.2830177e-14 | M57: =' NOx PPM'!AU113 -> 2.7241246e-10 | N57: =H57*(D57+E57+F57+G57) -> 1.0605621e-05 | O57: =M57/N57*10^6 -> 25.685667
B58: 0.6 | C58: =(((D58*$K$12)+(E58*$K$13)+($G$47*0)))-$A$30 -> 2935.32 | D58: =B58*$D$46 -> 4.8 | E58: =B58*$F$13 -> 5.4 | F58: =(($F$15/2)*(1-B58)) -> 5 | G58: =$F$14 -> 47.0238 | H58: =$B$12/(B58*$F$11*((1+3.76))) -> 1.8398149e-07 | I58: 1655.8693 | J58: =((F58*H58)/($B$5*10^-6)) -> 0.022997686 | K58: =((G58*H58)/($B$5*10^-6)) -> 0.21628772 | L58: =((4.7*10^13*K58*(J58^0.5)*EXP($B$11/I58))/($B$1*6))*$B$5*10^-6 -> 9.2172762e-15 | M58: =' NOx PPM'!AU135 -> 4.1576261e-11 | N58: =H58*(D58+E58+F58+G58) -> 1.1448027e-05 | O58: =M58/N58*10^6 -> 3.6317402

Sheet  NOx PPM
F1: Hydrocarbon fuel balance Iso-octane | K1: Molecule | L1: Atomic weight
B2: No of Cylinders | C2: 4 | R2: Phi | T2: 1 | AI2: Phi | AK2: 0.9
B3: Displacement (cc) | C3: 1600 | F3: CxHy + A(O2+3.76 N2) = xCO2 + yH2O + 3.76 N2 | K3: Carbon | L3: 12.011
B4: Volume Per cyl (cc) | C4: =C3/C2 -> 400 | K4: Hydrogen | L4: 1.008 | R4: Crank angle | S4: Pressure (Bar) | T4: Temp (k) | U4: Nox (kmol/deg) | V4: (n) no of mols Drawn Per cycle | W4: Alpha | X4: (n1) CO2 | Y4: (n2) H2O | Z4: (n3) O2 | AA4: (n4) N2 | AB4: [O2] | AC4: [N2] | AD4: sum of Nox Kmol/Cycle | AE4: Exhaust Kmols | AF4: NOx PPM | AI4: Crank angle | AJ4: Pressure (Bar) | AK4: Temp (k) | AL4: Nox (kmol/deg) | AM4: (n) no of mols Drawn Per cycle | AN4: Alpha | AO4: (n1) CO2 | AP4: (n2) H2O | AQ4: (n3) O2 | AR4: (n4) N2 | AS4: [O2] | AT4: [N2] | AU4: sum of Nox Kmol/Cycle | AV4: Exhaust Kmols | AW4: NOx PPM
B5: Vc (cc) | C5: 40 | F5: molecule | G5: No of moecules | K5: oxegen | L5: 15.999 | R5: 0 | S5: 10 | T5: 2390.3031 | U5: =((4.7*10^13*AC5*(AB5^0.5)*EXP($C$11/T5))/($C$14*6))*$C$5*10^-6 -> 0 | V5: =(((10^5*($C$4*$C$6)*10^-6)/($C$8*$C$7))) -> 6.5681391e-06 | W5: =V5/($T$2*$G$11*((Z5/2)+3.76)) -> 1.3974764e-07 | X5: =$T$2*$G$12 -> 8 | Y5: =$T$2*$G$13 -> 9 | Z5: =(($G$15/2)*(1-$T$2)) -> 0 | AA5: =$G$14 -> 47.0238 | AB5: =((Z5*W5)/($C$5*10^-6)) -> 0 | AC5: =((AA5*W5)/($C$5*10^-6)) -> 0.16428663 | AD5: =SUM($U$5:$U$20) -> 0 | AE5: =W5*(X5+Y5+Z5+AA5) -> 8.947175e-06 | AF5: =(AD5/AE5)*10^6 -> 0 | AI5: 0 | AJ5: 10 | AK5: 2222.6845 | AL5: =((4.7*10^13*AT5*(AS5^0.5)*EXP($C$11/AK5))/($C$14*6))*$C$5*10^-6 -> 9.7745904e-11 | AM5: =(((10^5*($C$4*$C$6)*10^-6)/($C$8*$C$7))) -> 6.5681391e-06 | AN5: =AM5/($AK$2*$G$11*((AQ5/2)+3.76)) -> 1.3314358e-07 | AO5: =$AK$2*$G$12 -> 7.2 | AP5: =$AK$2*$G$13 -> 8.1 | AQ5: =(($G$15/2)*(1-$AK$2)) -> 1.25 | AR5: =$G$14 -> 47.0238 | AS5: =((AQ5*AN5)/($C$5*10^-6)) -> 0.0041607368 | AT5: =((AR5*AN5)/($C$5*10^-6)) -> 0.15652292 | AU5: =SUM($AL$5:$AL$20) -> 1.2122137e-07 | AV5: =AN5*(AO5+AP5+AQ5+AR5) -> 8.4644432e-06 | AW5: =(AU5/AV5)*10^6 -> 14321.245
B6: Vol Effic (%) | C6: 0.4 | F6: Carbon (x) | G6: 8 | K6: Nitrogen | L6: 14.007 | R6: 1 | S6: =S5+2 -> 12 | T6: =(T5*((S6/S5)^(($C$13-1)/$C$13))) -> 2454.4713 | U6: =((4.7*10^13*AC6*(AB6^0.5)*EXP($C$11/T6))/($C$14*6))*$C$5*10^-6 -> 0 | V6: =(((10^5*($C$4*$C$6)*10^-6)/($C$8*$C$7))) -> 6.5681391e-06 | W6: =V6/($T$2*$G$11*((Z6/2)+3.76)) -> 1.3974764e-07 | X6: =$T$2*$G$12 -> 8 | Y6: =$T$2*$G$13 -> 9 | Z6: =(($G$15/2)*(1-$T$2)) -> 0 | AA6: =$G$14 -> 47.0238 | AB6: =((Z6*W6)/($C$5*10^-6)) -> 0 | AC6: =((AA6*W6)/($C$5*10^-6)) -> 0.16428663 | AD6: =SUM($U$5:$U$20) -> 0 | AE6: =W6*(X6+Y6+Z6+AA6) -> 8.947175e-06 | AF6: =(AD6/AE6)*10^6 -> 0 | AI6: 1 | AJ6: =AJ5+2 -> 12 | AK6: =(AK5*(($S6/$S5)^(($C$13-1)/$C$13))) -> 2282.3528 | AL6: =((4.7*10^13*AT6*(AS6^0.5)*EXP(-67837/(AK6)))/($C$15))*$C$5*10^-6 -> 2.1708182e-10 | AM6: =(((10^5*($C$4*$C$6)*10^-6)/($C$8*$C$7))) -> 6.5681391e-06 | AN6: =AM6/($AK$2*$G$11*((AQ6/2)+3.76)) -> 1.3314358e-07 | AO6: =$AK$2*$G$12 -> 7.2 | AP6: =$AK$2*$G$13 -> 8.1 | AQ6: =(($G$15/2)*(1-$AK$2)) -> 1.25 | AR6: =$G$14 -> 47.0238 | AS6: =((AQ6*AN6)/($C$5*10^-6)) -> 0.0041607368 | AT6: =((AR6*AN6)/($C$5*10^-6)) -> 0.15652292 | AU6: =SUM($AL$5:$AL$20) -> 1.2122137e-07 | AV6: =AN6*(AO6+AP6+AQ6+AR6) -> 8.4644432e-06 | AW6: =(AU6/AV6)*10^6 -> 14321.245
B7: temp (K) | C7: =20+273 -> 293 | F7: Hdrogen(Y) | G7: 18 | K7: % of N2 in Air | L7: 3.761904 | R7: 2 | S7: =S6+2 -> 14 | T7: =(T6*((S7/S6)^(($C$13-1)/$C$13))) -> 2510.0667 | U7: =((4.7*10^13*AC7*(AB7^0.5)*EXP($C$11/T7))/($C$14*6))*$C$5*10^-6 -> 0 | V7: =(((10^5*($C$4*$C$6)*10^-6)/($C$8*$C$7))) -> 6.5681391e-06 | W7: =V7/($T$2*$G$11*((Z7/2)+3.76)) -> 1.3974764e-07 | X7: =$T$2*$G$12 -> 8 | Y7: =$T$2*$G$13 -> 9 | Z7: =(($G$15/2)*(1-$T$2)) -> 0 | AA7: =$G$14 -> 47.0238 | AB7: =((Z7*W7)/($C$5*10^-6)) -> 0 | AC7: =((AA7*W7)/($C$5*10^-6)) -> 0.16428663 | AD7: =SUM($U$5:$U$20) -> 0 | AE7: =W7*(X7+Y7+Z7+AA7) -> 8.947175e-06 | AF7: =(AD7/AE7)*10^6 -> 0 | AI7: 2 | AJ7: =AJ6+2 -> 14 | AK7: =(AK6*(($S7/$S6)^(($C$13-1)/$C$13))) -> 2334.0497 | AL7: =((4.7*10^13*AT7*(AS7^0.5)*EXP(-67837/(AK7)))/($C$15))*$C$5*10^-6 -> 4.1930369e-10 | AM7: =(((10^5*($C$4*$C$6)*10^-6)/($C$8*$C$7))) -> 6.5681391e-06 | AN7: =AM7/($AK$2*$G$11*((AQ7/2)+3.76)) -> 1.3314358e-07 | AO7: =$AK$2*$G$12 -> 7.2 | AP7: =$AK$2*$G$13 -> 8.1 | AQ7: =(($G$15/2)*(1-$AK$2)) -> 1.25 | AR7: =$G$14 -> 47.0238 | AS7: =((AQ7*AN7)/($C$5*10^-6)) -> 0.0041607368 | AT7: =((AR7*AN7)/($C$5*10^-6)) -> 0.15652292 | AU7: =SUM($AL$5:$AL$20) -> 1.2122137e-07 | AV7: =AN7*(AO7+AP7+AQ7+AR7) -> 8.4644432e-06 | AW7: =(AU7/AV7)*10^6 -> 14321.245
B8: R | C8: 8314 | F8: oxengen | G8: 0 | K8: kmols per kg | L8: 32 | R8: 3 | S8: =S7+2 -> 16 | T8: =(T7*((S8/S7)^(($C$13-1)/$C$13))) -> 2559.2425 | U8: =((4.7*10^13*AC8*(AB8^0.5)*EXP($C$11/T8))/($C$14*6))*$C$5*10^-6 -> 0 | V8: =(((10^5*($C$4*$C$6)*10^-6)/($C$8*$C$7))) -> 6.5681391e-06 | W8: =V8/($T$2*$G$11*((Z8/2)+3.76)) -> 1.3974764e-07 | X8: =$T$2*$G$12 -> 8 | Y8: =$T$2*$G$13 -> 9 | Z8: =(($G$15/2)*(1-$T$2)) -> 0 | AA8: =$G$14 -> 47.0238 | AB8: =((Z8*W8)/($C$5*10^-6)) -> 0 | AC8: =((AA8*W8)/($C$5*10^-6)) -> 0.16428663 | AD8: =SUM($U$5:$U$20) -> 0 | AE8: =W8*(X8+Y8+Z8+AA8) -> 8.947175e-06 | AF8: =(AD8/AE8)*10^6 -> 0 | AI8: 3 | AJ8: =AJ7+2 -> 16 | AK8: =(AK7*(($S8/$S7)^(($C$13-1)/$C$13))) -> 2379.777 | AL8: =((4.7*10^13*AT8*(AS8^0.5)*EXP(-67837/(AK8)))/($C$15))*$C$5*10^-6 -> 7.3293821e-10 | AM8: =(((10^5*($C$4*$C$6)*10^-6)/($C$8*$C$7))) -> 6.5681391e-06 | AN8: =AM8/($AK$2*$G$11*((AQ8/2)+3.76)) -> 1.3314358e-07 | AO8: =$AK$2*$G$12 -> 7.2 | AP8: =$AK$2*$G$13 -> 8.1 | AQ8: =(($G$15/2)*(1-$AK$2)) -> 1.25 | AR8: =$G$14 -> 47.0238 | AS8: =((AQ8*AN8)/($C$5*10^-6)) -> 0.0041607368 | AT8: =((AR8*AN8)/($C$5*10^-6)) -> 0.15652292 | AU8: =SUM($AL$5:$AL$20) -> 1.2122137e-07 | AV8: =AN8*(AO8+AP8+AQ8+AR8) -> 8.4644432e-06 | AW8: =(AU8/AV8)*10^6 -> 14321.245
B9: inlet P | C9: =1*10^5 -> 100000 | R9: 4 | S9: =S8+2 -> 18 | T9: =(T8*((S9/S8)^(($C$13-1)/$C$13))) -> 2603.4177 | U9: =((4.7*10^13*AC9*(AB9^0.5)*EXP($C$11/T9))/($C$14*6))*$C$5*10^-6 -> 0 | V9: =(((10^5*($C$4*$C$6)*10^-6)/($C$8*$C$7))) -> 6.5681391e-06 | W9: =V9/($T$2*$G$11*((Z9/2)+3.76)) -> 1.3974764e-07 | X9: =$T$2*$G$12 -> 8 | Y9: =$T$2*$G$13 -> 9 | Z9: =(($G$15/2)*(1-$T$2)) -> 0 | AA9: =$G$14 -> 47.0238 | AB9: =((Z9*W9)/($C$5*10^-6)) -> 0 | AC9: =((AA9*W9)/($C$5*10^-6)) -> 0.16428663 | AD9: =SUM($U$5:$U$20) -> 0 | AE9: =W9*(X9+Y9+Z9+AA9) -> 8.947175e-06 | AF9: =(AD9/AE9)*10^6 -> 0 | AI9: 4 | AJ9: =AJ8+2 -> 18 | AK9: =(AK8*(($S9/$S8)^(($C$13-1)/$C$13))) -> 2420.8545 | AL9: =((4.7*10^13*AT9*(AS9^0.5)*EXP(-67837/(AK9)))/($C$15))*$C$5*10^-6 -> 1.188859e-09 | AM9: =(((10^5*($C$4*$C$6)*10^-6)/($C$8*$C$7))) -> 6.5681391e-06 | AN9: =AM9/($AK$2*$G$11*((AQ9/2)+3.76)) -> 1.3314358e-07 | AO9: =$AK$2*$G$12 -> 7.2 | AP9: =$AK$2*$G$13 -> 8.1 | AQ9: =(($G$15/2)*(1-$AK$2)) -> 1.25 | AR9: =$G$14 -> 47.0238 | AS9: =((AQ9*AN9)/($C$5*10^-6)) -> 0.0041607368 | AT9: =((AR9*AN9)/($C$5*10^-6)) -> 0.15652292 | AU9: =SUM($AL$5:$AL$20) -> 1.2122137e-07 | AV9: =AN9*(AO9+AP9+AQ9+AR9) -> 8.4644432e-06 | AW9: =(AU9/AV9)*10^6 -> 14321.245
B10: ZAB | C10: =4.7*10^13 -> 47000000000000 | F10: Molecular compound | K10: Compund | L10: Enthalpy of combustion | R10: 5 | S10: =S9+2 -> 20 | T10: =(T9*((S10/S9)^(($C$13-1)/$C$13))) -> 2643.5796 | U10: =((4.7*10^13*AC10*(AB10^0.5)*EXP($C$11/T10))/($C$14*6))*$C$5*10^-6 -> 0 | V10: =(((10^5*($C$4*$C$6)*10^-6)/($C$8*$C$7))) -> 6.5681391e-06 | W10: =V10/($T$2*$G$11*((Z10/2)+3.76)) -> 1.3974764e-07 | X10: =$T$2*$G$12 -> 8 | Y10: =$T$2*$G$13 -> 9 | Z10: =(($G$15/2)*(1-$T$2)) -> 0 | AA10: =$G$14 -> 47.0238 | AB10: =((Z10*W10)/($C$5*10^-6)) -> 0 | AC10: =((AA10*W10)/($C$5*10^-6)) -> 0.16428663 | AD10: =SUM($U$5:$U$20) -> 0 | AE10: =W10*(X10+Y10+Z10+AA10) -> 8.947175e-06 | AF10: =(AD10/AE10)*10^6 -> 0 | AI10: 5 | AJ10: =AJ9+2 -> 20 | AK10: =(AK9*(($S10/$S9)^(($C$13-1)/$C$13))) -> 2458.2 | AL10: =((4.7*10^13*AT10*(AS10^0.5)*EXP(-67837/(AK10)))/($C$15))*$C$5*10^-6 -> 1.8197679e-09 | AM10: =(((10^5*($C$4*$C$6)*10^-6)/($C$8*$C$7))) -> 6.5681391e-06 | AN10: =AM10/($AK$2*$G$11*((AQ10/2)+3.76)) -> 1.3314358e-07 | AO10: =$AK$2*$G$12 -> 7.2 | AP10: =$AK$2*$G$13 -> 8.1 | AQ10: =(($G$15/2)*(1-$AK$2)) -> 1.25 | AR10: =$G$14 -> 47.0238 | AS10: =((AQ10*AN10)/($C$5*10^-6)) -> 0.0041607368 | AT10: =((AR10*AN10)/($C$5*10^-6)) -> 0.15652292 | AU10: =SUM($AL$5:$AL$20) -> 1.2122137e-07 | AV10: =AN10*(AO10+AP10+AQ10+AR10) -> 8.4644432e-06 | AW10: =(AU10/AV10)*10^6 -> 14321.245
B11: EA | C11: -67837 | F11: A | G11: =(G15/2) -> 12.5 | K11: iso-octane (Kj/mol) | L11: 259.2 | R11: 6 | S11: =S10+2 -> 22 | T11: =(T10*((S11/S10)^(($C$13-1)/$C$13))) -> 2680.4438 | U11: =((4.7*10^13*AC11*(AB11^0.5)*EXP($C$11/T11))/($C$14*6))*$C$5*10^-6 -> 0 | V11: =(((10^5*($C$4*$C$6)*10^-6)/($C$8*$C$7))) -> 6.5681391e-06 | W11: =V11/($T$2*$G$11*((Z11/2)+3.76)) -> 1.3974764e-07 | X11: =$T$2*$G$12 -> 8 | Y11: =$T$2*$G$13 -> 9 | Z11: =(($G$15/2)*(1-$T$2)) -> 0 | AA11: =$G$14 -> 47.0238 | AB11: =((Z11*W11)/($C$5*10^-6)) -> 0 | AC11: =((AA11*W11)/($C$5*10^-6)) -> 0.16428663 | AD11: =SUM($U$5:$U$20) -> 0 | AE11: =W11*(X11+Y11+Z11+AA11) -> 8.947175e-06 | AF11: =(AD11/AE11)*10^6 -> 0 | AI11: 6 | AJ11: =AJ10+2 -> 22 | AK11: =(AK10*(($S11/$S10)^(($C$13-1)/$C$13))) -> 2492.4792 | AL11: =((4.7*10^13*AT11*(AS11^0.5)*EXP(-67837/(AK11)))/($C$15))*$C$5*10^-6 -> 2.6597728e-09 | AM11: =(((10^5*($C$4*$C$6)*10^-6)/($C$8*$C$7))) -> 6.5681391e-06 | AN11: =AM11/($AK$2*$G$11*((AQ11/2)+3.76)) -> 1.3314358e-07 | AO11: =$AK$2*$G$12 -> 7.2 | AP11: =$AK$2*$G$13 -> 8.1 | AQ11: =(($G$15/2)*(1-$AK$2)) -> 1.25 | AR11: =$G$14 -> 47.0238 | AS11: =((AQ11*AN11)/($C$5*10^-6)) -> 0.0041607368 | AT11: =((AR11*AN11)/($C$5*10^-6)) -> 0.15652292 | AU11: =SUM($AL$5:$AL$20) -> 1.2122137e-07 | AV11: =AN11*(AO11+AP11+AQ11+AR11) -> 8.4644432e-06 | AW11: =(AU11/AV11)*10^6 -> 14321.245
B12: No of mol's drawn in at a sprcific Vc | C12: =(((10^5*($C$4*$C$6)*10^-6)/($C$8*$C$7))) -> 6.5681391e-06 | F12: CO2 | G12: =G6 -> 8 | K12: CO2 (Kj/mol) | L12: 393.5 | R12: 7 | S12: =S11+2 -> 24 | T12: =(T11*((S12/S11)^(($C$13-1)/$C$13))) -> 2714.5469 | U12: =((4.7*10^13*AC12*(AB12^0.5)*EXP($C$11/T12))/($C$14*6))*$C$5*10^-6 -> 0 | V12: =(((10^5*($C$4*$C$6)*10^-6)/($C$8*$C$7))) -> 6.5681391e-06 | W12: =V12/($T$2*$G$11*((Z12/2)+3.76)) -> 1.3974764e-07 | X12: =$T$2*$G$12 -> 8 | Y12: =$T$2*$G$13 -> 9 | Z12: =(($G$15/2)*(1-$T$2)) -> 0 | AA12: =$G$14 -> 47.0238 | AB12: =((Z12*W12)/($C$5*10^-6)) -> 0 | AC12: =((AA12*W12)/($C$5*10^-6)) -> 0.16428663 | AD12: =SUM($U$5:$U$20) -> 0 | AE12: =W12*(X12+Y12+Z12+AA12) -> 8.947175e-06 | AF12: =(AD12/AE12)*10^6 -> 0 | AI12: 7 | AJ12: =AJ11+2 -> 24 | AK12: =(AK11*(($S12/$S11)^(($C$13-1)/$C$13))) -> 2524.1908 | AL12: =((4.7*10^13*AT12*(AS12^0.5)*EXP(-67837/(AK12)))/($C$15))*$C$5*10^-6 -> 3.7440444e-09 | AM12: =(((10^5*($C$4*$C$6)*10^-6)/($C$8*$C$7))) -> 6.5681391e-06 | AN12: =AM12/($AK$2*$G$11*((AQ12/2)+3.76)) -> 1.3314358e-07 | AO12: =$AK$2*$G$12 -> 7.2 | AP12: =$AK$2*$G$13 -> 8.1 | AQ12: =(($G$15/2)*(1-$AK$2)) -> 1.25 | AR12: =$G$14 -> 47.0238 | AS12: =((AQ12*AN12)/($C$5*10^-6)) -> 0.0041607368 | AT12: =((AR12*AN12)/($C$5*10^-6)) -> 0.15652292 | AU12: =SUM($AL$5:$AL$20) -> 1.2122137e-07 | AV12: =AN12*(AO12+AP12+AQ12+AR12) -> 8.4644432e-06 | AW12: =(AU12/AV12)*10^6 -> 14321.245
B13: (n) Polytropic intex | C13: 1.17 | F13: H2O | G13: =(G7/2) -> 9 | K13: H2O (Gas) (Kj/mol) | L13: 241.8 | N13: Phi | R13: 8 | S13: =S12+2 -> 26 | T13: =(T12*((S13/S12)^(($C$13-1)/$C$13))) -> 2746.3018 | U13: =((4.7*10^13*AC13*(AB13^0.5)*EXP($C$11/T13))/($C$14*6))*$C$5*10^-6 -> 0 | V13: =(((10^5*($C$4*$C$6)*10^-6)/($C$8*$C$7))) -> 6.5681391e-06 | W13: =V13/($T$2*$G$11*((Z13/2)+3.76)) -> 1.3974764e-07 | X13: =$T$2*$G$12 -> 8 | Y13: =$T$2*$G$13 -> 9 | Z13: =(($G$15/2)*(1-$T$2)) -> 0 | AA13: =$G$14 -> 47.0238 | AB13: =((Z13*W13)/($C$5*10^-6)) -> 0 | AC13: =((AA13*W13)/($C$5*10^-6)) -> 0.16428663 | AD13: =SUM($U$5:$U$20) -> 0 | AE13: =W13*(X13+Y13+Z13+AA13) -> 8.947175e-06 | AF13: =(AD13/AE13)*10^6 -> 0 | AI13: 8 | AJ13: =AJ12+2 -> 26 | AK13: =(AK12*(($S13/$S12)^(($C$13-1)/$C$13))) -> 2553.7189 | AL13: =((4.7*10^13*AT13*(AS13^0.5)*EXP(-67837/(AK13)))/($C$15))*$C$5*10^-6 -> 5.1085364e-09 | AM13: =(((10^5*($C$4*$C$6)*10^-6)/($C$8*$C$7))) -> 6.5681391e-06 | AN13: =AM13/($AK$2*$G$11*((AQ13/2)+3.76)) -> 1.3314358e-07 | AO13: =$AK$2*$G$12 -> 7.2 | AP13: =$AK$2*$G$13 -> 8.1 | AQ13: =(($G$15/2)*(1-$AK$2)) -> 1.25 | AR13: =$G$14 -> 47.0238 | AS13: =((AQ13*AN13)/($C$5*10^-6)) -> 0.0041607368 | AT13: =((AR13*AN13)/($C$5*10^-6)) -> 0.15652292 | AU13: =SUM($AL$5:$AL$20) -> 1.2122137e-07 | AV13: =AN13*(AO13+AP13+AQ13+AR13) -> 8.4644432e-06 | AW13: =(AU13/AV13)*10^6 -> 14321.245
B14: RPM | C14: 1800 | F14: N2 | G14: =G11*L7 -> 47.0238 | K14: H2O (Liquid) (Kj/mol) | L14: 285.8 | R14: 9 | S14: =S13+2 -> 28 | T14: =(T13*((S14/S13)^(($C$13-1)/$C$13))) -> 2776.0332 | U14: =((4.7*10^13*AC14*(AB14^0.5)*EXP($C$11/T14))/($C$14*6))*$C$5*10^-6 -> 0 | V14: =(((10^5*($C$4*$C$6)*10^-6)/($C$8*$C$7))) -> 6.5681391e-06 | W14: =V14/($T$2*$G$11*((Z14/2)+3.76)) -> 1.3974764e-07 | X14: =$T$2*$G$12 -> 8 | Y14: =$T$2*$G$13 -> 9 | Z14: =(($G$15/2)*(1-$T$2)) -> 0 | AA14: =$G$14 -> 47.0238 | AB14: =((Z14*W14)/($C$5*10^-6)) -> 0 | AC14: =((AA14*W14)/($C$5*10^-6)) -> 0.16428663 | AD14: =SUM($U$5:$U$20) -> 0 | AE14: =W14*(X14+Y14+Z14+AA14) -> 8.947175e-06 | AF14: =(AD14/AE14)*10^6 -> 0 | AI14: 9 | AJ14: =AJ13+2 -> 28 | AK14: =(AK13*(($S14/$S13)^(($C$13-1)/$C$13))) -> 2581.3654 | AL14: =((4.7*10^13*AT14*(AS14^0.5)*EXP(-67837/(AK14)))/($C$15))*$C$5*10^-6 -> 6.789756e-09 | AM14: =(((10^5*($C$4*$C$6)*10^-6)/($C$8*$C$7))) -> 6.5681391e-06 | AN14: =AM14/($AK$2*$G$11*((AQ14/2)+3.76)) -> 1.3314358e-07 | AO14: =$AK$2*$G$12 -> 7.2 | AP14: =$AK$2*$G$13 -> 8.1 | AQ14: =(($G$15/2)*(1-$AK$2)) -> 1.25 | AR14: =$G$14 -> 47.0238 | AS14: =((AQ14*AN14)/($C$5*10^-6)) -> 0.0041607368 | AT14: =((AR14*AN14)/($C$5*10^-6)) -> 0.15652292 | AU14: =SUM($AL$5:$AL$20) -> 1.2122137e-07 | AV14: =AN14*(AO14+AP14+AQ14+AR14) -> 8.4644432e-06 | AW14: =(AU14/AV14)*10^6 -> 14321.245
B15: RPM | C15: =1800*(360/60) -> 10800 | F15: O | G15: =(2*G12)+G13 -> 25 | R15: 10 | S15: =S14+2 -> 30 | T15: =(T14*((S15/S14)^(($C$13-1)/$C$13))) -> 2804.0018 | U15: =((4.7*10^13*AC15*(AB15^0.5)*EXP($C$11/T15))/($C$14*6))*$C$5*10^-6 -> 0 | V15: =(((10^5*($C$4*$C$6)*10^-6)/($C$8*$C$7))) -> 6.5681391e-06 | W15: =V15/($T$2*$G$11*((Z15/2)+3.76)) -> 1.3974764e-07 | X15: =$T$2*$G$12 -> 8 | Y15: =$T$2*$G$13 -> 9 | Z15: =(($G$15/2)*(1-$T$2)) -> 0 | AA15: =$G$14 -> 47.0238 | AB15: =((Z15*W15)/($C$5*10^-6)) -> 0 | AC15: =((AA15*W15)/($C$5*10^-6)) -> 0.16428663 | AD15: =SUM($U$5:$U$20) -> 0 | AE15: =W15*(X15+Y15+Z15+AA15) -> 8.947175e-06 | AF15: =(AD15/AE15)*10^6 -> 0 | AI15: 10 | AJ15: =AJ14+2 -> 30 | AK15: =(AK14*(($S15/$S14)^(($C$13-1)/$C$13))) -> 2607.3727 | AL15: =((4.7*10^13*AT15*(AS15^0.5)*EXP(-67837/(AK15)))/($C$15))*$C$5*10^-6 -> 8.8245764e-09 | AM15: =(((10^5*($C$4*$C$6)*10^-6)/($C$8*$C$7))) -> 6.5681391e-06 | AN15: =AM15/($AK$2*$G$11*((AQ15/2)+3.76)) -> 1.3314358e-07 | AO15: =$AK$2*$G$12 -> 7.2 | AP15: =$AK$2*$G$13 -> 8.1 | AQ15: =(($G$15/2)*(1-$AK$2)) -> 1.25 | AR15: =$G$14 -> 47.0238 | AS15: =((AQ15*AN15)/($C$5*10^-6)) -> 0.0041607368 | AT15: =((AR15*AN15)/($C$5*10^-6)) -> 0.15652292 | AU15: =SUM($AL$5:$AL$20) -> 1.2122137e-07 | AV15: =AN15*(AO15+AP15+AQ15+AR15) -> 8.4644432e-06 | AW15: =(AU15/AV15)*10^6 -> 14321.245
R16: 11 | S16: =S15+2 -> 32 | T16: =(T15*((S16/S15)^(($C$13-1)/$C$13))) -> 2830.4197 | U16: =((4.7*10^13*AC16*(AB16^0.5)*EXP($C$11/T16))/($C$14*6))*$C$5*10^-6 -> 0 | V16: =(((10^5*($C$4*$C$6)*10^-6)/($C$8*$C$7))) -> 6.5681391e-06 | W16: =V16/($T$2*$G$11*((Z16/2)+3.76)) -> 1.3974764e-07 | X16: =$T$2*$G$12 -> 8 | Y16: =$T$2*$G$13 -> 9 | Z16: =(($G$15/2)*(1-$T$2)) -> 0 | AA16: =$G$14 -> 47.0238 | AB16: =((Z16*W16)/($C$5*10^-6)) -> 0 | AC16: =((AA16*W16)/($C$5*10^-6)) -> 0.16428663 | AD16: =SUM($U$5:$U$20) -> 0 | AE16: =W16*(X16+Y16+Z16+AA16) -> 8.947175e-06 | AF16: =(AD16/AE16)*10^6 -> 0 | AI16: 11 | AJ16: =AJ15+2 -> 32 | AK16: =(AK15*(($S16/$S15)^(($C$13-1)/$C$13))) -> 2631.9381 | AL16: =((4.7*10^13*AT16*(AS16^0.5)*EXP(-67837/(AK16)))/($C$15))*$C$5*10^-6 -> 1.1250082e-08 | AM16: =(((10^5*($C$4*$C$6)*10^-6)/($C$8*$C$7))) -> 6.5681391e-06 | AN16: =AM16/($AK$2*$G$11*((AQ16/2)+3.76)) -> 1.3314358e-07 | AO16: =$AK$2*$G$12 -> 7.2 | AP16: =$AK$2*$G$13 -> 8.1 | AQ16: =(($G$15/2)*(1-$AK$2)) -> 1.25 | AR16: =$G$14 -> 47.0238 | AS16: =((AQ16*AN16)/($C$5*10^-6)) -> 0.0041607368 | AT16: =((AR16*AN16)/($C$5*10^-6)) -> 0.15652292 | AU16: =SUM($AL$5:$AL$20) -> 1.2122137e-07 | AV16: =AN16*(AO16+AP16+AQ16+AR16) -> 8.4644432e-06 | AW16: =(AU16/AV16)*10^6 -> 14321.245
F17: Masses | R17: 12 | S17: =S16+2 -> 34 | T17: =(T16*((S17/S16)^(($C$13-1)/$C$13))) -> 2855.4622 | U17: =((4.7*10^13*AC17*(AB17^0.5)*EXP($C$11/T17))/($C$14*6))*$C$5*10^-6 -> 0 | V17: =(((10^5*($C$4*$C$6)*10^-6)/($C$8*$C$7))) -> 6.5681391e-06 | W17: =V17/($T$2*$G$11*((Z17/2)+3.76)) -> 1.3974764e-07 | X17: =$T$2*$G$12 -> 8 | Y17: =$T$2*$G$13 -> 9 | Z17: =(($G$15/2)*(1-$T$2)) -> 0 | AA17: =$G$14 -> 47.0238 | AB17: =((Z17*W17)/($C$5*10^-6)) -> 0 | AC17: =((AA17*W17)/($C$5*10^-6)) -> 0.16428663 | AD17: =SUM($U$5:$U$20) -> 0 | AE17: =W17*(X17+Y17+Z17+AA17) -> 8.947175e-06 | AF17: =(AD17/AE17)*10^6 -> 0 | AI17: 12 | AJ17: =AJ16+2 -> 34 | AK17: =(AK16*(($S17/$S16)^(($C$13-1)/$C$13))) -> 2655.2245 | AL17: =((4.7*10^13*AT17*(AS17^0.5)*EXP(-67837/(AK17)))/($C$15))*$C$5*10^-6 -> 1.410344e-08 | AM17: =(((10^5*($C$4*$C$6)*10^-6)/($C$8*$C$7))) -> 6.5681391e-06 | AN17: =AM17/($AK$2*$G$11*((AQ17/2)+3.76)) -> 1.3314358e-07 | AO17: =$AK$2*$G$12 -> 7.2 | AP17: =$AK$2*$G$13 -> 8.1 | AQ17: =(($G$15/2)*(1-$AK$2)) -> 1.25 | AR17: =$G$14 -> 47.0238 | AS17: =((AQ17*AN17)/($C$5*10^-6)) -> 0.0041607368 | AT17: =((AR17*AN17)/($C$5*10^-6)) -> 0.15652292 | AU17: =SUM($AL$5:$AL$20) -> 1.2122137e-07 | AV17: =AN17*(AO17+AP17+AQ17+AR17) -> 8.4644432e-06 | AW17: =(AU17/AV17)*10^6 -> 14321.245
R18: 13 | S18: =S17+2 -> 36 | T18: =(T17*((S18/S17)^(($C$13-1)/$C$13))) -> 2879.2758 | U18: =((4.7*10^13*AC18*(AB18^0.5)*EXP($C$11/T18))/($C$14*6))*$C$5*10^-6 -> 0 | V18: =(((10^5*($C$4*$C$6)*10^-6)/($C$8*$C$7))) -> 6.5681391e-06 | W18: =V18/($T$2*$G$11*((Z18/2)+3.76)) -> 1.3974764e-07 | X18: =$T$2*$G$12 -> 8 | Y18: =$T$2*$G$13 -> 9 | Z18: =(($G$15/2)*(1-$T$2)) -> 0 | AA18: =$G$14 -> 47.0238 | AB18: =((Z18*W18)/($C$5*10^-6)) -> 0 | AC18: =((AA18*W18)/($C$5*10^-6)) -> 0.16428663 | AD18: =SUM($U$5:$U$20) -> 0 | AE18: =W18*(X18+Y18+Z18+AA18) -> 8.947175e-06 | AF18: =(AD18/AE18)*10^6 -> 0 | AI18: 13 | AJ18: =AJ17+2 -> 36 | AK18: =(AK17*(($S18/$S17)^(($C$13-1)/$C$13))) -> 2677.3681 | AL18: =((4.7*10^13*AT18*(AS18^0.5)*EXP(-67837/(AK18)))/($C$15))*$C$5*10^-6 -> 1.7421796e-08 | AM18: =(((10^5*($C$4*$C$6)*10^-6)/($C$8*$C$7))) -> 6.5681391e-06 | AN18: =AM18/($AK$2*$G$11*((AQ18/2)+3.76)) -> 1.3314358e-07 | AO18: =$AK$2*$G$12 -> 7.2 | AP18: =$AK$2*$G$13 -> 8.1 | AQ18: =(($G$15/2)*(1-$AK$2)) -> 1.25 | AR18: =$G$14 -> 47.0238 | AS18: =((AQ18*AN18)/($C$5*10^-6)) -> 0.0041607368 | AT18: =((AR18*AN18)/($C$5*10^-6)) -> 0.15652292 | AU18: =SUM($AL$5:$AL$20) -> 1.2122137e-07 | AV18: =AN18*(AO18+AP18+AQ18+AR18) -> 8.4644432e-06 | AW18: =(AU18/AV18)*10^6 -> 14321.245
F19: Mass of Air | G19: =G11*((2*L5)+(L7*2*L6)) -> 1717.2997 | R19: 14 | S19: =S18+2 -> 38 | T19: =(T18*((S19/S18)^(($C$13-1)/$C$13))) -> 2901.9842 | U19: =((4.7*10^13*AC19*(AB19^0.5)*EXP($C$11/T19))/($C$14*6))*$C$5*10^-6 -> 0 | V19: =(((10^5*($C$4*$C$6)*10^-6)/($C$8*$C$7))) -> 6.5681391e-06 | W19: =V19/($T$2*$G$11*((Z19/2)+3.76)) -> 1.3974764e-07 | X19: =$T$2*$G$12 -> 8 | Y19: =$T$2*$G$13 -> 9 | Z19: =(($G$15/2)*(1-$T$2)) -> 0 | AA19: =$G$14 -> 47.0238 | AB19: =((Z19*W19)/($C$5*10^-6)) -> 0 | AC19: =((AA19*W19)/($C$5*10^-6)) -> 0.16428663 | AD19: =SUM($U$5:$U$20) -> 0 | AE19: =W19*(X19+Y19+Z19+AA19) -> 8.947175e-06 | AF19: =(AD19/AE19)*10^6 -> 0 | AI19: 14 | AJ19: =AJ18+2 -> 38 | AK19: =(AK18*(($S19/$S18)^(($C$13-1)/$C$13))) -> 2698.4842 | AL19: =((4.7*10^13*AT19*(AS19^0.5)*EXP(-67837/(AK19)))/($C$15))*$C$5*10^-6 -> 2.124219e-08 | AM19: =(((10^5*($C$4*$C$6)*10^-6)/($C$8*$C$7))) -> 6.5681391e-06 | AN19: =AM19/($AK$2*$G$11*((AQ19/2)+3.76)) -> 1.3314358e-07 | AO19: =$AK$2*$G$12 -> 7.2 | AP19: =$AK$2*$G$13 -> 8.1 | AQ19: =(($G$15/2)*(1-$AK$2)) -> 1.25 | AR19: =$G$14 -> 47.0238 | AS19: =((AQ19*AN19)/($C$5*10^-6)) -> 0.0041607368 | AT19: =((AR19*AN19)/($C$5*10^-6)) -> 0.15652292 | AU19: =SUM($AL$5:$AL$20) -> 1.2122137e-07 | AV19: =AN19*(AO19+AP19+AQ19+AR19) -> 8.4644432e-06 | AW19: =(AU19/AV19)*10^6 -> 14321.245
R20: 15 | S20: =S19+2 -> 40 | T20: =(T19*((S20/S19)^(($C$13-1)/$C$13))) -> 2923.6931 | U20: =((4.7*10^13*AC20*(AB20^0.5)*EXP($C$11/T20))/($C$14*6))*$C$5*10^-6 -> 0 | V20: =(((10^5*($C$4*$C$6)*10^-6)/($C$8*$C$7))) -> 6.5681391e-06 | W20: =V20/($T$2*$G$11*((Z20/2)+3.76)) -> 1.3974764e-07 | X20: =$T$2*$G$12 -> 8 | Y20: =$T$2*$G$13 -> 9 | Z20: =(($G$15/2)*(1-$T$2)) -> 0 | AA20: =$G$14 -> 47.0238 | AB20: =((Z20*W20)/($C$5*10^-6)) -> 0 | AC20: =((AA20*W20)/($C$5*10^-6)) -> 0.16428663 | AD20: =SUM($U$5:$U$20) -> 0 | AE20: =W20*(X20+Y20+Z20+AA20) -> 8.947175e-06 | AF20: =(AD20/AE20)*10^6 -> 0 | AI20: 15 | AJ20: =AJ19+2 -> 40 | AK20: =(AK19*(($S20/$S19)^(($C$13-1)/$C$13))) -> 2718.6707 | AL20: =((4.7*10^13*AT20*(AS20^0.5)*EXP(-67837/(AK20)))/($C$15))*$C$5*10^-6 -> 2.5601477e-08 | AM20: =(((10^5*($C$4*$C$6)*10^-6)/($C$8*$C$7))) -> 6.5681391e-06 | AN20: =AM20/($AK$2*$G$11*((AQ20/2)+3.76)) -> 1.3314358e-07 | AO20: =$AK$2*$G$12 -> 7.2 | AP20: =$AK$2*$G$13 -> 8.1 | AQ20: =(($G$15/2)*(1-$AK$2)) -> 1.25 | AR20: =$G$14 -> 47.0238 | AS20: =((AQ20*AN20)/($C$5*10^-6)) -> 0.0041607368 | AT20: =((AR20*AN20)/($C$5*10^-6)) -> 0.15652292 | AU20: =SUM($AL$5:$AL$20) -> 1.2122137e-07 | AV20: =AN20*(AO20+AP20+AQ20+AR20) -> 8.4644432e-06 | AW20: =(AU20/AV20)*10^6 -> 14321.245
F21: Mass of Fuel | G21: =(G6*L3)+(G7*L4) -> 114.232
AI23: Phi | AK23: 0.85
F24: AFR | G24: =G19/G21 -> 15.033438 | R24: Phi | T24: 0.99
AI25: Crank angle | AJ25: Pressure (Bar) | AK25: Temp (k) | AL25: Nox (kmol/deg) | AM25: (n) no of mols Drawn Per cycle | AN25: Alpha | AO25: (n1) CO2 | AP25: (n2) H2O | AQ25: (n3) O2 | AR25: (n4) N2 | AS25: [O2] | AT25: [N2] | AU25: sum of Nox Kmol/Cycle | AV25: Exhaust Kmols | AW25: NOx PPM
B26: Enthalpy | D26: Enthalpy With H2O as Liquid | R26: Crank angle | S26: Pressure (Bar) | T26: Temp (k) | U26: Nox (kmol/deg) | V26: (n) no of mols Drawn Per cycle | W26: Alpha | X26: (n1) CO2 | Y26: (n2) H2O | Z26: (n3) O2 | AA26: (n4) N2 | AB26: [O2] | AC26: [N2] | AD26: sum of Nox Kmol/Cycle | AE26: Exhaust Kmols | AF26: NOx PPM | AI26: 0 | AJ26: 10 | AK26: 2135.4958 | AL26: =((4.7*10^13*AT26*(AS26^0.5)*EXP($C$11/AK26))/($C$14*6))*$C$5*10^-6 -> 3.3834729e-11 | AM26: =(((10^5*($C$4*$C$6)*10^-6)/($C$8*$C$7))) -> 6.5681391e-06 | AN26: =AM26/($AK$23*$G$11*((AQ26/2)+3.76)) -> 1.3159719e-07 | AO26: =$AK$23*$G$12 -> 6.8 | AP26: =$AK$23*$G$13 -> 7.65 | AQ26: =(($G$15/2)*(1-$AK$23)) -> 1.875 | AR26: =$G$14 -> 47.0238 | AS26: =((AQ26*AN26)/($C$5*10^-6)) -> 0.0061686183 | AT26: =((AR26*AN26)/($C$5*10^-6)) -> 0.154705 | AU26: =SUM($AL$26:$AL$41) -> 5.125105e-08 | AV26: =AN26*(AO26+AP26+AQ26+AR26) -> 8.336524e-06 | AW26: =(AU26/AV26)*10^6 -> 6147.7721
F27: Energy output per mol burnt (H2O Gas) | G27: =C30-B30 -> 5065 | J27: iso octane at 1 ϕ | R27: 0 | S27: 10 | T27: 2373.8991 | U27: =((4.7*10^13*AC27*(AB27^0.5)*EXP($C$11/T27))/($C$14*6))*$C$5*10^-6 -> 2.3001602e-10 | V27: =(((10^5*($C$4*$C$6)*10^-6)/($C$8*$C$7))) -> 6.5681391e-06 | W27: =V27/($T$24*$G$11*((Z27/2)+3.76)) -> 1.388512e-07 | X27: =$T$24*$G$12 -> 7.92 | Y27: =$T$24*$G$13 -> 8.91 | Z27: =(($G$15/2)*(1-$T$24)) -> 0.125 | AA27: =$G$14 -> 47.0238 | AB27: =((Z27*W27)/($C$5*10^-6)) -> 0.00043391 | AC27: =((AA27*W27)/($C$5*10^-6)) -> 0.16323278 | AD27: =SUM(U$27:U$42) -> 2.0920718e-07 | AE27: =W27*(X27+Y27+Z27+AA27) -> 8.8835332e-06 | AF27: =(AD27/AE27)*10^6 -> 23549.997 | AI27: 1 | AJ27: =AJ26+2 -> 12 | AK27: =(AK26*(($S6/$S5)^(($C$13-1)/$C$13))) -> 2192.8235 | AL27: =((4.7*10^13*AT27*(AS27^0.5)*EXP($C$11/AK27))/($C$14*6))*$C$5*10^-6 -> 7.7631077e-11 | AM27: =(((10^5*($C$4*$C$6)*10^-6)/($C$8*$C$7))) -> 6.5681391e-06 | AN27: =AM27/($AK$23*$G$11*((AQ27/2)+3.76)) -> 1.3159719e-07 | AO27: =$AK$23*$G$12 -> 6.8 | AP27: =$AK$23*$G$13 -> 7.65 | AQ27: =(($G$15/2)*(1-$AK$23)) -> 1.875 | AR27: =$G$14 -> 47.0238 | AS27: =((AQ27*AN27)/($C$5*10^-6)) -> 0.0061686183 | AT27: =((AR27*AN27)/($C$5*10^-6)) -> 0.154705 | AU27: =SUM($AL$26:$AL$41) -> 5.125105e-08 | AV27: =AN27*(AO27+AP27+AQ27+AR27) -> 8.336524e-06 | AW27: =(AU27/AV27)*10^6 -> 6147.7721
B28: Product Energy (MJ) | C28: Reaction Engery (MJ) | D28: Reaction Engery (MJ) | J28: (8ϕ x Poly CO2 )+ (9ϕ x Poly H20) + (A(1-ϕ) Poly O2) + (47 N2) | R28: 1 | S28: =S27+2 -> 12 | T28: =(T27*((S$6/S$5)^(($C$13-1)/$C$13))) -> 2437.6268 | U28: =((4.7*10^13*AC28*(AB28^0.5)*EXP($C$11/T28))/($C$14*6))*$C$5*10^-6 -> 4.8552292e-10 | V28: =(((10^5*($C$4*$C$6)*10^-6)/($C$8*$C$7))) -> 6.5681391e-06 | W28: =V28/($T$24*$G$11*((Z28/2)+3.76)) -> 1.388512e-07 | X28: =$T$24*$G$12 -> 7.92 | Y28: =$T$24*$G$13 -> 8.91 | Z28: =(($G$15/2)*(1-$T$24)) -> 0.125 | AA28: =$G$14 -> 47.0238 | AB28: =((Z28*W28)/($C$5*10^-6)) -> 0.00043391 | AC28: =((AA28*W28)/($C$5*10^-6)) -> 0.16323278 | AD28: =SUM(U$27:U$42) -> 2.0920718e-07 | AE28: =W28*(X28+Y28+Z28+AA28) -> 8.8835332e-06 | AF28: =(AD28/AE28)*10^6 -> 23549.997 | AI28: 2 | AJ28: =AJ27+2 -> 14 | AK28: =(AK27*(($S7/$S6)^(($C$13-1)/$C$13))) -> 2242.4925 | AL28: =((4.7*10^13*AT28*(AS28^0.5)*EXP($C$11/AK28))/($C$14*6))*$C$5*10^-6 -> 1.5403303e-10 | AM28: =(((10^5*($C$4*$C$6)*10^-6)/($C$8*$C$7))) -> 6.5681391e-06 | AN28: =AM28/($AK$23*$G$11*((AQ28/2)+3.76)) -> 1.3159719e-07 | AO28: =$AK$23*$G$12 -> 6.8 | AP28: =$AK$23*$G$13 -> 7.65 | AQ28: =(($G$15/2)*(1-$AK$23)) -> 1.875 | AR28: =$G$14 -> 47.0238 | AS28: =((AQ28*AN28)/($C$5*10^-6)) -> 0.0061686183 | AT28: =((AR28*AN28)/($C$5*10^-6)) -> 0.154705 | AU28: =SUM($AL$26:$AL$41) -> 5.125105e-08 | AV28: =AN28*(AO28+AP28+AQ28+AR28) -> 8.336524e-06 | AW28: =(AU28/AV28)*10^6 -> 6147.7721
F29: Energy output per mol burnt (H20 Liquid) | G29: =D30-B30 -> 5461 | R29: 2 | S29: =S28+2 -> 14 | T29: =(T28*((S7/S6)^(($C$13-1)/$C$13))) -> 2492.8407 | U29: =((4.7*10^13*AC29*(AB29^0.5)*EXP($C$11/T29))/($C$14*6))*$C$5*10^-6 -> 8.9929697e-10 | V29: =(((10^5*($C$4*$C$6)*10^-6)/($C$8*$C$7))) -> 6.5681391e-06 | W29: =V29/($T$24*$G$11*((Z29/2)+3.76)) -> 1.388512e-07 | X29: =$T$24*$G$12 -> 7.92 | Y29: =$T$24*$G$13 -> 8.91 | Z29: =(($G$15/2)*(1-$T$24)) -> 0.125 | AA29: =$G$14 -> 47.0238 | AB29: =((Z29*W29)/($C$5*10^-6)) -> 0.00043391 | AC29: =((AA29*W29)/($C$5*10^-6)) -> 0.16323278 | AD29: =SUM(U$27:U$42) -> 2.0920718e-07 | AE29: =W29*(X29+Y29+Z29+AA29) -> 8.8835332e-06 | AF29: =(AD29/AE29)*10^6 -> 23549.997 | AI29: 3 | AJ29: =AJ28+2 -> 16 | AK29: =(AK28*(($S8/$S7)^(($C$13-1)/$C$13))) -> 2286.4261 | AL29: =((4.7*10^13*AT29*(AS29^0.5)*EXP($C$11/AK29))/($C$14*6))*$C$5*10^-6 -> 2.7545775e-10 | AM29: =(((10^5*($C$4*$C$6)*10^-6)/($C$8*$C$7))) -> 6.5681391e-06 | AN29: =AM29/($AK$23*$G$11*((AQ29/2)+3.76)) -> 1.3159719e-07 | AO29: =$AK$23*$G$12 -> 6.8 | AP29: =$AK$23*$G$13 -> 7.65 | AQ29: =(($G$15/2)*(1-$AK$23)) -> 1.875 | AR29: =$G$14 -> 47.0238 | AS29: =((AQ29*AN29)/($C$5*10^-6)) -> 0.0061686183 | AT29: =((AR29*AN29)/($C$5*10^-6)) -> 0.154705 | AU29: =SUM($AL$26:$AL$41) -> 5.125105e-08 | AV29: =AN29*(AO29+AP29+AQ29+AR29) -> 8.336524e-06 | AW29: =(AU29/AV29)*10^6 -> 6147.7721
B30: =L11 -> 259.2 | C30: =((($G$12*$L$12)+($G$13*$L$13)+($G$14*0))) -> 5324.2 | D30: =(((G12*L12)+(G13*L14)+(G14*0))) -> 5720.2 | I30: Eq Ratio | J30: 0.91 | R30: 3 | S30: =S29+2 -> 16 | T30: =(T29*((S8/S7)^(($C$13-1)/$C$13))) -> 2541.6791 | U30: =((4.7*10^13*AC30*(AB30^0.5)*EXP($C$11/T30))/($C$14*6))*$C$5*10^-6 -> 1.5170237e-09 | V30: =(((10^5*($C$4*$C$6)*10^-6)/($C$8*$C$7))) -> 6.5681391e-06 | W30: =V30/($T$24*$G$11*((Z30/2)+3.76)) -> 1.388512e-07 | X30: =$T$24*$G$12 -> 7.92 | Y30: =$T$24*$G$13 -> 8.91 | Z30: =(($G$15/2)*(1-$T$24)) -> 0.125 | AA30: =$G$14 -> 47.0238 | AB30: =((Z30*W30)/($C$5*10^-6)) -> 0.00043391 | AC30: =((AA30*W30)/($C$5*10^-6)) -> 0.16323278 | AD30: =SUM(U$27:U$42) -> 2.0920718e-07 | AE30: =W30*(X30+Y30+Z30+AA30) -> 8.8835332e-06 | AF30: =(AD30/AE30)*10^6 -> 23549.997 | AI30: 4 | AJ30: =AJ29+2 -> 18 | AK30: =(AK29*(($S9/$S8)^(($C$13-1)/$C$13))) -> 2325.8922 | AL30: =((4.7*10^13*AT30*(AS30^0.5)*EXP($C$11/AK30))/($C$14*6))*$C$5*10^-6 -> 4.5571625e-10 | AM30: =(((10^5*($C$4*$C$6)*10^-6)/($C$8*$C$7))) -> 6.5681391e-06 | AN30: =AM30/($AK$23*$G$11*((AQ30/2)+3.76)) -> 1.3159719e-07 | AO30: =$AK$23*$G$12 -> 6.8 | AP30: =$AK$23*$G$13 -> 7.65 | AQ30: =(($G$15/2)*(1-$AK$23)) -> 1.875 | AR30: =$G$14 -> 47.0238 | AS30: =((AQ30*AN30)/($C$5*10^-6)) -> 0.0061686183 | AT30: =((AR30*AN30)/($C$5*10^-6)) -> 0.154705 | AU30: =SUM($AL$26:$AL$41) -> 5.125105e-08 | AV30: =AN30*(AO30+AP30+AQ30+AR30) -> 8.336524e-06 | AW30: =(AU30/AV30)*10^6 -> 6147.7721
R31: 4 | S31: =S30+2 -> 18 | T31: =(T30*((S9/S8)^(($C$13-1)/$C$13))) -> 2585.5511 | U31: =((4.7*10^13*AC31*(AB31^0.5)*EXP($C$11/T31))/($C$14*6))*$C$5*10^-6 -> 2.3860229e-09 | V31: =(((10^5*($C$4*$C$6)*10^-6)/($C$8*$C$7))) -> 6.5681391e-06 | W31: =V31/($T$24*$G$11*((Z31/2)+3.76)) -> 1.388512e-07 | X31: =$T$24*$G$12 -> 7.92 | Y31: =$T$24*$G$13 -> 8.91 | Z31: =(($G$15/2)*(1-$T$24)) -> 0.125 | AA31: =$G$14 -> 47.0238 | AB31: =((Z31*W31)/($C$5*10^-6)) -> 0.00043391 | AC31: =((AA31*W31)/($C$5*10^-6)) -> 0.16323278 | AD31: =SUM(U$27:U$42) -> 2.0920718e-07 | AE31: =W31*(X31+Y31+Z31+AA31) -> 8.8835332e-06 | AF31: =(AD31/AE31)*10^6 -> 23549.997 | AI31: 5 | AJ31: =AJ30+2 -> 20 | AK31: =(AK30*(($S10/$S9)^(($C$13-1)/$C$13))) -> 2361.7728 | AL31: =((4.7*10^13*AT31*(AS31^0.5)*EXP($C$11/AK31))/($C$14*6))*$C$5*10^-6 -> 7.0978811e-10 | AM31: =(((10^5*($C$4*$C$6)*10^-6)/($C$8*$C$7))) -> 6.5681391e-06 | AN31: =AM31/($AK$23*$G$11*((AQ31/2)+3.76)) -> 1.3159719e-07 | AO31: =$AK$23*$G$12 -> 6.8 | AP31: =$AK$23*$G$13 -> 7.65 | AQ31: =(($G$15/2)*(1-$AK$23)) -> 1.875 | AR31: =$G$14 -> 47.0238 | AS31: =((AQ31*AN31)/($C$5*10^-6)) -> 0.0061686183 | AT31: =((AR31*AN31)/($C$5*10^-6)) -> 0.154705 | AU31: =SUM($AL$26:$AL$41) -> 5.125105e-08 | AV31: =AN31*(AO31+AP31+AQ31+AR31) -> 8.336524e-06 | AW31: =(AU31/AV31)*10^6 -> 6147.7721
F32: mass of fuel per Kmol (Kg) | G32: =(G6*L3)+(G7*L4) -> 114.232 | R32: 5 | S32: =S31+2 -> 20 | T32: =(T31*((S10/S9)^(($C$13-1)/$C$13))) -> 2625.4373 | U32: =((4.7*10^13*AC32*(AB32^0.5)*EXP($C$11/T32))/($C$14*6))*$C$5*10^-6 -> 3.5545387e-09 | V32: =(((10^5*($C$4*$C$6)*10^-6)/($C$8*$C$7))) -> 6.5681391e-06 | W32: =V32/($T$24*$G$11*((Z32/2)+3.76)) -> 1.388512e-07 | X32: =$T$24*$G$12 -> 7.92 | Y32: =$T$24*$G$13 -> 8.91 | Z32: =(($G$15/2)*(1-$T$24)) -> 0.125 | AA32: =$G$14 -> 47.0238 | AB32: =((Z32*W32)/($C$5*10^-6)) -> 0.00043391 | AC32: =((AA32*W32)/($C$5*10^-6)) -> 0.16323278 | AD32: =SUM(U$27:U$42) -> 2.0920718e-07 | AE32: =W32*(X32+Y32+Z32+AA32) -> 8.8835332e-06 | AF32: =(AD32/AE32)*10^6 -> 23549.997 | AI32: 6 | AJ32: =AJ31+2 -> 22 | AK32: =(AK31*(($S11/$S10)^(($C$13-1)/$C$13))) -> 2394.7073 | AL32: =((4.7*10^13*AT32*(AS32^0.5)*EXP($C$11/AK32))/($C$14*6))*$C$5*10^-6 -> 1.0536271e-09 | AM32: =(((10^5*($C$4*$C$6)*10^-6)/($C$8*$C$7))) -> 6.5681391e-06 | AN32: =AM32/($AK$23*$G$11*((AQ32/2)+3.76)) -> 1.3159719e-07 | AO32: =$AK$23*$G$12 -> 6.8 | AP32: =$AK$23*$G$13 -> 7.65 | AQ32: =(($G$15/2)*(1-$AK$23)) -> 1.875 | AR32: =$G$14 -> 47.0238 | AS32: =((AQ32*AN32)/($C$5*10^-6)) -> 0.0061686183 | AT32: =((AR32*AN32)/($C$5*10^-6)) -> 0.154705 | AU32: =SUM($AL$26:$AL$41) -> 5.125105e-08 | AV32: =AN32*(AO32+AP32+AQ32+AR32) -> 8.336524e-06 | AW32: =(AU32/AV32)*10^6 -> 6147.7721
I33: Goal Seek | R33: 6 | S33: =S32+2 -> 22 | T33: =(T32*((S11/S10)^(($C$13-1)/$C$13))) -> 2662.0486 | U33: =((4.7*10^13*AC33*(AB33^0.5)*EXP($C$11/T33))/($C$14*6))*$C$5*10^-6 -> 5.0712193e-09 | V33: =(((10^5*($C$4*$C$6)*10^-6)/($C$8*$C$7))) -> 6.5681391e-06 | W33: =V33/($T$24*$G$11*((Z33/2)+3.76)) -> 1.388512e-07 | X33: =$T$24*$G$12 -> 7.92 | Y33: =$T$24*$G$13 -> 8.91 | Z33: =(($G$15/2)*(1-$T$24)) -> 0.125 | AA33: =$G$14 -> 47.0238 | AB33: =((Z33*W33)/($C$5*10^-6)) -> 0.00043391 | AC33: =((AA33*W33)/($C$5*10^-6)) -> 0.16323278 | AD33: =SUM(U$27:U$42) -> 2.0920718e-07 | AE33: =W33*(X33+Y33+Z33+AA33) -> 8.8835332e-06 | AF33: =(AD33/AE33)*10^6 -> 23549.997 | AI33: 7 | AJ33: =AJ32+2 -> 24 | AK33: =(AK32*(($S12/$S11)^(($C$13-1)/$C$13))) -> 2425.175 | AL33: =((4.7*10^13*AT33*(AS33^0.5)*EXP($C$11/AK33))/($C$14*6))*$C$5*10^-6 -> 1.5039945e-09 | AM33: =(((10^5*($C$4*$C$6)*10^-6)/($C$8*$C$7))) -> 6.5681391e-06 | AN33: =AM33/($AK$23*$G$11*((AQ33/2)+3.76)) -> 1.3159719e-07 | AO33: =$AK$23*$G$12 -> 6.8 | AP33: =$AK$23*$G$13 -> 7.65 | AQ33: =(($G$15/2)*(1-$AK$23)) -> 1.875 | AR33: =$G$14 -> 47.0238 | AS33: =((AQ33*AN33)/($C$5*10^-6)) -> 0.0061686183 | AT33: =((AR33*AN33)/($C$5*10^-6)) -> 0.154705 | AU33: =SUM($AL$26:$AL$41) -> 5.125105e-08 | AV33: =AN33*(AO33+AP33+AQ33+AR33) -> 8.336524e-06 | AW33: =(AU33/AV33)*10^6 -> 6147.7721
R34: 7 | S34: =S33+2 -> 24 | T34: =(T33*((S12/S11)^(($C$13-1)/$C$13))) -> 2695.9177 | U34: =((4.7*10^13*AC34*(AB34^0.5)*EXP($C$11/T34))/($C$14*6))*$C$5*10^-6 -> 6.9847327e-09 | V34: =(((10^5*($C$4*$C$6)*10^-6)/($C$8*$C$7))) -> 6.5681391e-06 | W34: =V34/($T$24*$G$11*((Z34/2)+3.76)) -> 1.388512e-07 | X34: =$T$24*$G$12 -> 7.92 | Y34: =$T$24*$G$13 -> 8.91 | Z34: =(($G$15/2)*(1-$T$24)) -> 0.125 | AA34: =$G$14 -> 47.0238 | AB34: =((Z34*W34)/($C$5*10^-6)) -> 0.00043391 | AC34: =((AA34*W34)/($C$5*10^-6)) -> 0.16323278 | AD34: =SUM(U$27:U$42) -> 2.0920718e-07 | AE34: =W34*(X34+Y34+Z34+AA34) -> 8.8835332e-06 | AF34: =(AD34/AE34)*10^6 -> 23549.997 | AI34: 8 | AJ34: =AJ33+2 -> 26 | AK34: =(AK33*(($S13/$S12)^(($C$13-1)/$C$13))) -> 2453.5448 | AL34: =((4.7*10^13*AT34*(AS34^0.5)*EXP($C$11/AK34))/($C$14*6))*$C$5*10^-6 -> 2.0783168e-09 | AM34: =(((10^5*($C$4*$C$6)*10^-6)/($C$8*$C$7))) -> 6.5681391e-06 | AN34: =AM34/($AK$23*$G$11*((AQ34/2)+3.76)) -> 1.3159719e-07 | AO34: =$AK$23*$G$12 -> 6.8 | AP34: =$AK$23*$G$13 -> 7.65 | AQ34: =(($G$15/2)*(1-$AK$23)) -> 1.875 | AR34: =$G$14 -> 47.0238 | AS34: =((AQ34*AN34)/($C$5*10^-6)) -> 0.0061686183 | AT34: =((AR34*AN34)/($C$5*10^-6)) -> 0.154705 | AU34: =SUM($AL$26:$AL$41) -> 5.125105e-08 | AV34: =AN34*(AO34+AP34+AQ34+AR34) -> 8.336524e-06 | AW34: =(AU34/AV34)*10^6 -> 6147.7721
F35: LHV | G35: =G27/G32 -> 44.33959 | I35: Flame Temprature | K35: 2181.6781 | R35: 8 | S35: =S34+2 -> 26 | T35: =(T34*((S13/S12)^(($C$13-1)/$C$13))) -> 2727.4546 | U35: =((4.7*10^13*AC35*(AB35^0.5)*EXP($C$11/T35))/($C$14*6))*$C$5*10^-6 -> 9.3434826e-09 | V35: =(((10^5*($C$4*$C$6)*10^-6)/($C$8*$C$7))) -> 6.5681391e-06 | W35: =V35/($T$24*$G$11*((Z35/2)+3.76)) -> 1.388512e-07 | X35: =$T$24*$G$12 -> 7.92 | Y35: =$T$24*$G$13 -> 8.91 | Z35: =(($G$15/2)*(1-$T$24)) -> 0.125 | AA35: =$G$14 -> 47.0238 | AB35: =((Z35*W35)/($C$5*10^-6)) -> 0.00043391 | AC35: =((AA35*W35)/($C$5*10^-6)) -> 0.16323278 | AD35: =SUM(U$27:U$42) -> 2.0920718e-07 | AE35: =W35*(X35+Y35+Z35+AA35) -> 8.8835332e-06 | AF35: =(AD35/AE35)*10^6 -> 23549.997 | AI35: 9 | AJ35: =AJ34+2 -> 28 | AK35: =(AK34*(($S14/$S13)^(($C$13-1)/$C$13))) -> 2480.1069 | AL35: =((4.7*10^13*AT35*(AS35^0.5)*EXP($C$11/AK35))/($C$14*6))*$C$5*10^-6 -> 2.7945641e-09 | AM35: =(((10^5*($C$4*$C$6)*10^-6)/($C$8*$C$7))) -> 6.5681391e-06 | AN35: =AM35/($AK$23*$G$11*((AQ35/2)+3.76)) -> 1.3159719e-07 | AO35: =$AK$23*$G$12 -> 6.8 | AP35: =$AK$23*$G$13 -> 7.65 | AQ35: =(($G$15/2)*(1-$AK$23)) -> 1.875 | AR35: =$G$14 -> 47.0238 | AS35: =((AQ35*AN35)/($C$5*10^-6)) -> 0.0061686183 | AT35: =((AR35*AN35)/($C$5*10^-6)) -> 0.154705 | AU35: =SUM($AL$26:$AL$41) -> 5.125105e-08 | AV35: =AN35*(AO35+AP35+AQ35+AR35) -> 8.336524e-06 | AW35: =(AU35/AV35)*10^6 -> 6147.7721
R36: 9 | S36: =S35+2 -> 28 | T36: =(T35*((S14/S13)^(($C$13-1)/$C$13))) -> 2756.982 | U36: =((4.7*10^13*AC36*(AB36^0.5)*EXP($C$11/T36))/($C$14*6))*$C$5*10^-6 -> 1.2195398e-08 | V36: =(((10^5*($C$4*$C$6)*10^-6)/($C$8*$C$7))) -> 6.5681391e-06 | W36: =V36/($T$24*$G$11*((Z36/2)+3.76)) -> 1.388512e-07 | X36: =$T$24*$G$12 -> 7.92 | Y36: =$T$24*$G$13 -> 8.91 | Z36: =(($G$15/2)*(1-$T$24)) -> 0.125 | AA36: =$G$14 -> 47.0238 | AB36: =((Z36*W36)/($C$5*10^-6)) -> 0.00043391 | AC36: =((AA36*W36)/($C$5*10^-6)) -> 0.16323278 | AD36: =SUM(U$27:U$42) -> 2.0920718e-07 | AE36: =W36*(X36+Y36+Z36+AA36) -> 8.8835332e-06 | AF36: =(AD36/AE36)*10^6 -> 23549.997 | AI36: 10 | AJ36: =AJ35+2 -> 30 | AK36: =(AK35*(($S15/$S14)^(($C$13-1)/$C$13))) -> 2505.094 | AL36: =((4.7*10^13*AT36*(AS36^0.5)*EXP($C$11/AK36))/($C$14*6))*$C$5*10^-6 -> 3.671146e-09 | AM36: =(((10^5*($C$4*$C$6)*10^-6)/($C$8*$C$7))) -> 6.5681391e-06 | AN36: =AM36/($AK$23*$G$11*((AQ36/2)+3.76)) -> 1.3159719e-07 | AO36: =$AK$23*$G$12 -> 6.8 | AP36: =$AK$23*$G$13 -> 7.65 | AQ36: =(($G$15/2)*(1-$AK$23)) -> 1.875 | AR36: =$G$14 -> 47.0238 | AS36: =((AQ36*AN36)/($C$5*10^-6)) -> 0.0061686183 | AT36: =((AR36*AN36)/($C$5*10^-6)) -> 0.154705 | AU36: =SUM($AL$26:$AL$41) -> 5.125105e-08 | AV36: =AN36*(AO36+AP36+AQ36+AR36) -> 8.336524e-06 | AW36: =(AU36/AV36)*10^6 -> 6147.7721
F37: HHV | G37: =G29/G32 -> 47.806219 | I37: Polynomial | K37: =(G12*J30*( 8.5770134353E-19*K35^6 - 1.0374875556E-14*K35^5 + 4.9689475953E-11*K35^4 - 0.00000012019118054*K35^3 + 0.00015650954893*K35^2 - 0.048239362033*K35 + 5.2084519626) + (G13*J30*(6.6506859177E-19*K35^6 - 7.8984343104E-15*K35^5 + 3.6879849877E-11*K35^4 - 0.000000086386228559*K35^3 + 0.00011074017861*K35^2 - 0.031241611608*K35 + 3.3006694533) + (G11*(1-J30)*(5.9376621671E-19*K35^6 - 7.1020711589E-15*K35^5 + 3.3460896805E-11*K35^4 - 0.000000078909601634*K35^3 + 0.000098599769212*K35^2 - 0.028172899156*K35 + 3.05378908) + (G14*(6.4958291549E-19*K35^6 - 7.8224528491E-15*K35^5 + 3.7120417697E-11*K35^4 - 0.00000008798317617*K35^3 + 0.00010982327235*K35^2 - 0.032606444641*K35 + 3.5786489003))))) -> 4585.822 | R37: 10 | S37: =S36+2 -> 30 | T37: =(T36*((S15/S14)^(($C$13-1)/$C$13))) -> 2784.7587 | U37: =((4.7*10^13*AC37*(AB37^0.5)*EXP($C$11/T37))/($C$14*6))*$C$5*10^-6 -> 1.5587778e-08 | V37: =(((10^5*($C$4*$C$6)*10^-6)/($C$8*$C$7))) -> 6.5681391e-06 | W37: =V37/($T$24*$G$11*((Z37/2)+3.76)) -> 1.388512e-07 | X37: =$T$24*$G$12 -> 7.92 | Y37: =$T$24*$G$13 -> 8.91 | Z37: =(($G$15/2)*(1-$T$24)) -> 0.125 | AA37: =$G$14 -> 47.0238 | AB37: =((Z37*W37)/($C$5*10^-6)) -> 0.00043391 | AC37: =((AA37*W37)/($C$5*10^-6)) -> 0.16323278 | AD37: =SUM(U$27:U$42) -> 2.0920718e-07 | AE37: =W37*(X37+Y37+Z37+AA37) -> 8.8835332e-06 | AF37: =(AD37/AE37)*10^6 -> 23549.997 | AI37: 11 | AJ37: =AJ36+2 -> 32 | AK37: =(AK36*(($S16/$S15)^(($C$13-1)/$C$13))) -> 2528.6957 | AL37: =((4.7*10^13*AT37*(AS37^0.5)*EXP($C$11/AK37))/($C$14*6))*$C$5*10^-6 -> 4.7268225e-09 | AM37: =(((10^5*($C$4*$C$6)*10^-6)/($C$8*$C$7))) -> 6.5681391e-06 | AN37: =AM37/($AK$23*$G$11*((AQ37/2)+3.76)) -> 1.3159719e-07 | AO37: =$AK$23*$G$12 -> 6.8 | AP37: =$AK$23*$G$13 -> 7.65 | AQ37: =(($G$15/2)*(1-$AK$23)) -> 1.875 | AR37: =$G$14 -> 47.0238 | AS37: =((AQ37*AN37)/($C$5*10^-6)) -> 0.0061686183 | AT37: =((AR37*AN37)/($C$5*10^-6)) -> 0.154705 | AU37: =SUM($AL$26:$AL$41) -> 5.125105e-08 | AV37: =AN37*(AO37+AP37+AQ37+AR37) -> 8.336524e-06 | AW37: =(AU37/AV37)*10^6 -> 6147.7721
R38: 11 | S38: =S37+2 -> 32 | T38: =(T37*((S16/S15)^(($C$13-1)/$C$13))) -> 2810.9953 | U38: =((4.7*10^13*AC38*(AB38^0.5)*EXP($C$11/T38))/($C$14*6))*$C$5*10^-6 -> 1.956718e-08 | V38: =(((10^5*($C$4*$C$6)*10^-6)/($C$8*$C$7))) -> 6.5681391e-06 | W38: =V38/($T$24*$G$11*((Z38/2)+3.76)) -> 1.388512e-07 | X38: =$T$24*$G$12 -> 7.92 | Y38: =$T$24*$G$13 -> 8.91 | Z38: =(($G$15/2)*(1-$T$24)) -> 0.125 | AA38: =$G$14 -> 47.0238 | AB38: =((Z38*W38)/($C$5*10^-6)) -> 0.00043391 | AC38: =((AA38*W38)/($C$5*10^-6)) -> 0.16323278 | AD38: =SUM(U$27:U$42) -> 2.0920718e-07 | AE38: =W38*(X38+Y38+Z38+AA38) -> 8.8835332e-06 | AF38: =(AD38/AE38)*10^6 -> 23549.997 | AI38: 12 | AJ38: =AJ37+2 -> 34 | AK38: =(AK37*(($S17/$S16)^(($C$13-1)/$C$13))) -> 2551.0687 | AL38: =((4.7*10^13*AT38*(AS38^0.5)*EXP($C$11/AK38))/($C$14*6))*$C$5*10^-6 -> 5.9806275e-09 | AM38: =(((10^5*($C$4*$C$6)*10^-6)/($C$8*$C$7))) -> 6.5681391e-06 | AN38: =AM38/($AK$23*$G$11*((AQ38/2)+3.76)) -> 1.3159719e-07 | AO38: =$AK$23*$G$12 -> 6.8 | AP38: =$AK$23*$G$13 -> 7.65 | AQ38: =(($G$15/2)*(1-$AK$23)) -> 1.875 | AR38: =$G$14 -> 47.0238 | AS38: =((AQ38*AN38)/($C$5*10^-6)) -> 0.0061686183 | AT38: =((AR38*AN38)/($C$5*10^-6)) -> 0.154705 | AU38: =SUM($AL$26:$AL$41) -> 5.125105e-08 | AV38: =AN38*(AO38+AP38+AQ38+AR38) -> 8.336524e-06 | AW38: =(AU38/AV38)*10^6 -> 6147.7721
R39: 12 | S39: =S38+2 -> 34 | T39: =(T38*((S17/S16)^(($C$13-1)/$C$13))) -> 2835.8659 | U39: =((4.7*10^13*AC39*(AB39^0.5)*EXP($C$11/T39))/($C$14*6))*$C$5*10^-6 -> 2.4179333e-08 | V39: =(((10^5*($C$4*$C$6)*10^-6)/($C$8*$C$7))) -> 6.5681391e-06 | W39: =V39/($T$24*$G$11*((Z39/2)+3.76)) -> 1.388512e-07 | X39: =$T$24*$G$12 -> 7.92 | Y39: =$T$24*$G$13 -> 8.91 | Z39: =(($G$15/2)*(1-$T$24)) -> 0.125 | AA39: =$G$14 -> 47.0238 | AB39: =((Z39*W39)/($C$5*10^-6)) -> 0.00043391 | AC39: =((AA39*W39)/($C$5*10^-6)) -> 0.16323278 | AD39: =SUM(U$27:U$42) -> 2.0920718e-07 | AE39: =W39*(X39+Y39+Z39+AA39) -> 8.8835332e-06 | AF39: =(AD39/AE39)*10^6 -> 23549.997 | AI39: 13 | AJ39: =AJ38+2 -> 36 | AK39: =(AK38*(($S18/$S17)^(($C$13-1)/$C$13))) -> 2572.3437 | AL39: =((4.7*10^13*AT39*(AS39^0.5)*EXP($C$11/AK39))/($C$14*6))*$C$5*10^-6 -> 7.4518031e-09 | AM39: =(((10^5*($C$4*$C$6)*10^-6)/($C$8*$C$7))) -> 6.5681391e-06 | AN39: =AM39/($AK$23*$G$11*((AQ39/2)+3.76)) -> 1.3159719e-07 | AO39: =$AK$23*$G$12 -> 6.8 | AP39: =$AK$23*$G$13 -> 7.65 | AQ39: =(($G$15/2)*(1-$AK$23)) -> 1.875 | AR39: =$G$14 -> 47.0238 | AS39: =((AQ39*AN39)/($C$5*10^-6)) -> 0.0061686183 | AT39: =((AR39*AN39)/($C$5*10^-6)) -> 0.154705 | AU39: =SUM($AL$26:$AL$41) -> 5.125105e-08 | AV39: =AN39*(AO39+AP39+AQ39+AR39) -> 8.336524e-06 | AW39: =(AU39/AV39)*10^6 -> 6147.7721
F40: Mass of CO2 | G40: =(G12*(L3+(L5*2))) -> 352.072 | R40: 13 | S40: =S39+2 -> 36 | T40: =(T39*((S18/S17)^(($C$13-1)/$C$13))) -> 2859.516 | U40: =((4.7*10^13*AC40*(AB40^0.5)*EXP($C$11/T40))/($C$14*6))*$C$5*10^-6 -> 2.9469089e-08 | V40: =(((10^5*($C$4*$C$6)*10^-6)/($C$8*$C$7))) -> 6.5681391e-06 | W40: =V40/($T$24*$G$11*((Z40/2)+3.76)) -> 1.388512e-07 | X40: =$T$24*$G$12 -> 7.92 | Y40: =$T$24*$G$13 -> 8.91 | Z40: =(($G$15/2)*(1-$T$24)) -> 0.125 | AA40: =$G$14 -> 47.0238 | AB40: =((Z40*W40)/($C$5*10^-6)) -> 0.00043391 | AC40: =((AA40*W40)/($C$5*10^-6)) -> 0.16323278 | AD40: =SUM(U$27:U$42) -> 2.0920718e-07 | AE40: =W40*(X40+Y40+Z40+AA40) -> 8.8835332e-06 | AF40: =(AD40/AE40)*10^6 -> 23549.997 | AI40: 14 | AJ40: =AJ39+2 -> 38 | AK40: =(AK39*(($S19/$S18)^(($C$13-1)/$C$13))) -> 2592.6314 | AL40: =((4.7*10^13*AT40*(AS40^0.5)*EXP($C$11/AK40))/($C$14*6))*$C$5*10^-6 -> 9.1597432e-09 | AM40: =(((10^5*($C$4*$C$6)*10^-6)/($C$8*$C$7))) -> 6.5681391e-06 | AN40: =AM40/($AK$23*$G$11*((AQ40/2)+3.76)) -> 1.3159719e-07 | AO40: =$AK$23*$G$12 -> 6.8 | AP40: =$AK$23*$G$13 -> 7.65 | AQ40: =(($G$15/2)*(1-$AK$23)) -> 1.875 | AR40: =$G$14 -> 47.0238 | AS40: =((AQ40*AN40)/($C$5*10^-6)) -> 0.0061686183 | AT40: =((AR40*AN40)/($C$5*10^-6)) -> 0.154705 | AU40: =SUM($AL$26:$AL$41) -> 5.125105e-08 | AV40: =AN40*(AO40+AP40+AQ40+AR40) -> 8.336524e-06 | AW40: =(AU40/AV40)*10^6 -> 6147.7721
R41: 14 | S41: =S40+2 -> 38 | T41: =(T40*((S19/S18)^(($C$13-1)/$C$13))) -> 2882.0686 | U41: =((4.7*10^13*AC41*(AB41^0.5)*EXP($C$11/T41))/($C$14*6))*$C$5*10^-6 -> 3.5480374e-08 | V41: =(((10^5*($C$4*$C$6)*10^-6)/($C$8*$C$7))) -> 6.5681391e-06 | W41: =V41/($T$24*$G$11*((Z41/2)+3.76)) -> 1.388512e-07 | X41: =$T$24*$G$12 -> 7.92 | Y41: =$T$24*$G$13 -> 8.91 | Z41: =(($G$15/2)*(1-$T$24)) -> 0.125 | AA41: =$G$14 -> 47.0238 | AB41: =((Z41*W41)/($C$5*10^-6)) -> 0.00043391 | AC41: =((AA41*W41)/($C$5*10^-6)) -> 0.16323278 | AD41: =SUM(U$27:U$42) -> 2.0920718e-07 | AE41: =W41*(X41+Y41+Z41+AA41) -> 8.8835332e-06 | AF41: =(AD41/AE41)*10^6 -> 23549.997 | AI41: 15 | AJ41: =AJ40+2 -> 40 | AK41: =(AK40*(($S20/$S19)^(($C$13-1)/$C$13))) -> 2612.0261 | AL41: =((4.7*10^13*AT41*(AS41^0.5)*EXP($C$11/AK41))/($C$14*6))*$C$5*10^-6 -> 1.1123945e-08 | AM41: =(((10^5*($C$4*$C$6)*10^-6)/($C$8*$C$7))) -> 6.5681391e-06 | AN41: =AM41/($AK$23*$G$11*((AQ41/2)+3.76)) -> 1.3159719e-07 | AO41: =$AK$23*$G$12 -> 6.8 | AP41: =$AK$23*$G$13 -> 7.65 | AQ41: =(($G$15/2)*(1-$AK$23)) -> 1.875 | AR41: =$G$14 -> 47.0238 | AS41: =((AQ41*AN41)/($C$5*10^-6)) -> 0.0061686183 | AT41: =((AR41*AN41)/($C$5*10^-6)) -> 0.154705 | AU41: =SUM($AL$26:$AL$41) -> 5.125105e-08 | AV41: =AN41*(AO41+AP41+AQ41+AR41) -> 8.336524e-06 | AW41: =(AU41/AV41)*10^6 -> 6147.7721
F42: CO2 Per Kg of Fuel | G42: =G40/G32 -> 3.0820786 | R42: 15 | S42: =S41+2 -> 40 | T42: =(T41*((S20/S19)^(($C$13-1)/$C$13))) -> 2903.6285 | U42: =((4.7*10^13*AC42*(AB42^0.5)*EXP($C$11/T42))/($C$14*6))*$C$5*10^-6 -> 4.225617e-08 | V42: =(((10^5*($C$4*$C$6)*10^-6)/($C$8*$C$7))) -> 6.5681391e-06 | W42: =V42/($T$24*$G$11*((Z42/2)+3.76)) -> 1.388512e-07 | X42: =$T$24*$G$12 -> 7.92 | Y42: =$T$24*$G$13 -> 8.91 | Z42: =(($G$15/2)*(1-$T$24)) -> 0.125 | AA42: =$G$14 -> 47.0238 | AB42: =((Z42*W42)/($C$5*10^-6)) -> 0.00043391 | AC42: =((AA42*W42)/($C$5*10^-6)) -> 0.16323278 | AD42: =SUM(U$27:U$42) -> 2.0920718e-07 | AE42: =W42*(X42+Y42+Z42+AA42) -> 8.8835332e-06 | AF42: =(AD42/AE42)*10^6 -> 23549.997
B45: Initial Flame Temp | AI45: Phi | AK45: 0.8
R46: Phi | T46: 0.98
A47: Pressure (M) | B47: Phi | C47: Enthalpy | D47: flame Temp (k) | E47: (n) no of mols Drawn Per cycle | F47: Alpha | G47: (n1) CO2 | H47: (n2) H2O | I47: (n3) O2 | J47: (n4) N2 | K47: [O2] | L47: [N2] | M47: Nox (kmol/deg) | N47: Nox Kmol/Cycle | O47: Exhaust Kmols | P47: NOx PPM | AI47: Crank angle | AJ47: Pressure (Bar) | AK47: Temp (k) | AL47: Nox (kmol/deg) | AM47: (n) no of mols Drawn Per cycle | AN47: Alpha | AO47: (n1) CO2 | AP47: (n2) H2O | AQ47: (n3) O2 | AR47: (n4) N2 | AS47: [O2] | AT47: [N2] | AU47: sum of Nox Kmol/Cycle | AV47: Exhaust Kmols | AW47: NOx PPM
A48: 10 | B48: 1 | C48: 5065 | D48: 2390.3031 | E48: =(((10^5*($C$4*$C$6)*10^-6)/($C$8*$C$7))) -> 6.5681391e-06 | F48: =E48/(B48*$G$11*((I48/2)+3.76)) -> 1.3974764e-07 | G48: =B48*$G$12 -> 8 | H48: =B48*$G$13 -> 9 | I48: =(($G$15/2)*(1-B48)) -> 0 | J48: =$G$14 -> 47.0238 | K48: =((I48*F48)/($C$5*10^-6)) -> 0 | L48: =((J48*F48)/($C$5*10^-6)) -> 0.16428663 | M48: =((4.7*10^13*L48*(K48^0.5)*EXP($C$11/D48))/($C$15))*$C$5*10^-6 -> 0 | N48: =SUM(U5:U20) -> 0 | O48: =F48*(G48+H48+I48+J48) -> 8.947175e-06 | P48: =(N48/O48)*10^6 -> 0 | R48: Crank angle | S48: Pressure (Bar) | T48: Temp (k) | U48: Nox (kmol/deg) | V48: (n) no of mols Drawn Per cycle | W48: Alpha | X48: (n1) CO2 | Y48: (n2) H2O | Z48: (n3) O2 | AA48: (n4) N2 | AB48: [O2] | AC48: [N2] | AD48: sum of Nox Kmol/Cycle | AE48: Exhaust Kmols | AF48: NOx PPM | AI48: 0 | AJ48: 10 | AK48: 2045.6734 | AL48: =((4.7*10^13*AT48*(AS48^0.5)*EXP($C$11/AK48))/($C$14*6))*$C$5*10^-6 -> 9.6296245e-12 | AM48: =(((10^5*($C$4*$C$6)*10^-6)/($C$8*$C$7))) -> 6.5681391e-06 | AN48: =AM48/($AK$45*$G$11*((AQ48/2)+3.76)) -> 1.3110058e-07 | AO48: =$AK$45*$G$12 -> 6.4 | AP48: =$AK$45*$G$13 -> 7.2 | AQ48: =(($G$15/2)*(1-$AK$45)) -> 2.5 | AR48: =$G$14 -> 47.0238 | AS48: =((AQ48*AN48)/($C$5*10^-6)) -> 0.0081937863 | AT48: =((AR48*AN48)/($C$5*10^-6)) -> 0.15412119 | AU48: =SUM($AL$48:$AL$63) -> 1.8266124e-08 | AV48: =AN48*(AO48+AP48+AQ48+AR48) -> 8.2755669e-06 | AW48: =(AU48/AV48)*10^6 -> 2207.2354
A49: 10 | B49: 0.99 | C49: =(((G49*$L$12)+(H49*$L$13)+($G$14*0)))-$B$30 -> 5011.758 | D49: 2373.8991 | E49: =(((10^5*($C$4*$C$6)*10^-6)/($C$8*$C$7))) -> 6.5681391e-06 | F49: =E49/(B49*$G$11*((I49/2)+3.76)) -> 1.388512e-07 | G49: =B49*$G$12 -> 7.92 | H49: =B49*$G$13 -> 8.91 | I49: =(($G$15/2)*(1-B49)) -> 0.125 | J49: =$G$14 -> 47.0238 | K49: =((I49*F49)/($C$5*10^-6)) -> 0.00043391 | L49: =((J49*F49)/($C$5*10^-6)) -> 0.16323278 | M49: =((4.7*10^13*L49*(K49^0.5)*EXP($C$11/D49))/($C$15))*$C$5*10^-6 -> 2.3001602e-10 | N49: =SUM(U27:U42) -> 2.0920718e-07 | O49: =F49*(G49+H49+I49+J49) -> 8.8835332e-06 | P49: =(N49/O49)*10^6 -> 23549.997 | R49: 0 | S49: 10 | T49: 2357.4217 | U49: =((4.7*10^13*AC49*(AB49^0.5)*EXP($C$11/T49))/($C$14*6))*$C$5*10^-6 -> 2.6398402e-10 | V49: =(((10^5*($C$4*$C$6)*10^-6)/($C$8*$C$7))) -> 6.5681391e-06 | W49: =V49/($T$46*$G$11*((Z49/2)+3.76)) -> 1.3801149e-07 | X49: =$T$46*$G$12 -> 7.84 | Y49: =$T$46*$G$13 -> 8.82 | Z49: =(($G$15/2)*(1-$T$46)) -> 0.25 | AA49: =$G$14 -> 47.0238 | AB49: =((Z49*W49)/($C$5*10^-6)) -> 0.00086257178 | AC49: =((AA49*W49)/($C$5*10^-6)) -> 0.16224561 | AD49: =SUM($U$49:$U$64) -> 2.4784541e-07 | AE49: =W49*(X49+Y49+Z49+AA49) -> 8.8235987e-06 | AF49: =(AD49/AE49)*10^6 -> 28088.925 | AI49: 1 | AJ49: =AJ48+2 -> 12 | AK49: =(AK48*(($S6/$S5)^(($C$13-1)/$C$13))) -> 2100.5899 | AL49: =((4.7*10^13*AT49*(AS49^0.5)*EXP($C$11/AK49))/($C$14*6))*$C$5*10^-6 -> 2.2914947e-11 | AM49: =(((10^5*($C$4*$C$6)*10^-6)/($C$8*$C$7))) -> 6.5681391e-06 | AN49: =AM49/($AK$45*$G$11*((AQ49/2)+3.76)) -> 1.3110058e-07 | AO49: =$AK$45*$G$12 -> 6.4 | AP49: =$AK$45*$G$13 -> 7.2 | AQ49: =(($G$15/2)*(1-$AK$45)) -> 2.5 | AR49: =$G$14 -> 47.0238 | AS49: =((AQ49*AN49)/($C$5*10^-6)) -> 0.0081937863 | AT49: =((AR49*AN49)/($C$5*10^-6)) -> 0.15412119 | AU49: =SUM($AL$48:$AL$63) -> 1.8266124e-08 | AV49: =AN49*(AO49+AP49+AQ49+AR49) -> 8.2755669e-06 | AW49: =(AU49/AV49)*10^6 -> 2207.2354
A50: 10 | B50: 0.98 | C50: =(((G50*$L$12)+(H50*$L$13)+($G$14*0)))-$B$30 -> 4958.516 | D50: 2357.4217 | E50: =(((10^5*($C$4*$C$6)*10^-6)/($C$8*$C$7))) -> 6.5681391e-06 | F50: =E50/(B50*$G$11*((I50/2)+3.76)) -> 1.3801149e-07 | G50: =B50*$G$12 -> 7.84 | H50: =B50*$G$13 -> 8.82 | I50: =(($G$15/2)*(1-B50)) -> 0.25 | J50: =$G$14 -> 47.0238 | K50: =((I50*F50)/($C$5*10^-6)) -> 0.00086257178 | L50: =((J50*F50)/($C$5*10^-6)) -> 0.16224561 | M50: =((4.7*10^13*L50*(K50^0.5)*EXP($C$11/D50))/($C$15))*$C$5*10^-6 -> 2.6398402e-10 | N50: =SUM(U49:U64) -> 2.4784541e-07 | O50: =F50*(G50+H50+I50+J50) -> 8.8235987e-06 | P50: =(N50/O50)*10^6 -> 28088.925 | R50: 1 | S50: =S49+2 -> 12 | T50: =(T49*(($S6/$S5)^(($C$13-1)/$C$13))) -> 2420.7071 | U50: =((4.7*10^13*AC50*(AB50^0.5)*EXP($C$11/T50))/($C$14*6))*$C$5*10^-6 -> 5.6014062e-10 | V50: =(((10^5*($C$4*$C$6)*10^-6)/($C$8*$C$7))) -> 6.5681391e-06 | W50: =V50/($T$46*$G$11*((Z50/2)+3.76)) -> 1.3801149e-07 | X50: =$T$46*$G$12 -> 7.84 | Y50: =$T$46*$G$13 -> 8.82 | Z50: =(($G$15/2)*(1-$T$46)) -> 0.25 | AA50: =$G$14 -> 47.0238 | AB50: =((Z50*W50)/($C$5*10^-6)) -> 0.00086257178 | AC50: =((AA50*W50)/($C$5*10^-6)) -> 0.16224561 | AD50: =SUM($U$49:$U$64) -> 2.4784541e-07 | AE50: =W50*(X50+Y50+Z50+AA50) -> 8.8235987e-06 | AF50: =(AD50/AE50)*10^6 -> 28088.925 | AI50: 2 | AJ50: =AJ49+2 -> 14 | AK50: =(AK49*(($S7/$S6)^(($C$13-1)/$C$13))) -> 2148.1697 | AL50: =((4.7*10^13*AT50*(AS50^0.5)*EXP($C$11/AK50))/($C$14*6))*$C$5*10^-6 -> 4.6855795e-11 | AM50: =(((10^5*($C$4*$C$6)*10^-6)/($C$8*$C$7))) -> 6.5681391e-06 | AN50: =AM50/($AK$45*$G$11*((AQ50/2)+3.76)) -> 1.3110058e-07 | AO50: =$AK$45*$G$12 -> 6.4 | AP50: =$AK$45*$G$13 -> 7.2 | AQ50: =(($G$15/2)*(1-$AK$45)) -> 2.5 | AR50: =$G$14 -> 47.0238 | AS50: =((AQ50*AN50)/($C$5*10^-6)) -> 0.0081937863 | AT50: =((AR50*AN50)/($C$5*10^-6)) -> 0.15412119 | AU50: =SUM($AL$48:$AL$63) -> 1.8266124e-08 | AV50: =AN50*(AO50+AP50+AQ50+AR50) -> 8.2755669e-06 | AW50: =(AU50/AV50)*10^6 -> 2207.2354
A51: 10 | B51: 0.97 | C51: =(((G51*$L$12)+(H51*$L$13)+($G$14*0)))-$B$30 -> 4905.274 | D51: 2340.8652 | E51: =(((10^5*($C$4*$C$6)*10^-6)/($C$8*$C$7))) -> 6.5681391e-06 | F51: =E51/(B51*$G$11*((I51/2)+3.76)) -> 1.3722665e-07 | G51: =B51*$G$12 -> 7.76 | H51: =B51*$G$13 -> 8.73 | I51: =(($G$15/2)*(1-B51)) -> 0.375 | J51: =$G$14 -> 47.0238 | K51: =((I51*F51)/($C$5*10^-6)) -> 0.0012864998 | L51: =((J51*F51)/($C$5*10^-6)) -> 0.16132296 | M51: =((4.7*10^13*L51*(K51^0.5)*EXP($C$11/D51))/($C$15))*$C$5*10^-6 -> 2.6152743e-10 | N51: =SUM(U71:U86) -> 2.5361742e-07 | O51: =F51*(G51+H51+I51+J51) -> 8.7672459e-06 | P51: =(N51/O51)*10^6 -> 28927.832 | R51: 2 | S51: =S50+2 -> 14 | T51: =(T50*(($S7/$S6)^(($C$13-1)/$C$13))) -> 2475.5378 | U51: =((4.7*10^13*AC51*(AB51^0.5)*EXP($C$11/T51))/($C$14*6))*$C$5*10^-6 -> 1.0419851e-09 | V51: =(((10^5*($C$4*$C$6)*10^-6)/($C$8*$C$7))) -> 6.5681391e-06 | W51: =V51/($T$46*$G$11*((Z51/2)+3.76)) -> 1.3801149e-07 | X51: =$T$46*$G$12 -> 7.84 | Y51: =$T$46*$G$13 -> 8.82 | Z51: =(($G$15/2)*(1-$T$46)) -> 0.25 | AA51: =$G$14 -> 47.0238 | AB51: =((Z51*W51)/($C$5*10^-6)) -> 0.00086257178 | AC51: =((AA51*W51)/($C$5*10^-6)) -> 0.16224561 | AD51: =SUM($U$49:$U$64) -> 2.4784541e-07 | AE51: =W51*(X51+Y51+Z51+AA51) -> 8.8235987e-06 | AF51: =(AD51/AE51)*10^6 -> 28088.925 | AI51: 3 | AJ51: =AJ50+2 -> 16 | AK51: =(AK50*(($S8/$S7)^(($C$13-1)/$C$13))) -> 2190.2554 | AL51: =((4.7*10^13*AT51*(AS51^0.5)*EXP($C$11/AK51))/($C$14*6))*$C$5*10^-6 -> 8.5958482e-11 | AM51: =(((10^5*($C$4*$C$6)*10^-6)/($C$8*$C$7))) -> 6.5681391e-06 | AN51: =AM51/($AK$45*$G$11*((AQ51/2)+3.76)) -> 1.3110058e-07 | AO51: =$AK$45*$G$12 -> 6.4 | AP51: =$AK$45*$G$13 -> 7.2 | AQ51: =(($G$15/2)*(1-$AK$45)) -> 2.5 | AR51: =$G$14 -> 47.0238 | AS51: =((AQ51*AN51)/($C$5*10^-6)) -> 0.0081937863 | AT51: =((AR51*AN51)/($C$5*10^-6)) -> 0.15412119 | AU51: =SUM($AL$48:$AL$63) -> 1.8266124e-08 | AV51: =AN51*(AO51+AP51+AQ51+AR51) -> 8.2755669e-06 | AW51: =(AU51/AV51)*10^6 -> 2207.2354
A52: 10 | B52: 0.96 | C52: =(((G52*$L$12)+(H52*$L$13)+($G$14*0)))-$B$30 -> 4852.032 | D52: 2324.2345 | E52: =(((10^5*($C$4*$C$6)*10^-6)/($C$8*$C$7))) -> 6.5681391e-06 | F52: =E52/(B52*$G$11*((I52/2)+3.76)) -> 1.3649499e-07 | G52: =B52*$G$12 -> 7.68 | H52: =B52*$G$13 -> 8.64 | I52: =(($G$15/2)*(1-B52)) -> 0.5 | J52: =$G$14 -> 47.0238 | K52: =((I52*F52)/($C$5*10^-6)) -> 0.0017061874 | L52: =((J52*F52)/($C$5*10^-6)) -> 0.16046283 | M52: =((4.7*10^13*L52*(K52^0.5)*EXP($C$11/D52))/($C$15))*$C$5*10^-6 -> 2.4347235e-10 | N52: =SUM(U92:U107) -> 2.4403221e-07 | O52: =F52*(G52+H52+I52+J52) -> 8.7143591e-06 | P52: =(N52/O52)*10^6 -> 28003.46 | R52: 3 | S52: =S51+2 -> 16 | T52: =(T51*(($S8/$S7)^(($C$13-1)/$C$13))) -> 2524.0372 | U52: =((4.7*10^13*AC52*(AB52^0.5)*EXP($C$11/T52))/($C$14*6))*$C$5*10^-6 -> 1.7641602e-09 | V52: =(((10^5*($C$4*$C$6)*10^-6)/($C$8*$C$7))) -> 6.5681391e-06 | W52: =V52/($T$46*$G$11*((Z52/2)+3.76)) -> 1.3801149e-07 | X52: =$T$46*$G$12 -> 7.84 | Y52: =$T$46*$G$13 -> 8.82 | Z52: =(($G$15/2)*(1-$T$46)) -> 0.25 | AA52: =$G$14 -> 47.0238 | AB52: =((Z52*W52)/($C$5*10^-6)) -> 0.00086257178 | AC52: =((AA52*W52)/($C$5*10^-6)) -> 0.16224561 | AD52: =SUM($U$49:$U$64) -> 2.4784541e-07 | AE52: =W52*(X52+Y52+Z52+AA52) -> 8.8235987e-06 | AF52: =(AD52/AE52)*10^6 -> 28088.925 | AI52: 4 | AJ52: =AJ51+2 -> 18 | AK52: =(AK51*(($S9/$S8)^(($C$13-1)/$C$13))) -> 2228.0615 | AL52: =((4.7*10^13*AT52*(AS52^0.5)*EXP($C$11/AK52))/($C$14*6))*$C$5*10^-6 -> 1.4538794e-10 | AM52: =(((10^5*($C$4*$C$6)*10^-6)/($C$8*$C$7))) -> 6.5681391e-06 | AN52: =AM52/($AK$45*$G$11*((AQ52/2)+3.76)) -> 1.3110058e-07 | AO52: =$AK$45*$G$12 -> 6.4 | AP52: =$AK$45*$G$13 -> 7.2 | AQ52: =(($G$15/2)*(1-$AK$45)) -> 2.5 | AR52: =$G$14 -> 47.0238 | AS52: =((AQ52*AN52)/($C$5*10^-6)) -> 0.0081937863 | AT52: =((AR52*AN52)/($C$5*10^-6)) -> 0.15412119 | AU52: =SUM($AL$48:$AL$63) -> 1.8266124e-08 | AV52: =AN52*(AO52+AP52+AQ52+AR52) -> 8.2755669e-06 | AW52: =(AU52/AV52)*10^6 -> 2207.2354
A53: 10 | B53: 0.95 | C53: =(((G53*$L$12)+(H53*$L$13)+($G$14*0)))-$B$30 -> 4798.79 | D53: 2307.5237 | E53: =(((10^5*($C$4*$C$6)*10^-6)/($C$8*$C$7))) -> 6.5681391e-06 | F53: =E53/(B53*$G$11*((I53/2)+3.76)) -> 1.3581497e-07 | G53: =B53*$G$12 -> 7.6 | H53: =B53*$G$13 -> 8.55 | I53: =(($G$15/2)*(1-B53)) -> 0.625 | J53: =$G$14 -> 47.0238 | K53: =((I53*F53)/($C$5*10^-6)) -> 0.0021221089 | L53: =((J53*F53)/($C$5*10^-6)) -> 0.1596634 | M53: =((4.7*10^13*L53*(K53^0.5)*EXP($C$11/D53))/($C$15))*$C$5*10^-6 -> 2.1870344e-10 | N53: =SUM(U114:U129) -> 2.2671423e-07 | O53: =F53*(G53+H53+I53+J53) -> 8.6648319e-06 | P53: =(N53/O53)*10^6 -> 26164.873 | R53: 4 | S53: =S52+2 -> 18 | T53: =(T52*(($S9/$S8)^(($C$13-1)/$C$13))) -> 2567.6047 | U53: =((4.7*10^13*AC53*(AB53^0.5)*EXP($C$11/T53))/($C$14*6))*$C$5*10^-6 -> 2.783524e-09 | V53: =(((10^5*($C$4*$C$6)*10^-6)/($C$8*$C$7))) -> 6.5681391e-06 | W53: =V53/($T$46*$G$11*((Z53/2)+3.76)) -> 1.3801149e-07 | X53: =$T$46*$G$12 -> 7.84 | Y53: =$T$46*$G$13 -> 8.82 | Z53: =(($G$15/2)*(1-$T$46)) -> 0.25 | AA53: =$G$14 -> 47.0238 | AB53: =((Z53*W53)/($C$5*10^-6)) -> 0.00086257178 | AC53: =((AA53*W53)/($C$5*10^-6)) -> 0.16224561 | AD53: =SUM($U$49:$U$64) -> 2.4784541e-07 | AE53: =W53*(X53+Y53+Z53+AA53) -> 8.8235987e-06 | AF53: =(AD53/AE53)*10^6 -> 28088.925 | AI53: 5 | AJ53: =AJ52+2 -> 20 | AK53: =(AK52*(($S10/$S9)^(($C$13-1)/$C$13))) -> 2262.4329 | AL53: =((4.7*10^13*AT53*(AS53^0.5)*EXP($C$11/AK53))/($C$14*6))*$C$5*10^-6 -> 2.308937e-10 | AM53: =(((10^5*($C$4*$C$6)*10^-6)/($C$8*$C$7))) -> 6.5681391e-06 | AN53: =AM53/($AK$45*$G$11*((AQ53/2)+3.76)) -> 1.3110058e-07 | AO53: =$AK$45*$G$12 -> 6.4 | AP53: =$AK$45*$G$13 -> 7.2 | AQ53: =(($G$15/2)*(1-$AK$45)) -> 2.5 | AR53: =$G$14 -> 47.0238 | AS53: =((AQ53*AN53)/($C$5*10^-6)) -> 0.0081937863 | AT53: =((AR53*AN53)/($C$5*10^-6)) -> 0.15412119 | AU53: =SUM($AL$48:$AL$63) -> 1.8266124e-08 | AV53: =AN53*(AO53+AP53+AQ53+AR53) -> 8.2755669e-06 | AW53: =(AU53/AV53)*10^6 -> 2207.2354
A54: 10 | B54: 0.9 | C54: =(((G54*$L$12)+(H54*$L$13)+($G$14*0)))-$B$30 -> 4532.58 | D54: 2222.6845 | E54: =(((10^5*($C$4*$C$6)*10^-6)/($C$8*$C$7))) -> 6.5681391e-06 | F54: =E54/(B54*$G$11*((I54/2)+3.76)) -> 1.3314358e-07 | G54: =B54*$G$12 -> 7.2 | H54: =B54*$G$13 -> 8.1 | I54: =(($G$15/2)*(1-B54)) -> 1.25 | J54: =$G$14 -> 47.0238 | K54: =((I54*F54)/($C$5*10^-6)) -> 0.0041607368 | L54: =((J54*F54)/($C$5*10^-6)) -> 0.15652292 | M54: =((4.7*10^13*L54*(K54^0.5)*EXP($C$11/D54))/($C$15))*$C$5*10^-6 -> 9.7745904e-11 | N54: =SUM(AL5:AL20) -> 1.2122137e-07 | O54: =F54*(G54+H54+I54+J54) -> 8.4644432e-06 | P54: =(N54/O54)*10^6 -> 14321.245 | R54: 5 | S54: =S53+2 -> 20 | T54: =(T53*(($S10/$S9)^(($C$13-1)/$C$13))) -> 2607.214 | U54: =((4.7*10^13*AC54*(AB54^0.5)*EXP($C$11/T54))/($C$14*6))*$C$5*10^-6 -> 4.1582784e-09 | V54: =(((10^5*($C$4*$C$6)*10^-6)/($C$8*$C$7))) -> 6.5681391e-06 | W54: =V54/($T$46*$G$11*((Z54/2)+3.76)) -> 1.3801149e-07 | X54: =$T$46*$G$12 -> 7.84 | Y54: =$T$46*$G$13 -> 8.82 | Z54: =(($G$15/2)*(1-$T$46)) -> 0.25 | AA54: =$G$14 -> 47.0238 | AB54: =((Z54*W54)/($C$5*10^-6)) -> 0.00086257178 | AC54: =((AA54*W54)/($C$5*10^-6)) -> 0.16224561 | AD54: =SUM($U$49:$U$64) -> 2.4784541e-07 | AE54: =W54*(X54+Y54+Z54+AA54) -> 8.8235987e-06 | AF54: =(AD54/AE54)*10^6 -> 28088.925 | AI54: 6 | AJ54: =AJ53+2 -> 22 | AK54: =(AK53*(($S11/$S10)^(($C$13-1)/$C$13))) -> 2293.9821 | AL54: =((4.7*10^13*AT54*(AS54^0.5)*EXP($C$11/AK54))/($C$14*6))*$C$5*10^-6 -> 3.487411e-10 | AM54: =(((10^5*($C$4*$C$6)*10^-6)/($C$8*$C$7))) -> 6.5681391e-06 | AN54: =AM54/($AK$45*$G$11*((AQ54/2)+3.76)) -> 1.3110058e-07 | AO54: =$AK$45*$G$12 -> 6.4 | AP54: =$AK$45*$G$13 -> 7.2 | AQ54: =(($G$15/2)*(1-$AK$45)) -> 2.5 | AR54: =$G$14 -> 47.0238 | AS54: =((AQ54*AN54)/($C$5*10^-6)) -> 0.0081937863 | AT54: =((AR54*AN54)/($C$5*10^-6)) -> 0.15412119 | AU54: =SUM($AL$48:$AL$63) -> 1.8266124e-08 | AV54: =AN54*(AO54+AP54+AQ54+AR54) -> 8.2755669e-06 | AW54: =(AU54/AV54)*10^6 -> 2207.2354
A55: 10 | B55: 0.85 | C55: =(((G55*$L$12)+(H55*$L$13)+($G$14*0)))-$B$30 -> 4266.37 | D55: 2135.4958 | E55: =(((10^5*($C$4*$C$6)*10^-6)/($C$8*$C$7))) -> 6.5681391e-06 | F55: =E55/(B55*$G$11*((I55/2)+3.76)) -> 1.3159719e-07 | G55: =B55*$G$12 -> 6.8 | H55: =B55*$G$13 -> 7.65 | I55: =(($G$15/2)*(1-B55)) -> 1.875 | J55: =$G$14 -> 47.0238 | K55: =((I55*F55)/($C$5*10^-6)) -> 0.0061686183 | L55: =((J55*F55)/($C$5*10^-6)) -> 0.154705 | M55: =((4.7*10^13*L55*(K55^0.5)*EXP($C$11/D55))/($C$15))*$C$5*10^-6 -> 3.3834729e-11 | N55: =SUM(AL26:AL41) -> 5.125105e-08 | O55: =F55*(G55+H55+I55+J55) -> 8.336524e-06 | P55: =(N55/O55)*10^6 -> 6147.7721 | R55: 6 | S55: =S54+2 -> 22 | T55: =(T54*(($S11/$S10)^(($C$13-1)/$C$13))) -> 2643.5712 | U55: =((4.7*10^13*AC55*(AB55^0.5)*EXP($C$11/T55))/($C$14*6))*$C$5*10^-6 -> 5.9473213e-09 | V55: =(((10^5*($C$4*$C$6)*10^-6)/($C$8*$C$7))) -> 6.5681391e-06 | W55: =V55/($T$46*$G$11*((Z55/2)+3.76)) -> 1.3801149e-07 | X55: =$T$46*$G$12 -> 7.84 | Y55: =$T$46*$G$13 -> 8.82 | Z55: =(($G$15/2)*(1-$T$46)) -> 0.25 | AA55: =$G$14 -> 47.0238 | AB55: =((Z55*W55)/($C$5*10^-6)) -> 0.00086257178 | AC55: =((AA55*W55)/($C$5*10^-6)) -> 0.16224561 | AD55: =SUM($U$49:$U$64) -> 2.4784541e-07 | AE55: =W55*(X55+Y55+Z55+AA55) -> 8.8235987e-06 | AF55: =(AD55/AE55)*10^6 -> 28088.925 | AI55: 7 | AJ55: =AJ54+2 -> 24 | AK55: =(AK54*(($S12/$S11)^(($C$13-1)/$C$13))) -> 2323.1683 | AL55: =((4.7*10^13*AT55*(AS55^0.5)*EXP($C$11/AK55))/($C$14*6))*$C$5*10^-6 -> 5.0564872e-10 | AM55: =(((10^5*($C$4*$C$6)*10^-6)/($C$8*$C$7))) -> 6.5681391e-06 | AN55: =AM55/($AK$45*$G$11*((AQ55/2)+3.76)) -> 1.3110058e-07 | AO55: =$AK$45*$G$12 -> 6.4 | AP55: =$AK$45*$G$13 -> 7.2 | AQ55: =(($G$15/2)*(1-$AK$45)) -> 2.5 | AR55: =$G$14 -> 47.0238 | AS55: =((AQ55*AN55)/($C$5*10^-6)) -> 0.0081937863 | AT55: =((AR55*AN55)/($C$5*10^-6)) -> 0.15412119 | AU55: =SUM($AL$48:$AL$63) -> 1.8266124e-08 | AV55: =AN55*(AO55+AP55+AQ55+AR55) -> 8.2755669e-06 | AW55: =(AU55/AV55)*10^6 -> 2207.2354
A56: 10 | B56: 0.8 | C56: =(((G56*$L$12)+(H56*$L$13)+($G$14*0)))-$B$30 -> 4000.16 | D56: 2045.6734 | E56: =(((10^5*($C$4*$C$6)*10^-6)/($C$8*$C$7))) -> 6.5681391e-06 | F56: =E56/(B56*$G$11*((I56/2)+3.76)) -> 1.3110058e-07 | G56: =B56*$G$12 -> 6.4 | H56: =B56*$G$13 -> 7.2 | I56: =(($G$15/2)*(1-B56)) -> 2.5 | J56: =$G$14 -> 47.0238 | K56: =((I56*F56)/($C$5*10^-6)) -> 0.0081937863 | L56: =((J56*F56)/($C$5*10^-6)) -> 0.15412119 | M56: =((4.7*10^13*L56*(K56^0.5)*EXP($C$11/D56))/($C$15))*$C$5*10^-6 -> 9.6296245e-12 | N56: =SUM(AL48:AL63) -> 1.8266124e-08 | O56: =F56*(G56+H56+I56+J56) -> 8.2755669e-06 | P56: =(N56/O56)*10^6 -> 2207.2354 | R56: 7 | S56: =S55+2 -> 24 | T56: =(T55*(($S12/$S11)^(($C$13-1)/$C$13))) -> 2677.2052 | U56: =((4.7*10^13*AC56*(AB56^0.5)*EXP($C$11/T56))/($C$14*6))*$C$5*10^-6 -> 8.2097629e-09 | V56: =(((10^5*($C$4*$C$6)*10^-6)/($C$8*$C$7))) -> 6.5681391e-06 | W56: =V56/($T$46*$G$11*((Z56/2)+3.76)) -> 1.3801149e-07 | X56: =$T$46*$G$12 -> 7.84 | Y56: =$T$46*$G$13 -> 8.82 | Z56: =(($G$15/2)*(1-$T$46)) -> 0.25 | AA56: =$G$14 -> 47.0238 | AB56: =((Z56*W56)/($C$5*10^-6)) -> 0.00086257178 | AC56: =((AA56*W56)/($C$5*10^-6)) -> 0.16224561 | AD56: =SUM($U$49:$U$64) -> 2.4784541e-07 | AE56: =W56*(X56+Y56+Z56+AA56) -> 8.8235987e-06 | AF56: =(AD56/AE56)*10^6 -> 28088.925 | AI56: 8 | AJ56: =AJ55+2 -> 26 | AK56: =(AK55*(($S13/$S12)^(($C$13-1)/$C$13))) -> 2350.3448 | AL56: =((4.7*10^13*AT56*(AS56^0.5)*EXP($C$11/AK56))/($C$14*6))*$C$5*10^-6 -> 7.08732e-10 | AM56: =(((10^5*($C$4*$C$6)*10^-6)/($C$8*$C$7))) -> 6.5681391e-06 | AN56: =AM56/($AK$45*$G$11*((AQ56/2)+3.76)) -> 1.3110058e-07 | AO56: =$AK$45*$G$12 -> 6.4 | AP56: =$AK$45*$G$13 -> 7.2 | AQ56: =(($G$15/2)*(1-$AK$45)) -> 2.5 | AR56: =$G$14 -> 47.0238 | AS56: =((AQ56*AN56)/($C$5*10^-6)) -> 0.0081937863 | AT56: =((AR56*AN56)/($C$5*10^-6)) -> 0.15412119 | AU56: =SUM($AL$48:$AL$63) -> 1.8266124e-08 | AV56: =AN56*(AO56+AP56+AQ56+AR56) -> 8.2755669e-06 | AW56: =(AU56/AV56)*10^6 -> 2207.2354
A57: 10 | B57: 0.75 | C57: =(((G57*$L$12)+(H57*$L$13)+($G$14*0)))-$B$30 -> 3733.95 | D57: 1952.9587 | E57: =(((10^5*($C$4*$C$6)*10^-6)/($C$8*$C$7))) -> 6.5681391e-06 | F57: =E57/(B57*$G$11*((I57/2)+3.76)) -> 1.3163016e-07 | G57: =B57*$G$12 -> 6 | H57: =B57*$G$13 -> 6.75 | I57: =(($G$15/2)*(1-B57)) -> 3.125 | J57: =$G$14 -> 47.0238 | K57: =((I57*F57)/($C$5*10^-6)) -> 0.010283606 | L57: =((J57*F57)/($C$5*10^-6)) -> 0.15474375 | M57: =((4.7*10^13*L57*(K57^0.5)*EXP($C$11/D57))/($C$15))*$C$5*10^-6 -> 2.2437961e-12 | N57: =SUM(AL70:AL85) -> 5.4934934e-09 | O57: =F57*(G57+H57+I57+J57) -> 8.2793788e-06 | P57: =(N57/O57)*10^6 -> 663.51516 | R57: 8 | S57: =S56+2 -> 26 | T57: =(T56*(($S13/$S12)^(($C$13-1)/$C$13))) -> 2708.5232 | U57: =((4.7*10^13*AC57*(AB57^0.5)*EXP($C$11/T57))/($C$14*6))*$C$5*10^-6 -> 1.1004563e-08 | V57: =(((10^5*($C$4*$C$6)*10^-6)/($C$8*$C$7))) -> 6.5681391e-06 | W57: =V57/($T$46*$G$11*((Z57/2)+3.76)) -> 1.3801149e-07 | X57: =$T$46*$G$12 -> 7.84 | Y57: =$T$46*$G$13 -> 8.82 | Z57: =(($G$15/2)*(1-$T$46)) -> 0.25 | AA57: =$G$14 -> 47.0238 | AB57: =((Z57*W57)/($C$5*10^-6)) -> 0.00086257178 | AC57: =((AA57*W57)/($C$5*10^-6)) -> 0.16224561 | AD57: =SUM($U$49:$U$64) -> 2.4784541e-07 | AE57: =W57*(X57+Y57+Z57+AA57) -> 8.8235987e-06 | AF57: =(AD57/AE57)*10^6 -> 28088.925 | AI57: 9 | AJ57: =AJ56+2 -> 28 | AK57: =(AK56*(($S14/$S13)^(($C$13-1)/$C$13))) -> 2375.7896 | AL57: =((4.7*10^13*AT57*(AS57^0.5)*EXP($C$11/AK57))/($C$14*6))*$C$5*10^-6 -> 9.6545293e-10 | AM57: =(((10^5*($C$4*$C$6)*10^-6)/($C$8*$C$7))) -> 6.5681391e-06 | AN57: =AM57/($AK$45*$G$11*((AQ57/2)+3.76)) -> 1.3110058e-07 | AO57: =$AK$45*$G$12 -> 6.4 | AP57: =$AK$45*$G$13 -> 7.2 | AQ57: =(($G$15/2)*(1-$AK$45)) -> 2.5 | AR57: =$G$14 -> 47.0238 | AS57: =((AQ57*AN57)/($C$5*10^-6)) -> 0.0081937863 | AT57: =((AR57*AN57)/($C$5*10^-6)) -> 0.15412119 | AU57: =SUM($AL$48:$AL$63) -> 1.8266124e-08 | AV57: =AN57*(AO57+AP57+AQ57+AR57) -> 8.2755669e-06 | AW57: =(AU57/AV57)*10^6 -> 2207.2354
A58: 10 | B58: 0.7 | C58: =(((G58*$L$12)+(H58*$L$13)+($G$14*0)))-$B$30 -> 3467.74 | D58: 1857.1459 | E58: =(((10^5*($C$4*$C$6)*10^-6)/($C$8*$C$7))) -> 6.5681391e-06 | F58: =E58/(B58*$G$11*((I58/2)+3.76)) -> 1.3321109e-07 | G58: =B58*$G$12 -> 5.6 | H58: =B58*$G$13 -> 6.3 | I58: =(($G$15/2)*(1-B58)) -> 3.75 | J58: =$G$14 -> 47.0238 | K58: =((I58*F58)/($C$5*10^-6)) -> 0.012488539 | L58: =((J58*F58)/($C$5*10^-6)) -> 0.15660229 | M58: =((4.7*10^13*L58*(K58^0.5)*EXP($C$11/D58))/($C$15))*$C$5*10^-6 -> 4.1693883e-13 | N58: =SUM(AL91:AL106) -> 1.3669992e-09 | O58: =F58*(G58+H58+I58+J58) -> 8.348845e-06 | P58: =(N58/O58)*10^6 -> 163.73513 | R58: 9 | S58: =S57+2 -> 28 | T58: =(T57*(($S14/$S13)^(($C$13-1)/$C$13))) -> 2737.8457 | U58: =((4.7*10^13*AC58*(AB58^0.5)*EXP($C$11/T58))/($C$14*6))*$C$5*10^-6 -> 1.4390259e-08 | V58: =(((10^5*($C$4*$C$6)*10^-6)/($C$8*$C$7))) -> 6.5681391e-06 | W58: =V58/($T$46*$G$11*((Z58/2)+3.76)) -> 1.3801149e-07 | X58: =$T$46*$G$12 -> 7.84 | Y58: =$T$46*$G$13 -> 8.82 | Z58: =(($G$15/2)*(1-$T$46)) -> 0.25 | AA58: =$G$14 -> 47.0238 | AB58: =((Z58*W58)/($C$5*10^-6)) -> 0.00086257178 | AC58: =((AA58*W58)/($C$5*10^-6)) -> 0.16224561 | AD58: =SUM($U$49:$U$64) -> 2.4784541e-07 | AE58: =W58*(X58+Y58+Z58+AA58) -> 8.8235987e-06 | AF58: =(AD58/AE58)*10^6 -> 28088.925 | AI58: 10 | AJ58: =AJ57+2 -> 30 | AK58: =(AK57*(($S15/$S14)^(($C$13-1)/$C$13))) -> 2399.7257 | AL58: =((4.7*10^13*AT58*(AS58^0.5)*EXP($C$11/AK58))/($C$14*6))*$C$5*10^-6 -> 1.2835751e-09 | AM58: =(((10^5*($C$4*$C$6)*10^-6)/($C$8*$C$7))) -> 6.5681391e-06 | AN58: =AM58/($AK$45*$G$11*((AQ58/2)+3.76)) -> 1.3110058e-07 | AO58: =$AK$45*$G$12 -> 6.4 | AP58: =$AK$45*$G$13 -> 7.2 | AQ58: =(($G$15/2)*(1-$AK$45)) -> 2.5 | AR58: =$G$14 -> 47.0238 | AS58: =((AQ58*AN58)/($C$5*10^-6)) -> 0.0081937863 | AT58: =((AR58*AN58)/($C$5*10^-6)) -> 0.15412119 | AU58: =SUM($AL$48:$AL$63) -> 1.8266124e-08 | AV58: =AN58*(AO58+AP58+AQ58+AR58) -> 8.2755669e-06 | AW58: =(AU58/AV58)*10^6 -> 2207.2354
A59: 10 | B59: 0.65 | C59: =(((G59*$L$12)+(H59*$L$13)+($G$14*0)))-$B$30 -> 3201.53 | D59: 1758.1155 | E59: =(((10^5*($C$4*$C$6)*10^-6)/($C$8*$C$7))) -> 6.5681391e-06 | F59: =E59/(B59*$G$11*((I59/2)+3.76)) -> 1.3592036e-07 | G59: =B59*$G$12 -> 5.2 | H59: =B59*$G$13 -> 5.85 | I59: =(($G$15/2)*(1-B59)) -> 4.375 | J59: =$G$14 -> 47.0238 | K59: =((I59*F59)/($C$5*10^-6)) -> 0.01486629 | L59: =((J59*F59)/($C$5*10^-6)) -> 0.1597873 | M59: =((4.7*10^13*L59*(K59^0.5)*EXP($C$11/D59))/($C$15))*$C$5*10^-6 -> 5.9305824e-14 | N59: =SUM(AL113:AL128) -> 2.7241246e-10 | O59: =F59*(G59+H59+I59+J59) -> 8.4880635e-06 | P59: =(N59/O59)*10^6 -> 32.093593 | R59: 10 | S59: =S58+2 -> 30 | T59: =(T58*(($S15/$S14)^(($C$13-1)/$C$13))) -> 2765.4295 | U59: =((4.7*10^13*AC59*(AB59^0.5)*EXP($C$11/T59))/($C$14*6))*$C$5*10^-6 -> 1.842476e-08 | V59: =(((10^5*($C$4*$C$6)*10^-6)/($C$8*$C$7))) -> 6.5681391e-06 | W59: =V59/($T$46*$G$11*((Z59/2)+3.76)) -> 1.3801149e-07 | X59: =$T$46*$G$12 -> 7.84 | Y59: =$T$46*$G$13 -> 8.82 | Z59: =(($G$15/2)*(1-$T$46)) -> 0.25 | AA59: =$G$14 -> 47.0238 | AB59: =((Z59*W59)/($C$5*10^-6)) -> 0.00086257178 | AC59: =((AA59*W59)/($C$5*10^-6)) -> 0.16224561 | AD59: =SUM($U$49:$U$64) -> 2.4784541e-07 | AE59: =W59*(X59+Y59+Z59+AA59) -> 8.8235987e-06 | AF59: =(AD59/AE59)*10^6 -> 28088.925 | AI59: 11 | AJ59: =AJ58+2 -> 32 | AK59: =(AK58*(($S16/$S15)^(($C$13-1)/$C$13))) -> 2422.3347 | AL59: =((4.7*10^13*AT59*(AS59^0.5)*EXP($C$11/AK59))/($C$14*6))*$C$5*10^-6 -> 1.6711239e-09 | AM59: =(((10^5*($C$4*$C$6)*10^-6)/($C$8*$C$7))) -> 6.5681391e-06 | AN59: =AM59/($AK$45*$G$11*((AQ59/2)+3.76)) -> 1.3110058e-07 | AO59: =$AK$45*$G$12 -> 6.4 | AP59: =$AK$45*$G$13 -> 7.2 | AQ59: =(($G$15/2)*(1-$AK$45)) -> 2.5 | AR59: =$G$14 -> 47.0238 | AS59: =((AQ59*AN59)/($C$5*10^-6)) -> 0.0081937863 | AT59: =((AR59*AN59)/($C$5*10^-6)) -> 0.15412119 | AU59: =SUM($AL$48:$AL$63) -> 1.8266124e-08 | AV59: =AN59*(AO59+AP59+AQ59+AR59) -> 8.2755669e-06 | AW59: =(AU59/AV59)*10^6 -> 2207.2354
A60: 10 | B60: 0.6 | C60: =(((G60*$L$12)+(H60*$L$13)+($G$14*0)))-$B$30 -> 2935.32 | D60: 1655.8693 | E60: =(((10^5*($C$4*$C$6)*10^-6)/($C$8*$C$7))) -> 6.5681391e-06 | F60: =E60/(B60*$G$11*((I60/2)+3.76)) -> 1.3989647e-07 | G60: =B60*$G$12 -> 4.8 | H60: =B60*$G$13 -> 5.4 | I60: =(($G$15/2)*(1-B60)) -> 5 | J60: =$G$14 -> 47.0238 | K60: =((I60*F60)/($C$5*10^-6)) -> 0.017487058 | L60: =((J60*F60)/($C$5*10^-6)) -> 0.16446159 | M60: =((4.7*10^13*L60*(K60^0.5)*EXP($C$11/D60))/($C$15))*$C$5*10^-6 -> 6.1115523e-15 | N60: =SUM(AL135:AL150) -> 4.1576261e-11 | O60: =F60*(G60+H60+I60+J60) -> 8.7048898e-06 | P60: =(N60/O60)*10^6 -> 4.7761962 | R60: 11 | S60: =S59+2 -> 32 | T60: =(T59*(($S16/$S15)^(($C$13-1)/$C$13))) -> 2791.484 | U60: =((4.7*10^13*AC60*(AB60^0.5)*EXP($C$11/T60))/($C$14*6))*$C$5*10^-6 -> 2.3165199e-08 | V60: =(((10^5*($C$4*$C$6)*10^-6)/($C$8*$C$7))) -> 6.5681391e-06 | W60: =V60/($T$46*$G$11*((Z60/2)+3.76)) -> 1.3801149e-07 | X60: =$T$46*$G$12 -> 7.84 | Y60: =$T$46*$G$13 -> 8.82 | Z60: =(($G$15/2)*(1-$T$46)) -> 0.25 | AA60: =$G$14 -> 47.0238 | AB60: =((Z60*W60)/($C$5*10^-6)) -> 0.00086257178 | AC60: =((AA60*W60)/($C$5*10^-6)) -> 0.16224561 | AD60: =SUM($U$49:$U$64) -> 2.4784541e-07 | AE60: =W60*(X60+Y60+Z60+AA60) -> 8.8235987e-06 | AF60: =(AD60/AE60)*10^6 -> 28088.925 | AI60: 12 | AJ60: =AJ59+2 -> 34 | AK60: =(AK59*(($S17/$S16)^(($C$13-1)/$C$13))) -> 2443.7666 | AL60: =((4.7*10^13*AT60*(AS60^0.5)*EXP($C$11/AK60))/($C$14*6))*$C$5*10^-6 -> 2.1363508e-09 | AM60: =(((10^5*($C$4*$C$6)*10^-6)/($C$8*$C$7))) -> 6.5681391e-06 | AN60: =AM60/($AK$45*$G$11*((AQ60/2)+3.76)) -> 1.3110058e-07 | AO60: =$AK$45*$G$12 -> 6.4 | AP60: =$AK$45*$G$13 -> 7.2 | AQ60: =(($G$15/2)*(1-$AK$45)) -> 2.5 | AR60: =$G$14 -> 47.0238 | AS60: =((AQ60*AN60)/($C$5*10^-6)) -> 0.0081937863 | AT60: =((AR60*AN60)/($C$5*10^-6)) -> 0.15412119 | AU60: =SUM($AL$48:$AL$63) -> 1.8266124e-08 | AV60: =AN60*(AO60+AP60+AQ60+AR60) -> 8.2755669e-06 | AW60: =(AU60/AV60)*10^6 -> 2207.2354
R61: 12 | S61: =S60+2 -> 34 | T61: =(T60*(($S17/$S16)^(($C$13-1)/$C$13))) -> 2816.182 | U61: =((4.7*10^13*AC61*(AB61^0.5)*EXP($C$11/T61))/($C$14*6))*$C$5*10^-6 -> 2.8667814e-08 | V61: =(((10^5*($C$4*$C$6)*10^-6)/($C$8*$C$7))) -> 6.5681391e-06 | W61: =V61/($T$46*$G$11*((Z61/2)+3.76)) -> 1.3801149e-07 | X61: =$T$46*$G$12 -> 7.84 | Y61: =$T$46*$G$13 -> 8.82 | Z61: =(($G$15/2)*(1-$T$46)) -> 0.25 | AA61: =$G$14 -> 47.0238 | AB61: =((Z61*W61)/($C$5*10^-6)) -> 0.00086257178 | AC61: =((AA61*W61)/($C$5*10^-6)) -> 0.16224561 | AD61: =SUM($U$49:$U$64) -> 2.4784541e-07 | AE61: =W61*(X61+Y61+Z61+AA61) -> 8.8235987e-06 | AF61: =(AD61/AE61)*10^6 -> 28088.925 | AI61: 13 | AJ61: =AJ60+2 -> 36 | AK61: =(AK60*(($S18/$S17)^(($C$13-1)/$C$13))) -> 2464.1468 | AL61: =((4.7*10^13*AT61*(AS61^0.5)*EXP($C$11/AK61))/($C$14*6))*$C$5*10^-6 -> 2.6877018e-09 | AM61: =(((10^5*($C$4*$C$6)*10^-6)/($C$8*$C$7))) -> 6.5681391e-06 | AN61: =AM61/($AK$45*$G$11*((AQ61/2)+3.76)) -> 1.3110058e-07 | AO61: =$AK$45*$G$12 -> 6.4 | AP61: =$AK$45*$G$13 -> 7.2 | AQ61: =(($G$15/2)*(1-$AK$45)) -> 2.5 | AR61: =$G$14 -> 47.0238 | AS61: =((AQ61*AN61)/($C$5*10^-6)) -> 0.0081937863 | AT61: =((AR61*AN61)/($C$5*10^-6)) -> 0.15412119 | AU61: =SUM($AL$48:$AL$63) -> 1.8266124e-08 | AV61: =AN61*(AO61+AP61+AQ61+AR61) -> 8.2755669e-06 | AW61: =(AU61/AV61)*10^6 -> 2207.2354
R62: 13 | S62: =S61+2 -> 36 | T62: =(T61*(($S18/$S17)^(($C$13-1)/$C$13))) -> 2839.668 | U62: =((4.7*10^13*AC62*(AB62^0.5)*EXP($C$11/T62))/($C$14*6))*$C$5*10^-6 -> 3.4987872e-08 | V62: =(((10^5*($C$4*$C$6)*10^-6)/($C$8*$C$7))) -> 6.5681391e-06 | W62: =V62/($T$46*$G$11*((Z62/2)+3.76)) -> 1.3801149e-07 | X62: =$T$46*$G$12 -> 7.84 | Y62: =$T$46*$G$13 -> 8.82 | Z62: =(($G$15/2)*(1-$T$46)) -> 0.25 | AA62: =$G$14 -> 47.0238 | AB62: =((Z62*W62)/($C$5*10^-6)) -> 0.00086257178 | AC62: =((AA62*W62)/($C$5*10^-6)) -> 0.16224561 | AD62: =SUM($U$49:$U$64) -> 2.4784541e-07 | AE62: =W62*(X62+Y62+Z62+AA62) -> 8.8235987e-06 | AF62: =(AD62/AE62)*10^6 -> 28088.925 | AI62: 14 | AJ62: =AJ61+2 -> 38 | AK62: =(AK61*(($S19/$S18)^(($C$13-1)/$C$13))) -> 2483.5812 | AL62: =((4.7*10^13*AT62*(AS62^0.5)*EXP($C$11/AK62))/($C$14*6))*$C$5*10^-6 -> 3.3337895e-09 | AM62: =(((10^5*($C$4*$C$6)*10^-6)/($C$8*$C$7))) -> 6.5681391e-06 | AN62: =AM62/($AK$45*$G$11*((AQ62/2)+3.76)) -> 1.3110058e-07 | AO62: =$AK$45*$G$12 -> 6.4 | AP62: =$AK$45*$G$13 -> 7.2 | AQ62: =(($G$15/2)*(1-$AK$45)) -> 2.5 | AR62: =$G$14 -> 47.0238 | AS62: =((AQ62*AN62)/($C$5*10^-6)) -> 0.0081937863 | AT62: =((AR62*AN62)/($C$5*10^-6)) -> 0.15412119 | AU62: =SUM($AL$48:$AL$63) -> 1.8266124e-08 | AV62: =AN62*(AO62+AP62+AQ62+AR62) -> 8.2755669e-06 | AW62: =(AU62/AV62)*10^6 -> 2207.2354
R63: 14 | S63: =S62+2 -> 38 | T63: =(T62*(($S19/$S18)^(($C$13-1)/$C$13))) -> 2862.064 | U63: =((4.7*10^13*AC63*(AB63^0.5)*EXP($C$11/T63))/($C$14*6))*$C$5*10^-6 -> 4.2179605e-08 | V63: =(((10^5*($C$4*$C$6)*10^-6)/($C$8*$C$7))) -> 6.5681391e-06 | W63: =V63/($T$46*$G$11*((Z63/2)+3.76)) -> 1.3801149e-07 | X63: =$T$46*$G$12 -> 7.84 | Y63: =$T$46*$G$13 -> 8.82 | Z63: =(($G$15/2)*(1-$T$46)) -> 0.25 | AA63: =$G$14 -> 47.0238 | AB63: =((Z63*W63)/($C$5*10^-6)) -> 0.00086257178 | AC63: =((AA63*W63)/($C$5*10^-6)) -> 0.16224561 | AD63: =SUM($U$49:$U$64) -> 2.4784541e-07 | AE63: =W63*(X63+Y63+Z63+AA63) -> 8.8235987e-06 | AF63: =(AD63/AE63)*10^6 -> 28088.925 | AI63: 15 | AJ63: =AJ62+2 -> 40 | AK63: =(AK62*(($S20/$S19)^(($C$13-1)/$C$13))) -> 2502.1601 | AL63: =((4.7*10^13*AT63*(AS63^0.5)*EXP($C$11/AK63))/($C$14*6))*$C$5*10^-6 -> 4.0833677e-09 | AM63: =(((10^5*($C$4*$C$6)*10^-6)/($C$8*$C$7))) -> 6.5681391e-06 | AN63: =AM63/($AK$45*$G$11*((AQ63/2)+3.76)) -> 1.3110058e-07 | AO63: =$AK$45*$G$12 -> 6.4 | AP63: =$AK$45*$G$13 -> 7.2 | AQ63: =(($G$15/2)*(1-$AK$45)) -> 2.5 | AR63: =$G$14 -> 47.0238 | AS63: =((AQ63*AN63)/($C$5*10^-6)) -> 0.0081937863 | AT63: =((AR63*AN63)/($C$5*10^-6)) -> 0.15412119 | AU63: =SUM($AL$48:$AL$63) -> 1.8266124e-08 | AV63: =AN63*(AO63+AP63+AQ63+AR63) -> 8.2755669e-06 | AW63: =(AU63/AV63)*10^6 -> 2207.2354
R64: 15 | S64: =S63+2 -> 40 | T64: =(T63*(($S20/$S19)^(($C$13-1)/$C$13))) -> 2883.4743 | U64: =((4.7*10^13*AC64*(AB64^0.5)*EXP($C$11/T64))/($C$14*6))*$C$5*10^-6 -> 5.0296177e-08 | V64: =(((10^5*($C$4*$C$6)*10^-6)/($C$8*$C$7))) -> 6.5681391e-06 | W64: =V64/($T$46*$G$11*((Z64/2)+3.76)) -> 1.3801149e-07 | X64: =$T$46*$G$12 -> 7.84 | Y64: =$T$46*$G$13 -> 8.82 | Z64: =(($G$15/2)*(1-$T$46)) -> 0.25 | AA64: =$G$14 -> 47.0238 | AB64: =((Z64*W64)/($C$5*10^-6)) -> 0.00086257178 | AC64: =((AA64*W64)/($C$5*10^-6)) -> 0.16224561 | AD64: =SUM($U$49:$U$64) -> 2.4784541e-07 | AE64: =W64*(X64+Y64+Z64+AA64) -> 8.8235987e-06 | AF64: =(AD64/AE64)*10^6 -> 28088.925
AI67: Phi | AK67: 0.75
R68: Phi | T68: 0.97
AI69: Crank angle | AJ69: Pressure (Bar) | AK69: Temp (k) | AL69: Nox (kmol/deg) | AM69: (n) no of mols Drawn Per cycle | AN69: Alpha | AO69: (n1) CO2 | AP69: (n2) H2O | AQ69: (n3) O2 | AR69: (n4) N2 | AS69: [O2] | AT69: [N2] | AU69: sum of Nox Kmol/Cycle | AV69: Exhaust Kmols | AW69: NOx PPM
A70: Final Flame Temp | R70: Crank angle | S70: Pressure (Bar) | T70: Temp (k) | U70: Nox (kmol/deg) | V70: (n) no of mols Drawn Per cycle | W70: Alpha | X70: (n1) CO2 | Y70: (n2) H2O | Z70: (n3) O2 | AA70: (n4) N2 | AB70: [O2] | AC70: [N2] | AD70: sum of Nox Kmol/Cycle | AE70: Exhaust Kmols | AF70: NOx PPM | AI70: 0 | AJ70: 10 | AK70: 1952.9587 | AL70: =((4.7*10^13*AT70*(AS70^0.5)*EXP($C$11/AK70))/($C$14*6))*$C$5*10^-6 -> 2.2437961e-12 | AM70: =(((10^5*($C$4*$C$6)*10^-6)/($C$8*$C$7))) -> 6.5681391e-06 | AN70: =AM70/($AK$67*$G$11*((AQ70/2)+3.76)) -> 1.3163016e-07 | AO70: =$AK$67*$G$12 -> 6 | AP70: =$AK$67*$G$13 -> 6.75 | AQ70: =(($G$15/2)*(1-$AK$67)) -> 3.125 | AR70: =$G$14 -> 47.0238 | AS70: =((AQ70*AN70)/($C$5*10^-6)) -> 0.010283606 | AT70: =((AR70*AN70)/($C$5*10^-6)) -> 0.15474375 | AU70: =SUM($AL$70:$AL$85) -> 5.4934934e-09 | AV70: =AN70*(AO70+AP70+AQ70+AR70) -> 8.2793788e-06 | AW70: =(AU70/AV70)*10^6 -> 663.51516
R71: 0 | S71: 10 | T71: 2340.8652 | U71: =((4.7*10^13*AC71*(AB71^0.5)*EXP($C$11/T71))/($C$14*6))*$C$5*10^-6 -> 2.6152743e-10 | V71: =(((10^5*($C$4*$C$6)*10^-6)/($C$8*$C$7))) -> 6.5681391e-06 | W71: =V71/(T$68*$G$11*((Z71/2)+3.76)) -> 1.3722665e-07 | X71: =$T$68*$G$12 -> 7.76 | Y71: =$T$68*$G$13 -> 8.73 | Z71: =(($G$15/2)*(1-$T$68)) -> 0.375 | AA71: =$G$14 -> 47.0238 | AB71: =((Z71*W71)/($C$5*10^-6)) -> 0.0012864998 | AC71: =((AA71*W71)/($C$5*10^-6)) -> 0.16132296 | AD71: =SUM($U$71:$U$86) -> 2.5361742e-07 | AE71: =W71*(X71+Y71+Z71+AA71) -> 8.7672459e-06 | AF71: =(AD71/AE71)*10^6 -> 28927.832 | AI71: 1 | AJ71: =AJ70+2 -> 12 | AK71: =(AK70*(($S6/$S5)^(($C$13-1)/$C$13))) -> 2005.3862 | AL71: =((4.7*10^13*AT71*(AS71^0.5)*EXP($C$11/AK71))/($C$14*6))*$C$5*10^-6 -> 5.563746e-12 | AM71: =(((10^5*($C$4*$C$6)*10^-6)/($C$8*$C$7))) -> 6.5681391e-06 | AN71: =AM71/($AK$67*$G$11*((AQ71/2)+3.76)) -> 1.3163016e-07 | AO71: =$AK$67*$G$12 -> 6 | AP71: =$AK$67*$G$13 -> 6.75 | AQ71: =(($G$15/2)*(1-$AK$67)) -> 3.125 | AR71: =$G$14 -> 47.0238 | AS71: =((AQ71*AN71)/($C$5*10^-6)) -> 0.010283606 | AT71: =((AR71*AN71)/($C$5*10^-6)) -> 0.15474375 | AU71: =SUM($AL$70:$AL$85) -> 5.4934934e-09 | AV71: =AN71*(AO71+AP71+AQ71+AR71) -> 8.2793788e-06 | AW71: =(AU71/AV71)*10^6 -> 663.51516
A72: Pressure (M) | B72: Phi | C72: Enthalpy | D72: flame Temp (k) | E72: (n) no of mols Drawn Per cycle | F72: Alpha | G72: (n1) CO2 | H72: (n2) H2O | I72: (n3) O2 | J72: (n4) N2 | K72: (n3) O3 | L72: (n4) N3 | M72: Nox (kmol/deg) | N72: Kmol/Cycle | O72: Exhaust Kmols | P72: NOx PPM | R72: 1 | S72: =S71+2 -> 12 | T72: =(T71*(($S6/$S5)^(($C$13-1)/$C$13))) -> 2403.7061 | U72: =((4.7*10^13*AC72*(AB72^0.5)*EXP($C$11/T72))/($C$14*6))*$C$5*10^-6 -> 5.5788861e-10 | V72: =(((10^5*($C$4*$C$6)*10^-6)/($C$8*$C$7))) -> 6.5681391e-06 | W72: =V72/(T$68*$G$11*((Z72/2)+3.76)) -> 1.3722665e-07 | X72: =$T$68*$G$12 -> 7.76 | Y72: =$T$68*$G$13 -> 8.73 | Z72: =(($G$15/2)*(1-$T$68)) -> 0.375 | AA72: =$G$14 -> 47.0238 | AB72: =((Z72*W72)/($C$5*10^-6)) -> 0.0012864998 | AC72: =((AA72*W72)/($C$5*10^-6)) -> 0.16132296 | AD72: =SUM($U$71:$U$86) -> 2.5361742e-07 | AE72: =W72*(X72+Y72+Z72+AA72) -> 8.7672459e-06 | AF72: =(AD72/AE72)*10^6 -> 28927.832 | AI72: 2 | AJ72: =AJ71+2 -> 14 | AK72: =(AK71*(($S7/$S6)^(($C$13-1)/$C$13))) -> 2050.8096 | AL72: =((4.7*10^13*AT72*(AS72^0.5)*EXP($C$11/AK72))/($C$14*6))*$C$5*10^-6 -> 1.1769534e-11 | AM72: =(((10^5*($C$4*$C$6)*10^-6)/($C$8*$C$7))) -> 6.5681391e-06 | AN72: =AM72/($AK$67*$G$11*((AQ72/2)+3.76)) -> 1.3163016e-07 | AO72: =$AK$67*$G$12 -> 6 | AP72: =$AK$67*$G$13 -> 6.75 | AQ72: =(($G$15/2)*(1-$AK$67)) -> 3.125 | AR72: =$G$14 -> 47.0238 | AS72: =((AQ72*AN72)/($C$5*10^-6)) -> 0.010283606 | AT72: =((AR72*AN72)/($C$5*10^-6)) -> 0.15474375 | AU72: =SUM($AL$70:$AL$85) -> 5.4934934e-09 | AV72: =AN72*(AO72+AP72+AQ72+AR72) -> 8.2793788e-06 | AW72: =(AU72/AV72)*10^6 -> 663.51516
A73: 10 | B73: 1 | C73: 5065 | D73: =T20 -> 2923.6931 | E73: =(((10^5*($C$4*$C$6)*10^-6)/($C$8*$C$7))) -> 6.5681391e-06 | F73: =E73/(B73*$G$11*((I73/2)+3.76)) -> 1.3974764e-07 | G73: =B73*$G$12 -> 8 | H73: =B73*$G$13 -> 9 | I73: =(($G$15/2)*(1-B73)) -> 0 | J73: =$G$14 -> 47.0238 | K73: =((I73*F73)/($C$5*10^-6)) -> 0 | L73: =((J73*F73)/($C$5*10^-6)) -> 0.16428663 | M73: =((4.7*10^13*K73*(L73^0.5)*EXP(-67837/(D73)))/($C$15))*$C$5*10^-6 -> 0 | N73: =SUM(U31:U46) -> 2.0607532e-07 | O73: =F73*(G73+H73+I73+J73) -> 8.947175e-06 | P73: =AF20 -> 0 | R73: 2 | S73: =S72+2 -> 14 | T73: =(T72*(($S7/$S6)^(($C$13-1)/$C$13))) -> 2458.1517 | U73: =((4.7*10^13*AC73*(AB73^0.5)*EXP($C$11/T73))/($C$14*6))*$C$5*10^-6 -> 1.0423619e-09 | V73: =(((10^5*($C$4*$C$6)*10^-6)/($C$8*$C$7))) -> 6.5681391e-06 | W73: =V73/(T$68*$G$11*((Z73/2)+3.76)) -> 1.3722665e-07 | X73: =$T$68*$G$12 -> 7.76 | Y73: =$T$68*$G$13 -> 8.73 | Z73: =(($G$15/2)*(1-$T$68)) -> 0.375 | AA73: =$G$14 -> 47.0238 | AB73: =((Z73*W73)/($C$5*10^-6)) -> 0.0012864998 | AC73: =((AA73*W73)/($C$5*10^-6)) -> 0.16132296 | AD73: =SUM($U$71:$U$86) -> 2.5361742e-07 | AE73: =W73*(X73+Y73+Z73+AA73) -> 8.7672459e-06 | AF73: =(AD73/AE73)*10^6 -> 28927.832 | AI73: 3 | AJ73: =AJ72+2 -> 16 | AK73: =(AK72*(($S8/$S7)^(($C$13-1)/$C$13))) -> 2090.9879 | AL73: =((4.7*10^13*AT73*(AS73^0.5)*EXP($C$11/AK73))/($C$14*6))*$C$5*10^-6 -> 2.2222622e-11 | AM73: =(((10^5*($C$4*$C$6)*10^-6)/($C$8*$C$7))) -> 6.5681391e-06 | AN73: =AM73/($AK$67*$G$11*((AQ73/2)+3.76)) -> 1.3163016e-07 | AO73: =$AK$67*$G$12 -> 6 | AP73: =$AK$67*$G$13 -> 6.75 | AQ73: =(($G$15/2)*(1-$AK$67)) -> 3.125 | AR73: =$G$14 -> 47.0238 | AS73: =((AQ73*AN73)/($C$5*10^-6)) -> 0.010283606 | AT73: =((AR73*AN73)/($C$5*10^-6)) -> 0.15474375 | AU73: =SUM($AL$70:$AL$85) -> 5.4934934e-09 | AV73: =AN73*(AO73+AP73+AQ73+AR73) -> 8.2793788e-06 | AW73: =(AU73/AV73)*10^6 -> 663.51516
A74: 10 | B74: 0.99 | C74: =(((G74*$L$12)+(H74*$L$13)+($G$14*0)))-$B$30 -> 5011.758 | D74: =T64 -> 2883.4743 | E74: =(((10^5*($C$4*$C$6)*10^-6)/($C$8*$C$7))) -> 6.5681391e-06 | F74: =E74/(B74*$G$11*((I74/2)+3.76)) -> 1.388512e-07 | G74: =B74*$G$12 -> 7.92 | H74: =B74*$G$13 -> 8.91 | I74: =(($G$15/2)*(1-B74)) -> 0.125 | J74: =$G$14 -> 47.0238 | K74: =((I74*F74)/($C$5*10^-6)) -> 0.00043391 | L74: =((J74*F74)/($C$5*10^-6)) -> 0.16323278 | M74: =((4.7*10^13*K74*(L74^0.5)*EXP(-67837/(D74)))/($C$15))*$C$5*10^-6 -> 1.850409e-09 | N74: =SUM(U53:U68) -> 2.4421514e-07 | O74: =F74*(G74+H74+I74+J74) -> 8.8835332e-06 | P74: =AF42 -> 23549.997 | R74: 3 | S74: =S73+2 -> 16 | T74: =(T73*(($S8/$S7)^(($C$13-1)/$C$13))) -> 2506.3104 | U74: =((4.7*10^13*AC74*(AB74^0.5)*EXP($C$11/T74))/($C$14*6))*$C$5*10^-6 -> 1.7713828e-09 | V74: =(((10^5*($C$4*$C$6)*10^-6)/($C$8*$C$7))) -> 6.5681391e-06 | W74: =V74/(T$68*$G$11*((Z74/2)+3.76)) -> 1.3722665e-07 | X74: =$T$68*$G$12 -> 7.76 | Y74: =$T$68*$G$13 -> 8.73 | Z74: =(($G$15/2)*(1-$T$68)) -> 0.375 | AA74: =$G$14 -> 47.0238 | AB74: =((Z74*W74)/($C$5*10^-6)) -> 0.0012864998 | AC74: =((AA74*W74)/($C$5*10^-6)) -> 0.16132296 | AD74: =SUM($U$71:$U$86) -> 2.5361742e-07 | AE74: =W74*(X74+Y74+Z74+AA74) -> 8.7672459e-06 | AF74: =(AD74/AE74)*10^6 -> 28927.832 | AI74: 4 | AJ74: =AJ73+2 -> 18 | AK74: =(AK73*(($S9/$S8)^(($C$13-1)/$C$13))) -> 2127.0806 | AL74: =((4.7*10^13*AT74*(AS74^0.5)*EXP($C$11/AK74))/($C$14*6))*$C$5*10^-6 -> 3.8536332e-11 | AM74: =(((10^5*($C$4*$C$6)*10^-6)/($C$8*$C$7))) -> 6.5681391e-06 | AN74: =AM74/($AK$67*$G$11*((AQ74/2)+3.76)) -> 1.3163016e-07 | AO74: =$AK$67*$G$12 -> 6 | AP74: =$AK$67*$G$13 -> 6.75 | AQ74: =(($G$15/2)*(1-$AK$67)) -> 3.125 | AR74: =$G$14 -> 47.0238 | AS74: =((AQ74*AN74)/($C$5*10^-6)) -> 0.010283606 | AT74: =((AR74*AN74)/($C$5*10^-6)) -> 0.15474375 | AU74: =SUM($AL$70:$AL$85) -> 5.4934934e-09 | AV74: =AN74*(AO74+AP74+AQ74+AR74) -> 8.2793788e-06 | AW74: =(AU74/AV74)*10^6 -> 663.51516
A75: 10 | B75: 0.98 | C75: =(((G75*$L$12)+(H75*$L$13)+($G$14*0)))-$B$30 -> 4958.516 | D75: =T86 -> 2863.2232 | E75: =(((10^5*($C$4*$C$6)*10^-6)/($C$8*$C$7))) -> 6.5681391e-06 | F75: =E75/(B75*$G$11*((I75/2)+3.76)) -> 1.3801149e-07 | G75: =B75*$G$12 -> 7.84 | H75: =B75*$G$13 -> 8.82 | I75: =(($G$15/2)*(1-B75)) -> 0.25 | J75: =$G$14 -> 47.0238 | K75: =((I75*F75)/($C$5*10^-6)) -> 0.00086257178 | L75: =((J75*F75)/($C$5*10^-6)) -> 0.16224561 | M75: =((4.7*10^13*K75*(L75^0.5)*EXP(-67837/(D75)))/($C$15))*$C$5*10^-6 -> 3.1051388e-09 | N75: =SUM(U75:U90) -> 2.4998426e-07 | O75: =F75*(G75+H75+I75+J75) -> 8.8235987e-06 | P75: =AF64 -> 28088.925 | R75: 4 | S75: =S74+2 -> 18 | T75: =(T74*(($S9/$S8)^(($C$13-1)/$C$13))) -> 2549.572 | U75: =((4.7*10^13*AC75*(AB75^0.5)*EXP($C$11/T75))/($C$14*6))*$C$5*10^-6 -> 2.8039496e-09 | V75: =(((10^5*($C$4*$C$6)*10^-6)/($C$8*$C$7))) -> 6.5681391e-06 | W75: =V75/(T$68*$G$11*((Z75/2)+3.76)) -> 1.3722665e-07 | X75: =$T$68*$G$12 -> 7.76 | Y75: =$T$68*$G$13 -> 8.73 | Z75: =(($G$15/2)*(1-$T$68)) -> 0.375 | AA75: =$G$14 -> 47.0238 | AB75: =((Z75*W75)/($C$5*10^-6)) -> 0.0012864998 | AC75: =((AA75*W75)/($C$5*10^-6)) -> 0.16132296 | AD75: =SUM($U$71:$U$86) -> 2.5361742e-07 | AE75: =W75*(X75+Y75+Z75+AA75) -> 8.7672459e-06 | AF75: =(AD75/AE75)*10^6 -> 28927.832 | AI75: 5 | AJ75: =AJ74+2 -> 20 | AK75: =(AK74*(($S10/$S9)^(($C$13-1)/$C$13))) -> 2159.8941 | AL75: =((4.7*10^13*AT75*(AS75^0.5)*EXP($C$11/AK75))/($C$14*6))*$C$5*10^-6 -> 6.2559147e-11 | AM75: =(((10^5*($C$4*$C$6)*10^-6)/($C$8*$C$7))) -> 6.5681391e-06 | AN75: =AM75/($AK$67*$G$11*((AQ75/2)+3.76)) -> 1.3163016e-07 | AO75: =$AK$67*$G$12 -> 6 | AP75: =$AK$67*$G$13 -> 6.75 | AQ75: =(($G$15/2)*(1-$AK$67)) -> 3.125 | AR75: =$G$14 -> 47.0238 | AS75: =((AQ75*AN75)/($C$5*10^-6)) -> 0.010283606 | AT75: =((AR75*AN75)/($C$5*10^-6)) -> 0.15474375 | AU75: =SUM($AL$70:$AL$85) -> 5.4934934e-09 | AV75: =AN75*(AO75+AP75+AQ75+AR75) -> 8.2793788e-06 | AW75: =(AU75/AV75)*10^6 -> 663.51516
A76: 10 | B76: 0.97 | C76: =(((G76*$L$12)+(H76*$L$13)+($G$14*0)))-$B$30 -> 4905.274 | D76: =T107 -> 2842.8814 | E76: =(((10^5*($C$4*$C$6)*10^-6)/($C$8*$C$7))) -> 6.5681391e-06 | F76: =E76/(B76*$G$11*((I76/2)+3.76)) -> 1.3722665e-07 | G76: =B76*$G$12 -> 7.76 | H76: =B76*$G$13 -> 8.73 | I76: =(($G$15/2)*(1-B76)) -> 0.375 | J76: =$G$14 -> 47.0238 | K76: =((I76*F76)/($C$5*10^-6)) -> 0.0012864998 | L76: =((J76*F76)/($C$5*10^-6)) -> 0.16132296 | M76: =((4.7*10^13*K76*(L76^0.5)*EXP(-67837/(D76)))/($C$15))*$C$5*10^-6 -> 3.8979117e-09 | N76: =SUM(U97:U112) -> 2.3795961e-07 | O76: =F76*(G76+H76+I76+J76) -> 8.7672459e-06 | P76: =AF86 -> 28927.832 | R76: 5 | S76: =S75+2 -> 20 | T76: =(T75*(($S10/$S9)^(($C$13-1)/$C$13))) -> 2588.9031 | U76: =((4.7*10^13*AC76*(AB76^0.5)*EXP($C$11/T76))/($C$14*6))*$C$5*10^-6 -> 4.2007006e-09 | V76: =(((10^5*($C$4*$C$6)*10^-6)/($C$8*$C$7))) -> 6.5681391e-06 | W76: =V76/(T$68*$G$11*((Z76/2)+3.76)) -> 1.3722665e-07 | X76: =$T$68*$G$12 -> 7.76 | Y76: =$T$68*$G$13 -> 8.73 | Z76: =(($G$15/2)*(1-$T$68)) -> 0.375 | AA76: =$G$14 -> 47.0238 | AB76: =((Z76*W76)/($C$5*10^-6)) -> 0.0012864998 | AC76: =((AA76*W76)/($C$5*10^-6)) -> 0.16132296 | AD76: =SUM($U$71:$U$86) -> 2.5361742e-07 | AE76: =W76*(X76+Y76+Z76+AA76) -> 8.7672459e-06 | AF76: =(AD76/AE76)*10^6 -> 28927.832 | AI76: 6 | AJ76: =AJ75+2 -> 22 | AK76: =(AK75*(($S11/$S10)^(($C$13-1)/$C$13))) -> 2190.0135 | AL76: =((4.7*10^13*AT76*(AS76^0.5)*EXP($C$11/AK76))/($C$14*6))*$C$5*10^-6 -> 9.6357171e-11 | AM76: =(((10^5*($C$4*$C$6)*10^-6)/($C$8*$C$7))) -> 6.5681391e-06 | AN76: =AM76/($AK$67*$G$11*((AQ76/2)+3.76)) -> 1.3163016e-07 | AO76: =$AK$67*$G$12 -> 6 | AP76: =$AK$67*$G$13 -> 6.75 | AQ76: =(($G$15/2)*(1-$AK$67)) -> 3.125 | AR76: =$G$14 -> 47.0238 | AS76: =((AQ76*AN76)/($C$5*10^-6)) -> 0.010283606 | AT76: =((AR76*AN76)/($C$5*10^-6)) -> 0.15474375 | AU76: =SUM($AL$70:$AL$85) -> 5.4934934e-09 | AV76: =AN76*(AO76+AP76+AQ76+AR76) -> 8.2793788e-06 | AW76: =(AU76/AV76)*10^6 -> 663.51516
A77: 10 | B77: 0.96 | C77: =(((G77*$L$12)+(H77*$L$13)+($G$14*0)))-$B$30 -> 4852.032 | D77: =T129 -> 2822.4417 | E77: =(((10^5*($C$4*$C$6)*10^-6)/($C$8*$C$7))) -> 6.5681391e-06 | F77: =E77/(B77*$G$11*((I77/2)+3.76)) -> 1.3649499e-07 | G77: =B77*$G$12 -> 7.68 | H77: =B77*$G$13 -> 8.64 | I77: =(($G$15/2)*(1-B77)) -> 0.5 | J77: =$G$14 -> 47.0238 | K77: =((I77*F77)/($C$5*10^-6)) -> 0.0017061874 | L77: =((J77*F77)/($C$5*10^-6)) -> 0.16046283 | M77: =((4.7*10^13*K77*(L77^0.5)*EXP(-67837/(D77)))/($C$15))*$C$5*10^-6 -> 4.3375013e-09 | N77: =SUM(U118:U133) -> 2.2361174e-07 | O77: =F77*(G77+H77+I77+J77) -> 8.7143591e-06 | P77: =AF107 -> 28003.46 | R77: 6 | S77: =S76+2 -> 22 | T77: =(T76*(($S11/$S10)^(($C$13-1)/$C$13))) -> 2625.0049 | U77: =((4.7*10^13*AC77*(AB77^0.5)*EXP($C$11/T77))/($C$14*6))*$C$5*10^-6 -> 6.0232201e-09 | V77: =(((10^5*($C$4*$C$6)*10^-6)/($C$8*$C$7))) -> 6.5681391e-06 | W77: =V77/(T$68*$G$11*((Z77/2)+3.76)) -> 1.3722665e-07 | X77: =$T$68*$G$12 -> 7.76 | Y77: =$T$68*$G$13 -> 8.73 | Z77: =(($G$15/2)*(1-$T$68)) -> 0.375 | AA77: =$G$14 -> 47.0238 | AB77: =((Z77*W77)/($C$5*10^-6)) -> 0.0012864998 | AC77: =((AA77*W77)/($C$5*10^-6)) -> 0.16132296 | AD77: =SUM($U$71:$U$86) -> 2.5361742e-07 | AE77: =W77*(X77+Y77+Z77+AA77) -> 8.7672459e-06 | AF77: =(AD77/AE77)*10^6 -> 28927.832 | AI77: 7 | AJ77: =AJ76+2 -> 24 | AK77: =(AK76*(($S12/$S11)^(($C$13-1)/$C$13))) -> 2217.8769 | AL77: =((4.7*10^13*AT77*(AS77^0.5)*EXP($C$11/AK77))/($C$14*6))*$C$5*10^-6 -> 1.4219671e-10 | AM77: =(((10^5*($C$4*$C$6)*10^-6)/($C$8*$C$7))) -> 6.5681391e-06 | AN77: =AM77/($AK$67*$G$11*((AQ77/2)+3.76)) -> 1.3163016e-07 | AO77: =$AK$67*$G$12 -> 6 | AP77: =$AK$67*$G$13 -> 6.75 | AQ77: =(($G$15/2)*(1-$AK$67)) -> 3.125 | AR77: =$G$14 -> 47.0238 | AS77: =((AQ77*AN77)/($C$5*10^-6)) -> 0.010283606 | AT77: =((AR77*AN77)/($C$5*10^-6)) -> 0.15474375 | AU77: =SUM($AL$70:$AL$85) -> 5.4934934e-09 | AV77: =AN77*(AO77+AP77+AQ77+AR77) -> 8.2793788e-06 | AW77: =(AU77/AV77)*10^6 -> 663.51516
A78: 10 | B78: 0.95 | C78: =(((G78*$L$12)+(H78*$L$13)+($G$14*0)))-$B$30 -> 4798.79 | D78: =AK20 -> 2718.6707 | E78: =(((10^5*($C$4*$C$6)*10^-6)/($C$8*$C$7))) -> 6.5681391e-06 | F78: =E78/(B78*$G$11*((I78/2)+3.76)) -> 1.3581497e-07 | G78: =B78*$G$12 -> 7.6 | H78: =B78*$G$13 -> 8.55 | I78: =(($G$15/2)*(1-B78)) -> 0.625 | J78: =$G$14 -> 47.0238 | K78: =((I78*F78)/($C$5*10^-6)) -> 0.0021221089 | L78: =((J78*F78)/($C$5*10^-6)) -> 0.1596634 | M78: =((4.7*10^13*K78*(L78^0.5)*EXP(-67837/(D78)))/($C$15))*$C$5*10^-6 -> 2.1501675e-09 | N78: =SUM(U140:U155) -> 0 | O78: =F78*(G78+H78+I78+J78) -> 8.6648319e-06 | P78: =AF129 -> 26164.873 | R78: 7 | S78: =S77+2 -> 24 | T78: =(T77*(($S12/$S11)^(($C$13-1)/$C$13))) -> 2658.4027 | U78: =((4.7*10^13*AC78*(AB78^0.5)*EXP($C$11/T78))/($C$14*6))*$C$5*10^-6 -> 8.3335148e-09 | V78: =(((10^5*($C$4*$C$6)*10^-6)/($C$8*$C$7))) -> 6.5681391e-06 | W78: =V78/(T$68*$G$11*((Z78/2)+3.76)) -> 1.3722665e-07 | X78: =$T$68*$G$12 -> 7.76 | Y78: =$T$68*$G$13 -> 8.73 | Z78: =(($G$15/2)*(1-$T$68)) -> 0.375 | AA78: =$G$14 -> 47.0238 | AB78: =((Z78*W78)/($C$5*10^-6)) -> 0.0012864998 | AC78: =((AA78*W78)/($C$5*10^-6)) -> 0.16132296 | AD78: =SUM($U$71:$U$86) -> 2.5361742e-07 | AE78: =W78*(X78+Y78+Z78+AA78) -> 8.7672459e-06 | AF78: =(AD78/AE78)*10^6 -> 28927.832 | AI78: 8 | AJ78: =AJ77+2 -> 26 | AK78: =(AK77*(($S13/$S12)^(($C$13-1)/$C$13))) -> 2243.8217 | AL78: =((4.7*10^13*AT78*(AS78^0.5)*EXP($C$11/AK78))/($C$14*6))*$C$5*10^-6 -> 2.0252746e-10 | AM78: =(((10^5*($C$4*$C$6)*10^-6)/($C$8*$C$7))) -> 6.5681391e-06 | AN78: =AM78/($AK$67*$G$11*((AQ78/2)+3.76)) -> 1.3163016e-07 | AO78: =$AK$67*$G$12 -> 6 | AP78: =$AK$67*$G$13 -> 6.75 | AQ78: =(($G$15/2)*(1-$AK$67)) -> 3.125 | AR78: =$G$14 -> 47.0238 | AS78: =((AQ78*AN78)/($C$5*10^-6)) -> 0.010283606 | AT78: =((AR78*AN78)/($C$5*10^-6)) -> 0.15474375 | AU78: =SUM($AL$70:$AL$85) -> 5.4934934e-09 | AV78: =AN78*(AO78+AP78+AQ78+AR78) -> 8.2793788e-06 | AW78: =(AU78/AV78)*10^6 -> 663.51516
A79: 10 | B79: 0.9 | C79: =(((G79*$L$12)+(H79*$L$13)+($G$14*0)))-$B$30 -> 4532.58 | D79: =AK20 -> 2718.6707 | E79: =(((10^5*($C$4*$C$6)*10^-6)/($C$8*$C$7))) -> 6.5681391e-06 | F79: =E79/(B79*$G$11*((I79/2)+3.76)) -> 1.3314358e-07 | G79: =B79*$G$12 -> 7.2 | H79: =B79*$G$13 -> 8.1 | I79: =(($G$15/2)*(1-B79)) -> 1.25 | J79: =$G$14 -> 47.0238 | K79: =((I79*F79)/($C$5*10^-6)) -> 0.0041607368 | L79: =((J79*F79)/($C$5*10^-6)) -> 0.15652292 | M79: =((4.7*10^13*K79*(L79^0.5)*EXP(-67837/(D79)))/($C$15))*$C$5*10^-6 -> 4.1740839e-09 | N79: =SUM(AL31:AL46) -> 5.0254378e-08 | O79: =F79*(G79+H79+I79+J79) -> 8.4644432e-06 | P79: =AW20 -> 14321.245 | R79: 8 | S79: =S78+2 -> 26 | T79: =(T78*(($S13/$S12)^(($C$13-1)/$C$13))) -> 2689.5008 | U79: =((4.7*10^13*AC79*(AB79^0.5)*EXP($C$11/T79))/($C$14*6))*$C$5*10^-6 -> 1.1193615e-08 | V79: =(((10^5*($C$4*$C$6)*10^-6)/($C$8*$C$7))) -> 6.5681391e-06 | W79: =V79/(T$68*$G$11*((Z79/2)+3.76)) -> 1.3722665e-07 | X79: =$T$68*$G$12 -> 7.76 | Y79: =$T$68*$G$13 -> 8.73 | Z79: =(($G$15/2)*(1-$T$68)) -> 0.375 | AA79: =$G$14 -> 47.0238 | AB79: =((Z79*W79)/($C$5*10^-6)) -> 0.0012864998 | AC79: =((AA79*W79)/($C$5*10^-6)) -> 0.16132296 | AD79: =SUM($U$71:$U$86) -> 2.5361742e-07 | AE79: =W79*(X79+Y79+Z79+AA79) -> 8.7672459e-06 | AF79: =(AD79/AE79)*10^6 -> 28927.832 | AI79: 9 | AJ79: =AJ78+2 -> 28 | AK79: =(AK78*(($S14/$S13)^(($C$13-1)/$C$13))) -> 2268.1133 | AL79: =((4.7*10^13*AT79*(AS79^0.5)*EXP($C$11/AK79))/($C$14*6))*$C$5*10^-6 -> 2.7996666e-10 | AM79: =(((10^5*($C$4*$C$6)*10^-6)/($C$8*$C$7))) -> 6.5681391e-06 | AN79: =AM79/($AK$67*$G$11*((AQ79/2)+3.76)) -> 1.3163016e-07 | AO79: =$AK$67*$G$12 -> 6 | AP79: =$AK$67*$G$13 -> 6.75 | AQ79: =(($G$15/2)*(1-$AK$67)) -> 3.125 | AR79: =$G$14 -> 47.0238 | AS79: =((AQ79*AN79)/($C$5*10^-6)) -> 0.010283606 | AT79: =((AR79*AN79)/($C$5*10^-6)) -> 0.15474375 | AU79: =SUM($AL$70:$AL$85) -> 5.4934934e-09 | AV79: =AN79*(AO79+AP79+AQ79+AR79) -> 8.2793788e-06 | AW79: =(AU79/AV79)*10^6 -> 663.51516
A80: 10 | B80: 0.85 | C80: =(((G80*$L$12)+(H80*$L$13)+($G$14*0)))-$B$30 -> 4266.37 | D80: =AK41 -> 2612.0261 | E80: =(((10^5*($C$4*$C$6)*10^-6)/($C$8*$C$7))) -> 6.5681391e-06 | F80: =E80/(B80*$G$11*((I80/2)+3.76)) -> 1.3159719e-07 | G80: =B80*$G$12 -> 6.8 | H80: =B80*$G$13 -> 7.65 | I80: =(($G$15/2)*(1-B80)) -> 1.875 | J80: =$G$14 -> 47.0238 | K80: =((I80*F80)/($C$5*10^-6)) -> 0.0061686183 | L80: =((J80*F80)/($C$5*10^-6)) -> 0.154705 | M80: =((4.7*10^13*K80*(L80^0.5)*EXP(-67837/(D80)))/($C$15))*$C$5*10^-6 -> 2.2212661e-09 | N80: =SUM(AL52:AL67) -> 1.8100765e-08 | O80: =F80*(G80+H80+I80+J80) -> 8.336524e-06 | P80: =AW41 -> 6147.7721 | R80: 9 | S80: =S79+2 -> 28 | T80: =(T79*(($S14/$S13)^(($C$13-1)/$C$13))) -> 2718.6173 | U80: =((4.7*10^13*AC80*(AB80^0.5)*EXP($C$11/T80))/($C$14*6))*$C$5*10^-6 -> 1.4665272e-08 | V80: =(((10^5*($C$4*$C$6)*10^-6)/($C$8*$C$7))) -> 6.5681391e-06 | W80: =V80/(T$68*$G$11*((Z80/2)+3.76)) -> 1.3722665e-07 | X80: =$T$68*$G$12 -> 7.76 | Y80: =$T$68*$G$13 -> 8.73 | Z80: =(($G$15/2)*(1-$T$68)) -> 0.375 | AA80: =$G$14 -> 47.0238 | AB80: =((Z80*W80)/($C$5*10^-6)) -> 0.0012864998 | AC80: =((AA80*W80)/($C$5*10^-6)) -> 0.16132296 | AD80: =SUM($U$71:$U$86) -> 2.5361742e-07 | AE80: =W80*(X80+Y80+Z80+AA80) -> 8.7672459e-06 | AF80: =(AD80/AE80)*10^6 -> 28927.832 | AI80: 10 | AJ80: =AJ79+2 -> 30 | AK80: =(AK79*(($S15/$S14)^(($C$13-1)/$C$13))) -> 2290.9646 | AL80: =((4.7*10^13*AT80*(AS80^0.5)*EXP($C$11/AK80))/($C$14*6))*$C$5*10^-6 -> 3.7728416e-10 | AM80: =(((10^5*($C$4*$C$6)*10^-6)/($C$8*$C$7))) -> 6.5681391e-06 | AN80: =AM80/($AK$67*$G$11*((AQ80/2)+3.76)) -> 1.3163016e-07 | AO80: =$AK$67*$G$12 -> 6 | AP80: =$AK$67*$G$13 -> 6.75 | AQ80: =(($G$15/2)*(1-$AK$67)) -> 3.125 | AR80: =$G$14 -> 47.0238 | AS80: =((AQ80*AN80)/($C$5*10^-6)) -> 0.010283606 | AT80: =((AR80*AN80)/($C$5*10^-6)) -> 0.15474375 | AU80: =SUM($AL$70:$AL$85) -> 5.4934934e-09 | AV80: =AN80*(AO80+AP80+AQ80+AR80) -> 8.2793788e-06 | AW80: =(AU80/AV80)*10^6 -> 663.51516
A81: 10 | B81: 0.8 | C81: =(((G81*$L$12)+(H81*$L$13)+($G$14*0)))-$B$30 -> 4000.16 | D81: =AK63 -> 2502.1601 | E81: =(((10^5*($C$4*$C$6)*10^-6)/($C$8*$C$7))) -> 6.5681391e-06 | F81: =E81/(B81*$G$11*((I81/2)+3.76)) -> 1.3110058e-07 | G81: =B81*$G$12 -> 6.4 | H81: =B81*$G$13 -> 7.2 | I81: =(($G$15/2)*(1-B81)) -> 2.5 | J81: =$G$14 -> 47.0238 | K81: =((I81*F81)/($C$5*10^-6)) -> 0.0081937863 | L81: =((J81*F81)/($C$5*10^-6)) -> 0.15412119 | M81: =((4.7*10^13*K81*(L81^0.5)*EXP(-67837/(D81)))/($C$15))*$C$5*10^-6 -> 9.4152019e-10 | N81: =SUM(AL74:AL89) -> 5.4516937e-09 | O81: =F81*(G81+H81+I81+J81) -> 8.2755669e-06 | P81: =AW63 -> 2207.2354 | R81: 10 | S81: =S80+2 -> 30 | T81: =(T80*(($S15/$S14)^(($C$13-1)/$C$13))) -> 2746.0075 | U81: =((4.7*10^13*AC81*(AB81^0.5)*EXP($C$11/T81))/($C$14*6))*$C$5*10^-6 -> 1.8809728e-08 | V81: =(((10^5*($C$4*$C$6)*10^-6)/($C$8*$C$7))) -> 6.5681391e-06 | W81: =V81/(T$68*$G$11*((Z81/2)+3.76)) -> 1.3722665e-07 | X81: =$T$68*$G$12 -> 7.76 | Y81: =$T$68*$G$13 -> 8.73 | Z81: =(($G$15/2)*(1-$T$68)) -> 0.375 | AA81: =$G$14 -> 47.0238 | AB81: =((Z81*W81)/($C$5*10^-6)) -> 0.0012864998 | AC81: =((AA81*W81)/($C$5*10^-6)) -> 0.16132296 | AD81: =SUM($U$71:$U$86) -> 2.5361742e-07 | AE81: =W81*(X81+Y81+Z81+AA81) -> 8.7672459e-06 | AF81: =(AD81/AE81)*10^6 -> 28927.832 | AI81: 11 | AJ81: =AJ80+2 -> 32 | AK81: =(AK80*(($S16/$S15)^(($C$13-1)/$C$13))) -> 2312.5489 | AL81: =((4.7*10^13*AT81*(AS81^0.5)*EXP($C$11/AK81))/($C$14*6))*$C$5*10^-6 -> 4.9738863e-10 | AM81: =(((10^5*($C$4*$C$6)*10^-6)/($C$8*$C$7))) -> 6.5681391e-06 | AN81: =AM81/($AK$67*$G$11*((AQ81/2)+3.76)) -> 1.3163016e-07 | AO81: =$AK$67*$G$12 -> 6 | AP81: =$AK$67*$G$13 -> 6.75 | AQ81: =(($G$15/2)*(1-$AK$67)) -> 3.125 | AR81: =$G$14 -> 47.0238 | AS81: =((AQ81*AN81)/($C$5*10^-6)) -> 0.010283606 | AT81: =((AR81*AN81)/($C$5*10^-6)) -> 0.15474375 | AU81: =SUM($AL$70:$AL$85) -> 5.4934934e-09 | AV81: =AN81*(AO81+AP81+AQ81+AR81) -> 8.2793788e-06 | AW81: =(AU81/AV81)*10^6 -> 663.51516
A82: 10 | B82: 0.75 | C82: =(((G82*$L$12)+(H82*$L$13)+($G$14*0)))-$B$30 -> 3733.95 | D82: =AK85 -> 2388.7564 | E82: =(((10^5*($C$4*$C$6)*10^-6)/($C$8*$C$7))) -> 6.5681391e-06 | F82: =E82/(B82*$G$11*((I82/2)+3.76)) -> 1.3163016e-07 | G82: =B82*$G$12 -> 6 | H82: =B82*$G$13 -> 6.75 | I82: =(($G$15/2)*(1-B82)) -> 3.125 | J82: =$G$14 -> 47.0238 | K82: =((I82*F82)/($C$5*10^-6)) -> 0.010283606 | L82: =((J82*F82)/($C$5*10^-6)) -> 0.15474375 | M82: =((4.7*10^13*K82*(L82^0.5)*EXP(-67837/(D82)))/($C$15))*$C$5*10^-6 -> 3.268829e-10 | N82: =SUM(AL96:AL111) -> 1.3501765e-09 | O82: =F82*(G82+H82+I82+J82) -> 8.2793788e-06 | P82: =AW85 -> 663.51516 | R82: 11 | S82: =S81+2 -> 32 | T82: =(T81*(($S16/$S15)^(($C$13-1)/$C$13))) -> 2771.879 | U82: =((4.7*10^13*AC82*(AB82^0.5)*EXP($C$11/T82))/($C$14*6))*$C$5*10^-6 -> 2.3687541e-08 | V82: =(((10^5*($C$4*$C$6)*10^-6)/($C$8*$C$7))) -> 6.5681391e-06 | W82: =V82/(T$68*$G$11*((Z82/2)+3.76)) -> 1.3722665e-07 | X82: =$T$68*$G$12 -> 7.76 | Y82: =$T$68*$G$13 -> 8.73 | Z82: =(($G$15/2)*(1-$T$68)) -> 0.375 | AA82: =$G$14 -> 47.0238 | AB82: =((Z82*W82)/($C$5*10^-6)) -> 0.0012864998 | AC82: =((AA82*W82)/($C$5*10^-6)) -> 0.16132296 | AD82: =SUM($U$71:$U$86) -> 2.5361742e-07 | AE82: =W82*(X82+Y82+Z82+AA82) -> 8.7672459e-06 | AF82: =(AD82/AE82)*10^6 -> 28927.832 | AI82: 12 | AJ82: =AJ81+2 -> 34 | AK82: =(AK81*(($S17/$S16)^(($C$13-1)/$C$13))) -> 2333.0094 | AL82: =((4.7*10^13*AT82*(AS82^0.5)*EXP($C$11/AK82))/($C$14*6))*$C$5*10^-6 -> 6.4331477e-10 | AM82: =(((10^5*($C$4*$C$6)*10^-6)/($C$8*$C$7))) -> 6.5681391e-06 | AN82: =AM82/($AK$67*$G$11*((AQ82/2)+3.76)) -> 1.3163016e-07 | AO82: =$AK$67*$G$12 -> 6 | AP82: =$AK$67*$G$13 -> 6.75 | AQ82: =(($G$15/2)*(1-$AK$67)) -> 3.125 | AR82: =$G$14 -> 47.0238 | AS82: =((AQ82*AN82)/($C$5*10^-6)) -> 0.010283606 | AT82: =((AR82*AN82)/($C$5*10^-6)) -> 0.15474375 | AU82: =SUM($AL$70:$AL$85) -> 5.4934934e-09 | AV82: =AN82*(AO82+AP82+AQ82+AR82) -> 8.2793788e-06 | AW82: =(AU82/AV82)*10^6 -> 663.51516
A83: 10 | B83: 0.7 | C83: =(((G83*$L$12)+(H83*$L$13)+($G$14*0)))-$B$30 -> 3467.74 | D83: =AK106 -> 2271.5632 | E83: =(((10^5*($C$4*$C$6)*10^-6)/($C$8*$C$7))) -> 6.5681391e-06 | F83: =E83/(B83*$G$11*((I83/2)+3.76)) -> 1.3321109e-07 | G83: =B83*$G$12 -> 5.6 | H83: =B83*$G$13 -> 6.3 | I83: =(($G$15/2)*(1-B83)) -> 3.75 | J83: =$G$14 -> 47.0238 | K83: =((I83*F83)/($C$5*10^-6)) -> 0.012488539 | L83: =((J83*F83)/($C$5*10^-6)) -> 0.15660229 | M83: =((4.7*10^13*K83*(L83^0.5)*EXP(-67837/(D83)))/($C$15))*$C$5*10^-6 -> 9.2269619e-11 | N83: =SUM(AL117:AL132) -> 2.7105942e-10 | O83: =F83*(G83+H83+I83+J83) -> 8.348845e-06 | P83: =AW106 -> 163.73513 | R83: 12 | S83: =S82+2 -> 34 | T83: =(T82*(($S17/$S16)^(($C$13-1)/$C$13))) -> 2796.4035 | U83: =((4.7*10^13*AC83*(AB83^0.5)*EXP($C$11/T83))/($C$14*6))*$C$5*10^-6 -> 2.9358454e-08 | V83: =(((10^5*($C$4*$C$6)*10^-6)/($C$8*$C$7))) -> 6.5681391e-06 | W83: =V83/(T$68*$G$11*((Z83/2)+3.76)) -> 1.3722665e-07 | X83: =$T$68*$G$12 -> 7.76 | Y83: =$T$68*$G$13 -> 8.73 | Z83: =(($G$15/2)*(1-$T$68)) -> 0.375 | AA83: =$G$14 -> 47.0238 | AB83: =((Z83*W83)/($C$5*10^-6)) -> 0.0012864998 | AC83: =((AA83*W83)/($C$5*10^-6)) -> 0.16132296 | AD83: =SUM($U$71:$U$86) -> 2.5361742e-07 | AE83: =W83*(X83+Y83+Z83+AA83) -> 8.7672459e-06 | AF83: =(AD83/AE83)*10^6 -> 28927.832 | AI83: 13 | AJ83: =AJ82+2 -> 36 | AK83: =(AK82*(($S18/$S17)^(($C$13-1)/$C$13))) -> 2352.4659 | AL83: =((4.7*10^13*AT83*(AS83^0.5)*EXP($C$11/AK83))/($C$14*6))*$C$5*10^-6 -> 8.1821153e-10 | AM83: =(((10^5*($C$4*$C$6)*10^-6)/($C$8*$C$7))) -> 6.5681391e-06 | AN83: =AM83/($AK$67*$G$11*((AQ83/2)+3.76)) -> 1.3163016e-07 | AO83: =$AK$67*$G$12 -> 6 | AP83: =$AK$67*$G$13 -> 6.75 | AQ83: =(($G$15/2)*(1-$AK$67)) -> 3.125 | AR83: =$G$14 -> 47.0238 | AS83: =((AQ83*AN83)/($C$5*10^-6)) -> 0.010283606 | AT83: =((AR83*AN83)/($C$5*10^-6)) -> 0.15474375 | AU83: =SUM($AL$70:$AL$85) -> 5.4934934e-09 | AV83: =AN83*(AO83+AP83+AQ83+AR83) -> 8.2793788e-06 | AW83: =(AU83/AV83)*10^6 -> 663.51516
A84: 10 | B84: 0.65 | C84: =(((G84*$L$12)+(H84*$L$13)+($G$14*0)))-$B$30 -> 3201.53 | D84: =AK128 -> 2150.4345 | E84: =(((10^5*($C$4*$C$6)*10^-6)/($C$8*$C$7))) -> 6.5681391e-06 | F84: =E84/(B84*$G$11*((I84/2)+3.76)) -> 1.3592036e-07 | G84: =B84*$G$12 -> 5.2 | H84: =B84*$G$13 -> 5.85 | I84: =(($G$15/2)*(1-B84)) -> 4.375 | J84: =$G$14 -> 47.0238 | K84: =((I84*F84)/($C$5*10^-6)) -> 0.01486629 | L84: =((J84*F84)/($C$5*10^-6)) -> 0.1597873 | M84: =((4.7*10^13*K84*(L84^0.5)*EXP(-67837/(D84)))/($C$15))*$C$5*10^-6 -> 2.0633668e-11 | N84: =SUM(AL139:AL154) -> 4.1417822e-11 | O84: =F84*(G84+H84+I84+J84) -> 8.4880635e-06 | P84: =AW128 -> 32.093593 | R84: 13 | S84: =S83+2 -> 36 | T84: =(T83*(($S18/$S17)^(($C$13-1)/$C$13))) -> 2819.7245 | U84: =((4.7*10^13*AC84*(AB84^0.5)*EXP($C$11/T84))/($C$14*6))*$C$5*10^-6 -> 3.5881293e-08 | V84: =(((10^5*($C$4*$C$6)*10^-6)/($C$8*$C$7))) -> 6.5681391e-06 | W84: =V84/(T$68*$G$11*((Z84/2)+3.76)) -> 1.3722665e-07 | X84: =$T$68*$G$12 -> 7.76 | Y84: =$T$68*$G$13 -> 8.73 | Z84: =(($G$15/2)*(1-$T$68)) -> 0.375 | AA84: =$G$14 -> 47.0238 | AB84: =((Z84*W84)/($C$5*10^-6)) -> 0.0012864998 | AC84: =((AA84*W84)/($C$5*10^-6)) -> 0.16132296 | AD84: =SUM($U$71:$U$86) -> 2.5361742e-07 | AE84: =W84*(X84+Y84+Z84+AA84) -> 8.7672459e-06 | AF84: =(AD84/AE84)*10^6 -> 28927.832 | AI84: 14 | AJ84: =AJ83+2 -> 38 | AK84: =(AK83*(($S19/$S18)^(($C$13-1)/$C$13))) -> 2371.0195 | AL84: =((4.7*10^13*AT84*(AS84^0.5)*EXP($C$11/AK84))/($C$14*6))*$C$5*10^-6 -> 1.0253313e-09 | AM84: =(((10^5*($C$4*$C$6)*10^-6)/($C$8*$C$7))) -> 6.5681391e-06 | AN84: =AM84/($AK$67*$G$11*((AQ84/2)+3.76)) -> 1.3163016e-07 | AO84: =$AK$67*$G$12 -> 6 | AP84: =$AK$67*$G$13 -> 6.75 | AQ84: =(($G$15/2)*(1-$AK$67)) -> 3.125 | AR84: =$G$14 -> 47.0238 | AS84: =((AQ84*AN84)/($C$5*10^-6)) -> 0.010283606 | AT84: =((AR84*AN84)/($C$5*10^-6)) -> 0.15474375 | AU84: =SUM($AL$70:$AL$85) -> 5.4934934e-09 | AV84: =AN84*(AO84+AP84+AQ84+AR84) -> 8.2793788e-06 | AW84: =(AU84/AV84)*10^6 -> 663.51516
A85: 10 | B85: 0.6 | C85: =(((G85*$L$12)+(H85*$L$13)+($G$14*0)))-$B$30 -> 2935.32 | D85: =AK150 -> 2025.3722 | E85: =(((10^5*($C$4*$C$6)*10^-6)/($C$8*$C$7))) -> 6.5681391e-06 | F85: =E85/(B85*$G$11*((I85/2)+3.76)) -> 1.3989647e-07 | G85: =B85*$G$12 -> 4.8 | H85: =B85*$G$13 -> 5.4 | I85: =(($G$15/2)*(1-B85)) -> 5 | J85: =$G$14 -> 47.0238 | K85: =((I85*F85)/($C$5*10^-6)) -> 0.017487058 | L85: =((J85*F85)/($C$5*10^-6)) -> 0.16446159 | M85: =((4.7*10^13*K85*(L85^0.5)*EXP(-67837/(D85)))/($C$15))*$C$5*10^-6 -> 3.510741e-12 | N85: =SUM(AL161:AL176) -> 0 | O85: =F85*(G85+H85+I85+J85) -> 8.7048898e-06 | P85: =AW150 -> 4.7761962 | R85: 14 | S85: =S84+2 -> 38 | T85: =(T84*(($S19/$S18)^(($C$13-1)/$C$13))) -> 2841.9633 | U85: =((4.7*10^13*AC85*(AB85^0.5)*EXP($C$11/T85))/($C$14*6))*$C$5*10^-6 -> 4.3313899e-08 | V85: =(((10^5*($C$4*$C$6)*10^-6)/($C$8*$C$7))) -> 6.5681391e-06 | W85: =V85/(T$68*$G$11*((Z85/2)+3.76)) -> 1.3722665e-07 | X85: =$T$68*$G$12 -> 7.76 | Y85: =$T$68*$G$13 -> 8.73 | Z85: =(($G$15/2)*(1-$T$68)) -> 0.375 | AA85: =$G$14 -> 47.0238 | AB85: =((Z85*W85)/($C$5*10^-6)) -> 0.0012864998 | AC85: =((AA85*W85)/($C$5*10^-6)) -> 0.16132296 | AD85: =SUM($U$71:$U$86) -> 2.5361742e-07 | AE85: =W85*(X85+Y85+Z85+AA85) -> 8.7672459e-06 | AF85: =(AD85/AE85)*10^6 -> 28927.832 | AI85: 15 | AJ85: =AJ84+2 -> 40 | AK85: =(AK84*(($S20/$S19)^(($C$13-1)/$C$13))) -> 2388.7564 | AL85: =((4.7*10^13*AT85*(AS85^0.5)*EXP($C$11/AK85))/($C$14*6))*$C$5*10^-6 -> 1.2680198e-09 | AM85: =(((10^5*($C$4*$C$6)*10^-6)/($C$8*$C$7))) -> 6.5681391e-06 | AN85: =AM85/($AK$67*$G$11*((AQ85/2)+3.76)) -> 1.3163016e-07 | AO85: =$AK$67*$G$12 -> 6 | AP85: =$AK$67*$G$13 -> 6.75 | AQ85: =(($G$15/2)*(1-$AK$67)) -> 3.125 | AR85: =$G$14 -> 47.0238 | AS85: =((AQ85*AN85)/($C$5*10^-6)) -> 0.010283606 | AT85: =((AR85*AN85)/($C$5*10^-6)) -> 0.15474375 | AU85: =SUM($AL$70:$AL$85) -> 5.4934934e-09 | AV85: =AN85*(AO85+AP85+AQ85+AR85) -> 8.2793788e-06 | AW85: =(AU85/AV85)*10^6 -> 663.51516
R86: 15 | S86: =S85+2 -> 40 | T86: =(T85*(($S20/$S19)^(($C$13-1)/$C$13))) -> 2863.2232 | U86: =((4.7*10^13*AC86*(AB86^0.5)*EXP($C$11/T86))/($C$14*6))*$C$5*10^-6 -> 5.1713072e-08 | V86: =(((10^5*($C$4*$C$6)*10^-6)/($C$8*$C$7))) -> 6.5681391e-06 | W86: =V86/(T$68*$G$11*((Z86/2)+3.76)) -> 1.3722665e-07 | X86: =$T$68*$G$12 -> 7.76 | Y86: =$T$68*$G$13 -> 8.73 | Z86: =(($G$15/2)*(1-$T$68)) -> 0.375 | AA86: =$G$14 -> 47.0238 | AB86: =((Z86*W86)/($C$5*10^-6)) -> 0.0012864998 | AC86: =((AA86*W86)/($C$5*10^-6)) -> 0.16132296 | AD86: =SUM($U$71:$U$86) -> 2.5361742e-07 | AE86: =W86*(X86+Y86+Z86+AA86) -> 8.7672459e-06 | AF86: =(AD86/AE86)*10^6 -> 28927.832
AI88: Phi | AK88: 0.7
R89: Phi | T89: 0.96
AI90: Crank angle | AJ90: Pressure (Bar) | AK90: Temp (k) | AL90: Nox (kmol/deg) | AM90: (n) no of mols Drawn Per cycle | AN90: Alpha | AO90: (n1) CO2 | AP90: (n2) H2O | AQ90: (n3) O2 | AR90: (n4) N2 | AS90: [O2] | AT90: [N2] | AU90: sum of Nox Kmol/Cycle | AV90: Exhaust Kmols | AW90: NOx PPM
R91: Crank angle | S91: Pressure (Bar) | T91: Temp (k) | U91: Nox (kmol/deg) | V91: (n) no of mols Drawn Per cycle | W91: Alpha | X91: (n1) CO2 | Y91: (n2) H2O | Z91: (n3) O2 | AA91: (n4) N2 | AB91: [O2] | AC91: [N2] | AD91: sum of Nox Kmol/Cycle | AE91: Exhaust Kmols | AF91: NOx PPM | AI91: 0 | AJ91: 10 | AK91: 1857.1459 | AL91: =((4.7*10^13*AT91*(AS91^0.5)*EXP($C$11/AK91))/($C$14*6))*$C$5*10^-6 -> 4.1693883e-13 | AM91: =(((10^5*($C$4*$C$6)*10^-6)/($C$8*$C$7))) -> 6.5681391e-06 | AN91: =AM91/($AK$88*$G$11*((AQ91/2)+3.76)) -> 1.3321109e-07 | AO91: =$AK$88*$G$12 -> 5.6 | AP91: =$AK$88*$G$13 -> 6.3 | AQ91: =(($G$15/2)*(1-$AK$88)) -> 3.75 | AR91: =$G$14 -> 47.0238 | AS91: =((AQ91*AN91)/($C$5*10^-6)) -> 0.012488539 | AT91: =((AR91*AN91)/($C$5*10^-6)) -> 0.15660229 | AU91: =SUM($AL$91:$AL$106) -> 1.3669992e-09 | AV91: =AN91*(AO91+AP91+AQ91+AR91) -> 8.348845e-06 | AW91: =(AU91/AV91)*10^6 -> 163.73513
R92: 0 | S92: 10 | T92: 2324.2345 | U92: =((4.7*10^13*AC92*(AB92^0.5)*EXP($C$11/T92))/($C$14*6))*$C$5*10^-6 -> 2.4347235e-10 | V92: =(((10^5*($C$4*$C$6)*10^-6)/($C$8*$C$7))) -> 6.5681391e-06 | W92: =V92/($T$89*$G$11*((Z92/2)+3.76)) -> 1.3649499e-07 | X92: =$T$89*$G$12 -> 7.68 | Y92: =$T$89*$G$13 -> 8.64 | Z92: =(($G$15/2)*(1-$T$89)) -> 0.5 | AA92: =$G$14 -> 47.0238 | AB92: =((Z92*W92)/($C$5*10^-6)) -> 0.0017061874 | AC92: =((AA92*W92)/($C$5*10^-6)) -> 0.16046283 | AD92: =SUM($U$92:$U$107) -> 2.4403221e-07 | AE92: =W92*(X92+Y92+Z92+AA92) -> 8.7143591e-06 | AF92: =(AD92/AE92)*10^6 -> 28003.46 | AI92: 1 | AJ92: =AJ91+2 -> 12 | AK92: =(AK91*(($S6/$S5)^(($C$13-1)/$C$13))) -> 1907.0013 | AL92: =((4.7*10^13*AT92*(AS92^0.5)*EXP($C$11/AK92))/($C$14*6))*$C$5*10^-6 -> 1.0834355e-12 | AM92: =(((10^5*($C$4*$C$6)*10^-6)/($C$8*$C$7))) -> 6.5681391e-06 | AN92: =AM92/($AK$88*$G$11*((AQ92/2)+3.76)) -> 1.3321109e-07 | AO92: =$AK$88*$G$12 -> 5.6 | AP92: =$AK$88*$G$13 -> 6.3 | AQ92: =(($G$15/2)*(1-$AK$88)) -> 3.75 | AR92: =$G$14 -> 47.0238 | AS92: =((AQ92*AN92)/($C$5*10^-6)) -> 0.012488539 | AT92: =((AR92*AN92)/($C$5*10^-6)) -> 0.15660229 | AU92: =SUM($AL$91:$AL$106) -> 1.3669992e-09 | AV92: =AN92*(AO92+AP92+AQ92+AR92) -> 8.348845e-06 | AW92: =(AU92/AV92)*10^6 -> 163.73513
R93: 1 | S93: =S92+2 -> 12 | T93: =(T92*(($S6/$S5)^(($C$13-1)/$C$13))) -> 2386.629 | U93: =((4.7*10^13*AC93*(AB93^0.5)*EXP($C$11/T93))/($C$14*6))*$C$5*10^-6 -> 5.2219682e-10 | V93: =(((10^5*($C$4*$C$6)*10^-6)/($C$8*$C$7))) -> 6.5681391e-06 | W93: =V93/($T$89*$G$11*((Z93/2)+3.76)) -> 1.3649499e-07 | X93: =$T$89*$G$12 -> 7.68 | Y93: =$T$89*$G$13 -> 8.64 | Z93: =(($G$15/2)*(1-$T$89)) -> 0.5 | AA93: =$G$14 -> 47.0238 | AB93: =((Z93*W93)/($C$5*10^-6)) -> 0.0017061874 | AC93: =((AA93*W93)/($C$5*10^-6)) -> 0.16046283 | AD93: =SUM($U$92:$U$107) -> 2.4403221e-07 | AE93: =W93*(X93+Y93+Z93+AA93) -> 8.7143591e-06 | AF93: =(AD93/AE93)*10^6 -> 28003.46 | AI93: 2 | AJ93: =AJ92+2 -> 14 | AK93: =(AK92*(($S7/$S6)^(($C$13-1)/$C$13))) -> 1950.1962 | AL93: =((4.7*10^13*AT93*(AS93^0.5)*EXP($C$11/AK93))/($C$14*6))*$C$5*10^-6 -> 2.3822234e-12 | AM93: =(((10^5*($C$4*$C$6)*10^-6)/($C$8*$C$7))) -> 6.5681391e-06 | AN93: =AM93/($AK$88*$G$11*((AQ93/2)+3.76)) -> 1.3321109e-07 | AO93: =$AK$88*$G$12 -> 5.6 | AP93: =$AK$88*$G$13 -> 6.3 | AQ93: =(($G$15/2)*(1-$AK$88)) -> 3.75 | AR93: =$G$14 -> 47.0238 | AS93: =((AQ93*AN93)/($C$5*10^-6)) -> 0.012488539 | AT93: =((AR93*AN93)/($C$5*10^-6)) -> 0.15660229 | AU93: =SUM($AL$91:$AL$106) -> 1.3669992e-09 | AV93: =AN93*(AO93+AP93+AQ93+AR93) -> 8.348845e-06 | AW93: =(AU93/AV93)*10^6 -> 163.73513
R94: 2 | S94: =S93+2 -> 14 | T94: =(T93*(($S7/$S6)^(($C$13-1)/$C$13))) -> 2440.6877 | U94: =((4.7*10^13*AC94*(AB94^0.5)*EXP($C$11/T94))/($C$14*6))*$C$5*10^-6 -> 9.8004885e-10 | V94: =(((10^5*($C$4*$C$6)*10^-6)/($C$8*$C$7))) -> 6.5681391e-06 | W94: =V94/($T$89*$G$11*((Z94/2)+3.76)) -> 1.3649499e-07 | X94: =$T$89*$G$12 -> 7.68 | Y94: =$T$89*$G$13 -> 8.64 | Z94: =(($G$15/2)*(1-$T$89)) -> 0.5 | AA94: =$G$14 -> 47.0238 | AB94: =((Z94*W94)/($C$5*10^-6)) -> 0.0017061874 | AC94: =((AA94*W94)/($C$5*10^-6)) -> 0.16046283 | AD94: =SUM($U$92:$U$107) -> 2.4403221e-07 | AE94: =W94*(X94+Y94+Z94+AA94) -> 8.7143591e-06 | AF94: =(AD94/AE94)*10^6 -> 28003.46 | AI94: 3 | AJ94: =AJ93+2 -> 16 | AK94: =(AK93*(($S8/$S7)^(($C$13-1)/$C$13))) -> 1988.4034 | AL94: =((4.7*10^13*AT94*(AS94^0.5)*EXP($C$11/AK94))/($C$14*6))*$C$5*10^-6 -> 4.6479302e-12 | AM94: =(((10^5*($C$4*$C$6)*10^-6)/($C$8*$C$7))) -> 6.5681391e-06 | AN94: =AM94/($AK$88*$G$11*((AQ94/2)+3.76)) -> 1.3321109e-07 | AO94: =$AK$88*$G$12 -> 5.6 | AP94: =$AK$88*$G$13 -> 6.3 | AQ94: =(($G$15/2)*(1-$AK$88)) -> 3.75 | AR94: =$G$14 -> 47.0238 | AS94: =((AQ94*AN94)/($C$5*10^-6)) -> 0.012488539 | AT94: =((AR94*AN94)/($C$5*10^-6)) -> 0.15660229 | AU94: =SUM($AL$91:$AL$106) -> 1.3669992e-09 | AV94: =AN94*(AO94+AP94+AQ94+AR94) -> 8.348845e-06 | AW94: =(AU94/AV94)*10^6 -> 163.73513
R95: 3 | S95: =S94+2 -> 16 | T95: =(T94*(($S8/$S7)^(($C$13-1)/$C$13))) -> 2488.5043 | U95: =((4.7*10^13*AC95*(AB95^0.5)*EXP($C$11/T95))/($C$14*6))*$C$5*10^-6 -> 1.6718197e-09 | V95: =(((10^5*($C$4*$C$6)*10^-6)/($C$8*$C$7))) -> 6.5681391e-06 | W95: =V95/($T$89*$G$11*((Z95/2)+3.76)) -> 1.3649499e-07 | X95: =$T$89*$G$12 -> 7.68 | Y95: =$T$89*$G$13 -> 8.64 | Z95: =(($G$15/2)*(1-$T$89)) -> 0.5 | AA95: =$G$14 -> 47.0238 | AB95: =((Z95*W95)/($C$5*10^-6)) -> 0.0017061874 | AC95: =((AA95*W95)/($C$5*10^-6)) -> 0.16046283 | AD95: =SUM($U$92:$U$107) -> 2.4403221e-07 | AE95: =W95*(X95+Y95+Z95+AA95) -> 8.7143591e-06 | AF95: =(AD95/AE95)*10^6 -> 28003.46 | AI95: 4 | AJ95: =AJ94+2 -> 18 | AK95: =(AK94*(($S9/$S8)^(($C$13-1)/$C$13))) -> 2022.7253 | AL95: =((4.7*10^13*AT95*(AS95^0.5)*EXP($C$11/AK95))/($C$14*6))*$C$5*10^-6 -> 8.2921835e-12 | AM95: =(((10^5*($C$4*$C$6)*10^-6)/($C$8*$C$7))) -> 6.5681391e-06 | AN95: =AM95/($AK$88*$G$11*((AQ95/2)+3.76)) -> 1.3321109e-07 | AO95: =$AK$88*$G$12 -> 5.6 | AP95: =$AK$88*$G$13 -> 6.3 | AQ95: =(($G$15/2)*(1-$AK$88)) -> 3.75 | AR95: =$G$14 -> 47.0238 | AS95: =((AQ95*AN95)/($C$5*10^-6)) -> 0.012488539 | AT95: =((AR95*AN95)/($C$5*10^-6)) -> 0.15660229 | AU95: =SUM($AL$91:$AL$106) -> 1.3669992e-09 | AV95: =AN95*(AO95+AP95+AQ95+AR95) -> 8.348845e-06 | AW95: =(AU95/AV95)*10^6 -> 163.73513
R96: 4 | S96: =S95+2 -> 18 | T96: =(T95*(($S9/$S8)^(($C$13-1)/$C$13))) -> 2531.4585 | U96: =((4.7*10^13*AC96*(AB96^0.5)*EXP($C$11/T96))/($C$14*6))*$C$5*10^-6 -> 2.6550605e-09 | V96: =(((10^5*($C$4*$C$6)*10^-6)/($C$8*$C$7))) -> 6.5681391e-06 | W96: =V96/($T$89*$G$11*((Z96/2)+3.76)) -> 1.3649499e-07 | X96: =$T$89*$G$12 -> 7.68 | Y96: =$T$89*$G$13 -> 8.64 | Z96: =(($G$15/2)*(1-$T$89)) -> 0.5 | AA96: =$G$14 -> 47.0238 | AB96: =((Z96*W96)/($C$5*10^-6)) -> 0.0017061874 | AC96: =((AA96*W96)/($C$5*10^-6)) -> 0.16046283 | AD96: =SUM($U$92:$U$107) -> 2.4403221e-07 | AE96: =W96*(X96+Y96+Z96+AA96) -> 8.7143591e-06 | AF96: =(AD96/AE96)*10^6 -> 28003.46 | AI96: 5 | AJ96: =AJ95+2 -> 20 | AK96: =(AK95*(($S10/$S9)^(($C$13-1)/$C$13))) -> 2053.929 | AL96: =((4.7*10^13*AT96*(AS96^0.5)*EXP($C$11/AK96))/($C$14*6))*$C$5*10^-6 -> 1.3802102e-11 | AM96: =(((10^5*($C$4*$C$6)*10^-6)/($C$8*$C$7))) -> 6.5681391e-06 | AN96: =AM96/($AK$88*$G$11*((AQ96/2)+3.76)) -> 1.3321109e-07 | AO96: =$AK$88*$G$12 -> 5.6 | AP96: =$AK$88*$G$13 -> 6.3 | AQ96: =(($G$15/2)*(1-$AK$88)) -> 3.75 | AR96: =$G$14 -> 47.0238 | AS96: =((AQ96*AN96)/($C$5*10^-6)) -> 0.012488539 | AT96: =((AR96*AN96)/($C$5*10^-6)) -> 0.15660229 | AU96: =SUM($AL$91:$AL$106) -> 1.3669992e-09 | AV96: =AN96*(AO96+AP96+AQ96+AR96) -> 8.348845e-06 | AW96: =(AU96/AV96)*10^6 -> 163.73513
R97: 5 | S97: =S96+2 -> 20 | T97: =(T96*(($S10/$S9)^(($C$13-1)/$C$13))) -> 2570.5103 | U97: =((4.7*10^13*AC97*(AB97^0.5)*EXP($C$11/T97))/($C$14*6))*$C$5*10^-6 -> 3.9891656e-09 | V97: =(((10^5*($C$4*$C$6)*10^-6)/($C$8*$C$7))) -> 6.5681391e-06 | W97: =V97/($T$89*$G$11*((Z97/2)+3.76)) -> 1.3649499e-07 | X97: =$T$89*$G$12 -> 7.68 | Y97: =$T$89*$G$13 -> 8.64 | Z97: =(($G$15/2)*(1-$T$89)) -> 0.5 | AA97: =$G$14 -> 47.0238 | AB97: =((Z97*W97)/($C$5*10^-6)) -> 0.0017061874 | AC97: =((AA97*W97)/($C$5*10^-6)) -> 0.16046283 | AD97: =SUM($U$92:$U$107) -> 2.4403221e-07 | AE97: =W97*(X97+Y97+Z97+AA97) -> 8.7143591e-06 | AF97: =(AD97/AE97)*10^6 -> 28003.46 | AI97: 6 | AJ97: =AJ96+2 -> 22 | AK97: =(AK96*(($S11/$S10)^(($C$13-1)/$C$13))) -> 2082.5707 | AL97: =((4.7*10^13*AT97*(AS97^0.5)*EXP($C$11/AK97))/($C$14*6))*$C$5*10^-6 -> 2.1737853e-11 | AM97: =(((10^5*($C$4*$C$6)*10^-6)/($C$8*$C$7))) -> 6.5681391e-06 | AN97: =AM97/($AK$88*$G$11*((AQ97/2)+3.76)) -> 1.3321109e-07 | AO97: =$AK$88*$G$12 -> 5.6 | AP97: =$AK$88*$G$13 -> 6.3 | AQ97: =(($G$15/2)*(1-$AK$88)) -> 3.75 | AR97: =$G$14 -> 47.0238 | AS97: =((AQ97*AN97)/($C$5*10^-6)) -> 0.012488539 | AT97: =((AR97*AN97)/($C$5*10^-6)) -> 0.15660229 | AU97: =SUM($AL$91:$AL$106) -> 1.3669992e-09 | AV97: =AN97*(AO97+AP97+AQ97+AR97) -> 8.348845e-06 | AW97: =(AU97/AV97)*10^6 -> 163.73513
R98: 6 | S98: =S97+2 -> 22 | T98: =(T97*(($S11/$S10)^(($C$13-1)/$C$13))) -> 2606.3556 | U98: =((4.7*10^13*AC98*(AB98^0.5)*EXP($C$11/T98))/($C$14*6))*$C$5*10^-6 -> 5.7346767e-09 | V98: =(((10^5*($C$4*$C$6)*10^-6)/($C$8*$C$7))) -> 6.5681391e-06 | W98: =V98/($T$89*$G$11*((Z98/2)+3.76)) -> 1.3649499e-07 | X98: =$T$89*$G$12 -> 7.68 | Y98: =$T$89*$G$13 -> 8.64 | Z98: =(($G$15/2)*(1-$T$89)) -> 0.5 | AA98: =$G$14 -> 47.0238 | AB98: =((Z98*W98)/($C$5*10^-6)) -> 0.0017061874 | AC98: =((AA98*W98)/($C$5*10^-6)) -> 0.16046283 | AD98: =SUM($U$92:$U$107) -> 2.4403221e-07 | AE98: =W98*(X98+Y98+Z98+AA98) -> 8.7143591e-06 | AF98: =(AD98/AE98)*10^6 -> 28003.46 | AI98: 7 | AJ98: =AJ97+2 -> 24 | AK98: =(AK97*(($S12/$S11)^(($C$13-1)/$C$13))) -> 2109.0671 | AL98: =((4.7*10^13*AT98*(AS98^0.5)*EXP($C$11/AK98))/($C$14*6))*$C$5*10^-6 -> 3.2729652e-11 | AM98: =(((10^5*($C$4*$C$6)*10^-6)/($C$8*$C$7))) -> 6.5681391e-06 | AN98: =AM98/($AK$88*$G$11*((AQ98/2)+3.76)) -> 1.3321109e-07 | AO98: =$AK$88*$G$12 -> 5.6 | AP98: =$AK$88*$G$13 -> 6.3 | AQ98: =(($G$15/2)*(1-$AK$88)) -> 3.75 | AR98: =$G$14 -> 47.0238 | AS98: =((AQ98*AN98)/($C$5*10^-6)) -> 0.012488539 | AT98: =((AR98*AN98)/($C$5*10^-6)) -> 0.15660229 | AU98: =SUM($AL$91:$AL$106) -> 1.3669992e-09 | AV98: =AN98*(AO98+AP98+AQ98+AR98) -> 8.348845e-06 | AW98: =(AU98/AV98)*10^6 -> 163.73513
R99: 7 | S99: =S98+2 -> 24 | T99: =(T98*(($S12/$S11)^(($C$13-1)/$C$13))) -> 2639.5161 | U99: =((4.7*10^13*AC99*(AB99^0.5)*EXP($C$11/T99))/($C$14*6))*$C$5*10^-6 -> 7.9527497e-09 | V99: =(((10^5*($C$4*$C$6)*10^-6)/($C$8*$C$7))) -> 6.5681391e-06 | W99: =V99/($T$89*$G$11*((Z99/2)+3.76)) -> 1.3649499e-07 | X99: =$T$89*$G$12 -> 7.68 | Y99: =$T$89*$G$13 -> 8.64 | Z99: =(($G$15/2)*(1-$T$89)) -> 0.5 | AA99: =$G$14 -> 47.0238 | AB99: =((Z99*W99)/($C$5*10^-6)) -> 0.0017061874 | AC99: =((AA99*W99)/($C$5*10^-6)) -> 0.16046283 | AD99: =SUM($U$92:$U$107) -> 2.4403221e-07 | AE99: =W99*(X99+Y99+Z99+AA99) -> 8.7143591e-06 | AF99: =(AD99/AE99)*10^6 -> 28003.46 | AI99: 8 | AJ99: =AJ98+2 -> 26 | AK99: =(AK98*(($S13/$S12)^(($C$13-1)/$C$13))) -> 2133.739 | AL99: =((4.7*10^13*AT99*(AS99^0.5)*EXP($C$11/AK99))/($C$14*6))*$C$5*10^-6 -> 4.7474448e-11 | AM99: =(((10^5*($C$4*$C$6)*10^-6)/($C$8*$C$7))) -> 6.5681391e-06 | AN99: =AM99/($AK$88*$G$11*((AQ99/2)+3.76)) -> 1.3321109e-07 | AO99: =$AK$88*$G$12 -> 5.6 | AP99: =$AK$88*$G$13 -> 6.3 | AQ99: =(($G$15/2)*(1-$AK$88)) -> 3.75 | AR99: =$G$14 -> 47.0238 | AS99: =((AQ99*AN99)/($C$5*10^-6)) -> 0.012488539 | AT99: =((AR99*AN99)/($C$5*10^-6)) -> 0.15660229 | AU99: =SUM($AL$91:$AL$106) -> 1.3669992e-09 | AV99: =AN99*(AO99+AP99+AQ99+AR99) -> 8.348845e-06 | AW99: =(AU99/AV99)*10^6 -> 163.73513
R100: 8 | S100: =S99+2 -> 26 | T100: =(T99*(($S13/$S12)^(($C$13-1)/$C$13))) -> 2670.3932 | U100: =((4.7*10^13*AC100*(AB100^0.5)*EXP($C$11/T100))/($C$14*6))*$C$5*10^-6 -> 1.0704746e-08 | V100: =(((10^5*($C$4*$C$6)*10^-6)/($C$8*$C$7))) -> 6.5681391e-06 | W100: =V100/($T$89*$G$11*((Z100/2)+3.76)) -> 1.3649499e-07 | X100: =$T$89*$G$12 -> 7.68 | Y100: =$T$89*$G$13 -> 8.64 | Z100: =(($G$15/2)*(1-$T$89)) -> 0.5 | AA100: =$G$14 -> 47.0238 | AB100: =((Z100*W100)/($C$5*10^-6)) -> 0.0017061874 | AC100: =((AA100*W100)/($C$5*10^-6)) -> 0.16046283 | AD100: =SUM($U$92:$U$107) -> 2.4403221e-07 | AE100: =W100*(X100+Y100+Z100+AA100) -> 8.7143591e-06 | AF100: =(AD100/AE100)*10^6 -> 28003.46 | AI100: 9 | AJ100: =AJ99+2 -> 28 | AK100: =(AK99*(($S14/$S13)^(($C$13-1)/$C$13))) -> 2156.8389 | AL100: =((4.7*10^13*AT100*(AS100^0.5)*EXP($C$11/AK100))/($C$14*6))*$C$5*10^-6 -> 6.6732475e-11 | AM100: =(((10^5*($C$4*$C$6)*10^-6)/($C$8*$C$7))) -> 6.5681391e-06 | AN100: =AM100/($AK$88*$G$11*((AQ100/2)+3.76)) -> 1.3321109e-07 | AO100: =$AK$88*$G$12 -> 5.6 | AP100: =$AK$88*$G$13 -> 6.3 | AQ100: =(($G$15/2)*(1-$AK$88)) -> 3.75 | AR100: =$G$14 -> 47.0238 | AS100: =((AQ100*AN100)/($C$5*10^-6)) -> 0.012488539 | AT100: =((AR100*AN100)/($C$5*10^-6)) -> 0.15660229 | AU100: =SUM($AL$91:$AL$106) -> 1.3669992e-09 | AV100: =AN100*(AO100+AP100+AQ100+AR100) -> 8.348845e-06 | AW100: =(AU100/AV100)*10^6 -> 163.73513
R101: 9 | S101: =S100+2 -> 28 | T101: =(T100*(($S14/$S13)^(($C$13-1)/$C$13))) -> 2699.3029 | U101: =((4.7*10^13*AC101*(AB101^0.5)*EXP($C$11/T101))/($C$14*6))*$C$5*10^-6 -> 1.4051917e-08 | V101: =(((10^5*($C$4*$C$6)*10^-6)/($C$8*$C$7))) -> 6.5681391e-06 | W101: =V101/($T$89*$G$11*((Z101/2)+3.76)) -> 1.3649499e-07 | X101: =$T$89*$G$12 -> 7.68 | Y101: =$T$89*$G$13 -> 8.64 | Z101: =(($G$15/2)*(1-$T$89)) -> 0.5 | AA101: =$G$14 -> 47.0238 | AB101: =((Z101*W101)/($C$5*10^-6)) -> 0.0017061874 | AC101: =((AA101*W101)/($C$5*10^-6)) -> 0.16046283 | AD101: =SUM($U$92:$U$107) -> 2.4403221e-07 | AE101: =W101*(X101+Y101+Z101+AA101) -> 8.7143591e-06 | AF101: =(AD101/AE101)*10^6 -> 28003.46 | AI101: 10 | AJ101: =AJ100+2 -> 30 | AK101: =(AK100*(($S15/$S14)^(($C$13-1)/$C$13))) -> 2178.5691 | AL101: =((4.7*10^13*AT101*(AS101^0.5)*EXP($C$11/AK101))/($C$14*6))*$C$5*10^-6 -> 9.132376e-11 | AM101: =(((10^5*($C$4*$C$6)*10^-6)/($C$8*$C$7))) -> 6.5681391e-06 | AN101: =AM101/($AK$88*$G$11*((AQ101/2)+3.76)) -> 1.3321109e-07 | AO101: =$AK$88*$G$12 -> 5.6 | AP101: =$AK$88*$G$13 -> 6.3 | AQ101: =(($G$15/2)*(1-$AK$88)) -> 3.75 | AR101: =$G$14 -> 47.0238 | AS101: =((AQ101*AN101)/($C$5*10^-6)) -> 0.012488539 | AT101: =((AR101*AN101)/($C$5*10^-6)) -> 0.15660229 | AU101: =SUM($AL$91:$AL$106) -> 1.3669992e-09 | AV101: =AN101*(AO101+AP101+AQ101+AR101) -> 8.348845e-06 | AW101: =(AU101/AV101)*10^6 -> 163.73513
R102: 10 | S102: =S101+2 -> 30 | T102: =(T101*(($S15/$S14)^(($C$13-1)/$C$13))) -> 2726.4984 | U102: =((4.7*10^13*AC102*(AB102^0.5)*EXP($C$11/T102))/($C$14*6))*$C$5*10^-6 -> 1.8055163e-08 | V102: =(((10^5*($C$4*$C$6)*10^-6)/($C$8*$C$7))) -> 6.5681391e-06 | W102: =V102/($T$89*$G$11*((Z102/2)+3.76)) -> 1.3649499e-07 | X102: =$T$89*$G$12 -> 7.68 | Y102: =$T$89*$G$13 -> 8.64 | Z102: =(($G$15/2)*(1-$T$89)) -> 0.5 | AA102: =$G$14 -> 47.0238 | AB102: =((Z102*W102)/($C$5*10^-6)) -> 0.0017061874 | AC102: =((AA102*W102)/($C$5*10^-6)) -> 0.16046283 | AD102: =SUM($U$92:$U$107) -> 2.4403221e-07 | AE102: =W102*(X102+Y102+Z102+AA102) -> 8.7143591e-06 | AF102: =(AD102/AE102)*10^6 -> 28003.46 | AI102: 11 | AJ102: =AJ101+2 -> 32 | AK102: =(AK101*(($S16/$S15)^(($C$13-1)/$C$13))) -> 2199.0945 | AL102: =((4.7*10^13*AT102*(AS102^0.5)*EXP($C$11/AK102))/($C$14*6))*$C$5*10^-6 -> 1.2212468e-10 | AM102: =(((10^5*($C$4*$C$6)*10^-6)/($C$8*$C$7))) -> 6.5681391e-06 | AN102: =AM102/($AK$88*$G$11*((AQ102/2)+3.76)) -> 1.3321109e-07 | AO102: =$AK$88*$G$12 -> 5.6 | AP102: =$AK$88*$G$13 -> 6.3 | AQ102: =(($G$15/2)*(1-$AK$88)) -> 3.75 | AR102: =$G$14 -> 47.0238 | AS102: =((AQ102*AN102)/($C$5*10^-6)) -> 0.012488539 | AT102: =((AR102*AN102)/($C$5*10^-6)) -> 0.15660229 | AU102: =SUM($AL$91:$AL$106) -> 1.3669992e-09 | AV102: =AN102*(AO102+AP102+AQ102+AR102) -> 8.348845e-06 | AW102: =(AU102/AV102)*10^6 -> 163.73513
R103: 11 | S103: =S102+2 -> 32 | T103: =(T102*(($S16/$S15)^(($C$13-1)/$C$13))) -> 2752.1861 | U103: =((4.7*10^13*AC103*(AB103^0.5)*EXP($C$11/T103))/($C$14*6))*$C$5*10^-6 -> 2.2774844e-08 | V103: =(((10^5*($C$4*$C$6)*10^-6)/($C$8*$C$7))) -> 6.5681391e-06 | W103: =V103/($T$89*$G$11*((Z103/2)+3.76)) -> 1.3649499e-07 | X103: =$T$89*$G$12 -> 7.68 | Y103: =$T$89*$G$13 -> 8.64 | Z103: =(($G$15/2)*(1-$T$89)) -> 0.5 | AA103: =$G$14 -> 47.0238 | AB103: =((Z103*W103)/($C$5*10^-6)) -> 0.0017061874 | AC103: =((AA103*W103)/($C$5*10^-6)) -> 0.16046283 | AD103: =SUM($U$92:$U$107) -> 2.4403221e-07 | AE103: =W103*(X103+Y103+Z103+AA103) -> 8.7143591e-06 | AF103: =(AD103/AE103)*10^6 -> 28003.46 | AI103: 12 | AJ103: =AJ102+2 -> 34 | AK103: =(AK102*(($S17/$S16)^(($C$13-1)/$C$13))) -> 2218.5512 | AL103: =((4.7*10^13*AT103*(AS103^0.5)*EXP($C$11/AK103))/($C$14*6))*$C$5*10^-6 -> 1.600646e-10 | AM103: =(((10^5*($C$4*$C$6)*10^-6)/($C$8*$C$7))) -> 6.5681391e-06 | AN103: =AM103/($AK$88*$G$11*((AQ103/2)+3.76)) -> 1.3321109e-07 | AO103: =$AK$88*$G$12 -> 5.6 | AP103: =$AK$88*$G$13 -> 6.3 | AQ103: =(($G$15/2)*(1-$AK$88)) -> 3.75 | AR103: =$G$14 -> 47.0238 | AS103: =((AQ103*AN103)/($C$5*10^-6)) -> 0.012488539 | AT103: =((AR103*AN103)/($C$5*10^-6)) -> 0.15660229 | AU103: =SUM($AL$91:$AL$106) -> 1.3669992e-09 | AV103: =AN103*(AO103+AP103+AQ103+AR103) -> 8.348845e-06 | AW103: =(AU103/AV103)*10^6 -> 163.73513
R104: 12 | S104: =S103+2 -> 34 | T104: =(T103*(($S17/$S16)^(($C$13-1)/$C$13))) -> 2776.5364 | U104: =((4.7*10^13*AC104*(AB104^0.5)*EXP($C$11/T104))/($C$14*6))*$C$5*10^-6 -> 2.8270636e-08 | V104: =(((10^5*($C$4*$C$6)*10^-6)/($C$8*$C$7))) -> 6.5681391e-06 | W104: =V104/($T$89*$G$11*((Z104/2)+3.76)) -> 1.3649499e-07 | X104: =$T$89*$G$12 -> 7.68 | Y104: =$T$89*$G$13 -> 8.64 | Z104: =(($G$15/2)*(1-$T$89)) -> 0.5 | AA104: =$G$14 -> 47.0238 | AB104: =((Z104*W104)/($C$5*10^-6)) -> 0.0017061874 | AC104: =((AA104*W104)/($C$5*10^-6)) -> 0.16046283 | AD104: =SUM($U$92:$U$107) -> 2.4403221e-07 | AE104: =W104*(X104+Y104+Z104+AA104) -> 8.7143591e-06 | AF104: =(AD104/AE104)*10^6 -> 28003.46 | AI104: 13 | AJ104: =AJ103+2 -> 36 | AK104: =(AK103*(($S18/$S17)^(($C$13-1)/$C$13))) -> 2237.0532 | AL104: =((4.7*10^13*AT104*(AS104^0.5)*EXP($C$11/AK104))/($C$14*6))*$C$5*10^-6 -> 2.0612264e-10 | AM104: =(((10^5*($C$4*$C$6)*10^-6)/($C$8*$C$7))) -> 6.5681391e-06 | AN104: =AM104/($AK$88*$G$11*((AQ104/2)+3.76)) -> 1.3321109e-07 | AO104: =$AK$88*$G$12 -> 5.6 | AP104: =$AK$88*$G$13 -> 6.3 | AQ104: =(($G$15/2)*(1-$AK$88)) -> 3.75 | AR104: =$G$14 -> 47.0238 | AS104: =((AQ104*AN104)/($C$5*10^-6)) -> 0.012488539 | AT104: =((AR104*AN104)/($C$5*10^-6)) -> 0.15660229 | AU104: =SUM($AL$91:$AL$106) -> 1.3669992e-09 | AV104: =AN104*(AO104+AP104+AQ104+AR104) -> 8.348845e-06 | AW104: =(AU104/AV104)*10^6 -> 163.73513
... R106: 14 | S106: =S105+2 -> 38 | T106: =(T105*(($S19/$S18)^(($C$13-1)/$C$13))) -> 2821.7725 | U106: =((4.7*10^13*AC106*(AB106^0.5)*EXP($C$11/T106))/($C$14*6))*$C$5*10^-6 -> 4.1825213e-08 | V106: =(((10^5*($C$4*$C$6)*10^-6)/($C$8*$C$7))) -> 6.5681391e-06 | W106: =V106/($T$89*$G$11*((Z106/2)+3.76)) -> 1.3649499e-07 | X106: =$T$89*$G$12 -> 7.68 | Y106: =$T$89*$G$13 -> 8.64 | Z106: =(($G$15/2)*(1-$T$89)) -> 0.5 | AA106: =$G$14 -> 47.0238 | AB106: =((Z106*W106)/($C$5*10^-6)) -> 0.0017061874 | AC106: =((AA106*W106)/($C$5*10^-6)) -> 0.16046283 | AD106: =SUM($U$92:$U$107) -> 2.4403221e-07 | AE106: =W106*(X106+Y106+Z106+AA106) -> 8.7143591e-06 | AF106: =(AD106/AE106)*10^6 -> 28003.46 | AI106: 15 | AJ106: =AJ105+2 -> 40 | AK106: =(AK105*(($S20/$S19)^(($C$13-1)/$C$13))) -> 2271.5632 | AL106: =((4.7*10^13*AT106*(AS106^0.5)*EXP($C$11/AK106))/($C$14*6))*$C$5*10^-6 -> 3.2673974e-10 | AM106: =(((10^5*($C$4*$C$6)*10^-6)/($C$8*$C$7))) -> 6.5681391e-06 | AN106: =AM106/($AK$88*$G$11*((AQ106/2)+3.76)) -> 1.3321109e-07 | AO106: =$AK$88*$G$12 -> 5.6 | AP106: =$AK$88*$G$13 -> 6.3 | AQ106: =(($G$15/2)*(1-$AK$88)) -> 3.75 | AR106: =$G$14 -> 47.0238 | AS106: =((AQ106*AN106)/($C$5*10^-6)) -> 0.012488539 | AT106: =((AR106*AN106)/($C$5*10^-6)) -> 0.15660229 | AU106: =SUM($AL$91:$AL$106) -> 1.3669992e-09 | AV106: =AN106*(AO106+AP106+AQ106+AR106) -> 8.348845e-06 | AW106: =(AU106/AV106)*10^6 -> 163.73513
R107: 15 | S107: =S106+2 -> 40 | T107: =(T106*(($S20/$S19)^(($C$13-1)/$C$13))) -> 2842.8814 | U107: =((4.7*10^13*AC107*(AB107^0.5)*EXP($C$11/T107))/($C$14*6))*$C$5*10^-6 -> 4.9999078e-08 | V107: =(((10^5*($C$4*$C$6)*10^-6)/($C$8*$C$7))) -> 6.5681391e-06 | W107: =V107/($T$89*$G$11*((Z107/2)+3.76)) -> 1.3649499e-07 | X107: =$T$89*$G$12 -> 7.68 | Y107: =$T$89*$G$13 -> 8.64 | Z107: =(($G$15/2)*(1-$T$89)) -> 0.5 | AA107: =$G$14 -> 47.0238 | AB107: =((Z107*W107)/($C$5*10^-6)) -> 0.0017061874 | AC107: =((AA107*W107)/($C$5*10^-6)) -> 0.16046283 | AD107: =SUM($U$92:$U$107) -> 2.4403221e-07 | AE107: =W107*(X107+Y107+Z107+AA107) -> 8.7143591e-06 | AF107: =(AD107/AE107)*10^6 -> 28003.46
...

Sheet EGR
F1: Hydrocarbon fuel balance Iso-octane | K1: Molecule | L1: Atomic weight
B2: No of Cylinders | C2: 4
B3: Displacement (cc) | C3: 1600 | F3: CxHy + A(O2+3.76 N2) = xCO2 + yH2O + 3.76 N2 | K3: Carbon | L3: 12.011 | N3: EGR | O3: 1.05 | P3: 5% EGR | AE3: EGR | AF3: 1.1
B4: Volume Per cyl (cc) | C4: =C3/C2 -> 400 | K4: Hydrogen | L4: 1.008
B5: Vc (cc) | C5: 40 | F5: molecule | G5: No of moecules | K5: oxegen | L5: 15.999 | N5: Pressure (M) | O5: Phi | P5: Enthalpy | Q5: Flame Temp (k) | R5: (n) no of mols Drawn Per cycle | S5: Alpha | T5: (n1) CO2 | U5: (n2) H2O | V5: (n3) O2 | W5: (n4) N2 | X5: [O2] | Y5: [N2] | Z5: Nox (kmol/deg) | AA5: Nox Kmol/Cycle | AB5: Exhaust Kmols | AC5: NOx PPM | AE5: Pressure (M) | AF5: Phi | AG5: Enthalpy | AH5: Flame Temp (k) | AI5: (n) no of mols Drawn Per cycle | AJ5: Alpha | AK5: (n1) CO2 | AL5: (n2) H2O | AM5: (n3) O2 | AN5: (n4) N2 | AO5: [O2] | AP5: [N2] | AQ5: Nox (kmol/deg) | AR5: Nox Kmol/Cycle | AS5: Exhaust Kmols | AT5: NOx PPM
B6: Vol Effic (%) | C6: 0.4 | F6: Carbon (x) | G6: 8 | K6: Nitrogen | L6: 14.007 | N6: 10 | O6: 1 | P6: 5065 | Q6: 2241.8501 | R6: =(((10^5*($C$4*$C$6)*10^-6)/($C$8*$C$7))) -> 6.5681391e-06 | S6: =R6/(O6*$G$11*((V6/2)+3.76)) -> 1.3974764e-07 | T6: =(O6*$G$12*$AC$28) -> 8 | U6: =O6*$G$13*$AC$28 -> 9 | V6: =(($G$15/2)*(1-O6)*$AC$28) -> 0 | W6: =$G$14*$AC$28 -> 47.0238 | X6: =((V6*S6)/($C$5*10^-6)) -> 0 | Y6: =((W6*S6)/($C$5*10^-6)) -> 0.16428663 | Z6: =((4.7*10^13*Y6*(X6^0.5)*EXP($C$11/Q6))/($C$15))*$C$5*10^-6 -> 0 | AA6: =SUM($AB$105:$AB$120) -> 4.1987252e-07 | AB6: =S6*(T6+U6+V6+W6) -> 8.947175e-06 | AC6: =(AA6/AB6)*10^6 -> 46927.943 | AE6: 10 | AF6: 1 | AG6: 5065 | AH6: 2159.6087 | AI6: =(((10^5*($C$4*$C$6)*10^-6)/($C$8*$C$7))) -> 6.5681391e-06 | AJ6: =AI6/(AF6*$G$11*((AM6/2)+3.76)) -> 1.3974764e-07 | AK6: =(AF6*$G$12*AF3) -> 8.8 | AL6: =AF6*$G$13*$AC$28 -> 9 | AM6: =(($G$15/2)*(1-AF6)*$AC$28) -> 0 | AN6: =$G$14*$AC$28 -> 47.0238 | AO6: =((AM6*AJ6)/($C$5*10^-6)) -> 0 | AP6: =((AN6*AJ6)/($C$5*10^-6)) -> 0.16428663 | AQ6: =((4.7*10^13*AP6*(AO6^0.5)*EXP($C$11/AH6))/($C$15))*$C$5*10^-6 -> 0 | AR6: =SUM($AB$83:$AB$98) -> 3.3546039e-07 | AS6: =AJ6*(AK6+AL6+AM6+AN6) -> 9.0589731e-06 | AT6: =(AR6/AS6)*10^6 -> 37030.73
B7: temp (K) | C7: =20+273 -> 293 | F7: Hdrogen(Y) | G7: 18 | K7: % of N2 in Air | L7: 3.761904 | N7: 10 | O7: 0.99 | P7: 5011.758 | Q7: 2229.4861 | R7: =(((10^5*($C$4*$C$6)*10^-6)/($C$8*$C$7))) -> 6.5681391e-06 | S7: =R7/(O7*$G$11*((V7/2)+3.76)) -> 1.388512e-07 | T7: =(O7*$G$12*$AC$28) -> 7.92 | U7: =O7*$G$13*$AC$28 -> 8.91 | V7: =(($G$15/2)*(1-O7)*$AC$28) -> 0.125 | W7: =$G$14*$AC$28 -> 47.0238 | X7: =((V7*S7)/($C$5*10^-6)) -> 0.00043391 | Y7: =((W7*S7)/($C$5*10^-6)) -> 0.16323278 | Z7: =((4.7*10^13*Y7*(X7^0.5)*EXP($C$11/Q7))/($C$15))*$C$5*10^-6 -> 3.6131011e-11 | AA7: =SUM($AB$105:$AB$120) -> 4.1987252e-07 | AB7: =S7*(T7+U7+V7+W7) -> 8.8835332e-06 | AC7: =(AA7/AB7)*10^6 -> 47264.135 | AE7: 10 | AF7: 0.99 | AG7: 5011.758 | AH7: 2373.8991 | AI7: =(((10^5*($C$4*$C$6)*10^-6)/($C$8*$C$7))) -> 6.5681391e-06 | AJ7: =AI7/(AF7*$G$11*((AM7/2)+3.76)) -> 1.388512e-07 | AK7: =(AF7*$G$12*$AC$28) -> 7.92 | AL7: =AF7*$G$13*$AC$28 -> 8.91 | AM7: =(($G$15/2)*(1-AF7)*$AC$28) -> 0.125 | AN7: =$G$14*$AC$28 -> 47.0238 | AO7: =((AM7*AJ7)/($C$5*10^-6)) -> 0.00043391 | AP7: =((AN7*AJ7)/($C$5*10^-6)) -> 0.16323278 | AQ7: =((4.7*10^13*AP7*(AO7^0.5)*EXP($C$11/AH7))/($C$15))*$C$5*10^-6 -> 2.3001602e-10 | AR7: =SUM($AB$83:$AB$98) -> 3.3546039e-07 | AS7: =AJ7*(AK7+AL7+AM7+AN7) -> 8.8835332e-06 | AT7: =(AR7/AS7)*10^6 -> 37762.046
B8: R | C8: 8314 | F8: oxengen | G8: 0 | K8: kmols per kg | L8: 32 | N8: 10 | O8: 0.98 | P8: 4958.516 | Q8: 2217.0174 | R8: =(((10^5*($C$4*$C$6)*10^-6)/($C$8*$C$7))) -> 6.5681391e-06 | S8: =R8/(O8*$G$11*((V8/2)+3.76)) -> 1.3801149e-07 | T8: =(O8*$G$12*$AC$28) -> 7.84 | U8: =O8*$G$13*$AC$28 -> 8.82 | V8: =(($G$15/2)*(1-O8)*$AC$28) -> 0.25 | W8: =$G$14*$AC$28 -> 47.0238 | X8: =((V8*S8)/($C$5*10^-6)) -> 0.00086257178 | Y8: =((W8*S8)/($C$5*10^-6)) -> 0.16224561 | Z8: =((4.7*10^13*Y8*(X8^0.5)*EXP($C$11/Q8))/($C$15))*$C$5*10^-6 -> 4.2670209e-11 | AA8: =SUM($AB$105:$AB$120) -> 4.1987252e-07 | AB8: =S8*(T8+U8+V8+W8) -> 8.8235987e-06 | AC8: =(AA8/AB8)*10^6 -> 47585.178 | AE8: 10 | AF8: 0.98 | AG8: 4958.516 | AH8: 2357.4217 | AI8: =(((10^5*($C$4*$C$6)*10^-6)/($C$8*$C$7))) -> 6.5681391e-06 | AJ8: =AI8/(AF8*$G$11*((AM8/2)+3.76)) -> 1.3801149e-07 | AK8: =(AF8*$G$12*$AC$28) -> 7.84 | AL8: =AF8*$G$13*$AC$28 -> 8.82 | AM8: =(($G$15/2)*(1-AF8)*$AC$28) -> 0.25 | AN8: =$G$14*$AC$28 -> 47.0238 | AO8: =((AM8*AJ8)/($C$5*10^-6)) -> 0.00086257178 | AP8: =((AN8*AJ8)/($C$5*10^-6)) -> 0.16224561 | AQ8: =((4.7*10^13*AP8*(AO8^0.5)*EXP($C$11/AH8))/($C$15))*$C$5*10^-6 -> 2.6398402e-10 | AR8: =SUM($AB$83:$AB$98) -> 3.3546039e-07 | AS8: =AJ8*(AK8+AL8+AM8+AN8) -> 8.8235987e-06 | AT8: =(AR8/AS8)*10^6 -> 38018.546
B9: inlet P | C9: =1*10^5 -> 100000 | N9: 10 | O9: 0.97 | P9: 4905.274 | Q9: 2204.4421 | R9: =(((10^5*($C$4*$C$6)*10^-6)/($C$8*$C$7))) -> 6.5681391e-06 | S9: =R9/(O9*$G$11*((V9/2)+3.76)) -> 1.3722665e-07 | T9: =(O9*$G$12*$AC$28) -> 7.76 | U9: =O9*$G$13*$AC$28 -> 8.73 | V9: =(($G$15/2)*(1-O9)*$AC$28) -> 0.375 | W9: =$G$14*$AC$28 -> 47.0238 | X9: =((V9*S9)/($C$5*10^-6)) -> 0.0012864998 | Y9: =((W9*S9)/($C$5*10^-6)) -> 0.16132296 | Z9: =((4.7*10^13*Y9*(X9^0.5)*EXP($C$11/Q9))/($C$15))*$C$5*10^-6 -> 4.3516078e-11 | AA9: =SUM($AB$105:$AB$120) -> 4.1987252e-07 | AB9: =S9*(T9+U9+V9+W9) -> 8.7672459e-06 | AC9: =(AA9/AB9)*10^6 -> 47891.039 | AE9: 10 | AF9: 0.97 | AG9: 4905.274 | AH9: 2340.8652 | AI9: =(((10^5*($C$4*$C$6)*10^-6)/($C$8*$C$7))) -> 6.5681391e-06 | AJ9: =AI9/(AF9*$G$11*((AM9/2)+3.76)) -> 1.3722665e-07 | AK9: =(AF9*$G$12*$AC$28) -> 7.76 | AL9: =AF9*$G$13*$AC$28 -> 8.73 | AM9: =(($G$15/2)*(1-AF9)*$AC$28) -> 0.375 | AN9: =$G$14*$AC$28 -> 47.0238 | AO9: =((AM9*AJ9)/($C$5*10^-6)) -> 0.0012864998 | AP9: =((AN9*AJ9)/($C$5*10^-6)) -> 0.16132296 | AQ9: =((4.7*10^13*AP9*(AO9^0.5)*EXP($C$11/AH9))/($C$15))*$C$5*10^-6 -> 2.6152743e-10 | AR9: =SUM($AB$83:$AB$98) -> 3.3546039e-07 | AS9: =AJ9*(AK9+AL9+AM9+AN9) -> 8.7672459e-06 | AT9: =(AR9/AS9)*10^6 -> 38262.916
B10: ZAB | C10: =4.7*10^13 -> 47000000000000 | F10: Molecular compound | K10: Compund | L10: Enthalpy of combustion | N10: 10 | O10: 0.96 | P10: 4852.032 | Q10: 2191.7583 | R10: =(((10^5*($C$4*$C$6)*10^-6)/($C$8*$C$7))) -> 6.5681391e-06 | S10: =R10/(O10*$G$11*((V10/2)+3.76)) -> 1.3649499e-07 | T10: =(O10*$G$12*$AC$28) -> 7.68 | U10: =O10*$G$13*$AC$28 -> 8.64 | V10: =(($G$15/2)*(1-O10)*$AC$28) -> 0.5 | W10: =$G$14*$AC$28 -> 47.0238 | X10: =((V10*S10)/($C$5*10^-6)) -> 0.0017061874 | Y10: =((W10*S10)/($C$5*10^-6)) -> 0.16046283 | Z10: =((4.7*10^13*Y10*(X10^0.5)*EXP($C$11/Q10))/($C$15))*$C$5*10^-6 -> 4.1715327e-11 | AA10: =SUM($AB$105:$AB$120) -> 4.1987252e-07 | AB10: =S10*(T10+U10+V10+W10) -> 8.7143591e-06 | AC10: =(AA10/AB10)*10^6 -> 48181.686 | AE10: 10 | AF10: 0.96 | AG10: 4852.032 | AH10: 2324.2345 | AI10: =(((10^5*($C$4*$C$6)*10^-6)/($C$8*$C$7))) -> 6.5681391e-06 | AJ10: =AI10/(AF10*$G$11*((AM10/2)+3.76)) -> 1.3649499e-07 | AK10: =(AF10*$G$12*$AC$28) -> 7.68 | AL10: =AF10*$G$13*$AC$28 -> 8.64 | AM10: =(($G$15/2)*(1-AF10)*$AC$28) -> 0.5 | AN10: =$G$14*$AC$28 -> 47.0238 | AO10: =((AM10*AJ10)/($C$5*10^-6)) -> 0.0017061874 | AP10: =((AN10*AJ10)/($C$5*10^-6)) -> 0.16046283 | AQ10: =((4.7*10^13*AP10*(AO10^0.5)*EXP($C$11/AH10))/($C$15))*$C$5*10^-6 -> 2.4347235e-10 | AR10: =SUM($AB$83:$AB$98) -> 3.3546039e-07 | AS10: =AJ10*(AK10+AL10+AM10+AN10) -> 8.7143591e-06 | AT10: =(AR10/AS10)*10^6 -> 38495.131
B11: EA | C11: -67837 | F11: A | G11: =(G15/2) -> 12.5 | K11: iso-octane (Kj/mol) | L11: 259.2 | N11: 10 | O11: 0.95 | P11: 4798.79 | Q11: 2178.964 | R11: =(((10^5*($C$4*$C$6)*10^-6)/($C$8*$C$7))) -> 6.5681391e-06 | S11: =R11/(O11*$G$11*((V11/2)+3.76)) -> 1.3581497e-07 | T11: =(O11*$G$12*$AC$28) -> 7.6 | U11: =O11*$G$13*$AC$28 -> 8.55 | V11: =(($G$15/2)*(1-O11)*$AC$28) -> 0.625 | W11: =$G$14*$AC$28 -> 47.0238 | X11: =((V11*S11)/($C$5*10^-6)) -> 0.0021221089 | Y11: =((W11*S11)/($C$5*10^-6)) -> 0.1596634 | Z11: =((4.7*10^13*Y11*(X11^0.5)*EXP($C$11/Q11))/($C$15))*$C$5*10^-6 -> 3.859848e-11 | AA11: =SUM($AB$105:$AB$120) -> 4.1987252e-07 | AB11: =S11*(T11+U11+V11+W11) -> 8.6648319e-06 | AC11: =(AA11/AB11)*10^6 -> 48457.087 | AE11: 10 | AF11: 0.95 | AG11: 4798.79 | AH11: 2307.5237 | AI11: =(((10^5*($C$4*$C$6)*10^-6)/($C$8*$C$7))) -> 6.5681391e-06 | AJ11: =AI11/(AF11*$G$11*((AM11/2)+3.76)) -> 1.3581497e-07 | AK11: =(AF11*$G$12*$AC$28) -> 7.6 | AL11: =AF11*$G$13*$AC$28 -> 8.55 | AM11: =(($G$15/2)*(1-AF11)*$AC$28) -> 0.625 | AN11: =$G$14*$AC$28 -> 47.0238 | AO11: =((AM11*AJ11)/($C$5*10^-6)) -> 0.0021221089 | AP11: =((AN11*AJ11)/($C$5*10^-6)) -> 0.1596634 | AQ11: =((4.7*10^13*AP11*(AO11^0.5)*EXP($C$11/AH11))/($C$15))*$C$5*10^-6 -> 2.1870344e-10 | AR11: =SUM($AB$83:$AB$98) -> 3.3546039e-07 | AS11: =AJ11*(AK11+AL11+AM11+AN11) -> 8.6648319e-06 | AT11: =(AR11/AS11)*10^6 -> 38715.164
B12: No of mol's drawn in at a sprcific Vc | C12: =(((10^5*($C$4*$C$6)*10^-6)/($C$8*$C$7))) -> 6.5681391e-06 | F12: CO2 | G12: =G6 -> 8 | K12: CO2 (Kj/mol) | L12: 393.5 | N12: 10 | O12: 0.9 | P12: 4532.58 | Q12: 2113.2641 | R12: =(((10^5*($C$4*$C$6)*10^-6)/($C$8*$C$7))) -> 6.5681391e-06 | S12: =R12/(O12*$G$11*((V12/2)+3.76)) -> 1.3314358e-07 | T12: =(O12*$G$12*$AC$28) -> 7.2 | U12: =O12*$G$13*$AC$28 -> 8.1 | V12: =(($G$15/2)*(1-O12)*$AC$28) -> 1.25 | W12: =$G$14*$AC$28 -> 47.0238 | X12: =((V12*S12)/($C$5*10^-6)) -> 0.0041607368 | Y12: =((W12*S12)/($C$5*10^-6)) -> 0.15652292 | Z12: =((4.7*10^13*Y12*(X12^0.5)*EXP($C$11/Q12))/($C$15))*$C$5*10^-6 -> 2.012764e-11 | AA12: =SUM($AB$105:$AB$120) -> 4.1987252e-07 | AB12: =S12*(T12+U12+V12+W12) -> 8.4644432e-06 | AC12: =(AA12/AB12)*10^6 -> 49604.269 | AE12: 10 | AF12: 0.9 | AG12: 4532.58 | AH12: 2222.6845 | AI12: =(((10^5*($C$4*$C$6)*10^-6)/($C$8*$C$7))) -> 6.5681391e-06 | AJ12: =AI12/(AF12*$G$11*((AM12/2)+3.76)) -> 1.3314358e-07 | AK12: =(AF12*$G$12*$AC$28) -> 7.2 | AL12: =AF12*$G$13*$AC$28 -> 8.1 | AM12: =(($G$15/2)*(1-AF12)*$AC$28) -> 1.25 | AN12: =$G$14*$AC$28 -> 47.0238 | AO12: =((AM12*AJ12)/($C$5*10^-6)) -> 0.0041607368 | AP12: =((AN12*AJ12)/($C$5*10^-6)) -> 0.15652292 | AQ12: =((4.7*10^13*AP12*(AO12^0.5)*EXP($C$11/AH12))/($C$15))*$C$5*10^-6 -> 9.7745904e-11 | AR12: =SUM($AB$83:$AB$98) -> 3.3546039e-07 | AS12: =AJ12*(AK12+AL12+AM12+AN12) -> 8.4644432e-06 | AT12: =(AR12/AS12)*10^6 -> 39631.714
B13: (n) Polytropic intex | C13: 1.17 | F13: H2O | G13: =(G7/2) -> 9 | K13: H2O (Gas) (Kj/mol) | L13: 241.8 | N13: 10 | O13: 0.85 | P13: 4266.37 | Q13: 2044.4902 | R13: =(((10^5*($C$4*$C$6)*10^-6)/($C$8*$C$7))) -> 6.5681391e-06 | S13: =R13/(O13*$G$11*((V13/2)+3.76)) -> 1.3159719e-07 | T13: =(O13*$G$12*$AC$28) -> 6.8 | U13: =O13*$G$13*$AC$28 -> 7.65 | V13: =(($G$15/2)*(1-O13)*$AC$28) -> 1.875 | W13: =$G$14*$AC$28 -> 47.0238 | X13: =((V13*S13)/($C$5*10^-6)) -> 0.0061686183 | Y13: =((W13*S13)/($C$5*10^-6)) -> 0.154705 | Z13: =((4.7*10^13*Y13*(X13^0.5)*EXP($C$11/Q13))/($C$15))*$C$5*10^-6 -> 8.2275072e-12 | AA13: =SUM($AB$105:$AB$120) -> 4.1987252e-07 | AB13: =S13*(T13+U13+V13+W13) -> 8.336524e-06 | AC13: =(AA13/AB13)*10^6 -> 50365.418 | AE13: 10 | AF13: 0.85 | AG13: 4266.37 | AH13: 2135.4958 | AI13: =(((10^5*($C$4*$C$6)*10^-6)/($C$8*$C$7))) -> 6.5681391e-06 | AJ13: =AI13/(AF13*$G$11*((AM13/2)+3.76)) -> 1.3159719e-07 | AK13: =(AF13*$G$12*$AC$28) -> 6.8 | AL13: =AF13*$G$13*$AC$28 -> 7.65 | AM13: =(($G$15/2)*(1-AF13)*$AC$28) -> 1.875 | AN13: =$G$14*$AC$28 -> 47.0238 | AO13: =((AM13*AJ13)/($C$5*10^-6)) -> 0.0061686183 | AP13: =((AN13*AJ13)/($C$5*10^-6)) -> 0.154705 | AQ13: =((4.7*10^13*AP13*(AO13^0.5)*EXP($C$11/AH13))/($C$15))*$C$5*10^-6 -> 3.3834729e-11 | AR13: =SUM($AB$83:$AB$98) -> 3.3546039e-07 | AS13: =AJ13*(AK13+AL13+AM13+AN13) -> 8.336524e-06 | AT13: =(AR13/AS13)*10^6 -> 40239.84
B14: RPM | C14: 1800 | F14: N2 | G14: =G11*L7 -> 47.0238 | K14: H2O (Liquid) (Kj/mol) | L14: 285.8 | N14: 10 | O14: 0.8 | P14: 4000.16 | Q14: 1972.3703 | R14: =(((10^5*($C$4*$C$6)*10^-6)/($C$8*$C$7))) -> 6.5681391e-06 | S14: =R14/(O14*$G$11*((V14/2)+3.76)) -> 1.3110058e-07 | T14: =(O14*$G$12*$AC$28) -> 6.4 | U14: =O14*$G$13*$AC$28 -> 7.2 | V14: =(($G$15/2)*(1-O14)*$AC$28) -> 2.5 | W14: =$G$14*$AC$28 -> 47.0238 | X14: =((V14*S14)/($C$5*10^-6)) -> 0.0081937863 | Y14: =((W14*S14)/($C$5*10^-6)) -> 0.15412119 | Z14: =((4.7*10^13*Y14*(X14^0.5)*EXP($C$11/Q14))/($C$15))*$C$5*10^-6 -> 2.8078223e-12 | AA14: =SUM($AB$105:$AB$120) -> 4.1987252e-07 | AB14: =S14*(T14+U14+V14+W14) -> 8.2755669e-06 | AC14: =(AA14/AB14)*10^6 -> 50736.406 | AE14: 10 | AF14: 0.8 | AG14: 4000.16 | AH14: 2045.6734 | AI14: =(((10^5*($C$4*$C$6)*10^-6)/($C$8*$C$7))) -> 6.5681391e-06 | AJ14: =AI14/(AF14*$G$11*((AM14/2)+3.76)) -> 1.3110058e-07 | AK14: =(AF14*$G$12*$AC$28) -> 6.4 | AL14: =AF14*$G$13*$AC$28 -> 7.2 | AM14: =(($G$15/2)*(1-AF14)*$AC$28) -> 2.5 | AN14: =$G$14*$AC$28 -> 47.0238 | AO14: =((AM14*AJ14)/($C$5*10^-6)) -> 0.0081937863 | AP14: =((AN14*AJ14)/($C$5*10^-6)) -> 0.15412119 | AQ14: =((4.7*10^13*AP14*(AO14^0.5)*EXP($C$11/AH14))/($C$15))*$C$5*10^-6 -> 9.6296245e-12 | AR14: =SUM($AB$83:$AB$98) -> 3.3546039e-07 | AS14: =AJ14*(AK14+AL14+AM14+AN14) -> 8.2755669e-06 | AT14: =(AR14/AS14)*10^6 -> 40536.243
B15: RPM | C15: =1800*(360/60) -> 10800 | F15: O | G15: =(2*G12)+G13 -> 25 | N15: 10 | O15: 0.75 | P15: 3733.95 | Q15: 1896.6299 | R15: =(((10^5*($C$4*$C$6)*10^-6)/($C$8*$C$7))) -> 6.5681391e-06 | S15: =R15/(O15*$G$11*((V15/2)+3.76)) -> 1.3163016e-07 | T15: =(O15*$G$12*$AC$28) -> 6 | U15: =O15*$G$13*$AC$28 -> 6.75 | V15: =(($G$15/2)*(1-O15)*$AC$28) -> 3.125 | W15: =$G$14*$AC$28 -> 47.0238 | X15: =((V15*S15)/($C$5*10^-6)) -> 0.010283606 | Y15: =((W15*S15)/($C$5*10^-6)) -> 0.15474375 | Z15: =((4.7*10^13*Y15*(X15^0.5)*EXP($C$11/Q15))/($C$15))*$C$5*10^-6 -> 7.9975081e-13 | AA15: =SUM($AB$105:$AB$120) -> 4.1987252e-07 | AB15: =S15*(T15+U15+V15+W15) -> 8.2793788e-06 | AC15: =(AA15/AB15)*10^6 -> 50713.046 | AE15: 10 | AF15: 0.75 | AG15: 3733.95 | AH15: 1952.9587 | AI15: =(((10^5*($C$4*$C$6)*10^-6)/($C$8*$C$7))) -> 6.5681391e-06 | AJ15: =AI15/(AF15*$G$11*((AM15/2)+3.76)) -> 1.3163016e-07 | AK15: =(AF15*$G$12*$AC$28) -> 6 | AL15: =AF15*$G$13*$AC$28 -> 6.75 | AM15: =(($G$15/2)*(1-AF15)*$AC$28) -> 3.125 | AN15: =$G$14*$AC$28 -> 47.0238 | AO15: =((AM15*AJ15)/($C$5*10^-6)) -> 0.010283606 | AP15: =((AN15*AJ15)/($C$5*10^-6)) -> 0.15474375 | AQ15: =((4.7*10^13*AP15*(AO15^0.5)*EXP($C$11/AH15))/($C$15))*$C$5*10^-6 -> 2.2437961e-12 | AR15: =SUM($AB$83:$AB$98) -> 3.3546039e-07 | AS15: =AJ15*(AK15+AL15+AM15+AN15) -> 8.2793788e-06 | AT15: =(AR15/AS15)*10^6 -> 40517.58
J16: iso octane at 1 ϕ | N16: 10 | O16: 0.7 | P16: 3467.74 | Q16: 1817.0066 | R16: =(((10^5*($C$4*$C$6)*10^-6)/($C$8*$C$7))) -> 6.5681391e-06 | S16: =R16/(O16*$G$11*((V16/2)+3.76)) -> 1.3321109e-07 | T16: =(O16*$G$12*$AC$28) -> 5.6 | U16: =O16*$G$13*$AC$28 -> 6.3 | V16: =(($G$15/2)*(1-O16)*$AC$28) -> 3.75 | W16: =$G$14*$AC$28 -> 47.0238 | X16: =((V16*S16)/($C$5*10^-6)) -> 0.012488539 | Y16: =((W16*S16)/($C$5*10^-6)) -> 0.15660229 | Z16: =((4.7*10^13*Y16*(X16^0.5)*EXP($C$11/Q16))/($C$15))*$C$5*10^-6 -> 1.8604968e-13 | AA16: =SUM($AB$105:$AB$120) -> 4.1987252e-07 | AB16: =S16*(T16+U16+V16+W16) -> 8.348845e-06 | AC16: =(AA16/AB16)*10^6 -> 50291.09 | AE16: 10 | AF16: 0.7 | AG16: 3467.74 | AH16: 1857.1459 | AI16: =(((10^5*($C$4*$C$6)*10^-6)/($C$8*$C$7))) -> 6.5681391e-06 | AJ16: =AI16/(AF16*$G$11*((AM16/2)+3.76)) -> 1.3321109e-07 | AK16: =(AF16*$G$12*$AC$28) -> 5.6 | AL16: =AF16*$G$13*$AC$28 -> 6.3 | AM16: =(($G$15/2)*(1-AF16)*$AC$28) -> 3.75 | AN16: =$G$14*$AC$28 -> 47.0238 | AO16: =((AM16*AJ16)/($C$5*10^-6)) -> 0.012488539 | AP16: =((AN16*AJ16)/($C$5*10^-6)) -> 0.15660229 | AQ16: =((4.7*10^13*AP16*(AO16^0.5)*EXP($C$11/AH16))/($C$15))*$C$5*10^-6 -> 4.1693883e-13 | AR16: =SUM($AB$83:$AB$98) -> 3.3546039e-07 | AS16: =AJ16*(AK16+AL16+AM16+AN16) -> 8.348845e-06 | AT16: =(AR16/AS16)*10^6 -> 40180.455
F17: Masses | J17: (8ϕ x Poly CO2 )+ (9ϕ x Poly H20) + (A(1-ϕ) Poly O2) + (47 N2) | N17: 10 | O17: 0.65 | P17: 3201.53 | Q17: 1733.2711 | R17: =(((10^5*($C$4*$C$6)*10^-6)/($C$8*$C$7))) -> 6.5681391e-06 | S17: =R17/(O17*$G$11*((V17/2)+3.76)) -> 1.3592036e-07 | T17: =(O17*$G$12*$AC$28) -> 5.2 | U17: =O17*$G$13*$AC$28 -> 5.85 | V17: =(($G$15/2)*(1-O17)*$AC$28) -> 4.375 | W17: =$G$14*$AC$28 -> 47.0238 | X17: =((V17*S17)/($C$5*10^-6)) -> 0.01486629 | Y17: =((W17*S17)/($C$5*10^-6)) -> 0.1597873 | Z17: =((4.7*10^13*Y17*(X17^0.5)*EXP($C$11/Q17))/($C$15))*$C$5*10^-6 -> 3.4111525e-14 | AA17: =SUM($AB$105:$AB$120) -> 4.1987252e-07 | AB17: =S17*(T17+U17+V17+W17) -> 8.4880635e-06 | AC17: =(AA17/AB17)*10^6 -> 49466.232 | AE17: 10 | AF17: 0.65 | AG17: 3201.53 | AH17: 1758.1155 | AI17: =(((10^5*($C$4*$C$6)*10^-6)/($C$8*$C$7))) -> 6.5681391e-06 | AJ17: =AI17/(AF17*$G$11*((AM17/2)+3.76)) -> 1.3592036e-07 | AK17: =(AF17*$G$12*$AC$28) -> 5.2 | AL17: =AF17*$G$13*$AC$28 -> 5.85 | AM17: =(($G$15/2)*(1-AF17)*$AC$28) -> 4.375 | AN17: =$G$14*$AC$28 -> 47.0238 | AO17: =((AM17*AJ17)/($C$5*10^-6)) -> 0.01486629 | AP17: =((AN17*AJ17)/($C$5*10^-6)) -> 0.1597873 | AQ17: =((4.7*10^13*AP17*(AO17^0.5)*EXP($C$11/AH17))/($C$15))*$C$5*10^-6 -> 5.9305824e-14 | AR17: =SUM($AB$83:$AB$98) -> 3.3546039e-07 | AS17: =AJ17*(AK17+AL17+AM17+AN17) -> 8.4880635e-06 | AT17: =(AR17/AS17)*10^6 -> 39521.428
N18: 10 | O18: 0.6 | P18: 2935.32 | Q18: 1645.2519 | R18: =(((10^5*($C$4*$C$6)*10^-6)/($C$8*$C$7))) -> 6.5681391e-06 | S18: =R18/(O18*$G$11*((V18/2)+3.76)) -> 1.3989647e-07 | T18: =(O18*$G$12*$AC$28) -> 4.8 | U18: =O18*$G$13*$AC$28 -> 5.4 | V18: =(($G$15/2)*(1-O18)*$AC$28) -> 5 | W18: =$G$14*$AC$28 -> 47.0238 | X18: =((V18*S18)/($C$5*10^-6)) -> 0.017487058 | Y18: =((W18*S18)/($C$5*10^-6)) -> 0.16446159 | Z18: =((4.7*10^13*Y18*(X18^0.5)*EXP($C$11/Q18))/($C$15))*$C$5*10^-6 -> 4.6917366e-15 | AA18: =SUM($AB$105:$AB$120) -> 4.1987252e-07 | AB18: =S18*(T18+U18+V18+W18) -> 8.7048898e-06 | AC18: =(AA18/AB18)*10^6 -> 48234.099 | AE18: 10 | AF18: 0.6 | AG18: 2935.32 | AH18: 1655.8693 | AI18: =(((10^5*($C$4*$C$6)*10^-6)/($C$8*$C$7))) -> 6.5681391e-06 | AJ18: =AI18/(AF18*$G$11*((AM18/2)+3.76)) -> 1.3989647e-07 | AK18: =(AF18*$G$12*$AC$28) -> 4.8 | AL18: =AF18*$G$13*$AC$28 -> 5.4 | AM18: =(($G$15/2)*(1-AF18)*$AC$28) -> 5 | AN18: =$G$14*$AC$28 -> 47.0238 | AO18: =((AM18*AJ18)/($C$5*10^-6)) -> 0.017487058 | AP18: =((AN18*AJ18)/($C$5*10^-6)) -> 0.16446159 | AQ18: =((4.7*10^13*AP18*(AO18^0.5)*EXP($C$11/AH18))/($C$15))*$C$5*10^-6 -> 6.1115523e-15 | AR18: =SUM($AB$83:$AB$98) -> 3.3546039e-07 | AS18: =AJ18*(AK18+AL18+AM18+AN18) -> 8.7048898e-06 | AT18: =(AR18/AS18)*10^6 -> 38537.006
F19: Mass of Air | G19: =G11*((2*L5)+(L7*2*L6)) -> 1717.2997 | I19: Eq Ratio | J19: 0.6
F21: Mass of Fuel | G21: =(G6*L3)+(G7*L4) -> 114.232
I22: Goal Seek
F24: AFR | G24: =G19/G21 -> 15.033438 | I24: Flame Temprature | K24: 1645.2519
B26: Enthalpy | D26: Enthalpy With H2O as Liquid | I26: Polynomial | K26: =(T6*J19*( 8.5770134353E-19*K24^6 - 1.0374875556E-14*K24^5 + 4.9689475953E-11*K24^4 - 0.00000012019118054*K24^3 + 0.00015650954893*K24^2 - 0.048239362033*K24 + 5.2084519626) + (U6*J19*(6.6506859177E-19*K24^6 - 7.8984343104E-15*K24^5 + 3.6879849877E-11*K24^4 - 0.000000086386228559*K24^3 + 0.00011074017861*K24^2 - 0.031241611608*K24 + 3.3006694533) + (V6*(1-J19)*(5.9376621671E-19*K24^6 - 7.1020711589E-15*K24^5 + 3.3460896805E-11*K24^4 - 0.000000078909601634*K24^3 + 0.000098599769212*K24^2 - 0.028172899156*K24 + 3.05378908) + (W6*(6.4958291549E-19*K24^6 - 7.8224528491E-15*K24^5 + 3.7120417697E-11*K24^4 - 0.00000008798317617*K24^3 + 0.00010982327235*K24^2 - 0.032606444641*K24 + 3.5786489003))))) -> 2795.5429
F27: Energy output per mol burnt (H2O Gas) | G27: =C30-B30 -> 5065
B28: Product Energy (MJ) | C28: Reaction Engery (MJ) | D28: Reaction Engery (MJ) | AB28: EGR | AC28: 1
F29: Energy output per mol burnt (H20 Liquid) | G29: =D30-B30 -> 5461 | I29: % of EGR | J29: EGR | K29: PPM | L29: % Reduction in Nox Per EGR
B30: =L11 -> 259.2 | C30: =((($G$12*$L$12)+($G$13*$L$13)+($G$14*0))) -> 5324.2 | D30: =(((G12*L12)+(G13*L14)+(G14*0))) -> 5720.2 | I30: 0 | J30: 1 | K30: 28927.832 | L30: 0
I31: 0.05 | J31: 1.05 | K31: 7948.5857 | L31: =((K30-K31)/K30)*100 -> 72.522705
F32: mass of fuel per Kmol (Kg) | G32: =(G6*L3)+(G7*L4) -> 114.232 | I32: 0.1 | J32: 1.1 | K32: 3203.5798 | L32: =((K31-K32)/K31)*100 -> 59.696229
I33: 0.15 | J33: 1.15 | K33: 1303.8481 | L33: =((K32-K33)/K32)*100 -> 59.300277
I34: 0.2 | J34: 1.2 | K34: 535.33838 | L34: =((K33-K34)/K33)*100 -> 58.94166
F35: LHV | G35: =G27/G32 -> 44.33959
I36: EGR | J36: (n1) CO2 | K36: (n2) H2O | L36: (n3) O2 | M36: (n4) N2 | Y36: Phi | AA36: 1 | AP36: Phi | AR36: 0.9
F37: HHV | G37: =G29/G32 -> 47.806219 | I37: 0 | J37: 9 | K37: 8 | L37: 0 | M37: =$G$14*$AC$28 -> 47.0238
D38: Temp (k) | I38: 0.05 | J38: =($G$12*$D$52*1.05) -> 8.148 | K38: =($D$52*$G$13*1.05) -> 9.1665 | L38: =(($G$15/2)*(1-$D$52)*1.05) -> 0.39375 | M38: =$G$14*1.05 -> 49.37499 | Y38: Crank angle | Z38: Pressure (Bar) | AA38: Temp (k) | AB38: Nox (kmol/deg) | AC38: (n) no of kmols Drawn Per cycle | AD38: Alpha | AE38: (n1) CO2 | AF38: (n2) H2O | AG38: (n3) O2 | AH38: (n4) N2 | AI38: [O2] | AJ38: [N2] | AK38: sum of Nox Kmol/Cycle | AL38: Exhaust Kmols | AM38: NOx PPM | AP38: Crank angle | AQ38: Pressure (Bar) | AR38: Temp (k) | AS38: Nox (kmol/deg) | AT38: (n) no of kmols Drawn Per cycle | AU38: Alpha | AV38: (n1) CO2 | AW38: (n2) H2O | AX38: (n3) O2 | AY38: (n4) N2 | AZ38: [O2] | BA38: [N2] | BB38: sum of Nox Kmol/Cycle | BC38: Exhaust Kmols | BD38: NOx PPM
D39: 2390.3031 | I39: 0.1 | J39: =($G$12*$D$52*1.1) -> 8.536 | K39: =($D$52*$G$13*1.1) -> 9.603 | L39: =(($G$15/2)*(1-$D$52)*1.1) -> 0.4125 | M39: =$G$14*1.1 -> 51.72618 | Y39: 0 | Z39: 10 | AA39: 2390.3031 | AB39: =((4.7*10^13*AJ39*(AI39^0.5)*EXP($C$11/AA39))/($C$14*6))*$C$5*10^-6 -> 0 | AC39: =(((10^5*($C$4*$C$6)*10^-6)/($C$8*$C$7))) -> 6.5681391e-06 | AD39: =AC39/(AA$36*$G$11*((AG39/2)+3.76)) -> 1.3974764e-07 | AE39: =$G$12*$AA$36*$AC$28 -> 8 | AF39: =$G$13*$AA$36*$AC$28 -> 9 | AG39: =(($G$15/2)*(1-$AA$36)*$AC$28) -> 0 | AH39: =$G$14*$AC$28 -> 47.0238 | AI39: =((AG39*AD39)/($C$5*10^-6)) -> 0 | AJ39: =((AH39*AD39)/($C$5*10^-6)) -> 0.16428663 | AK39: =SUM($AB$39:$AB$54) -> 0 | AL39: =AD39*(AE39+AF39+AG39+AH39) -> 8.947175e-06 | AM39: =(AK39/AL39)*10^6 -> 0 | AP39: 0 | AQ39: 10 | AR39: 2390.3031 | AS39: =((4.7*10^13*BA39*(AZ39^0.5)*EXP($C$11/AR39))/($C$14*6))*$C$5*10^-6 -> 8.3096747e-10 | AT39: =(((10^5*($C$4*$C$6)*10^-6)/($C$8*$C$7))) -> 6.5681391e-06 | AU39: =AT39/(AR$36*$G$11*((AX39/2)+3.76)) -> 1.3314358e-07 | AV39: =$G$12*$AR$36*$AC$28 -> 7.2 | AW39: =$G$13*$AR$36*$AC$28 -> 8.1 | AX39: =(($G$15/2)*(1-$AR$36)*$AC$28) -> 1.25 | AY39: =$G$14*$AC$28 -> 47.0238 | AZ39: =((AX39*AU39)/($C$5*10^-6)) -> 0.0041607368 | BA39: =((AY39*AU39)/($C$5*10^-6)) -> 0.15652292 | BB39: =SUM($AS$39:$AS$54) -> 7.3262118e-07 | BC39: =AU39*(AV39+AW39+AX39+AY39) -> 8.4644432e-06 | BD39: =(BB39/BC39)*10^6 -> 86552.791
D40: 2220.9401 | F40: Mass of CO2 | G40: =(G12*(L3+(L5*2))) -> 352.072 | I40: 0.15 | J40: =$G$12*$D$52*1.15 -> 8.924 | K40: =$D$100*$G$13*1.15 -> 10.0395 | L40: =(($G$15/2)*(1-$D$52)*1.15) -> 0.43125 | M40: =$G$14*1.15 -> 54.07737 | Y40: 1 | Z40: =Z39+2 -> 12 | AA40: =(AA39*((Z40/Z39)^(($C$13-1)/$C$13))) -> 2454.4713 | AB40: =((4.7*10^13*AJ40*(AI40^0.5)*EXP($C$11/AA40))/($C$14*6))*$C$5*10^-6 -> 0 | AC40: =(((10^5*($C$4*$C$6)*10^-6)/($C$8*$C$7))) -> 6.5681391e-06 | AD40: =AC40/(AA$36*$G$11*((AG40/2)+3.76)) -> 1.3974764e-07 | AE40: =$G$12*$AA$36*$AC$28 -> 8 | AF40: =$G$13*$AA$36*$AC$28 -> 9 | AG40: =(($G$15/2)*(1-$AA$36)*$AC$28) -> 0 | AH40: =$G$14*$AC$28 -> 47.0238 | AI40: =((AG40*AD40)/($C$5*10^-6)) -> 0 | AJ40: =((AH40*AD40)/($C$5*10^-6)) -> 0.16428663 | AK40: =SUM($AB$39:$AB$54) -> 0 | AL40: =AD40*(AE40+AF40+AG40+AH40) -> 8.947175e-06 | AM40: =(AK40/AL40)*10^6 -> 0 | AP40: 1 | AQ40: =AQ39+2 -> 12 | AR40: =(AR39*((AQ40/AQ39)^(($C$13-1)/$C$13))) -> 2454.4713 | AS40: =((4.7*10^13*BA40*(AZ40^0.5)*EXP($C$11/AR40))/($C$14*6))*$C$5*10^-6 -> 1.7450547e-09 | AT40: =(((10^5*($C$4*$C$6)*10^-6)/($C$8*$C$7))) -> 6.5681391e-06 | AU40: =AT40/(AR$36*$G$11*((AX40/2)+3.76)) -> 1.3314358e-07 | AV40: =$G$12*$AR$36*$AC$28 -> 7.2 | AW40: =$G$13*$AR$36*$AC$28 -> 8.1 | AX40: =(($G$15/2)*(1-$AR$36)*$AC$28) -> 1.25 | AY40: =$G$14*$AC$28 -> 47.0238 | AZ40: =((AX40*AU40)/($C$5*10^-6)) -> 0.0041607368 | BA40: =((AY40*AU40)/($C$5*10^-6)) -> 0.15652292 | BB40: =SUM($AS$39:$AS$54) -> 7.3262118e-07 | BC40: =AU40*(AV40+AW40+AX40+AY40) -> 8.4644432e-06 | BD40: =(BB40/BC40)*10^6 -> 86552.791
D41: 2143.1461 | I41: 0.2 | J41: =$G$12*$D$52*1.2 -> 9.312 | K41: =$D$100*$G$13*1.2 -> 10.476 | L41: =(($G$15/2)*(1-$D$52)*1.2) -> 0.45 | M41: =$G$14*1.2 -> 56.42856 | Y41: 2 | Z41: =Z40+2 -> 14 | AA41: =(AA40*((Z41/Z40)^(($C$13-1)/$C$13))) -> 2510.0667 | AB41: =((4.7*10^13*AJ41*(AI41^0.5)*EXP($C$11/AA41))/($C$14*6))*$C$5*10^-6 -> 0 | AC41: =(((10^5*($C$4*$C$6)*10^-6)/($C$8*$C$7))) -> 6.5681391e-06 | AD41: =AC41/(AA$36*$G$11*((AG41/2)+3.76)) -> 1.3974764e-07 | AE41: =$G$12*$AA$36*$AC$28 -> 8 | AF41: =$G$13*$AA$36*$AC$28 -> 9 | AG41: =(($G$15/2)*(1-$AA$36)*$AC$28) -> 0 | AH41: =$G$14*$AC$28 -> 47.0238 | AI41: =((AG41*AD41)/($C$5*10^-6)) -> 0 | AJ41: =((AH41*AD41)/($C$5*10^-6)) -> 0.16428663 | AK41: =SUM($AB$39:$AB$54) -> 0 | AL41: =AD41*(AE41+AF41+AG41+AH41) -> 8.947175e-06 | AM41: =(AK41/AL41)*10^6 -> 0 | AP41: 2 | AQ41: =AQ40+2 -> 14 | AR41: =(AR40*((AQ41/AQ40)^(($C$13-1)/$C$13))) -> 2510.0667 | AS41: =((4.7*10^13*BA41*(AZ41^0.5)*EXP($C$11/AR41))/($C$14*6))*$C$5*10^-6 -> 3.2185875e-09 | AT41: =(((10^5*($C$4*$C$6)*10^-6)/($C$8*$C$7))) -> 6.5681391e-06 | AU41: =AT41/(AR$36*$G$11*((AX41/2)+3.76)) -> 1.3314358e-07 | AV41: =$G$12*$AR$36*$AC$28 -> 7.2 | AW41: =$G$13*$AR$36*$AC$28 -> 8.1 | AX41: =(($G$15/2)*(1-$AR$36)*$AC$28) -> 1.25 | AY41: =$G$14*$AC$28 -> 47.0238 | AZ41: =((AX41*AU41)/($C$5*10^-6)) -> 0.0041607368 | BA41: =((AY41*AU41)/($C$5*10^-6)) -> 0.15652292 | BB41: =SUM($AS$39:$AS$54) -> 7.3262118e-07 | BC41: =AU41*(AV41+AW41+AX41+AY41) -> 8.4644432e-06 | BD41: =(BB41/BC41)*10^6 -> 86552.791
