Workbook

Sheet Design Book Title
A1: GU-DD-001
A2: Issue 1
C5: Design Book
C10: HESH Example for course 2024 Beng
C15: Teamcentre Document Number | M15: Issue | P15: Date
C16: Insert TC document number here | P16: date issued

Sheet Requirements Set
A1: ACTIVITY SUMMARY
B4: Level 1 | C4: Originator | D4: Level 2 | E4: Requirement type (NSF v F)

Sheet Rationalised Req PW
C2: 1 | D2: 2 | E2: 3 | F2: 4 | G2: 5 | H2: 6 | I2: 7 | J2: 8 | K2: 9 | L2: 10 | M2: 11 | N2: 12 | O2: 13 | P2: 14 | Q2: 15 | R2: 16 | S2: 17 | T2: Calc | V2: Calc
B3: Pairwise comparison of requirements 1 = No Preference, Reciprocal = 1 2 = Slight Preference, Reciprocal = 0.5 5 = Preference, Reciprocal = 0.2 9 = Strong preference = 0.11 | T3: Row Product | U3: nth root of row product | V3: Total Normalised
A4: 1 | C4: 1 | T4: =+C4*D4*E4*F4*G4*H4*I4*J4*K4*L4*M4*N4*O4*P4*Q4*R4*S4 -> 0 | U4: =POWER(T4,1/17) -> 0 | V4: =+U4/$U$21*$V$21 -> #DIV/0!
A5: 2 | D5: 1 | T5: =+C5*D5*E5*F5*G5*H5*I5*J5*K5*L5*M5*N5*O5*P5*Q5*R5*S5 -> 0 | U5: =POWER(T5,1/17) -> 0 | V5: =+U5/$U$21*$V$21 -> #DIV/0!
A6: 3 | E6: 1 | T6: =+C6*D6*E6*F6*G6*H6*I6*J6*K6*L6*M6*N6*O6*P6*Q6*R6*S6 -> 0 | U6: =POWER(T6,1/17) -> 0 | V6: =+U6/$U$21*$V$21 -> #DIV/0!
A7: 4 | F7: 1 | T7: =+C7*D7*E7*F7*G7*H7*I7*J7*K7*L7*M7*N7*O7*P7*Q7*R7*S7 -> 0 | U7: =POWER(T7,1/17) -> 0 | V7: =+U7/$U$21*$V$21 -> #DIV/0!
A8: 5 | G8: 1 | T8: =+C8*D8*E8*F8*G8*H8*I8*J8*K8*L8*M8*N8*O8*P8*Q8*R8*S8 -> 0 | U8: =POWER(T8,1/17) -> 0 | V8: =+U8/$U$21*$V$21 -> #DIV/0!
A9: 6 | H9: 1 | T9: =+C9*D9*E9*F9*G9*H9*I9*J9*K9*L9*M9*N9*O9*P9*Q9*R9*S9 -> 0 | U9: =POWER(T9,1/17) -> 0 | V9: =+U9/$U$21*$V$21 -> #DIV/0!
A10: 7 | I10: 1 | T10: =+C10*D10*E10*F10*G10*H10*I10*J10*K10*L10*M10*N10*O10*P10*Q10*R10*S10 -> 0 | U10: =POWER(T10,1/17) -> 0 | V10: =+U10/$U$21*$V$21 -> #DIV/0!
A11: 8 | J11: 1 | T11: =+C11*D11*E11*F11*G11*H11*I11*J11*K11*L11*M11*N11*O11*P11*Q11*R11*S11 -> 0 | U11: =POWER(T11,1/17) -> 0 | V11: =+U11/$U$21*$V$21 -> #DIV/0!
A12: 9 | K12: 1 | T12: =+C12*D12*E12*F12*G12*H12*I12*J12*K12*L12*M12*N12*O12*P12*Q12*R12*S12 -> 0 | U12: =POWER(T12,1/17) -> 0 | V12: =+U12/$U$21*$V$21 -> #DIV/0!
A13: 10 | L13: 1 | T13: =+C13*D13*E13*F13*G13*H13*I13*J13*K13*L13*M13*N13*O13*P13*Q13*R13*S13 -> 0 | U13: =POWER(T13,1/17) -> 0 | V13: =+U13/$U$21*$V$21 -> #DIV/0!
A14: 11 | M14: 1 | T14: =+C14*D14*E14*F14*G14*H14*I14*J14*K14*L14*M14*N14*O14*P14*Q14*R14*S14 -> 0 | U14: =POWER(T14,1/17) -> 0 | V14: =+U14/$U$21*$V$21 -> #DIV/0!
A15: 12 | N15: 1 | T15: =+C15*D15*E15*F15*G15*H15*I15*J15*K15*L15*M15*N15*O15*P15*Q15*R15*S15 -> 0 | U15: =POWER(T15,1/17) -> 0 | V15: =+U15/$U$21*$V$21 -> #DIV/0!
A16: 13 | O16: 1 | T16: =+C16*D16*E16*F16*G16*H16*I16*J16*K16*L16*M16*N16*O16*P16*Q16*R16*S16 -> 0 | U16: =POWER(T16,1/17) -> 0 | V16: =+U16/$U$21*$V$21 -> #DIV/0!
A17: 14 | P17: 1 | T17: =+C17*D17*E17*F17*G17*H17*I17*J17*K17*L17*M17*N17*O17*P17*Q17*R17*S17 -> 0 | U17: =POWER(T17,1/17) -> 0 | V17: =+U17/$U$21*$V$21 -> #DIV/0!
A18: 15 | Q18: 1 | T18: =+C18*D18*E18*F18*G18*H18*I18*J18*K18*L18*M18*N18*O18*P18*Q18*R18*S18 -> 0 | U18: =POWER(T18,1/17) -> 0 | V18: =+U18/$U$21*$V$21 -> #DIV/0!
A19: 16 | R19: 1 | T19: =+C19*D19*E19*F19*G19*H19*I19*J19*K19*L19*M19*N19*O19*P19*Q19*R19*S19 -> 0 | U19: =POWER(T19,1/17) -> 0 | V19: =+U19/$U$21*$V$21 -> #DIV/0!
A20: 17 | S20: 1 | T20: =+C20*D20*E20*F20*G20*H20*I20*J20*K20*L20*M20*N20*O20*P20*Q20*R20*S20 -> 0 | U20: =POWER(T20,1/17) -> 0 | V20: =+U20/$U$21*$V$21 -> #DIV/0!
T21: =SUM(T4:T20) -> 0 | U21: =SUM(U4:U20) -> 0 | V21: 100

Sheet Required Functionality
A1: ACTIVITY SUMMARY
B2: Developed from Generic Munition Use Case
B4: Level 1 | C4: Level 1 | D4: Level 2
C6: From Use case
C24: Revised After Functional Analysis

Sheet Concept
A1: ACTIVITY SUMMARY

Sheet Design QFD 1
B2: How | C2: Importance
B3: Requirements | V3: Add requirements detail and definition in here.
C4: =VALUE('Rationalised Req PW'!V4) -> #DIV/0!
C5: =VALUE('Rationalised Req PW'!V5) -> #DIV/0!
C6: =VALUE('Rationalised Req PW'!V6) -> #DIV/0!
C7: =VALUE('Rationalised Req PW'!V7) -> #DIV/0!
C8: =VALUE('Rationalised Req PW'!V8) -> #DIV/0!
C9: =VALUE('Rationalised Req PW'!V9) -> #DIV/0!
C10: =VALUE('Rationalised Req PW'!V10) -> #DIV/0!
C11: =VALUE('Rationalised Req PW'!V11) -> #DIV/0!
C12: =VALUE('Rationalised Req PW'!V12) -> #DIV/0!
C13: =VALUE('Rationalised Req PW'!V13) -> #DIV/0!
C14: =VALUE('Rationalised Req PW'!V14) -> #DIV/0!
C15: =VALUE('Rationalised Req PW'!V15) -> #DIV/0!
... C20: =VALUE('Rationalised Req PW'!V20) -> #DIV/0!
D25: =SUMPRODUCT($C$3:$C$24,D3:D24) -> #DIV/0! | E25: =SUMPRODUCT($C$3:$C$24,E3:E24) -> #DIV/0! | F25: =SUMPRODUCT($C$3:$C$24,F3:F24) -> #DIV/0! | G25: =SUMPRODUCT($C$3:$C$24,G3:G24) -> #DIV/0! | H25: =SUMPRODUCT($C$3:$C$24,H3:H24) -> #DIV/0! | I25: =SUMPRODUCT($C$3:$C$24,I3:I24) -> #DIV/0! | J25: =SUMPRODUCT($C$3:$C$24,J3:J24) -> #DIV/0! | K25: =SUMPRODUCT($C$3:$C$24,K3:K24) -> #DIV/0! | ... U25: =SUMPRODUCT($C$3:$C$24,U3:U24) -> #DIV/0!
B27: Target
B28: Benchmark
B29: Ideal Value
B30: How Much??? Derive target values for each function. This will determine how well the existing design performs and how well our modified version will perform

Sheet Funtional Metrics
A1: ACTIVITY SUMMARY | F1: Tests / Trials / Metrics
B2: Function:- Provide Motive force Test method and relationship to requirements | C2: Importance | D2: Relationship
B3: Requirements | AF3: Add requirements detail and definition in here.
C4: =VALUE('Rationalised Req PW'!V4) -> #DIV/0!
C5: =VALUE('Rationalised Req PW'!V5) -> #DIV/0!
C6: =VALUE('Rationalised Req PW'!V6) -> #DIV/0!
C7: =VALUE('Rationalised Req PW'!V7) -> #DIV/0!
C8: =VALUE('Rationalised Req PW'!V8) -> #DIV/0!
C9: =VALUE('Rationalised Req PW'!V9) -> #DIV/0!
C10: =VALUE('Rationalised Req PW'!V10) -> #DIV/0!
C11: =VALUE('Rationalised Req PW'!V11) -> #DIV/0!
C12: =VALUE('Rationalised Req PW'!V12) -> #DIV/0!
C13: =VALUE('Rationalised Req PW'!V13) -> #DIV/0!
C14: =VALUE('Rationalised Req PW'!V14) -> #DIV/0!
C15: =VALUE('Rationalised Req PW'!V15) -> #DIV/0!
... C20: =VALUE('Rationalised Req PW'!V20) -> #DIV/0!
D50: =SUMPRODUCT($C$3:$C$49,D3:D49) -> #DIV/0! | E50: =SUMPRODUCT($C$3:$C$49,E3:E49) -> #DIV/0! | F50: =SUMPRODUCT($C$3:$C$49,F3:F49) -> #DIV/0! | G50: =SUMPRODUCT($C$3:$C$49,G3:G49) -> #DIV/0! | H50: =SUMPRODUCT($C$3:$C$49,H3:H49) -> #DIV/0! | I50: =SUMPRODUCT($C$3:$C$49,I3:I49) -> #DIV/0! | J50: =SUMPRODUCT($C$3:$C$49,J3:J49) -> #DIV/0! | K50: =SUMPRODUCT($C$3:$C$49,K3:K49) -> #DIV/0! | ... Z50: =SUMPRODUCT($C$3:$C$49,Z3:Z49) -> #DIV/0! | AD50: =SUMPRODUCT($C$3:$C$49,AD3:AD49) -> #DIV/0! | AE50: =SUMPRODUCT($C$3:$C$49,AE3:AE49) -> #DIV/0!
B52: Target
B53: Benchmark
B54: Ideal Value
B55: How Much??? Derive target values for each function. This will determine how well the existing design performs and how well our modified version will perform

Sheet Design QFD 1 (2)
B2: How | C2: Importance
B3: Requirements | AD3: Add requirements detail and definition in here.
D24: =SUMPRODUCT($C$3:$C$23,D3:D23) -> 0 | E24: =SUMPRODUCT($C$3:$C$23,E3:E23) -> 0 | F24: =SUMPRODUCT($C$3:$C$23,F3:F23) -> 0 | G24: =SUMPRODUCT($C$3:$C$23,G3:G23) -> 0 | H24: =SUMPRODUCT($C$3:$C$23,H3:H23) -> 0 | I24: =SUMPRODUCT($C$3:$C$23,I3:I23) -> 0 | J24: =SUMPRODUCT($C$3:$C$23,J3:J23) -> 0 | K24: =SUMPRODUCT($C$3:$C$23,K3:K23) -> 0 | ... AC24: =SUMPRODUCT($C$3:$C$23,AC3:AC23) -> 0
B26: Target
B27: Benchmark
B28: Ideal Value
B29: How Much??? Derive target values for each function. This will determine how well the existing design performs and how well our modified version will perform

Sheet Function Means Analysis
A1: ACTIVITY SUMMARY
B2: Function | C2: Means
A3: From Functional Decomposition | B3: Identify Round
B4: Unpack Round
B5: Load Weapon
B6: Acquire target
B7: Aim Weapon
B8: Initiate Round
B9: Trasfer Ignition
B10: Geretate motive force | U10: both green and blue
B11: Expel Round | U11: both blue and orange
B12: Stabilise Round | U12: both green and orange
B13: Track to target | U13: green, blue and orange
B14: Hit target
B15: Generate effect
B16: Clear launcher
B17: Managee Dud
B18: DeMil

Sheet  System Pugh
A1: ACTIVITY SUMMARY
B4: ="Project Name: "&'[1]Design Book Title'!C10 -> Project Name: HESH Example for course
D6: Relative Importance Equal | E6: Relative importance Weighted
B7: WHATs - Customer Requirements | C7: How much:- From QFD 1
D8: 5 | E8: =VALUE('Design QFD 1'!C4) -> #DIV/0!
D9: 5 | E9: =VALUE('Design QFD 1'!C5) -> #DIV/0!
D10: 5 | E10: =VALUE('Design QFD 1'!C6) -> #DIV/0!
D11: 5 | E11: =VALUE('Design QFD 1'!C7) -> #DIV/0!
D12: 5 | E12: =VALUE('Design QFD 1'!C8) -> #DIV/0!
D13: 5 | E13: =VALUE('Design QFD 1'!C9) -> #DIV/0!
D14: 5 | E14: =VALUE('Design QFD 1'!C10) -> #DIV/0!
D15: 5 | E15: =VALUE('Design QFD 1'!C11) -> #DIV/0!
D16: 5 | E16: =VALUE('Design QFD 1'!C12) -> #DIV/0!
D17: 5 | E17: =VALUE('Design QFD 1'!C13) -> #DIV/0!
D18: 5 | E18: =VALUE('Design QFD 1'!C14) -> #DIV/0!
D19: 5 | E19: =VALUE('Design QFD 1'!C15) -> #DIV/0!
... D24: 5 | E24: =VALUE('Design QFD 1'!C20) -> #DIV/0!
D25: 5
D26: 5
D27: 5
D28: 5
F34: =SUMPRODUCT($D$8:$D$32,F8:F32) -> 0 | G34: =SUMPRODUCT($D$8:$D$32,G8:G32) -> 0 | H34: =SUMPRODUCT($D$8:$D$32,H8:H32) -> 0 | I34: =SUMPRODUCT($D$8:$D$32,I8:I32) -> 0
F35: =SUMPRODUCT($E$8:$E$32,F8:F32) -> #DIV/0! | G35: =SUMPRODUCT($E$8:$E$32,G8:G32) -> #DIV/0! | H35: =SUMPRODUCT($E$8:$E$32,H8:H32) -> #DIV/0! | I35: =SUMPRODUCT($E$8:$E$32,I8:I32) -> #DIV/0!
B36: Ranking | D36: 100 | F36: =+F34-F35 -> #DIV/0! | G36: =+G34-G35 -> #DIV/0! | H36: =+H34-H35 -> #DIV/0! | I36: =+I34-I35 -> #DIV/0!
BC51: 0 | BG51: 0 | BK51: 0 | BO51: 0 | BS51: 0
BC55: 0 | BG55: 0 | BK55: 0 | BO55: 0 | BS55: 0

Sheet Design QFD 2
A1: ACTIVITY SUMMARY
C2: Design feature | D2: Importance | F2: Importance
C3: Functionality | AB3: Functionality Detail
D4: =VALUE('Design QFD 1'!D25) -> #DIV/0! | E4: 10 | F4: =+D4/E4 -> #DIV/0!
D5: =VALUE('Design QFD 1'!E25) -> #DIV/0! | E5: 10 | F5: =+D5/E5 -> #DIV/0!
D6: =VALUE('Design QFD 1'!F25) -> #DIV/0! | E6: 10 | F6: =+D6/E6 -> #DIV/0!
D7: =VALUE('Design QFD 1'!G25) -> #DIV/0! | E7: 10 | F7: =+D7/E7 -> #DIV/0!
D8: =VALUE('Design QFD 1'!H25) -> #DIV/0! | E8: 10 | F8: =+D8/E8 -> #DIV/0!
D9: =VALUE('Design QFD 1'!I25) -> #DIV/0! | E9: 10 | F9: =+D9/E9 -> #DIV/0!
D10: =VALUE('Design QFD 1'!J25) -> #DIV/0! | E10: 10 | F10: =+D10/E10 -> #DIV/0!
D11: =VALUE('Design QFD 1'!K25) -> #DIV/0! | E11: 10 | F11: =+D11/E11 -> #DIV/0!
D12: =VALUE('Design QFD 1'!L25) -> #DIV/0! | E12: 10 | F12: =+D12/E12 -> #DIV/0!
D13: =VALUE('Design QFD 1'!M25) -> #DIV/0! | E13: 10 | F13: =+D13/E13 -> #DIV/0!
D14: =VALUE('Design QFD 1'!N25) -> #DIV/0! | E14: 10 | F14: =+D14/E14 -> #DIV/0!
D15: =VALUE('Design QFD 1'!O25) -> #DIV/0! | E15: 10 | F15: =+D15/E15 -> #DIV/0!
D16: =VALUE('Design QFD 1'!P25) -> #DIV/0! | E16: 10 | F16: =+D16/E16 -> #DIV/0!
D17: =VALUE('Design QFD 1'!Q25) -> #DIV/0! | E17: 10 | F17: =+D17/E17 -> #DIV/0!
D18: =VALUE('Design QFD 1'!R25) -> #DIV/0! | E18: 10 | F18: =+D18/E18 -> #DIV/0!
D19: =VALUE('Design QFD 1'!S25) -> #DIV/0! | E19: 10 | F19: =+D19/E19 -> #DIV/0!
D20: =VALUE('Design QFD 1 (2)'!$T$24) -> 0 | E20: 10 | F20: =+D20/E20 -> 0
D21: =VALUE('Design QFD 1'!D42) -> 0 | E21: 10 | F21: =+D21/E21 -> 0
G22: =SUMPRODUCT($F$3:$F$21,G3:G21) -> #DIV/0! | H22: =SUMPRODUCT($F$3:$F$21,H3:H21) -> #DIV/0! | I22: =SUMPRODUCT($F$3:$F$21,I3:I21) -> #DIV/0! | J22: =SUMPRODUCT($F$3:$F$21,J3:J21) -> #DIV/0! | K22: =SUMPRODUCT($F$3:$F$21,K3:K21) -> #DIV/0! | L22: =SUMPRODUCT($F$3:$F$21,L3:L21) -> #DIV/0! | M22: =SUMPRODUCT($F$3:$F$21,M3:M21) -> #DIV/0! | N22: =SUMPRODUCT($F$3:$F$21,N3:N21) -> #DIV/0! | ... AA22: =SUMPRODUCT($F$3:$F$21,AA3:AA21) -> #DIV/0!
C24: Target
C25: Benchmark
C26: Ideal Value | O26: Desired trials results
C27: How Much???

Sheet Prime P Diagram (Given)
A1: ACTIVITY SUMMARY
A2: P-Diagram
A3: Author: | E3: Noise Factors | G3: External | L3: Noise Factors | N3: Unit to unit | P3: Noise Factor | R3: Deterioration
A4: Date:
A5: Issue: 1
A6: System:
B22: Signal factors | I22: Hesh Munition | Q22: Outputs
L31: Control Factors

Sheet Prime "What Why"
A1: ACTIVITY SUMMARY
G2: =VALUE('Design QFD 2'!#REF!) -> #REF!
A3: If insert rows/columns, copy formulae in purple cells.
M4: NOISE FACTORS | AC4: Relative Importance of noise in meeting performance via control factor
A5: Performance Characteristics | B5: Design control parameters | C5: Weighting | D5: Unit to Unit Variation | M5: Deterioration | T5: External
C6: of design | D6: Mfg | M6: Raw Mat'l | T6: Environment | Z6: Human | AB6: Total
C7: control parameter
AB9: =SUM(D9:AA9) -> 0 | AC9: =+AB9*C9 -> 0
AB10: =SUM(D10:AA10) -> 0 | AC10: =+AB10*C10 -> 0
AB11: =SUM(D11:AA11) -> 0 | AC11: =+AB11*C11 -> 0
AB12: =SUM(D12:AA12) -> 0 | AC12: =+AB12*C12 -> 0
AB13: =SUM(D13:AA13) -> 0 | AC13: =+AB13*C13 -> 0
AB14: =SUM(D14:AA14) -> 0 | AC14: =+AB14*C14 -> 0
AB15: =SUM(D15:AA15) -> 0 | AC15: =+AB15*C15 -> 0
AB16: =SUM(D16:AA16) -> 0 | AC16: =+AB16*C16 -> 0
AB17: =SUM(D17:AA17) -> 0 | AC17: =+AB17*C17 -> 0
AB18: =SUM(D18:AA18) -> 0 | AC18: =+AB18*C18 -> 0
B19: Relative importance of noise factor: | D19: =SUMPRODUCT($C9:$C18,D9:D18) -> 0 | E19: =SUMPRODUCT($C9:$C18,E9:E18) -> 0 | F19: =SUMPRODUCT($C9:$C18,F9:F18) -> 0 | G19: =SUMPRODUCT($C9:$C18,G9:G18) -> 0 | H19: =SUMPRODUCT($C9:$C18,H9:H18) -> 0 | I19: =SUMPRODUCT($C9:$C18,I9:I18) -> 0 | J19: =SUMPRODUCT($C9:$C18,J9:J18) -> 0 | K19: =SUMPRODUCT($C9:$C18,K9:K18) -> 0 | ... AA19: =SUMPRODUCT($C9:$C18,AA9:AA18) -> 0
B21: Team:
B22: Date completed:
C23: 100

Sheet P-Diagram 2 (Derived)
A1: ACTIVITY SUMMARY
A2: P-Diagram
A3: Author: | E3: Noise Factors | G3: External | L3: Noise Factors | N3: Unit to unit | P3: Noise Factor | R3: Deterioration
A4: Date:
A5: Issue: 1
A6: System:
B22: Signal factors | I22: Hesh Munition | Q22: Outputs
L31: Control Factors

Sheet What Why 2
A1: ACTIVITY SUMMARY
G2: =VALUE('Design QFD 2'!#REF!) -> #REF!
A3: If insert rows/columns, copy formulae in purple cells.
M4: NOISE FACTORS | AC4: Relative Importance of noise in meeting performance via control factor
A5: Performance Characteristics | B5: Design control parameters | C5: Weighting | D5: Unit to Unit Variation | M5: Deterioration | T5: External
C6: of design | D6: Mfg | M6: Raw Mat'l | T6: Environment | Z6: Human | AB6: Total
C7: control parameter
AB9: =SUM(D9:AA9) -> 0 | AC9: =+AB9*C9 -> 0
AB10: =SUM(D10:AA10) -> 0 | AC10: =+AB10*C10 -> 0
AB11: =SUM(D11:AA11) -> 0 | AC11: =+AB11*C11 -> 0
AB12: =SUM(D12:AA12) -> 0 | AC12: =+AB12*C12 -> 0
AB13: =SUM(D13:AA13) -> 0 | AC13: =+AB13*C13 -> 0
AB14: =SUM(D14:AA14) -> 0 | AC14: =+AB14*C14 -> 0
AB15: =SUM(D15:AA15) -> 0 | AC15: =+AB15*C15 -> 0
AB16: =SUM(D16:AA16) -> 0 | AC16: =+AB16*C16 -> 0
AB17: =SUM(D17:AA17) -> 0 | AC17: =+AB17*C17 -> 0
AB18: =SUM(D18:AA18) -> 0 | AC18: =+AB18*C18 -> 0
B19: Relative importance of noise factor: | D19: =SUMPRODUCT($C9:$C18,D9:D18) -> 0 | E19: =SUMPRODUCT($C9:$C18,E9:E18) -> 0 | F19: =SUMPRODUCT($C9:$C18,F9:F18) -> 0 | G19: =SUMPRODUCT($C9:$C18,G9:G18) -> 0 | H19: =SUMPRODUCT($C9:$C18,H9:H18) -> 0 | I19: =SUMPRODUCT($C9:$C18,I9:I18) -> 0 | J19: =SUMPRODUCT($C9:$C18,J9:J18) -> 0 | K19: =SUMPRODUCT($C9:$C18,K9:K18) -> 0 | ... AA19: =SUMPRODUCT($C9:$C18,AA9:AA18) -> 0
B21: Team:
B22: Date completed:
C23: 100

Sheet P-Diagram 3 (Target Defeat)
A1: ACTIVITY SUMMARY
A2: P-Diagram
A3: Author: | E3: Noise Factors | G3: External | L3: Noise Factors | N3: Unit to unit | P3: Noise Factor | R3: Deterioration
A4: Date:
A5: Issue: 1
A6: System:
B22: Signal factors Prox PD Delay | I22: Hesh Munition | Q22: Defeat Target
L31: Control Factors

Sheet what why 3 (Target Defeat)
A1: ACTIVITY SUMMARY
I2: =VALUE('Design QFD 2'!#REF!) -> #REF!
A3: If insert rows/columns, copy formulae in purple cells.
O4: NOISE FACTORS | AE4: Relative Importance of noise in meeting performance via control factor
A5: Performance Characteristics | B5: Design control parameters | E5: Weighting | F5: Unit to Unit Variation | O5: Deterioration | V5: External
E6: of design | F6: Mfg | O6: Raw Mat'l | V6: Environment | AB6: Human | AD6: Total
E7: control parameter
C8: Soft and Squidgy | D8: Soft Skin Vehicles | E8: Buildings | F8: Shell Mtl
F9: 3 | AD9: =SUM(F9:AC9) -> 3 | AE9: =+AD9*E9 -> 0
F10: 9 | AD10: =SUM(F10:AC10) -> 9 | AE10: =+AD10*E10 -> 0
F11: 1 | AD11: =SUM(F11:AC11) -> 1 | AE11: =+AD11*E11 -> 0
AD12: =SUM(F12:AC12) -> 0 | AE12: =+AD12*E12 -> 0
AD13: =SUM(F13:AC13) -> 0 | AE13: =+AD13*E13 -> 0
AD14: =SUM(F14:AC14) -> 0 | AE14: =+AD14*E14 -> 0
AD15: =SUM(F15:AC15) -> 0 | AE15: =+AD15*E15 -> 0
AD16: =SUM(F16:AC16) -> 0 | AE16: =+AD16*E16 -> 0
AD17: =SUM(F17:AC17) -> 0 | AE17: =+AD17*E17 -> 0
AD18: =SUM(F18:AC18) -> 0 | AE18: =+AD18*E18 -> 0
B19: Relative importance of noise factor: | F19: =SUMPRODUCT($E9:$E18,F9:F18) -> 0 | G19: =SUMPRODUCT($E9:$E18,G9:G18) -> 0 | H19: =SUMPRODUCT($E9:$E18,H9:H18) -> 0 | I19: =SUMPRODUCT($E9:$E18,I9:I18) -> 0 | J19: =SUMPRODUCT($E9:$E18,J9:J18) -> 0 | K19: =SUMPRODUCT($E9:$E18,K9:K18) -> 0 | L19: =SUMPRODUCT($E9:$E18,L9:L18) -> 0 | M19: =SUMPRODUCT($E9:$E18,M9:M18) -> 0 | ... AC19: =SUMPRODUCT($E9:$E18,AC9:AC18) -> 0
B21: Team:
B22: Date completed:
E23: 100

Sheet What Why 3.1 (Building)
A1: ACTIVITY SUMMARY
G2: =VALUE('Design QFD 2'!#REF!) -> #REF!
A3: If insert rows/columns, copy formulae in purple cells.
M4: NOISE FACTORS | AC4: Relative Importance of noise in meeting performance via control factor
A5: Performance Characteristics | B5: Design control parameters | C5: Weighting | D5: Unit to Unit Variation | M5: Deterioration | T5: External
C6: of design | D6: Mfg | M6: Raw Mat'l | T6: Environment | Z6: Human | AB6: Total
C7: control parameter
AB9: =SUM(D9:AA9) -> 0 | AC9: =+AB9*C9 -> 0
AB10: =SUM(D10:AA10) -> 0 | AC10: =+AB10*C10 -> 0
AB11: =SUM(D11:AA11) -> 0 | AC11: =+AB11*C11 -> 0
AB12: =SUM(D12:AA12) -> 0 | AC12: =+AB12*C12 -> 0
AB13: =SUM(D13:AA13) -> 0 | AC13: =+AB13*C13 -> 0
AB14: =SUM(D14:AA14) -> 0 | AC14: =+AB14*C14 -> 0
AB15: =SUM(D15:AA15) -> 0 | AC15: =+AB15*C15 -> 0
AB16: =SUM(D16:AA16) -> 0 | AC16: =+AB16*C16 -> 0
AB17: =SUM(D17:AA17) -> 0 | AC17: =+AB17*C17 -> 0
AB18: =SUM(D18:AA18) -> 0 | AC18: =+AB18*C18 -> 0
B19: Relative importance of noise factor: | D19: =SUMPRODUCT($C9:$C18,D9:D18) -> 0 | E19: =SUMPRODUCT($C9:$C18,E9:E18) -> 0 | F19: =SUMPRODUCT($C9:$C18,F9:F18) -> 0 | G19: =SUMPRODUCT($C9:$C18,G9:G18) -> 0 | H19: =SUMPRODUCT($C9:$C18,H9:H18) -> 0 | I19: =SUMPRODUCT($C9:$C18,I9:I18) -> 0 | J19: =SUMPRODUCT($C9:$C18,J9:J18) -> 0 | K19: =SUMPRODUCT($C9:$C18,K9:K18) -> 0 | ... AA19: =SUMPRODUCT($C9:$C18,AA9:AA18) -> 0
B21: Team:
B22: Date completed:
C23: 100

Sheet What Why 3.2 (Human)
A1: ACTIVITY SUMMARY
G2: =VALUE('Design QFD 2'!#REF!) -> #REF!
A3: If insert rows/columns, copy formulae in purple cells.
M4: NOISE FACTORS | AC4: Relative Importance of noise in meeting performance via control factor
A5: Performance Characteristics | B5: Design control parameters | C5: Weighting | D5: Unit to Unit Variation | M5: Deterioration | T5: External
C6: of design | D6: Mfg | M6: Raw Mat'l | T6: Environment | Z6: Human | AB6: Total
C7: control parameter
AB9: =SUM(D9:AA9) -> 0 | AC9: =+AB9*C9 -> 0
AB10: =SUM(D10:AA10) -> 0 | AC10: =+AB10*C10 -> 0
AB11: =SUM(D11:AA11) -> 0 | AC11: =+AB11*C11 -> 0
AB12: =SUM(D12:AA12) -> 0 | AC12: =+AB12*C12 -> 0
AB13: =SUM(D13:AA13) -> 0 | AC13: =+AB13*C13 -> 0
AB14: =SUM(D14:AA14) -> 0 | AC14: =+AB14*C14 -> 0
AB15: =SUM(D15:AA15) -> 0 | AC15: =+AB15*C15 -> 0
AB16: =SUM(D16:AA16) -> 0 | AC16: =+AB16*C16 -> 0
AB17: =SUM(D17:AA17) -> 0 | AC17: =+AB17*C17 -> 0
AB18: =SUM(D18:AA18) -> 0 | AC18: =+AB18*C18 -> 0
B19: Relative importance of noise factor: | D19: =SUMPRODUCT($C9:$C18,D9:D18) -> 0 | E19: =SUMPRODUCT($C9:$C18,E9:E18) -> 0 | F19: =SUMPRODUCT($C9:$C18,F9:F18) -> 0 | G19: =SUMPRODUCT($C9:$C18,G9:G18) -> 0 | H19: =SUMPRODUCT($C9:$C18,H9:H18) -> 0 | I19: =SUMPRODUCT($C9:$C18,I9:I18) -> 0 | J19: =SUMPRODUCT($C9:$C18,J9:J18) -> 0 | K19: =SUMPRODUCT($C9:$C18,K9:K18) -> 0 | ... AA19: =SUMPRODUCT($C9:$C18,AA9:AA18) -> 0
B21: Team:
B22: Date completed:
C23: 100

Sheet QFD2 Most Important Bit
A1: ACTIVITY SUMMARY
B2: Design feature | C2: Importance | E2: Importance
B3: Functionality | AA3: Functionality Detail
C4: 100 | D4: 10 | E4: =+C4/D4 -> 10
C5: 100 | D5: 10 | E5: =+C5/D5 -> 10
C6: 100 | D6: 10 | E6: =+C6/D6 -> 10
C7: 100 | D7: 10 | E7: =+C7/D7 -> 10
C8: 100 | D8: 10 | E8: =+C8/D8 -> 10
C9: 100 | D9: 10 | E9: =+C9/D9 -> 10
C10: 100 | D10: 10 | E10: =+C10/D10 -> 10
C11: 100 | D11: 10 | E11: =+C11/D11 -> 10
C12: 100 | D12: 10 | E12: =+C12/D12 -> 10
C13: 100 | D13: 10 | E13: =+C13/D13 -> 10
C14: 100 | D14: 10 | E14: =+C14/D14 -> 10
C15: 100 | D15: 10 | E15: =+C15/D15 -> 10
... C26: 100 | D26: 10 | E26: =+C26/D26 -> 10
F27: =SUMPRODUCT($E$3:$E$26,F3:F26) -> 0 | G27: =SUMPRODUCT($E$3:$E$26,G3:G26) -> 0 | H27: =SUMPRODUCT($E$3:$E$26,H3:H26) -> 0 | I27: =SUMPRODUCT($E$3:$E$26,I3:I26) -> 0 | J27: =SUMPRODUCT($E$3:$E$26,J3:J26) -> 0 | K27: =SUMPRODUCT($E$3:$E$26,K3:K26) -> 0 | L27: =SUMPRODUCT($E$3:$E$26,L3:L26) -> 0 | M27: =SUMPRODUCT($E$3:$E$26,M3:M26) -> 0 | ... Z27: =SUMPRODUCT($E$3:$E$26,Z3:Z26) -> 0
B29: Target
B30: Benchmark
B31: Ideal Value | F31: Yellow to Std XYD, Font, Paint type, Compatibility | P31: Green to Std XYD, Paint type, compatibility
B32: How Much???

Sheet P Diagram Component
A1: ACTIVITY SUMMARY
A2: P-Diagram
A3: Author: | E3: Noise Factors | G3: External | L3: Noise Factors | N3: Unit to unit | P3: Noise Factor | R3: Deterioration
A4: Date:
A5: Issue: 1
A6: System:
B22: Signal factors | I22: Shell Body Base component | Q22: System compatibility
L31: Control Factors

Sheet What Why Component
A1: ACTIVITY SUMMARY
G2: =VALUE('Design QFD 2'!#REF!) -> #REF!
A3: If insert rows/columns, copy formulae in purple cells.
M4: NOISE FACTORS | Y4: Relative Importance of noise in meeting performance via control factor
A5: Performance Characteristics | B5: Design control parameters | C5: Weighting | D5: Unit to Unit Variation | M5: Deterioration
C6: of design | D6: Mfg | M6: Raw Mat'l | V6: Human | X6: Total
C7: control parameter
Z8: Highlight important factors
X9: =SUM(D9:W9) -> 0 | Y9: =+X9*C9 -> 0
X10: =SUM(D10:W10) -> 0 | Y10: =+X10*C10 -> 0
X11: =SUM(D11:W11) -> 0 | Y11: =+X11*C11 -> 0
X12: =SUM(D12:W12) -> 0 | Y12: =+X12*C12 -> 0
X13: =SUM(D13:W13) -> 0 | Y13: =+X13*C13 -> 0
X14: =SUM(D14:W14) -> 0 | Y14: =+X14*C14 -> 0
X15: =SUM(D15:W15) -> 0 | Y15: =+X15*C15 -> 0
X16: =SUM(D16:W16) -> 0 | Y16: =+X16*C16 -> 0
X17: =SUM(D17:W17) -> 0 | Y17: =+X17*C17 -> 0
X18: =SUM(D18:W18) -> 0 | Y18: =+X18*C18 -> 0
X19: =SUM(D19:W19) -> 0 | Y19: =+X19*C19 -> 0
X20: =SUM(D20:W20) -> 0 | Y20: =+X20*C20 -> 0
... X35: =SUM(D35:W35) -> 0 | Y35: =+X35*C35 -> 0
B36: Relative importance of noise factor: | D36: =SUMPRODUCT($C9:$C35,D9:D35) -> 0 | E36: =SUMPRODUCT($C9:$C35,E9:E35) -> 0 | F36: =SUMPRODUCT($C9:$C35,F9:F35) -> 0 | G36: =SUMPRODUCT($C9:$C35,G9:G35) -> 0 | H36: =SUMPRODUCT($C9:$C35,H9:H35) -> 0 | I36: =SUMPRODUCT($C9:$C35,I9:I35) -> 0 | J36: =SUMPRODUCT($C9:$C35,J9:J35) -> 0 | K36: =SUMPRODUCT($C9:$C35,K9:K35) -> 0 | ... W36: =SUMPRODUCT($C9:$C35,W9:W35) -> 0
B38: Team:
B39: Date completed:
C40: 100

Sheet Control Importances (Base)

Sheet Noise importances (Base)

Sheet Manufacturing Requirements
A6: ACTIVITY SUMMARY

Sheet Process Map 
A1: ACTIVITY SUMMARY

Sheet Manufacturing QFD 1
A1: ACTIVITY SUMMARY
B2: Manufacturing Functionality | C2: Importance
B3: Manufacturing Requirements | U3: Manufacturing Requirements detail
B4: Manufacturing Costs
B5: Labour | C5: 5
B6: Equipment capital cost | C6: 5
B7: Service / Operating Cost | C7: 5
B8: Set up cost | C8: 5
B9: Material Cost - Metal Bits | C9: 5
B10: Material Cost - Energetic Bits | C10: 5
B11: Material Cost - other | C11: 5
B12: Maintenance Cost
B13: Manufacturing Capacity | C13: 5
B14: Target production rate XX per month | C14: 5
B15: Reliable Manufacture | C15: 5
B16: Repeatable performance | C16: 5
B17: Effective Maintenance | C17: 5
B18: Low system outage | C18: 5
B19: Quality | C19: 5
B20: Defect Free | C20: 5
B21: Effective test and inspection | C21: 5
B22: Safety | C22: 5
B23: Explosive | C23: 5
B24: Non-Explosive | C24: 5
C25: 5
C26: 5
C27: 5
C28: 5
D29: =SUMPRODUCT($C$3:$C$28,D3:D28) -> 0 | E29: =SUMPRODUCT($C$3:$C$28,E3:E28) -> 0 | F29: =SUMPRODUCT($C$3:$C$28,F3:F28) -> 0 | G29: =SUMPRODUCT($C$3:$C$28,G3:G28) -> 0 | H29: =SUMPRODUCT($C$3:$C$28,H3:H28) -> 0 | I29: =SUMPRODUCT($C$3:$C$28,I3:I28) -> 0 | J29: =SUMPRODUCT($C$3:$C$28,J3:J28) -> 0 | K29: =SUMPRODUCT($C$3:$C$28,K3:K28) -> 0 | ... T29: =SUMPRODUCT($C$3:$C$28,T3:T28) -> 0
B32: Target
B33: Benchmark
B34: Ideal Value
B35: Functionality Detail/ insert specifications for each operation

Sheet QFD 2 Manufacturing
A1: ACTIVITY SUMMARY
B2: Design feature | C2: Importance | E2: Importance
B3: Functionality | AB3: Functionality Detail
C4: =VALUE('Manufacturing QFD 1'!D29) -> 0 | D4: 10 | E4: =+C4/D4 -> 0
C5: =VALUE('Manufacturing QFD 1'!E29) -> 0 | D5: 10 | E5: =+C5/D5 -> 0
C6: =VALUE('Manufacturing QFD 1'!F29) -> 0 | D6: 10 | E6: =+C6/D6 -> 0
C7: =VALUE('Manufacturing QFD 1'!G29) -> 0 | D7: 10 | E7: =+C7/D7 -> 0
C8: =VALUE('Manufacturing QFD 1'!H29) -> 0 | D8: 10 | E8: =+C8/D8 -> 0
C9: =VALUE('Manufacturing QFD 1'!I29) -> 0 | D9: 10 | E9: =+C9/D9 -> 0
C10: =VALUE('Manufacturing QFD 1'!J29) -> 0 | D10: 10 | E10: =+C10/D10 -> 0
C11: =VALUE('Manufacturing QFD 1'!K29) -> 0 | D11: 10 | E11: =+C11/D11 -> 0
C12: =VALUE('Manufacturing QFD 1'!L29) -> 0 | D12: 10 | E12: =+C12/D12 -> 0
C13: =VALUE('Manufacturing QFD 1'!M29) -> 0 | D13: 10 | E13: =+C13/D13 -> 0
D14: 10 | E14: =+C14/D14 -> 0
F15: =SUMPRODUCT($E$3:$E$14,F3:F14) -> 0 | G15: =SUMPRODUCT($E$3:$E$14,G3:G14) -> 0 | H15: =SUMPRODUCT($E$3:$E$14,H3:H14) -> 0 | I15: =SUMPRODUCT($E$3:$E$14,I3:I14) -> 0 | J15: =SUMPRODUCT($E$3:$E$14,J3:J14) -> 0 | K15: =SUMPRODUCT($E$3:$E$14,K3:K14) -> 0 | L15: =SUMPRODUCT($E$3:$E$14,L3:L14) -> 0 | M15: =SUMPRODUCT($E$3:$E$14,M3:M14) -> 0 | ... AA15: =SUMPRODUCT($E$3:$E$14,AA3:AA14) -> 0
B17: Target
B18: Benchmark
B19: Ideal Value
B20: How Much???

Sheet Means importance

Sheet Process FMA
A1: ACTIVITY SUMMARY
B2: Function | C2: Means
B3: Forge Shell | C3: Forge from Cast Billet | D3: Forge from machined billet
B4: Form Cavity | C4: Hot Forging | D4: Drill | E4: ALM | F4: Two Piece
B5: Head Shell | C5: Swage | D5: Press | E5: ALM
B6: Coarse M/C | C6: Hand lathe | D6: CNC | E6: Robot | F6: Hand set
B7: Fine M/C | C7: Hand lathe | D7: CNC | E7: Robot | F7: Hand set
B8: Clean Shell | C8: Ultrasonic | D8: Brush and Blow | E8: Bath clean | F8: Vacuum
B9: Form Wire | C9: Hot form | D9: Cold form | E9: ALM | F9: Don't
B10: Coil Wire | C10: Hot form | D10: Cold form | E10: ALM | F10: Don't
B11: Harden Wire | C11: Hot form | D11: Cold form | E11: ALM | F11: Don't
B12: Insert Wire | C12: manual | D12: robot | E12: form in situ | F12: ALM
B13: Surface Finish | C13: Oxsilan | D13: Varnish | E13: Bitumen | F13: Hylamar | G13: rextac/epilene
B14: Paint | C14: Water based | D14: Powder coat | E14: Brush | F14: Don't
B15: Cure paint | C15: Oven | D15: Hot air blow | E15: Air dry
B16: Make Fins | C16: Hand M/C | D16: CNC | E16: Robot | F16: ALM
B17: Coarse MC | C17: Hand M/C | D17: CNC | E17: Robot | F17: ALM
B18: Fine M/C | C18: Hand M/C | D18: CNC | E18: Robot | F18: ALM
B19: Anodise | C19: Sulphuric Acid | D19: Black anodise | E19: Chromic acid | F19: ALM
B20: Clean Shell | C20: Hand M/C | D20: CNC | E20: Robot | F20: ALM
B21: Obtain tracer
B22: Cap Holder | C22: Manual | D22: Robot | E22: Buy in capped holder | F22: Fortress
B23: Load Primer | C23: Manual | D23: Weigh | E23: Volumetric | F23: Robot | G23: Fortress
B24: Load Pre-mag | C24: Manual | D24: Weigh | E24: Volumetric | F24: Robot | G24: Fortress
B25: Seal Primer | C25: Manual | D25: Brush | E25: Adhesive | F25: Varnish | G25: Ultrasound
B26: Assemble primer | C26: Manual | D26: Robot | E26: Buy in filled primer | F26: Fortress
B27: Pack | C27: Manual | D27: Robot | E27: Air Handler | F27: Semi Auto
B28: Roll Liner | C28: Manual | D28: Auto | E28: Buy in rolled liner
B29: Seal Liner | C29: Manual | D29: Auto | E29: Buy in Sealed Liner
B30: Line Primer body | C30: Manual | D30: Auto
B31: Fill Body | C31: Cast Cure | D31: Press Fill | E31: Melt Cast IM | F31: Melt cast RTA | G31: Melt Cast Cream TNT
B32: Liquefy Contents | C32: Cast cure | D32: Melt cast | E32: Powder press
B33: Mix | C33: Incorporator | D33: Hand | E33: High Shear | F33: RAM | G33: Ram in case
B34: Fill Shell | C34: Pour | D34: Pump | E34: Press | F34: Inject
B35: Fit Filling Aid | C35: Hand | D35: robot | E35: Don't
B36: Warm Shell | C36: Oven | D36: Warm air | E36: Condition in shop | F36: Don't
B37: Move in | C37: hover pallet | D37: Conveyer | E37: heated box | F37: Manual | G37: Robot | H37: Powered conveyer
B38: Move out | C38: hover pallet | D38: Conveyer | E38: heated box | F38: Manual | G38: Robot | H38: Powered conveyer
B39: Solidify Contents | C39: Cure in oven | D39: Cure at RT | E39: Cool | F39: Cool and Probe | G39: Don't (press)
B40: Remove Filling Aid | C40: Hand | D40: Robot | E40: Don't
...

Sheet Process Pugh
A1: ACTIVITY SUMMARY
C4: ="Project Name: "&'Design Book Title'!C10 -> Project Name: HESH Example for course 2024 Beng
D6: Relative Importance Equal | E6: Relative importance Weighted | F6: Benchmark design Melt Cast Manual | G6: Alternative manufacturing method 1. Melt Cast IM Automatic | H6: Alternative manufacturing method 2 Cast Cure IM Automatic
B7: WHATs - Customer Requirements | C7: How much:- From QFD 1
D8: 5
D9: 5
D10: 5
D11: 5
D12: 5
D13: 5
D14: 5
D15: 5
D16: 5
D17: 5
D18: 5
D19: 5
... D22: 5
D23: Un Weighted | F23: =SUMPRODUCT($D$8:$D$22,F8:F22) -> 0 | G23: =SUMPRODUCT($D$8:$D$22,G8:G22) -> 0 | H23: =SUMPRODUCT($D$8:$D$22,H8:H22) -> 0
D24: Weighted | F24: =SUMPRODUCT($E$8:$E$22,F8:F22) -> 0 | G24: =SUMPRODUCT($E$8:$E$22,G8:G22) -> 0 | H24: =SUMPRODUCT($E$8:$E$22,H8:H22) -> 0
B25: Ranking | D25: 100 | F25: =+F23-F24 -> 0 | G25: =+G23-G24 -> 0 | H25: =+H23-H24 -> 0
BB40: 0 | BF40: 0 | BJ40: 0 | BN40: 0 | BR40: 0
BB44: 0 | BF44: 0 | BJ44: 0 | BN44: 0 | BR44: 0

Sheet QFD 3
A1: ACTIVITY SUMMARY
B2: Process Features | E2: Importance
B4: Important design features | AJ4: Functionality Details
C5: 50 | D5: 10 | E5: 3
C6: 50 | D6: 10 | E6: 2
C7: 50 | D7: 10 | E7: 3
C8: 50 | D8: 10 | E8: 3
C9: 50 | D9: 10 | E9: 3
C10: 50 | D10: 10 | E10: 3
C11: 50 | D11: 10 | E11: 3
C12: 50 | D12: 10 | E12: 3
C13: 50 | D13: 10 | E13: 3
C14: 50 | D14: 10 | E14: 5
C15: 50 | D15: 10 | E15: 3
C16: 50 | D16: 10 | E16: 5
C19: 50 | D19: 10
F20: =SUMPRODUCT($E$5:$E$19,F5:F19) -> 0 | G20: =SUMPRODUCT($E$5:$E$19,G5:G19) -> 0 | H20: =SUMPRODUCT($E$5:$E$19,H5:H19) -> 0 | I20: =SUMPRODUCT($E$5:$E$19,I5:I19) -> 0 | J20: =SUMPRODUCT($E$5:$E$19,J5:J19) -> 0 | K20: =SUMPRODUCT($E$5:$E$19,K5:K19) -> 0 | L20: =SUMPRODUCT($E$5:$E$19,L5:L19) -> 0 | M20: =SUMPRODUCT($E$5:$E$19,M5:M19) -> 0 | ... AI20: =SUMPRODUCT($E$5:$E$19,AI5:AI19) -> 0
B22: Target
B23: Benchmark
B24: Ideal Value
B25: Process Features Details

Sheet 1st Key P Diagram
A1: ACTIVITY SUMMARY
A5: P-Diagram
A6: Author: | E6: Noise Factors | G6: External | L6: Noise Factors | N6: Unit to unit | P6: Noise Factor | R6: Deterioration
A7: Date:
A8: Issue: 1
A9: System:
L38: Control Factors

Sheet 1st Key  "What Why"
A1: ACTIVITY SUMMARY
A3: If insert rows/columns, copy formulae in purple cells.
V4: Relative Importance of noise in meeting performance via control factor
A5: Performance Characteristics Ys: | B5: Design control parameters | C5: Weighting of design control parameter. | D5: Unit to Unit Variation | L5: Deterioration | Q5: External
D6: Mfg | Q6: Environment | S6: Human | U6: Total
U9: =SUM(D9:T9) -> 0 | V9: =+U9*C9 -> 0
U10: =SUM(D10:T10) -> 0 | V10: =+U10*C10 -> 0
U11: =SUM(D11:T11) -> 0 | V11: =+U11*C11 -> 0
U12: =SUM(D12:T12) -> 0 | V12: =+U12*C12 -> 0
U13: =SUM(D13:T13) -> 0 | V13: =+U13*C13 -> 0
U14: =SUM(D14:T14) -> 0 | V14: =+U14*C14 -> 0
U15: =SUM(D15:T15) -> 0 | V15: =+U15*C15 -> 0
U16: =SUM(D16:T16) -> 0 | V16: =+U16*C16 -> 0
U17: =SUM(D17:T17) -> 0 | V17: =+U17*C17 -> 0
U18: =SUM(D18:T18) -> 0 | V18: =+U18*C18 -> 0
U19: =SUM(D19:T19) -> 0 | V19: =+U19*C19 -> 0
U20: =SUM(D20:T20) -> 0 | V20: =+U20*C20 -> 0
B21: Relative importance of noise factor: | D21: =SUMPRODUCT($C9:$C20,D9:D20) -> 0 | E21: =SUMPRODUCT($C9:$C20,E9:E20) -> 0 | F21: =SUMPRODUCT($C9:$C20,F9:F20) -> 0 | G21: =SUMPRODUCT($C9:$C20,G9:G20) -> 0 | H21: =SUMPRODUCT($C9:$C20,H9:H20) -> 0 | I21: =SUMPRODUCT($C9:$C20,I9:I20) -> 0 | J21: =SUMPRODUCT($C9:$C20,J9:J20) -> 0 | K21: =SUMPRODUCT($C9:$C20,K9:K20) -> 0 | ... T21: =SUMPRODUCT($C9:$C20,T9:T20) -> 0
B23: Team:
B24: Date completed:

Sheet 1st QFD4
A1: ACTIVITY SUMMARY
E3: Operational assessment | L3: Process Controls
E4: manufacturing controlas and Aids | F4: Difficulty | G4: Frequency | H4: Severity | I4: Detectability | J4: RPN
B5: Process parameters | C5: Target Values
J6: =+F6*G6*H6*I6 -> 0
J7: =+F7*G7*H7*I7 -> 0
J8: =+F8*G8*H8*I8 -> 0
J9: =+F9*G9*H9*I9 -> 0
J10: =+F10*G10*H10*I10 -> 0
J11: =+F11*G11*H11*I11 -> 0
J12: =+F12*G12*H12*I12 -> 0
L13: =SUMPRODUCT($J$6:$J$12,L6:L12) -> 0 | M13: =SUMPRODUCT($J$6:$J$12,M6:M12) -> 0 | N13: =SUMPRODUCT($J$6:$J$12,N6:N12) -> 0 | O13: =SUMPRODUCT($J$6:$J$12,O6:O12) -> 0 | P13: =SUMPRODUCT($J$6:$J$12,P6:P12) -> 0 | Q13: =SUMPRODUCT($J$6:$J$12,Q6:Q12) -> 0 | R13: =SUMPRODUCT($J$6:$J$12,R6:R12) -> 0 | S13: =SUMPRODUCT($J$6:$J$12,S6:S12) -> 0 | ... AB13: =SUMPRODUCT($J$6:$J$12,AB6:AB12) -> 0

Sheet 2nd Key P Diag
A5: P-Diagram
A6: Author: | E6: Noise Factors | G6: External | L6: Noise Factors | N6: Unit to unit | P6: Noise Factor | R6: Deterioration
A7: Date:
A8: Issue: 1
A9: System:
L38: Control Factors

Sheet 2nd Key What Why
A3: If insert rows/columns, copy formulae in purple cells.
X4: Relative Importance of noise in meeting performance via control factor
A5: Performance Characteristics Ys: | B5: Design control parameters | C5: Weighting | D5: External | I5: Unit to Unit | R5: Deterioration
C6: of design | D6: Mfg | S6: Environment | U6: Human | W6: Total
C7: control parameter
A9: Produce Pellets | W9: =SUM(D9:V9) -> 0 | X9: =+W9*C9 -> 0
W10: =SUM(D10:V10) -> 0 | X10: =+W10*C10 -> 0
W11: =SUM(D11:V11) -> 0 | X11: =+W11*C11 -> 0
W12: =SUM(D12:V12) -> 0 | X12: =+W12*C12 -> 0
W13: =SUM(D13:V13) -> 0 | X13: =+W13*C13 -> 0
W14: =SUM(D14:V14) -> 0 | X14: =+W14*C14 -> 0
W15: =SUM(D15:V15) -> 0 | X15: =+W15*C15 -> 0
W16: =SUM(D16:V16) -> 0 | X16: =+W16*C16 -> 0
W17: =SUM(D17:V17) -> 0 | X17: =+W17*C17 -> 0
W18: =SUM(D18:V18) -> 0 | X18: =+W18*C18 -> 0
B19: Relative importance of noise factor: | D19: =SUMPRODUCT($C9:$C18,D9:D18) -> 0 | E19: =SUMPRODUCT($C9:$C18,E9:E18) -> 0 | F19: =SUMPRODUCT($C9:$C18,F9:F18) -> 0 | G19: =SUMPRODUCT($C9:$C18,G9:G18) -> 0 | H19: =SUMPRODUCT($C9:$C18,H9:H18) -> 0 | I19: =SUMPRODUCT($C9:$C18,I9:I18) -> 0 | J19: =SUMPRODUCT($C9:$C18,J9:J18) -> 0 | K19: =SUMPRODUCT($C9:$C18,K9:K18) -> 0 | ... V19: =SUMPRODUCT($C9:$C18,V9:V18) -> 0
B20: Direct factor severity assessment
B21: Team:
B22: Date completed:

Sheet 2nd QFD 4 
E3: Operational assessment | L3: Process Controls
E4: manufacturing controls and Aids | F4: Difficulty | G4: Frequency | H4: Severity | I4: Detectability | J4: RPN
B5: Process parameters | C5: Target Values
J6: =+F6*G6*H6*I6 -> 0
J7: =+F7*G7*H7*I7 -> 0
J8: =+F8*G8*H8*I8 -> 0
J9: =+F9*G9*H9*I9 -> 0
J10: =+F10*G10*H10*I10 -> 0
J11: =+F11*G11*H11*I11 -> 0
J12: =+F12*G12*H12*I12 -> 0
J13: =+F13*G13*H13*I13 -> 0
J14: =+F14*G14*H14*I14 -> 0
J15: =+F15*G15*H15*I15 -> 0
L16: =SUMPRODUCT($J$6:$J$15,L6:L15) -> 0 | M16: =SUMPRODUCT($J$6:$J$15,M6:M15) -> 0 | N16: =SUMPRODUCT($J$6:$J$15,N6:N15) -> 0 | O16: =SUMPRODUCT($J$6:$J$15,O6:O15) -> 0 | P16: =SUMPRODUCT($J$6:$J$15,P6:P15) -> 0 | Q16: =SUMPRODUCT($J$6:$J$15,Q6:Q15) -> 0 | R16: =SUMPRODUCT($J$6:$J$15,R6:R15) -> 0 | S16: =SUMPRODUCT($J$6:$J$15,S6:S15) -> 0 | ... AJ16: =SUMPRODUCT($J$6:$J$15,AJ6:AJ15) -> 0
